{"text_format":"1","workbook":"xlsx","n_sheets":2,"sheets":["Foglio1","Foglio2"],"not_rendered":{"charts":1,"images":1,"macros":1,"external_links":0,"defined_names":0,"comments":0,"pivot_tables":0},"unopened":[],"bounds":{"document_bytes":16777216,"sheet_cells":100000,"rows_first":2000,"rows_last":500,"rows_between":2000,"halvings":0,"cell_chars":16384,"cell_head_chars":4096},"cells_cut":0,"cells_raw":0,"read":"whole","date_system":"1900"}

{"sheet":"Foglio1","index":0,"n_rows":13,"n_cols":14,"rows_kept":13,"cut":false,"hidden":false,"merged":[[3,0,3,22],[5,0,5,18]]}
[]
["L’inibizione incompetitiva"]
[]
["L’equazione per l’inibizione incompetitiva è simile all’equazione di Michaelis-Menten, tranne che per l’introduzione del nuovo termine α'. Quando è presente un inibitore incompetitivo, il termine α' è maggiore di 1. \nUtilizzate questo foglio di calcolo per visualizzare il grafico. \nOsservate come cambia il grafico quando α' viene aumentato di un fattore 2 o 4. Variate i valori dei diversi parametri fino a quando non avete preso confidenza con l’equazione e capito come α' influenza la forma del grafico.\n"]
[]
["Potete modificare il dominio della funzione (cioè la [S]) inserendo i valori nelle caselle in alto e cliccando sul tasto Cambia l’asse X. Per visualizzare correttamente il grafico, scegliete valori compresi tra 0 e 1."]
[null,null,null,null,null,null,null,null,null,null,"[S] =  da ",0,"a",1]
[]
["Vmax1","=",null,"Km1","=",null,"α1'","="]
["Vmax2","=",null,"Km2","=",null,"α2'","="]
["Vmax3","=",null,"Km3","=",null,"α3'","="]
["Vmax4","=",null,"Km4","=",null,"α4'","="]
["Vmax5","=",null,"Km5","=",null,"α4'","="]

{"sheet":"Foglio2","index":1,"n_rows":102,"n_cols":10,"rows_kept":102,"cut":false,"hidden":true,"merged":[]}
["[S]","Vmax","[S]","Vmax","[S]","Vmax","[S]","Vmax","[S]","Vmax"]
[0,{"$f":" IF(Foglio1!$F$9 <> \"\", IF(Foglio1!$C$9 <> \"\", IF(Foglio1!$I$9 <> \"\", (A2*Foglio1!$C$9) / (Foglio1!$F$9 + (Foglio1!$I$9*A2)), NA()), NA()), NA())","v":{"$error":"#N/A"}},0,{"$f":" IF(Foglio1!$F$10 <> \"\", IF(Foglio1!$C$10 <> \"\", IF(Foglio1!$I$10 <> \"\", (C2*Foglio1!$C$10) / (Foglio1!$F$10 + (Foglio1!$I$10*C2)), NA()), NA()), NA())","v":{"$error":"#N/A"}},0,{"$f":" IF(Foglio1!$F$11 <> \"\", IF(Foglio1!$C$11 <> \"\", IF(Foglio1!$I$11 <> \"\", (E2*Foglio1!$C$11) / (Foglio1!$F$11 + (Foglio1!$I$11*E2)), NA()), NA()), NA())","v":{"$error":"#N/A"}},0,{"$f":" IF(Foglio1!$F$12 <> \"\", IF(Foglio1!$C$12 <> \"\", IF(Foglio1!$I$12 <> \"\", (G2*Foglio1!$C$12) / (Foglio1!$F$12 + (Foglio1!$I$12*G2)), NA()), NA()), NA())","v":{"$error":"#N/A"}},0,{"$f":" IF(Foglio1!$F$13 <> \"\", IF(Foglio1!$C$13 <> \"\", IF(Foglio1!$I$13 <> \"\", (I2*Foglio1!$C$13) / (Foglio1!$F$13 + (Foglio1!$I$13*I2)), NA()), NA()), NA())","v":{"$error":"#N/A"}}]
[0.01,{"$f":" IF(Foglio1!$F$9 <> \"\", IF(Foglio1!$C$9 <> \"\", IF(Foglio1!$I$9 <> \"\", (A3*Foglio1!$C$9) / (Foglio1!$F$9 + (Foglio1!$I$9*A3)), NA()), NA()), NA())","v":{"$error":"#N/A"}},0.01,{"$f":" IF(Foglio1!$F$10 <> \"\", IF(Foglio1!$C$10 <> \"\", IF(Foglio1!$I$10 <> \"\", (C3*Foglio1!$C$10) / (Foglio1!$F$10 + (Foglio1!$I$10*C3)), NA()), NA()), NA())","v":{"$error":"#N/A"}},0.01,{"$f":" IF(Foglio1!$F$11 <> \"\", IF(Foglio1!$C$11 <> \"\", IF(Foglio1!$I$11 <> \"\", (E3*Foglio1!$C$11) / (Foglio1!$F$11 + (Foglio1!$I$11*E3)), NA()), NA()), NA())","v":{"$error":"#N/A"}},0.01,{"$f":" IF(Foglio1!$F$12 <> \"\", IF(Foglio1!$C$12 <> \"\", IF(Foglio1!$I$12 <> \"\", (G3*Foglio1!$C$12) / (Foglio1!$F$12 + (Foglio1!$I$12*G3)), NA()), NA()), NA())","v":{"$error":"#N/A"}},0.01,{"$f":" IF(Foglio1!$F$13 <> \"\", IF(Foglio1!$C$13 <> \"\", IF(Foglio1!$I$13 <> \"\", (I3*Foglio1!$C$13) / (Foglio1!$F$13 + (Foglio1!$I$13*I3)), NA()), NA()), NA())","v":{"$error":"#N/A"}}]
[0.02,{"$f":" IF(Foglio1!$F$9 <> \"\", IF(Foglio1!$C$9 <> \"\", IF(Foglio1!$I$9 <> \"\", (A4*Foglio1!$C$9) / (Foglio1!$F$9 + (Foglio1!$I$9*A4)), NA()), NA()), NA())","v":{"$error":"#N/A"}},0.02,{"$f":" IF(Foglio1!$F$10 <> \"\", IF(Foglio1!$C$10 <> \"\", IF(Foglio1!$I$10 <> \"\", (C4*Foglio1!$C$10) / (Foglio1!$F$10 + (Foglio1!$I$10*C4)), NA()), NA()), NA())","v":{"$error":"#N/A"}},0.02,{"$f":" IF(Foglio1!$F$11 <> \"\", IF(Foglio1!$C$11 <> \"\", IF(Foglio1!$I$11 <> \"\", (E4*Foglio1!$C$11) / (Foglio1!$F$11 + (Foglio1!$I$11*E4)), NA()), NA()), NA())","v":{"$error":"#N/A"}},0.02,{"$f":" IF(Foglio1!$F$12 <> \"\", IF(Foglio1!$C$12 <> \"\", IF(Foglio1!$I$12 <> \"\", (G4*Foglio1!$C$12) / (Foglio1!$F$12 + (Foglio1!$I$12*G4)), NA()), NA()), NA())","v":{"$error":"#N/A"}},0.02,{"$f":" IF(Foglio1!$F$13 <> \"\", IF(Foglio1!$C$13 <> \"\", IF(Foglio1!$I$13 <> \"\", (I4*Foglio1!$C$13) / (Foglio1!$F$13 + (Foglio1!$I$13*I4)), NA()), NA()), NA())","v":{"$error":"#N/A"}}]
[0.03,{"$f":" IF(Foglio1!$F$9 <> \"\", IF(Foglio1!$C$9 <> \"\", IF(Foglio1!$I$9 <> \"\", (A5*Foglio1!$C$9) / (Foglio1!$F$9 + (Foglio1!$I$9*A5)), NA()), NA()), NA())","v":{"$error":"#N/A"}},0.03,{"$f":" IF(Foglio1!$F$10 <> \"\", IF(Foglio1!$C$10 <> \"\", IF(Foglio1!$I$10 <> \"\", (C5*Foglio1!$C$10) / (Foglio1!$F$10 + (Foglio1!$I$10*C5)), NA()), NA()), NA())","v":{"$error":"#N/A"}},0.03,{"$f":" IF(Foglio1!$F$11 <> \"\", IF(Foglio1!$C$11 <> \"\", IF(Foglio1!$I$11 <> \"\", (E5*Foglio1!$C$11) / (Foglio1!$F$11 + (Foglio1!$I$11*E5)), NA()), NA()), NA())","v":{"$error":"#N/A"}},0.03,{"$f":" IF(Foglio1!$F$12 <> \"\", IF(Foglio1!$C$12 <> \"\", IF(Foglio1!$I$12 <> \"\", (G5*Foglio1!$C$12) / (Foglio1!$F$12 + (Foglio1!$I$12*G5)), NA()), NA()), NA())","v":{"$error":"#N/A"}},0.03,{"$f":" IF(Foglio1!$F$13 <> \"\", IF(Foglio1!$C$13 <> \"\", IF(Foglio1!$I$13 <> \"\", (I5*Foglio1!$C$13) / (Foglio1!$F$13 + (Foglio1!$I$13*I5)), NA()), NA()), NA())","v":{"$error":"#N/A"}}]
[0.04,{"$f":" IF(Foglio1!$F$9 <> \"\", IF(Foglio1!$C$9 <> \"\", IF(Foglio1!$I$9 <> \"\", (A6*Foglio1!$C$9) / (Foglio1!$F$9 + (Foglio1!$I$9*A6)), NA()), NA()), NA())","v":{"$error":"#N/A"}},0.04,{"$f":" IF(Foglio1!$F$10 <> \"\", IF(Foglio1!$C$10 <> \"\", IF(Foglio1!$I$10 <> \"\", (C6*Foglio1!$C$10) / (Foglio1!$F$10 + (Foglio1!$I$10*C6)), NA()), NA()), NA())","v":{"$error":"#N/A"}},0.04,{"$f":" IF(Foglio1!$F$11 <> \"\", IF(Foglio1!$C$11 <> \"\", IF(Foglio1!$I$11 <> \"\", (E6*Foglio1!$C$11) / (Foglio1!$F$11 + (Foglio1!$I$11*E6)), NA()), NA()), NA())","v":{"$error":"#N/A"}},0.04,{"$f":" IF(Foglio1!$F$12 <> \"\", IF(Foglio1!$C$12 <> \"\", IF(Foglio1!$I$12 <> \"\", (G6*Foglio1!$C$12) / (Foglio1!$F$12 + (Foglio1!$I$12*G6)), NA()), NA()), NA())","v":{"$error":"#N/A"}},0.04,{"$f":" IF(Foglio1!$F$13 <> \"\", IF(Foglio1!$C$13 <> \"\", IF(Foglio1!$I$13 <> \"\", (I6*Foglio1!$C$13) / (Foglio1!$F$13 + (Foglio1!$I$13*I6)), NA()), NA()), NA())","v":{"$error":"#N/A"}}]
[0.05,{"$f":" IF(Foglio1!$F$9 <> \"\", IF(Foglio1!$C$9 <> \"\", IF(Foglio1!$I$9 <> \"\", (A7*Foglio1!$C$9) / (Foglio1!$F$9 + (Foglio1!$I$9*A7)), NA()), NA()), NA())","v":{"$error":"#N/A"}},0.05,{"$f":" IF(Foglio1!$F$10 <> \"\", IF(Foglio1!$C$10 <> \"\", IF(Foglio1!$I$10 <> \"\", (C7*Foglio1!$C$10) / (Foglio1!$F$10 + (Foglio1!$I$10*C7)), NA()), NA()), NA())","v":{"$error":"#N/A"}},0.05,{"$f":" IF(Foglio1!$F$11 <> \"\", IF(Foglio1!$C$11 <> \"\", IF(Foglio1!$I$11 <> \"\", (E7*Foglio1!$C$11) / (Foglio1!$F$11 + (Foglio1!$I$11*E7)), NA()), NA()), NA())","v":{"$error":"#N/A"}},0.05,{"$f":" IF(Foglio1!$F$12 <> \"\", IF(Foglio1!$C$12 <> \"\", IF(Foglio1!$I$12 <> \"\", (G7*Foglio1!$C$12) / (Foglio1!$F$12 + (Foglio1!$I$12*G7)), NA()), NA()), NA())","v":{"$error":"#N/A"}},0.05,{"$f":" IF(Foglio1!$F$13 <> \"\", IF(Foglio1!$C$13 <> \"\", IF(Foglio1!$I$13 <> \"\", (I7*Foglio1!$C$13) / (Foglio1!$F$13 + (Foglio1!$I$13*I7)), NA()), NA()), NA())","v":{"$error":"#N/A"}}]
[0.06,{"$f":" IF(Foglio1!$F$9 <> \"\", IF(Foglio1!$C$9 <> \"\", IF(Foglio1!$I$9 <> \"\", (A8*Foglio1!$C$9) / (Foglio1!$F$9 + (Foglio1!$I$9*A8)), NA()), NA()), NA())","v":{"$error":"#N/A"}},0.06,{"$f":" IF(Foglio1!$F$10 <> \"\", IF(Foglio1!$C$10 <> \"\", IF(Foglio1!$I$10 <> \"\", (C8*Foglio1!$C$10) / (Foglio1!$F$10 + (Foglio1!$I$10*C8)), NA()), NA()), NA())","v":{"$error":"#N/A"}},0.06,{"$f":" IF(Foglio1!$F$11 <> \"\", IF(Foglio1!$C$11 <> \"\", IF(Foglio1!$I$11 <> \"\", (E8*Foglio1!$C$11) / (Foglio1!$F$11 + (Foglio1!$I$11*E8)), NA()), NA()), NA())","v":{"$error":"#N/A"}},0.06,{"$f":" IF(Foglio1!$F$12 <> \"\", IF(Foglio1!$C$12 <> \"\", IF(Foglio1!$I$12 <> \"\", (G8*Foglio1!$C$12) / (Foglio1!$F$12 + (Foglio1!$I$12*G8)), NA()), NA()), NA())","v":{"$error":"#N/A"}},0.06,{"$f":" IF(Foglio1!$F$13 <> \"\", IF(Foglio1!$C$13 <> \"\", IF(Foglio1!$I$13 <> \"\", (I8*Foglio1!$C$13) / (Foglio1!$F$13 + (Foglio1!$I$13*I8)), NA()), NA()), NA())","v":{"$error":"#N/A"}}]
[7.0000000000000007E-2,{"$f":" IF(Foglio1!$F$9 <> \"\", IF(Foglio1!$C$9 <> \"\", IF(Foglio1!$I$9 <> \"\", (A9*Foglio1!$C$9) / (Foglio1!$F$9 + (Foglio1!$I$9*A9)), NA()), NA()), NA())","v":{"$error":"#N/A"}},7.0000000000000007E-2,{"$f":" IF(Foglio1!$F$10 <> \"\", IF(Foglio1!$C$10 <> \"\", IF(Foglio1!$I$10 <> \"\", (C9*Foglio1!$C$10) / (Foglio1!$F$10 + (Foglio1!$I$10*C9)), NA()), NA()), NA())","v":{"$error":"#N/A"}},7.0000000000000007E-2,{"$f":" IF(Foglio1!$F$11 <> \"\", IF(Foglio1!$C$11 <> \"\", IF(Foglio1!$I$11 <> \"\", (E9*Foglio1!$C$11) / (Foglio1!$F$11 + (Foglio1!$I$11*E9)), NA()), NA()), NA())","v":{"$error":"#N/A"}},7.0000000000000007E-2,{"$f":" IF(Foglio1!$F$12 <> \"\", IF(Foglio1!$C$12 <> \"\", IF(Foglio1!$I$12 <> \"\", (G9*Foglio1!$C$12) / (Foglio1!$F$12 + (Foglio1!$I$12*G9)), NA()), NA()), NA())","v":{"$error":"#N/A"}},7.0000000000000007E-2,{"$f":" IF(Foglio1!$F$13 <> \"\", IF(Foglio1!$C$13 <> \"\", IF(Foglio1!$I$13 <> \"\", (I9*Foglio1!$C$13) / (Foglio1!$F$13 + (Foglio1!$I$13*I9)), NA()), NA()), NA())","v":{"$error":"#N/A"}}]
[0.08,{"$f":" IF(Foglio1!$F$9 <> \"\", IF(Foglio1!$C$9 <> \"\", IF(Foglio1!$I$9 <> \"\", (A10*Foglio1!$C$9) / (Foglio1!$F$9 + (Foglio1!$I$9*A10)), NA()), NA()), NA())","v":{"$error":"#N/A"}},0.08,{"$f":" IF(Foglio1!$F$10 <> \"\", IF(Foglio1!$C$10 <> \"\", IF(Foglio1!$I$10 <> \"\", (C10*Foglio1!$C$10) / (Foglio1!$F$10 + (Foglio1!$I$10*C10)), NA()), NA()), NA())","v":{"$error":"#N/A"}},0.08,{"$f":" IF(Foglio1!$F$11 <> \"\", IF(Foglio1!$C$11 <> \"\", IF(Foglio1!$I$11 <> \"\", (E10*Foglio1!$C$11) / (Foglio1!$F$11 + (Foglio1!$I$11*E10)), NA()), NA()), NA())","v":{"$error":"#N/A"}},0.08,{"$f":" IF(Foglio1!$F$12 <> \"\", IF(Foglio1!$C$12 <> \"\", IF(Foglio1!$I$12 <> \"\", (G10*Foglio1!$C$12) / (Foglio1!$F$12 + (Foglio1!$I$12*G10)), NA()), NA()), NA())","v":{"$error":"#N/A"}},0.08,{"$f":" IF(Foglio1!$F$13 <> \"\", IF(Foglio1!$C$13 <> \"\", IF(Foglio1!$I$13 <> \"\", (I10*Foglio1!$C$13) / (Foglio1!$F$13 + (Foglio1!$I$13*I10)), NA()), NA()), NA())","v":{"$error":"#N/A"}}]
[0.09,{"$f":" IF(Foglio1!$F$9 <> \"\", IF(Foglio1!$C$9 <> \"\", IF(Foglio1!$I$9 <> \"\", (A11*Foglio1!$C$9) / (Foglio1!$F$9 + (Foglio1!$I$9*A11)), NA()), NA()), NA())","v":{"$error":"#N/A"}},0.09,{"$f":" IF(Foglio1!$F$10 <> \"\", IF(Foglio1!$C$10 <> \"\", IF(Foglio1!$I$10 <> \"\", (C11*Foglio1!$C$10) / (Foglio1!$F$10 + (Foglio1!$I$10*C11)), NA()), NA()), NA())","v":{"$error":"#N/A"}},0.09,{"$f":" IF(Foglio1!$F$11 <> \"\", IF(Foglio1!$C$11 <> \"\", IF(Foglio1!$I$11 <> \"\", (E11*Foglio1!$C$11) / (Foglio1!$F$11 + (Foglio1!$I$11*E11)), NA()), NA()), NA())","v":{"$error":"#N/A"}},0.09,{"$f":" IF(Foglio1!$F$12 <> \"\", IF(Foglio1!$C$12 <> \"\", IF(Foglio1!$I$12 <> \"\", (G11*Foglio1!$C$12) / (Foglio1!$F$12 + (Foglio1!$I$12*G11)), NA()), NA()), NA())","v":{"$error":"#N/A"}},0.09,{"$f":" IF(Foglio1!$F$13 <> \"\", IF(Foglio1!$C$13 <> \"\", IF(Foglio1!$I$13 <> \"\", (I11*Foglio1!$C$13) / (Foglio1!$F$13 + (Foglio1!$I$13*I11)), NA()), NA()), NA())","v":{"$error":"#N/A"}}]
[0.1,{"$f":" IF(Foglio1!$F$9 <> \"\", IF(Foglio1!$C$9 <> \"\", IF(Foglio1!$I$9 <> \"\", (A12*Foglio1!$C$9) / (Foglio1!$F$9 + (Foglio1!$I$9*A12)), NA()), NA()), NA())","v":{"$error":"#N/A"}},0.1,{"$f":" IF(Foglio1!$F$10 <> \"\", IF(Foglio1!$C$10 <> \"\", IF(Foglio1!$I$10 <> \"\", (C12*Foglio1!$C$10) / (Foglio1!$F$10 + (Foglio1!$I$10*C12)), NA()), NA()), NA())","v":{"$error":"#N/A"}},0.1,{"$f":" IF(Foglio1!$F$11 <> \"\", IF(Foglio1!$C$11 <> \"\", IF(Foglio1!$I$11 <> \"\", (E12*Foglio1!$C$11) / (Foglio1!$F$11 + (Foglio1!$I$11*E12)), NA()), NA()), NA())","v":{"$error":"#N/A"}},0.1,{"$f":" IF(Foglio1!$F$12 <> \"\", IF(Foglio1!$C$12 <> \"\", IF(Foglio1!$I$12 <> \"\", (G12*Foglio1!$C$12) / (Foglio1!$F$12 + (Foglio1!$I$12*G12)), NA()), NA()), NA())","v":{"$error":"#N/A"}},0.1,{"$f":" IF(Foglio1!$F$13 <> \"\", IF(Foglio1!$C$13 <> \"\", IF(Foglio1!$I$13 <> \"\", (I12*Foglio1!$C$13) / (Foglio1!$F$13 + (Foglio1!$I$13*I12)), NA()), NA()), NA())","v":{"$error":"#N/A"}}]
[0.11,{"$f":" IF(Foglio1!$F$9 <> \"\", IF(Foglio1!$C$9 <> \"\", IF(Foglio1!$I$9 <> \"\", (A13*Foglio1!$C$9) / (Foglio1!$F$9 + (Foglio1!$I$9*A13)), NA()), NA()), NA())","v":{"$error":"#N/A"}},0.11,{"$f":" IF(Foglio1!$F$10 <> \"\", IF(Foglio1!$C$10 <> \"\", IF(Foglio1!$I$10 <> \"\", (C13*Foglio1!$C$10) / (Foglio1!$F$10 + (Foglio1!$I$10*C13)), NA()), NA()), NA())","v":{"$error":"#N/A"}},0.11,{"$f":" IF(Foglio1!$F$11 <> \"\", IF(Foglio1!$C$11 <> \"\", IF(Foglio1!$I$11 <> \"\", (E13*Foglio1!$C$11) / (Foglio1!$F$11 + (Foglio1!$I$11*E13)), NA()), NA()), NA())","v":{"$error":"#N/A"}},0.11,{"$f":" IF(Foglio1!$F$12 <> \"\", IF(Foglio1!$C$12 <> \"\", IF(Foglio1!$I$12 <> \"\", (G13*Foglio1!$C$12) / (Foglio1!$F$12 + (Foglio1!$I$12*G13)), NA()), NA()), NA())","v":{"$error":"#N/A"}},0.11,{"$f":" IF(Foglio1!$F$13 <> \"\", IF(Foglio1!$C$13 <> \"\", IF(Foglio1!$I$13 <> \"\", (I13*Foglio1!$C$13) / (Foglio1!$F$13 + (Foglio1!$I$13*I13)), NA()), NA()), NA())","v":{"$error":"#N/A"}}]
[0.12,{"$f":" IF(Foglio1!$F$9 <> \"\", IF(Foglio1!$C$9 <> \"\", IF(Foglio1!$I$9 <> \"\", (A14*Foglio1!$C$9) / (Foglio1!$F$9 + (Foglio1!$I$9*A14)), NA()), NA()), NA())","v":{"$error":"#N/A"}},0.12,{"$f":" IF(Foglio1!$F$10 <> \"\", IF(Foglio1!$C$10 <> \"\", IF(Foglio1!$I$10 <> \"\", (C14*Foglio1!$C$10) / (Foglio1!$F$10 + (Foglio1!$I$10*C14)), NA()), NA()), NA())","v":{"$error":"#N/A"}},0.12,{"$f":" IF(Foglio1!$F$11 <> \"\", IF(Foglio1!$C$11 <> \"\", IF(Foglio1!$I$11 <> \"\", (E14*Foglio1!$C$11) / (Foglio1!$F$11 + (Foglio1!$I$11*E14)), NA()), NA()), NA())","v":{"$error":"#N/A"}},0.12,{"$f":" IF(Foglio1!$F$12 <> \"\", IF(Foglio1!$C$12 <> \"\", IF(Foglio1!$I$12 <> \"\", (G14*Foglio1!$C$12) / (Foglio1!$F$12 + (Foglio1!$I$12*G14)), NA()), NA()), NA())","v":{"$error":"#N/A"}},0.12,{"$f":" IF(Foglio1!$F$13 <> \"\", IF(Foglio1!$C$13 <> \"\", IF(Foglio1!$I$13 <> \"\", (I14*Foglio1!$C$13) / (Foglio1!$F$13 + (Foglio1!$I$13*I14)), NA()), NA()), NA())","v":{"$error":"#N/A"}}]
[0.13,{"$f":" IF(Foglio1!$F$9 <> \"\", IF(Foglio1!$C$9 <> \"\", IF(Foglio1!$I$9 <> \"\", (A15*Foglio1!$C$9) / (Foglio1!$F$9 + (Foglio1!$I$9*A15)), NA()), NA()), NA())","v":{"$error":"#N/A"}},0.13,{"$f":" IF(Foglio1!$F$10 <> \"\", IF(Foglio1!$C$10 <> \"\", IF(Foglio1!$I$10 <> \"\", (C15*Foglio1!$C$10) / (Foglio1!$F$10 + (Foglio1!$I$10*C15)), NA()), NA()), NA())","v":{"$error":"#N/A"}},0.13,{"$f":" IF(Foglio1!$F$11 <> \"\", IF(Foglio1!$C$11 <> \"\", IF(Foglio1!$I$11 <> \"\", (E15*Foglio1!$C$11) / (Foglio1!$F$11 + (Foglio1!$I$11*E15)), NA()), NA()), NA())","v":{"$error":"#N/A"}},0.13,{"$f":" IF(Foglio1!$F$12 <> \"\", IF(Foglio1!$C$12 <> \"\", IF(Foglio1!$I$12 <> \"\", (G15*Foglio1!$C$12) / (Foglio1!$F$12 + (Foglio1!$I$12*G15)), NA()), NA()), NA())","v":{"$error":"#N/A"}},0.13,{"$f":" IF(Foglio1!$F$13 <> \"\", IF(Foglio1!$C$13 <> \"\", IF(Foglio1!$I$13 <> \"\", (I15*Foglio1!$C$13) / (Foglio1!$F$13 + (Foglio1!$I$13*I15)), NA()), NA()), NA())","v":{"$error":"#N/A"}}]
[0.14000000000000001,{"$f":" IF(Foglio1!$F$9 <> \"\", IF(Foglio1!$C$9 <> \"\", IF(Foglio1!$I$9 <> \"\", (A16*Foglio1!$C$9) / (Foglio1!$F$9 + (Foglio1!$I$9*A16)), NA()), NA()), NA())","v":{"$error":"#N/A"}},0.14000000000000001,{"$f":" IF(Foglio1!$F$10 <> \"\", IF(Foglio1!$C$10 <> \"\", IF(Foglio1!$I$10 <> \"\", (C16*Foglio1!$C$10) / (Foglio1!$F$10 + (Foglio1!$I$10*C16)), NA()), NA()), NA())","v":{"$error":"#N/A"}},0.14000000000000001,{"$f":" IF(Foglio1!$F$11 <> \"\", IF(Foglio1!$C$11 <> \"\", IF(Foglio1!$I$11 <> \"\", (E16*Foglio1!$C$11) / (Foglio1!$F$11 + (Foglio1!$I$11*E16)), NA()), NA()), NA())","v":{"$error":"#N/A"}},0.14000000000000001,{"$f":" IF(Foglio1!$F$12 <> \"\", IF(Foglio1!$C$12 <> \"\", IF(Foglio1!$I$12 <> \"\", (G16*Foglio1!$C$12) / (Foglio1!$F$12 + (Foglio1!$I$12*G16)), NA()), NA()), NA())","v":{"$error":"#N/A"}},0.14000000000000001,{"$f":" IF(Foglio1!$F$13 <> \"\", IF(Foglio1!$C$13 <> \"\", IF(Foglio1!$I$13 <> \"\", (I16*Foglio1!$C$13) / (Foglio1!$F$13 + (Foglio1!$I$13*I16)), NA()), NA()), NA())","v":{"$error":"#N/A"}}]
[0.15,{"$f":" IF(Foglio1!$F$9 <> \"\", IF(Foglio1!$C$9 <> \"\", IF(Foglio1!$I$9 <> \"\", (A17*Foglio1!$C$9) / (Foglio1!$F$9 + (Foglio1!$I$9*A17)), NA()), NA()), NA())","v":{"$error":"#N/A"}},0.15,{"$f":" IF(Foglio1!$F$10 <> \"\", IF(Foglio1!$C$10 <> \"\", IF(Foglio1!$I$10 <> \"\", (C17*Foglio1!$C$10) / (Foglio1!$F$10 + (Foglio1!$I$10*C17)), NA()), NA()), NA())","v":{"$error":"#N/A"}},0.15,{"$f":" IF(Foglio1!$F$11 <> \"\", IF(Foglio1!$C$11 <> \"\", IF(Foglio1!$I$11 <> \"\", (E17*Foglio1!$C$11) / (Foglio1!$F$11 + (Foglio1!$I$11*E17)), NA()), NA()), NA())","v":{"$error":"#N/A"}},0.15,{"$f":" IF(Foglio1!$F$12 <> \"\", IF(Foglio1!$C$12 <> \"\", IF(Foglio1!$I$12 <> \"\", (G17*Foglio1!$C$12) / (Foglio1!$F$12 + (Foglio1!$I$12*G17)), NA()), NA()), NA())","v":{"$error":"#N/A"}},0.15,{"$f":" IF(Foglio1!$F$13 <> \"\", IF(Foglio1!$C$13 <> \"\", IF(Foglio1!$I$13 <> \"\", (I17*Foglio1!$C$13) / (Foglio1!$F$13 + (Foglio1!$I$13*I17)), NA()), NA()), NA())","v":{"$error":"#N/A"}}]
[0.16,{"$f":" IF(Foglio1!$F$9 <> \"\", IF(Foglio1!$C$9 <> \"\", IF(Foglio1!$I$9 <> \"\", (A18*Foglio1!$C$9) / (Foglio1!$F$9 + (Foglio1!$I$9*A18)), NA()), NA()), NA())","v":{"$error":"#N/A"}},0.16,{"$f":" IF(Foglio1!$F$10 <> \"\", IF(Foglio1!$C$10 <> \"\", IF(Foglio1!$I$10 <> \"\", (C18*Foglio1!$C$10) / (Foglio1!$F$10 + (Foglio1!$I$10*C18)), NA()), NA()), NA())","v":{"$error":"#N/A"}},0.16,{"$f":" IF(Foglio1!$F$11 <> \"\", IF(Foglio1!$C$11 <> \"\", IF(Foglio1!$I$11 <> \"\", (E18*Foglio1!$C$11) / (Foglio1!$F$11 + (Foglio1!$I$11*E18)), NA()), NA()), NA())","v":{"$error":"#N/A"}},0.16,{"$f":" IF(Foglio1!$F$12 <> \"\", IF(Foglio1!$C$12 <> \"\", IF(Foglio1!$I$12 <> \"\", (G18*Foglio1!$C$12) / (Foglio1!$F$12 + (Foglio1!$I$12*G18)), NA()), NA()), NA())","v":{"$error":"#N/A"}},0.16,{"$f":" IF(Foglio1!$F$13 <> \"\", IF(Foglio1!$C$13 <> \"\", IF(Foglio1!$I$13 <> \"\", (I18*Foglio1!$C$13) / (Foglio1!$F$13 + (Foglio1!$I$13*I18)), NA()), NA()), NA())","v":{"$error":"#N/A"}}]
[0.17,{"$f":" IF(Foglio1!$F$9 <> \"\", IF(Foglio1!$C$9 <> \"\", IF(Foglio1!$I$9 <> \"\", (A19*Foglio1!$C$9) / (Foglio1!$F$9 + (Foglio1!$I$9*A19)), NA()), NA()), NA())","v":{"$error":"#N/A"}},0.17,{"$f":" IF(Foglio1!$F$10 <> \"\", IF(Foglio1!$C$10 <> \"\", IF(Foglio1!$I$10 <> \"\", (C19*Foglio1!$C$10) / (Foglio1!$F$10 + (Foglio1!$I$10*C19)), NA()), NA()), NA())","v":{"$error":"#N/A"}},0.17,{"$f":" IF(Foglio1!$F$11 <> \"\", IF(Foglio1!$C$11 <> \"\", IF(Foglio1!$I$11 <> \"\", (E19*Foglio1!$C$11) / (Foglio1!$F$11 + (Foglio1!$I$11*E19)), NA()), NA()), NA())","v":{"$error":"#N/A"}},0.17,{"$f":" IF(Foglio1!$F$12 <> \"\", IF(Foglio1!$C$12 <> \"\", IF(Foglio1!$I$12 <> \"\", (G19*Foglio1!$C$12) / (Foglio1!$F$12 + (Foglio1!$I$12*G19)), NA()), NA()), NA())","v":{"$error":"#N/A"}},0.17,{"$f":" IF(Foglio1!$F$13 <> \"\", IF(Foglio1!$C$13 <> \"\", IF(Foglio1!$I$13 <> \"\", (I19*Foglio1!$C$13) / (Foglio1!$F$13 + (Foglio1!$I$13*I19)), NA()), NA()), NA())","v":{"$error":"#N/A"}}]
[0.18,{"$f":" IF(Foglio1!$F$9 <> \"\", IF(Foglio1!$C$9 <> \"\", IF(Foglio1!$I$9 <> \"\", (A20*Foglio1!$C$9) / (Foglio1!$F$9 + (Foglio1!$I$9*A20)), NA()), NA()), NA())","v":{"$error":"#N/A"}},0.18,{"$f":" IF(Foglio1!$F$10 <> \"\", IF(Foglio1!$C$10 <> \"\", IF(Foglio1!$I$10 <> \"\", (C20*Foglio1!$C$10) / (Foglio1!$F$10 + (Foglio1!$I$10*C20)), NA()), NA()), NA())","v":{"$error":"#N/A"}},0.18,{"$f":" IF(Foglio1!$F$11 <> \"\", IF(Foglio1!$C$11 <> \"\", IF(Foglio1!$I$11 <> \"\", (E20*Foglio1!$C$11) / (Foglio1!$F$11 + (Foglio1!$I$11*E20)), NA()), NA()), NA())","v":{"$error":"#N/A"}},0.18,{"$f":" IF(Foglio1!$F$12 <> \"\", IF(Foglio1!$C$12 <> \"\", IF(Foglio1!$I$12 <> \"\", (G20*Foglio1!$C$12) / (Foglio1!$F$12 + (Foglio1!$I$12*G20)), NA()), NA()), NA())","v":{"$error":"#N/A"}},0.18,{"$f":" IF(Foglio1!$F$13 <> \"\", IF(Foglio1!$C$13 <> \"\", IF(Foglio1!$I$13 <> \"\", (I20*Foglio1!$C$13) / (Foglio1!$F$13 + (Foglio1!$I$13*I20)), NA()), NA()), NA())","v":{"$error":"#N/A"}}]
[0.19,{"$f":" IF(Foglio1!$F$9 <> \"\", IF(Foglio1!$C$9 <> \"\", IF(Foglio1!$I$9 <> \"\", (A21*Foglio1!$C$9) / (Foglio1!$F$9 + (Foglio1!$I$9*A21)), NA()), NA()), NA())","v":{"$error":"#N/A"}},0.19,{"$f":" IF(Foglio1!$F$10 <> \"\", IF(Foglio1!$C$10 <> \"\", IF(Foglio1!$I$10 <> \"\", (C21*Foglio1!$C$10) / (Foglio1!$F$10 + (Foglio1!$I$10*C21)), NA()), NA()), NA())","v":{"$error":"#N/A"}},0.19,{"$f":" IF(Foglio1!$F$11 <> \"\", IF(Foglio1!$C$11 <> \"\", IF(Foglio1!$I$11 <> \"\", (E21*Foglio1!$C$11) / (Foglio1!$F$11 + (Foglio1!$I$11*E21)), NA()), NA()), NA())","v":{"$error":"#N/A"}},0.19,{"$f":" IF(Foglio1!$F$12 <> \"\", IF(Foglio1!$C$12 <> \"\", IF(Foglio1!$I$12 <> \"\", (G21*Foglio1!$C$12) / (Foglio1!$F$12 + (Foglio1!$I$12*G21)), NA()), NA()), NA())","v":{"$error":"#N/A"}},0.19,{"$f":" IF(Foglio1!$F$13 <> \"\", IF(Foglio1!$C$13 <> \"\", IF(Foglio1!$I$13 <> \"\", (I21*Foglio1!$C$13) / (Foglio1!$F$13 + (Foglio1!$I$13*I21)), NA()), NA()), NA())","v":{"$error":"#N/A"}}]
[0.2,{"$f":" IF(Foglio1!$F$9 <> \"\", IF(Foglio1!$C$9 <> \"\", IF(Foglio1!$I$9 <> \"\", (A22*Foglio1!$C$9) / (Foglio1!$F$9 + (Foglio1!$I$9*A22)), NA()), NA()), NA())","v":{"$error":"#N/A"}},0.2,{"$f":" IF(Foglio1!$F$10 <> \"\", IF(Foglio1!$C$10 <> \"\", IF(Foglio1!$I$10 <> \"\", (C22*Foglio1!$C$10) / (Foglio1!$F$10 + (Foglio1!$I$10*C22)), NA()), NA()), NA())","v":{"$error":"#N/A"}},0.2,{"$f":" IF(Foglio1!$F$11 <> \"\", IF(Foglio1!$C$11 <> \"\", IF(Foglio1!$I$11 <> \"\", (E22*Foglio1!$C$11) / (Foglio1!$F$11 + (Foglio1!$I$11*E22)), NA()), NA()), NA())","v":{"$error":"#N/A"}},0.2,{"$f":" IF(Foglio1!$F$12 <> \"\", IF(Foglio1!$C$12 <> \"\", IF(Foglio1!$I$12 <> \"\", (G22*Foglio1!$C$12) / (Foglio1!$F$12 + (Foglio1!$I$12*G22)), NA()), NA()), NA())","v":{"$error":"#N/A"}},0.2,{"$f":" IF(Foglio1!$F$13 <> \"\", IF(Foglio1!$C$13 <> \"\", IF(Foglio1!$I$13 <> \"\", (I22*Foglio1!$C$13) / (Foglio1!$F$13 + (Foglio1!$I$13*I22)), NA()), NA()), NA())","v":{"$error":"#N/A"}}]
[0.21,{"$f":" IF(Foglio1!$F$9 <> \"\", IF(Foglio1!$C$9 <> \"\", IF(Foglio1!$I$9 <> \"\", (A23*Foglio1!$C$9) / (Foglio1!$F$9 + (Foglio1!$I$9*A23)), NA()), NA()), NA())","v":{"$error":"#N/A"}},0.21,{"$f":" IF(Foglio1!$F$10 <> \"\", IF(Foglio1!$C$10 <> \"\", IF(Foglio1!$I$10 <> \"\", (C23*Foglio1!$C$10) / (Foglio1!$F$10 + (Foglio1!$I$10*C23)), NA()), NA()), NA())","v":{"$error":"#N/A"}},0.21,{"$f":" IF(Foglio1!$F$11 <> \"\", IF(Foglio1!$C$11 <> \"\", IF(Foglio1!$I$11 <> \"\", (E23*Foglio1!$C$11) / (Foglio1!$F$11 + (Foglio1!$I$11*E23)), NA()), NA()), NA())","v":{"$error":"#N/A"}},0.21,{"$f":" IF(Foglio1!$F$12 <> \"\", IF(Foglio1!$C$12 <> \"\", IF(Foglio1!$I$12 <> \"\", (G23*Foglio1!$C$12) / (Foglio1!$F$12 + (Foglio1!$I$12*G23)), NA()), NA()), NA())","v":{"$error":"#N/A"}},0.21,{"$f":" IF(Foglio1!$F$13 <> \"\", IF(Foglio1!$C$13 <> \"\", IF(Foglio1!$I$13 <> \"\", (I23*Foglio1!$C$13) / (Foglio1!$F$13 + (Foglio1!$I$13*I23)), NA()), NA()), NA())","v":{"$error":"#N/A"}}]
[0.22,{"$f":" IF(Foglio1!$F$9 <> \"\", IF(Foglio1!$C$9 <> \"\", IF(Foglio1!$I$9 <> \"\", (A24*Foglio1!$C$9) / (Foglio1!$F$9 + (Foglio1!$I$9*A24)), NA()), NA()), NA())","v":{"$error":"#N/A"}},0.22,{"$f":" IF(Foglio1!$F$10 <> \"\", IF(Foglio1!$C$10 <> \"\", IF(Foglio1!$I$10 <> \"\", (C24*Foglio1!$C$10) / (Foglio1!$F$10 + (Foglio1!$I$10*C24)), NA()), NA()), NA())","v":{"$error":"#N/A"}},0.22,{"$f":" IF(Foglio1!$F$11 <> \"\", IF(Foglio1!$C$11 <> \"\", IF(Foglio1!$I$11 <> \"\", (E24*Foglio1!$C$11) / (Foglio1!$F$11 + (Foglio1!$I$11*E24)), NA()), NA()), NA())","v":{"$error":"#N/A"}},0.22,{"$f":" IF(Foglio1!$F$12 <> \"\", IF(Foglio1!$C$12 <> \"\", IF(Foglio1!$I$12 <> \"\", (G24*Foglio1!$C$12) / (Foglio1!$F$12 + (Foglio1!$I$12*G24)), NA()), NA()), NA())","v":{"$error":"#N/A"}},0.22,{"$f":" IF(Foglio1!$F$13 <> \"\", IF(Foglio1!$C$13 <> \"\", IF(Foglio1!$I$13 <> \"\", (I24*Foglio1!$C$13) / (Foglio1!$F$13 + (Foglio1!$I$13*I24)), NA()), NA()), NA())","v":{"$error":"#N/A"}}]
[0.23,{"$f":" IF(Foglio1!$F$9 <> \"\", IF(Foglio1!$C$9 <> \"\", IF(Foglio1!$I$9 <> \"\", (A25*Foglio1!$C$9) / (Foglio1!$F$9 + (Foglio1!$I$9*A25)), NA()), NA()), NA())","v":{"$error":"#N/A"}},0.23,{"$f":" IF(Foglio1!$F$10 <> \"\", IF(Foglio1!$C$10 <> \"\", IF(Foglio1!$I$10 <> \"\", (C25*Foglio1!$C$10) / (Foglio1!$F$10 + (Foglio1!$I$10*C25)), NA()), NA()), NA())","v":{"$error":"#N/A"}},0.23,{"$f":" IF(Foglio1!$F$11 <> \"\", IF(Foglio1!$C$11 <> \"\", IF(Foglio1!$I$11 <> \"\", (E25*Foglio1!$C$11) / (Foglio1!$F$11 + (Foglio1!$I$11*E25)), NA()), NA()), NA())","v":{"$error":"#N/A"}},0.23,{"$f":" IF(Foglio1!$F$12 <> \"\", IF(Foglio1!$C$12 <> \"\", IF(Foglio1!$I$12 <> \"\", (G25*Foglio1!$C$12) / (Foglio1!$F$12 + (Foglio1!$I$12*G25)), NA()), NA()), NA())","v":{"$error":"#N/A"}},0.23,{"$f":" IF(Foglio1!$F$13 <> \"\", IF(Foglio1!$C$13 <> \"\", IF(Foglio1!$I$13 <> \"\", (I25*Foglio1!$C$13) / (Foglio1!$F$13 + (Foglio1!$I$13*I25)), NA()), NA()), NA())","v":{"$error":"#N/A"}}]
[0.24,{"$f":" IF(Foglio1!$F$9 <> \"\", IF(Foglio1!$C$9 <> \"\", IF(Foglio1!$I$9 <> \"\", (A26*Foglio1!$C$9) / (Foglio1!$F$9 + (Foglio1!$I$9*A26)), NA()), NA()), NA())","v":{"$error":"#N/A"}},0.24,{"$f":" IF(Foglio1!$F$10 <> \"\", IF(Foglio1!$C$10 <> \"\", IF(Foglio1!$I$10 <> \"\", (C26*Foglio1!$C$10) / (Foglio1!$F$10 + (Foglio1!$I$10*C26)), NA()), NA()), NA())","v":{"$error":"#N/A"}},0.24,{"$f":" IF(Foglio1!$F$11 <> \"\", IF(Foglio1!$C$11 <> \"\", IF(Foglio1!$I$11 <> \"\", (E26*Foglio1!$C$11) / (Foglio1!$F$11 + (Foglio1!$I$11*E26)), NA()), NA()), NA())","v":{"$error":"#N/A"}},0.24,{"$f":" IF(Foglio1!$F$12 <> \"\", IF(Foglio1!$C$12 <> \"\", IF(Foglio1!$I$12 <> \"\", (G26*Foglio1!$C$12) / (Foglio1!$F$12 + (Foglio1!$I$12*G26)), NA()), NA()), NA())","v":{"$error":"#N/A"}},0.24,{"$f":" IF(Foglio1!$F$13 <> \"\", IF(Foglio1!$C$13 <> \"\", IF(Foglio1!$I$13 <> \"\", (I26*Foglio1!$C$13) / (Foglio1!$F$13 + (Foglio1!$I$13*I26)), NA()), NA()), NA())","v":{"$error":"#N/A"}}]
[0.25,{"$f":" IF(Foglio1!$F$9 <> \"\", IF(Foglio1!$C$9 <> \"\", IF(Foglio1!$I$9 <> \"\", (A27*Foglio1!$C$9) / (Foglio1!$F$9 + (Foglio1!$I$9*A27)), NA()), NA()), NA())","v":{"$error":"#N/A"}},0.25,{"$f":" IF(Foglio1!$F$10 <> \"\", IF(Foglio1!$C$10 <> \"\", IF(Foglio1!$I$10 <> \"\", (C27*Foglio1!$C$10) / (Foglio1!$F$10 + (Foglio1!$I$10*C27)), NA()), NA()), NA())","v":{"$error":"#N/A"}},0.25,{"$f":" IF(Foglio1!$F$11 <> \"\", IF(Foglio1!$C$11 <> \"\", IF(Foglio1!$I$11 <> \"\", (E27*Foglio1!$C$11) / (Foglio1!$F$11 + (Foglio1!$I$11*E27)), NA()), NA()), NA())","v":{"$error":"#N/A"}},0.25,{"$f":" IF(Foglio1!$F$12 <> \"\", IF(Foglio1!$C$12 <> \"\", IF(Foglio1!$I$12 <> \"\", (G27*Foglio1!$C$12) / (Foglio1!$F$12 + (Foglio1!$I$12*G27)), NA()), NA()), NA())","v":{"$error":"#N/A"}},0.25,{"$f":" IF(Foglio1!$F$13 <> \"\", IF(Foglio1!$C$13 <> \"\", IF(Foglio1!$I$13 <> \"\", (I27*Foglio1!$C$13) / (Foglio1!$F$13 + (Foglio1!$I$13*I27)), NA()), NA()), NA())","v":{"$error":"#N/A"}}]
[0.26,{"$f":" IF(Foglio1!$F$9 <> \"\", IF(Foglio1!$C$9 <> \"\", IF(Foglio1!$I$9 <> \"\", (A28*Foglio1!$C$9) / (Foglio1!$F$9 + (Foglio1!$I$9*A28)), NA()), NA()), NA())","v":{"$error":"#N/A"}},0.26,{"$f":" IF(Foglio1!$F$10 <> \"\", IF(Foglio1!$C$10 <> \"\", IF(Foglio1!$I$10 <> \"\", (C28*Foglio1!$C$10) / (Foglio1!$F$10 + (Foglio1!$I$10*C28)), NA()), NA()), NA())","v":{"$error":"#N/A"}},0.26,{"$f":" IF(Foglio1!$F$11 <> \"\", IF(Foglio1!$C$11 <> \"\", IF(Foglio1!$I$11 <> \"\", (E28*Foglio1!$C$11) / (Foglio1!$F$11 + (Foglio1!$I$11*E28)), NA()), NA()), NA())","v":{"$error":"#N/A"}},0.26,{"$f":" IF(Foglio1!$F$12 <> \"\", IF(Foglio1!$C$12 <> \"\", IF(Foglio1!$I$12 <> \"\", (G28*Foglio1!$C$12) / (Foglio1!$F$12 + (Foglio1!$I$12*G28)), NA()), NA()), NA())","v":{"$error":"#N/A"}},0.26,{"$f":" IF(Foglio1!$F$13 <> \"\", IF(Foglio1!$C$13 <> \"\", IF(Foglio1!$I$13 <> \"\", (I28*Foglio1!$C$13) / (Foglio1!$F$13 + (Foglio1!$I$13*I28)), NA()), NA()), NA())","v":{"$error":"#N/A"}}]
[0.27,{"$f":" IF(Foglio1!$F$9 <> \"\", IF(Foglio1!$C$9 <> \"\", IF(Foglio1!$I$9 <> \"\", (A29*Foglio1!$C$9) / (Foglio1!$F$9 + (Foglio1!$I$9*A29)), NA()), NA()), NA())","v":{"$error":"#N/A"}},0.27,{"$f":" IF(Foglio1!$F$10 <> \"\", IF(Foglio1!$C$10 <> \"\", IF(Foglio1!$I$10 <> \"\", (C29*Foglio1!$C$10) / (Foglio1!$F$10 + (Foglio1!$I$10*C29)), NA()), NA()), NA())","v":{"$error":"#N/A"}},0.27,{"$f":" IF(Foglio1!$F$11 <> \"\", IF(Foglio1!$C$11 <> \"\", IF(Foglio1!$I$11 <> \"\", (E29*Foglio1!$C$11) / (Foglio1!$F$11 + (Foglio1!$I$11*E29)), NA()), NA()), NA())","v":{"$error":"#N/A"}},0.27,{"$f":" IF(Foglio1!$F$12 <> \"\", IF(Foglio1!$C$12 <> \"\", IF(Foglio1!$I$12 <> \"\", (G29*Foglio1!$C$12) / (Foglio1!$F$12 + (Foglio1!$I$12*G29)), NA()), NA()), NA())","v":{"$error":"#N/A"}},0.27,{"$f":" IF(Foglio1!$F$13 <> \"\", IF(Foglio1!$C$13 <> \"\", IF(Foglio1!$I$13 <> \"\", (I29*Foglio1!$C$13) / (Foglio1!$F$13 + (Foglio1!$I$13*I29)), NA()), NA()), NA())","v":{"$error":"#N/A"}}]
[0.28000000000000003,{"$f":" IF(Foglio1!$F$9 <> \"\", IF(Foglio1!$C$9 <> \"\", IF(Foglio1!$I$9 <> \"\", (A30*Foglio1!$C$9) / (Foglio1!$F$9 + (Foglio1!$I$9*A30)), NA()), NA()), NA())","v":{"$error":"#N/A"}},0.28000000000000003,{"$f":" IF(Foglio1!$F$10 <> \"\", IF(Foglio1!$C$10 <> \"\", IF(Foglio1!$I$10 <> \"\", (C30*Foglio1!$C$10) / (Foglio1!$F$10 + (Foglio1!$I$10*C30)), NA()), NA()), NA())","v":{"$error":"#N/A"}},0.28000000000000003,{"$f":" IF(Foglio1!$F$11 <> \"\", IF(Foglio1!$C$11 <> \"\", IF(Foglio1!$I$11 <> \"\", (E30*Foglio1!$C$11) / (Foglio1!$F$11 + (Foglio1!$I$11*E30)), NA()), NA()), NA())","v":{"$error":"#N/A"}},0.28000000000000003,{"$f":" IF(Foglio1!$F$12 <> \"\", IF(Foglio1!$C$12 <> \"\", IF(Foglio1!$I$12 <> \"\", (G30*Foglio1!$C$12) / (Foglio1!$F$12 + (Foglio1!$I$12*G30)), NA()), NA()), NA())","v":{"$error":"#N/A"}},0.28000000000000003,{"$f":" IF(Foglio1!$F$13 <> \"\", IF(Foglio1!$C$13 <> \"\", IF(Foglio1!$I$13 <> \"\", (I30*Foglio1!$C$13) / (Foglio1!$F$13 + (Foglio1!$I$13*I30)), NA()), NA()), NA())","v":{"$error":"#N/A"}}]
[0.28999999999999998,{"$f":" IF(Foglio1!$F$9 <> \"\", IF(Foglio1!$C$9 <> \"\", IF(Foglio1!$I$9 <> \"\", (A31*Foglio1!$C$9) / (Foglio1!$F$9 + (Foglio1!$I$9*A31)), NA()), NA()), NA())","v":{"$error":"#N/A"}},0.28999999999999998,{"$f":" IF(Foglio1!$F$10 <> \"\", IF(Foglio1!$C$10 <> \"\", IF(Foglio1!$I$10 <> \"\", (C31*Foglio1!$C$10) / (Foglio1!$F$10 + (Foglio1!$I$10*C31)), NA()), NA()), NA())","v":{"$error":"#N/A"}},0.28999999999999998,{"$f":" IF(Foglio1!$F$11 <> \"\", IF(Foglio1!$C$11 <> \"\", IF(Foglio1!$I$11 <> \"\", (E31*Foglio1!$C$11) / (Foglio1!$F$11 + (Foglio1!$I$11*E31)), NA()), NA()), NA())","v":{"$error":"#N/A"}},0.28999999999999998,{"$f":" IF(Foglio1!$F$12 <> \"\", IF(Foglio1!$C$12 <> \"\", IF(Foglio1!$I$12 <> \"\", (G31*Foglio1!$C$12) / (Foglio1!$F$12 + (Foglio1!$I$12*G31)), NA()), NA()), NA())","v":{"$error":"#N/A"}},0.28999999999999998,{"$f":" IF(Foglio1!$F$13 <> \"\", IF(Foglio1!$C$13 <> \"\", IF(Foglio1!$I$13 <> \"\", (I31*Foglio1!$C$13) / (Foglio1!$F$13 + (Foglio1!$I$13*I31)), NA()), NA()), NA())","v":{"$error":"#N/A"}}]
[0.3,{"$f":" IF(Foglio1!$F$9 <> \"\", IF(Foglio1!$C$9 <> \"\", IF(Foglio1!$I$9 <> \"\", (A32*Foglio1!$C$9) / (Foglio1!$F$9 + (Foglio1!$I$9*A32)), NA()), NA()), NA())","v":{"$error":"#N/A"}},0.3,{"$f":" IF(Foglio1!$F$10 <> \"\", IF(Foglio1!$C$10 <> \"\", IF(Foglio1!$I$10 <> \"\", (C32*Foglio1!$C$10) / (Foglio1!$F$10 + (Foglio1!$I$10*C32)), NA()), NA()), NA())","v":{"$error":"#N/A"}},0.3,{"$f":" IF(Foglio1!$F$11 <> \"\", IF(Foglio1!$C$11 <> \"\", IF(Foglio1!$I$11 <> \"\", (E32*Foglio1!$C$11) / (Foglio1!$F$11 + (Foglio1!$I$11*E32)), NA()), NA()), NA())","v":{"$error":"#N/A"}},0.3,{"$f":" IF(Foglio1!$F$12 <> \"\", IF(Foglio1!$C$12 <> \"\", IF(Foglio1!$I$12 <> \"\", (G32*Foglio1!$C$12) / (Foglio1!$F$12 + (Foglio1!$I$12*G32)), NA()), NA()), NA())","v":{"$error":"#N/A"}},0.3,{"$f":" IF(Foglio1!$F$13 <> \"\", IF(Foglio1!$C$13 <> \"\", IF(Foglio1!$I$13 <> \"\", (I32*Foglio1!$C$13) / (Foglio1!$F$13 + (Foglio1!$I$13*I32)), NA()), NA()), NA())","v":{"$error":"#N/A"}}]
[0.31,{"$f":" IF(Foglio1!$F$9 <> \"\", IF(Foglio1!$C$9 <> \"\", IF(Foglio1!$I$9 <> \"\", (A33*Foglio1!$C$9) / (Foglio1!$F$9 + (Foglio1!$I$9*A33)), NA()), NA()), NA())","v":{"$error":"#N/A"}},0.31,{"$f":" IF(Foglio1!$F$10 <> \"\", IF(Foglio1!$C$10 <> \"\", IF(Foglio1!$I$10 <> \"\", (C33*Foglio1!$C$10) / (Foglio1!$F$10 + (Foglio1!$I$10*C33)), NA()), NA()), NA())","v":{"$error":"#N/A"}},0.31,{"$f":" IF(Foglio1!$F$11 <> \"\", IF(Foglio1!$C$11 <> \"\", IF(Foglio1!$I$11 <> \"\", (E33*Foglio1!$C$11) / (Foglio1!$F$11 + (Foglio1!$I$11*E33)), NA()), NA()), NA())","v":{"$error":"#N/A"}},0.31,{"$f":" IF(Foglio1!$F$12 <> \"\", IF(Foglio1!$C$12 <> \"\", IF(Foglio1!$I$12 <> \"\", (G33*Foglio1!$C$12) / (Foglio1!$F$12 + (Foglio1!$I$12*G33)), NA()), NA()), NA())","v":{"$error":"#N/A"}},0.31,{"$f":" IF(Foglio1!$F$13 <> \"\", IF(Foglio1!$C$13 <> \"\", IF(Foglio1!$I$13 <> \"\", (I33*Foglio1!$C$13) / (Foglio1!$F$13 + (Foglio1!$I$13*I33)), NA()), NA()), NA())","v":{"$error":"#N/A"}}]
[0.32,{"$f":" IF(Foglio1!$F$9 <> \"\", IF(Foglio1!$C$9 <> \"\", IF(Foglio1!$I$9 <> \"\", (A34*Foglio1!$C$9) / (Foglio1!$F$9 + (Foglio1!$I$9*A34)), NA()), NA()), NA())","v":{"$error":"#N/A"}},0.32,{"$f":" IF(Foglio1!$F$10 <> \"\", IF(Foglio1!$C$10 <> \"\", IF(Foglio1!$I$10 <> \"\", (C34*Foglio1!$C$10) / (Foglio1!$F$10 + (Foglio1!$I$10*C34)), NA()), NA()), NA())","v":{"$error":"#N/A"}},0.32,{"$f":" IF(Foglio1!$F$11 <> \"\", IF(Foglio1!$C$11 <> \"\", IF(Foglio1!$I$11 <> \"\", (E34*Foglio1!$C$11) / (Foglio1!$F$11 + (Foglio1!$I$11*E34)), NA()), NA()), NA())","v":{"$error":"#N/A"}},0.32,{"$f":" IF(Foglio1!$F$12 <> \"\", IF(Foglio1!$C$12 <> \"\", IF(Foglio1!$I$12 <> \"\", (G34*Foglio1!$C$12) / (Foglio1!$F$12 + (Foglio1!$I$12*G34)), NA()), NA()), NA())","v":{"$error":"#N/A"}},0.32,{"$f":" IF(Foglio1!$F$13 <> \"\", IF(Foglio1!$C$13 <> \"\", IF(Foglio1!$I$13 <> \"\", (I34*Foglio1!$C$13) / (Foglio1!$F$13 + (Foglio1!$I$13*I34)), NA()), NA()), NA())","v":{"$error":"#N/A"}}]
[0.33,{"$f":" IF(Foglio1!$F$9 <> \"\", IF(Foglio1!$C$9 <> \"\", IF(Foglio1!$I$9 <> \"\", (A35*Foglio1!$C$9) / (Foglio1!$F$9 + (Foglio1!$I$9*A35)), NA()), NA()), NA())","v":{"$error":"#N/A"}},0.33,{"$f":" IF(Foglio1!$F$10 <> \"\", IF(Foglio1!$C$10 <> \"\", IF(Foglio1!$I$10 <> \"\", (C35*Foglio1!$C$10) / (Foglio1!$F$10 + (Foglio1!$I$10*C35)), NA()), NA()), NA())","v":{"$error":"#N/A"}},0.33,{"$f":" IF(Foglio1!$F$11 <> \"\", IF(Foglio1!$C$11 <> \"\", IF(Foglio1!$I$11 <> \"\", (E35*Foglio1!$C$11) / (Foglio1!$F$11 + (Foglio1!$I$11*E35)), NA()), NA()), NA())","v":{"$error":"#N/A"}},0.33,{"$f":" IF(Foglio1!$F$12 <> \"\", IF(Foglio1!$C$12 <> \"\", IF(Foglio1!$I$12 <> \"\", (G35*Foglio1!$C$12) / (Foglio1!$F$12 + (Foglio1!$I$12*G35)), NA()), NA()), NA())","v":{"$error":"#N/A"}},0.33,{"$f":" IF(Foglio1!$F$13 <> \"\", IF(Foglio1!$C$13 <> \"\", IF(Foglio1!$I$13 <> \"\", (I35*Foglio1!$C$13) / (Foglio1!$F$13 + (Foglio1!$I$13*I35)), NA()), NA()), NA())","v":{"$error":"#N/A"}}]
[0.34,{"$f":" IF(Foglio1!$F$9 <> \"\", IF(Foglio1!$C$9 <> \"\", IF(Foglio1!$I$9 <> \"\", (A36*Foglio1!$C$9) / (Foglio1!$F$9 + (Foglio1!$I$9*A36)), NA()), NA()), NA())","v":{"$error":"#N/A"}},0.34,{"$f":" IF(Foglio1!$F$10 <> \"\", IF(Foglio1!$C$10 <> \"\", IF(Foglio1!$I$10 <> \"\", (C36*Foglio1!$C$10) / (Foglio1!$F$10 + (Foglio1!$I$10*C36)), NA()), NA()), NA())","v":{"$error":"#N/A"}},0.34,{"$f":" IF(Foglio1!$F$11 <> \"\", IF(Foglio1!$C$11 <> \"\", IF(Foglio1!$I$11 <> \"\", (E36*Foglio1!$C$11) / (Foglio1!$F$11 + (Foglio1!$I$11*E36)), NA()), NA()), NA())","v":{"$error":"#N/A"}},0.34,{"$f":" IF(Foglio1!$F$12 <> \"\", IF(Foglio1!$C$12 <> \"\", IF(Foglio1!$I$12 <> \"\", (G36*Foglio1!$C$12) / (Foglio1!$F$12 + (Foglio1!$I$12*G36)), NA()), NA()), NA())","v":{"$error":"#N/A"}},0.34,{"$f":" IF(Foglio1!$F$13 <> \"\", IF(Foglio1!$C$13 <> \"\", IF(Foglio1!$I$13 <> \"\", (I36*Foglio1!$C$13) / (Foglio1!$F$13 + (Foglio1!$I$13*I36)), NA()), NA()), NA())","v":{"$error":"#N/A"}}]
[0.35,{"$f":" IF(Foglio1!$F$9 <> \"\", IF(Foglio1!$C$9 <> \"\", IF(Foglio1!$I$9 <> \"\", (A37*Foglio1!$C$9) / (Foglio1!$F$9 + (Foglio1!$I$9*A37)), NA()), NA()), NA())","v":{"$error":"#N/A"}},0.35,{"$f":" IF(Foglio1!$F$10 <> \"\", IF(Foglio1!$C$10 <> \"\", IF(Foglio1!$I$10 <> \"\", (C37*Foglio1!$C$10) / (Foglio1!$F$10 + (Foglio1!$I$10*C37)), NA()), NA()), NA())","v":{"$error":"#N/A"}},0.35,{"$f":" IF(Foglio1!$F$11 <> \"\", IF(Foglio1!$C$11 <> \"\", IF(Foglio1!$I$11 <> \"\", (E37*Foglio1!$C$11) / (Foglio1!$F$11 + (Foglio1!$I$11*E37)), NA()), NA()), NA())","v":{"$error":"#N/A"}},0.35,{"$f":" IF(Foglio1!$F$12 <> \"\", IF(Foglio1!$C$12 <> \"\", IF(Foglio1!$I$12 <> \"\", (G37*Foglio1!$C$12) / (Foglio1!$F$12 + (Foglio1!$I$12*G37)), NA()), NA()), NA())","v":{"$error":"#N/A"}},0.35,{"$f":" IF(Foglio1!$F$13 <> \"\", IF(Foglio1!$C$13 <> \"\", IF(Foglio1!$I$13 <> \"\", (I37*Foglio1!$C$13) / (Foglio1!$F$13 + (Foglio1!$I$13*I37)), NA()), NA()), NA())","v":{"$error":"#N/A"}}]
[0.36,{"$f":" IF(Foglio1!$F$9 <> \"\", IF(Foglio1!$C$9 <> \"\", IF(Foglio1!$I$9 <> \"\", (A38*Foglio1!$C$9) / (Foglio1!$F$9 + (Foglio1!$I$9*A38)), NA()), NA()), NA())","v":{"$error":"#N/A"}},0.36,{"$f":" IF(Foglio1!$F$10 <> \"\", IF(Foglio1!$C$10 <> \"\", IF(Foglio1!$I$10 <> \"\", (C38*Foglio1!$C$10) / (Foglio1!$F$10 + (Foglio1!$I$10*C38)), NA()), NA()), NA())","v":{"$error":"#N/A"}},0.36,{"$f":" IF(Foglio1!$F$11 <> \"\", IF(Foglio1!$C$11 <> \"\", IF(Foglio1!$I$11 <> \"\", (E38*Foglio1!$C$11) / (Foglio1!$F$11 + (Foglio1!$I$11*E38)), NA()), NA()), NA())","v":{"$error":"#N/A"}},0.36,{"$f":" IF(Foglio1!$F$12 <> \"\", IF(Foglio1!$C$12 <> \"\", IF(Foglio1!$I$12 <> \"\", (G38*Foglio1!$C$12) / (Foglio1!$F$12 + (Foglio1!$I$12*G38)), NA()), NA()), NA())","v":{"$error":"#N/A"}},0.36,{"$f":" IF(Foglio1!$F$13 <> \"\", IF(Foglio1!$C$13 <> \"\", IF(Foglio1!$I$13 <> \"\", (I38*Foglio1!$C$13) / (Foglio1!$F$13 + (Foglio1!$I$13*I38)), NA()), NA()), NA())","v":{"$error":"#N/A"}}]
[0.37,{"$f":" IF(Foglio1!$F$9 <> \"\", IF(Foglio1!$C$9 <> \"\", IF(Foglio1!$I$9 <> \"\", (A39*Foglio1!$C$9) / (Foglio1!$F$9 + (Foglio1!$I$9*A39)), NA()), NA()), NA())","v":{"$error":"#N/A"}},0.37,{"$f":" IF(Foglio1!$F$10 <> \"\", IF(Foglio1!$C$10 <> \"\", IF(Foglio1!$I$10 <> \"\", (C39*Foglio1!$C$10) / (Foglio1!$F$10 + (Foglio1!$I$10*C39)), NA()), NA()), NA())","v":{"$error":"#N/A"}},0.37,{"$f":" IF(Foglio1!$F$11 <> \"\", IF(Foglio1!$C$11 <> \"\", IF(Foglio1!$I$11 <> \"\", (E39*Foglio1!$C$11) / (Foglio1!$F$11 + (Foglio1!$I$11*E39)), NA()), NA()), NA())","v":{"$error":"#N/A"}},0.37,{"$f":" IF(Foglio1!$F$12 <> \"\", IF(Foglio1!$C$12 <> \"\", IF(Foglio1!$I$12 <> \"\", (G39*Foglio1!$C$12) / (Foglio1!$F$12 + (Foglio1!$I$12*G39)), NA()), NA()), NA())","v":{"$error":"#N/A"}},0.37,{"$f":" IF(Foglio1!$F$13 <> \"\", IF(Foglio1!$C$13 <> \"\", IF(Foglio1!$I$13 <> \"\", (I39*Foglio1!$C$13) / (Foglio1!$F$13 + (Foglio1!$I$13*I39)), NA()), NA()), NA())","v":{"$error":"#N/A"}}]
[0.38,{"$f":" IF(Foglio1!$F$9 <> \"\", IF(Foglio1!$C$9 <> \"\", IF(Foglio1!$I$9 <> \"\", (A40*Foglio1!$C$9) / (Foglio1!$F$9 + (Foglio1!$I$9*A40)), NA()), NA()), NA())","v":{"$error":"#N/A"}},0.38,{"$f":" IF(Foglio1!$F$10 <> \"\", IF(Foglio1!$C$10 <> \"\", IF(Foglio1!$I$10 <> \"\", (C40*Foglio1!$C$10) / (Foglio1!$F$10 + (Foglio1!$I$10*C40)), NA()), NA()), NA())","v":{"$error":"#N/A"}},0.38,{"$f":" IF(Foglio1!$F$11 <> \"\", IF(Foglio1!$C$11 <> \"\", IF(Foglio1!$I$11 <> \"\", (E40*Foglio1!$C$11) / (Foglio1!$F$11 + (Foglio1!$I$11*E40)), NA()), NA()), NA())","v":{"$error":"#N/A"}},0.38,{"$f":" IF(Foglio1!$F$12 <> \"\", IF(Foglio1!$C$12 <> \"\", IF(Foglio1!$I$12 <> \"\", (G40*Foglio1!$C$12) / (Foglio1!$F$12 + (Foglio1!$I$12*G40)), NA()), NA()), NA())","v":{"$error":"#N/A"}},0.38,{"$f":" IF(Foglio1!$F$13 <> \"\", IF(Foglio1!$C$13 <> \"\", IF(Foglio1!$I$13 <> \"\", (I40*Foglio1!$C$13) / (Foglio1!$F$13 + (Foglio1!$I$13*I40)), NA()), NA()), NA())","v":{"$error":"#N/A"}}]
[0.39,{"$f":" IF(Foglio1!$F$9 <> \"\", IF(Foglio1!$C$9 <> \"\", IF(Foglio1!$I$9 <> \"\", (A41*Foglio1!$C$9) / (Foglio1!$F$9 + (Foglio1!$I$9*A41)), NA()), NA()), NA())","v":{"$error":"#N/A"}},0.39,{"$f":" IF(Foglio1!$F$10 <> \"\", IF(Foglio1!$C$10 <> \"\", IF(Foglio1!$I$10 <> \"\", (C41*Foglio1!$C$10) / (Foglio1!$F$10 + (Foglio1!$I$10*C41)), NA()), NA()), NA())","v":{"$error":"#N/A"}},0.39,{"$f":" IF(Foglio1!$F$11 <> \"\", IF(Foglio1!$C$11 <> \"\", IF(Foglio1!$I$11 <> \"\", (E41*Foglio1!$C$11) / (Foglio1!$F$11 + (Foglio1!$I$11*E41)), NA()), NA()), NA())","v":{"$error":"#N/A"}},0.39,{"$f":" IF(Foglio1!$F$12 <> \"\", IF(Foglio1!$C$12 <> \"\", IF(Foglio1!$I$12 <> \"\", (G41*Foglio1!$C$12) / (Foglio1!$F$12 + (Foglio1!$I$12*G41)), NA()), NA()), NA())","v":{"$error":"#N/A"}},0.39,{"$f":" IF(Foglio1!$F$13 <> \"\", IF(Foglio1!$C$13 <> \"\", IF(Foglio1!$I$13 <> \"\", (I41*Foglio1!$C$13) / (Foglio1!$F$13 + (Foglio1!$I$13*I41)), NA()), NA()), NA())","v":{"$error":"#N/A"}}]
[0.4,{"$f":" IF(Foglio1!$F$9 <> \"\", IF(Foglio1!$C$9 <> \"\", IF(Foglio1!$I$9 <> \"\", (A42*Foglio1!$C$9) / (Foglio1!$F$9 + (Foglio1!$I$9*A42)), NA()), NA()), NA())","v":{"$error":"#N/A"}},0.4,{"$f":" IF(Foglio1!$F$10 <> \"\", IF(Foglio1!$C$10 <> \"\", IF(Foglio1!$I$10 <> \"\", (C42*Foglio1!$C$10) / (Foglio1!$F$10 + (Foglio1!$I$10*C42)), NA()), NA()), NA())","v":{"$error":"#N/A"}},0.4,{"$f":" IF(Foglio1!$F$11 <> \"\", IF(Foglio1!$C$11 <> \"\", IF(Foglio1!$I$11 <> \"\", (E42*Foglio1!$C$11) / (Foglio1!$F$11 + (Foglio1!$I$11*E42)), NA()), NA()), NA())","v":{"$error":"#N/A"}},0.4,{"$f":" IF(Foglio1!$F$12 <> \"\", IF(Foglio1!$C$12 <> \"\", IF(Foglio1!$I$12 <> \"\", (G42*Foglio1!$C$12) / (Foglio1!$F$12 + (Foglio1!$I$12*G42)), NA()), NA()), NA())","v":{"$error":"#N/A"}},0.4,{"$f":" IF(Foglio1!$F$13 <> \"\", IF(Foglio1!$C$13 <> \"\", IF(Foglio1!$I$13 <> \"\", (I42*Foglio1!$C$13) / (Foglio1!$F$13 + (Foglio1!$I$13*I42)), NA()), NA()), NA())","v":{"$error":"#N/A"}}]
[0.41,{"$f":" IF(Foglio1!$F$9 <> \"\", IF(Foglio1!$C$9 <> \"\", IF(Foglio1!$I$9 <> \"\", (A43*Foglio1!$C$9) / (Foglio1!$F$9 + (Foglio1!$I$9*A43)), NA()), NA()), NA())","v":{"$error":"#N/A"}},0.41,{"$f":" IF(Foglio1!$F$10 <> \"\", IF(Foglio1!$C$10 <> \"\", IF(Foglio1!$I$10 <> \"\", (C43*Foglio1!$C$10) / (Foglio1!$F$10 + (Foglio1!$I$10*C43)), NA()), NA()), NA())","v":{"$error":"#N/A"}},0.41,{"$f":" IF(Foglio1!$F$11 <> \"\", IF(Foglio1!$C$11 <> \"\", IF(Foglio1!$I$11 <> \"\", (E43*Foglio1!$C$11) / (Foglio1!$F$11 + (Foglio1!$I$11*E43)), NA()), NA()), NA())","v":{"$error":"#N/A"}},0.41,{"$f":" IF(Foglio1!$F$12 <> \"\", IF(Foglio1!$C$12 <> \"\", IF(Foglio1!$I$12 <> \"\", (G43*Foglio1!$C$12) / (Foglio1!$F$12 + (Foglio1!$I$12*G43)), NA()), NA()), NA())","v":{"$error":"#N/A"}},0.41,{"$f":" IF(Foglio1!$F$13 <> \"\", IF(Foglio1!$C$13 <> \"\", IF(Foglio1!$I$13 <> \"\", (I43*Foglio1!$C$13) / (Foglio1!$F$13 + (Foglio1!$I$13*I43)), NA()), NA()), NA())","v":{"$error":"#N/A"}}]
[0.42,{"$f":" IF(Foglio1!$F$9 <> \"\", IF(Foglio1!$C$9 <> \"\", IF(Foglio1!$I$9 <> \"\", (A44*Foglio1!$C$9) / (Foglio1!$F$9 + (Foglio1!$I$9*A44)), NA()), NA()), NA())","v":{"$error":"#N/A"}},0.42,{"$f":" IF(Foglio1!$F$10 <> \"\", IF(Foglio1!$C$10 <> \"\", IF(Foglio1!$I$10 <> \"\", (C44*Foglio1!$C$10) / (Foglio1!$F$10 + (Foglio1!$I$10*C44)), NA()), NA()), NA())","v":{"$error":"#N/A"}},0.42,{"$f":" IF(Foglio1!$F$11 <> \"\", IF(Foglio1!$C$11 <> \"\", IF(Foglio1!$I$11 <> \"\", (E44*Foglio1!$C$11) / (Foglio1!$F$11 + (Foglio1!$I$11*E44)), NA()), NA()), NA())","v":{"$error":"#N/A"}},0.42,{"$f":" IF(Foglio1!$F$12 <> \"\", IF(Foglio1!$C$12 <> \"\", IF(Foglio1!$I$12 <> \"\", (G44*Foglio1!$C$12) / (Foglio1!$F$12 + (Foglio1!$I$12*G44)), NA()), NA()), NA())","v":{"$error":"#N/A"}},0.42,{"$f":" IF(Foglio1!$F$13 <> \"\", IF(Foglio1!$C$13 <> \"\", IF(Foglio1!$I$13 <> \"\", (I44*Foglio1!$C$13) / (Foglio1!$F$13 + (Foglio1!$I$13*I44)), NA()), NA()), NA())","v":{"$error":"#N/A"}}]
[0.43,{"$f":" IF(Foglio1!$F$9 <> \"\", IF(Foglio1!$C$9 <> \"\", IF(Foglio1!$I$9 <> \"\", (A45*Foglio1!$C$9) / (Foglio1!$F$9 + (Foglio1!$I$9*A45)), NA()), NA()), NA())","v":{"$error":"#N/A"}},0.43,{"$f":" IF(Foglio1!$F$10 <> \"\", IF(Foglio1!$C$10 <> \"\", IF(Foglio1!$I$10 <> \"\", (C45*Foglio1!$C$10) / (Foglio1!$F$10 + (Foglio1!$I$10*C45)), NA()), NA()), NA())","v":{"$error":"#N/A"}},0.43,{"$f":" IF(Foglio1!$F$11 <> \"\", IF(Foglio1!$C$11 <> \"\", IF(Foglio1!$I$11 <> \"\", (E45*Foglio1!$C$11) / (Foglio1!$F$11 + (Foglio1!$I$11*E45)), NA()), NA()), NA())","v":{"$error":"#N/A"}},0.43,{"$f":" IF(Foglio1!$F$12 <> \"\", IF(Foglio1!$C$12 <> \"\", IF(Foglio1!$I$12 <> \"\", (G45*Foglio1!$C$12) / (Foglio1!$F$12 + (Foglio1!$I$12*G45)), NA()), NA()), NA())","v":{"$error":"#N/A"}},0.43,{"$f":" IF(Foglio1!$F$13 <> \"\", IF(Foglio1!$C$13 <> \"\", IF(Foglio1!$I$13 <> \"\", (I45*Foglio1!$C$13) / (Foglio1!$F$13 + (Foglio1!$I$13*I45)), NA()), NA()), NA())","v":{"$error":"#N/A"}}]
[0.44,{"$f":" IF(Foglio1!$F$9 <> \"\", IF(Foglio1!$C$9 <> \"\", IF(Foglio1!$I$9 <> \"\", (A46*Foglio1!$C$9) / (Foglio1!$F$9 + (Foglio1!$I$9*A46)), NA()), NA()), NA())","v":{"$error":"#N/A"}},0.44,{"$f":" IF(Foglio1!$F$10 <> \"\", IF(Foglio1!$C$10 <> \"\", IF(Foglio1!$I$10 <> \"\", (C46*Foglio1!$C$10) / (Foglio1!$F$10 + (Foglio1!$I$10*C46)), NA()), NA()), NA())","v":{"$error":"#N/A"}},0.44,{"$f":" IF(Foglio1!$F$11 <> \"\", IF(Foglio1!$C$11 <> \"\", IF(Foglio1!$I$11 <> \"\", (E46*Foglio1!$C$11) / (Foglio1!$F$11 + (Foglio1!$I$11*E46)), NA()), NA()), NA())","v":{"$error":"#N/A"}},0.44,{"$f":" IF(Foglio1!$F$12 <> \"\", IF(Foglio1!$C$12 <> \"\", IF(Foglio1!$I$12 <> \"\", (G46*Foglio1!$C$12) / (Foglio1!$F$12 + (Foglio1!$I$12*G46)), NA()), NA()), NA())","v":{"$error":"#N/A"}},0.44,{"$f":" IF(Foglio1!$F$13 <> \"\", IF(Foglio1!$C$13 <> \"\", IF(Foglio1!$I$13 <> \"\", (I46*Foglio1!$C$13) / (Foglio1!$F$13 + (Foglio1!$I$13*I46)), NA()), NA()), NA())","v":{"$error":"#N/A"}}]
[0.45,{"$f":" IF(Foglio1!$F$9 <> \"\", IF(Foglio1!$C$9 <> \"\", IF(Foglio1!$I$9 <> \"\", (A47*Foglio1!$C$9) / (Foglio1!$F$9 + (Foglio1!$I$9*A47)), NA()), NA()), NA())","v":{"$error":"#N/A"}},0.45,{"$f":" IF(Foglio1!$F$10 <> \"\", IF(Foglio1!$C$10 <> \"\", IF(Foglio1!$I$10 <> \"\", (C47*Foglio1!$C$10) / (Foglio1!$F$10 + (Foglio1!$I$10*C47)), NA()), NA()), NA())","v":{"$error":"#N/A"}},0.45,{"$f":" IF(Foglio1!$F$11 <> \"\", IF(Foglio1!$C$11 <> \"\", IF(Foglio1!$I$11 <> \"\", (E47*Foglio1!$C$11) / (Foglio1!$F$11 + (Foglio1!$I$11*E47)), NA()), NA()), NA())","v":{"$error":"#N/A"}},0.45,{"$f":" IF(Foglio1!$F$12 <> \"\", IF(Foglio1!$C$12 <> \"\", IF(Foglio1!$I$12 <> \"\", (G47*Foglio1!$C$12) / (Foglio1!$F$12 + (Foglio1!$I$12*G47)), NA()), NA()), NA())","v":{"$error":"#N/A"}},0.45,{"$f":" IF(Foglio1!$F$13 <> \"\", IF(Foglio1!$C$13 <> \"\", IF(Foglio1!$I$13 <> \"\", (I47*Foglio1!$C$13) / (Foglio1!$F$13 + (Foglio1!$I$13*I47)), NA()), NA()), NA())","v":{"$error":"#N/A"}}]
[0.46,{"$f":" IF(Foglio1!$F$9 <> \"\", IF(Foglio1!$C$9 <> \"\", IF(Foglio1!$I$9 <> \"\", (A48*Foglio1!$C$9) / (Foglio1!$F$9 + (Foglio1!$I$9*A48)), NA()), NA()), NA())","v":{"$error":"#N/A"}},0.46,{"$f":" IF(Foglio1!$F$10 <> \"\", IF(Foglio1!$C$10 <> \"\", IF(Foglio1!$I$10 <> \"\", (C48*Foglio1!$C$10) / (Foglio1!$F$10 + (Foglio1!$I$10*C48)), NA()), NA()), NA())","v":{"$error":"#N/A"}},0.46,{"$f":" IF(Foglio1!$F$11 <> \"\", IF(Foglio1!$C$11 <> \"\", IF(Foglio1!$I$11 <> \"\", (E48*Foglio1!$C$11) / (Foglio1!$F$11 + (Foglio1!$I$11*E48)), NA()), NA()), NA())","v":{"$error":"#N/A"}},0.46,{"$f":" IF(Foglio1!$F$12 <> \"\", IF(Foglio1!$C$12 <> \"\", IF(Foglio1!$I$12 <> \"\", (G48*Foglio1!$C$12) / (Foglio1!$F$12 + (Foglio1!$I$12*G48)), NA()), NA()), NA())","v":{"$error":"#N/A"}},0.46,{"$f":" IF(Foglio1!$F$13 <> \"\", IF(Foglio1!$C$13 <> \"\", IF(Foglio1!$I$13 <> \"\", (I48*Foglio1!$C$13) / (Foglio1!$F$13 + (Foglio1!$I$13*I48)), NA()), NA()), NA())","v":{"$error":"#N/A"}}]
[0.47,{"$f":" IF(Foglio1!$F$9 <> \"\", IF(Foglio1!$C$9 <> \"\", IF(Foglio1!$I$9 <> \"\", (A49*Foglio1!$C$9) / (Foglio1!$F$9 + (Foglio1!$I$9*A49)), NA()), NA()), NA())","v":{"$error":"#N/A"}},0.47,{"$f":" IF(Foglio1!$F$10 <> \"\", IF(Foglio1!$C$10 <> \"\", IF(Foglio1!$I$10 <> \"\", (C49*Foglio1!$C$10) / (Foglio1!$F$10 + (Foglio1!$I$10*C49)), NA()), NA()), NA())","v":{"$error":"#N/A"}},0.47,{"$f":" IF(Foglio1!$F$11 <> \"\", IF(Foglio1!$C$11 <> \"\", IF(Foglio1!$I$11 <> \"\", (E49*Foglio1!$C$11) / (Foglio1!$F$11 + (Foglio1!$I$11*E49)), NA()), NA()), NA())","v":{"$error":"#N/A"}},0.47,{"$f":" IF(Foglio1!$F$12 <> \"\", IF(Foglio1!$C$12 <> \"\", IF(Foglio1!$I$12 <> \"\", (G49*Foglio1!$C$12) / (Foglio1!$F$12 + (Foglio1!$I$12*G49)), NA()), NA()), NA())","v":{"$error":"#N/A"}},0.47,{"$f":" IF(Foglio1!$F$13 <> \"\", IF(Foglio1!$C$13 <> \"\", IF(Foglio1!$I$13 <> \"\", (I49*Foglio1!$C$13) / (Foglio1!$F$13 + (Foglio1!$I$13*I49)), NA()), NA()), NA())","v":{"$error":"#N/A"}}]
[0.48,{"$f":" IF(Foglio1!$F$9 <> \"\", IF(Foglio1!$C$9 <> \"\", IF(Foglio1!$I$9 <> \"\", (A50*Foglio1!$C$9) / (Foglio1!$F$9 + (Foglio1!$I$9*A50)), NA()), NA()), NA())","v":{"$error":"#N/A"}},0.48,{"$f":" IF(Foglio1!$F$10 <> \"\", IF(Foglio1!$C$10 <> \"\", IF(Foglio1!$I$10 <> \"\", (C50*Foglio1!$C$10) / (Foglio1!$F$10 + (Foglio1!$I$10*C50)), NA()), NA()), NA())","v":{"$error":"#N/A"}},0.48,{"$f":" IF(Foglio1!$F$11 <> \"\", IF(Foglio1!$C$11 <> \"\", IF(Foglio1!$I$11 <> \"\", (E50*Foglio1!$C$11) / (Foglio1!$F$11 + (Foglio1!$I$11*E50)), NA()), NA()), NA())","v":{"$error":"#N/A"}},0.48,{"$f":" IF(Foglio1!$F$12 <> \"\", IF(Foglio1!$C$12 <> \"\", IF(Foglio1!$I$12 <> \"\", (G50*Foglio1!$C$12) / (Foglio1!$F$12 + (Foglio1!$I$12*G50)), NA()), NA()), NA())","v":{"$error":"#N/A"}},0.48,{"$f":" IF(Foglio1!$F$13 <> \"\", IF(Foglio1!$C$13 <> \"\", IF(Foglio1!$I$13 <> \"\", (I50*Foglio1!$C$13) / (Foglio1!$F$13 + (Foglio1!$I$13*I50)), NA()), NA()), NA())","v":{"$error":"#N/A"}}]
[0.49,{"$f":" IF(Foglio1!$F$9 <> \"\", IF(Foglio1!$C$9 <> \"\", IF(Foglio1!$I$9 <> \"\", (A51*Foglio1!$C$9) / (Foglio1!$F$9 + (Foglio1!$I$9*A51)), NA()), NA()), NA())","v":{"$error":"#N/A"}},0.49,{"$f":" IF(Foglio1!$F$10 <> \"\", IF(Foglio1!$C$10 <> \"\", IF(Foglio1!$I$10 <> \"\", (C51*Foglio1!$C$10) / (Foglio1!$F$10 + (Foglio1!$I$10*C51)), NA()), NA()), NA())","v":{"$error":"#N/A"}},0.49,{"$f":" IF(Foglio1!$F$11 <> \"\", IF(Foglio1!$C$11 <> \"\", IF(Foglio1!$I$11 <> \"\", (E51*Foglio1!$C$11) / (Foglio1!$F$11 + (Foglio1!$I$11*E51)), NA()), NA()), NA())","v":{"$error":"#N/A"}},0.49,{"$f":" IF(Foglio1!$F$12 <> \"\", IF(Foglio1!$C$12 <> \"\", IF(Foglio1!$I$12 <> \"\", (G51*Foglio1!$C$12) / (Foglio1!$F$12 + (Foglio1!$I$12*G51)), NA()), NA()), NA())","v":{"$error":"#N/A"}},0.49,{"$f":" IF(Foglio1!$F$13 <> \"\", IF(Foglio1!$C$13 <> \"\", IF(Foglio1!$I$13 <> \"\", (I51*Foglio1!$C$13) / (Foglio1!$F$13 + (Foglio1!$I$13*I51)), NA()), NA()), NA())","v":{"$error":"#N/A"}}]
[0.5,{"$f":" IF(Foglio1!$F$9 <> \"\", IF(Foglio1!$C$9 <> \"\", IF(Foglio1!$I$9 <> \"\", (A52*Foglio1!$C$9) / (Foglio1!$F$9 + (Foglio1!$I$9*A52)), NA()), NA()), NA())","v":{"$error":"#N/A"}},0.5,{"$f":" IF(Foglio1!$F$10 <> \"\", IF(Foglio1!$C$10 <> \"\", IF(Foglio1!$I$10 <> \"\", (C52*Foglio1!$C$10) / (Foglio1!$F$10 + (Foglio1!$I$10*C52)), NA()), NA()), NA())","v":{"$error":"#N/A"}},0.5,{"$f":" IF(Foglio1!$F$11 <> \"\", IF(Foglio1!$C$11 <> \"\", IF(Foglio1!$I$11 <> \"\", (E52*Foglio1!$C$11) / (Foglio1!$F$11 + (Foglio1!$I$11*E52)), NA()), NA()), NA())","v":{"$error":"#N/A"}},0.5,{"$f":" IF(Foglio1!$F$12 <> \"\", IF(Foglio1!$C$12 <> \"\", IF(Foglio1!$I$12 <> \"\", (G52*Foglio1!$C$12) / (Foglio1!$F$12 + (Foglio1!$I$12*G52)), NA()), NA()), NA())","v":{"$error":"#N/A"}},0.5,{"$f":" IF(Foglio1!$F$13 <> \"\", IF(Foglio1!$C$13 <> \"\", IF(Foglio1!$I$13 <> \"\", (I52*Foglio1!$C$13) / (Foglio1!$F$13 + (Foglio1!$I$13*I52)), NA()), NA()), NA())","v":{"$error":"#N/A"}}]
[0.51,{"$f":" IF(Foglio1!$F$9 <> \"\", IF(Foglio1!$C$9 <> \"\", IF(Foglio1!$I$9 <> \"\", (A53*Foglio1!$C$9) / (Foglio1!$F$9 + (Foglio1!$I$9*A53)), NA()), NA()), NA())","v":{"$error":"#N/A"}},0.51,{"$f":" IF(Foglio1!$F$10 <> \"\", IF(Foglio1!$C$10 <> \"\", IF(Foglio1!$I$10 <> \"\", (C53*Foglio1!$C$10) / (Foglio1!$F$10 + (Foglio1!$I$10*C53)), NA()), NA()), NA())","v":{"$error":"#N/A"}},0.51,{"$f":" IF(Foglio1!$F$11 <> \"\", IF(Foglio1!$C$11 <> \"\", IF(Foglio1!$I$11 <> \"\", (E53*Foglio1!$C$11) / (Foglio1!$F$11 + (Foglio1!$I$11*E53)), NA()), NA()), NA())","v":{"$error":"#N/A"}},0.51,{"$f":" IF(Foglio1!$F$12 <> \"\", IF(Foglio1!$C$12 <> \"\", IF(Foglio1!$I$12 <> \"\", (G53*Foglio1!$C$12) / (Foglio1!$F$12 + (Foglio1!$I$12*G53)), NA()), NA()), NA())","v":{"$error":"#N/A"}},0.51,{"$f":" IF(Foglio1!$F$13 <> \"\", IF(Foglio1!$C$13 <> \"\", IF(Foglio1!$I$13 <> \"\", (I53*Foglio1!$C$13) / (Foglio1!$F$13 + (Foglio1!$I$13*I53)), NA()), NA()), NA())","v":{"$error":"#N/A"}}]
[0.52,{"$f":" IF(Foglio1!$F$9 <> \"\", IF(Foglio1!$C$9 <> \"\", IF(Foglio1!$I$9 <> \"\", (A54*Foglio1!$C$9) / (Foglio1!$F$9 + (Foglio1!$I$9*A54)), NA()), NA()), NA())","v":{"$error":"#N/A"}},0.52,{"$f":" IF(Foglio1!$F$10 <> \"\", IF(Foglio1!$C$10 <> \"\", IF(Foglio1!$I$10 <> \"\", (C54*Foglio1!$C$10) / (Foglio1!$F$10 + (Foglio1!$I$10*C54)), NA()), NA()), NA())","v":{"$error":"#N/A"}},0.52,{"$f":" IF(Foglio1!$F$11 <> \"\", IF(Foglio1!$C$11 <> \"\", IF(Foglio1!$I$11 <> \"\", (E54*Foglio1!$C$11) / (Foglio1!$F$11 + (Foglio1!$I$11*E54)), NA()), NA()), NA())","v":{"$error":"#N/A"}},0.52,{"$f":" IF(Foglio1!$F$12 <> \"\", IF(Foglio1!$C$12 <> \"\", IF(Foglio1!$I$12 <> \"\", (G54*Foglio1!$C$12) / (Foglio1!$F$12 + (Foglio1!$I$12*G54)), NA()), NA()), NA())","v":{"$error":"#N/A"}},0.52,{"$f":" IF(Foglio1!$F$13 <> \"\", IF(Foglio1!$C$13 <> \"\", IF(Foglio1!$I$13 <> \"\", (I54*Foglio1!$C$13) / (Foglio1!$F$13 + (Foglio1!$I$13*I54)), NA()), NA()), NA())","v":{"$error":"#N/A"}}]
[0.53,{"$f":" IF(Foglio1!$F$9 <> \"\", IF(Foglio1!$C$9 <> \"\", IF(Foglio1!$I$9 <> \"\", (A55*Foglio1!$C$9) / (Foglio1!$F$9 + (Foglio1!$I$9*A55)), NA()), NA()), NA())","v":{"$error":"#N/A"}},0.53,{"$f":" IF(Foglio1!$F$10 <> \"\", IF(Foglio1!$C$10 <> \"\", IF(Foglio1!$I$10 <> \"\", (C55*Foglio1!$C$10) / (Foglio1!$F$10 + (Foglio1!$I$10*C55)), NA()), NA()), NA())","v":{"$error":"#N/A"}},0.53,{"$f":" IF(Foglio1!$F$11 <> \"\", IF(Foglio1!$C$11 <> \"\", IF(Foglio1!$I$11 <> \"\", (E55*Foglio1!$C$11) / (Foglio1!$F$11 + (Foglio1!$I$11*E55)), NA()), NA()), NA())","v":{"$error":"#N/A"}},0.53,{"$f":" IF(Foglio1!$F$12 <> \"\", IF(Foglio1!$C$12 <> \"\", IF(Foglio1!$I$12 <> \"\", (G55*Foglio1!$C$12) / (Foglio1!$F$12 + (Foglio1!$I$12*G55)), NA()), NA()), NA())","v":{"$error":"#N/A"}},0.53,{"$f":" IF(Foglio1!$F$13 <> \"\", IF(Foglio1!$C$13 <> \"\", IF(Foglio1!$I$13 <> \"\", (I55*Foglio1!$C$13) / (Foglio1!$F$13 + (Foglio1!$I$13*I55)), NA()), NA()), NA())","v":{"$error":"#N/A"}}]
[0.54,{"$f":" IF(Foglio1!$F$9 <> \"\", IF(Foglio1!$C$9 <> \"\", IF(Foglio1!$I$9 <> \"\", (A56*Foglio1!$C$9) / (Foglio1!$F$9 + (Foglio1!$I$9*A56)), NA()), NA()), NA())","v":{"$error":"#N/A"}},0.54,{"$f":" IF(Foglio1!$F$10 <> \"\", IF(Foglio1!$C$10 <> \"\", IF(Foglio1!$I$10 <> \"\", (C56*Foglio1!$C$10) / (Foglio1!$F$10 + (Foglio1!$I$10*C56)), NA()), NA()), NA())","v":{"$error":"#N/A"}},0.54,{"$f":" IF(Foglio1!$F$11 <> \"\", IF(Foglio1!$C$11 <> \"\", IF(Foglio1!$I$11 <> \"\", (E56*Foglio1!$C$11) / (Foglio1!$F$11 + (Foglio1!$I$11*E56)), NA()), NA()), NA())","v":{"$error":"#N/A"}},0.54,{"$f":" IF(Foglio1!$F$12 <> \"\", IF(Foglio1!$C$12 <> \"\", IF(Foglio1!$I$12 <> \"\", (G56*Foglio1!$C$12) / (Foglio1!$F$12 + (Foglio1!$I$12*G56)), NA()), NA()), NA())","v":{"$error":"#N/A"}},0.54,{"$f":" IF(Foglio1!$F$13 <> \"\", IF(Foglio1!$C$13 <> \"\", IF(Foglio1!$I$13 <> \"\", (I56*Foglio1!$C$13) / (Foglio1!$F$13 + (Foglio1!$I$13*I56)), NA()), NA()), NA())","v":{"$error":"#N/A"}}]
[0.55000000000000004,{"$f":" IF(Foglio1!$F$9 <> \"\", IF(Foglio1!$C$9 <> \"\", IF(Foglio1!$I$9 <> \"\", (A57*Foglio1!$C$9) / (Foglio1!$F$9 + (Foglio1!$I$9*A57)), NA()), NA()), NA())","v":{"$error":"#N/A"}},0.55000000000000004,{"$f":" IF(Foglio1!$F$10 <> \"\", IF(Foglio1!$C$10 <> \"\", IF(Foglio1!$I$10 <> \"\", (C57*Foglio1!$C$10) / (Foglio1!$F$10 + (Foglio1!$I$10*C57)), NA()), NA()), NA())","v":{"$error":"#N/A"}},0.55000000000000004,{"$f":" IF(Foglio1!$F$11 <> \"\", IF(Foglio1!$C$11 <> \"\", IF(Foglio1!$I$11 <> \"\", (E57*Foglio1!$C$11) / (Foglio1!$F$11 + (Foglio1!$I$11*E57)), NA()), NA()), NA())","v":{"$error":"#N/A"}},0.55000000000000004,{"$f":" IF(Foglio1!$F$12 <> \"\", IF(Foglio1!$C$12 <> \"\", IF(Foglio1!$I$12 <> \"\", (G57*Foglio1!$C$12) / (Foglio1!$F$12 + (Foglio1!$I$12*G57)), NA()), NA()), NA())","v":{"$error":"#N/A"}},0.55000000000000004,{"$f":" IF(Foglio1!$F$13 <> \"\", IF(Foglio1!$C$13 <> \"\", IF(Foglio1!$I$13 <> \"\", (I57*Foglio1!$C$13) / (Foglio1!$F$13 + (Foglio1!$I$13*I57)), NA()), NA()), NA())","v":{"$error":"#N/A"}}]
[0.56000000000000005,{"$f":" IF(Foglio1!$F$9 <> \"\", IF(Foglio1!$C$9 <> \"\", IF(Foglio1!$I$9 <> \"\", (A58*Foglio1!$C$9) / (Foglio1!$F$9 + (Foglio1!$I$9*A58)), NA()), NA()), NA())","v":{"$error":"#N/A"}},0.56000000000000005,{"$f":" IF(Foglio1!$F$10 <> \"\", IF(Foglio1!$C$10 <> \"\", IF(Foglio1!$I$10 <> \"\", (C58*Foglio1!$C$10) / (Foglio1!$F$10 + (Foglio1!$I$10*C58)), NA()), NA()), NA())","v":{"$error":"#N/A"}},0.56000000000000005,{"$f":" IF(Foglio1!$F$11 <> \"\", IF(Foglio1!$C$11 <> \"\", IF(Foglio1!$I$11 <> \"\", (E58*Foglio1!$C$11) / (Foglio1!$F$11 + (Foglio1!$I$11*E58)), NA()), NA()), NA())","v":{"$error":"#N/A"}},0.56000000000000005,{"$f":" IF(Foglio1!$F$12 <> \"\", IF(Foglio1!$C$12 <> \"\", IF(Foglio1!$I$12 <> \"\", (G58*Foglio1!$C$12) / (Foglio1!$F$12 + (Foglio1!$I$12*G58)), NA()), NA()), NA())","v":{"$error":"#N/A"}},0.56000000000000005,{"$f":" IF(Foglio1!$F$13 <> \"\", IF(Foglio1!$C$13 <> \"\", IF(Foglio1!$I$13 <> \"\", (I58*Foglio1!$C$13) / (Foglio1!$F$13 + (Foglio1!$I$13*I58)), NA()), NA()), NA())","v":{"$error":"#N/A"}}]
[0.56999999999999995,{"$f":" IF(Foglio1!$F$9 <> \"\", IF(Foglio1!$C$9 <> \"\", IF(Foglio1!$I$9 <> \"\", (A59*Foglio1!$C$9) / (Foglio1!$F$9 + (Foglio1!$I$9*A59)), NA()), NA()), NA())","v":{"$error":"#N/A"}},0.56999999999999995,{"$f":" IF(Foglio1!$F$10 <> \"\", IF(Foglio1!$C$10 <> \"\", IF(Foglio1!$I$10 <> \"\", (C59*Foglio1!$C$10) / (Foglio1!$F$10 + (Foglio1!$I$10*C59)), NA()), NA()), NA())","v":{"$error":"#N/A"}},0.56999999999999995,{"$f":" IF(Foglio1!$F$11 <> \"\", IF(Foglio1!$C$11 <> \"\", IF(Foglio1!$I$11 <> \"\", (E59*Foglio1!$C$11) / (Foglio1!$F$11 + (Foglio1!$I$11*E59)), NA()), NA()), NA())","v":{"$error":"#N/A"}},0.56999999999999995,{"$f":" IF(Foglio1!$F$12 <> \"\", IF(Foglio1!$C$12 <> \"\", IF(Foglio1!$I$12 <> \"\", (G59*Foglio1!$C$12) / (Foglio1!$F$12 + (Foglio1!$I$12*G59)), NA()), NA()), NA())","v":{"$error":"#N/A"}},0.56999999999999995,{"$f":" IF(Foglio1!$F$13 <> \"\", IF(Foglio1!$C$13 <> \"\", IF(Foglio1!$I$13 <> \"\", (I59*Foglio1!$C$13) / (Foglio1!$F$13 + (Foglio1!$I$13*I59)), NA()), NA()), NA())","v":{"$error":"#N/A"}}]
[0.57999999999999996,{"$f":" IF(Foglio1!$F$9 <> \"\", IF(Foglio1!$C$9 <> \"\", IF(Foglio1!$I$9 <> \"\", (A60*Foglio1!$C$9) / (Foglio1!$F$9 + (Foglio1!$I$9*A60)), NA()), NA()), NA())","v":{"$error":"#N/A"}},0.57999999999999996,{"$f":" IF(Foglio1!$F$10 <> \"\", IF(Foglio1!$C$10 <> \"\", IF(Foglio1!$I$10 <> \"\", (C60*Foglio1!$C$10) / (Foglio1!$F$10 + (Foglio1!$I$10*C60)), NA()), NA()), NA())","v":{"$error":"#N/A"}},0.57999999999999996,{"$f":" IF(Foglio1!$F$11 <> \"\", IF(Foglio1!$C$11 <> \"\", IF(Foglio1!$I$11 <> \"\", (E60*Foglio1!$C$11) / (Foglio1!$F$11 + (Foglio1!$I$11*E60)), NA()), NA()), NA())","v":{"$error":"#N/A"}},0.57999999999999996,{"$f":" IF(Foglio1!$F$12 <> \"\", IF(Foglio1!$C$12 <> \"\", IF(Foglio1!$I$12 <> \"\", (G60*Foglio1!$C$12) / (Foglio1!$F$12 + (Foglio1!$I$12*G60)), NA()), NA()), NA())","v":{"$error":"#N/A"}},0.57999999999999996,{"$f":" IF(Foglio1!$F$13 <> \"\", IF(Foglio1!$C$13 <> \"\", IF(Foglio1!$I$13 <> \"\", (I60*Foglio1!$C$13) / (Foglio1!$F$13 + (Foglio1!$I$13*I60)), NA()), NA()), NA())","v":{"$error":"#N/A"}}]
[0.59,{"$f":" IF(Foglio1!$F$9 <> \"\", IF(Foglio1!$C$9 <> \"\", IF(Foglio1!$I$9 <> \"\", (A61*Foglio1!$C$9) / (Foglio1!$F$9 + (Foglio1!$I$9*A61)), NA()), NA()), NA())","v":{"$error":"#N/A"}},0.59,{"$f":" IF(Foglio1!$F$10 <> \"\", IF(Foglio1!$C$10 <> \"\", IF(Foglio1!$I$10 <> \"\", (C61*Foglio1!$C$10) / (Foglio1!$F$10 + (Foglio1!$I$10*C61)), NA()), NA()), NA())","v":{"$error":"#N/A"}},0.59,{"$f":" IF(Foglio1!$F$11 <> \"\", IF(Foglio1!$C$11 <> \"\", IF(Foglio1!$I$11 <> \"\", (E61*Foglio1!$C$11) / (Foglio1!$F$11 + (Foglio1!$I$11*E61)), NA()), NA()), NA())","v":{"$error":"#N/A"}},0.59,{"$f":" IF(Foglio1!$F$12 <> \"\", IF(Foglio1!$C$12 <> \"\", IF(Foglio1!$I$12 <> \"\", (G61*Foglio1!$C$12) / (Foglio1!$F$12 + (Foglio1!$I$12*G61)), NA()), NA()), NA())","v":{"$error":"#N/A"}},0.59,{"$f":" IF(Foglio1!$F$13 <> \"\", IF(Foglio1!$C$13 <> \"\", IF(Foglio1!$I$13 <> \"\", (I61*Foglio1!$C$13) / (Foglio1!$F$13 + (Foglio1!$I$13*I61)), NA()), NA()), NA())","v":{"$error":"#N/A"}}]
[0.6,{"$f":" IF(Foglio1!$F$9 <> \"\", IF(Foglio1!$C$9 <> \"\", IF(Foglio1!$I$9 <> \"\", (A62*Foglio1!$C$9) / (Foglio1!$F$9 + (Foglio1!$I$9*A62)), NA()), NA()), NA())","v":{"$error":"#N/A"}},0.6,{"$f":" IF(Foglio1!$F$10 <> \"\", IF(Foglio1!$C$10 <> \"\", IF(Foglio1!$I$10 <> \"\", (C62*Foglio1!$C$10) / (Foglio1!$F$10 + (Foglio1!$I$10*C62)), NA()), NA()), NA())","v":{"$error":"#N/A"}},0.6,{"$f":" IF(Foglio1!$F$11 <> \"\", IF(Foglio1!$C$11 <> \"\", IF(Foglio1!$I$11 <> \"\", (E62*Foglio1!$C$11) / (Foglio1!$F$11 + (Foglio1!$I$11*E62)), NA()), NA()), NA())","v":{"$error":"#N/A"}},0.6,{"$f":" IF(Foglio1!$F$12 <> \"\", IF(Foglio1!$C$12 <> \"\", IF(Foglio1!$I$12 <> \"\", (G62*Foglio1!$C$12) / (Foglio1!$F$12 + (Foglio1!$I$12*G62)), NA()), NA()), NA())","v":{"$error":"#N/A"}},0.6,{"$f":" IF(Foglio1!$F$13 <> \"\", IF(Foglio1!$C$13 <> \"\", IF(Foglio1!$I$13 <> \"\", (I62*Foglio1!$C$13) / (Foglio1!$F$13 + (Foglio1!$I$13*I62)), NA()), NA()), NA())","v":{"$error":"#N/A"}}]
[0.61,{"$f":" IF(Foglio1!$F$9 <> \"\", IF(Foglio1!$C$9 <> \"\", IF(Foglio1!$I$9 <> \"\", (A63*Foglio1!$C$9) / (Foglio1!$F$9 + (Foglio1!$I$9*A63)), NA()), NA()), NA())","v":{"$error":"#N/A"}},0.61,{"$f":" IF(Foglio1!$F$10 <> \"\", IF(Foglio1!$C$10 <> \"\", IF(Foglio1!$I$10 <> \"\", (C63*Foglio1!$C$10) / (Foglio1!$F$10 + (Foglio1!$I$10*C63)), NA()), NA()), NA())","v":{"$error":"#N/A"}},0.61,{"$f":" IF(Foglio1!$F$11 <> \"\", IF(Foglio1!$C$11 <> \"\", IF(Foglio1!$I$11 <> \"\", (E63*Foglio1!$C$11) / (Foglio1!$F$11 + (Foglio1!$I$11*E63)), NA()), NA()), NA())","v":{"$error":"#N/A"}},0.61,{"$f":" IF(Foglio1!$F$12 <> \"\", IF(Foglio1!$C$12 <> \"\", IF(Foglio1!$I$12 <> \"\", (G63*Foglio1!$C$12) / (Foglio1!$F$12 + (Foglio1!$I$12*G63)), NA()), NA()), NA())","v":{"$error":"#N/A"}},0.61,{"$f":" IF(Foglio1!$F$13 <> \"\", IF(Foglio1!$C$13 <> \"\", IF(Foglio1!$I$13 <> \"\", (I63*Foglio1!$C$13) / (Foglio1!$F$13 + (Foglio1!$I$13*I63)), NA()), NA()), NA())","v":{"$error":"#N/A"}}]
[0.62,{"$f":" IF(Foglio1!$F$9 <> \"\", IF(Foglio1!$C$9 <> \"\", IF(Foglio1!$I$9 <> \"\", (A64*Foglio1!$C$9) / (Foglio1!$F$9 + (Foglio1!$I$9*A64)), NA()), NA()), NA())","v":{"$error":"#N/A"}},0.62,{"$f":" IF(Foglio1!$F$10 <> \"\", IF(Foglio1!$C$10 <> \"\", IF(Foglio1!$I$10 <> \"\", (C64*Foglio1!$C$10) / (Foglio1!$F$10 + (Foglio1!$I$10*C64)), NA()), NA()), NA())","v":{"$error":"#N/A"}},0.62,{"$f":" IF(Foglio1!$F$11 <> \"\", IF(Foglio1!$C$11 <> \"\", IF(Foglio1!$I$11 <> \"\", (E64*Foglio1!$C$11) / (Foglio1!$F$11 + (Foglio1!$I$11*E64)), NA()), NA()), NA())","v":{"$error":"#N/A"}},0.62,{"$f":" IF(Foglio1!$F$12 <> \"\", IF(Foglio1!$C$12 <> \"\", IF(Foglio1!$I$12 <> \"\", (G64*Foglio1!$C$12) / (Foglio1!$F$12 + (Foglio1!$I$12*G64)), NA()), NA()), NA())","v":{"$error":"#N/A"}},0.62,{"$f":" IF(Foglio1!$F$13 <> \"\", IF(Foglio1!$C$13 <> \"\", IF(Foglio1!$I$13 <> \"\", (I64*Foglio1!$C$13) / (Foglio1!$F$13 + (Foglio1!$I$13*I64)), NA()), NA()), NA())","v":{"$error":"#N/A"}}]
[0.63,{"$f":" IF(Foglio1!$F$9 <> \"\", IF(Foglio1!$C$9 <> \"\", IF(Foglio1!$I$9 <> \"\", (A65*Foglio1!$C$9) / (Foglio1!$F$9 + (Foglio1!$I$9*A65)), NA()), NA()), NA())","v":{"$error":"#N/A"}},0.63,{"$f":" IF(Foglio1!$F$10 <> \"\", IF(Foglio1!$C$10 <> \"\", IF(Foglio1!$I$10 <> \"\", (C65*Foglio1!$C$10) / (Foglio1!$F$10 + (Foglio1!$I$10*C65)), NA()), NA()), NA())","v":{"$error":"#N/A"}},0.63,{"$f":" IF(Foglio1!$F$11 <> \"\", IF(Foglio1!$C$11 <> \"\", IF(Foglio1!$I$11 <> \"\", (E65*Foglio1!$C$11) / (Foglio1!$F$11 + (Foglio1!$I$11*E65)), NA()), NA()), NA())","v":{"$error":"#N/A"}},0.63,{"$f":" IF(Foglio1!$F$12 <> \"\", IF(Foglio1!$C$12 <> \"\", IF(Foglio1!$I$12 <> \"\", (G65*Foglio1!$C$12) / (Foglio1!$F$12 + (Foglio1!$I$12*G65)), NA()), NA()), NA())","v":{"$error":"#N/A"}},0.63,{"$f":" IF(Foglio1!$F$13 <> \"\", IF(Foglio1!$C$13 <> \"\", IF(Foglio1!$I$13 <> \"\", (I65*Foglio1!$C$13) / (Foglio1!$F$13 + (Foglio1!$I$13*I65)), NA()), NA()), NA())","v":{"$error":"#N/A"}}]
[0.64,{"$f":" IF(Foglio1!$F$9 <> \"\", IF(Foglio1!$C$9 <> \"\", IF(Foglio1!$I$9 <> \"\", (A66*Foglio1!$C$9) / (Foglio1!$F$9 + (Foglio1!$I$9*A66)), NA()), NA()), NA())","v":{"$error":"#N/A"}},0.64,{"$f":" IF(Foglio1!$F$10 <> \"\", IF(Foglio1!$C$10 <> \"\", IF(Foglio1!$I$10 <> \"\", (C66*Foglio1!$C$10) / (Foglio1!$F$10 + (Foglio1!$I$10*C66)), NA()), NA()), NA())","v":{"$error":"#N/A"}},0.64,{"$f":" IF(Foglio1!$F$11 <> \"\", IF(Foglio1!$C$11 <> \"\", IF(Foglio1!$I$11 <> \"\", (E66*Foglio1!$C$11) / (Foglio1!$F$11 + (Foglio1!$I$11*E66)), NA()), NA()), NA())","v":{"$error":"#N/A"}},0.64,{"$f":" IF(Foglio1!$F$12 <> \"\", IF(Foglio1!$C$12 <> \"\", IF(Foglio1!$I$12 <> \"\", (G66*Foglio1!$C$12) / (Foglio1!$F$12 + (Foglio1!$I$12*G66)), NA()), NA()), NA())","v":{"$error":"#N/A"}},0.64,{"$f":" IF(Foglio1!$F$13 <> \"\", IF(Foglio1!$C$13 <> \"\", IF(Foglio1!$I$13 <> \"\", (I66*Foglio1!$C$13) / (Foglio1!$F$13 + (Foglio1!$I$13*I66)), NA()), NA()), NA())","v":{"$error":"#N/A"}}]
[0.65,{"$f":" IF(Foglio1!$F$9 <> \"\", IF(Foglio1!$C$9 <> \"\", IF(Foglio1!$I$9 <> \"\", (A67*Foglio1!$C$9) / (Foglio1!$F$9 + (Foglio1!$I$9*A67)), NA()), NA()), NA())","v":{"$error":"#N/A"}},0.65,{"$f":" IF(Foglio1!$F$10 <> \"\", IF(Foglio1!$C$10 <> \"\", IF(Foglio1!$I$10 <> \"\", (C67*Foglio1!$C$10) / (Foglio1!$F$10 + (Foglio1!$I$10*C67)), NA()), NA()), NA())","v":{"$error":"#N/A"}},0.65,{"$f":" IF(Foglio1!$F$11 <> \"\", IF(Foglio1!$C$11 <> \"\", IF(Foglio1!$I$11 <> \"\", (E67*Foglio1!$C$11) / (Foglio1!$F$11 + (Foglio1!$I$11*E67)), NA()), NA()), NA())","v":{"$error":"#N/A"}},0.65,{"$f":" IF(Foglio1!$F$12 <> \"\", IF(Foglio1!$C$12 <> \"\", IF(Foglio1!$I$12 <> \"\", (G67*Foglio1!$C$12) / (Foglio1!$F$12 + (Foglio1!$I$12*G67)), NA()), NA()), NA())","v":{"$error":"#N/A"}},0.65,{"$f":" IF(Foglio1!$F$13 <> \"\", IF(Foglio1!$C$13 <> \"\", IF(Foglio1!$I$13 <> \"\", (I67*Foglio1!$C$13) / (Foglio1!$F$13 + (Foglio1!$I$13*I67)), NA()), NA()), NA())","v":{"$error":"#N/A"}}]
[0.66,{"$f":" IF(Foglio1!$F$9 <> \"\", IF(Foglio1!$C$9 <> \"\", IF(Foglio1!$I$9 <> \"\", (A68*Foglio1!$C$9) / (Foglio1!$F$9 + (Foglio1!$I$9*A68)), NA()), NA()), NA())","v":{"$error":"#N/A"}},0.66,{"$f":" IF(Foglio1!$F$10 <> \"\", IF(Foglio1!$C$10 <> \"\", IF(Foglio1!$I$10 <> \"\", (C68*Foglio1!$C$10) / (Foglio1!$F$10 + (Foglio1!$I$10*C68)), NA()), NA()), NA())","v":{"$error":"#N/A"}},0.66,{"$f":" IF(Foglio1!$F$11 <> \"\", IF(Foglio1!$C$11 <> \"\", IF(Foglio1!$I$11 <> \"\", (E68*Foglio1!$C$11) / (Foglio1!$F$11 + (Foglio1!$I$11*E68)), NA()), NA()), NA())","v":{"$error":"#N/A"}},0.66,{"$f":" IF(Foglio1!$F$12 <> \"\", IF(Foglio1!$C$12 <> \"\", IF(Foglio1!$I$12 <> \"\", (G68*Foglio1!$C$12) / (Foglio1!$F$12 + (Foglio1!$I$12*G68)), NA()), NA()), NA())","v":{"$error":"#N/A"}},0.66,{"$f":" IF(Foglio1!$F$13 <> \"\", IF(Foglio1!$C$13 <> \"\", IF(Foglio1!$I$13 <> \"\", (I68*Foglio1!$C$13) / (Foglio1!$F$13 + (Foglio1!$I$13*I68)), NA()), NA()), NA())","v":{"$error":"#N/A"}}]
[0.67,{"$f":" IF(Foglio1!$F$9 <> \"\", IF(Foglio1!$C$9 <> \"\", IF(Foglio1!$I$9 <> \"\", (A69*Foglio1!$C$9) / (Foglio1!$F$9 + (Foglio1!$I$9*A69)), NA()), NA()), NA())","v":{"$error":"#N/A"}},0.67,{"$f":" IF(Foglio1!$F$10 <> \"\", IF(Foglio1!$C$10 <> \"\", IF(Foglio1!$I$10 <> \"\", (C69*Foglio1!$C$10) / (Foglio1!$F$10 + (Foglio1!$I$10*C69)), NA()), NA()), NA())","v":{"$error":"#N/A"}},0.67,{"$f":" IF(Foglio1!$F$11 <> \"\", IF(Foglio1!$C$11 <> \"\", IF(Foglio1!$I$11 <> \"\", (E69*Foglio1!$C$11) / (Foglio1!$F$11 + (Foglio1!$I$11*E69)), NA()), NA()), NA())","v":{"$error":"#N/A"}},0.67,{"$f":" IF(Foglio1!$F$12 <> \"\", IF(Foglio1!$C$12 <> \"\", IF(Foglio1!$I$12 <> \"\", (G69*Foglio1!$C$12) / (Foglio1!$F$12 + (Foglio1!$I$12*G69)), NA()), NA()), NA())","v":{"$error":"#N/A"}},0.67,{"$f":" IF(Foglio1!$F$13 <> \"\", IF(Foglio1!$C$13 <> \"\", IF(Foglio1!$I$13 <> \"\", (I69*Foglio1!$C$13) / (Foglio1!$F$13 + (Foglio1!$I$13*I69)), NA()), NA()), NA())","v":{"$error":"#N/A"}}]
[0.68,{"$f":" IF(Foglio1!$F$9 <> \"\", IF(Foglio1!$C$9 <> \"\", IF(Foglio1!$I$9 <> \"\", (A70*Foglio1!$C$9) / (Foglio1!$F$9 + (Foglio1!$I$9*A70)), NA()), NA()), NA())","v":{"$error":"#N/A"}},0.68,{"$f":" IF(Foglio1!$F$10 <> \"\", IF(Foglio1!$C$10 <> \"\", IF(Foglio1!$I$10 <> \"\", (C70*Foglio1!$C$10) / (Foglio1!$F$10 + (Foglio1!$I$10*C70)), NA()), NA()), NA())","v":{"$error":"#N/A"}},0.68,{"$f":" IF(Foglio1!$F$11 <> \"\", IF(Foglio1!$C$11 <> \"\", IF(Foglio1!$I$11 <> \"\", (E70*Foglio1!$C$11) / (Foglio1!$F$11 + (Foglio1!$I$11*E70)), NA()), NA()), NA())","v":{"$error":"#N/A"}},0.68,{"$f":" IF(Foglio1!$F$12 <> \"\", IF(Foglio1!$C$12 <> \"\", IF(Foglio1!$I$12 <> \"\", (G70*Foglio1!$C$12) / (Foglio1!$F$12 + (Foglio1!$I$12*G70)), NA()), NA()), NA())","v":{"$error":"#N/A"}},0.68,{"$f":" IF(Foglio1!$F$13 <> \"\", IF(Foglio1!$C$13 <> \"\", IF(Foglio1!$I$13 <> \"\", (I70*Foglio1!$C$13) / (Foglio1!$F$13 + (Foglio1!$I$13*I70)), NA()), NA()), NA())","v":{"$error":"#N/A"}}]
[0.69,{"$f":" IF(Foglio1!$F$9 <> \"\", IF(Foglio1!$C$9 <> \"\", IF(Foglio1!$I$9 <> \"\", (A71*Foglio1!$C$9) / (Foglio1!$F$9 + (Foglio1!$I$9*A71)), NA()), NA()), NA())","v":{"$error":"#N/A"}},0.69,{"$f":" IF(Foglio1!$F$10 <> \"\", IF(Foglio1!$C$10 <> \"\", IF(Foglio1!$I$10 <> \"\", (C71*Foglio1!$C$10) / (Foglio1!$F$10 + (Foglio1!$I$10*C71)), NA()), NA()), NA())","v":{"$error":"#N/A"}},0.69,{"$f":" IF(Foglio1!$F$11 <> \"\", IF(Foglio1!$C$11 <> \"\", IF(Foglio1!$I$11 <> \"\", (E71*Foglio1!$C$11) / (Foglio1!$F$11 + (Foglio1!$I$11*E71)), NA()), NA()), NA())","v":{"$error":"#N/A"}},0.69,{"$f":" IF(Foglio1!$F$12 <> \"\", IF(Foglio1!$C$12 <> \"\", IF(Foglio1!$I$12 <> \"\", (G71*Foglio1!$C$12) / (Foglio1!$F$12 + (Foglio1!$I$12*G71)), NA()), NA()), NA())","v":{"$error":"#N/A"}},0.69,{"$f":" IF(Foglio1!$F$13 <> \"\", IF(Foglio1!$C$13 <> \"\", IF(Foglio1!$I$13 <> \"\", (I71*Foglio1!$C$13) / (Foglio1!$F$13 + (Foglio1!$I$13*I71)), NA()), NA()), NA())","v":{"$error":"#N/A"}}]
[0.7,{"$f":" IF(Foglio1!$F$9 <> \"\", IF(Foglio1!$C$9 <> \"\", IF(Foglio1!$I$9 <> \"\", (A72*Foglio1!$C$9) / (Foglio1!$F$9 + (Foglio1!$I$9*A72)), NA()), NA()), NA())","v":{"$error":"#N/A"}},0.7,{"$f":" IF(Foglio1!$F$10 <> \"\", IF(Foglio1!$C$10 <> \"\", IF(Foglio1!$I$10 <> \"\", (C72*Foglio1!$C$10) / (Foglio1!$F$10 + (Foglio1!$I$10*C72)), NA()), NA()), NA())","v":{"$error":"#N/A"}},0.7,{"$f":" IF(Foglio1!$F$11 <> \"\", IF(Foglio1!$C$11 <> \"\", IF(Foglio1!$I$11 <> \"\", (E72*Foglio1!$C$11) / (Foglio1!$F$11 + (Foglio1!$I$11*E72)), NA()), NA()), NA())","v":{"$error":"#N/A"}},0.7,{"$f":" IF(Foglio1!$F$12 <> \"\", IF(Foglio1!$C$12 <> \"\", IF(Foglio1!$I$12 <> \"\", (G72*Foglio1!$C$12) / (Foglio1!$F$12 + (Foglio1!$I$12*G72)), NA()), NA()), NA())","v":{"$error":"#N/A"}},0.7,{"$f":" IF(Foglio1!$F$13 <> \"\", IF(Foglio1!$C$13 <> \"\", IF(Foglio1!$I$13 <> \"\", (I72*Foglio1!$C$13) / (Foglio1!$F$13 + (Foglio1!$I$13*I72)), NA()), NA()), NA())","v":{"$error":"#N/A"}}]
[0.71,{"$f":" IF(Foglio1!$F$9 <> \"\", IF(Foglio1!$C$9 <> \"\", IF(Foglio1!$I$9 <> \"\", (A73*Foglio1!$C$9) / (Foglio1!$F$9 + (Foglio1!$I$9*A73)), NA()), NA()), NA())","v":{"$error":"#N/A"}},0.71,{"$f":" IF(Foglio1!$F$10 <> \"\", IF(Foglio1!$C$10 <> \"\", IF(Foglio1!$I$10 <> \"\", (C73*Foglio1!$C$10) / (Foglio1!$F$10 + (Foglio1!$I$10*C73)), NA()), NA()), NA())","v":{"$error":"#N/A"}},0.71,{"$f":" IF(Foglio1!$F$11 <> \"\", IF(Foglio1!$C$11 <> \"\", IF(Foglio1!$I$11 <> \"\", (E73*Foglio1!$C$11) / (Foglio1!$F$11 + (Foglio1!$I$11*E73)), NA()), NA()), NA())","v":{"$error":"#N/A"}},0.71,{"$f":" IF(Foglio1!$F$12 <> \"\", IF(Foglio1!$C$12 <> \"\", IF(Foglio1!$I$12 <> \"\", (G73*Foglio1!$C$12) / (Foglio1!$F$12 + (Foglio1!$I$12*G73)), NA()), NA()), NA())","v":{"$error":"#N/A"}},0.71,{"$f":" IF(Foglio1!$F$13 <> \"\", IF(Foglio1!$C$13 <> \"\", IF(Foglio1!$I$13 <> \"\", (I73*Foglio1!$C$13) / (Foglio1!$F$13 + (Foglio1!$I$13*I73)), NA()), NA()), NA())","v":{"$error":"#N/A"}}]
[0.72,{"$f":" IF(Foglio1!$F$9 <> \"\", IF(Foglio1!$C$9 <> \"\", IF(Foglio1!$I$9 <> \"\", (A74*Foglio1!$C$9) / (Foglio1!$F$9 + (Foglio1!$I$9*A74)), NA()), NA()), NA())","v":{"$error":"#N/A"}},0.72,{"$f":" IF(Foglio1!$F$10 <> \"\", IF(Foglio1!$C$10 <> \"\", IF(Foglio1!$I$10 <> \"\", (C74*Foglio1!$C$10) / (Foglio1!$F$10 + (Foglio1!$I$10*C74)), NA()), NA()), NA())","v":{"$error":"#N/A"}},0.72,{"$f":" IF(Foglio1!$F$11 <> \"\", IF(Foglio1!$C$11 <> \"\", IF(Foglio1!$I$11 <> \"\", (E74*Foglio1!$C$11) / (Foglio1!$F$11 + (Foglio1!$I$11*E74)), NA()), NA()), NA())","v":{"$error":"#N/A"}},0.72,{"$f":" IF(Foglio1!$F$12 <> \"\", IF(Foglio1!$C$12 <> \"\", IF(Foglio1!$I$12 <> \"\", (G74*Foglio1!$C$12) / (Foglio1!$F$12 + (Foglio1!$I$12*G74)), NA()), NA()), NA())","v":{"$error":"#N/A"}},0.72,{"$f":" IF(Foglio1!$F$13 <> \"\", IF(Foglio1!$C$13 <> \"\", IF(Foglio1!$I$13 <> \"\", (I74*Foglio1!$C$13) / (Foglio1!$F$13 + (Foglio1!$I$13*I74)), NA()), NA()), NA())","v":{"$error":"#N/A"}}]
[0.73,{"$f":" IF(Foglio1!$F$9 <> \"\", IF(Foglio1!$C$9 <> \"\", IF(Foglio1!$I$9 <> \"\", (A75*Foglio1!$C$9) / (Foglio1!$F$9 + (Foglio1!$I$9*A75)), NA()), NA()), NA())","v":{"$error":"#N/A"}},0.73,{"$f":" IF(Foglio1!$F$10 <> \"\", IF(Foglio1!$C$10 <> \"\", IF(Foglio1!$I$10 <> \"\", (C75*Foglio1!$C$10) / (Foglio1!$F$10 + (Foglio1!$I$10*C75)), NA()), NA()), NA())","v":{"$error":"#N/A"}},0.73,{"$f":" IF(Foglio1!$F$11 <> \"\", IF(Foglio1!$C$11 <> \"\", IF(Foglio1!$I$11 <> \"\", (E75*Foglio1!$C$11) / (Foglio1!$F$11 + (Foglio1!$I$11*E75)), NA()), NA()), NA())","v":{"$error":"#N/A"}},0.73,{"$f":" IF(Foglio1!$F$12 <> \"\", IF(Foglio1!$C$12 <> \"\", IF(Foglio1!$I$12 <> \"\", (G75*Foglio1!$C$12) / (Foglio1!$F$12 + (Foglio1!$I$12*G75)), NA()), NA()), NA())","v":{"$error":"#N/A"}},0.73,{"$f":" IF(Foglio1!$F$13 <> \"\", IF(Foglio1!$C$13 <> \"\", IF(Foglio1!$I$13 <> \"\", (I75*Foglio1!$C$13) / (Foglio1!$F$13 + (Foglio1!$I$13*I75)), NA()), NA()), NA())","v":{"$error":"#N/A"}}]
[0.74,{"$f":" IF(Foglio1!$F$9 <> \"\", IF(Foglio1!$C$9 <> \"\", IF(Foglio1!$I$9 <> \"\", (A76*Foglio1!$C$9) / (Foglio1!$F$9 + (Foglio1!$I$9*A76)), NA()), NA()), NA())","v":{"$error":"#N/A"}},0.74,{"$f":" IF(Foglio1!$F$10 <> \"\", IF(Foglio1!$C$10 <> \"\", IF(Foglio1!$I$10 <> \"\", (C76*Foglio1!$C$10) / (Foglio1!$F$10 + (Foglio1!$I$10*C76)), NA()), NA()), NA())","v":{"$error":"#N/A"}},0.74,{"$f":" IF(Foglio1!$F$11 <> \"\", IF(Foglio1!$C$11 <> \"\", IF(Foglio1!$I$11 <> \"\", (E76*Foglio1!$C$11) / (Foglio1!$F$11 + (Foglio1!$I$11*E76)), NA()), NA()), NA())","v":{"$error":"#N/A"}},0.74,{"$f":" IF(Foglio1!$F$12 <> \"\", IF(Foglio1!$C$12 <> \"\", IF(Foglio1!$I$12 <> \"\", (G76*Foglio1!$C$12) / (Foglio1!$F$12 + (Foglio1!$I$12*G76)), NA()), NA()), NA())","v":{"$error":"#N/A"}},0.74,{"$f":" IF(Foglio1!$F$13 <> \"\", IF(Foglio1!$C$13 <> \"\", IF(Foglio1!$I$13 <> \"\", (I76*Foglio1!$C$13) / (Foglio1!$F$13 + (Foglio1!$I$13*I76)), NA()), NA()), NA())","v":{"$error":"#N/A"}}]
[0.75,{"$f":" IF(Foglio1!$F$9 <> \"\", IF(Foglio1!$C$9 <> \"\", IF(Foglio1!$I$9 <> \"\", (A77*Foglio1!$C$9) / (Foglio1!$F$9 + (Foglio1!$I$9*A77)), NA()), NA()), NA())","v":{"$error":"#N/A"}},0.75,{"$f":" IF(Foglio1!$F$10 <> \"\", IF(Foglio1!$C$10 <> \"\", IF(Foglio1!$I$10 <> \"\", (C77*Foglio1!$C$10) / (Foglio1!$F$10 + (Foglio1!$I$10*C77)), NA()), NA()), NA())","v":{"$error":"#N/A"}},0.75,{"$f":" IF(Foglio1!$F$11 <> \"\", IF(Foglio1!$C$11 <> \"\", IF(Foglio1!$I$11 <> \"\", (E77*Foglio1!$C$11) / (Foglio1!$F$11 + (Foglio1!$I$11*E77)), NA()), NA()), NA())","v":{"$error":"#N/A"}},0.75,{"$f":" IF(Foglio1!$F$12 <> \"\", IF(Foglio1!$C$12 <> \"\", IF(Foglio1!$I$12 <> \"\", (G77*Foglio1!$C$12) / (Foglio1!$F$12 + (Foglio1!$I$12*G77)), NA()), NA()), NA())","v":{"$error":"#N/A"}},0.75,{"$f":" IF(Foglio1!$F$13 <> \"\", IF(Foglio1!$C$13 <> \"\", IF(Foglio1!$I$13 <> \"\", (I77*Foglio1!$C$13) / (Foglio1!$F$13 + (Foglio1!$I$13*I77)), NA()), NA()), NA())","v":{"$error":"#N/A"}}]
[0.76,{"$f":" IF(Foglio1!$F$9 <> \"\", IF(Foglio1!$C$9 <> \"\", IF(Foglio1!$I$9 <> \"\", (A78*Foglio1!$C$9) / (Foglio1!$F$9 + (Foglio1!$I$9*A78)), NA()), NA()), NA())","v":{"$error":"#N/A"}},0.76,{"$f":" IF(Foglio1!$F$10 <> \"\", IF(Foglio1!$C$10 <> \"\", IF(Foglio1!$I$10 <> \"\", (C78*Foglio1!$C$10) / (Foglio1!$F$10 + (Foglio1!$I$10*C78)), NA()), NA()), NA())","v":{"$error":"#N/A"}},0.76,{"$f":" IF(Foglio1!$F$11 <> \"\", IF(Foglio1!$C$11 <> \"\", IF(Foglio1!$I$11 <> \"\", (E78*Foglio1!$C$11) / (Foglio1!$F$11 + (Foglio1!$I$11*E78)), NA()), NA()), NA())","v":{"$error":"#N/A"}},0.76,{"$f":" IF(Foglio1!$F$12 <> \"\", IF(Foglio1!$C$12 <> \"\", IF(Foglio1!$I$12 <> \"\", (G78*Foglio1!$C$12) / (Foglio1!$F$12 + (Foglio1!$I$12*G78)), NA()), NA()), NA())","v":{"$error":"#N/A"}},0.76,{"$f":" IF(Foglio1!$F$13 <> \"\", IF(Foglio1!$C$13 <> \"\", IF(Foglio1!$I$13 <> \"\", (I78*Foglio1!$C$13) / (Foglio1!$F$13 + (Foglio1!$I$13*I78)), NA()), NA()), NA())","v":{"$error":"#N/A"}}]
[0.77,{"$f":" IF(Foglio1!$F$9 <> \"\", IF(Foglio1!$C$9 <> \"\", IF(Foglio1!$I$9 <> \"\", (A79*Foglio1!$C$9) / (Foglio1!$F$9 + (Foglio1!$I$9*A79)), NA()), NA()), NA())","v":{"$error":"#N/A"}},0.77,{"$f":" IF(Foglio1!$F$10 <> \"\", IF(Foglio1!$C$10 <> \"\", IF(Foglio1!$I$10 <> \"\", (C79*Foglio1!$C$10) / (Foglio1!$F$10 + (Foglio1!$I$10*C79)), NA()), NA()), NA())","v":{"$error":"#N/A"}},0.77,{"$f":" IF(Foglio1!$F$11 <> \"\", IF(Foglio1!$C$11 <> \"\", IF(Foglio1!$I$11 <> \"\", (E79*Foglio1!$C$11) / (Foglio1!$F$11 + (Foglio1!$I$11*E79)), NA()), NA()), NA())","v":{"$error":"#N/A"}},0.77,{"$f":" IF(Foglio1!$F$12 <> \"\", IF(Foglio1!$C$12 <> \"\", IF(Foglio1!$I$12 <> \"\", (G79*Foglio1!$C$12) / (Foglio1!$F$12 + (Foglio1!$I$12*G79)), NA()), NA()), NA())","v":{"$error":"#N/A"}},0.77,{"$f":" IF(Foglio1!$F$13 <> \"\", IF(Foglio1!$C$13 <> \"\", IF(Foglio1!$I$13 <> \"\", (I79*Foglio1!$C$13) / (Foglio1!$F$13 + (Foglio1!$I$13*I79)), NA()), NA()), NA())","v":{"$error":"#N/A"}}]
[0.78,{"$f":" IF(Foglio1!$F$9 <> \"\", IF(Foglio1!$C$9 <> \"\", IF(Foglio1!$I$9 <> \"\", (A80*Foglio1!$C$9) / (Foglio1!$F$9 + (Foglio1!$I$9*A80)), NA()), NA()), NA())","v":{"$error":"#N/A"}},0.78,{"$f":" IF(Foglio1!$F$10 <> \"\", IF(Foglio1!$C$10 <> \"\", IF(Foglio1!$I$10 <> \"\", (C80*Foglio1!$C$10) / (Foglio1!$F$10 + (Foglio1!$I$10*C80)), NA()), NA()), NA())","v":{"$error":"#N/A"}},0.78,{"$f":" IF(Foglio1!$F$11 <> \"\", IF(Foglio1!$C$11 <> \"\", IF(Foglio1!$I$11 <> \"\", (E80*Foglio1!$C$11) / (Foglio1!$F$11 + (Foglio1!$I$11*E80)), NA()), NA()), NA())","v":{"$error":"#N/A"}},0.78,{"$f":" IF(Foglio1!$F$12 <> \"\", IF(Foglio1!$C$12 <> \"\", IF(Foglio1!$I$12 <> \"\", (G80*Foglio1!$C$12) / (Foglio1!$F$12 + (Foglio1!$I$12*G80)), NA()), NA()), NA())","v":{"$error":"#N/A"}},0.78,{"$f":" IF(Foglio1!$F$13 <> \"\", IF(Foglio1!$C$13 <> \"\", IF(Foglio1!$I$13 <> \"\", (I80*Foglio1!$C$13) / (Foglio1!$F$13 + (Foglio1!$I$13*I80)), NA()), NA()), NA())","v":{"$error":"#N/A"}}]
[0.79,{"$f":" IF(Foglio1!$F$9 <> \"\", IF(Foglio1!$C$9 <> \"\", IF(Foglio1!$I$9 <> \"\", (A81*Foglio1!$C$9) / (Foglio1!$F$9 + (Foglio1!$I$9*A81)), NA()), NA()), NA())","v":{"$error":"#N/A"}},0.79,{"$f":" IF(Foglio1!$F$10 <> \"\", IF(Foglio1!$C$10 <> \"\", IF(Foglio1!$I$10 <> \"\", (C81*Foglio1!$C$10) / (Foglio1!$F$10 + (Foglio1!$I$10*C81)), NA()), NA()), NA())","v":{"$error":"#N/A"}},0.79,{"$f":" IF(Foglio1!$F$11 <> \"\", IF(Foglio1!$C$11 <> \"\", IF(Foglio1!$I$11 <> \"\", (E81*Foglio1!$C$11) / (Foglio1!$F$11 + (Foglio1!$I$11*E81)), NA()), NA()), NA())","v":{"$error":"#N/A"}},0.79,{"$f":" IF(Foglio1!$F$12 <> \"\", IF(Foglio1!$C$12 <> \"\", IF(Foglio1!$I$12 <> \"\", (G81*Foglio1!$C$12) / (Foglio1!$F$12 + (Foglio1!$I$12*G81)), NA()), NA()), NA())","v":{"$error":"#N/A"}},0.79,{"$f":" IF(Foglio1!$F$13 <> \"\", IF(Foglio1!$C$13 <> \"\", IF(Foglio1!$I$13 <> \"\", (I81*Foglio1!$C$13) / (Foglio1!$F$13 + (Foglio1!$I$13*I81)), NA()), NA()), NA())","v":{"$error":"#N/A"}}]
[0.8,{"$f":" IF(Foglio1!$F$9 <> \"\", IF(Foglio1!$C$9 <> \"\", IF(Foglio1!$I$9 <> \"\", (A82*Foglio1!$C$9) / (Foglio1!$F$9 + (Foglio1!$I$9*A82)), NA()), NA()), NA())","v":{"$error":"#N/A"}},0.8,{"$f":" IF(Foglio1!$F$10 <> \"\", IF(Foglio1!$C$10 <> \"\", IF(Foglio1!$I$10 <> \"\", (C82*Foglio1!$C$10) / (Foglio1!$F$10 + (Foglio1!$I$10*C82)), NA()), NA()), NA())","v":{"$error":"#N/A"}},0.8,{"$f":" IF(Foglio1!$F$11 <> \"\", IF(Foglio1!$C$11 <> \"\", IF(Foglio1!$I$11 <> \"\", (E82*Foglio1!$C$11) / (Foglio1!$F$11 + (Foglio1!$I$11*E82)), NA()), NA()), NA())","v":{"$error":"#N/A"}},0.8,{"$f":" IF(Foglio1!$F$12 <> \"\", IF(Foglio1!$C$12 <> \"\", IF(Foglio1!$I$12 <> \"\", (G82*Foglio1!$C$12) / (Foglio1!$F$12 + (Foglio1!$I$12*G82)), NA()), NA()), NA())","v":{"$error":"#N/A"}},0.8,{"$f":" IF(Foglio1!$F$13 <> \"\", IF(Foglio1!$C$13 <> \"\", IF(Foglio1!$I$13 <> \"\", (I82*Foglio1!$C$13) / (Foglio1!$F$13 + (Foglio1!$I$13*I82)), NA()), NA()), NA())","v":{"$error":"#N/A"}}]
[0.81,{"$f":" IF(Foglio1!$F$9 <> \"\", IF(Foglio1!$C$9 <> \"\", IF(Foglio1!$I$9 <> \"\", (A83*Foglio1!$C$9) / (Foglio1!$F$9 + (Foglio1!$I$9*A83)), NA()), NA()), NA())","v":{"$error":"#N/A"}},0.81,{"$f":" IF(Foglio1!$F$10 <> \"\", IF(Foglio1!$C$10 <> \"\", IF(Foglio1!$I$10 <> \"\", (C83*Foglio1!$C$10) / (Foglio1!$F$10 + (Foglio1!$I$10*C83)), NA()), NA()), NA())","v":{"$error":"#N/A"}},0.81,{"$f":" IF(Foglio1!$F$11 <> \"\", IF(Foglio1!$C$11 <> \"\", IF(Foglio1!$I$11 <> \"\", (E83*Foglio1!$C$11) / (Foglio1!$F$11 + (Foglio1!$I$11*E83)), NA()), NA()), NA())","v":{"$error":"#N/A"}},0.81,{"$f":" IF(Foglio1!$F$12 <> \"\", IF(Foglio1!$C$12 <> \"\", IF(Foglio1!$I$12 <> \"\", (G83*Foglio1!$C$12) / (Foglio1!$F$12 + (Foglio1!$I$12*G83)), NA()), NA()), NA())","v":{"$error":"#N/A"}},0.81,{"$f":" IF(Foglio1!$F$13 <> \"\", IF(Foglio1!$C$13 <> \"\", IF(Foglio1!$I$13 <> \"\", (I83*Foglio1!$C$13) / (Foglio1!$F$13 + (Foglio1!$I$13*I83)), NA()), NA()), NA())","v":{"$error":"#N/A"}}]
[0.82,{"$f":" IF(Foglio1!$F$9 <> \"\", IF(Foglio1!$C$9 <> \"\", IF(Foglio1!$I$9 <> \"\", (A84*Foglio1!$C$9) / (Foglio1!$F$9 + (Foglio1!$I$9*A84)), NA()), NA()), NA())","v":{"$error":"#N/A"}},0.82,{"$f":" IF(Foglio1!$F$10 <> \"\", IF(Foglio1!$C$10 <> \"\", IF(Foglio1!$I$10 <> \"\", (C84*Foglio1!$C$10) / (Foglio1!$F$10 + (Foglio1!$I$10*C84)), NA()), NA()), NA())","v":{"$error":"#N/A"}},0.82,{"$f":" IF(Foglio1!$F$11 <> \"\", IF(Foglio1!$C$11 <> \"\", IF(Foglio1!$I$11 <> \"\", (E84*Foglio1!$C$11) / (Foglio1!$F$11 + (Foglio1!$I$11*E84)), NA()), NA()), NA())","v":{"$error":"#N/A"}},0.82,{"$f":" IF(Foglio1!$F$12 <> \"\", IF(Foglio1!$C$12 <> \"\", IF(Foglio1!$I$12 <> \"\", (G84*Foglio1!$C$12) / (Foglio1!$F$12 + (Foglio1!$I$12*G84)), NA()), NA()), NA())","v":{"$error":"#N/A"}},0.82,{"$f":" IF(Foglio1!$F$13 <> \"\", IF(Foglio1!$C$13 <> \"\", IF(Foglio1!$I$13 <> \"\", (I84*Foglio1!$C$13) / (Foglio1!$F$13 + (Foglio1!$I$13*I84)), NA()), NA()), NA())","v":{"$error":"#N/A"}}]
[0.83,{"$f":" IF(Foglio1!$F$9 <> \"\", IF(Foglio1!$C$9 <> \"\", IF(Foglio1!$I$9 <> \"\", (A85*Foglio1!$C$9) / (Foglio1!$F$9 + (Foglio1!$I$9*A85)), NA()), NA()), NA())","v":{"$error":"#N/A"}},0.83,{"$f":" IF(Foglio1!$F$10 <> \"\", IF(Foglio1!$C$10 <> \"\", IF(Foglio1!$I$10 <> \"\", (C85*Foglio1!$C$10) / (Foglio1!$F$10 + (Foglio1!$I$10*C85)), NA()), NA()), NA())","v":{"$error":"#N/A"}},0.83,{"$f":" IF(Foglio1!$F$11 <> \"\", IF(Foglio1!$C$11 <> \"\", IF(Foglio1!$I$11 <> \"\", (E85*Foglio1!$C$11) / (Foglio1!$F$11 + (Foglio1!$I$11*E85)), NA()), NA()), NA())","v":{"$error":"#N/A"}},0.83,{"$f":" IF(Foglio1!$F$12 <> \"\", IF(Foglio1!$C$12 <> \"\", IF(Foglio1!$I$12 <> \"\", (G85*Foglio1!$C$12) / (Foglio1!$F$12 + (Foglio1!$I$12*G85)), NA()), NA()), NA())","v":{"$error":"#N/A"}},0.83,{"$f":" IF(Foglio1!$F$13 <> \"\", IF(Foglio1!$C$13 <> \"\", IF(Foglio1!$I$13 <> \"\", (I85*Foglio1!$C$13) / (Foglio1!$F$13 + (Foglio1!$I$13*I85)), NA()), NA()), NA())","v":{"$error":"#N/A"}}]
[0.84,{"$f":" IF(Foglio1!$F$9 <> \"\", IF(Foglio1!$C$9 <> \"\", IF(Foglio1!$I$9 <> \"\", (A86*Foglio1!$C$9) / (Foglio1!$F$9 + (Foglio1!$I$9*A86)), NA()), NA()), NA())","v":{"$error":"#N/A"}},0.84,{"$f":" IF(Foglio1!$F$10 <> \"\", IF(Foglio1!$C$10 <> \"\", IF(Foglio1!$I$10 <> \"\", (C86*Foglio1!$C$10) / (Foglio1!$F$10 + (Foglio1!$I$10*C86)), NA()), NA()), NA())","v":{"$error":"#N/A"}},0.84,{"$f":" IF(Foglio1!$F$11 <> \"\", IF(Foglio1!$C$11 <> \"\", IF(Foglio1!$I$11 <> \"\", (E86*Foglio1!$C$11) / (Foglio1!$F$11 + (Foglio1!$I$11*E86)), NA()), NA()), NA())","v":{"$error":"#N/A"}},0.84,{"$f":" IF(Foglio1!$F$12 <> \"\", IF(Foglio1!$C$12 <> \"\", IF(Foglio1!$I$12 <> \"\", (G86*Foglio1!$C$12) / (Foglio1!$F$12 + (Foglio1!$I$12*G86)), NA()), NA()), NA())","v":{"$error":"#N/A"}},0.84,{"$f":" IF(Foglio1!$F$13 <> \"\", IF(Foglio1!$C$13 <> \"\", IF(Foglio1!$I$13 <> \"\", (I86*Foglio1!$C$13) / (Foglio1!$F$13 + (Foglio1!$I$13*I86)), NA()), NA()), NA())","v":{"$error":"#N/A"}}]
[0.85,{"$f":" IF(Foglio1!$F$9 <> \"\", IF(Foglio1!$C$9 <> \"\", IF(Foglio1!$I$9 <> \"\", (A87*Foglio1!$C$9) / (Foglio1!$F$9 + (Foglio1!$I$9*A87)), NA()), NA()), NA())","v":{"$error":"#N/A"}},0.85,{"$f":" IF(Foglio1!$F$10 <> \"\", IF(Foglio1!$C$10 <> \"\", IF(Foglio1!$I$10 <> \"\", (C87*Foglio1!$C$10) / (Foglio1!$F$10 + (Foglio1!$I$10*C87)), NA()), NA()), NA())","v":{"$error":"#N/A"}},0.85,{"$f":" IF(Foglio1!$F$11 <> \"\", IF(Foglio1!$C$11 <> \"\", IF(Foglio1!$I$11 <> \"\", (E87*Foglio1!$C$11) / (Foglio1!$F$11 + (Foglio1!$I$11*E87)), NA()), NA()), NA())","v":{"$error":"#N/A"}},0.85,{"$f":" IF(Foglio1!$F$12 <> \"\", IF(Foglio1!$C$12 <> \"\", IF(Foglio1!$I$12 <> \"\", (G87*Foglio1!$C$12) / (Foglio1!$F$12 + (Foglio1!$I$12*G87)), NA()), NA()), NA())","v":{"$error":"#N/A"}},0.85,{"$f":" IF(Foglio1!$F$13 <> \"\", IF(Foglio1!$C$13 <> \"\", IF(Foglio1!$I$13 <> \"\", (I87*Foglio1!$C$13) / (Foglio1!$F$13 + (Foglio1!$I$13*I87)), NA()), NA()), NA())","v":{"$error":"#N/A"}}]
[0.86,{"$f":" IF(Foglio1!$F$9 <> \"\", IF(Foglio1!$C$9 <> \"\", IF(Foglio1!$I$9 <> \"\", (A88*Foglio1!$C$9) / (Foglio1!$F$9 + (Foglio1!$I$9*A88)), NA()), NA()), NA())","v":{"$error":"#N/A"}},0.86,{"$f":" IF(Foglio1!$F$10 <> \"\", IF(Foglio1!$C$10 <> \"\", IF(Foglio1!$I$10 <> \"\", (C88*Foglio1!$C$10) / (Foglio1!$F$10 + (Foglio1!$I$10*C88)), NA()), NA()), NA())","v":{"$error":"#N/A"}},0.86,{"$f":" IF(Foglio1!$F$11 <> \"\", IF(Foglio1!$C$11 <> \"\", IF(Foglio1!$I$11 <> \"\", (E88*Foglio1!$C$11) / (Foglio1!$F$11 + (Foglio1!$I$11*E88)), NA()), NA()), NA())","v":{"$error":"#N/A"}},0.86,{"$f":" IF(Foglio1!$F$12 <> \"\", IF(Foglio1!$C$12 <> \"\", IF(Foglio1!$I$12 <> \"\", (G88*Foglio1!$C$12) / (Foglio1!$F$12 + (Foglio1!$I$12*G88)), NA()), NA()), NA())","v":{"$error":"#N/A"}},0.86,{"$f":" IF(Foglio1!$F$13 <> \"\", IF(Foglio1!$C$13 <> \"\", IF(Foglio1!$I$13 <> \"\", (I88*Foglio1!$C$13) / (Foglio1!$F$13 + (Foglio1!$I$13*I88)), NA()), NA()), NA())","v":{"$error":"#N/A"}}]
[0.87,{"$f":" IF(Foglio1!$F$9 <> \"\", IF(Foglio1!$C$9 <> \"\", IF(Foglio1!$I$9 <> \"\", (A89*Foglio1!$C$9) / (Foglio1!$F$9 + (Foglio1!$I$9*A89)), NA()), NA()), NA())","v":{"$error":"#N/A"}},0.87,{"$f":" IF(Foglio1!$F$10 <> \"\", IF(Foglio1!$C$10 <> \"\", IF(Foglio1!$I$10 <> \"\", (C89*Foglio1!$C$10) / (Foglio1!$F$10 + (Foglio1!$I$10*C89)), NA()), NA()), NA())","v":{"$error":"#N/A"}},0.87,{"$f":" IF(Foglio1!$F$11 <> \"\", IF(Foglio1!$C$11 <> \"\", IF(Foglio1!$I$11 <> \"\", (E89*Foglio1!$C$11) / (Foglio1!$F$11 + (Foglio1!$I$11*E89)), NA()), NA()), NA())","v":{"$error":"#N/A"}},0.87,{"$f":" IF(Foglio1!$F$12 <> \"\", IF(Foglio1!$C$12 <> \"\", IF(Foglio1!$I$12 <> \"\", (G89*Foglio1!$C$12) / (Foglio1!$F$12 + (Foglio1!$I$12*G89)), NA()), NA()), NA())","v":{"$error":"#N/A"}},0.87,{"$f":" IF(Foglio1!$F$13 <> \"\", IF(Foglio1!$C$13 <> \"\", IF(Foglio1!$I$13 <> \"\", (I89*Foglio1!$C$13) / (Foglio1!$F$13 + (Foglio1!$I$13*I89)), NA()), NA()), NA())","v":{"$error":"#N/A"}}]
[0.88,{"$f":" IF(Foglio1!$F$9 <> \"\", IF(Foglio1!$C$9 <> \"\", IF(Foglio1!$I$9 <> \"\", (A90*Foglio1!$C$9) / (Foglio1!$F$9 + (Foglio1!$I$9*A90)), NA()), NA()), NA())","v":{"$error":"#N/A"}},0.88,{"$f":" IF(Foglio1!$F$10 <> \"\", IF(Foglio1!$C$10 <> \"\", IF(Foglio1!$I$10 <> \"\", (C90*Foglio1!$C$10) / (Foglio1!$F$10 + (Foglio1!$I$10*C90)), NA()), NA()), NA())","v":{"$error":"#N/A"}},0.88,{"$f":" IF(Foglio1!$F$11 <> \"\", IF(Foglio1!$C$11 <> \"\", IF(Foglio1!$I$11 <> \"\", (E90*Foglio1!$C$11) / (Foglio1!$F$11 + (Foglio1!$I$11*E90)), NA()), NA()), NA())","v":{"$error":"#N/A"}},0.88,{"$f":" IF(Foglio1!$F$12 <> \"\", IF(Foglio1!$C$12 <> \"\", IF(Foglio1!$I$12 <> \"\", (G90*Foglio1!$C$12) / (Foglio1!$F$12 + (Foglio1!$I$12*G90)), NA()), NA()), NA())","v":{"$error":"#N/A"}},0.88,{"$f":" IF(Foglio1!$F$13 <> \"\", IF(Foglio1!$C$13 <> \"\", IF(Foglio1!$I$13 <> \"\", (I90*Foglio1!$C$13) / (Foglio1!$F$13 + (Foglio1!$I$13*I90)), NA()), NA()), NA())","v":{"$error":"#N/A"}}]
[0.89,{"$f":" IF(Foglio1!$F$9 <> \"\", IF(Foglio1!$C$9 <> \"\", IF(Foglio1!$I$9 <> \"\", (A91*Foglio1!$C$9) / (Foglio1!$F$9 + (Foglio1!$I$9*A91)), NA()), NA()), NA())","v":{"$error":"#N/A"}},0.89,{"$f":" IF(Foglio1!$F$10 <> \"\", IF(Foglio1!$C$10 <> \"\", IF(Foglio1!$I$10 <> \"\", (C91*Foglio1!$C$10) / (Foglio1!$F$10 + (Foglio1!$I$10*C91)), NA()), NA()), NA())","v":{"$error":"#N/A"}},0.89,{"$f":" IF(Foglio1!$F$11 <> \"\", IF(Foglio1!$C$11 <> \"\", IF(Foglio1!$I$11 <> \"\", (E91*Foglio1!$C$11) / (Foglio1!$F$11 + (Foglio1!$I$11*E91)), NA()), NA()), NA())","v":{"$error":"#N/A"}},0.89,{"$f":" IF(Foglio1!$F$12 <> \"\", IF(Foglio1!$C$12 <> \"\", IF(Foglio1!$I$12 <> \"\", (G91*Foglio1!$C$12) / (Foglio1!$F$12 + (Foglio1!$I$12*G91)), NA()), NA()), NA())","v":{"$error":"#N/A"}},0.89,{"$f":" IF(Foglio1!$F$13 <> \"\", IF(Foglio1!$C$13 <> \"\", IF(Foglio1!$I$13 <> \"\", (I91*Foglio1!$C$13) / (Foglio1!$F$13 + (Foglio1!$I$13*I91)), NA()), NA()), NA())","v":{"$error":"#N/A"}}]
[0.9,{"$f":" IF(Foglio1!$F$9 <> \"\", IF(Foglio1!$C$9 <> \"\", IF(Foglio1!$I$9 <> \"\", (A92*Foglio1!$C$9) / (Foglio1!$F$9 + (Foglio1!$I$9*A92)), NA()), NA()), NA())","v":{"$error":"#N/A"}},0.9,{"$f":" IF(Foglio1!$F$10 <> \"\", IF(Foglio1!$C$10 <> \"\", IF(Foglio1!$I$10 <> \"\", (C92*Foglio1!$C$10) / (Foglio1!$F$10 + (Foglio1!$I$10*C92)), NA()), NA()), NA())","v":{"$error":"#N/A"}},0.9,{"$f":" IF(Foglio1!$F$11 <> \"\", IF(Foglio1!$C$11 <> \"\", IF(Foglio1!$I$11 <> \"\", (E92*Foglio1!$C$11) / (Foglio1!$F$11 + (Foglio1!$I$11*E92)), NA()), NA()), NA())","v":{"$error":"#N/A"}},0.9,{"$f":" IF(Foglio1!$F$12 <> \"\", IF(Foglio1!$C$12 <> \"\", IF(Foglio1!$I$12 <> \"\", (G92*Foglio1!$C$12) / (Foglio1!$F$12 + (Foglio1!$I$12*G92)), NA()), NA()), NA())","v":{"$error":"#N/A"}},0.9,{"$f":" IF(Foglio1!$F$13 <> \"\", IF(Foglio1!$C$13 <> \"\", IF(Foglio1!$I$13 <> \"\", (I92*Foglio1!$C$13) / (Foglio1!$F$13 + (Foglio1!$I$13*I92)), NA()), NA()), NA())","v":{"$error":"#N/A"}}]
[0.91,{"$f":" IF(Foglio1!$F$9 <> \"\", IF(Foglio1!$C$9 <> \"\", IF(Foglio1!$I$9 <> \"\", (A93*Foglio1!$C$9) / (Foglio1!$F$9 + (Foglio1!$I$9*A93)), NA()), NA()), NA())","v":{"$error":"#N/A"}},0.91,{"$f":" IF(Foglio1!$F$10 <> \"\", IF(Foglio1!$C$10 <> \"\", IF(Foglio1!$I$10 <> \"\", (C93*Foglio1!$C$10) / (Foglio1!$F$10 + (Foglio1!$I$10*C93)), NA()), NA()), NA())","v":{"$error":"#N/A"}},0.91,{"$f":" IF(Foglio1!$F$11 <> \"\", IF(Foglio1!$C$11 <> \"\", IF(Foglio1!$I$11 <> \"\", (E93*Foglio1!$C$11) / (Foglio1!$F$11 + (Foglio1!$I$11*E93)), NA()), NA()), NA())","v":{"$error":"#N/A"}},0.91,{"$f":" IF(Foglio1!$F$12 <> \"\", IF(Foglio1!$C$12 <> \"\", IF(Foglio1!$I$12 <> \"\", (G93*Foglio1!$C$12) / (Foglio1!$F$12 + (Foglio1!$I$12*G93)), NA()), NA()), NA())","v":{"$error":"#N/A"}},0.91,{"$f":" IF(Foglio1!$F$13 <> \"\", IF(Foglio1!$C$13 <> \"\", IF(Foglio1!$I$13 <> \"\", (I93*Foglio1!$C$13) / (Foglio1!$F$13 + (Foglio1!$I$13*I93)), NA()), NA()), NA())","v":{"$error":"#N/A"}}]
[0.92,{"$f":" IF(Foglio1!$F$9 <> \"\", IF(Foglio1!$C$9 <> \"\", IF(Foglio1!$I$9 <> \"\", (A94*Foglio1!$C$9) / (Foglio1!$F$9 + (Foglio1!$I$9*A94)), NA()), NA()), NA())","v":{"$error":"#N/A"}},0.92,{"$f":" IF(Foglio1!$F$10 <> \"\", IF(Foglio1!$C$10 <> \"\", IF(Foglio1!$I$10 <> \"\", (C94*Foglio1!$C$10) / (Foglio1!$F$10 + (Foglio1!$I$10*C94)), NA()), NA()), NA())","v":{"$error":"#N/A"}},0.92,{"$f":" IF(Foglio1!$F$11 <> \"\", IF(Foglio1!$C$11 <> \"\", IF(Foglio1!$I$11 <> \"\", (E94*Foglio1!$C$11) / (Foglio1!$F$11 + (Foglio1!$I$11*E94)), NA()), NA()), NA())","v":{"$error":"#N/A"}},0.92,{"$f":" IF(Foglio1!$F$12 <> \"\", IF(Foglio1!$C$12 <> \"\", IF(Foglio1!$I$12 <> \"\", (G94*Foglio1!$C$12) / (Foglio1!$F$12 + (Foglio1!$I$12*G94)), NA()), NA()), NA())","v":{"$error":"#N/A"}},0.92,{"$f":" IF(Foglio1!$F$13 <> \"\", IF(Foglio1!$C$13 <> \"\", IF(Foglio1!$I$13 <> \"\", (I94*Foglio1!$C$13) / (Foglio1!$F$13 + (Foglio1!$I$13*I94)), NA()), NA()), NA())","v":{"$error":"#N/A"}}]
[0.93,{"$f":" IF(Foglio1!$F$9 <> \"\", IF(Foglio1!$C$9 <> \"\", IF(Foglio1!$I$9 <> \"\", (A95*Foglio1!$C$9) / (Foglio1!$F$9 + (Foglio1!$I$9*A95)), NA()), NA()), NA())","v":{"$error":"#N/A"}},0.93,{"$f":" IF(Foglio1!$F$10 <> \"\", IF(Foglio1!$C$10 <> \"\", IF(Foglio1!$I$10 <> \"\", (C95*Foglio1!$C$10) / (Foglio1!$F$10 + (Foglio1!$I$10*C95)), NA()), NA()), NA())","v":{"$error":"#N/A"}},0.93,{"$f":" IF(Foglio1!$F$11 <> \"\", IF(Foglio1!$C$11 <> \"\", IF(Foglio1!$I$11 <> \"\", (E95*Foglio1!$C$11) / (Foglio1!$F$11 + (Foglio1!$I$11*E95)), NA()), NA()), NA())","v":{"$error":"#N/A"}},0.93,{"$f":" IF(Foglio1!$F$12 <> \"\", IF(Foglio1!$C$12 <> \"\", IF(Foglio1!$I$12 <> \"\", (G95*Foglio1!$C$12) / (Foglio1!$F$12 + (Foglio1!$I$12*G95)), NA()), NA()), NA())","v":{"$error":"#N/A"}},0.93,{"$f":" IF(Foglio1!$F$13 <> \"\", IF(Foglio1!$C$13 <> \"\", IF(Foglio1!$I$13 <> \"\", (I95*Foglio1!$C$13) / (Foglio1!$F$13 + (Foglio1!$I$13*I95)), NA()), NA()), NA())","v":{"$error":"#N/A"}}]
[0.94,{"$f":" IF(Foglio1!$F$9 <> \"\", IF(Foglio1!$C$9 <> \"\", IF(Foglio1!$I$9 <> \"\", (A96*Foglio1!$C$9) / (Foglio1!$F$9 + (Foglio1!$I$9*A96)), NA()), NA()), NA())","v":{"$error":"#N/A"}},0.94,{"$f":" IF(Foglio1!$F$10 <> \"\", IF(Foglio1!$C$10 <> \"\", IF(Foglio1!$I$10 <> \"\", (C96*Foglio1!$C$10) / (Foglio1!$F$10 + (Foglio1!$I$10*C96)), NA()), NA()), NA())","v":{"$error":"#N/A"}},0.94,{"$f":" IF(Foglio1!$F$11 <> \"\", IF(Foglio1!$C$11 <> \"\", IF(Foglio1!$I$11 <> \"\", (E96*Foglio1!$C$11) / (Foglio1!$F$11 + (Foglio1!$I$11*E96)), NA()), NA()), NA())","v":{"$error":"#N/A"}},0.94,{"$f":" IF(Foglio1!$F$12 <> \"\", IF(Foglio1!$C$12 <> \"\", IF(Foglio1!$I$12 <> \"\", (G96*Foglio1!$C$12) / (Foglio1!$F$12 + (Foglio1!$I$12*G96)), NA()), NA()), NA())","v":{"$error":"#N/A"}},0.94,{"$f":" IF(Foglio1!$F$13 <> \"\", IF(Foglio1!$C$13 <> \"\", IF(Foglio1!$I$13 <> \"\", (I96*Foglio1!$C$13) / (Foglio1!$F$13 + (Foglio1!$I$13*I96)), NA()), NA()), NA())","v":{"$error":"#N/A"}}]
[0.95,{"$f":" IF(Foglio1!$F$9 <> \"\", IF(Foglio1!$C$9 <> \"\", IF(Foglio1!$I$9 <> \"\", (A97*Foglio1!$C$9) / (Foglio1!$F$9 + (Foglio1!$I$9*A97)), NA()), NA()), NA())","v":{"$error":"#N/A"}},0.95,{"$f":" IF(Foglio1!$F$10 <> \"\", IF(Foglio1!$C$10 <> \"\", IF(Foglio1!$I$10 <> \"\", (C97*Foglio1!$C$10) / (Foglio1!$F$10 + (Foglio1!$I$10*C97)), NA()), NA()), NA())","v":{"$error":"#N/A"}},0.95,{"$f":" IF(Foglio1!$F$11 <> \"\", IF(Foglio1!$C$11 <> \"\", IF(Foglio1!$I$11 <> \"\", (E97*Foglio1!$C$11) / (Foglio1!$F$11 + (Foglio1!$I$11*E97)), NA()), NA()), NA())","v":{"$error":"#N/A"}},0.95,{"$f":" IF(Foglio1!$F$12 <> \"\", IF(Foglio1!$C$12 <> \"\", IF(Foglio1!$I$12 <> \"\", (G97*Foglio1!$C$12) / (Foglio1!$F$12 + (Foglio1!$I$12*G97)), NA()), NA()), NA())","v":{"$error":"#N/A"}},0.95,{"$f":" IF(Foglio1!$F$13 <> \"\", IF(Foglio1!$C$13 <> \"\", IF(Foglio1!$I$13 <> \"\", (I97*Foglio1!$C$13) / (Foglio1!$F$13 + (Foglio1!$I$13*I97)), NA()), NA()), NA())","v":{"$error":"#N/A"}}]
[0.96,{"$f":" IF(Foglio1!$F$9 <> \"\", IF(Foglio1!$C$9 <> \"\", IF(Foglio1!$I$9 <> \"\", (A98*Foglio1!$C$9) / (Foglio1!$F$9 + (Foglio1!$I$9*A98)), NA()), NA()), NA())","v":{"$error":"#N/A"}},0.96,{"$f":" IF(Foglio1!$F$10 <> \"\", IF(Foglio1!$C$10 <> \"\", IF(Foglio1!$I$10 <> \"\", (C98*Foglio1!$C$10) / (Foglio1!$F$10 + (Foglio1!$I$10*C98)), NA()), NA()), NA())","v":{"$error":"#N/A"}},0.96,{"$f":" IF(Foglio1!$F$11 <> \"\", IF(Foglio1!$C$11 <> \"\", IF(Foglio1!$I$11 <> \"\", (E98*Foglio1!$C$11) / (Foglio1!$F$11 + (Foglio1!$I$11*E98)), NA()), NA()), NA())","v":{"$error":"#N/A"}},0.96,{"$f":" IF(Foglio1!$F$12 <> \"\", IF(Foglio1!$C$12 <> \"\", IF(Foglio1!$I$12 <> \"\", (G98*Foglio1!$C$12) / (Foglio1!$F$12 + (Foglio1!$I$12*G98)), NA()), NA()), NA())","v":{"$error":"#N/A"}},0.96,{"$f":" IF(Foglio1!$F$13 <> \"\", IF(Foglio1!$C$13 <> \"\", IF(Foglio1!$I$13 <> \"\", (I98*Foglio1!$C$13) / (Foglio1!$F$13 + (Foglio1!$I$13*I98)), NA()), NA()), NA())","v":{"$error":"#N/A"}}]
[0.97,{"$f":" IF(Foglio1!$F$9 <> \"\", IF(Foglio1!$C$9 <> \"\", IF(Foglio1!$I$9 <> \"\", (A99*Foglio1!$C$9) / (Foglio1!$F$9 + (Foglio1!$I$9*A99)), NA()), NA()), NA())","v":{"$error":"#N/A"}},0.97,{"$f":" IF(Foglio1!$F$10 <> \"\", IF(Foglio1!$C$10 <> \"\", IF(Foglio1!$I$10 <> \"\", (C99*Foglio1!$C$10) / (Foglio1!$F$10 + (Foglio1!$I$10*C99)), NA()), NA()), NA())","v":{"$error":"#N/A"}},0.97,{"$f":" IF(Foglio1!$F$11 <> \"\", IF(Foglio1!$C$11 <> \"\", IF(Foglio1!$I$11 <> \"\", (E99*Foglio1!$C$11) / (Foglio1!$F$11 + (Foglio1!$I$11*E99)), NA()), NA()), NA())","v":{"$error":"#N/A"}},0.97,{"$f":" IF(Foglio1!$F$12 <> \"\", IF(Foglio1!$C$12 <> \"\", IF(Foglio1!$I$12 <> \"\", (G99*Foglio1!$C$12) / (Foglio1!$F$12 + (Foglio1!$I$12*G99)), NA()), NA()), NA())","v":{"$error":"#N/A"}},0.97,{"$f":" IF(Foglio1!$F$13 <> \"\", IF(Foglio1!$C$13 <> \"\", IF(Foglio1!$I$13 <> \"\", (I99*Foglio1!$C$13) / (Foglio1!$F$13 + (Foglio1!$I$13*I99)), NA()), NA()), NA())","v":{"$error":"#N/A"}}]
[0.98,{"$f":" IF(Foglio1!$F$9 <> \"\", IF(Foglio1!$C$9 <> \"\", IF(Foglio1!$I$9 <> \"\", (A100*Foglio1!$C$9) / (Foglio1!$F$9 + (Foglio1!$I$9*A100)), NA()), NA()), NA())","v":{"$error":"#N/A"}},0.98,{"$f":" IF(Foglio1!$F$10 <> \"\", IF(Foglio1!$C$10 <> \"\", IF(Foglio1!$I$10 <> \"\", (C100*Foglio1!$C$10) / (Foglio1!$F$10 + (Foglio1!$I$10*C100)), NA()), NA()), NA())","v":{"$error":"#N/A"}},0.98,{"$f":" IF(Foglio1!$F$11 <> \"\", IF(Foglio1!$C$11 <> \"\", IF(Foglio1!$I$11 <> \"\", (E100*Foglio1!$C$11) / (Foglio1!$F$11 + (Foglio1!$I$11*E100)), NA()), NA()), NA())","v":{"$error":"#N/A"}},0.98,{"$f":" IF(Foglio1!$F$12 <> \"\", IF(Foglio1!$C$12 <> \"\", IF(Foglio1!$I$12 <> \"\", (G100*Foglio1!$C$12) / (Foglio1!$F$12 + (Foglio1!$I$12*G100)), NA()), NA()), NA())","v":{"$error":"#N/A"}},0.98,{"$f":" IF(Foglio1!$F$13 <> \"\", IF(Foglio1!$C$13 <> \"\", IF(Foglio1!$I$13 <> \"\", (I100*Foglio1!$C$13) / (Foglio1!$F$13 + (Foglio1!$I$13*I100)), NA()), NA()), NA())","v":{"$error":"#N/A"}}]
[0.99,{"$f":" IF(Foglio1!$F$9 <> \"\", IF(Foglio1!$C$9 <> \"\", IF(Foglio1!$I$9 <> \"\", (A101*Foglio1!$C$9) / (Foglio1!$F$9 + (Foglio1!$I$9*A101)), NA()), NA()), NA())","v":{"$error":"#N/A"}},0.99,{"$f":" IF(Foglio1!$F$10 <> \"\", IF(Foglio1!$C$10 <> \"\", IF(Foglio1!$I$10 <> \"\", (C101*Foglio1!$C$10) / (Foglio1!$F$10 + (Foglio1!$I$10*C101)), NA()), NA()), NA())","v":{"$error":"#N/A"}},0.99,{"$f":" IF(Foglio1!$F$11 <> \"\", IF(Foglio1!$C$11 <> \"\", IF(Foglio1!$I$11 <> \"\", (E101*Foglio1!$C$11) / (Foglio1!$F$11 + (Foglio1!$I$11*E101)), NA()), NA()), NA())","v":{"$error":"#N/A"}},0.99,{"$f":" IF(Foglio1!$F$12 <> \"\", IF(Foglio1!$C$12 <> \"\", IF(Foglio1!$I$12 <> \"\", (G101*Foglio1!$C$12) / (Foglio1!$F$12 + (Foglio1!$I$12*G101)), NA()), NA()), NA())","v":{"$error":"#N/A"}},0.99,{"$f":" IF(Foglio1!$F$13 <> \"\", IF(Foglio1!$C$13 <> \"\", IF(Foglio1!$I$13 <> \"\", (I101*Foglio1!$C$13) / (Foglio1!$F$13 + (Foglio1!$I$13*I101)), NA()), NA()), NA())","v":{"$error":"#N/A"}}]
[1,{"$f":" IF(Foglio1!$F$9 <> \"\", IF(Foglio1!$C$9 <> \"\", IF(Foglio1!$I$9 <> \"\", (A102*Foglio1!$C$9) / (Foglio1!$F$9 + (Foglio1!$I$9*A102)), NA()), NA()), NA())","v":{"$error":"#N/A"}},1,{"$f":" IF(Foglio1!$F$10 <> \"\", IF(Foglio1!$C$10 <> \"\", IF(Foglio1!$I$10 <> \"\", (C102*Foglio1!$C$10) / (Foglio1!$F$10 + (Foglio1!$I$10*C102)), NA()), NA()), NA())","v":{"$error":"#N/A"}},1,{"$f":" IF(Foglio1!$F$11 <> \"\", IF(Foglio1!$C$11 <> \"\", IF(Foglio1!$I$11 <> \"\", (E102*Foglio1!$C$11) / (Foglio1!$F$11 + (Foglio1!$I$11*E102)), NA()), NA()), NA())","v":{"$error":"#N/A"}},1,{"$f":" IF(Foglio1!$F$12 <> \"\", IF(Foglio1!$C$12 <> \"\", IF(Foglio1!$I$12 <> \"\", (G102*Foglio1!$C$12) / (Foglio1!$F$12 + (Foglio1!$I$12*G102)), NA()), NA()), NA())","v":{"$error":"#N/A"}},1,{"$f":" IF(Foglio1!$F$13 <> \"\", IF(Foglio1!$C$13 <> \"\", IF(Foglio1!$I$13 <> \"\", (I102*Foglio1!$C$13) / (Foglio1!$F$13 + (Foglio1!$I$13*I102)), NA()), NA()), NA())","v":{"$error":"#N/A"}}]