{"text_format":"1","workbook":"xlsx","n_sheets":2,"sheets":["Foglio1","Foglio2"],"not_rendered":{"charts":1,"images":1,"macros":1,"external_links":0,"defined_names":0,"comments":0,"pivot_tables":0},"unopened":[],"bounds":{"document_bytes":16777216,"sheet_cells":100000,"rows_first":2000,"rows_last":500,"rows_between":2000,"halvings":0,"cell_chars":16384,"cell_head_chars":4096},"cells_cut":0,"cells_raw":0,"read":"whole","date_system":"1900"}

{"sheet":"Foglio1","index":0,"n_rows":15,"n_cols":18,"rows_kept":15,"cut":false,"hidden":false,"merged":[[7,12,8,14],[3,0,3,22],[5,0,5,22]]}
[]
["La variazione di energia libera"]
[]
["La variazione dell’energia libera dovuta alla reazione  A + B →  C + D può essere espressa in termini di una costante caratteristica per quella reazione (la variazione di energia libera nello stato standard biochimico, ∆G'°) e le concentrazioni dei reagenti e dei prodotti (il rapporto di azione di massa Q = [C][D]/[A][B])."]
[]
["Per la reazione catalizzata dall’esochinasi ATP + glucosio  →  glucosio-6-fosfato + ADP la variazione di energia libera standard ∆G'° è pari a –16,7 kJ/mol.\nUtilizzate questo foglio di calcolo per visualizzare il grafico della ∆G rispetto al rapporto di azione di massa Q = [C][D]/[A][B], per valori di Q compresi tra 10-4 e 104. Cosa potete concludere sull’effetto di Q sulla grandezza di ∆G? E sull’effetto di Q sul segno della ∆G?\nPotete modificare il dominio della funzione (cioè il rapporto [C][D]/[A][B]) inserendo i valori nelle caselle in alto e cliccando sul tasto Cambia l’asse X. Per visualizzare correttamente il grafico, scegliete valori compresi tra 0,001 e 10.000.\n"]
[]
[null,null,null,null,null,null,null,null,null,null,null,null,"[C][D]/[A][B] =  da"]
[null,null,null,null,null,null,null,null,null,null,null,null,null,null,null,1E-3,"a",10000]
[]
["T1","=",300,"K",null,"∆G'°1","=",-90,"kJ/mol"]
["T2","=",null,"K",null,"∆G'°2","=",null,"kJ/mol"]
["T3","=",null,"K",null,"∆G'°3","=",null,"kJ/mol"]
["T4","=",null,"K",null,"∆G'°4","=",null,"kJ/mol"]
["T5","=",null,"K",null,"∆G'°5","=",null,"kJ/mol"]

{"sheet":"Foglio2","index":1,"n_rows":1119,"n_cols":20,"rows_kept":1119,"cut":false,"hidden":true,"merged":[]}
["C2/C1","LN","RTLN(C2/C1)","∆G° + RTLN(C2/C1)","C2/C1","LN","RTLN(C2/C1)","∆G° + RTLN(C2/C1)","C2/C1","LN","RTLN(C2/C1)","∆G° + RTLN(C2/C1)","C2/C1","LN","RTLN(C2/C1)","∆G° + RTLN(C2/C1)","C2/C1","LN","RTLN(C2/C1)","∆G° + RTLN(C2/C1)"]
[1E-4,{"$f":"LN(A2)","v":-9.2103403719761818},{"$f":" IF(Foglio1!$C$11 <> \"\", 8.314472*Foglio1!$C$11*Foglio2!B2, NA())","v":-22973.735139979668},{"$f":"IF(Foglio1!$H$11 <> \"\", Foglio1!$H$11 + C2*10^-3, NA())","v":-112.97373513997967},1E-4,{"$f":"LN(E2)","v":-9.2103403719761818},{"$f":" IF(Foglio1!$C$12 <> \"\", 8.314472*Foglio1!$C$12*Foglio2!F2, NA())","v":{"$error":"#N/A"}},{"$f":"IF(Foglio1!$H$12 <> \"\", Foglio1!$H$12 + G2*10^-3, NA())","v":{"$error":"#N/A"}},1E-4,{"$f":"LN(I2)","v":-9.2103403719761818},{"$f":" IF(Foglio1!$C$13 <> \"\", 8.314472*Foglio1!$C$13*Foglio2!J2, NA())","v":{"$error":"#N/A"}},{"$f":"IF(Foglio1!$H$13 <> \"\", Foglio1!$H$13 + K2*10^-3, NA())","v":{"$error":"#N/A"}},1E-4,{"$f":"LN(M2)","v":-9.2103403719761818},{"$f":" IF(Foglio1!$C$14 <> \"\", 8.314472*Foglio1!$C$14*Foglio2!N2, NA())","v":{"$error":"#N/A"}},{"$f":"IF(Foglio1!$H$14 <> \"\", Foglio1!$H$14 + O2*10^-3, NA())","v":{"$error":"#N/A"}},1E-4,{"$f":"LN(Q2)","v":-9.2103403719761818},{"$f":" IF(Foglio1!$C$15 <> \"\", 8.314472*Foglio1!$C$15*Foglio2!R2, NA())","v":{"$error":"#N/A"}},{"$f":"IF(Foglio1!$H$15 <> \"\", Foglio1!$H$15 + S2*10^-3, NA())","v":{"$error":"#N/A"}}]
[1E-3,{"$f":"LN(A3)","v":-6.9077552789821368},{"$f":" IF(Foglio1!$C$11 <> \"\", 8.314472*Foglio1!$C$11*Foglio2!B3, NA())","v":-17230.301354984749},{"$f":"IF(Foglio1!$H$11 <> \"\", Foglio1!$H$11 + C3*10^-3, NA())","v":-107.23030135498475},1E-3,{"$f":"LN(E3)","v":-6.9077552789821368},{"$f":" IF(Foglio1!$C$12 <> \"\", 8.314472*Foglio1!$C$12*Foglio2!F3, NA())","v":{"$error":"#N/A"}},{"$f":"IF(Foglio1!$H$12 <> \"\", Foglio1!$H$12 + G3*10^-3, NA())","v":{"$error":"#N/A"}},1E-3,{"$f":"LN(I3)","v":-6.9077552789821368},{"$f":" IF(Foglio1!$C$13 <> \"\", 8.314472*Foglio1!$C$13*Foglio2!J3, NA())","v":{"$error":"#N/A"}},{"$f":"IF(Foglio1!$H$13 <> \"\", Foglio1!$H$13 + K3*10^-3, NA())","v":{"$error":"#N/A"}},1E-3,{"$f":"LN(M3)","v":-6.9077552789821368},{"$f":" IF(Foglio1!$C$14 <> \"\", 8.314472*Foglio1!$C$14*Foglio2!N3, NA())","v":{"$error":"#N/A"}},{"$f":"IF(Foglio1!$H$14 <> \"\", Foglio1!$H$14 + O3*10^-3, NA())","v":{"$error":"#N/A"}},1E-3,{"$f":"LN(Q3)","v":-6.9077552789821368},{"$f":" IF(Foglio1!$C$15 <> \"\", 8.314472*Foglio1!$C$15*Foglio2!R3, NA())","v":{"$error":"#N/A"}},{"$f":"IF(Foglio1!$H$15 <> \"\", Foglio1!$H$15 + S3*10^-3, NA())","v":{"$error":"#N/A"}}]
[0.01,-4.6051701859880909,{"$f":" IF(Foglio1!$C$11 <> \"\", 8.314472*Foglio1!$C$11*Foglio2!B4, NA())","v":-11486.867569989834},{"$f":"IF(Foglio1!$H$11 <> \"\", Foglio1!$H$11 + C4*10^-3, NA())","v":-101.48686756998984},0.01,-4.6051701859880909,{"$f":" IF(Foglio1!$C$12 <> \"\", 8.314472*Foglio1!$C$12*Foglio2!F4, NA())","v":{"$error":"#N/A"}},{"$f":"IF(Foglio1!$H$12 <> \"\", Foglio1!$H$12 + G4*10^-3, NA())","v":{"$error":"#N/A"}},0.01,-4.6051701859880909,{"$f":" IF(Foglio1!$C$13 <> \"\", 8.314472*Foglio1!$C$13*Foglio2!J4, NA())","v":{"$error":"#N/A"}},{"$f":"IF(Foglio1!$H$13 <> \"\", Foglio1!$H$13 + K4*10^-3, NA())","v":{"$error":"#N/A"}},0.01,-4.6051701859880909,{"$f":" IF(Foglio1!$C$14 <> \"\", 8.314472*Foglio1!$C$14*Foglio2!N4, NA())","v":{"$error":"#N/A"}},{"$f":"IF(Foglio1!$H$14 <> \"\", Foglio1!$H$14 + O4*10^-3, NA())","v":{"$error":"#N/A"}},0.01,-4.6051701859880909,{"$f":" IF(Foglio1!$C$15 <> \"\", 8.314472*Foglio1!$C$15*Foglio2!R4, NA())","v":{"$error":"#N/A"}},{"$f":"IF(Foglio1!$H$15 <> \"\", Foglio1!$H$15 + S4*10^-3, NA())","v":{"$error":"#N/A"}}]
[0.1,-2.3025850929940455,{"$f":" IF(Foglio1!$C$11 <> \"\", 8.314472*Foglio1!$C$11*Foglio2!B5, NA())","v":-5743.433784994917},{"$f":"IF(Foglio1!$H$11 <> \"\", Foglio1!$H$11 + C5*10^-3, NA())","v":-95.74343378499492},0.1,-2.3025850929940455,{"$f":" IF(Foglio1!$C$12 <> \"\", 8.314472*Foglio1!$C$12*Foglio2!F5, NA())","v":{"$error":"#N/A"}},{"$f":"IF(Foglio1!$H$12 <> \"\", Foglio1!$H$12 + G5*10^-3, NA())","v":{"$error":"#N/A"}},0.1,-2.3025850929940455,{"$f":" IF(Foglio1!$C$13 <> \"\", 8.314472*Foglio1!$C$13*Foglio2!J5, NA())","v":{"$error":"#N/A"}},{"$f":"IF(Foglio1!$H$13 <> \"\", Foglio1!$H$13 + K5*10^-3, NA())","v":{"$error":"#N/A"}},0.1,-2.3025850929940455,{"$f":" IF(Foglio1!$C$14 <> \"\", 8.314472*Foglio1!$C$14*Foglio2!N5, NA())","v":{"$error":"#N/A"}},{"$f":"IF(Foglio1!$H$14 <> \"\", Foglio1!$H$14 + O5*10^-3, NA())","v":{"$error":"#N/A"}},0.1,-2.3025850929940455,{"$f":" IF(Foglio1!$C$15 <> \"\", 8.314472*Foglio1!$C$15*Foglio2!R5, NA())","v":{"$error":"#N/A"}},{"$f":"IF(Foglio1!$H$15 <> \"\", Foglio1!$H$15 + S5*10^-3, NA())","v":{"$error":"#N/A"}}]
[1,0,{"$f":" IF(Foglio1!$C$11 <> \"\", 8.314472*Foglio1!$C$11*Foglio2!B6, NA())","v":0},{"$f":"IF(Foglio1!$H$11 <> \"\", Foglio1!$H$11 + C6*10^-3, NA())","v":-90},1,0,{"$f":" IF(Foglio1!$C$12 <> \"\", 8.314472*Foglio1!$C$12*Foglio2!F6, NA())","v":{"$error":"#N/A"}},{"$f":"IF(Foglio1!$H$12 <> \"\", Foglio1!$H$12 + G6*10^-3, NA())","v":{"$error":"#N/A"}},1,0,{"$f":" IF(Foglio1!$C$13 <> \"\", 8.314472*Foglio1!$C$13*Foglio2!J6, NA())","v":{"$error":"#N/A"}},{"$f":"IF(Foglio1!$H$13 <> \"\", Foglio1!$H$13 + K6*10^-3, NA())","v":{"$error":"#N/A"}},1,0,{"$f":" IF(Foglio1!$C$14 <> \"\", 8.314472*Foglio1!$C$14*Foglio2!N6, NA())","v":{"$error":"#N/A"}},{"$f":"IF(Foglio1!$H$14 <> \"\", Foglio1!$H$14 + O6*10^-3, NA())","v":{"$error":"#N/A"}},1,0,{"$f":" IF(Foglio1!$C$15 <> \"\", 8.314472*Foglio1!$C$15*Foglio2!R6, NA())","v":{"$error":"#N/A"}},{"$f":"IF(Foglio1!$H$15 <> \"\", Foglio1!$H$15 + S6*10^-3, NA())","v":{"$error":"#N/A"}}]
[10,2.3025850929940459,{"$f":" IF(Foglio1!$C$11 <> \"\", 8.314472*Foglio1!$C$11*Foglio2!B7, NA())","v":5743.4337849949179},{"$f":"IF(Foglio1!$H$11 <> \"\", Foglio1!$H$11 + C7*10^-3, NA())","v":-84.25656621500508},10,2.3025850929940459,{"$f":" IF(Foglio1!$C$12 <> \"\", 8.314472*Foglio1!$C$12*Foglio2!F7, NA())","v":{"$error":"#N/A"}},{"$f":"IF(Foglio1!$H$12 <> \"\", Foglio1!$H$12 + G7*10^-3, NA())","v":{"$error":"#N/A"}},10,2.3025850929940459,{"$f":" IF(Foglio1!$C$13 <> \"\", 8.314472*Foglio1!$C$13*Foglio2!J7, NA())","v":{"$error":"#N/A"}},{"$f":"IF(Foglio1!$H$13 <> \"\", Foglio1!$H$13 + K7*10^-3, NA())","v":{"$error":"#N/A"}},10,2.3025850929940459,{"$f":" IF(Foglio1!$C$14 <> \"\", 8.314472*Foglio1!$C$14*Foglio2!N7, NA())","v":{"$error":"#N/A"}},{"$f":"IF(Foglio1!$H$14 <> \"\", Foglio1!$H$14 + O7*10^-3, NA())","v":{"$error":"#N/A"}},10,2.3025850929940459,{"$f":" IF(Foglio1!$C$15 <> \"\", 8.314472*Foglio1!$C$15*Foglio2!R7, NA())","v":{"$error":"#N/A"}},{"$f":"IF(Foglio1!$H$15 <> \"\", Foglio1!$H$15 + S7*10^-3, NA())","v":{"$error":"#N/A"}}]
[19,2.9444389791664403,{"$f":" IF(Foglio1!$C$11 <> \"\", 8.314472*Foglio1!$C$11*Foglio2!B8, NA())","v":7344.4366343963857},{"$f":"IF(Foglio1!$H$11 <> \"\", Foglio1!$H$11 + C8*10^-3, NA())","v":-82.655563365603612},19,2.9444389791664403,{"$f":" IF(Foglio1!$C$12 <> \"\", 8.314472*Foglio1!$C$12*Foglio2!F8, NA())","v":{"$error":"#N/A"}},{"$f":"IF(Foglio1!$H$12 <> \"\", Foglio1!$H$12 + G8*10^-3, NA())","v":{"$error":"#N/A"}},19,2.9444389791664403,{"$f":" IF(Foglio1!$C$13 <> \"\", 8.314472*Foglio1!$C$13*Foglio2!J8, NA())","v":{"$error":"#N/A"}},{"$f":"IF(Foglio1!$H$13 <> \"\", Foglio1!$H$13 + K8*10^-3, NA())","v":{"$error":"#N/A"}},19,2.9444389791664403,{"$f":" IF(Foglio1!$C$14 <> \"\", 8.314472*Foglio1!$C$14*Foglio2!N8, NA())","v":{"$error":"#N/A"}},{"$f":"IF(Foglio1!$H$14 <> \"\", Foglio1!$H$14 + O8*10^-3, NA())","v":{"$error":"#N/A"}},19,2.9444389791664403,{"$f":" IF(Foglio1!$C$15 <> \"\", 8.314472*Foglio1!$C$15*Foglio2!R8, NA())","v":{"$error":"#N/A"}},{"$f":"IF(Foglio1!$H$15 <> \"\", Foglio1!$H$15 + S8*10^-3, NA())","v":{"$error":"#N/A"}}]
[28,3.3322045101752038,{"$f":" IF(Foglio1!$C$11 <> \"\", 8.314472*Foglio1!$C$11*Foglio2!B9, NA())","v":8311.6563294376356},{"$f":"IF(Foglio1!$H$11 <> \"\", Foglio1!$H$11 + C9*10^-3, NA())","v":-81.688343670562361},28,3.3322045101752038,{"$f":" IF(Foglio1!$C$12 <> \"\", 8.314472*Foglio1!$C$12*Foglio2!F9, NA())","v":{"$error":"#N/A"}},{"$f":"IF(Foglio1!$H$12 <> \"\", Foglio1!$H$12 + G9*10^-3, NA())","v":{"$error":"#N/A"}},28,3.3322045101752038,{"$f":" IF(Foglio1!$C$13 <> \"\", 8.314472*Foglio1!$C$13*Foglio2!J9, NA())","v":{"$error":"#N/A"}},{"$f":"IF(Foglio1!$H$13 <> \"\", Foglio1!$H$13 + K9*10^-3, NA())","v":{"$error":"#N/A"}},28,3.3322045101752038,{"$f":" IF(Foglio1!$C$14 <> \"\", 8.314472*Foglio1!$C$14*Foglio2!N9, NA())","v":{"$error":"#N/A"}},{"$f":"IF(Foglio1!$H$14 <> \"\", Foglio1!$H$14 + O9*10^-3, NA())","v":{"$error":"#N/A"}},28,3.3322045101752038,{"$f":" IF(Foglio1!$C$15 <> \"\", 8.314472*Foglio1!$C$15*Foglio2!R9, NA())","v":{"$error":"#N/A"}},{"$f":"IF(Foglio1!$H$15 <> \"\", Foglio1!$H$15 + S9*10^-3, NA())","v":{"$error":"#N/A"}}]
[37,3.6109179126442243,{"$f":" IF(Foglio1!$C$11 <> \"\", 8.314472*Foglio1!$C$11*Foglio2!B10, NA())","v":9006.8627636936562},{"$f":"IF(Foglio1!$H$11 <> \"\", Foglio1!$H$11 + C10*10^-3, NA())","v":-80.993137236306339},37,3.6109179126442243,{"$f":" IF(Foglio1!$C$12 <> \"\", 8.314472*Foglio1!$C$12*Foglio2!F10, NA())","v":{"$error":"#N/A"}},{"$f":"IF(Foglio1!$H$12 <> \"\", Foglio1!$H$12 + G10*10^-3, NA())","v":{"$error":"#N/A"}},37,3.6109179126442243,{"$f":" IF(Foglio1!$C$13 <> \"\", 8.314472*Foglio1!$C$13*Foglio2!J10, NA())","v":{"$error":"#N/A"}},{"$f":"IF(Foglio1!$H$13 <> \"\", Foglio1!$H$13 + K10*10^-3, NA())","v":{"$error":"#N/A"}},37,3.6109179126442243,{"$f":" IF(Foglio1!$C$14 <> \"\", 8.314472*Foglio1!$C$14*Foglio2!N10, NA())","v":{"$error":"#N/A"}},{"$f":"IF(Foglio1!$H$14 <> \"\", Foglio1!$H$14 + O10*10^-3, NA())","v":{"$error":"#N/A"}},37,3.6109179126442243,{"$f":" IF(Foglio1!$C$15 <> \"\", 8.314472*Foglio1!$C$15*Foglio2!R10, NA())","v":{"$error":"#N/A"}},{"$f":"IF(Foglio1!$H$15 <> \"\", Foglio1!$H$15 + S10*10^-3, NA())","v":{"$error":"#N/A"}}]
[46,3.8286413964890951,{"$f":" IF(Foglio1!$C$11 <> \"\", 8.314472*Foglio1!$C$11*Foglio2!B11, NA())","v":9549.939506744844},{"$f":"IF(Foglio1!$H$11 <> \"\", Foglio1!$H$11 + C11*10^-3, NA())","v":-80.450060493255151},46,3.8286413964890951,{"$f":" IF(Foglio1!$C$12 <> \"\", 8.314472*Foglio1!$C$12*Foglio2!F11, NA())","v":{"$error":"#N/A"}},{"$f":"IF(Foglio1!$H$12 <> \"\", Foglio1!$H$12 + G11*10^-3, NA())","v":{"$error":"#N/A"}},46,3.8286413964890951,{"$f":" IF(Foglio1!$C$13 <> \"\", 8.314472*Foglio1!$C$13*Foglio2!J11, NA())","v":{"$error":"#N/A"}},{"$f":"IF(Foglio1!$H$13 <> \"\", Foglio1!$H$13 + K11*10^-3, NA())","v":{"$error":"#N/A"}},46,3.8286413964890951,{"$f":" IF(Foglio1!$C$14 <> \"\", 8.314472*Foglio1!$C$14*Foglio2!N11, NA())","v":{"$error":"#N/A"}},{"$f":"IF(Foglio1!$H$14 <> \"\", Foglio1!$H$14 + O11*10^-3, NA())","v":{"$error":"#N/A"}},46,3.8286413964890951,{"$f":" IF(Foglio1!$C$15 <> \"\", 8.314472*Foglio1!$C$15*Foglio2!R11, NA())","v":{"$error":"#N/A"}},{"$f":"IF(Foglio1!$H$15 <> \"\", Foglio1!$H$15 + S11*10^-3, NA())","v":{"$error":"#N/A"}}]
[55,4.0073331852324712,{"$f":" IF(Foglio1!$C$11 <> \"\", 8.314472*Foglio1!$C$11*Foglio2!B12, NA())","v":9995.6578689858597},{"$f":"IF(Foglio1!$H$11 <> \"\", Foglio1!$H$11 + C12*10^-3, NA())","v":-80.004342131014141},55,4.0073331852324712,{"$f":" IF(Foglio1!$C$12 <> \"\", 8.314472*Foglio1!$C$12*Foglio2!F12, NA())","v":{"$error":"#N/A"}},{"$f":"IF(Foglio1!$H$12 <> \"\", Foglio1!$H$12 + G12*10^-3, NA())","v":{"$error":"#N/A"}},55,4.0073331852324712,{"$f":" IF(Foglio1!$C$13 <> \"\", 8.314472*Foglio1!$C$13*Foglio2!J12, NA())","v":{"$error":"#N/A"}},{"$f":"IF(Foglio1!$H$13 <> \"\", Foglio1!$H$13 + K12*10^-3, NA())","v":{"$error":"#N/A"}},55,4.0073331852324712,{"$f":" IF(Foglio1!$C$14 <> \"\", 8.314472*Foglio1!$C$14*Foglio2!N12, NA())","v":{"$error":"#N/A"}},{"$f":"IF(Foglio1!$H$14 <> \"\", Foglio1!$H$14 + O12*10^-3, NA())","v":{"$error":"#N/A"}},55,4.0073331852324712,{"$f":" IF(Foglio1!$C$15 <> \"\", 8.314472*Foglio1!$C$15*Foglio2!R12, NA())","v":{"$error":"#N/A"}},{"$f":"IF(Foglio1!$H$15 <> \"\", Foglio1!$H$15 + S12*10^-3, NA())","v":{"$error":"#N/A"}}]
[64,4.1588830833596715,{"$f":" IF(Foglio1!$C$11 <> \"\", 8.314472*Foglio1!$C$11*Foglio2!B13, NA())","v":10373.675084360297},{"$f":"IF(Foglio1!$H$11 <> \"\", Foglio1!$H$11 + C13*10^-3, NA())","v":-79.626324915639699},64,4.1588830833596715,{"$f":" IF(Foglio1!$C$12 <> \"\", 8.314472*Foglio1!$C$12*Foglio2!F13, NA())","v":{"$error":"#N/A"}},{"$f":"IF(Foglio1!$H$12 <> \"\", Foglio1!$H$12 + G13*10^-3, NA())","v":{"$error":"#N/A"}},64,4.1588830833596715,{"$f":" IF(Foglio1!$C$13 <> \"\", 8.314472*Foglio1!$C$13*Foglio2!J13, NA())","v":{"$error":"#N/A"}},{"$f":"IF(Foglio1!$H$13 <> \"\", Foglio1!$H$13 + K13*10^-3, NA())","v":{"$error":"#N/A"}},64,4.1588830833596715,{"$f":" IF(Foglio1!$C$14 <> \"\", 8.314472*Foglio1!$C$14*Foglio2!N13, NA())","v":{"$error":"#N/A"}},{"$f":"IF(Foglio1!$H$14 <> \"\", Foglio1!$H$14 + O13*10^-3, NA())","v":{"$error":"#N/A"}},64,4.1588830833596715,{"$f":" IF(Foglio1!$C$15 <> \"\", 8.314472*Foglio1!$C$15*Foglio2!R13, NA())","v":{"$error":"#N/A"}},{"$f":"IF(Foglio1!$H$15 <> \"\", Foglio1!$H$15 + S13*10^-3, NA())","v":{"$error":"#N/A"}}]
[73,4.290459441148391,{"$f":" IF(Foglio1!$C$11 <> \"\", 8.314472*Foglio1!$C$11*Foglio2!B14, NA())","v":10701.871467169185},{"$f":"IF(Foglio1!$H$11 <> \"\", Foglio1!$H$11 + C14*10^-3, NA())","v":-79.298128532830816},73,4.290459441148391,{"$f":" IF(Foglio1!$C$12 <> \"\", 8.314472*Foglio1!$C$12*Foglio2!F14, NA())","v":{"$error":"#N/A"}},{"$f":"IF(Foglio1!$H$12 <> \"\", Foglio1!$H$12 + G14*10^-3, NA())","v":{"$error":"#N/A"}},73,4.290459441148391,{"$f":" IF(Foglio1!$C$13 <> \"\", 8.314472*Foglio1!$C$13*Foglio2!J14, NA())","v":{"$error":"#N/A"}},{"$f":"IF(Foglio1!$H$13 <> \"\", Foglio1!$H$13 + K14*10^-3, NA())","v":{"$error":"#N/A"}},73,4.290459441148391,{"$f":" IF(Foglio1!$C$14 <> \"\", 8.314472*Foglio1!$C$14*Foglio2!N14, NA())","v":{"$error":"#N/A"}},{"$f":"IF(Foglio1!$H$14 <> \"\", Foglio1!$H$14 + O14*10^-3, NA())","v":{"$error":"#N/A"}},73,4.290459441148391,{"$f":" IF(Foglio1!$C$15 <> \"\", 8.314472*Foglio1!$C$15*Foglio2!R14, NA())","v":{"$error":"#N/A"}},{"$f":"IF(Foglio1!$H$15 <> \"\", Foglio1!$H$15 + S14*10^-3, NA())","v":{"$error":"#N/A"}}]
[82,4.4067192472642533,{"$f":" IF(Foglio1!$C$11 <> \"\", 8.314472*Foglio1!$C$11*Foglio2!B15, NA())","v":10991.863137971914},{"$f":"IF(Foglio1!$H$11 <> \"\", Foglio1!$H$11 + C15*10^-3, NA())","v":-79.008136862028081},82,4.4067192472642533,{"$f":" IF(Foglio1!$C$12 <> \"\", 8.314472*Foglio1!$C$12*Foglio2!F15, NA())","v":{"$error":"#N/A"}},{"$f":"IF(Foglio1!$H$12 <> \"\", Foglio1!$H$12 + G15*10^-3, NA())","v":{"$error":"#N/A"}},82,4.4067192472642533,{"$f":" IF(Foglio1!$C$13 <> \"\", 8.314472*Foglio1!$C$13*Foglio2!J15, NA())","v":{"$error":"#N/A"}},{"$f":"IF(Foglio1!$H$13 <> \"\", Foglio1!$H$13 + K15*10^-3, NA())","v":{"$error":"#N/A"}},82,4.4067192472642533,{"$f":" IF(Foglio1!$C$14 <> \"\", 8.314472*Foglio1!$C$14*Foglio2!N15, NA())","v":{"$error":"#N/A"}},{"$f":"IF(Foglio1!$H$14 <> \"\", Foglio1!$H$14 + O15*10^-3, NA())","v":{"$error":"#N/A"}},82,4.4067192472642533,{"$f":" IF(Foglio1!$C$15 <> \"\", 8.314472*Foglio1!$C$15*Foglio2!R15, NA())","v":{"$error":"#N/A"}},{"$f":"IF(Foglio1!$H$15 <> \"\", Foglio1!$H$15 + S15*10^-3, NA())","v":{"$error":"#N/A"}}]
[91,4.5108595065168497,{"$f":" IF(Foglio1!$C$11 <> \"\", 8.314472*Foglio1!$C$11*Foglio2!B16, NA())","v":11251.62451886045},{"$f":"IF(Foglio1!$H$11 <> \"\", Foglio1!$H$11 + C16*10^-3, NA())","v":-78.748375481139547},91,4.5108595065168497,{"$f":" IF(Foglio1!$C$12 <> \"\", 8.314472*Foglio1!$C$12*Foglio2!F16, NA())","v":{"$error":"#N/A"}},{"$f":"IF(Foglio1!$H$12 <> \"\", Foglio1!$H$12 + G16*10^-3, NA())","v":{"$error":"#N/A"}},91,4.5108595065168497,{"$f":" IF(Foglio1!$C$13 <> \"\", 8.314472*Foglio1!$C$13*Foglio2!J16, NA())","v":{"$error":"#N/A"}},{"$f":"IF(Foglio1!$H$13 <> \"\", Foglio1!$H$13 + K16*10^-3, NA())","v":{"$error":"#N/A"}},91,4.5108595065168497,{"$f":" IF(Foglio1!$C$14 <> \"\", 8.314472*Foglio1!$C$14*Foglio2!N16, NA())","v":{"$error":"#N/A"}},{"$f":"IF(Foglio1!$H$14 <> \"\", Foglio1!$H$14 + O16*10^-3, NA())","v":{"$error":"#N/A"}},91,4.5108595065168497,{"$f":" IF(Foglio1!$C$15 <> \"\", 8.314472*Foglio1!$C$15*Foglio2!R16, NA())","v":{"$error":"#N/A"}},{"$f":"IF(Foglio1!$H$15 <> \"\", Foglio1!$H$15 + S16*10^-3, NA())","v":{"$error":"#N/A"}}]
[100,4.6051701859880918,{"$f":" IF(Foglio1!$C$11 <> \"\", 8.314472*Foglio1!$C$11*Foglio2!B17, NA())","v":11486.867569989836},{"$f":"IF(Foglio1!$H$11 <> \"\", Foglio1!$H$11 + C17*10^-3, NA())","v":-78.51313243001016},100,4.6051701859880918,{"$f":" IF(Foglio1!$C$12 <> \"\", 8.314472*Foglio1!$C$12*Foglio2!F17, NA())","v":{"$error":"#N/A"}},{"$f":"IF(Foglio1!$H$12 <> \"\", Foglio1!$H$12 + G17*10^-3, NA())","v":{"$error":"#N/A"}},100,4.6051701859880918,{"$f":" IF(Foglio1!$C$13 <> \"\", 8.314472*Foglio1!$C$13*Foglio2!J17, NA())","v":{"$error":"#N/A"}},{"$f":"IF(Foglio1!$H$13 <> \"\", Foglio1!$H$13 + K17*10^-3, NA())","v":{"$error":"#N/A"}},100,4.6051701859880918,{"$f":" IF(Foglio1!$C$14 <> \"\", 8.314472*Foglio1!$C$14*Foglio2!N17, NA())","v":{"$error":"#N/A"}},{"$f":"IF(Foglio1!$H$14 <> \"\", Foglio1!$H$14 + O17*10^-3, NA())","v":{"$error":"#N/A"}},100,4.6051701859880918,{"$f":" IF(Foglio1!$C$15 <> \"\", 8.314472*Foglio1!$C$15*Foglio2!R17, NA())","v":{"$error":"#N/A"}},{"$f":"IF(Foglio1!$H$15 <> \"\", Foglio1!$H$15 + S17*10^-3, NA())","v":{"$error":"#N/A"}}]
[109,4.6913478822291435,{"$f":" IF(Foglio1!$C$11 <> \"\", 8.314472*Foglio1!$C$11*Foglio2!B18, NA())","v":11701.824182716055},{"$f":"IF(Foglio1!$H$11 <> \"\", Foglio1!$H$11 + C18*10^-3, NA())","v":-78.298175817283948},109,4.6913478822291435,{"$f":" IF(Foglio1!$C$12 <> \"\", 8.314472*Foglio1!$C$12*Foglio2!F18, NA())","v":{"$error":"#N/A"}},{"$f":"IF(Foglio1!$H$12 <> \"\", Foglio1!$H$12 + G18*10^-3, NA())","v":{"$error":"#N/A"}},109,4.6913478822291435,{"$f":" IF(Foglio1!$C$13 <> \"\", 8.314472*Foglio1!$C$13*Foglio2!J18, NA())","v":{"$error":"#N/A"}},{"$f":"IF(Foglio1!$H$13 <> \"\", Foglio1!$H$13 + K18*10^-3, NA())","v":{"$error":"#N/A"}},109,4.6913478822291435,{"$f":" IF(Foglio1!$C$14 <> \"\", 8.314472*Foglio1!$C$14*Foglio2!N18, NA())","v":{"$error":"#N/A"}},{"$f":"IF(Foglio1!$H$14 <> \"\", Foglio1!$H$14 + O18*10^-3, NA())","v":{"$error":"#N/A"}},109,4.6913478822291435,{"$f":" IF(Foglio1!$C$15 <> \"\", 8.314472*Foglio1!$C$15*Foglio2!R18, NA())","v":{"$error":"#N/A"}},{"$f":"IF(Foglio1!$H$15 <> \"\", Foglio1!$H$15 + S18*10^-3, NA())","v":{"$error":"#N/A"}}]
[118,4.7706846244656651,{"$f":" IF(Foglio1!$C$11 <> \"\", 8.314472*Foglio1!$C$11*Foglio2!B19, NA())","v":11899.717119285087},{"$f":"IF(Foglio1!$H$11 <> \"\", Foglio1!$H$11 + C19*10^-3, NA())","v":-78.100282880714914},118,4.7706846244656651,{"$f":" IF(Foglio1!$C$12 <> \"\", 8.314472*Foglio1!$C$12*Foglio2!F19, NA())","v":{"$error":"#N/A"}},{"$f":"IF(Foglio1!$H$12 <> \"\", Foglio1!$H$12 + G19*10^-3, NA())","v":{"$error":"#N/A"}},118,4.7706846244656651,{"$f":" IF(Foglio1!$C$13 <> \"\", 8.314472*Foglio1!$C$13*Foglio2!J19, NA())","v":{"$error":"#N/A"}},{"$f":"IF(Foglio1!$H$13 <> \"\", Foglio1!$H$13 + K19*10^-3, NA())","v":{"$error":"#N/A"}},118,4.7706846244656651,{"$f":" IF(Foglio1!$C$14 <> \"\", 8.314472*Foglio1!$C$14*Foglio2!N19, NA())","v":{"$error":"#N/A"}},{"$f":"IF(Foglio1!$H$14 <> \"\", Foglio1!$H$14 + O19*10^-3, NA())","v":{"$error":"#N/A"}},118,4.7706846244656651,{"$f":" IF(Foglio1!$C$15 <> \"\", 8.314472*Foglio1!$C$15*Foglio2!R19, NA())","v":{"$error":"#N/A"}},{"$f":"IF(Foglio1!$H$15 <> \"\", Foglio1!$H$15 + S19*10^-3, NA())","v":{"$error":"#N/A"}}]
[127,4.8441870864585912,{"$f":" IF(Foglio1!$C$11 <> \"\", 8.314472*Foglio1!$C$11*Foglio2!B20, NA())","v":12083.057367936462},{"$f":"IF(Foglio1!$H$11 <> \"\", Foglio1!$H$11 + C20*10^-3, NA())","v":-77.916942632063538},127,4.8441870864585912,{"$f":" IF(Foglio1!$C$12 <> \"\", 8.314472*Foglio1!$C$12*Foglio2!F20, NA())","v":{"$error":"#N/A"}},{"$f":"IF(Foglio1!$H$12 <> \"\", Foglio1!$H$12 + G20*10^-3, NA())","v":{"$error":"#N/A"}},127,4.8441870864585912,{"$f":" IF(Foglio1!$C$13 <> \"\", 8.314472*Foglio1!$C$13*Foglio2!J20, NA())","v":{"$error":"#N/A"}},{"$f":"IF(Foglio1!$H$13 <> \"\", Foglio1!$H$13 + K20*10^-3, NA())","v":{"$error":"#N/A"}},127,4.8441870864585912,{"$f":" IF(Foglio1!$C$14 <> \"\", 8.314472*Foglio1!$C$14*Foglio2!N20, NA())","v":{"$error":"#N/A"}},{"$f":"IF(Foglio1!$H$14 <> \"\", Foglio1!$H$14 + O20*10^-3, NA())","v":{"$error":"#N/A"}},127,4.8441870864585912,{"$f":" IF(Foglio1!$C$15 <> \"\", 8.314472*Foglio1!$C$15*Foglio2!R20, NA())","v":{"$error":"#N/A"}},{"$f":"IF(Foglio1!$H$15 <> \"\", Foglio1!$H$15 + S20*10^-3, NA())","v":{"$error":"#N/A"}}]
[136,4.9126548857360524,{"$f":" IF(Foglio1!$C$11 <> \"\", 8.314472*Foglio1!$C$11*Foglio2!B21, NA())","v":12253.839447934683},{"$f":"IF(Foglio1!$H$11 <> \"\", Foglio1!$H$11 + C21*10^-3, NA())","v":-77.746160552065319},136,4.9126548857360524,{"$f":" IF(Foglio1!$C$12 <> \"\", 8.314472*Foglio1!$C$12*Foglio2!F21, NA())","v":{"$error":"#N/A"}},{"$f":"IF(Foglio1!$H$12 <> \"\", Foglio1!$H$12 + G21*10^-3, NA())","v":{"$error":"#N/A"}},136,4.9126548857360524,{"$f":" IF(Foglio1!$C$13 <> \"\", 8.314472*Foglio1!$C$13*Foglio2!J21, NA())","v":{"$error":"#N/A"}},{"$f":"IF(Foglio1!$H$13 <> \"\", Foglio1!$H$13 + K21*10^-3, NA())","v":{"$error":"#N/A"}},136,4.9126548857360524,{"$f":" IF(Foglio1!$C$14 <> \"\", 8.314472*Foglio1!$C$14*Foglio2!N21, NA())","v":{"$error":"#N/A"}},{"$f":"IF(Foglio1!$H$14 <> \"\", Foglio1!$H$14 + O21*10^-3, NA())","v":{"$error":"#N/A"}},136,4.9126548857360524,{"$f":" IF(Foglio1!$C$15 <> \"\", 8.314472*Foglio1!$C$15*Foglio2!R21, NA())","v":{"$error":"#N/A"}},{"$f":"IF(Foglio1!$H$15 <> \"\", Foglio1!$H$15 + S21*10^-3, NA())","v":{"$error":"#N/A"}}]
[145,4.9767337424205742,{"$f":" IF(Foglio1!$C$11 <> \"\", 8.314472*Foglio1!$C$11*Foglio2!B22, NA())","v":12413.674005843324},{"$f":"IF(Foglio1!$H$11 <> \"\", Foglio1!$H$11 + C22*10^-3, NA())","v":-77.586325994156681},145,4.9767337424205742,{"$f":" IF(Foglio1!$C$12 <> \"\", 8.314472*Foglio1!$C$12*Foglio2!F22, NA())","v":{"$error":"#N/A"}},{"$f":"IF(Foglio1!$H$12 <> \"\", Foglio1!$H$12 + G22*10^-3, NA())","v":{"$error":"#N/A"}},145,4.9767337424205742,{"$f":" IF(Foglio1!$C$13 <> \"\", 8.314472*Foglio1!$C$13*Foglio2!J22, NA())","v":{"$error":"#N/A"}},{"$f":"IF(Foglio1!$H$13 <> \"\", Foglio1!$H$13 + K22*10^-3, NA())","v":{"$error":"#N/A"}},145,4.9767337424205742,{"$f":" IF(Foglio1!$C$14 <> \"\", 8.314472*Foglio1!$C$14*Foglio2!N22, NA())","v":{"$error":"#N/A"}},{"$f":"IF(Foglio1!$H$14 <> \"\", Foglio1!$H$14 + O22*10^-3, NA())","v":{"$error":"#N/A"}},145,4.9767337424205742,{"$f":" IF(Foglio1!$C$15 <> \"\", 8.314472*Foglio1!$C$15*Foglio2!R22, NA())","v":{"$error":"#N/A"}},{"$f":"IF(Foglio1!$H$15 <> \"\", Foglio1!$H$15 + S22*10^-3, NA())","v":{"$error":"#N/A"}}]
[154,5.0369526024136295,{"$f":" IF(Foglio1!$C$11 <> \"\", 8.314472*Foglio1!$C$11*Foglio2!B23, NA())","v":12563.880413428578},{"$f":"IF(Foglio1!$H$11 <> \"\", Foglio1!$H$11 + C23*10^-3, NA())","v":-77.436119586571422},154,5.0369526024136295,{"$f":" IF(Foglio1!$C$12 <> \"\", 8.314472*Foglio1!$C$12*Foglio2!F23, NA())","v":{"$error":"#N/A"}},{"$f":"IF(Foglio1!$H$12 <> \"\", Foglio1!$H$12 + G23*10^-3, NA())","v":{"$error":"#N/A"}},154,5.0369526024136295,{"$f":" IF(Foglio1!$C$13 <> \"\", 8.314472*Foglio1!$C$13*Foglio2!J23, NA())","v":{"$error":"#N/A"}},{"$f":"IF(Foglio1!$H$13 <> \"\", Foglio1!$H$13 + K23*10^-3, NA())","v":{"$error":"#N/A"}},154,5.0369526024136295,{"$f":" IF(Foglio1!$C$14 <> \"\", 8.314472*Foglio1!$C$14*Foglio2!N23, NA())","v":{"$error":"#N/A"}},{"$f":"IF(Foglio1!$H$14 <> \"\", Foglio1!$H$14 + O23*10^-3, NA())","v":{"$error":"#N/A"}},154,5.0369526024136295,{"$f":" IF(Foglio1!$C$15 <> \"\", 8.314472*Foglio1!$C$15*Foglio2!R23, NA())","v":{"$error":"#N/A"}},{"$f":"IF(Foglio1!$H$15 <> \"\", Foglio1!$H$15 + S23*10^-3, NA())","v":{"$error":"#N/A"}}]
[163,5.0937502008067623,{"$f":" IF(Foglio1!$C$11 <> \"\", 8.314472*Foglio1!$C$11*Foglio2!B24, NA())","v":12705.553025880661},{"$f":"IF(Foglio1!$H$11 <> \"\", Foglio1!$H$11 + C24*10^-3, NA())","v":-77.294446974119339},163,5.0937502008067623,{"$f":" IF(Foglio1!$C$12 <> \"\", 8.314472*Foglio1!$C$12*Foglio2!F24, NA())","v":{"$error":"#N/A"}},{"$f":"IF(Foglio1!$H$12 <> \"\", Foglio1!$H$12 + G24*10^-3, NA())","v":{"$error":"#N/A"}},163,5.0937502008067623,{"$f":" IF(Foglio1!$C$13 <> \"\", 8.314472*Foglio1!$C$13*Foglio2!J24, NA())","v":{"$error":"#N/A"}},{"$f":"IF(Foglio1!$H$13 <> \"\", Foglio1!$H$13 + K24*10^-3, NA())","v":{"$error":"#N/A"}},163,5.0937502008067623,{"$f":" IF(Foglio1!$C$14 <> \"\", 8.314472*Foglio1!$C$14*Foglio2!N24, NA())","v":{"$error":"#N/A"}},{"$f":"IF(Foglio1!$H$14 <> \"\", Foglio1!$H$14 + O24*10^-3, NA())","v":{"$error":"#N/A"}},163,5.0937502008067623,{"$f":" IF(Foglio1!$C$15 <> \"\", 8.314472*Foglio1!$C$15*Foglio2!R24, NA())","v":{"$error":"#N/A"}},{"$f":"IF(Foglio1!$H$15 <> \"\", Foglio1!$H$15 + S24*10^-3, NA())","v":{"$error":"#N/A"}}]
[172,5.1474944768134527,{"$f":" IF(Foglio1!$C$11 <> \"\", 8.314472*Foglio1!$C$11*Foglio2!B25, NA())","v":12839.609609286032},{"$f":"IF(Foglio1!$H$11 <> \"\", Foglio1!$H$11 + C25*10^-3, NA())","v":-77.160390390713971},172,5.1474944768134527,{"$f":" IF(Foglio1!$C$12 <> \"\", 8.314472*Foglio1!$C$12*Foglio2!F25, NA())","v":{"$error":"#N/A"}},{"$f":"IF(Foglio1!$H$12 <> \"\", Foglio1!$H$12 + G25*10^-3, NA())","v":{"$error":"#N/A"}},172,5.1474944768134527,{"$f":" IF(Foglio1!$C$13 <> \"\", 8.314472*Foglio1!$C$13*Foglio2!J25, NA())","v":{"$error":"#N/A"}},{"$f":"IF(Foglio1!$H$13 <> \"\", Foglio1!$H$13 + K25*10^-3, NA())","v":{"$error":"#N/A"}},172,5.1474944768134527,{"$f":" IF(Foglio1!$C$14 <> \"\", 8.314472*Foglio1!$C$14*Foglio2!N25, NA())","v":{"$error":"#N/A"}},{"$f":"IF(Foglio1!$H$14 <> \"\", Foglio1!$H$14 + O25*10^-3, NA())","v":{"$error":"#N/A"}},172,5.1474944768134527,{"$f":" IF(Foglio1!$C$15 <> \"\", 8.314472*Foglio1!$C$15*Foglio2!R25, NA())","v":{"$error":"#N/A"}},{"$f":"IF(Foglio1!$H$15 <> \"\", Foglio1!$H$15 + S25*10^-3, NA())","v":{"$error":"#N/A"}}]
[181,5.1984970312658261,{"$f":" IF(Foglio1!$C$11 <> \"\", 8.314472*Foglio1!$C$11*Foglio2!B26, NA())","v":12966.827402562853},{"$f":"IF(Foglio1!$H$11 <> \"\", Foglio1!$H$11 + C26*10^-3, NA())","v":-77.033172597437144},181,5.1984970312658261,{"$f":" IF(Foglio1!$C$12 <> \"\", 8.314472*Foglio1!$C$12*Foglio2!F26, NA())","v":{"$error":"#N/A"}},{"$f":"IF(Foglio1!$H$12 <> \"\", Foglio1!$H$12 + G26*10^-3, NA())","v":{"$error":"#N/A"}},181,5.1984970312658261,{"$f":" IF(Foglio1!$C$13 <> \"\", 8.314472*Foglio1!$C$13*Foglio2!J26, NA())","v":{"$error":"#N/A"}},{"$f":"IF(Foglio1!$H$13 <> \"\", Foglio1!$H$13 + K26*10^-3, NA())","v":{"$error":"#N/A"}},181,5.1984970312658261,{"$f":" IF(Foglio1!$C$14 <> \"\", 8.314472*Foglio1!$C$14*Foglio2!N26, NA())","v":{"$error":"#N/A"}},{"$f":"IF(Foglio1!$H$14 <> \"\", Foglio1!$H$14 + O26*10^-3, NA())","v":{"$error":"#N/A"}},181,5.1984970312658261,{"$f":" IF(Foglio1!$C$15 <> \"\", 8.314472*Foglio1!$C$15*Foglio2!R26, NA())","v":{"$error":"#N/A"}},{"$f":"IF(Foglio1!$H$15 <> \"\", Foglio1!$H$15 + S26*10^-3, NA())","v":{"$error":"#N/A"}}]
[190,5.2470240721604862,{"$f":" IF(Foglio1!$C$11 <> \"\", 8.314472*Foglio1!$C$11*Foglio2!B27, NA())","v":13087.870419391304},{"$f":"IF(Foglio1!$H$11 <> \"\", Foglio1!$H$11 + C27*10^-3, NA())","v":-76.912129580608692},190,5.2470240721604862,{"$f":" IF(Foglio1!$C$12 <> \"\", 8.314472*Foglio1!$C$12*Foglio2!F27, NA())","v":{"$error":"#N/A"}},{"$f":"IF(Foglio1!$H$12 <> \"\", Foglio1!$H$12 + G27*10^-3, NA())","v":{"$error":"#N/A"}},190,5.2470240721604862,{"$f":" IF(Foglio1!$C$13 <> \"\", 8.314472*Foglio1!$C$13*Foglio2!J27, NA())","v":{"$error":"#N/A"}},{"$f":"IF(Foglio1!$H$13 <> \"\", Foglio1!$H$13 + K27*10^-3, NA())","v":{"$error":"#N/A"}},190,5.2470240721604862,{"$f":" IF(Foglio1!$C$14 <> \"\", 8.314472*Foglio1!$C$14*Foglio2!N27, NA())","v":{"$error":"#N/A"}},{"$f":"IF(Foglio1!$H$14 <> \"\", Foglio1!$H$14 + O27*10^-3, NA())","v":{"$error":"#N/A"}},190,5.2470240721604862,{"$f":" IF(Foglio1!$C$15 <> \"\", 8.314472*Foglio1!$C$15*Foglio2!R27, NA())","v":{"$error":"#N/A"}},{"$f":"IF(Foglio1!$H$15 <> \"\", Foglio1!$H$15 + S27*10^-3, NA())","v":{"$error":"#N/A"}}]
[199,5.2933048247244923,{"$f":" IF(Foglio1!$C$11 <> \"\", 8.314472*Foglio1!$C$11*Foglio2!B28, NA())","v":13203.310425791011},{"$f":"IF(Foglio1!$H$11 <> \"\", Foglio1!$H$11 + C28*10^-3, NA())","v":-76.796689574208983},199,5.2933048247244923,{"$f":" IF(Foglio1!$C$12 <> \"\", 8.314472*Foglio1!$C$12*Foglio2!F28, NA())","v":{"$error":"#N/A"}},{"$f":"IF(Foglio1!$H$12 <> \"\", Foglio1!$H$12 + G28*10^-3, NA())","v":{"$error":"#N/A"}},199,5.2933048247244923,{"$f":" IF(Foglio1!$C$13 <> \"\", 8.314472*Foglio1!$C$13*Foglio2!J28, NA())","v":{"$error":"#N/A"}},{"$f":"IF(Foglio1!$H$13 <> \"\", Foglio1!$H$13 + K28*10^-3, NA())","v":{"$error":"#N/A"}},199,5.2933048247244923,{"$f":" IF(Foglio1!$C$14 <> \"\", 8.314472*Foglio1!$C$14*Foglio2!N28, NA())","v":{"$error":"#N/A"}},{"$f":"IF(Foglio1!$H$14 <> \"\", Foglio1!$H$14 + O28*10^-3, NA())","v":{"$error":"#N/A"}},199,5.2933048247244923,{"$f":" IF(Foglio1!$C$15 <> \"\", 8.314472*Foglio1!$C$15*Foglio2!R28, NA())","v":{"$error":"#N/A"}},{"$f":"IF(Foglio1!$H$15 <> \"\", Foglio1!$H$15 + S28*10^-3, NA())","v":{"$error":"#N/A"}}]
[208,5.3375380797013179,{"$f":" IF(Foglio1!$C$11 <> \"\", 8.314472*Foglio1!$C$11*Foglio2!B29, NA())","v":13313.643273783115},{"$f":"IF(Foglio1!$H$11 <> \"\", Foglio1!$H$11 + C29*10^-3, NA())","v":-76.686356726216886},208,5.3375380797013179,{"$f":" IF(Foglio1!$C$12 <> \"\", 8.314472*Foglio1!$C$12*Foglio2!F29, NA())","v":{"$error":"#N/A"}},{"$f":"IF(Foglio1!$H$12 <> \"\", Foglio1!$H$12 + G29*10^-3, NA())","v":{"$error":"#N/A"}},208,5.3375380797013179,{"$f":" IF(Foglio1!$C$13 <> \"\", 8.314472*Foglio1!$C$13*Foglio2!J29, NA())","v":{"$error":"#N/A"}},{"$f":"IF(Foglio1!$H$13 <> \"\", Foglio1!$H$13 + K29*10^-3, NA())","v":{"$error":"#N/A"}},208,5.3375380797013179,{"$f":" IF(Foglio1!$C$14 <> \"\", 8.314472*Foglio1!$C$14*Foglio2!N29, NA())","v":{"$error":"#N/A"}},{"$f":"IF(Foglio1!$H$14 <> \"\", Foglio1!$H$14 + O29*10^-3, NA())","v":{"$error":"#N/A"}},208,5.3375380797013179,{"$f":" IF(Foglio1!$C$15 <> \"\", 8.314472*Foglio1!$C$15*Foglio2!R29, NA())","v":{"$error":"#N/A"}},{"$f":"IF(Foglio1!$H$15 <> \"\", Foglio1!$H$15 + S29*10^-3, NA())","v":{"$error":"#N/A"}}]
[217,5.3798973535404597,{"$f":" IF(Foglio1!$C$11 <> \"\", 8.314472*Foglio1!$C$11*Foglio2!B30, NA())","v":13419.301772665876},{"$f":"IF(Foglio1!$H$11 <> \"\", Foglio1!$H$11 + C30*10^-3, NA())","v":-76.580698227334125},217,5.3798973535404597,{"$f":" IF(Foglio1!$C$12 <> \"\", 8.314472*Foglio1!$C$12*Foglio2!F30, NA())","v":{"$error":"#N/A"}},{"$f":"IF(Foglio1!$H$12 <> \"\", Foglio1!$H$12 + G30*10^-3, NA())","v":{"$error":"#N/A"}},217,5.3798973535404597,{"$f":" IF(Foglio1!$C$13 <> \"\", 8.314472*Foglio1!$C$13*Foglio2!J30, NA())","v":{"$error":"#N/A"}},{"$f":"IF(Foglio1!$H$13 <> \"\", Foglio1!$H$13 + K30*10^-3, NA())","v":{"$error":"#N/A"}},217,5.3798973535404597,{"$f":" IF(Foglio1!$C$14 <> \"\", 8.314472*Foglio1!$C$14*Foglio2!N30, NA())","v":{"$error":"#N/A"}},{"$f":"IF(Foglio1!$H$14 <> \"\", Foglio1!$H$14 + O30*10^-3, NA())","v":{"$error":"#N/A"}},217,5.3798973535404597,{"$f":" IF(Foglio1!$C$15 <> \"\", 8.314472*Foglio1!$C$15*Foglio2!R30, NA())","v":{"$error":"#N/A"}},{"$f":"IF(Foglio1!$H$15 <> \"\", Foglio1!$H$15 + S30*10^-3, NA())","v":{"$error":"#N/A"}}]
[226,5.4205349992722862,{"$f":" IF(Foglio1!$C$11 <> \"\", 8.314472*Foglio1!$C$11*Foglio2!B31, NA())","v":13520.665942940834},{"$f":"IF(Foglio1!$H$11 <> \"\", Foglio1!$H$11 + C31*10^-3, NA())","v":-76.479334057059162},226,5.4205349992722862,{"$f":" IF(Foglio1!$C$12 <> \"\", 8.314472*Foglio1!$C$12*Foglio2!F31, NA())","v":{"$error":"#N/A"}},{"$f":"IF(Foglio1!$H$12 <> \"\", Foglio1!$H$12 + G31*10^-3, NA())","v":{"$error":"#N/A"}},226,5.4205349992722862,{"$f":" IF(Foglio1!$C$13 <> \"\", 8.314472*Foglio1!$C$13*Foglio2!J31, NA())","v":{"$error":"#N/A"}},{"$f":"IF(Foglio1!$H$13 <> \"\", Foglio1!$H$13 + K31*10^-3, NA())","v":{"$error":"#N/A"}},226,5.4205349992722862,{"$f":" IF(Foglio1!$C$14 <> \"\", 8.314472*Foglio1!$C$14*Foglio2!N31, NA())","v":{"$error":"#N/A"}},{"$f":"IF(Foglio1!$H$14 <> \"\", Foglio1!$H$14 + O31*10^-3, NA())","v":{"$error":"#N/A"}},226,5.4205349992722862,{"$f":" IF(Foglio1!$C$15 <> \"\", 8.314472*Foglio1!$C$15*Foglio2!R31, NA())","v":{"$error":"#N/A"}},{"$f":"IF(Foglio1!$H$15 <> \"\", Foglio1!$H$15 + S31*10^-3, NA())","v":{"$error":"#N/A"}}]
[235,5.4595855141441589,{"$f":" IF(Foglio1!$C$11 <> \"\", 8.314472*Foglio1!$C$11*Foglio2!B32, NA())","v":13618.071266687166},{"$f":"IF(Foglio1!$H$11 <> \"\", Foglio1!$H$11 + C32*10^-3, NA())","v":-76.381928733312833},235,5.4595855141441589,{"$f":" IF(Foglio1!$C$12 <> \"\", 8.314472*Foglio1!$C$12*Foglio2!F32, NA())","v":{"$error":"#N/A"}},{"$f":"IF(Foglio1!$H$12 <> \"\", Foglio1!$H$12 + G32*10^-3, NA())","v":{"$error":"#N/A"}},235,5.4595855141441589,{"$f":" IF(Foglio1!$C$13 <> \"\", 8.314472*Foglio1!$C$13*Foglio2!J32, NA())","v":{"$error":"#N/A"}},{"$f":"IF(Foglio1!$H$13 <> \"\", Foglio1!$H$13 + K32*10^-3, NA())","v":{"$error":"#N/A"}},235,5.4595855141441589,{"$f":" IF(Foglio1!$C$14 <> \"\", 8.314472*Foglio1!$C$14*Foglio2!N32, NA())","v":{"$error":"#N/A"}},{"$f":"IF(Foglio1!$H$14 <> \"\", Foglio1!$H$14 + O32*10^-3, NA())","v":{"$error":"#N/A"}},235,5.4595855141441589,{"$f":" IF(Foglio1!$C$15 <> \"\", 8.314472*Foglio1!$C$15*Foglio2!R32, NA())","v":{"$error":"#N/A"}},{"$f":"IF(Foglio1!$H$15 <> \"\", Foglio1!$H$15 + S32*10^-3, NA())","v":{"$error":"#N/A"}}]
[244,5.4971682252932021,{"$f":" IF(Foglio1!$C$11 <> \"\", 8.314472*Foglio1!$C$11*Foglio2!B33, NA())","v":13711.815386547007},{"$f":"IF(Foglio1!$H$11 <> \"\", Foglio1!$H$11 + C33*10^-3, NA())","v":-76.288184613452998},244,5.4971682252932021,{"$f":" IF(Foglio1!$C$12 <> \"\", 8.314472*Foglio1!$C$12*Foglio2!F33, NA())","v":{"$error":"#N/A"}},{"$f":"IF(Foglio1!$H$12 <> \"\", Foglio1!$H$12 + G33*10^-3, NA())","v":{"$error":"#N/A"}},244,5.4971682252932021,{"$f":" IF(Foglio1!$C$13 <> \"\", 8.314472*Foglio1!$C$13*Foglio2!J33, NA())","v":{"$error":"#N/A"}},{"$f":"IF(Foglio1!$H$13 <> \"\", Foglio1!$H$13 + K33*10^-3, NA())","v":{"$error":"#N/A"}},244,5.4971682252932021,{"$f":" IF(Foglio1!$C$14 <> \"\", 8.314472*Foglio1!$C$14*Foglio2!N33, NA())","v":{"$error":"#N/A"}},{"$f":"IF(Foglio1!$H$14 <> \"\", Foglio1!$H$14 + O33*10^-3, NA())","v":{"$error":"#N/A"}},244,5.4971682252932021,{"$f":" IF(Foglio1!$C$15 <> \"\", 8.314472*Foglio1!$C$15*Foglio2!R33, NA())","v":{"$error":"#N/A"}},{"$f":"IF(Foglio1!$H$15 <> \"\", Foglio1!$H$15 + S33*10^-3, NA())","v":{"$error":"#N/A"}}]
[253,5.5333894887275203,{"$f":" IF(Foglio1!$C$11 <> \"\", 8.314472*Foglio1!$C$11*Foglio2!B34, NA())","v":13802.163590735787},{"$f":"IF(Foglio1!$H$11 <> \"\", Foglio1!$H$11 + C34*10^-3, NA())","v":-76.197836409264212},253,5.5333894887275203,{"$f":" IF(Foglio1!$C$12 <> \"\", 8.314472*Foglio1!$C$12*Foglio2!F34, NA())","v":{"$error":"#N/A"}},{"$f":"IF(Foglio1!$H$12 <> \"\", Foglio1!$H$12 + G34*10^-3, NA())","v":{"$error":"#N/A"}},253,5.5333894887275203,{"$f":" IF(Foglio1!$C$13 <> \"\", 8.314472*Foglio1!$C$13*Foglio2!J34, NA())","v":{"$error":"#N/A"}},{"$f":"IF(Foglio1!$H$13 <> \"\", Foglio1!$H$13 + K34*10^-3, NA())","v":{"$error":"#N/A"}},253,5.5333894887275203,{"$f":" IF(Foglio1!$C$14 <> \"\", 8.314472*Foglio1!$C$14*Foglio2!N34, NA())","v":{"$error":"#N/A"}},{"$f":"IF(Foglio1!$H$14 <> \"\", Foglio1!$H$14 + O34*10^-3, NA())","v":{"$error":"#N/A"}},253,5.5333894887275203,{"$f":" IF(Foglio1!$C$15 <> \"\", 8.314472*Foglio1!$C$15*Foglio2!R34, NA())","v":{"$error":"#N/A"}},{"$f":"IF(Foglio1!$H$15 <> \"\", Foglio1!$H$15 + S34*10^-3, NA())","v":{"$error":"#N/A"}}]
[262,5.5683445037610966,{"$f":" IF(Foglio1!$C$11 <> \"\", 8.314472*Foglio1!$C$11*Foglio2!B35, NA())","v":13889.35333886266},{"$f":"IF(Foglio1!$H$11 <> \"\", Foglio1!$H$11 + C35*10^-3, NA())","v":-76.110646661137338},262,5.5683445037610966,{"$f":" IF(Foglio1!$C$12 <> \"\", 8.314472*Foglio1!$C$12*Foglio2!F35, NA())","v":{"$error":"#N/A"}},{"$f":"IF(Foglio1!$H$12 <> \"\", Foglio1!$H$12 + G35*10^-3, NA())","v":{"$error":"#N/A"}},262,5.5683445037610966,{"$f":" IF(Foglio1!$C$13 <> \"\", 8.314472*Foglio1!$C$13*Foglio2!J35, NA())","v":{"$error":"#N/A"}},{"$f":"IF(Foglio1!$H$13 <> \"\", Foglio1!$H$13 + K35*10^-3, NA())","v":{"$error":"#N/A"}},262,5.5683445037610966,{"$f":" IF(Foglio1!$C$14 <> \"\", 8.314472*Foglio1!$C$14*Foglio2!N35, NA())","v":{"$error":"#N/A"}},{"$f":"IF(Foglio1!$H$14 <> \"\", Foglio1!$H$14 + O35*10^-3, NA())","v":{"$error":"#N/A"}},262,5.5683445037610966,{"$f":" IF(Foglio1!$C$15 <> \"\", 8.314472*Foglio1!$C$15*Foglio2!R35, NA())","v":{"$error":"#N/A"}},{"$f":"IF(Foglio1!$H$15 <> \"\", Foglio1!$H$15 + S35*10^-3, NA())","v":{"$error":"#N/A"}}]
[271,5.602118820879701,{"$f":" IF(Foglio1!$C$11 <> \"\", 8.314472*Foglio1!$C$11*Foglio2!B36, NA())","v":13973.598023063189},{"$f":"IF(Foglio1!$H$11 <> \"\", Foglio1!$H$11 + C36*10^-3, NA())","v":-76.02640197693681},271,5.602118820879701,{"$f":" IF(Foglio1!$C$12 <> \"\", 8.314472*Foglio1!$C$12*Foglio2!F36, NA())","v":{"$error":"#N/A"}},{"$f":"IF(Foglio1!$H$12 <> \"\", Foglio1!$H$12 + G36*10^-3, NA())","v":{"$error":"#N/A"}},271,5.602118820879701,{"$f":" IF(Foglio1!$C$13 <> \"\", 8.314472*Foglio1!$C$13*Foglio2!J36, NA())","v":{"$error":"#N/A"}},{"$f":"IF(Foglio1!$H$13 <> \"\", Foglio1!$H$13 + K36*10^-3, NA())","v":{"$error":"#N/A"}},271,5.602118820879701,{"$f":" IF(Foglio1!$C$14 <> \"\", 8.314472*Foglio1!$C$14*Foglio2!N36, NA())","v":{"$error":"#N/A"}},{"$f":"IF(Foglio1!$H$14 <> \"\", Foglio1!$H$14 + O36*10^-3, NA())","v":{"$error":"#N/A"}},271,5.602118820879701,{"$f":" IF(Foglio1!$C$15 <> \"\", 8.314472*Foglio1!$C$15*Foglio2!R36, NA())","v":{"$error":"#N/A"}},{"$f":"IF(Foglio1!$H$15 <> \"\", Foglio1!$H$15 + S36*10^-3, NA())","v":{"$error":"#N/A"}}]
[280,5.6347896031692493,{"$f":" IF(Foglio1!$C$11 <> \"\", 8.314472*Foglio1!$C$11*Foglio2!B37, NA())","v":14055.090114432551},{"$f":"IF(Foglio1!$H$11 <> \"\", Foglio1!$H$11 + C37*10^-3, NA())","v":-75.944909885567455},280,5.6347896031692493,{"$f":" IF(Foglio1!$C$12 <> \"\", 8.314472*Foglio1!$C$12*Foglio2!F37, NA())","v":{"$error":"#N/A"}},{"$f":"IF(Foglio1!$H$12 <> \"\", Foglio1!$H$12 + G37*10^-3, NA())","v":{"$error":"#N/A"}},280,5.6347896031692493,{"$f":" IF(Foglio1!$C$13 <> \"\", 8.314472*Foglio1!$C$13*Foglio2!J37, NA())","v":{"$error":"#N/A"}},{"$f":"IF(Foglio1!$H$13 <> \"\", Foglio1!$H$13 + K37*10^-3, NA())","v":{"$error":"#N/A"}},280,5.6347896031692493,{"$f":" IF(Foglio1!$C$14 <> \"\", 8.314472*Foglio1!$C$14*Foglio2!N37, NA())","v":{"$error":"#N/A"}},{"$f":"IF(Foglio1!$H$14 <> \"\", Foglio1!$H$14 + O37*10^-3, NA())","v":{"$error":"#N/A"}},280,5.6347896031692493,{"$f":" IF(Foglio1!$C$15 <> \"\", 8.314472*Foglio1!$C$15*Foglio2!R37, NA())","v":{"$error":"#N/A"}},{"$f":"IF(Foglio1!$H$15 <> \"\", Foglio1!$H$15 + S37*10^-3, NA())","v":{"$error":"#N/A"}}]
[289,5.6664266881124323,{"$f":" IF(Foglio1!$C$11 <> \"\", 8.314472*Foglio1!$C$11*Foglio2!B38, NA())","v":14134.003811509067},{"$f":"IF(Foglio1!$H$11 <> \"\", Foglio1!$H$11 + C38*10^-3, NA())","v":-75.865996188490939},289,5.6664266881124323,{"$f":" IF(Foglio1!$C$12 <> \"\", 8.314472*Foglio1!$C$12*Foglio2!F38, NA())","v":{"$error":"#N/A"}},{"$f":"IF(Foglio1!$H$12 <> \"\", Foglio1!$H$12 + G38*10^-3, NA())","v":{"$error":"#N/A"}},289,5.6664266881124323,{"$f":" IF(Foglio1!$C$13 <> \"\", 8.314472*Foglio1!$C$13*Foglio2!J38, NA())","v":{"$error":"#N/A"}},{"$f":"IF(Foglio1!$H$13 <> \"\", Foglio1!$H$13 + K38*10^-3, NA())","v":{"$error":"#N/A"}},289,5.6664266881124323,{"$f":" IF(Foglio1!$C$14 <> \"\", 8.314472*Foglio1!$C$14*Foglio2!N38, NA())","v":{"$error":"#N/A"}},{"$f":"IF(Foglio1!$H$14 <> \"\", Foglio1!$H$14 + O38*10^-3, NA())","v":{"$error":"#N/A"}},289,5.6664266881124323,{"$f":" IF(Foglio1!$C$15 <> \"\", 8.314472*Foglio1!$C$15*Foglio2!R38, NA())","v":{"$error":"#N/A"}},{"$f":"IF(Foglio1!$H$15 <> \"\", Foglio1!$H$15 + S38*10^-3, NA())","v":{"$error":"#N/A"}}]
[298,5.6970934865054046,{"$f":" IF(Foglio1!$C$11 <> \"\", 8.314472*Foglio1!$C$11*Foglio2!B39, NA())","v":14210.497282479471},{"$f":"IF(Foglio1!$H$11 <> \"\", Foglio1!$H$11 + C39*10^-3, NA())","v":-75.789502717520534},298,5.6970934865054046,{"$f":" IF(Foglio1!$C$12 <> \"\", 8.314472*Foglio1!$C$12*Foglio2!F39, NA())","v":{"$error":"#N/A"}},{"$f":"IF(Foglio1!$H$12 <> \"\", Foglio1!$H$12 + G39*10^-3, NA())","v":{"$error":"#N/A"}},298,5.6970934865054046,{"$f":" IF(Foglio1!$C$13 <> \"\", 8.314472*Foglio1!$C$13*Foglio2!J39, NA())","v":{"$error":"#N/A"}},{"$f":"IF(Foglio1!$H$13 <> \"\", Foglio1!$H$13 + K39*10^-3, NA())","v":{"$error":"#N/A"}},298,5.6970934865054046,{"$f":" IF(Foglio1!$C$14 <> \"\", 8.314472*Foglio1!$C$14*Foglio2!N39, NA())","v":{"$error":"#N/A"}},{"$f":"IF(Foglio1!$H$14 <> \"\", Foglio1!$H$14 + O39*10^-3, NA())","v":{"$error":"#N/A"}},298,5.6970934865054046,{"$f":" IF(Foglio1!$C$15 <> \"\", 8.314472*Foglio1!$C$15*Foglio2!R39, NA())","v":{"$error":"#N/A"}},{"$f":"IF(Foglio1!$H$15 <> \"\", Foglio1!$H$15 + S39*10^-3, NA())","v":{"$error":"#N/A"}}]
[307,5.7268477475871968,{"$f":" IF(Foglio1!$C$11 <> \"\", 8.314472*Foglio1!$C$11*Foglio2!B40, NA())","v":14284.714573673045},{"$f":"IF(Foglio1!$H$11 <> \"\", Foglio1!$H$11 + C40*10^-3, NA())","v":-75.715285426326957},307,5.7268477475871968,{"$f":" IF(Foglio1!$C$12 <> \"\", 8.314472*Foglio1!$C$12*Foglio2!F40, NA())","v":{"$error":"#N/A"}},{"$f":"IF(Foglio1!$H$12 <> \"\", Foglio1!$H$12 + G40*10^-3, NA())","v":{"$error":"#N/A"}},307,5.7268477475871968,{"$f":" IF(Foglio1!$C$13 <> \"\", 8.314472*Foglio1!$C$13*Foglio2!J40, NA())","v":{"$error":"#N/A"}},{"$f":"IF(Foglio1!$H$13 <> \"\", Foglio1!$H$13 + K40*10^-3, NA())","v":{"$error":"#N/A"}},307,5.7268477475871968,{"$f":" IF(Foglio1!$C$14 <> \"\", 8.314472*Foglio1!$C$14*Foglio2!N40, NA())","v":{"$error":"#N/A"}},{"$f":"IF(Foglio1!$H$14 <> \"\", Foglio1!$H$14 + O40*10^-3, NA())","v":{"$error":"#N/A"}},307,5.7268477475871968,{"$f":" IF(Foglio1!$C$15 <> \"\", 8.314472*Foglio1!$C$15*Foglio2!R40, NA())","v":{"$error":"#N/A"}},{"$f":"IF(Foglio1!$H$15 <> \"\", Foglio1!$H$15 + S40*10^-3, NA())","v":{"$error":"#N/A"}}]
[316,5.7557422135869123,{"$f":" IF(Foglio1!$C$11 <> \"\", 8.314472*Foglio1!$C$11*Foglio2!B41, NA())","v":14356.787242225922},{"$f":"IF(Foglio1!$H$11 <> \"\", Foglio1!$H$11 + C41*10^-3, NA())","v":-75.64321275777408},316,5.7557422135869123,{"$f":" IF(Foglio1!$C$12 <> \"\", 8.314472*Foglio1!$C$12*Foglio2!F41, NA())","v":{"$error":"#N/A"}},{"$f":"IF(Foglio1!$H$12 <> \"\", Foglio1!$H$12 + G41*10^-3, NA())","v":{"$error":"#N/A"}},316,5.7557422135869123,{"$f":" IF(Foglio1!$C$13 <> \"\", 8.314472*Foglio1!$C$13*Foglio2!J41, NA())","v":{"$error":"#N/A"}},{"$f":"IF(Foglio1!$H$13 <> \"\", Foglio1!$H$13 + K41*10^-3, NA())","v":{"$error":"#N/A"}},316,5.7557422135869123,{"$f":" IF(Foglio1!$C$14 <> \"\", 8.314472*Foglio1!$C$14*Foglio2!N41, NA())","v":{"$error":"#N/A"}},{"$f":"IF(Foglio1!$H$14 <> \"\", Foglio1!$H$14 + O41*10^-3, NA())","v":{"$error":"#N/A"}},316,5.7557422135869123,{"$f":" IF(Foglio1!$C$15 <> \"\", 8.314472*Foglio1!$C$15*Foglio2!R41, NA())","v":{"$error":"#N/A"}},{"$f":"IF(Foglio1!$H$15 <> \"\", Foglio1!$H$15 + S41*10^-3, NA())","v":{"$error":"#N/A"}}]
[325,5.7838251823297373,{"$f":" IF(Foglio1!$C$11 <> \"\", 8.314472*Foglio1!$C$11*Foglio2!B42, NA())","v":14426.83575941265},{"$f":"IF(Foglio1!$H$11 <> \"\", Foglio1!$H$11 + C42*10^-3, NA())","v":-75.573164240587346},325,5.7838251823297373,{"$f":" IF(Foglio1!$C$12 <> \"\", 8.314472*Foglio1!$C$12*Foglio2!F42, NA())","v":{"$error":"#N/A"}},{"$f":"IF(Foglio1!$H$12 <> \"\", Foglio1!$H$12 + G42*10^-3, NA())","v":{"$error":"#N/A"}},325,5.7838251823297373,{"$f":" IF(Foglio1!$C$13 <> \"\", 8.314472*Foglio1!$C$13*Foglio2!J42, NA())","v":{"$error":"#N/A"}},{"$f":"IF(Foglio1!$H$13 <> \"\", Foglio1!$H$13 + K42*10^-3, NA())","v":{"$error":"#N/A"}},325,5.7838251823297373,{"$f":" IF(Foglio1!$C$14 <> \"\", 8.314472*Foglio1!$C$14*Foglio2!N42, NA())","v":{"$error":"#N/A"}},{"$f":"IF(Foglio1!$H$14 <> \"\", Foglio1!$H$14 + O42*10^-3, NA())","v":{"$error":"#N/A"}},325,5.7838251823297373,{"$f":" IF(Foglio1!$C$15 <> \"\", 8.314472*Foglio1!$C$15*Foglio2!R42, NA())","v":{"$error":"#N/A"}},{"$f":"IF(Foglio1!$H$15 <> \"\", Foglio1!$H$15 + S42*10^-3, NA())","v":{"$error":"#N/A"}}]
[334,5.8111409929767008,{"$f":" IF(Foglio1!$C$11 <> \"\", 8.314472*Foglio1!$C$11*Foglio2!B43, NA())","v":14494.970722247093},{"$f":"IF(Foglio1!$H$11 <> \"\", Foglio1!$H$11 + C43*10^-3, NA())","v":-75.505029277752911},334,5.8111409929767008,{"$f":" IF(Foglio1!$C$12 <> \"\", 8.314472*Foglio1!$C$12*Foglio2!F43, NA())","v":{"$error":"#N/A"}},{"$f":"IF(Foglio1!$H$12 <> \"\", Foglio1!$H$12 + G43*10^-3, NA())","v":{"$error":"#N/A"}},334,5.8111409929767008,{"$f":" IF(Foglio1!$C$13 <> \"\", 8.314472*Foglio1!$C$13*Foglio2!J43, NA())","v":{"$error":"#N/A"}},{"$f":"IF(Foglio1!$H$13 <> \"\", Foglio1!$H$13 + K43*10^-3, NA())","v":{"$error":"#N/A"}},334,5.8111409929767008,{"$f":" IF(Foglio1!$C$14 <> \"\", 8.314472*Foglio1!$C$14*Foglio2!N43, NA())","v":{"$error":"#N/A"}},{"$f":"IF(Foglio1!$H$14 <> \"\", Foglio1!$H$14 + O43*10^-3, NA())","v":{"$error":"#N/A"}},334,5.8111409929767008,{"$f":" IF(Foglio1!$C$15 <> \"\", 8.314472*Foglio1!$C$15*Foglio2!R43, NA())","v":{"$error":"#N/A"}},{"$f":"IF(Foglio1!$H$15 <> \"\", Foglio1!$H$15 + S43*10^-3, NA())","v":{"$error":"#N/A"}}]
[343,5.8377304471659395,{"$f":" IF(Foglio1!$C$11 <> \"\", 8.314472*Foglio1!$C$11*Foglio2!B44, NA())","v":14561.293903952606},{"$f":"IF(Foglio1!$H$11 <> \"\", Foglio1!$H$11 + C44*10^-3, NA())","v":-75.438706096047397},343,5.8377304471659395,{"$f":" IF(Foglio1!$C$12 <> \"\", 8.314472*Foglio1!$C$12*Foglio2!F44, NA())","v":{"$error":"#N/A"}},{"$f":"IF(Foglio1!$H$12 <> \"\", Foglio1!$H$12 + G44*10^-3, NA())","v":{"$error":"#N/A"}},343,5.8377304471659395,{"$f":" IF(Foglio1!$C$13 <> \"\", 8.314472*Foglio1!$C$13*Foglio2!J44, NA())","v":{"$error":"#N/A"}},{"$f":"IF(Foglio1!$H$13 <> \"\", Foglio1!$H$13 + K44*10^-3, NA())","v":{"$error":"#N/A"}},343,5.8377304471659395,{"$f":" IF(Foglio1!$C$14 <> \"\", 8.314472*Foglio1!$C$14*Foglio2!N44, NA())","v":{"$error":"#N/A"}},{"$f":"IF(Foglio1!$H$14 <> \"\", Foglio1!$H$14 + O44*10^-3, NA())","v":{"$error":"#N/A"}},343,5.8377304471659395,{"$f":" IF(Foglio1!$C$15 <> \"\", 8.314472*Foglio1!$C$15*Foglio2!R44, NA())","v":{"$error":"#N/A"}},{"$f":"IF(Foglio1!$H$15 <> \"\", Foglio1!$H$15 + S44*10^-3, NA())","v":{"$error":"#N/A"}}]
[352,5.8636311755980968,{"$f":" IF(Foglio1!$C$11 <> \"\", 8.314472*Foglio1!$C$11*Foglio2!B45, NA())","v":14625.899168351239},{"$f":"IF(Foglio1!$H$11 <> \"\", Foglio1!$H$11 + C45*10^-3, NA())","v":-75.374100831648761},352,5.8636311755980968,{"$f":" IF(Foglio1!$C$12 <> \"\", 8.314472*Foglio1!$C$12*Foglio2!F45, NA())","v":{"$error":"#N/A"}},{"$f":"IF(Foglio1!$H$12 <> \"\", Foglio1!$H$12 + G45*10^-3, NA())","v":{"$error":"#N/A"}},352,5.8636311755980968,{"$f":" IF(Foglio1!$C$13 <> \"\", 8.314472*Foglio1!$C$13*Foglio2!J45, NA())","v":{"$error":"#N/A"}},{"$f":"IF(Foglio1!$H$13 <> \"\", Foglio1!$H$13 + K45*10^-3, NA())","v":{"$error":"#N/A"}},352,5.8636311755980968,{"$f":" IF(Foglio1!$C$14 <> \"\", 8.314472*Foglio1!$C$14*Foglio2!N45, NA())","v":{"$error":"#N/A"}},{"$f":"IF(Foglio1!$H$14 <> \"\", Foglio1!$H$14 + O45*10^-3, NA())","v":{"$error":"#N/A"}},352,5.8636311755980968,{"$f":" IF(Foglio1!$C$15 <> \"\", 8.314472*Foglio1!$C$15*Foglio2!R45, NA())","v":{"$error":"#N/A"}},{"$f":"IF(Foglio1!$H$15 <> \"\", Foglio1!$H$15 + S45*10^-3, NA())","v":{"$error":"#N/A"}}]
[361,5.8888779583328805,{"$f":" IF(Foglio1!$C$11 <> \"\", 8.314472*Foglio1!$C$11*Foglio2!B46, NA())","v":14688.873268792771},{"$f":"IF(Foglio1!$H$11 <> \"\", Foglio1!$H$11 + C46*10^-3, NA())","v":-75.311126731207224},361,5.8888779583328805,{"$f":" IF(Foglio1!$C$12 <> \"\", 8.314472*Foglio1!$C$12*Foglio2!F46, NA())","v":{"$error":"#N/A"}},{"$f":"IF(Foglio1!$H$12 <> \"\", Foglio1!$H$12 + G46*10^-3, NA())","v":{"$error":"#N/A"}},361,5.8888779583328805,{"$f":" IF(Foglio1!$C$13 <> \"\", 8.314472*Foglio1!$C$13*Foglio2!J46, NA())","v":{"$error":"#N/A"}},{"$f":"IF(Foglio1!$H$13 <> \"\", Foglio1!$H$13 + K46*10^-3, NA())","v":{"$error":"#N/A"}},361,5.8888779583328805,{"$f":" IF(Foglio1!$C$14 <> \"\", 8.314472*Foglio1!$C$14*Foglio2!N46, NA())","v":{"$error":"#N/A"}},{"$f":"IF(Foglio1!$H$14 <> \"\", Foglio1!$H$14 + O46*10^-3, NA())","v":{"$error":"#N/A"}},361,5.8888779583328805,{"$f":" IF(Foglio1!$C$15 <> \"\", 8.314472*Foglio1!$C$15*Foglio2!R46, NA())","v":{"$error":"#N/A"}},{"$f":"IF(Foglio1!$H$15 <> \"\", Foglio1!$H$15 + S46*10^-3, NA())","v":{"$error":"#N/A"}}]
[370,5.9135030056382698,{"$f":" IF(Foglio1!$C$11 <> \"\", 8.314472*Foglio1!$C$11*Foglio2!B47, NA())","v":14750.296548688571},{"$f":"IF(Foglio1!$H$11 <> \"\", Foglio1!$H$11 + C47*10^-3, NA())","v":-75.249703451311433},370,5.9135030056382698,{"$f":" IF(Foglio1!$C$12 <> \"\", 8.314472*Foglio1!$C$12*Foglio2!F47, NA())","v":{"$error":"#N/A"}},{"$f":"IF(Foglio1!$H$12 <> \"\", Foglio1!$H$12 + G47*10^-3, NA())","v":{"$error":"#N/A"}},370,5.9135030056382698,{"$f":" IF(Foglio1!$C$13 <> \"\", 8.314472*Foglio1!$C$13*Foglio2!J47, NA())","v":{"$error":"#N/A"}},{"$f":"IF(Foglio1!$H$13 <> \"\", Foglio1!$H$13 + K47*10^-3, NA())","v":{"$error":"#N/A"}},370,5.9135030056382698,{"$f":" IF(Foglio1!$C$14 <> \"\", 8.314472*Foglio1!$C$14*Foglio2!N47, NA())","v":{"$error":"#N/A"}},{"$f":"IF(Foglio1!$H$14 <> \"\", Foglio1!$H$14 + O47*10^-3, NA())","v":{"$error":"#N/A"}},370,5.9135030056382698,{"$f":" IF(Foglio1!$C$15 <> \"\", 8.314472*Foglio1!$C$15*Foglio2!R47, NA())","v":{"$error":"#N/A"}},{"$f":"IF(Foglio1!$H$15 <> \"\", Foglio1!$H$15 + S47*10^-3, NA())","v":{"$error":"#N/A"}}]
[379,5.9375362050824263,{"$f":" IF(Foglio1!$C$11 <> \"\", 8.314472*Foglio1!$C$11*Foglio2!B48, NA())","v":14810.243557843229},{"$f":"IF(Foglio1!$H$11 <> \"\", Foglio1!$H$11 + C48*10^-3, NA())","v":-75.189756442156778},379,5.9375362050824263,{"$f":" IF(Foglio1!$C$12 <> \"\", 8.314472*Foglio1!$C$12*Foglio2!F48, NA())","v":{"$error":"#N/A"}},{"$f":"IF(Foglio1!$H$12 <> \"\", Foglio1!$H$12 + G48*10^-3, NA())","v":{"$error":"#N/A"}},379,5.9375362050824263,{"$f":" IF(Foglio1!$C$13 <> \"\", 8.314472*Foglio1!$C$13*Foglio2!J48, NA())","v":{"$error":"#N/A"}},{"$f":"IF(Foglio1!$H$13 <> \"\", Foglio1!$H$13 + K48*10^-3, NA())","v":{"$error":"#N/A"}},379,5.9375362050824263,{"$f":" IF(Foglio1!$C$14 <> \"\", 8.314472*Foglio1!$C$14*Foglio2!N48, NA())","v":{"$error":"#N/A"}},{"$f":"IF(Foglio1!$H$14 <> \"\", Foglio1!$H$14 + O48*10^-3, NA())","v":{"$error":"#N/A"}},379,5.9375362050824263,{"$f":" IF(Foglio1!$C$15 <> \"\", 8.314472*Foglio1!$C$15*Foglio2!R48, NA())","v":{"$error":"#N/A"}},{"$f":"IF(Foglio1!$H$15 <> \"\", Foglio1!$H$15 + S48*10^-3, NA())","v":{"$error":"#N/A"}}]
[388,5.9610053396232736,{"$f":" IF(Foglio1!$C$11 <> \"\", 8.314472*Foglio1!$C$11*Foglio2!B49, NA())","v":14868.78359644446},{"$f":"IF(Foglio1!$H$11 <> \"\", Foglio1!$H$11 + C49*10^-3, NA())","v":-75.131216403555541},388,5.9610053396232736,{"$f":" IF(Foglio1!$C$12 <> \"\", 8.314472*Foglio1!$C$12*Foglio2!F49, NA())","v":{"$error":"#N/A"}},{"$f":"IF(Foglio1!$H$12 <> \"\", Foglio1!$H$12 + G49*10^-3, NA())","v":{"$error":"#N/A"}},388,5.9610053396232736,{"$f":" IF(Foglio1!$C$13 <> \"\", 8.314472*Foglio1!$C$13*Foglio2!J49, NA())","v":{"$error":"#N/A"}},{"$f":"IF(Foglio1!$H$13 <> \"\", Foglio1!$H$13 + K49*10^-3, NA())","v":{"$error":"#N/A"}},388,5.9610053396232736,{"$f":" IF(Foglio1!$C$14 <> \"\", 8.314472*Foglio1!$C$14*Foglio2!N49, NA())","v":{"$error":"#N/A"}},{"$f":"IF(Foglio1!$H$14 <> \"\", Foglio1!$H$14 + O49*10^-3, NA())","v":{"$error":"#N/A"}},388,5.9610053396232736,{"$f":" IF(Foglio1!$C$15 <> \"\", 8.314472*Foglio1!$C$15*Foglio2!R49, NA())","v":{"$error":"#N/A"}},{"$f":"IF(Foglio1!$H$15 <> \"\", Foglio1!$H$15 + S49*10^-3, NA())","v":{"$error":"#N/A"}}]
[397,5.9839362806871907,{"$f":" IF(Foglio1!$C$11 <> \"\", 8.314472*Foglio1!$C$11*Foglio2!B50, NA())","v":14925.981196667337},{"$f":"IF(Foglio1!$H$11 <> \"\", Foglio1!$H$11 + C50*10^-3, NA())","v":-75.074018803332663},397,5.9839362806871907,{"$f":" IF(Foglio1!$C$12 <> \"\", 8.314472*Foglio1!$C$12*Foglio2!F50, NA())","v":{"$error":"#N/A"}},{"$f":"IF(Foglio1!$H$12 <> \"\", Foglio1!$H$12 + G50*10^-3, NA())","v":{"$error":"#N/A"}},397,5.9839362806871907,{"$f":" IF(Foglio1!$C$13 <> \"\", 8.314472*Foglio1!$C$13*Foglio2!J50, NA())","v":{"$error":"#N/A"}},{"$f":"IF(Foglio1!$H$13 <> \"\", Foglio1!$H$13 + K50*10^-3, NA())","v":{"$error":"#N/A"}},397,5.9839362806871907,{"$f":" IF(Foglio1!$C$14 <> \"\", 8.314472*Foglio1!$C$14*Foglio2!N50, NA())","v":{"$error":"#N/A"}},{"$f":"IF(Foglio1!$H$14 <> \"\", Foglio1!$H$14 + O50*10^-3, NA())","v":{"$error":"#N/A"}},397,5.9839362806871907,{"$f":" IF(Foglio1!$C$15 <> \"\", 8.314472*Foglio1!$C$15*Foglio2!R50, NA())","v":{"$error":"#N/A"}},{"$f":"IF(Foglio1!$H$15 <> \"\", Foglio1!$H$15 + S50*10^-3, NA())","v":{"$error":"#N/A"}}]
[406,6.0063531596017325,{"$f":" IF(Foglio1!$C$11 <> \"\", 8.314472*Foglio1!$C$11*Foglio2!B51, NA())","v":14981.896550286043},{"$f":"IF(Foglio1!$H$11 <> \"\", Foglio1!$H$11 + C51*10^-3, NA())","v":-75.018103449713962},406,6.0063531596017325,{"$f":" IF(Foglio1!$C$12 <> \"\", 8.314472*Foglio1!$C$12*Foglio2!F51, NA())","v":{"$error":"#N/A"}},{"$f":"IF(Foglio1!$H$12 <> \"\", Foglio1!$H$12 + G51*10^-3, NA())","v":{"$error":"#N/A"}},406,6.0063531596017325,{"$f":" IF(Foglio1!$C$13 <> \"\", 8.314472*Foglio1!$C$13*Foglio2!J51, NA())","v":{"$error":"#N/A"}},{"$f":"IF(Foglio1!$H$13 <> \"\", Foglio1!$H$13 + K51*10^-3, NA())","v":{"$error":"#N/A"}},406,6.0063531596017325,{"$f":" IF(Foglio1!$C$14 <> \"\", 8.314472*Foglio1!$C$14*Foglio2!N51, NA())","v":{"$error":"#N/A"}},{"$f":"IF(Foglio1!$H$14 <> \"\", Foglio1!$H$14 + O51*10^-3, NA())","v":{"$error":"#N/A"}},406,6.0063531596017325,{"$f":" IF(Foglio1!$C$15 <> \"\", 8.314472*Foglio1!$C$15*Foglio2!R51, NA())","v":{"$error":"#N/A"}},{"$f":"IF(Foglio1!$H$15 <> \"\", Foglio1!$H$15 + S51*10^-3, NA())","v":{"$error":"#N/A"}}]
[415,6.0282785202306979,{"$f":" IF(Foglio1!$C$11 <> \"\", 8.314472*Foglio1!$C$11*Foglio2!B52, NA())","v":15036.585889397873},{"$f":"IF(Foglio1!$H$11 <> \"\", Foglio1!$H$11 + C52*10^-3, NA())","v":-74.96341411060213},415,6.0282785202306979,{"$f":" IF(Foglio1!$C$12 <> \"\", 8.314472*Foglio1!$C$12*Foglio2!F52, NA())","v":{"$error":"#N/A"}},{"$f":"IF(Foglio1!$H$12 <> \"\", Foglio1!$H$12 + G52*10^-3, NA())","v":{"$error":"#N/A"}},415,6.0282785202306979,{"$f":" IF(Foglio1!$C$13 <> \"\", 8.314472*Foglio1!$C$13*Foglio2!J52, NA())","v":{"$error":"#N/A"}},{"$f":"IF(Foglio1!$H$13 <> \"\", Foglio1!$H$13 + K52*10^-3, NA())","v":{"$error":"#N/A"}},415,6.0282785202306979,{"$f":" IF(Foglio1!$C$14 <> \"\", 8.314472*Foglio1!$C$14*Foglio2!N52, NA())","v":{"$error":"#N/A"}},{"$f":"IF(Foglio1!$H$14 <> \"\", Foglio1!$H$14 + O52*10^-3, NA())","v":{"$error":"#N/A"}},415,6.0282785202306979,{"$f":" IF(Foglio1!$C$15 <> \"\", 8.314472*Foglio1!$C$15*Foglio2!R52, NA())","v":{"$error":"#N/A"}},{"$f":"IF(Foglio1!$H$15 <> \"\", Foglio1!$H$15 + S52*10^-3, NA())","v":{"$error":"#N/A"}}]
[424,6.0497334552319577,{"$f":" IF(Foglio1!$C$11 <> \"\", 8.314472*Foglio1!$C$11*Foglio2!B53, NA())","v":15090.101826296812},{"$f":"IF(Foglio1!$H$11 <> \"\", Foglio1!$H$11 + C53*10^-3, NA())","v":-74.909898173703183},424,6.0497334552319577,{"$f":" IF(Foglio1!$C$12 <> \"\", 8.314472*Foglio1!$C$12*Foglio2!F53, NA())","v":{"$error":"#N/A"}},{"$f":"IF(Foglio1!$H$12 <> \"\", Foglio1!$H$12 + G53*10^-3, NA())","v":{"$error":"#N/A"}},424,6.0497334552319577,{"$f":" IF(Foglio1!$C$13 <> \"\", 8.314472*Foglio1!$C$13*Foglio2!J53, NA())","v":{"$error":"#N/A"}},{"$f":"IF(Foglio1!$H$13 <> \"\", Foglio1!$H$13 + K53*10^-3, NA())","v":{"$error":"#N/A"}},424,6.0497334552319577,{"$f":" IF(Foglio1!$C$14 <> \"\", 8.314472*Foglio1!$C$14*Foglio2!N53, NA())","v":{"$error":"#N/A"}},{"$f":"IF(Foglio1!$H$14 <> \"\", Foglio1!$H$14 + O53*10^-3, NA())","v":{"$error":"#N/A"}},424,6.0497334552319577,{"$f":" IF(Foglio1!$C$15 <> \"\", 8.314472*Foglio1!$C$15*Foglio2!R53, NA())","v":{"$error":"#N/A"}},{"$f":"IF(Foglio1!$H$15 <> \"\", Foglio1!$H$15 + S53*10^-3, NA())","v":{"$error":"#N/A"}}]
[433,6.0707377280024897,{"$f":" IF(Foglio1!$C$11 <> \"\", 8.314472*Foglio1!$C$11*Foglio2!B54, NA())","v":15142.493657646097},{"$f":"IF(Foglio1!$H$11 <> \"\", Foglio1!$H$11 + C54*10^-3, NA())","v":-74.857506342353901},433,6.0707377280024897,{"$f":" IF(Foglio1!$C$12 <> \"\", 8.314472*Foglio1!$C$12*Foglio2!F54, NA())","v":{"$error":"#N/A"}},{"$f":"IF(Foglio1!$H$12 <> \"\", Foglio1!$H$12 + G54*10^-3, NA())","v":{"$error":"#N/A"}},433,6.0707377280024897,{"$f":" IF(Foglio1!$C$13 <> \"\", 8.314472*Foglio1!$C$13*Foglio2!J54, NA())","v":{"$error":"#N/A"}},{"$f":"IF(Foglio1!$H$13 <> \"\", Foglio1!$H$13 + K54*10^-3, NA())","v":{"$error":"#N/A"}},433,6.0707377280024897,{"$f":" IF(Foglio1!$C$14 <> \"\", 8.314472*Foglio1!$C$14*Foglio2!N54, NA())","v":{"$error":"#N/A"}},{"$f":"IF(Foglio1!$H$14 <> \"\", Foglio1!$H$14 + O54*10^-3, NA())","v":{"$error":"#N/A"}},433,6.0707377280024897,{"$f":" IF(Foglio1!$C$15 <> \"\", 8.314472*Foglio1!$C$15*Foglio2!R54, NA())","v":{"$error":"#N/A"}},{"$f":"IF(Foglio1!$H$15 <> \"\", Foglio1!$H$15 + S54*10^-3, NA())","v":{"$error":"#N/A"}}]
[442,6.0913098820776979,{"$f":" IF(Foglio1!$C$11 <> \"\", 8.314472*Foglio1!$C$11*Foglio2!B55, NA())","v":15193.807637357497},{"$f":"IF(Foglio1!$H$11 <> \"\", Foglio1!$H$11 + C55*10^-3, NA())","v":-74.806192362642506},442,6.0913098820776979,{"$f":" IF(Foglio1!$C$12 <> \"\", 8.314472*Foglio1!$C$12*Foglio2!F55, NA())","v":{"$error":"#N/A"}},{"$f":"IF(Foglio1!$H$12 <> \"\", Foglio1!$H$12 + G55*10^-3, NA())","v":{"$error":"#N/A"}},442,6.0913098820776979,{"$f":" IF(Foglio1!$C$13 <> \"\", 8.314472*Foglio1!$C$13*Foglio2!J55, NA())","v":{"$error":"#N/A"}},{"$f":"IF(Foglio1!$H$13 <> \"\", Foglio1!$H$13 + K55*10^-3, NA())","v":{"$error":"#N/A"}},442,6.0913098820776979,{"$f":" IF(Foglio1!$C$14 <> \"\", 8.314472*Foglio1!$C$14*Foglio2!N55, NA())","v":{"$error":"#N/A"}},{"$f":"IF(Foglio1!$H$14 <> \"\", Foglio1!$H$14 + O55*10^-3, NA())","v":{"$error":"#N/A"}},442,6.0913098820776979,{"$f":" IF(Foglio1!$C$15 <> \"\", 8.314472*Foglio1!$C$15*Foglio2!R55, NA())","v":{"$error":"#N/A"}},{"$f":"IF(Foglio1!$H$15 <> \"\", Foglio1!$H$15 + S55*10^-3, NA())","v":{"$error":"#N/A"}}]
[451,6.1114673395026786,{"$f":" IF(Foglio1!$C$11 <> \"\", 8.314472*Foglio1!$C$11*Foglio2!B56, NA())","v":15244.087221962856},{"$f":"IF(Foglio1!$H$11 <> \"\", Foglio1!$H$11 + C56*10^-3, NA())","v":-74.755912778037143},451,6.1114673395026786,{"$f":" IF(Foglio1!$C$12 <> \"\", 8.314472*Foglio1!$C$12*Foglio2!F56, NA())","v":{"$error":"#N/A"}},{"$f":"IF(Foglio1!$H$12 <> \"\", Foglio1!$H$12 + G56*10^-3, NA())","v":{"$error":"#N/A"}},451,6.1114673395026786,{"$f":" IF(Foglio1!$C$13 <> \"\", 8.314472*Foglio1!$C$13*Foglio2!J56, NA())","v":{"$error":"#N/A"}},{"$f":"IF(Foglio1!$H$13 <> \"\", Foglio1!$H$13 + K56*10^-3, NA())","v":{"$error":"#N/A"}},451,6.1114673395026786,{"$f":" IF(Foglio1!$C$14 <> \"\", 8.314472*Foglio1!$C$14*Foglio2!N56, NA())","v":{"$error":"#N/A"}},{"$f":"IF(Foglio1!$H$14 <> \"\", Foglio1!$H$14 + O56*10^-3, NA())","v":{"$error":"#N/A"}},451,6.1114673395026786,{"$f":" IF(Foglio1!$C$15 <> \"\", 8.314472*Foglio1!$C$15*Foglio2!R56, NA())","v":{"$error":"#N/A"}},{"$f":"IF(Foglio1!$H$15 <> \"\", Foglio1!$H$15 + S56*10^-3, NA())","v":{"$error":"#N/A"}}]
[460,6.131226489483141,{"$f":" IF(Foglio1!$C$11 <> \"\", 8.314472*Foglio1!$C$11*Foglio2!B57, NA())","v":15293.373291739763},{"$f":"IF(Foglio1!$H$11 <> \"\", Foglio1!$H$11 + C57*10^-3, NA())","v":-74.706626708260231},460,6.131226489483141,{"$f":" IF(Foglio1!$C$12 <> \"\", 8.314472*Foglio1!$C$12*Foglio2!F57, NA())","v":{"$error":"#N/A"}},{"$f":"IF(Foglio1!$H$12 <> \"\", Foglio1!$H$12 + G57*10^-3, NA())","v":{"$error":"#N/A"}},460,6.131226489483141,{"$f":" IF(Foglio1!$C$13 <> \"\", 8.314472*Foglio1!$C$13*Foglio2!J57, NA())","v":{"$error":"#N/A"}},{"$f":"IF(Foglio1!$H$13 <> \"\", Foglio1!$H$13 + K57*10^-3, NA())","v":{"$error":"#N/A"}},460,6.131226489483141,{"$f":" IF(Foglio1!$C$14 <> \"\", 8.314472*Foglio1!$C$14*Foglio2!N57, NA())","v":{"$error":"#N/A"}},{"$f":"IF(Foglio1!$H$14 <> \"\", Foglio1!$H$14 + O57*10^-3, NA())","v":{"$error":"#N/A"}},460,6.131226489483141,{"$f":" IF(Foglio1!$C$15 <> \"\", 8.314472*Foglio1!$C$15*Foglio2!R57, NA())","v":{"$error":"#N/A"}},{"$f":"IF(Foglio1!$H$15 <> \"\", Foglio1!$H$15 + S57*10^-3, NA())","v":{"$error":"#N/A"}}]
[469,6.1506027684462792,{"$f":" IF(Foglio1!$C$11 <> \"\", 8.314472*Foglio1!$C$11*Foglio2!B58, NA())","v":15341.704350410722},{"$f":"IF(Foglio1!$H$11 <> \"\", Foglio1!$H$11 + C58*10^-3, NA())","v":-74.658295649589277},469,6.1506027684462792,{"$f":" IF(Foglio1!$C$12 <> \"\", 8.314472*Foglio1!$C$12*Foglio2!F58, NA())","v":{"$error":"#N/A"}},{"$f":"IF(Foglio1!$H$12 <> \"\", Foglio1!$H$12 + G58*10^-3, NA())","v":{"$error":"#N/A"}},469,6.1506027684462792,{"$f":" IF(Foglio1!$C$13 <> \"\", 8.314472*Foglio1!$C$13*Foglio2!J58, NA())","v":{"$error":"#N/A"}},{"$f":"IF(Foglio1!$H$13 <> \"\", Foglio1!$H$13 + K58*10^-3, NA())","v":{"$error":"#N/A"}},469,6.1506027684462792,{"$f":" IF(Foglio1!$C$14 <> \"\", 8.314472*Foglio1!$C$14*Foglio2!N58, NA())","v":{"$error":"#N/A"}},{"$f":"IF(Foglio1!$H$14 <> \"\", Foglio1!$H$14 + O58*10^-3, NA())","v":{"$error":"#N/A"}},469,6.1506027684462792,{"$f":" IF(Foglio1!$C$15 <> \"\", 8.314472*Foglio1!$C$15*Foglio2!R58, NA())","v":{"$error":"#N/A"}},{"$f":"IF(Foglio1!$H$15 <> \"\", Foglio1!$H$15 + S58*10^-3, NA())","v":{"$error":"#N/A"}}]
[478,6.1696107324914564,{"$f":" IF(Foglio1!$C$11 <> \"\", 8.314472*Foglio1!$C$11*Foglio2!B59, NA())","v":15389.116705859913},{"$f":"IF(Foglio1!$H$11 <> \"\", Foglio1!$H$11 + C59*10^-3, NA())","v":-74.610883294140081},478,6.1696107324914564,{"$f":" IF(Foglio1!$C$12 <> \"\", 8.314472*Foglio1!$C$12*Foglio2!F59, NA())","v":{"$error":"#N/A"}},{"$f":"IF(Foglio1!$H$12 <> \"\", Foglio1!$H$12 + G59*10^-3, NA())","v":{"$error":"#N/A"}},478,6.1696107324914564,{"$f":" IF(Foglio1!$C$13 <> \"\", 8.314472*Foglio1!$C$13*Foglio2!J59, NA())","v":{"$error":"#N/A"}},{"$f":"IF(Foglio1!$H$13 <> \"\", Foglio1!$H$13 + K59*10^-3, NA())","v":{"$error":"#N/A"}},478,6.1696107324914564,{"$f":" IF(Foglio1!$C$14 <> \"\", 8.314472*Foglio1!$C$14*Foglio2!N59, NA())","v":{"$error":"#N/A"}},{"$f":"IF(Foglio1!$H$14 <> \"\", Foglio1!$H$14 + O59*10^-3, NA())","v":{"$error":"#N/A"}},478,6.1696107324914564,{"$f":" IF(Foglio1!$C$15 <> \"\", 8.314472*Foglio1!$C$15*Foglio2!R59, NA())","v":{"$error":"#N/A"}},{"$f":"IF(Foglio1!$H$15 <> \"\", Foglio1!$H$15 + S59*10^-3, NA())","v":{"$error":"#N/A"}}]
[487,6.1882641230825897,{"$f":" IF(Foglio1!$C$11 <> \"\", 8.314472*Foglio1!$C$11*Foglio2!B60, NA())","v":15435.644633992424},{"$f":"IF(Foglio1!$H$11 <> \"\", Foglio1!$H$11 + C60*10^-3, NA())","v":-74.564355366007575},487,6.1882641230825897,{"$f":" IF(Foglio1!$C$12 <> \"\", 8.314472*Foglio1!$C$12*Foglio2!F60, NA())","v":{"$error":"#N/A"}},{"$f":"IF(Foglio1!$H$12 <> \"\", Foglio1!$H$12 + G60*10^-3, NA())","v":{"$error":"#N/A"}},487,6.1882641230825897,{"$f":" IF(Foglio1!$C$13 <> \"\", 8.314472*Foglio1!$C$13*Foglio2!J60, NA())","v":{"$error":"#N/A"}},{"$f":"IF(Foglio1!$H$13 <> \"\", Foglio1!$H$13 + K60*10^-3, NA())","v":{"$error":"#N/A"}},487,6.1882641230825897,{"$f":" IF(Foglio1!$C$14 <> \"\", 8.314472*Foglio1!$C$14*Foglio2!N60, NA())","v":{"$error":"#N/A"}},{"$f":"IF(Foglio1!$H$14 <> \"\", Foglio1!$H$14 + O60*10^-3, NA())","v":{"$error":"#N/A"}},487,6.1882641230825897,{"$f":" IF(Foglio1!$C$15 <> \"\", 8.314472*Foglio1!$C$15*Foglio2!R60, NA())","v":{"$error":"#N/A"}},{"$f":"IF(Foglio1!$H$15 <> \"\", Foglio1!$H$15 + S60*10^-3, NA())","v":{"$error":"#N/A"}}]
[496,6.2065759267249279,{"$f":" IF(Foglio1!$C$11 <> \"\", 8.314472*Foglio1!$C$11*Foglio2!B61, NA())","v":15481.320527588541},{"$f":"IF(Foglio1!$H$11 <> \"\", Foglio1!$H$11 + C61*10^-3, NA())","v":-74.518679472411463},496,6.2065759267249279,{"$f":" IF(Foglio1!$C$12 <> \"\", 8.314472*Foglio1!$C$12*Foglio2!F61, NA())","v":{"$error":"#N/A"}},{"$f":"IF(Foglio1!$H$12 <> \"\", Foglio1!$H$12 + G61*10^-3, NA())","v":{"$error":"#N/A"}},496,6.2065759267249279,{"$f":" IF(Foglio1!$C$13 <> \"\", 8.314472*Foglio1!$C$13*Foglio2!J61, NA())","v":{"$error":"#N/A"}},{"$f":"IF(Foglio1!$H$13 <> \"\", Foglio1!$H$13 + K61*10^-3, NA())","v":{"$error":"#N/A"}},496,6.2065759267249279,{"$f":" IF(Foglio1!$C$14 <> \"\", 8.314472*Foglio1!$C$14*Foglio2!N61, NA())","v":{"$error":"#N/A"}},{"$f":"IF(Foglio1!$H$14 <> \"\", Foglio1!$H$14 + O61*10^-3, NA())","v":{"$error":"#N/A"}},496,6.2065759267249279,{"$f":" IF(Foglio1!$C$15 <> \"\", 8.314472*Foglio1!$C$15*Foglio2!R61, NA())","v":{"$error":"#N/A"}},{"$f":"IF(Foglio1!$H$15 <> \"\", Foglio1!$H$15 + S61*10^-3, NA())","v":{"$error":"#N/A"}}]
[505,6.2245584292753602,{"$f":" IF(Foglio1!$C$11 <> \"\", 8.314472*Foglio1!$C$11*Foglio2!B62, NA())","v":15526.175031772191},{"$f":"IF(Foglio1!$H$11 <> \"\", Foglio1!$H$11 + C62*10^-3, NA())","v":-74.473824968227802},505,6.2245584292753602,{"$f":" IF(Foglio1!$C$12 <> \"\", 8.314472*Foglio1!$C$12*Foglio2!F62, NA())","v":{"$error":"#N/A"}},{"$f":"IF(Foglio1!$H$12 <> \"\", Foglio1!$H$12 + G62*10^-3, NA())","v":{"$error":"#N/A"}},505,6.2245584292753602,{"$f":" IF(Foglio1!$C$13 <> \"\", 8.314472*Foglio1!$C$13*Foglio2!J62, NA())","v":{"$error":"#N/A"}},{"$f":"IF(Foglio1!$H$13 <> \"\", Foglio1!$H$13 + K62*10^-3, NA())","v":{"$error":"#N/A"}},505,6.2245584292753602,{"$f":" IF(Foglio1!$C$14 <> \"\", 8.314472*Foglio1!$C$14*Foglio2!N62, NA())","v":{"$error":"#N/A"}},{"$f":"IF(Foglio1!$H$14 <> \"\", Foglio1!$H$14 + O62*10^-3, NA())","v":{"$error":"#N/A"}},505,6.2245584292753602,{"$f":" IF(Foglio1!$C$15 <> \"\", 8.314472*Foglio1!$C$15*Foglio2!R62, NA())","v":{"$error":"#N/A"}},{"$f":"IF(Foglio1!$H$15 <> \"\", Foglio1!$H$15 + S62*10^-3, NA())","v":{"$error":"#N/A"}}]
[514,6.2422232654551655,{"$f":" IF(Foglio1!$C$11 <> \"\", 8.314472*Foglio1!$C$11*Foglio2!B63, NA())","v":15570.237167512663},{"$f":"IF(Foglio1!$H$11 <> \"\", Foglio1!$H$11 + C63*10^-3, NA())","v":-74.429762832487341},514,6.2422232654551655,{"$f":" IF(Foglio1!$C$12 <> \"\", 8.314472*Foglio1!$C$12*Foglio2!F63, NA())","v":{"$error":"#N/A"}},{"$f":"IF(Foglio1!$H$12 <> \"\", Foglio1!$H$12 + G63*10^-3, NA())","v":{"$error":"#N/A"}},514,6.2422232654551655,{"$f":" IF(Foglio1!$C$13 <> \"\", 8.314472*Foglio1!$C$13*Foglio2!J63, NA())","v":{"$error":"#N/A"}},{"$f":"IF(Foglio1!$H$13 <> \"\", Foglio1!$H$13 + K63*10^-3, NA())","v":{"$error":"#N/A"}},514,6.2422232654551655,{"$f":" IF(Foglio1!$C$14 <> \"\", 8.314472*Foglio1!$C$14*Foglio2!N63, NA())","v":{"$error":"#N/A"}},{"$f":"IF(Foglio1!$H$14 <> \"\", Foglio1!$H$14 + O63*10^-3, NA())","v":{"$error":"#N/A"}},514,6.2422232654551655,{"$f":" IF(Foglio1!$C$15 <> \"\", 8.314472*Foglio1!$C$15*Foglio2!R63, NA())","v":{"$error":"#N/A"}},{"$f":"IF(Foglio1!$H$15 <> \"\", Foglio1!$H$15 + S63*10^-3, NA())","v":{"$error":"#N/A"}}]
[523,6.2595814640649232,{"$f":" IF(Foglio1!$C$11 <> \"\", 8.314472*Foglio1!$C$11*Foglio2!B64, NA())","v":15613.534444406045},{"$f":"IF(Foglio1!$H$11 <> \"\", Foglio1!$H$11 + C64*10^-3, NA())","v":-74.386465555593958},523,6.2595814640649232,{"$f":" IF(Foglio1!$C$12 <> \"\", 8.314472*Foglio1!$C$12*Foglio2!F64, NA())","v":{"$error":"#N/A"}},{"$f":"IF(Foglio1!$H$12 <> \"\", Foglio1!$H$12 + G64*10^-3, NA())","v":{"$error":"#N/A"}},523,6.2595814640649232,{"$f":" IF(Foglio1!$C$13 <> \"\", 8.314472*Foglio1!$C$13*Foglio2!J64, NA())","v":{"$error":"#N/A"}},{"$f":"IF(Foglio1!$H$13 <> \"\", Foglio1!$H$13 + K64*10^-3, NA())","v":{"$error":"#N/A"}},523,6.2595814640649232,{"$f":" IF(Foglio1!$C$14 <> \"\", 8.314472*Foglio1!$C$14*Foglio2!N64, NA())","v":{"$error":"#N/A"}},{"$f":"IF(Foglio1!$H$14 <> \"\", Foglio1!$H$14 + O64*10^-3, NA())","v":{"$error":"#N/A"}},523,6.2595814640649232,{"$f":" IF(Foglio1!$C$15 <> \"\", 8.314472*Foglio1!$C$15*Foglio2!R64, NA())","v":{"$error":"#N/A"}},{"$f":"IF(Foglio1!$H$15 <> \"\", Foglio1!$H$15 + S64*10^-3, NA())","v":{"$error":"#N/A"}}]
[532,6.2766434893416445,{"$f":" IF(Foglio1!$C$11 <> \"\", 8.314472*Foglio1!$C$11*Foglio2!B65, NA())","v":15656.092963834022},{"$f":"IF(Foglio1!$H$11 <> \"\", Foglio1!$H$11 + C65*10^-3, NA())","v":-74.343907036165973},532,6.2766434893416445,{"$f":" IF(Foglio1!$C$12 <> \"\", 8.314472*Foglio1!$C$12*Foglio2!F65, NA())","v":{"$error":"#N/A"}},{"$f":"IF(Foglio1!$H$12 <> \"\", Foglio1!$H$12 + G65*10^-3, NA())","v":{"$error":"#N/A"}},532,6.2766434893416445,{"$f":" IF(Foglio1!$C$13 <> \"\", 8.314472*Foglio1!$C$13*Foglio2!J65, NA())","v":{"$error":"#N/A"}},{"$f":"IF(Foglio1!$H$13 <> \"\", Foglio1!$H$13 + K65*10^-3, NA())","v":{"$error":"#N/A"}},532,6.2766434893416445,{"$f":" IF(Foglio1!$C$14 <> \"\", 8.314472*Foglio1!$C$14*Foglio2!N65, NA())","v":{"$error":"#N/A"}},{"$f":"IF(Foglio1!$H$14 <> \"\", Foglio1!$H$14 + O65*10^-3, NA())","v":{"$error":"#N/A"}},532,6.2766434893416445,{"$f":" IF(Foglio1!$C$15 <> \"\", 8.314472*Foglio1!$C$15*Foglio2!R65, NA())","v":{"$error":"#N/A"}},{"$f":"IF(Foglio1!$H$15 <> \"\", Foglio1!$H$15 + S65*10^-3, NA())","v":{"$error":"#N/A"}}]
[541,6.2934192788464811,{"$f":" IF(Foglio1!$C$11 <> \"\", 8.314472*Foglio1!$C$11*Foglio2!B66, NA())","v":15697.93751346878},{"$f":"IF(Foglio1!$H$11 <> \"\", Foglio1!$H$11 + C66*10^-3, NA())","v":-74.302062486531213},541,6.2934192788464811,{"$f":" IF(Foglio1!$C$12 <> \"\", 8.314472*Foglio1!$C$12*Foglio2!F66, NA())","v":{"$error":"#N/A"}},{"$f":"IF(Foglio1!$H$12 <> \"\", Foglio1!$H$12 + G66*10^-3, NA())","v":{"$error":"#N/A"}},541,6.2934192788464811,{"$f":" IF(Foglio1!$C$13 <> \"\", 8.314472*Foglio1!$C$13*Foglio2!J66, NA())","v":{"$error":"#N/A"}},{"$f":"IF(Foglio1!$H$13 <> \"\", Foglio1!$H$13 + K66*10^-3, NA())","v":{"$error":"#N/A"}},541,6.2934192788464811,{"$f":" IF(Foglio1!$C$14 <> \"\", 8.314472*Foglio1!$C$14*Foglio2!N66, NA())","v":{"$error":"#N/A"}},{"$f":"IF(Foglio1!$H$14 <> \"\", Foglio1!$H$14 + O66*10^-3, NA())","v":{"$error":"#N/A"}},541,6.2934192788464811,{"$f":" IF(Foglio1!$C$15 <> \"\", 8.314472*Foglio1!$C$15*Foglio2!R66, NA())","v":{"$error":"#N/A"}},{"$f":"IF(Foglio1!$H$15 <> \"\", Foglio1!$H$15 + S66*10^-3, NA())","v":{"$error":"#N/A"}}]
[550,{"$f":"LN(A67)","v":6.3099182782265162},{"$f":" IF(Foglio1!$C$11 <> \"\", 8.314472*Foglio1!$C$11*Foglio2!B67, NA())","v":15739.091653980775},{"$f":"IF(Foglio1!$H$11 <> \"\", Foglio1!$H$11 + C67*10^-3, NA())","v":-74.260908346019221},550,{"$f":"LN(E67)","v":6.3099182782265162},{"$f":" IF(Foglio1!$C$12 <> \"\", 8.314472*Foglio1!$C$12*Foglio2!F67, NA())","v":{"$error":"#N/A"}},{"$f":"IF(Foglio1!$H$12 <> \"\", Foglio1!$H$12 + G67*10^-3, NA())","v":{"$error":"#N/A"}},550,{"$f":"LN(I67)","v":6.3099182782265162},{"$f":" IF(Foglio1!$C$13 <> \"\", 8.314472*Foglio1!$C$13*Foglio2!J67, NA())","v":{"$error":"#N/A"}},{"$f":"IF(Foglio1!$H$13 <> \"\", Foglio1!$H$13 + K67*10^-3, NA())","v":{"$error":"#N/A"}},550,{"$f":"LN(M67)","v":6.3099182782265162},{"$f":" IF(Foglio1!$C$14 <> \"\", 8.314472*Foglio1!$C$14*Foglio2!N67, NA())","v":{"$error":"#N/A"}},{"$f":"IF(Foglio1!$H$14 <> \"\", Foglio1!$H$14 + O67*10^-3, NA())","v":{"$error":"#N/A"}},550,{"$f":"LN(Q67)","v":6.3099182782265162},{"$f":" IF(Foglio1!$C$15 <> \"\", 8.314472*Foglio1!$C$15*Foglio2!R67, NA())","v":{"$error":"#N/A"}},{"$f":"IF(Foglio1!$H$15 <> \"\", Foglio1!$H$15 + S67*10^-3, NA())","v":{"$error":"#N/A"}}]
[559,6.3261494731550991,{"$f":" IF(Foglio1!$C$11 <> \"\", 8.314472*Foglio1!$C$11*Foglio2!B68, NA())","v":15779.577798708848},{"$f":"IF(Foglio1!$H$11 <> \"\", Foglio1!$H$11 + C68*10^-3, NA())","v":-74.220422201291157},559,6.3261494731550991,{"$f":" IF(Foglio1!$C$12 <> \"\", 8.314472*Foglio1!$C$12*Foglio2!F68, NA())","v":{"$error":"#N/A"}},{"$f":"IF(Foglio1!$H$12 <> \"\", Foglio1!$H$12 + G68*10^-3, NA())","v":{"$error":"#N/A"}},559,6.3261494731550991,{"$f":" IF(Foglio1!$C$13 <> \"\", 8.314472*Foglio1!$C$13*Foglio2!J68, NA())","v":{"$error":"#N/A"}},{"$f":"IF(Foglio1!$H$13 <> \"\", Foglio1!$H$13 + K68*10^-3, NA())","v":{"$error":"#N/A"}},559,6.3261494731550991,{"$f":" IF(Foglio1!$C$14 <> \"\", 8.314472*Foglio1!$C$14*Foglio2!N68, NA())","v":{"$error":"#N/A"}},{"$f":"IF(Foglio1!$H$14 <> \"\", Foglio1!$H$14 + O68*10^-3, NA())","v":{"$error":"#N/A"}},559,6.3261494731550991,{"$f":" IF(Foglio1!$C$15 <> \"\", 8.314472*Foglio1!$C$15*Foglio2!R68, NA())","v":{"$error":"#N/A"}},{"$f":"IF(Foglio1!$H$15 <> \"\", Foglio1!$H$15 + S68*10^-3, NA())","v":{"$error":"#N/A"}}]
[568,6.3421214187211516,{"$f":" IF(Foglio1!$C$11 <> \"\", 8.314472*Foglio1!$C$11*Foglio2!B69, NA())","v":15819.417286967189},{"$f":"IF(Foglio1!$H$11 <> \"\", Foglio1!$H$11 + C69*10^-3, NA())","v":-74.180582713032805},568,6.3421214187211516,{"$f":" IF(Foglio1!$C$12 <> \"\", 8.314472*Foglio1!$C$12*Foglio2!F69, NA())","v":{"$error":"#N/A"}},{"$f":"IF(Foglio1!$H$12 <> \"\", Foglio1!$H$12 + G69*10^-3, NA())","v":{"$error":"#N/A"}},568,6.3421214187211516,{"$f":" IF(Foglio1!$C$13 <> \"\", 8.314472*Foglio1!$C$13*Foglio2!J69, NA())","v":{"$error":"#N/A"}},{"$f":"IF(Foglio1!$H$13 <> \"\", Foglio1!$H$13 + K69*10^-3, NA())","v":{"$error":"#N/A"}},568,6.3421214187211516,{"$f":" IF(Foglio1!$C$14 <> \"\", 8.314472*Foglio1!$C$14*Foglio2!N69, NA())","v":{"$error":"#N/A"}},{"$f":"IF(Foglio1!$H$14 <> \"\", Foglio1!$H$14 + O69*10^-3, NA())","v":{"$error":"#N/A"}},568,6.3421214187211516,{"$f":" IF(Foglio1!$C$15 <> \"\", 8.314472*Foglio1!$C$15*Foglio2!R69, NA())","v":{"$error":"#N/A"}},{"$f":"IF(Foglio1!$H$15 <> \"\", Foglio1!$H$15 + S69*10^-3, NA())","v":{"$error":"#N/A"}}]
[577,6.3578422665080998,{"$f":" IF(Foglio1!$C$11 <> \"\", 8.314472*Foglio1!$C$11*Foglio2!B70, NA())","v":15858.630451589441},{"$f":"IF(Foglio1!$H$11 <> \"\", Foglio1!$H$11 + C70*10^-3, NA())","v":-74.141369548410552},577,6.3578422665080998,{"$f":" IF(Foglio1!$C$12 <> \"\", 8.314472*Foglio1!$C$12*Foglio2!F70, NA())","v":{"$error":"#N/A"}},{"$f":"IF(Foglio1!$H$12 <> \"\", Foglio1!$H$12 + G70*10^-3, NA())","v":{"$error":"#N/A"}},577,6.3578422665080998,{"$f":" IF(Foglio1!$C$13 <> \"\", 8.314472*Foglio1!$C$13*Foglio2!J70, NA())","v":{"$error":"#N/A"}},{"$f":"IF(Foglio1!$H$13 <> \"\", Foglio1!$H$13 + K70*10^-3, NA())","v":{"$error":"#N/A"}},577,6.3578422665080998,{"$f":" IF(Foglio1!$C$14 <> \"\", 8.314472*Foglio1!$C$14*Foglio2!N70, NA())","v":{"$error":"#N/A"}},{"$f":"IF(Foglio1!$H$14 <> \"\", Foglio1!$H$14 + O70*10^-3, NA())","v":{"$error":"#N/A"}},577,6.3578422665080998,{"$f":" IF(Foglio1!$C$15 <> \"\", 8.314472*Foglio1!$C$15*Foglio2!R70, NA())","v":{"$error":"#N/A"}},{"$f":"IF(Foglio1!$H$15 <> \"\", Foglio1!$H$15 + S70*10^-3, NA())","v":{"$error":"#N/A"}}]
[586,6.3733197895770122,{"$f":" IF(Foglio1!$C$11 <> \"\", 8.314472*Foglio1!$C$11*Foglio2!B71, NA())","v":15897.236681245189},{"$f":"IF(Foglio1!$H$11 <> \"\", Foglio1!$H$11 + C71*10^-3, NA())","v":-74.10276331875481},586,6.3733197895770122,{"$f":" IF(Foglio1!$C$12 <> \"\", 8.314472*Foglio1!$C$12*Foglio2!F71, NA())","v":{"$error":"#N/A"}},{"$f":"IF(Foglio1!$H$12 <> \"\", Foglio1!$H$12 + G71*10^-3, NA())","v":{"$error":"#N/A"}},586,6.3733197895770122,{"$f":" IF(Foglio1!$C$13 <> \"\", 8.314472*Foglio1!$C$13*Foglio2!J71, NA())","v":{"$error":"#N/A"}},{"$f":"IF(Foglio1!$H$13 <> \"\", Foglio1!$H$13 + K71*10^-3, NA())","v":{"$error":"#N/A"}},586,6.3733197895770122,{"$f":" IF(Foglio1!$C$14 <> \"\", 8.314472*Foglio1!$C$14*Foglio2!N71, NA())","v":{"$error":"#N/A"}},{"$f":"IF(Foglio1!$H$14 <> \"\", Foglio1!$H$14 + O71*10^-3, NA())","v":{"$error":"#N/A"}},586,6.3733197895770122,{"$f":" IF(Foglio1!$C$15 <> \"\", 8.314472*Foglio1!$C$15*Foglio2!R71, NA())","v":{"$error":"#N/A"}},{"$f":"IF(Foglio1!$H$15 <> \"\", Foglio1!$H$15 + S71*10^-3, NA())","v":{"$error":"#N/A"}}]
[595,6.3885614055456301,{"$f":" IF(Foglio1!$C$11 <> \"\", 8.314472*Foglio1!$C$11*Foglio2!B72, NA())","v":15935.254478006937},{"$f":"IF(Foglio1!$H$11 <> \"\", Foglio1!$H$11 + C72*10^-3, NA())","v":-74.064745521993061},595,6.3885614055456301,{"$f":" IF(Foglio1!$C$12 <> \"\", 8.314472*Foglio1!$C$12*Foglio2!F72, NA())","v":{"$error":"#N/A"}},{"$f":"IF(Foglio1!$H$12 <> \"\", Foglio1!$H$12 + G72*10^-3, NA())","v":{"$error":"#N/A"}},595,6.3885614055456301,{"$f":" IF(Foglio1!$C$13 <> \"\", 8.314472*Foglio1!$C$13*Foglio2!J72, NA())","v":{"$error":"#N/A"}},{"$f":"IF(Foglio1!$H$13 <> \"\", Foglio1!$H$13 + K72*10^-3, NA())","v":{"$error":"#N/A"}},595,6.3885614055456301,{"$f":" IF(Foglio1!$C$14 <> \"\", 8.314472*Foglio1!$C$14*Foglio2!N72, NA())","v":{"$error":"#N/A"}},{"$f":"IF(Foglio1!$H$14 <> \"\", Foglio1!$H$14 + O72*10^-3, NA())","v":{"$error":"#N/A"}},595,6.3885614055456301,{"$f":" IF(Foglio1!$C$15 <> \"\", 8.314472*Foglio1!$C$15*Foglio2!R72, NA())","v":{"$error":"#N/A"}},{"$f":"IF(Foglio1!$H$15 <> \"\", Foglio1!$H$15 + S72*10^-3, NA())","v":{"$error":"#N/A"}}]
[604,6.4035741979348151,{"$f":" IF(Foglio1!$C$11 <> \"\", 8.314472*Foglio1!$C$11*Foglio2!B73, NA())","v":15972.701510595445},{"$f":"IF(Foglio1!$H$11 <> \"\", Foglio1!$H$11 + C73*10^-3, NA())","v":-74.027298489404558},604,6.4035741979348151,{"$f":" IF(Foglio1!$C$12 <> \"\", 8.314472*Foglio1!$C$12*Foglio2!F73, NA())","v":{"$error":"#N/A"}},{"$f":"IF(Foglio1!$H$12 <> \"\", Foglio1!$H$12 + G73*10^-3, NA())","v":{"$error":"#N/A"}},604,6.4035741979348151,{"$f":" IF(Foglio1!$C$13 <> \"\", 8.314472*Foglio1!$C$13*Foglio2!J73, NA())","v":{"$error":"#N/A"}},{"$f":"IF(Foglio1!$H$13 <> \"\", Foglio1!$H$13 + K73*10^-3, NA())","v":{"$error":"#N/A"}},604,6.4035741979348151,{"$f":" IF(Foglio1!$C$14 <> \"\", 8.314472*Foglio1!$C$14*Foglio2!N73, NA())","v":{"$error":"#N/A"}},{"$f":"IF(Foglio1!$H$14 <> \"\", Foglio1!$H$14 + O73*10^-3, NA())","v":{"$error":"#N/A"}},604,6.4035741979348151,{"$f":" IF(Foglio1!$C$15 <> \"\", 8.314472*Foglio1!$C$15*Foglio2!R73, NA())","v":{"$error":"#N/A"}},{"$f":"IF(Foglio1!$H$15 <> \"\", Foglio1!$H$15 + S73*10^-3, NA())","v":{"$error":"#N/A"}}]
[613,6.4183649359362116,{"$f":" IF(Foglio1!$C$11 <> \"\", 8.314472*Foglio1!$C$11*Foglio2!B74, NA())","v":16009.594663687029},{"$f":"IF(Foglio1!$H$11 <> \"\", Foglio1!$H$11 + C74*10^-3, NA())","v":-73.990405336312975},613,6.4183649359362116,{"$f":" IF(Foglio1!$C$12 <> \"\", 8.314472*Foglio1!$C$12*Foglio2!F74, NA())","v":{"$error":"#N/A"}},{"$f":"IF(Foglio1!$H$12 <> \"\", Foglio1!$H$12 + G74*10^-3, NA())","v":{"$error":"#N/A"}},613,6.4183649359362116,{"$f":" IF(Foglio1!$C$13 <> \"\", 8.314472*Foglio1!$C$13*Foglio2!J74, NA())","v":{"$error":"#N/A"}},{"$f":"IF(Foglio1!$H$13 <> \"\", Foglio1!$H$13 + K74*10^-3, NA())","v":{"$error":"#N/A"}},613,6.4183649359362116,{"$f":" IF(Foglio1!$C$14 <> \"\", 8.314472*Foglio1!$C$14*Foglio2!N74, NA())","v":{"$error":"#N/A"}},{"$f":"IF(Foglio1!$H$14 <> \"\", Foglio1!$H$14 + O74*10^-3, NA())","v":{"$error":"#N/A"}},613,6.4183649359362116,{"$f":" IF(Foglio1!$C$15 <> \"\", 8.314472*Foglio1!$C$15*Foglio2!R74, NA())","v":{"$error":"#N/A"}},{"$f":"IF(Foglio1!$H$15 <> \"\", Foglio1!$H$15 + S74*10^-3, NA())","v":{"$error":"#N/A"}}]
[622,6.4329400927391793,{"$f":" IF(Foglio1!$C$11 <> \"\", 8.314472*Foglio1!$C$11*Foglio2!B75, NA())","v":16045.950083627195},{"$f":"IF(Foglio1!$H$11 <> \"\", Foglio1!$H$11 + C75*10^-3, NA())","v":-73.95404991637281},622,6.4329400927391793,{"$f":" IF(Foglio1!$C$12 <> \"\", 8.314472*Foglio1!$C$12*Foglio2!F75, NA())","v":{"$error":"#N/A"}},{"$f":"IF(Foglio1!$H$12 <> \"\", Foglio1!$H$12 + G75*10^-3, NA())","v":{"$error":"#N/A"}},622,6.4329400927391793,{"$f":" IF(Foglio1!$C$13 <> \"\", 8.314472*Foglio1!$C$13*Foglio2!J75, NA())","v":{"$error":"#N/A"}},{"$f":"IF(Foglio1!$H$13 <> \"\", Foglio1!$H$13 + K75*10^-3, NA())","v":{"$error":"#N/A"}},622,6.4329400927391793,{"$f":" IF(Foglio1!$C$14 <> \"\", 8.314472*Foglio1!$C$14*Foglio2!N75, NA())","v":{"$error":"#N/A"}},{"$f":"IF(Foglio1!$H$14 <> \"\", Foglio1!$H$14 + O75*10^-3, NA())","v":{"$error":"#N/A"}},622,6.4329400927391793,{"$f":" IF(Foglio1!$C$15 <> \"\", 8.314472*Foglio1!$C$15*Foglio2!R75, NA())","v":{"$error":"#N/A"}},{"$f":"IF(Foglio1!$H$15 <> \"\", Foglio1!$H$15 + S75*10^-3, NA())","v":{"$error":"#N/A"}}]
[631,6.4473058625412127,{"$f":" IF(Foglio1!$C$11 <> \"\", 8.314472*Foglio1!$C$11*Foglio2!B76, NA())","v":16081.78322086043},{"$f":"IF(Foglio1!$H$11 <> \"\", Foglio1!$H$11 + C76*10^-3, NA())","v":-73.91821677913957},631,6.4473058625412127,{"$f":" IF(Foglio1!$C$12 <> \"\", 8.314472*Foglio1!$C$12*Foglio2!F76, NA())","v":{"$error":"#N/A"}},{"$f":"IF(Foglio1!$H$12 <> \"\", Foglio1!$H$12 + G76*10^-3, NA())","v":{"$error":"#N/A"}},631,6.4473058625412127,{"$f":" IF(Foglio1!$C$13 <> \"\", 8.314472*Foglio1!$C$13*Foglio2!J76, NA())","v":{"$error":"#N/A"}},{"$f":"IF(Foglio1!$H$13 <> \"\", Foglio1!$H$13 + K76*10^-3, NA())","v":{"$error":"#N/A"}},631,6.4473058625412127,{"$f":" IF(Foglio1!$C$14 <> \"\", 8.314472*Foglio1!$C$14*Foglio2!N76, NA())","v":{"$error":"#N/A"}},{"$f":"IF(Foglio1!$H$14 <> \"\", Foglio1!$H$14 + O76*10^-3, NA())","v":{"$error":"#N/A"}},631,6.4473058625412127,{"$f":" IF(Foglio1!$C$15 <> \"\", 8.314472*Foglio1!$C$15*Foglio2!R76, NA())","v":{"$error":"#N/A"}},{"$f":"IF(Foglio1!$H$15 <> \"\", Foglio1!$H$15 + S76*10^-3, NA())","v":{"$error":"#N/A"}}]
[640,6.4614681763537174,{"$f":" IF(Foglio1!$C$11 <> \"\", 8.314472*Foglio1!$C$11*Foglio2!B77, NA())","v":16117.108869355216},{"$f":"IF(Foglio1!$H$11 <> \"\", Foglio1!$H$11 + C77*10^-3, NA())","v":-73.882891130644779},640,6.4614681763537174,{"$f":" IF(Foglio1!$C$12 <> \"\", 8.314472*Foglio1!$C$12*Foglio2!F77, NA())","v":{"$error":"#N/A"}},{"$f":"IF(Foglio1!$H$12 <> \"\", Foglio1!$H$12 + G77*10^-3, NA())","v":{"$error":"#N/A"}},640,6.4614681763537174,{"$f":" IF(Foglio1!$C$13 <> \"\", 8.314472*Foglio1!$C$13*Foglio2!J77, NA())","v":{"$error":"#N/A"}},{"$f":"IF(Foglio1!$H$13 <> \"\", Foglio1!$H$13 + K77*10^-3, NA())","v":{"$error":"#N/A"}},640,6.4614681763537174,{"$f":" IF(Foglio1!$C$14 <> \"\", 8.314472*Foglio1!$C$14*Foglio2!N77, NA())","v":{"$error":"#N/A"}},{"$f":"IF(Foglio1!$H$14 <> \"\", Foglio1!$H$14 + O77*10^-3, NA())","v":{"$error":"#N/A"}},640,6.4614681763537174,{"$f":" IF(Foglio1!$C$15 <> \"\", 8.314472*Foglio1!$C$15*Foglio2!R77, NA())","v":{"$error":"#N/A"}},{"$f":"IF(Foglio1!$H$15 <> \"\", Foglio1!$H$15 + S77*10^-3, NA())","v":{"$error":"#N/A"}}]
[649,6.4754327167040904,{"$f":" IF(Foglio1!$C$11 <> \"\", 8.314472*Foglio1!$C$11*Foglio2!B78, NA())","v":16151.941203276028},{"$f":"IF(Foglio1!$H$11 <> \"\", Foglio1!$H$11 + C78*10^-3, NA())","v":-73.848058796723976},649,6.4754327167040904,{"$f":" IF(Foglio1!$C$12 <> \"\", 8.314472*Foglio1!$C$12*Foglio2!F78, NA())","v":{"$error":"#N/A"}},{"$f":"IF(Foglio1!$H$12 <> \"\", Foglio1!$H$12 + G78*10^-3, NA())","v":{"$error":"#N/A"}},649,6.4754327167040904,{"$f":" IF(Foglio1!$C$13 <> \"\", 8.314472*Foglio1!$C$13*Foglio2!J78, NA())","v":{"$error":"#N/A"}},{"$f":"IF(Foglio1!$H$13 <> \"\", Foglio1!$H$13 + K78*10^-3, NA())","v":{"$error":"#N/A"}},649,6.4754327167040904,{"$f":" IF(Foglio1!$C$14 <> \"\", 8.314472*Foglio1!$C$14*Foglio2!N78, NA())","v":{"$error":"#N/A"}},{"$f":"IF(Foglio1!$H$14 <> \"\", Foglio1!$H$14 + O78*10^-3, NA())","v":{"$error":"#N/A"}},649,6.4754327167040904,{"$f":" IF(Foglio1!$C$15 <> \"\", 8.314472*Foglio1!$C$15*Foglio2!R78, NA())","v":{"$error":"#N/A"}},{"$f":"IF(Foglio1!$H$15 <> \"\", Foglio1!$H$15 + S78*10^-3, NA())","v":{"$error":"#N/A"}}]
[658,6.4892049313253173,{"$f":" IF(Foglio1!$C$11 <> \"\", 8.314472*Foglio1!$C$11*Foglio2!B79, NA())","v":16186.293811129883},{"$f":"IF(Foglio1!$H$11 <> \"\", Foglio1!$H$11 + C79*10^-3, NA())","v":-73.813706188870114},658,6.4892049313253173,{"$f":" IF(Foglio1!$C$12 <> \"\", 8.314472*Foglio1!$C$12*Foglio2!F79, NA())","v":{"$error":"#N/A"}},{"$f":"IF(Foglio1!$H$12 <> \"\", Foglio1!$H$12 + G79*10^-3, NA())","v":{"$error":"#N/A"}},658,6.4892049313253173,{"$f":" IF(Foglio1!$C$13 <> \"\", 8.314472*Foglio1!$C$13*Foglio2!J79, NA())","v":{"$error":"#N/A"}},{"$f":"IF(Foglio1!$H$13 <> \"\", Foglio1!$H$13 + K79*10^-3, NA())","v":{"$error":"#N/A"}},658,6.4892049313253173,{"$f":" IF(Foglio1!$C$14 <> \"\", 8.314472*Foglio1!$C$14*Foglio2!N79, NA())","v":{"$error":"#N/A"}},{"$f":"IF(Foglio1!$H$14 <> \"\", Foglio1!$H$14 + O79*10^-3, NA())","v":{"$error":"#N/A"}},658,6.4892049313253173,{"$f":" IF(Foglio1!$C$15 <> \"\", 8.314472*Foglio1!$C$15*Foglio2!R79, NA())","v":{"$error":"#N/A"}},{"$f":"IF(Foglio1!$H$15 <> \"\", Foglio1!$H$15 + S79*10^-3, NA())","v":{"$error":"#N/A"}}]
[667,6.5027900459156234,{"$f":" IF(Foglio1!$C$11 <> \"\", 8.314472*Foglio1!$C$11*Foglio2!B80, NA())","v":16220.179727593251},{"$f":"IF(Foglio1!$H$11 <> \"\", Foglio1!$H$11 + C80*10^-3, NA())","v":-73.779820272406752},667,6.5027900459156234,{"$f":" IF(Foglio1!$C$12 <> \"\", 8.314472*Foglio1!$C$12*Foglio2!F80, NA())","v":{"$error":"#N/A"}},{"$f":"IF(Foglio1!$H$12 <> \"\", Foglio1!$H$12 + G80*10^-3, NA())","v":{"$error":"#N/A"}},667,6.5027900459156234,{"$f":" IF(Foglio1!$C$13 <> \"\", 8.314472*Foglio1!$C$13*Foglio2!J80, NA())","v":{"$error":"#N/A"}},{"$f":"IF(Foglio1!$H$13 <> \"\", Foglio1!$H$13 + K80*10^-3, NA())","v":{"$error":"#N/A"}},667,6.5027900459156234,{"$f":" IF(Foglio1!$C$14 <> \"\", 8.314472*Foglio1!$C$14*Foglio2!N80, NA())","v":{"$error":"#N/A"}},{"$f":"IF(Foglio1!$H$14 <> \"\", Foglio1!$H$14 + O80*10^-3, NA())","v":{"$error":"#N/A"}},667,6.5027900459156234,{"$f":" IF(Foglio1!$C$15 <> \"\", 8.314472*Foglio1!$C$15*Foglio2!R80, NA())","v":{"$error":"#N/A"}},{"$f":"IF(Foglio1!$H$15 <> \"\", Foglio1!$H$15 + S80*10^-3, NA())","v":{"$error":"#N/A"}}]
[676,6.5161930760429643,{"$f":" IF(Foglio1!$C$11 <> \"\", 8.314472*Foglio1!$C$11*Foglio2!B81, NA())","v":16253.611463205931},{"$f":"IF(Foglio1!$H$11 <> \"\", Foglio1!$H$11 + C81*10^-3, NA())","v":-73.746388536794072},676,6.5161930760429643,{"$f":" IF(Foglio1!$C$12 <> \"\", 8.314472*Foglio1!$C$12*Foglio2!F81, NA())","v":{"$error":"#N/A"}},{"$f":"IF(Foglio1!$H$12 <> \"\", Foglio1!$H$12 + G81*10^-3, NA())","v":{"$error":"#N/A"}},676,6.5161930760429643,{"$f":" IF(Foglio1!$C$13 <> \"\", 8.314472*Foglio1!$C$13*Foglio2!J81, NA())","v":{"$error":"#N/A"}},{"$f":"IF(Foglio1!$H$13 <> \"\", Foglio1!$H$13 + K81*10^-3, NA())","v":{"$error":"#N/A"}},676,6.5161930760429643,{"$f":" IF(Foglio1!$C$14 <> \"\", 8.314472*Foglio1!$C$14*Foglio2!N81, NA())","v":{"$error":"#N/A"}},{"$f":"IF(Foglio1!$H$14 <> \"\", Foglio1!$H$14 + O81*10^-3, NA())","v":{"$error":"#N/A"}},676,6.5161930760429643,{"$f":" IF(Foglio1!$C$15 <> \"\", 8.314472*Foglio1!$C$15*Foglio2!R81, NA())","v":{"$error":"#N/A"}},{"$f":"IF(Foglio1!$H$15 <> \"\", Foglio1!$H$15 + S81*10^-3, NA())","v":{"$error":"#N/A"}}]
[685,6.5294188382622256,{"$f":" IF(Foglio1!$C$11 <> \"\", 8.314472*Foglio1!$C$11*Foglio2!B82, NA())","v":16286.601032101142},{"$f":"IF(Foglio1!$H$11 <> \"\", Foglio1!$H$11 + C82*10^-3, NA())","v":-73.713398967898854},685,6.5294188382622256,{"$f":" IF(Foglio1!$C$12 <> \"\", 8.314472*Foglio1!$C$12*Foglio2!F82, NA())","v":{"$error":"#N/A"}},{"$f":"IF(Foglio1!$H$12 <> \"\", Foglio1!$H$12 + G82*10^-3, NA())","v":{"$error":"#N/A"}},685,6.5294188382622256,{"$f":" IF(Foglio1!$C$13 <> \"\", 8.314472*Foglio1!$C$13*Foglio2!J82, NA())","v":{"$error":"#N/A"}},{"$f":"IF(Foglio1!$H$13 <> \"\", Foglio1!$H$13 + K82*10^-3, NA())","v":{"$error":"#N/A"}},685,6.5294188382622256,{"$f":" IF(Foglio1!$C$14 <> \"\", 8.314472*Foglio1!$C$14*Foglio2!N82, NA())","v":{"$error":"#N/A"}},{"$f":"IF(Foglio1!$H$14 <> \"\", Foglio1!$H$14 + O82*10^-3, NA())","v":{"$error":"#N/A"}},685,6.5294188382622256,{"$f":" IF(Foglio1!$C$15 <> \"\", 8.314472*Foglio1!$C$15*Foglio2!R82, NA())","v":{"$error":"#N/A"}},{"$f":"IF(Foglio1!$H$15 <> \"\", Foglio1!$H$15 + S82*10^-3, NA())","v":{"$error":"#N/A"}}]
[694,6.5424719605068047,{"$f":" IF(Foglio1!$C$11 <> \"\", 8.314472*Foglio1!$C$11*Foglio2!B83, NA())","v":16319.159977925681},{"$f":"IF(Foglio1!$H$11 <> \"\", Foglio1!$H$11 + C83*10^-3, NA())","v":-73.680840022074321},694,6.5424719605068047,{"$f":" IF(Foglio1!$C$12 <> \"\", 8.314472*Foglio1!$C$12*Foglio2!F83, NA())","v":{"$error":"#N/A"}},{"$f":"IF(Foglio1!$H$12 <> \"\", Foglio1!$H$12 + G83*10^-3, NA())","v":{"$error":"#N/A"}},694,6.5424719605068047,{"$f":" IF(Foglio1!$C$13 <> \"\", 8.314472*Foglio1!$C$13*Foglio2!J83, NA())","v":{"$error":"#N/A"}},{"$f":"IF(Foglio1!$H$13 <> \"\", Foglio1!$H$13 + K83*10^-3, NA())","v":{"$error":"#N/A"}},694,6.5424719605068047,{"$f":" IF(Foglio1!$C$14 <> \"\", 8.314472*Foglio1!$C$14*Foglio2!N83, NA())","v":{"$error":"#N/A"}},{"$f":"IF(Foglio1!$H$14 <> \"\", Foglio1!$H$14 + O83*10^-3, NA())","v":{"$error":"#N/A"}},694,6.5424719605068047,{"$f":" IF(Foglio1!$C$15 <> \"\", 8.314472*Foglio1!$C$15*Foglio2!R83, NA())","v":{"$error":"#N/A"}},{"$f":"IF(Foglio1!$H$15 <> \"\", Foglio1!$H$15 + S83*10^-3, NA())","v":{"$error":"#N/A"}}]
[703,6.5553568918106651,{"$f":" IF(Foglio1!$C$11 <> \"\", 8.314472*Foglio1!$C$11*Foglio2!B84, NA())","v":16351.299398090043},{"$f":"IF(Foglio1!$H$11 <> \"\", Foglio1!$H$11 + C84*10^-3, NA())","v":-73.648700601909951},703,6.5553568918106651,{"$f":" IF(Foglio1!$C$12 <> \"\", 8.314472*Foglio1!$C$12*Foglio2!F84, NA())","v":{"$error":"#N/A"}},{"$f":"IF(Foglio1!$H$12 <> \"\", Foglio1!$H$12 + G84*10^-3, NA())","v":{"$error":"#N/A"}},703,6.5553568918106651,{"$f":" IF(Foglio1!$C$13 <> \"\", 8.314472*Foglio1!$C$13*Foglio2!J84, NA())","v":{"$error":"#N/A"}},{"$f":"IF(Foglio1!$H$13 <> \"\", Foglio1!$H$13 + K84*10^-3, NA())","v":{"$error":"#N/A"}},703,6.5553568918106651,{"$f":" IF(Foglio1!$C$14 <> \"\", 8.314472*Foglio1!$C$14*Foglio2!N84, NA())","v":{"$error":"#N/A"}},{"$f":"IF(Foglio1!$H$14 <> \"\", Foglio1!$H$14 + O84*10^-3, NA())","v":{"$error":"#N/A"}},703,6.5553568918106651,{"$f":" IF(Foglio1!$C$15 <> \"\", 8.314472*Foglio1!$C$15*Foglio2!R84, NA())","v":{"$error":"#N/A"}},{"$f":"IF(Foglio1!$H$15 <> \"\", Foglio1!$H$15 + S84*10^-3, NA())","v":{"$error":"#N/A"}}]
[712,6.5680779114119758,{"$f":" IF(Foglio1!$C$11 <> \"\", 8.314472*Foglio1!$C$11*Foglio2!B85, NA())","v":16383.029966476008},{"$f":"IF(Foglio1!$H$11 <> \"\", Foglio1!$H$11 + C85*10^-3, NA())","v":-73.616970033523984},712,6.5680779114119758,{"$f":" IF(Foglio1!$C$12 <> \"\", 8.314472*Foglio1!$C$12*Foglio2!F85, NA())","v":{"$error":"#N/A"}},{"$f":"IF(Foglio1!$H$12 <> \"\", Foglio1!$H$12 + G85*10^-3, NA())","v":{"$error":"#N/A"}},712,6.5680779114119758,{"$f":" IF(Foglio1!$C$13 <> \"\", 8.314472*Foglio1!$C$13*Foglio2!J85, NA())","v":{"$error":"#N/A"}},{"$f":"IF(Foglio1!$H$13 <> \"\", Foglio1!$H$13 + K85*10^-3, NA())","v":{"$error":"#N/A"}},712,6.5680779114119758,{"$f":" IF(Foglio1!$C$14 <> \"\", 8.314472*Foglio1!$C$14*Foglio2!N85, NA())","v":{"$error":"#N/A"}},{"$f":"IF(Foglio1!$H$14 <> \"\", Foglio1!$H$14 + O85*10^-3, NA())","v":{"$error":"#N/A"}},712,6.5680779114119758,{"$f":" IF(Foglio1!$C$15 <> \"\", 8.314472*Foglio1!$C$15*Foglio2!R85, NA())","v":{"$error":"#N/A"}},{"$f":"IF(Foglio1!$H$15 <> \"\", Foglio1!$H$15 + S85*10^-3, NA())","v":{"$error":"#N/A"}}]
[721,6.5806391372849493,{"$f":" IF(Foglio1!$C$11 <> \"\", 8.314472*Foglio1!$C$11*Foglio2!B86, NA())","v":16414.361954717962},{"$f":"IF(Foglio1!$H$11 <> \"\", Foglio1!$H$11 + C86*10^-3, NA())","v":-73.585638045282039},721,6.5806391372849493,{"$f":" IF(Foglio1!$C$12 <> \"\", 8.314472*Foglio1!$C$12*Foglio2!F86, NA())","v":{"$error":"#N/A"}},{"$f":"IF(Foglio1!$H$12 <> \"\", Foglio1!$H$12 + G86*10^-3, NA())","v":{"$error":"#N/A"}},721,6.5806391372849493,{"$f":" IF(Foglio1!$C$13 <> \"\", 8.314472*Foglio1!$C$13*Foglio2!J86, NA())","v":{"$error":"#N/A"}},{"$f":"IF(Foglio1!$H$13 <> \"\", Foglio1!$H$13 + K86*10^-3, NA())","v":{"$error":"#N/A"}},721,6.5806391372849493,{"$f":" IF(Foglio1!$C$14 <> \"\", 8.314472*Foglio1!$C$14*Foglio2!N86, NA())","v":{"$error":"#N/A"}},{"$f":"IF(Foglio1!$H$14 <> \"\", Foglio1!$H$14 + O86*10^-3, NA())","v":{"$error":"#N/A"}},721,6.5806391372849493,{"$f":" IF(Foglio1!$C$15 <> \"\", 8.314472*Foglio1!$C$15*Foglio2!R86, NA())","v":{"$error":"#N/A"}},{"$f":"IF(Foglio1!$H$15 <> \"\", Foglio1!$H$15 + S86*10^-3, NA())","v":{"$error":"#N/A"}}]
[730,6.5930445341424369,{"$f":" IF(Foglio1!$C$11 <> \"\", 8.314472*Foglio1!$C$11*Foglio2!B87, NA())","v":16445.3052521641},{"$f":"IF(Foglio1!$H$11 <> \"\", Foglio1!$H$11 + C87*10^-3, NA())","v":-73.554694747835896},730,6.5930445341424369,{"$f":" IF(Foglio1!$C$12 <> \"\", 8.314472*Foglio1!$C$12*Foglio2!F87, NA())","v":{"$error":"#N/A"}},{"$f":"IF(Foglio1!$H$12 <> \"\", Foglio1!$H$12 + G87*10^-3, NA())","v":{"$error":"#N/A"}},730,6.5930445341424369,{"$f":" IF(Foglio1!$C$13 <> \"\", 8.314472*Foglio1!$C$13*Foglio2!J87, NA())","v":{"$error":"#N/A"}},{"$f":"IF(Foglio1!$H$13 <> \"\", Foglio1!$H$13 + K87*10^-3, NA())","v":{"$error":"#N/A"}},730,6.5930445341424369,{"$f":" IF(Foglio1!$C$14 <> \"\", 8.314472*Foglio1!$C$14*Foglio2!N87, NA())","v":{"$error":"#N/A"}},{"$f":"IF(Foglio1!$H$14 <> \"\", Foglio1!$H$14 + O87*10^-3, NA())","v":{"$error":"#N/A"}},730,6.5930445341424369,{"$f":" IF(Foglio1!$C$15 <> \"\", 8.314472*Foglio1!$C$15*Foglio2!R87, NA())","v":{"$error":"#N/A"}},{"$f":"IF(Foglio1!$H$15 <> \"\", Foglio1!$H$15 + S87*10^-3, NA())","v":{"$error":"#N/A"}}]
[739,6.6052979209482015,{"$f":" IF(Foglio1!$C$11 <> \"\", 8.314472*Foglio1!$C$11*Foglio2!B88, NA())","v":16475.869384614612},{"$f":"IF(Foglio1!$H$11 <> \"\", Foglio1!$H$11 + C88*10^-3, NA())","v":-73.524130615385388},739,6.6052979209482015,{"$f":" IF(Foglio1!$C$12 <> \"\", 8.314472*Foglio1!$C$12*Foglio2!F88, NA())","v":{"$error":"#N/A"}},{"$f":"IF(Foglio1!$H$12 <> \"\", Foglio1!$H$12 + G88*10^-3, NA())","v":{"$error":"#N/A"}},739,6.6052979209482015,{"$f":" IF(Foglio1!$C$13 <> \"\", 8.314472*Foglio1!$C$13*Foglio2!J88, NA())","v":{"$error":"#N/A"}},{"$f":"IF(Foglio1!$H$13 <> \"\", Foglio1!$H$13 + K88*10^-3, NA())","v":{"$error":"#N/A"}},739,6.6052979209482015,{"$f":" IF(Foglio1!$C$14 <> \"\", 8.314472*Foglio1!$C$14*Foglio2!N88, NA())","v":{"$error":"#N/A"}},{"$f":"IF(Foglio1!$H$14 <> \"\", Foglio1!$H$14 + O88*10^-3, NA())","v":{"$error":"#N/A"}},739,6.6052979209482015,{"$f":" IF(Foglio1!$C$15 <> \"\", 8.314472*Foglio1!$C$15*Foglio2!R88, NA())","v":{"$error":"#N/A"}},{"$f":"IF(Foglio1!$H$15 <> \"\", Foglio1!$H$15 + S88*10^-3, NA())","v":{"$error":"#N/A"}}]
[748,6.6174029779744776,{"$f":" IF(Foglio1!$C$11 <> \"\", 8.314472*Foglio1!$C$11*Foglio2!B89, NA())","v":16506.063531925625},{"$f":"IF(Foglio1!$H$11 <> \"\", Foglio1!$H$11 + C89*10^-3, NA())","v":-73.493936468074367},748,6.6174029779744776,{"$f":" IF(Foglio1!$C$12 <> \"\", 8.314472*Foglio1!$C$12*Foglio2!F89, NA())","v":{"$error":"#N/A"}},{"$f":"IF(Foglio1!$H$12 <> \"\", Foglio1!$H$12 + G89*10^-3, NA())","v":{"$error":"#N/A"}},748,6.6174029779744776,{"$f":" IF(Foglio1!$C$13 <> \"\", 8.314472*Foglio1!$C$13*Foglio2!J89, NA())","v":{"$error":"#N/A"}},{"$f":"IF(Foglio1!$H$13 <> \"\", Foglio1!$H$13 + K89*10^-3, NA())","v":{"$error":"#N/A"}},748,6.6174029779744776,{"$f":" IF(Foglio1!$C$14 <> \"\", 8.314472*Foglio1!$C$14*Foglio2!N89, NA())","v":{"$error":"#N/A"}},{"$f":"IF(Foglio1!$H$14 <> \"\", Foglio1!$H$14 + O89*10^-3, NA())","v":{"$error":"#N/A"}},748,6.6174029779744776,{"$f":" IF(Foglio1!$C$15 <> \"\", 8.314472*Foglio1!$C$15*Foglio2!R89, NA())","v":{"$error":"#N/A"}},{"$f":"IF(Foglio1!$H$15 <> \"\", Foglio1!$H$15 + S89*10^-3, NA())","v":{"$error":"#N/A"}}]
[757,6.6293632534374485,{"$f":" IF(Foglio1!$C$11 <> \"\", 8.314472*Foglio1!$C$11*Foglio2!B90, NA())","v":16535.896544560372},{"$f":"IF(Foglio1!$H$11 <> \"\", Foglio1!$H$11 + C90*10^-3, NA())","v":-73.464103455439627},757,6.6293632534374485,{"$f":" IF(Foglio1!$C$12 <> \"\", 8.314472*Foglio1!$C$12*Foglio2!F90, NA())","v":{"$error":"#N/A"}},{"$f":"IF(Foglio1!$H$12 <> \"\", Foglio1!$H$12 + G90*10^-3, NA())","v":{"$error":"#N/A"}},757,6.6293632534374485,{"$f":" IF(Foglio1!$C$13 <> \"\", 8.314472*Foglio1!$C$13*Foglio2!J90, NA())","v":{"$error":"#N/A"}},{"$f":"IF(Foglio1!$H$13 <> \"\", Foglio1!$H$13 + K90*10^-3, NA())","v":{"$error":"#N/A"}},757,6.6293632534374485,{"$f":" IF(Foglio1!$C$14 <> \"\", 8.314472*Foglio1!$C$14*Foglio2!N90, NA())","v":{"$error":"#N/A"}},{"$f":"IF(Foglio1!$H$14 <> \"\", Foglio1!$H$14 + O90*10^-3, NA())","v":{"$error":"#N/A"}},757,6.6293632534374485,{"$f":" IF(Foglio1!$C$15 <> \"\", 8.314472*Foglio1!$C$15*Foglio2!R90, NA())","v":{"$error":"#N/A"}},{"$f":"IF(Foglio1!$H$15 <> \"\", Foglio1!$H$15 + S90*10^-3, NA())","v":{"$error":"#N/A"}}]
[766,6.6411821697405911,{"$f":" IF(Foglio1!$C$11 <> \"\", 8.314472*Foglio1!$C$11*Foglio2!B91, NA())","v":16565.376959162219},{"$f":"IF(Foglio1!$H$11 <> \"\", Foglio1!$H$11 + C91*10^-3, NA())","v":-73.434623040837778},766,6.6411821697405911,{"$f":" IF(Foglio1!$C$12 <> \"\", 8.314472*Foglio1!$C$12*Foglio2!F91, NA())","v":{"$error":"#N/A"}},{"$f":"IF(Foglio1!$H$12 <> \"\", Foglio1!$H$12 + G91*10^-3, NA())","v":{"$error":"#N/A"}},766,6.6411821697405911,{"$f":" IF(Foglio1!$C$13 <> \"\", 8.314472*Foglio1!$C$13*Foglio2!J91, NA())","v":{"$error":"#N/A"}},{"$f":"IF(Foglio1!$H$13 <> \"\", Foglio1!$H$13 + K91*10^-3, NA())","v":{"$error":"#N/A"}},766,6.6411821697405911,{"$f":" IF(Foglio1!$C$14 <> \"\", 8.314472*Foglio1!$C$14*Foglio2!N91, NA())","v":{"$error":"#N/A"}},{"$f":"IF(Foglio1!$H$14 <> \"\", Foglio1!$H$14 + O91*10^-3, NA())","v":{"$error":"#N/A"}},766,6.6411821697405911,{"$f":" IF(Foglio1!$C$15 <> \"\", 8.314472*Foglio1!$C$15*Foglio2!R91, NA())","v":{"$error":"#N/A"}},{"$f":"IF(Foglio1!$H$15 <> \"\", Foglio1!$H$15 + S91*10^-3, NA())","v":{"$error":"#N/A"}}]
[775,6.6528630293533473,{"$f":" IF(Foglio1!$C$11 <> \"\", 8.314472*Foglio1!$C$11*Foglio2!B92, NA())","v":16594.513013218075},{"$f":"IF(Foglio1!$H$11 <> \"\", Foglio1!$H$11 + C92*10^-3, NA())","v":-73.405486986781924},775,6.6528630293533473,{"$f":" IF(Foglio1!$C$12 <> \"\", 8.314472*Foglio1!$C$12*Foglio2!F92, NA())","v":{"$error":"#N/A"}},{"$f":"IF(Foglio1!$H$12 <> \"\", Foglio1!$H$12 + G92*10^-3, NA())","v":{"$error":"#N/A"}},775,6.6528630293533473,{"$f":" IF(Foglio1!$C$13 <> \"\", 8.314472*Foglio1!$C$13*Foglio2!J92, NA())","v":{"$error":"#N/A"}},{"$f":"IF(Foglio1!$H$13 <> \"\", Foglio1!$H$13 + K92*10^-3, NA())","v":{"$error":"#N/A"}},775,6.6528630293533473,{"$f":" IF(Foglio1!$C$14 <> \"\", 8.314472*Foglio1!$C$14*Foglio2!N92, NA())","v":{"$error":"#N/A"}},{"$f":"IF(Foglio1!$H$14 <> \"\", Foglio1!$H$14 + O92*10^-3, NA())","v":{"$error":"#N/A"}},775,6.6528630293533473,{"$f":" IF(Foglio1!$C$15 <> \"\", 8.314472*Foglio1!$C$15*Foglio2!R92, NA())","v":{"$error":"#N/A"}},{"$f":"IF(Foglio1!$H$15 <> \"\", Foglio1!$H$15 + S92*10^-3, NA())","v":{"$error":"#N/A"}}]
[784,6.6644090203504076,{"$f":" IF(Foglio1!$C$11 <> \"\", 8.314472*Foglio1!$C$11*Foglio2!B93, NA())","v":16623.312658875271},{"$f":"IF(Foglio1!$H$11 <> \"\", Foglio1!$H$11 + C93*10^-3, NA())","v":-73.376687341124722},784,6.6644090203504076,{"$f":" IF(Foglio1!$C$12 <> \"\", 8.314472*Foglio1!$C$12*Foglio2!F93, NA())","v":{"$error":"#N/A"}},{"$f":"IF(Foglio1!$H$12 <> \"\", Foglio1!$H$12 + G93*10^-3, NA())","v":{"$error":"#N/A"}},784,6.6644090203504076,{"$f":" IF(Foglio1!$C$13 <> \"\", 8.314472*Foglio1!$C$13*Foglio2!J93, NA())","v":{"$error":"#N/A"}},{"$f":"IF(Foglio1!$H$13 <> \"\", Foglio1!$H$13 + K93*10^-3, NA())","v":{"$error":"#N/A"}},784,6.6644090203504076,{"$f":" IF(Foglio1!$C$14 <> \"\", 8.314472*Foglio1!$C$14*Foglio2!N93, NA())","v":{"$error":"#N/A"}},{"$f":"IF(Foglio1!$H$14 <> \"\", Foglio1!$H$14 + O93*10^-3, NA())","v":{"$error":"#N/A"}},784,6.6644090203504076,{"$f":" IF(Foglio1!$C$15 <> \"\", 8.314472*Foglio1!$C$15*Foglio2!R93, NA())","v":{"$error":"#N/A"}},{"$f":"IF(Foglio1!$H$15 <> \"\", Foglio1!$H$15 + S93*10^-3, NA())","v":{"$error":"#N/A"}}]
[793,6.6758232216348476,{"$f":" IF(Foglio1!$C$11 <> \"\", 8.314472*Foglio1!$C$11*Foglio2!B94, NA())","v":16651.783575969821},{"$f":"IF(Foglio1!$H$11 <> \"\", Foglio1!$H$11 + C94*10^-3, NA())","v":-73.34821642403017},793,6.6758232216348476,{"$f":" IF(Foglio1!$C$12 <> \"\", 8.314472*Foglio1!$C$12*Foglio2!F94, NA())","v":{"$error":"#N/A"}},{"$f":"IF(Foglio1!$H$12 <> \"\", Foglio1!$H$12 + G94*10^-3, NA())","v":{"$error":"#N/A"}},793,6.6758232216348476,{"$f":" IF(Foglio1!$C$13 <> \"\", 8.314472*Foglio1!$C$13*Foglio2!J94, NA())","v":{"$error":"#N/A"}},{"$f":"IF(Foglio1!$H$13 <> \"\", Foglio1!$H$13 + K94*10^-3, NA())","v":{"$error":"#N/A"}},793,6.6758232216348476,{"$f":" IF(Foglio1!$C$14 <> \"\", 8.314472*Foglio1!$C$14*Foglio2!N94, NA())","v":{"$error":"#N/A"}},{"$f":"IF(Foglio1!$H$14 <> \"\", Foglio1!$H$14 + O94*10^-3, NA())","v":{"$error":"#N/A"}},793,6.6758232216348476,{"$f":" IF(Foglio1!$C$15 <> \"\", 8.314472*Foglio1!$C$15*Foglio2!R94, NA())","v":{"$error":"#N/A"}},{"$f":"IF(Foglio1!$H$15 <> \"\", Foglio1!$H$15 + S94*10^-3, NA())","v":{"$error":"#N/A"}}]
[802,6.6871086078665147,{"$f":" IF(Foglio1!$C$11 <> \"\", 8.314472*Foglio1!$C$11*Foglio2!B95, NA())","v":16679.933184319536},{"$f":"IF(Foglio1!$H$11 <> \"\", Foglio1!$H$11 + C95*10^-3, NA())","v":-73.320066815680462},802,6.6871086078665147,{"$f":" IF(Foglio1!$C$12 <> \"\", 8.314472*Foglio1!$C$12*Foglio2!F95, NA())","v":{"$error":"#N/A"}},{"$f":"IF(Foglio1!$H$12 <> \"\", Foglio1!$H$12 + G95*10^-3, NA())","v":{"$error":"#N/A"}},802,6.6871086078665147,{"$f":" IF(Foglio1!$C$13 <> \"\", 8.314472*Foglio1!$C$13*Foglio2!J95, NA())","v":{"$error":"#N/A"}},{"$f":"IF(Foglio1!$H$13 <> \"\", Foglio1!$H$13 + K95*10^-3, NA())","v":{"$error":"#N/A"}},802,6.6871086078665147,{"$f":" IF(Foglio1!$C$14 <> \"\", 8.314472*Foglio1!$C$14*Foglio2!N95, NA())","v":{"$error":"#N/A"}},{"$f":"IF(Foglio1!$H$14 <> \"\", Foglio1!$H$14 + O95*10^-3, NA())","v":{"$error":"#N/A"}},802,6.6871086078665147,{"$f":" IF(Foglio1!$C$15 <> \"\", 8.314472*Foglio1!$C$15*Foglio2!R95, NA())","v":{"$error":"#N/A"}},{"$f":"IF(Foglio1!$H$15 <> \"\", Foglio1!$H$15 + S95*10^-3, NA())","v":{"$error":"#N/A"}}]
[811,6.6982680541154132,{"$f":" IF(Foglio1!$C$11 <> \"\", 8.314472*Foglio1!$C$11*Foglio2!B96, NA())","v":16707.768655331129},{"$f":"IF(Foglio1!$H$11 <> \"\", Foglio1!$H$11 + C96*10^-3, NA())","v":-73.292231344668863},811,6.6982680541154132,{"$f":" IF(Foglio1!$C$12 <> \"\", 8.314472*Foglio1!$C$12*Foglio2!F96, NA())","v":{"$error":"#N/A"}},{"$f":"IF(Foglio1!$H$12 <> \"\", Foglio1!$H$12 + G96*10^-3, NA())","v":{"$error":"#N/A"}},811,6.6982680541154132,{"$f":" IF(Foglio1!$C$13 <> \"\", 8.314472*Foglio1!$C$13*Foglio2!J96, NA())","v":{"$error":"#N/A"}},{"$f":"IF(Foglio1!$H$13 <> \"\", Foglio1!$H$13 + K96*10^-3, NA())","v":{"$error":"#N/A"}},811,6.6982680541154132,{"$f":" IF(Foglio1!$C$14 <> \"\", 8.314472*Foglio1!$C$14*Foglio2!N96, NA())","v":{"$error":"#N/A"}},{"$f":"IF(Foglio1!$H$14 <> \"\", Foglio1!$H$14 + O96*10^-3, NA())","v":{"$error":"#N/A"}},811,6.6982680541154132,{"$f":" IF(Foglio1!$C$15 <> \"\", 8.314472*Foglio1!$C$15*Foglio2!R96, NA())","v":{"$error":"#N/A"}},{"$f":"IF(Foglio1!$H$15 <> \"\", Foglio1!$H$15 + S96*10^-3, NA())","v":{"$error":"#N/A"}}]
[820,6.7093043402582984,{"$f":" IF(Foglio1!$C$11 <> \"\", 8.314472*Foglio1!$C$11*Foglio2!B97, NA())","v":16735.296922966831},{"$f":"IF(Foglio1!$H$11 <> \"\", Foglio1!$H$11 + C97*10^-3, NA())","v":-73.264703077033175},820,6.7093043402582984,{"$f":" IF(Foglio1!$C$12 <> \"\", 8.314472*Foglio1!$C$12*Foglio2!F97, NA())","v":{"$error":"#N/A"}},{"$f":"IF(Foglio1!$H$12 <> \"\", Foglio1!$H$12 + G97*10^-3, NA())","v":{"$error":"#N/A"}},820,6.7093043402582984,{"$f":" IF(Foglio1!$C$13 <> \"\", 8.314472*Foglio1!$C$13*Foglio2!J97, NA())","v":{"$error":"#N/A"}},{"$f":"IF(Foglio1!$H$13 <> \"\", Foglio1!$H$13 + K97*10^-3, NA())","v":{"$error":"#N/A"}},820,6.7093043402582984,{"$f":" IF(Foglio1!$C$14 <> \"\", 8.314472*Foglio1!$C$14*Foglio2!N97, NA())","v":{"$error":"#N/A"}},{"$f":"IF(Foglio1!$H$14 <> \"\", Foglio1!$H$14 + O97*10^-3, NA())","v":{"$error":"#N/A"}},820,6.7093043402582984,{"$f":" IF(Foglio1!$C$15 <> \"\", 8.314472*Foglio1!$C$15*Foglio2!R97, NA())","v":{"$error":"#N/A"}},{"$f":"IF(Foglio1!$H$15 <> \"\", Foglio1!$H$15 + S97*10^-3, NA())","v":{"$error":"#N/A"}}]
[829,6.7202201551352951,{"$f":" IF(Foglio1!$C$11 <> \"\", 8.314472*Foglio1!$C$11*Foglio2!B98, NA())","v":16762.524694112421},{"$f":"IF(Foglio1!$H$11 <> \"\", Foglio1!$H$11 + C98*10^-3, NA())","v":-73.237475305887585},829,6.7202201551352951,{"$f":" IF(Foglio1!$C$12 <> \"\", 8.314472*Foglio1!$C$12*Foglio2!F98, NA())","v":{"$error":"#N/A"}},{"$f":"IF(Foglio1!$H$12 <> \"\", Foglio1!$H$12 + G98*10^-3, NA())","v":{"$error":"#N/A"}},829,6.7202201551352951,{"$f":" IF(Foglio1!$C$13 <> \"\", 8.314472*Foglio1!$C$13*Foglio2!J98, NA())","v":{"$error":"#N/A"}},{"$f":"IF(Foglio1!$H$13 <> \"\", Foglio1!$H$13 + K98*10^-3, NA())","v":{"$error":"#N/A"}},829,6.7202201551352951,{"$f":" IF(Foglio1!$C$14 <> \"\", 8.314472*Foglio1!$C$14*Foglio2!N98, NA())","v":{"$error":"#N/A"}},{"$f":"IF(Foglio1!$H$14 <> \"\", Foglio1!$H$14 + O98*10^-3, NA())","v":{"$error":"#N/A"}},829,6.7202201551352951,{"$f":" IF(Foglio1!$C$15 <> \"\", 8.314472*Foglio1!$C$15*Foglio2!R98, NA())","v":{"$error":"#N/A"}},{"$f":"IF(Foglio1!$H$15 <> \"\", Foglio1!$H$15 + S98*10^-3, NA())","v":{"$error":"#N/A"}}]
[838,6.7310181004820828,{"$f":" IF(Foglio1!$C$11 <> \"\", 8.314472*Foglio1!$C$11*Foglio2!B99, NA())","v":16789.458458385441},{"$f":"IF(Foglio1!$H$11 <> \"\", Foglio1!$H$11 + C99*10^-3, NA())","v":-73.21054154161456},838,6.7310181004820828,{"$f":" IF(Foglio1!$C$12 <> \"\", 8.314472*Foglio1!$C$12*Foglio2!F99, NA())","v":{"$error":"#N/A"}},{"$f":"IF(Foglio1!$H$12 <> \"\", Foglio1!$H$12 + G99*10^-3, NA())","v":{"$error":"#N/A"}},838,6.7310181004820828,{"$f":" IF(Foglio1!$C$13 <> \"\", 8.314472*Foglio1!$C$13*Foglio2!J99, NA())","v":{"$error":"#N/A"}},{"$f":"IF(Foglio1!$H$13 <> \"\", Foglio1!$H$13 + K99*10^-3, NA())","v":{"$error":"#N/A"}},838,6.7310181004820828,{"$f":" IF(Foglio1!$C$14 <> \"\", 8.314472*Foglio1!$C$14*Foglio2!N99, NA())","v":{"$error":"#N/A"}},{"$f":"IF(Foglio1!$H$14 <> \"\", Foglio1!$H$14 + O99*10^-3, NA())","v":{"$error":"#N/A"}},838,6.7310181004820828,{"$f":" IF(Foglio1!$C$15 <> \"\", 8.314472*Foglio1!$C$15*Foglio2!R99, NA())","v":{"$error":"#N/A"}},{"$f":"IF(Foglio1!$H$15 <> \"\", Foglio1!$H$15 + S99*10^-3, NA())","v":{"$error":"#N/A"}}]
[847,6.7417006946520548,{"$f":" IF(Foglio1!$C$11 <> \"\", 8.314472*Foglio1!$C$11*Foglio2!B100, NA())","v":16816.104497419517},{"$f":"IF(Foglio1!$H$11 <> \"\", Foglio1!$H$11 + C100*10^-3, NA())","v":-73.183895502580484},847,6.7417006946520548,{"$f":" IF(Foglio1!$C$12 <> \"\", 8.314472*Foglio1!$C$12*Foglio2!F100, NA())","v":{"$error":"#N/A"}},{"$f":"IF(Foglio1!$H$12 <> \"\", Foglio1!$H$12 + G100*10^-3, NA())","v":{"$error":"#N/A"}},847,6.7417006946520548,{"$f":" IF(Foglio1!$C$13 <> \"\", 8.314472*Foglio1!$C$13*Foglio2!J100, NA())","v":{"$error":"#N/A"}},{"$f":"IF(Foglio1!$H$13 <> \"\", Foglio1!$H$13 + K100*10^-3, NA())","v":{"$error":"#N/A"}},847,6.7417006946520548,{"$f":" IF(Foglio1!$C$14 <> \"\", 8.314472*Foglio1!$C$14*Foglio2!N100, NA())","v":{"$error":"#N/A"}},{"$f":"IF(Foglio1!$H$14 <> \"\", Foglio1!$H$14 + O100*10^-3, NA())","v":{"$error":"#N/A"}},847,6.7417006946520548,{"$f":" IF(Foglio1!$C$15 <> \"\", 8.314472*Foglio1!$C$15*Foglio2!R100, NA())","v":{"$error":"#N/A"}},{"$f":"IF(Foglio1!$H$15 <> \"\", Foglio1!$H$15 + S100*10^-3, NA())","v":{"$error":"#N/A"}}]
[856,6.752270376141742,{"$f":" IF(Foglio1!$C$11 <> \"\", 8.314472*Foglio1!$C$11*Foglio2!B101, NA())","v":16842.468893657995},{"$f":"IF(Foglio1!$H$11 <> \"\", Foglio1!$H$11 + C101*10^-3, NA())","v":-73.157531106342006},856,6.752270376141742,{"$f":" IF(Foglio1!$C$12 <> \"\", 8.314472*Foglio1!$C$12*Foglio2!F101, NA())","v":{"$error":"#N/A"}},{"$f":"IF(Foglio1!$H$12 <> \"\", Foglio1!$H$12 + G101*10^-3, NA())","v":{"$error":"#N/A"}},856,6.752270376141742,{"$f":" IF(Foglio1!$C$13 <> \"\", 8.314472*Foglio1!$C$13*Foglio2!J101, NA())","v":{"$error":"#N/A"}},{"$f":"IF(Foglio1!$H$13 <> \"\", Foglio1!$H$13 + K101*10^-3, NA())","v":{"$error":"#N/A"}},856,6.752270376141742,{"$f":" IF(Foglio1!$C$14 <> \"\", 8.314472*Foglio1!$C$14*Foglio2!N101, NA())","v":{"$error":"#N/A"}},{"$f":"IF(Foglio1!$H$14 <> \"\", Foglio1!$H$14 + O101*10^-3, NA())","v":{"$error":"#N/A"}},856,6.752270376141742,{"$f":" IF(Foglio1!$C$15 <> \"\", 8.314472*Foglio1!$C$15*Foglio2!R101, NA())","v":{"$error":"#N/A"}},{"$f":"IF(Foglio1!$H$15 <> \"\", Foglio1!$H$15 + S101*10^-3, NA())","v":{"$error":"#N/A"}}]
[865,6.7627295069318789,{"$f":" IF(Foglio1!$C$11 <> \"\", 8.314472*Foglio1!$C$11*Foglio2!B102, NA())","v":16868.557538687674},{"$f":"IF(Foglio1!$H$11 <> \"\", Foglio1!$H$11 + C102*10^-3, NA())","v":-73.131442461312332},865,6.7627295069318789,{"$f":" IF(Foglio1!$C$12 <> \"\", 8.314472*Foglio1!$C$12*Foglio2!F102, NA())","v":{"$error":"#N/A"}},{"$f":"IF(Foglio1!$H$12 <> \"\", Foglio1!$H$12 + G102*10^-3, NA())","v":{"$error":"#N/A"}},865,6.7627295069318789,{"$f":" IF(Foglio1!$C$13 <> \"\", 8.314472*Foglio1!$C$13*Foglio2!J102, NA())","v":{"$error":"#N/A"}},{"$f":"IF(Foglio1!$H$13 <> \"\", Foglio1!$H$13 + K102*10^-3, NA())","v":{"$error":"#N/A"}},865,6.7627295069318789,{"$f":" IF(Foglio1!$C$14 <> \"\", 8.314472*Foglio1!$C$14*Foglio2!N102, NA())","v":{"$error":"#N/A"}},{"$f":"IF(Foglio1!$H$14 <> \"\", Foglio1!$H$14 + O102*10^-3, NA())","v":{"$error":"#N/A"}},865,6.7627295069318789,{"$f":" IF(Foglio1!$C$15 <> \"\", 8.314472*Foglio1!$C$15*Foglio2!R102, NA())","v":{"$error":"#N/A"}},{"$f":"IF(Foglio1!$H$15 <> \"\", Foglio1!$H$15 + S102*10^-3, NA())","v":{"$error":"#N/A"}}]
[874,6.7730803756555353,{"$f":" IF(Foglio1!$C$11 <> \"\", 8.314472*Foglio1!$C$11*Foglio2!B103, NA())","v":16894.376141141231},{"$f":"IF(Foglio1!$H$11 <> \"\", Foglio1!$H$11 + C103*10^-3, NA())","v":-73.105623858858763},874,6.7730803756555353,{"$f":" IF(Foglio1!$C$12 <> \"\", 8.314472*Foglio1!$C$12*Foglio2!F103, NA())","v":{"$error":"#N/A"}},{"$f":"IF(Foglio1!$H$12 <> \"\", Foglio1!$H$12 + G103*10^-3, NA())","v":{"$error":"#N/A"}},874,6.7730803756555353,{"$f":" IF(Foglio1!$C$13 <> \"\", 8.314472*Foglio1!$C$13*Foglio2!J103, NA())","v":{"$error":"#N/A"}},{"$f":"IF(Foglio1!$H$13 <> \"\", Foglio1!$H$13 + K103*10^-3, NA())","v":{"$error":"#N/A"}},874,6.7730803756555353,{"$f":" IF(Foglio1!$C$14 <> \"\", 8.314472*Foglio1!$C$14*Foglio2!N103, NA())","v":{"$error":"#N/A"}},{"$f":"IF(Foglio1!$H$14 <> \"\", Foglio1!$H$14 + O103*10^-3, NA())","v":{"$error":"#N/A"}},874,6.7730803756555353,{"$f":" IF(Foglio1!$C$15 <> \"\", 8.314472*Foglio1!$C$15*Foglio2!R103, NA())","v":{"$error":"#N/A"}},{"$f":"IF(Foglio1!$H$15 <> \"\", Foglio1!$H$15 + S103*10^-3, NA())","v":{"$error":"#N/A"}}]
[883,6.7833252006039597,{"$f":" IF(Foglio1!$C$11 <> \"\", 8.314472*Foglio1!$C$11*Foglio2!B104, NA())","v":16919.930234194802},{"$f":"IF(Foglio1!$H$11 <> \"\", Foglio1!$H$11 + C104*10^-3, NA())","v":-73.080069765805206},883,6.7833252006039597,{"$f":" IF(Foglio1!$C$12 <> \"\", 8.314472*Foglio1!$C$12*Foglio2!F104, NA())","v":{"$error":"#N/A"}},{"$f":"IF(Foglio1!$H$12 <> \"\", Foglio1!$H$12 + G104*10^-3, NA())","v":{"$error":"#N/A"}},883,6.7833252006039597,{"$f":" IF(Foglio1!$C$13 <> \"\", 8.314472*Foglio1!$C$13*Foglio2!J104, NA())","v":{"$error":"#N/A"}},{"$f":"IF(Foglio1!$H$13 <> \"\", Foglio1!$H$13 + K104*10^-3, NA())","v":{"$error":"#N/A"}},883,6.7833252006039597,{"$f":" IF(Foglio1!$C$14 <> \"\", 8.314472*Foglio1!$C$14*Foglio2!N104, NA())","v":{"$error":"#N/A"}},{"$f":"IF(Foglio1!$H$14 <> \"\", Foglio1!$H$14 + O104*10^-3, NA())","v":{"$error":"#N/A"}},883,6.7833252006039597,{"$f":" IF(Foglio1!$C$15 <> \"\", 8.314472*Foglio1!$C$15*Foglio2!R104, NA())","v":{"$error":"#N/A"}},{"$f":"IF(Foglio1!$H$15 <> \"\", Foglio1!$H$15 + S104*10^-3, NA())","v":{"$error":"#N/A"}}]
[892,6.7934661325800096,{"$f":" IF(Foglio1!$C$11 <> \"\", 8.314472*Foglio1!$C$11*Foglio2!B105, NA())","v":16945.225182685434},{"$f":"IF(Foglio1!$H$11 <> \"\", Foglio1!$H$11 + C105*10^-3, NA())","v":-73.054774817314566},892,6.7934661325800096,{"$f":" IF(Foglio1!$C$12 <> \"\", 8.314472*Foglio1!$C$12*Foglio2!F105, NA())","v":{"$error":"#N/A"}},{"$f":"IF(Foglio1!$H$12 <> \"\", Foglio1!$H$12 + G105*10^-3, NA())","v":{"$error":"#N/A"}},892,6.7934661325800096,{"$f":" IF(Foglio1!$C$13 <> \"\", 8.314472*Foglio1!$C$13*Foglio2!J105, NA())","v":{"$error":"#N/A"}},{"$f":"IF(Foglio1!$H$13 <> \"\", Foglio1!$H$13 + K105*10^-3, NA())","v":{"$error":"#N/A"}},892,6.7934661325800096,{"$f":" IF(Foglio1!$C$14 <> \"\", 8.314472*Foglio1!$C$14*Foglio2!N105, NA())","v":{"$error":"#N/A"}},{"$f":"IF(Foglio1!$H$14 <> \"\", Foglio1!$H$14 + O105*10^-3, NA())","v":{"$error":"#N/A"}},892,6.7934661325800096,{"$f":" IF(Foglio1!$C$15 <> \"\", 8.314472*Foglio1!$C$15*Foglio2!R105, NA())","v":{"$error":"#N/A"}},{"$f":"IF(Foglio1!$H$15 <> \"\", Foglio1!$H$15 + S105*10^-3, NA())","v":{"$error":"#N/A"}}]
[901,6.8035052576083377,{"$f":" IF(Foglio1!$C$11 <> \"\", 8.314472*Foglio1!$C$11*Foglio2!B106, NA())","v":16970.266189871196},{"$f":"IF(Foglio1!$H$11 <> \"\", Foglio1!$H$11 + C106*10^-3, NA())","v":-73.029733810128803},901,6.8035052576083377,{"$f":" IF(Foglio1!$C$12 <> \"\", 8.314472*Foglio1!$C$12*Foglio2!F106, NA())","v":{"$error":"#N/A"}},{"$f":"IF(Foglio1!$H$12 <> \"\", Foglio1!$H$12 + G106*10^-3, NA())","v":{"$error":"#N/A"}},901,6.8035052576083377,{"$f":" IF(Foglio1!$C$13 <> \"\", 8.314472*Foglio1!$C$13*Foglio2!J106, NA())","v":{"$error":"#N/A"}},{"$f":"IF(Foglio1!$H$13 <> \"\", Foglio1!$H$13 + K106*10^-3, NA())","v":{"$error":"#N/A"}},901,6.8035052576083377,{"$f":" IF(Foglio1!$C$14 <> \"\", 8.314472*Foglio1!$C$14*Foglio2!N106, NA())","v":{"$error":"#N/A"}},{"$f":"IF(Foglio1!$H$14 <> \"\", Foglio1!$H$14 + O106*10^-3, NA())","v":{"$error":"#N/A"}},901,6.8035052576083377,{"$f":" IF(Foglio1!$C$15 <> \"\", 8.314472*Foglio1!$C$15*Foglio2!R106, NA())","v":{"$error":"#N/A"}},{"$f":"IF(Foglio1!$H$15 <> \"\", Foglio1!$H$15 + S106*10^-3, NA())","v":{"$error":"#N/A"}}]
[910,6.8134445995108956,{"$f":" IF(Foglio1!$C$11 <> \"\", 8.314472*Foglio1!$C$11*Foglio2!B107, NA())","v":16995.058303855367},{"$f":"IF(Foglio1!$H$11 <> \"\", Foglio1!$H$11 + C107*10^-3, NA())","v":-73.004941696144641},910,6.8134445995108956,{"$f":" IF(Foglio1!$C$12 <> \"\", 8.314472*Foglio1!$C$12*Foglio2!F107, NA())","v":{"$error":"#N/A"}},{"$f":"IF(Foglio1!$H$12 <> \"\", Foglio1!$H$12 + G107*10^-3, NA())","v":{"$error":"#N/A"}},910,6.8134445995108956,{"$f":" IF(Foglio1!$C$13 <> \"\", 8.314472*Foglio1!$C$13*Foglio2!J107, NA())","v":{"$error":"#N/A"}},{"$f":"IF(Foglio1!$H$13 <> \"\", Foglio1!$H$13 + K107*10^-3, NA())","v":{"$error":"#N/A"}},910,6.8134445995108956,{"$f":" IF(Foglio1!$C$14 <> \"\", 8.314472*Foglio1!$C$14*Foglio2!N107, NA())","v":{"$error":"#N/A"}},{"$f":"IF(Foglio1!$H$14 <> \"\", Foglio1!$H$14 + O107*10^-3, NA())","v":{"$error":"#N/A"}},910,6.8134445995108956,{"$f":" IF(Foglio1!$C$15 <> \"\", 8.314472*Foglio1!$C$15*Foglio2!R107, NA())","v":{"$error":"#N/A"}},{"$f":"IF(Foglio1!$H$15 <> \"\", Foglio1!$H$15 + S107*10^-3, NA())","v":{"$error":"#N/A"}}]
[919,6.8232861223556869,{"$f":" IF(Foglio1!$C$11 <> \"\", 8.314472*Foglio1!$C$11*Foglio2!B108, NA())","v":17019.60642369448},{"$f":"IF(Foglio1!$H$11 <> \"\", Foglio1!$H$11 + C108*10^-3, NA())","v":-72.980393576305516},919,6.8232861223556869,{"$f":" IF(Foglio1!$C$12 <> \"\", 8.314472*Foglio1!$C$12*Foglio2!F108, NA())","v":{"$error":"#N/A"}},{"$f":"IF(Foglio1!$H$12 <> \"\", Foglio1!$H$12 + G108*10^-3, NA())","v":{"$error":"#N/A"}},919,6.8232861223556869,{"$f":" IF(Foglio1!$C$13 <> \"\", 8.314472*Foglio1!$C$13*Foglio2!J108, NA())","v":{"$error":"#N/A"}},{"$f":"IF(Foglio1!$H$13 <> \"\", Foglio1!$H$13 + K108*10^-3, NA())","v":{"$error":"#N/A"}},919,6.8232861223556869,{"$f":" IF(Foglio1!$C$14 <> \"\", 8.314472*Foglio1!$C$14*Foglio2!N108, NA())","v":{"$error":"#N/A"}},{"$f":"IF(Foglio1!$H$14 <> \"\", Foglio1!$H$14 + O108*10^-3, NA())","v":{"$error":"#N/A"}},919,6.8232861223556869,{"$f":" IF(Foglio1!$C$15 <> \"\", 8.314472*Foglio1!$C$15*Foglio2!R108, NA())","v":{"$error":"#N/A"}},{"$f":"IF(Foglio1!$H$15 <> \"\", Foglio1!$H$15 + S108*10^-3, NA())","v":{"$error":"#N/A"}}]
[928,6.8330317327862007,{"$f":" IF(Foglio1!$C$11 <> \"\", 8.314472*Foglio1!$C$11*Foglio2!B109, NA())","v":17043.915305208706},{"$f":"IF(Foglio1!$H$11 <> \"\", Foglio1!$H$11 + C109*10^-3, NA())","v":-72.956084694791286},928,6.8330317327862007,{"$f":" IF(Foglio1!$C$12 <> \"\", 8.314472*Foglio1!$C$12*Foglio2!F109, NA())","v":{"$error":"#N/A"}},{"$f":"IF(Foglio1!$H$12 <> \"\", Foglio1!$H$12 + G109*10^-3, NA())","v":{"$error":"#N/A"}},928,6.8330317327862007,{"$f":" IF(Foglio1!$C$13 <> \"\", 8.314472*Foglio1!$C$13*Foglio2!J109, NA())","v":{"$error":"#N/A"}},{"$f":"IF(Foglio1!$H$13 <> \"\", Foglio1!$H$13 + K109*10^-3, NA())","v":{"$error":"#N/A"}},928,6.8330317327862007,{"$f":" IF(Foglio1!$C$14 <> \"\", 8.314472*Foglio1!$C$14*Foglio2!N109, NA())","v":{"$error":"#N/A"}},{"$f":"IF(Foglio1!$H$14 <> \"\", Foglio1!$H$14 + O109*10^-3, NA())","v":{"$error":"#N/A"}},928,6.8330317327862007,{"$f":" IF(Foglio1!$C$15 <> \"\", 8.314472*Foglio1!$C$15*Foglio2!R109, NA())","v":{"$error":"#N/A"}},{"$f":"IF(Foglio1!$H$15 <> \"\", Foglio1!$H$15 + S109*10^-3, NA())","v":{"$error":"#N/A"}}]
[937,6.842683282238422,{"$f":" IF(Foglio1!$C$11 <> \"\", 8.314472*Foglio1!$C$11*Foglio2!B110, NA())","v":17067.989566511838},{"$f":"IF(Foglio1!$H$11 <> \"\", Foglio1!$H$11 + C110*10^-3, NA())","v":-72.932010433488159},937,6.842683282238422,{"$f":" IF(Foglio1!$C$12 <> \"\", 8.314472*Foglio1!$C$12*Foglio2!F110, NA())","v":{"$error":"#N/A"}},{"$f":"IF(Foglio1!$H$12 <> \"\", Foglio1!$H$12 + G110*10^-3, NA())","v":{"$error":"#N/A"}},937,6.842683282238422,{"$f":" IF(Foglio1!$C$13 <> \"\", 8.314472*Foglio1!$C$13*Foglio2!J110, NA())","v":{"$error":"#N/A"}},{"$f":"IF(Foglio1!$H$13 <> \"\", Foglio1!$H$13 + K110*10^-3, NA())","v":{"$error":"#N/A"}},937,6.842683282238422,{"$f":" IF(Foglio1!$C$14 <> \"\", 8.314472*Foglio1!$C$14*Foglio2!N110, NA())","v":{"$error":"#N/A"}},{"$f":"IF(Foglio1!$H$14 <> \"\", Foglio1!$H$14 + O110*10^-3, NA())","v":{"$error":"#N/A"}},937,6.842683282238422,{"$f":" IF(Foglio1!$C$15 <> \"\", 8.314472*Foglio1!$C$15*Foglio2!R110, NA())","v":{"$error":"#N/A"}},{"$f":"IF(Foglio1!$H$15 <> \"\", Foglio1!$H$15 + S110*10^-3, NA())","v":{"$error":"#N/A"}}]
[946,6.852242569051878,{"$f":" IF(Foglio1!$C$11 <> \"\", 8.314472*Foglio1!$C$11*Foglio2!B111, NA())","v":17091.833693276974},{"$f":"IF(Foglio1!$H$11 <> \"\", Foglio1!$H$11 + C111*10^-3, NA())","v":-72.908166306723018},946,6.852242569051878,{"$f":" IF(Foglio1!$C$12 <> \"\", 8.314472*Foglio1!$C$12*Foglio2!F111, NA())","v":{"$error":"#N/A"}},{"$f":"IF(Foglio1!$H$12 <> \"\", Foglio1!$H$12 + G111*10^-3, NA())","v":{"$error":"#N/A"}},946,6.852242569051878,{"$f":" IF(Foglio1!$C$13 <> \"\", 8.314472*Foglio1!$C$13*Foglio2!J111, NA())","v":{"$error":"#N/A"}},{"$f":"IF(Foglio1!$H$13 <> \"\", Foglio1!$H$13 + K111*10^-3, NA())","v":{"$error":"#N/A"}},946,6.852242569051878,{"$f":" IF(Foglio1!$C$14 <> \"\", 8.314472*Foglio1!$C$14*Foglio2!N111, NA())","v":{"$error":"#N/A"}},{"$f":"IF(Foglio1!$H$14 <> \"\", Foglio1!$H$14 + O111*10^-3, NA())","v":{"$error":"#N/A"}},946,6.852242569051878,{"$f":" IF(Foglio1!$C$15 <> \"\", 8.314472*Foglio1!$C$15*Foglio2!R111, NA())","v":{"$error":"#N/A"}},{"$f":"IF(Foglio1!$H$15 <> \"\", Foglio1!$H$15 + S111*10^-3, NA())","v":{"$error":"#N/A"}}]
[955,6.8617113404807304,{"$f":" IF(Foglio1!$C$11 <> \"\", 8.314472*Foglio1!$C$11*Foglio2!B112, NA())","v":17115.452043752852},{"$f":"IF(Foglio1!$H$11 <> \"\", Foglio1!$H$11 + C112*10^-3, NA())","v":-72.884547956247147},955,6.8617113404807304,{"$f":" IF(Foglio1!$C$12 <> \"\", 8.314472*Foglio1!$C$12*Foglio2!F112, NA())","v":{"$error":"#N/A"}},{"$f":"IF(Foglio1!$H$12 <> \"\", Foglio1!$H$12 + G112*10^-3, NA())","v":{"$error":"#N/A"}},955,6.8617113404807304,{"$f":" IF(Foglio1!$C$13 <> \"\", 8.314472*Foglio1!$C$13*Foglio2!J112, NA())","v":{"$error":"#N/A"}},{"$f":"IF(Foglio1!$H$13 <> \"\", Foglio1!$H$13 + K112*10^-3, NA())","v":{"$error":"#N/A"}},955,6.8617113404807304,{"$f":" IF(Foglio1!$C$14 <> \"\", 8.314472*Foglio1!$C$14*Foglio2!N112, NA())","v":{"$error":"#N/A"}},{"$f":"IF(Foglio1!$H$14 <> \"\", Foglio1!$H$14 + O112*10^-3, NA())","v":{"$error":"#N/A"}},955,6.8617113404807304,{"$f":" IF(Foglio1!$C$15 <> \"\", 8.314472*Foglio1!$C$15*Foglio2!R112, NA())","v":{"$error":"#N/A"}},{"$f":"IF(Foglio1!$H$15 <> \"\", Foglio1!$H$15 + S112*10^-3, NA())","v":{"$error":"#N/A"}}]
[964,6.8710912946105456,{"$f":" IF(Foglio1!$C$11 <> \"\", 8.314472*Foglio1!$C$11*Foglio2!B113, NA())","v":17138.84885354494},{"$f":"IF(Foglio1!$H$11 <> \"\", Foglio1!$H$11 + C113*10^-3, NA())","v":-72.861151146455057},964,6.8710912946105456,{"$f":" IF(Foglio1!$C$12 <> \"\", 8.314472*Foglio1!$C$12*Foglio2!F113, NA())","v":{"$error":"#N/A"}},{"$f":"IF(Foglio1!$H$12 <> \"\", Foglio1!$H$12 + G113*10^-3, NA())","v":{"$error":"#N/A"}},964,6.8710912946105456,{"$f":" IF(Foglio1!$C$13 <> \"\", 8.314472*Foglio1!$C$13*Foglio2!J113, NA())","v":{"$error":"#N/A"}},{"$f":"IF(Foglio1!$H$13 <> \"\", Foglio1!$H$13 + K113*10^-3, NA())","v":{"$error":"#N/A"}},964,6.8710912946105456,{"$f":" IF(Foglio1!$C$14 <> \"\", 8.314472*Foglio1!$C$14*Foglio2!N113, NA())","v":{"$error":"#N/A"}},{"$f":"IF(Foglio1!$H$14 <> \"\", Foglio1!$H$14 + O113*10^-3, NA())","v":{"$error":"#N/A"}},964,6.8710912946105456,{"$f":" IF(Foglio1!$C$15 <> \"\", 8.314472*Foglio1!$C$15*Foglio2!R113, NA())","v":{"$error":"#N/A"}},{"$f":"IF(Foglio1!$H$15 <> \"\", Foglio1!$H$15 + S113*10^-3, NA())","v":{"$error":"#N/A"}}]
[973,6.8803840821860049,{"$f":" IF(Foglio1!$C$11 <> \"\", 8.314472*Foglio1!$C$11*Foglio2!B114, NA())","v":17162.028240174372},{"$f":"IF(Foglio1!$H$11 <> \"\", Foglio1!$H$11 + C114*10^-3, NA())","v":-72.837971759825621},973,6.8803840821860049,{"$f":" IF(Foglio1!$C$12 <> \"\", 8.314472*Foglio1!$C$12*Foglio2!F114, NA())","v":{"$error":"#N/A"}},{"$f":"IF(Foglio1!$H$12 <> \"\", Foglio1!$H$12 + G114*10^-3, NA())","v":{"$error":"#N/A"}},973,6.8803840821860049,{"$f":" IF(Foglio1!$C$13 <> \"\", 8.314472*Foglio1!$C$13*Foglio2!J114, NA())","v":{"$error":"#N/A"}},{"$f":"IF(Foglio1!$H$13 <> \"\", Foglio1!$H$13 + K114*10^-3, NA())","v":{"$error":"#N/A"}},973,6.8803840821860049,{"$f":" IF(Foglio1!$C$14 <> \"\", 8.314472*Foglio1!$C$14*Foglio2!N114, NA())","v":{"$error":"#N/A"}},{"$f":"IF(Foglio1!$H$14 <> \"\", Foglio1!$H$14 + O114*10^-3, NA())","v":{"$error":"#N/A"}},973,6.8803840821860049,{"$f":" IF(Foglio1!$C$15 <> \"\", 8.314472*Foglio1!$C$15*Foglio2!R114, NA())","v":{"$error":"#N/A"}},{"$f":"IF(Foglio1!$H$15 <> \"\", Foglio1!$H$15 + S114*10^-3, NA())","v":{"$error":"#N/A"}}]
[982,6.8895913083544658,{"$f":" IF(Foglio1!$C$11 <> \"\", 8.314472*Foglio1!$C$11*Foglio2!B115, NA())","v":17184.994207426971},{"$f":"IF(Foglio1!$H$11 <> \"\", Foglio1!$H$11 + C115*10^-3, NA())","v":-72.815005792573032},982,6.8895913083544658,{"$f":" IF(Foglio1!$C$12 <> \"\", 8.314472*Foglio1!$C$12*Foglio2!F115, NA())","v":{"$error":"#N/A"}},{"$f":"IF(Foglio1!$H$12 <> \"\", Foglio1!$H$12 + G115*10^-3, NA())","v":{"$error":"#N/A"}},982,6.8895913083544658,{"$f":" IF(Foglio1!$C$13 <> \"\", 8.314472*Foglio1!$C$13*Foglio2!J115, NA())","v":{"$error":"#N/A"}},{"$f":"IF(Foglio1!$H$13 <> \"\", Foglio1!$H$13 + K115*10^-3, NA())","v":{"$error":"#N/A"}},982,6.8895913083544658,{"$f":" IF(Foglio1!$C$14 <> \"\", 8.314472*Foglio1!$C$14*Foglio2!N115, NA())","v":{"$error":"#N/A"}},{"$f":"IF(Foglio1!$H$14 <> \"\", Foglio1!$H$14 + O115*10^-3, NA())","v":{"$error":"#N/A"}},982,6.8895913083544658,{"$f":" IF(Foglio1!$C$15 <> \"\", 8.314472*Foglio1!$C$15*Foglio2!R115, NA())","v":{"$error":"#N/A"}},{"$f":"IF(Foglio1!$H$15 <> \"\", Foglio1!$H$15 + S115*10^-3, NA())","v":{"$error":"#N/A"}}]
[991,6.8987145343299883,{"$f":" IF(Foglio1!$C$11 <> \"\", 8.314472*Foglio1!$C$11*Foglio2!B116, NA())","v":17207.75064950392},{"$f":"IF(Foglio1!$H$11 <> \"\", Foglio1!$H$11 + C116*10^-3, NA())","v":-72.792249350496078},991,6.8987145343299883,{"$f":" IF(Foglio1!$C$12 <> \"\", 8.314472*Foglio1!$C$12*Foglio2!F116, NA())","v":{"$error":"#N/A"}},{"$f":"IF(Foglio1!$H$12 <> \"\", Foglio1!$H$12 + G116*10^-3, NA())","v":{"$error":"#N/A"}},991,6.8987145343299883,{"$f":" IF(Foglio1!$C$13 <> \"\", 8.314472*Foglio1!$C$13*Foglio2!J116, NA())","v":{"$error":"#N/A"}},{"$f":"IF(Foglio1!$H$13 <> \"\", Foglio1!$H$13 + K116*10^-3, NA())","v":{"$error":"#N/A"}},991,6.8987145343299883,{"$f":" IF(Foglio1!$C$14 <> \"\", 8.314472*Foglio1!$C$14*Foglio2!N116, NA())","v":{"$error":"#N/A"}},{"$f":"IF(Foglio1!$H$14 <> \"\", Foglio1!$H$14 + O116*10^-3, NA())","v":{"$error":"#N/A"}},991,6.8987145343299883,{"$f":" IF(Foglio1!$C$15 <> \"\", 8.314472*Foglio1!$C$15*Foglio2!R116, NA())","v":{"$error":"#N/A"}},{"$f":"IF(Foglio1!$H$15 <> \"\", Foglio1!$H$15 + S116*10^-3, NA())","v":{"$error":"#N/A"}}]
[1000,6.9077552789821368,{"$f":" IF(Foglio1!$C$11 <> \"\", 8.314472*Foglio1!$C$11*Foglio2!B117, NA())","v":17230.301354984749},{"$f":"IF(Foglio1!$H$11 <> \"\", Foglio1!$H$11 + C117*10^-3, NA())","v":-72.769698645015254},1000,6.9077552789821368,{"$f":" IF(Foglio1!$C$12 <> \"\", 8.314472*Foglio1!$C$12*Foglio2!F117, NA())","v":{"$error":"#N/A"}},{"$f":"IF(Foglio1!$H$12 <> \"\", Foglio1!$H$12 + G117*10^-3, NA())","v":{"$error":"#N/A"}},1000,6.9077552789821368,{"$f":" IF(Foglio1!$C$13 <> \"\", 8.314472*Foglio1!$C$13*Foglio2!J117, NA())","v":{"$error":"#N/A"}},{"$f":"IF(Foglio1!$H$13 <> \"\", Foglio1!$H$13 + K117*10^-3, NA())","v":{"$error":"#N/A"}},1000,6.9077552789821368,{"$f":" IF(Foglio1!$C$14 <> \"\", 8.314472*Foglio1!$C$14*Foglio2!N117, NA())","v":{"$error":"#N/A"}},{"$f":"IF(Foglio1!$H$14 <> \"\", Foglio1!$H$14 + O117*10^-3, NA())","v":{"$error":"#N/A"}},1000,6.9077552789821368,{"$f":" IF(Foglio1!$C$15 <> \"\", 8.314472*Foglio1!$C$15*Foglio2!R117, NA())","v":{"$error":"#N/A"}},{"$f":"IF(Foglio1!$H$15 <> \"\", Foglio1!$H$15 + S117*10^-3, NA())","v":{"$error":"#N/A"}}]
[1009,6.9167150203536085,{"$f":" IF(Foglio1!$C$11 <> \"\", 8.314472*Foglio1!$C$11*Foglio2!B118, NA())","v":17252.650010612855},{"$f":"IF(Foglio1!$H$11 <> \"\", Foglio1!$H$11 + C118*10^-3, NA())","v":-72.747349989387146},1009,6.9167150203536085,{"$f":" IF(Foglio1!$C$12 <> \"\", 8.314472*Foglio1!$C$12*Foglio2!F118, NA())","v":{"$error":"#N/A"}},{"$f":"IF(Foglio1!$H$12 <> \"\", Foglio1!$H$12 + G118*10^-3, NA())","v":{"$error":"#N/A"}},1009,6.9167150203536085,{"$f":" IF(Foglio1!$C$13 <> \"\", 8.314472*Foglio1!$C$13*Foglio2!J118, NA())","v":{"$error":"#N/A"}},{"$f":"IF(Foglio1!$H$13 <> \"\", Foglio1!$H$13 + K118*10^-3, NA())","v":{"$error":"#N/A"}},1009,6.9167150203536085,{"$f":" IF(Foglio1!$C$14 <> \"\", 8.314472*Foglio1!$C$14*Foglio2!N118, NA())","v":{"$error":"#N/A"}},{"$f":"IF(Foglio1!$H$14 <> \"\", Foglio1!$H$14 + O118*10^-3, NA())","v":{"$error":"#N/A"}},1009,6.9167150203536085,{"$f":" IF(Foglio1!$C$15 <> \"\", 8.314472*Foglio1!$C$15*Foglio2!R118, NA())","v":{"$error":"#N/A"}},{"$f":"IF(Foglio1!$H$15 <> \"\", Foglio1!$H$15 + S118*10^-3, NA())","v":{"$error":"#N/A"}}]
[1018,6.9255951971104679,{"$f":" IF(Foglio1!$C$11 <> \"\", 8.314472*Foglio1!$C$11*Foglio2!B119, NA())","v":17274.800204912841},{"$f":"IF(Foglio1!$H$11 <> \"\", Foglio1!$H$11 + C119*10^-3, NA())","v":-72.725199795087164},1018,6.9255951971104679,{"$f":" IF(Foglio1!$C$12 <> \"\", 8.314472*Foglio1!$C$12*Foglio2!F119, NA())","v":{"$error":"#N/A"}},{"$f":"IF(Foglio1!$H$12 <> \"\", Foglio1!$H$12 + G119*10^-3, NA())","v":{"$error":"#N/A"}},1018,6.9255951971104679,{"$f":" IF(Foglio1!$C$13 <> \"\", 8.314472*Foglio1!$C$13*Foglio2!J119, NA())","v":{"$error":"#N/A"}},{"$f":"IF(Foglio1!$H$13 <> \"\", Foglio1!$H$13 + K119*10^-3, NA())","v":{"$error":"#N/A"}},1018,6.9255951971104679,{"$f":" IF(Foglio1!$C$14 <> \"\", 8.314472*Foglio1!$C$14*Foglio2!N119, NA())","v":{"$error":"#N/A"}},{"$f":"IF(Foglio1!$H$14 <> \"\", Foglio1!$H$14 + O119*10^-3, NA())","v":{"$error":"#N/A"}},1018,6.9255951971104679,{"$f":" IF(Foglio1!$C$15 <> \"\", 8.314472*Foglio1!$C$15*Foglio2!R119, NA())","v":{"$error":"#N/A"}},{"$f":"IF(Foglio1!$H$15 <> \"\", Foglio1!$H$15 + S119*10^-3, NA())","v":{"$error":"#N/A"}}]
[1027,6.9343972099285578,{"$f":" IF(Foglio1!$C$11 <> \"\", 8.314472*Foglio1!$C$11*Foglio2!B120, NA())","v":17296.755431648737},{"$f":"IF(Foglio1!$H$11 <> \"\", Foglio1!$H$11 + C120*10^-3, NA())","v":-72.703244568351266},1027,6.9343972099285578,{"$f":" IF(Foglio1!$C$12 <> \"\", 8.314472*Foglio1!$C$12*Foglio2!F120, NA())","v":{"$error":"#N/A"}},{"$f":"IF(Foglio1!$H$12 <> \"\", Foglio1!$H$12 + G120*10^-3, NA())","v":{"$error":"#N/A"}},1027,6.9343972099285578,{"$f":" IF(Foglio1!$C$13 <> \"\", 8.314472*Foglio1!$C$13*Foglio2!J120, NA())","v":{"$error":"#N/A"}},{"$f":"IF(Foglio1!$H$13 <> \"\", Foglio1!$H$13 + K120*10^-3, NA())","v":{"$error":"#N/A"}},1027,6.9343972099285578,{"$f":" IF(Foglio1!$C$14 <> \"\", 8.314472*Foglio1!$C$14*Foglio2!N120, NA())","v":{"$error":"#N/A"}},{"$f":"IF(Foglio1!$H$14 <> \"\", Foglio1!$H$14 + O120*10^-3, NA())","v":{"$error":"#N/A"}},1027,6.9343972099285578,{"$f":" IF(Foglio1!$C$15 <> \"\", 8.314472*Foglio1!$C$15*Foglio2!R120, NA())","v":{"$error":"#N/A"}},{"$f":"IF(Foglio1!$H$15 <> \"\", Foglio1!$H$15 + S120*10^-3, NA())","v":{"$error":"#N/A"}}]
[1036,6.9431224228194282,{"$f":" IF(Foglio1!$C$11 <> \"\", 8.314472*Foglio1!$C$11*Foglio2!B121, NA())","v":17318.51909313129},{"$f":"IF(Foglio1!$H$11 <> \"\", Foglio1!$H$11 + C121*10^-3, NA())","v":-72.681480906868714},1036,6.9431224228194282,{"$f":" IF(Foglio1!$C$12 <> \"\", 8.314472*Foglio1!$C$12*Foglio2!F121, NA())","v":{"$error":"#N/A"}},{"$f":"IF(Foglio1!$H$12 <> \"\", Foglio1!$H$12 + G121*10^-3, NA())","v":{"$error":"#N/A"}},1036,6.9431224228194282,{"$f":" IF(Foglio1!$C$13 <> \"\", 8.314472*Foglio1!$C$13*Foglio2!J121, NA())","v":{"$error":"#N/A"}},{"$f":"IF(Foglio1!$H$13 <> \"\", Foglio1!$H$13 + K121*10^-3, NA())","v":{"$error":"#N/A"}},1036,6.9431224228194282,{"$f":" IF(Foglio1!$C$14 <> \"\", 8.314472*Foglio1!$C$14*Foglio2!N121, NA())","v":{"$error":"#N/A"}},{"$f":"IF(Foglio1!$H$14 <> \"\", Foglio1!$H$14 + O121*10^-3, NA())","v":{"$error":"#N/A"}},1036,6.9431224228194282,{"$f":" IF(Foglio1!$C$15 <> \"\", 8.314472*Foglio1!$C$15*Foglio2!R121, NA())","v":{"$error":"#N/A"}},{"$f":"IF(Foglio1!$H$15 <> \"\", Foglio1!$H$15 + S121*10^-3, NA())","v":{"$error":"#N/A"}}]
[1045,6.9517721643989114,{"$f":" IF(Foglio1!$C$11 <> \"\", 8.314472*Foglio1!$C$11*Foglio2!B122, NA())","v":17340.094503382246},{"$f":"IF(Foglio1!$H$11 <> \"\", Foglio1!$H$11 + C122*10^-3, NA())","v":-72.659905496617753},1045,6.9517721643989114,{"$f":" IF(Foglio1!$C$12 <> \"\", 8.314472*Foglio1!$C$12*Foglio2!F122, NA())","v":{"$error":"#N/A"}},{"$f":"IF(Foglio1!$H$12 <> \"\", Foglio1!$H$12 + G122*10^-3, NA())","v":{"$error":"#N/A"}},1045,6.9517721643989114,{"$f":" IF(Foglio1!$C$13 <> \"\", 8.314472*Foglio1!$C$13*Foglio2!J122, NA())","v":{"$error":"#N/A"}},{"$f":"IF(Foglio1!$H$13 <> \"\", Foglio1!$H$13 + K122*10^-3, NA())","v":{"$error":"#N/A"}},1045,6.9517721643989114,{"$f":" IF(Foglio1!$C$14 <> \"\", 8.314472*Foglio1!$C$14*Foglio2!N122, NA())","v":{"$error":"#N/A"}},{"$f":"IF(Foglio1!$H$14 <> \"\", Foglio1!$H$14 + O122*10^-3, NA())","v":{"$error":"#N/A"}},1045,6.9517721643989114,{"$f":" IF(Foglio1!$C$15 <> \"\", 8.314472*Foglio1!$C$15*Foglio2!R122, NA())","v":{"$error":"#N/A"}},{"$f":"IF(Foglio1!$H$15 <> \"\", Foglio1!$H$15 + S122*10^-3, NA())","v":{"$error":"#N/A"}}]
[1054,6.9603477291013078,{"$f":" IF(Foglio1!$C$11 <> \"\", 8.314472*Foglio1!$C$11*Foglio2!B123, NA())","v":17361.484891162923},{"$f":"IF(Foglio1!$H$11 <> \"\", Foglio1!$H$11 + C123*10^-3, NA())","v":-72.638515108837083},1054,6.9603477291013078,{"$f":" IF(Foglio1!$C$12 <> \"\", 8.314472*Foglio1!$C$12*Foglio2!F123, NA())","v":{"$error":"#N/A"}},{"$f":"IF(Foglio1!$H$12 <> \"\", Foglio1!$H$12 + G123*10^-3, NA())","v":{"$error":"#N/A"}},1054,6.9603477291013078,{"$f":" IF(Foglio1!$C$13 <> \"\", 8.314472*Foglio1!$C$13*Foglio2!J123, NA())","v":{"$error":"#N/A"}},{"$f":"IF(Foglio1!$H$13 <> \"\", Foglio1!$H$13 + K123*10^-3, NA())","v":{"$error":"#N/A"}},1054,6.9603477291013078,{"$f":" IF(Foglio1!$C$14 <> \"\", 8.314472*Foglio1!$C$14*Foglio2!N123, NA())","v":{"$error":"#N/A"}},{"$f":"IF(Foglio1!$H$14 <> \"\", Foglio1!$H$14 + O123*10^-3, NA())","v":{"$error":"#N/A"}},1054,6.9603477291013078,{"$f":" IF(Foglio1!$C$15 <> \"\", 8.314472*Foglio1!$C$15*Foglio2!R123, NA())","v":{"$error":"#N/A"}},{"$f":"IF(Foglio1!$H$15 <> \"\", Foglio1!$H$15 + S123*10^-3, NA())","v":{"$error":"#N/A"}}]
[1063,6.9688503783419478,{"$f":" IF(Foglio1!$C$11 <> \"\", 8.314472*Foglio1!$C$11*Foglio2!B124, NA())","v":17382.693402874062},{"$f":"IF(Foglio1!$H$11 <> \"\", Foglio1!$H$11 + C124*10^-3, NA())","v":-72.617306597125946},1063,6.9688503783419478,{"$f":" IF(Foglio1!$C$12 <> \"\", 8.314472*Foglio1!$C$12*Foglio2!F124, NA())","v":{"$error":"#N/A"}},{"$f":"IF(Foglio1!$H$12 <> \"\", Foglio1!$H$12 + G124*10^-3, NA())","v":{"$error":"#N/A"}},1063,6.9688503783419478,{"$f":" IF(Foglio1!$C$13 <> \"\", 8.314472*Foglio1!$C$13*Foglio2!J124, NA())","v":{"$error":"#N/A"}},{"$f":"IF(Foglio1!$H$13 <> \"\", Foglio1!$H$13 + K124*10^-3, NA())","v":{"$error":"#N/A"}},1063,6.9688503783419478,{"$f":" IF(Foglio1!$C$14 <> \"\", 8.314472*Foglio1!$C$14*Foglio2!N124, NA())","v":{"$error":"#N/A"}},{"$f":"IF(Foglio1!$H$14 <> \"\", Foglio1!$H$14 + O124*10^-3, NA())","v":{"$error":"#N/A"}},1063,6.9688503783419478,{"$f":" IF(Foglio1!$C$15 <> \"\", 8.314472*Foglio1!$C$15*Foglio2!R124, NA())","v":{"$error":"#N/A"}},{"$f":"IF(Foglio1!$H$15 <> \"\", Foglio1!$H$15 + S124*10^-3, NA())","v":{"$error":"#N/A"}}]
[1072,6.9772813416307473,{"$f":" IF(Foglio1!$C$11 <> \"\", 8.314472*Foglio1!$C$11*Foglio2!B125, NA())","v":17403.723105333385},{"$f":"IF(Foglio1!$H$11 <> \"\", Foglio1!$H$11 + C125*10^-3, NA())","v":-72.596276894666616},1072,6.9772813416307473,{"$f":" IF(Foglio1!$C$12 <> \"\", 8.314472*Foglio1!$C$12*Foglio2!F125, NA())","v":{"$error":"#N/A"}},{"$f":"IF(Foglio1!$H$12 <> \"\", Foglio1!$H$12 + G125*10^-3, NA())","v":{"$error":"#N/A"}},1072,6.9772813416307473,{"$f":" IF(Foglio1!$C$13 <> \"\", 8.314472*Foglio1!$C$13*Foglio2!J125, NA())","v":{"$error":"#N/A"}},{"$f":"IF(Foglio1!$H$13 <> \"\", Foglio1!$H$13 + K125*10^-3, NA())","v":{"$error":"#N/A"}},1072,6.9772813416307473,{"$f":" IF(Foglio1!$C$14 <> \"\", 8.314472*Foglio1!$C$14*Foglio2!N125, NA())","v":{"$error":"#N/A"}},{"$f":"IF(Foglio1!$H$14 <> \"\", Foglio1!$H$14 + O125*10^-3, NA())","v":{"$error":"#N/A"}},1072,6.9772813416307473,{"$f":" IF(Foglio1!$C$15 <> \"\", 8.314472*Foglio1!$C$15*Foglio2!R125, NA())","v":{"$error":"#N/A"}},{"$f":"IF(Foglio1!$H$15 <> \"\", Foglio1!$H$15 + S125*10^-3, NA())","v":{"$error":"#N/A"}}]
[1081,6.9856418176392081,{"$f":" IF(Foglio1!$C$11 <> \"\", 8.314472*Foglio1!$C$11*Foglio2!B126, NA())","v":17424.576988437093},{"$f":"IF(Foglio1!$H$11 <> \"\", Foglio1!$H$11 + C126*10^-3, NA())","v":-72.575423011562904},1081,6.9856418176392081,{"$f":" IF(Foglio1!$C$12 <> \"\", 8.314472*Foglio1!$C$12*Foglio2!F126, NA())","v":{"$error":"#N/A"}},{"$f":"IF(Foglio1!$H$12 <> \"\", Foglio1!$H$12 + G126*10^-3, NA())","v":{"$error":"#N/A"}},1081,6.9856418176392081,{"$f":" IF(Foglio1!$C$13 <> \"\", 8.314472*Foglio1!$C$13*Foglio2!J126, NA())","v":{"$error":"#N/A"}},{"$f":"IF(Foglio1!$H$13 <> \"\", Foglio1!$H$13 + K126*10^-3, NA())","v":{"$error":"#N/A"}},1081,6.9856418176392081,{"$f":" IF(Foglio1!$C$14 <> \"\", 8.314472*Foglio1!$C$14*Foglio2!N126, NA())","v":{"$error":"#N/A"}},{"$f":"IF(Foglio1!$H$14 <> \"\", Foglio1!$H$14 + O126*10^-3, NA())","v":{"$error":"#N/A"}},1081,6.9856418176392081,{"$f":" IF(Foglio1!$C$15 <> \"\", 8.314472*Foglio1!$C$15*Foglio2!R126, NA())","v":{"$error":"#N/A"}},{"$f":"IF(Foglio1!$H$15 <> \"\", Foglio1!$H$15 + S126*10^-3, NA())","v":{"$error":"#N/A"}}]
[1090,6.9939329752231894,{"$f":" IF(Foglio1!$C$11 <> \"\", 8.314472*Foglio1!$C$11*Foglio2!B127, NA())","v":17445.257967710972},{"$f":"IF(Foglio1!$H$11 <> \"\", Foglio1!$H$11 + C127*10^-3, NA())","v":-72.554742032289028},1090,6.9939329752231894,{"$f":" IF(Foglio1!$C$12 <> \"\", 8.314472*Foglio1!$C$12*Foglio2!F127, NA())","v":{"$error":"#N/A"}},{"$f":"IF(Foglio1!$H$12 <> \"\", Foglio1!$H$12 + G127*10^-3, NA())","v":{"$error":"#N/A"}},1090,6.9939329752231894,{"$f":" IF(Foglio1!$C$13 <> \"\", 8.314472*Foglio1!$C$13*Foglio2!J127, NA())","v":{"$error":"#N/A"}},{"$f":"IF(Foglio1!$H$13 <> \"\", Foglio1!$H$13 + K127*10^-3, NA())","v":{"$error":"#N/A"}},1090,6.9939329752231894,{"$f":" IF(Foglio1!$C$14 <> \"\", 8.314472*Foglio1!$C$14*Foglio2!N127, NA())","v":{"$error":"#N/A"}},{"$f":"IF(Foglio1!$H$14 <> \"\", Foglio1!$H$14 + O127*10^-3, NA())","v":{"$error":"#N/A"}},1090,6.9939329752231894,{"$f":" IF(Foglio1!$C$15 <> \"\", 8.314472*Foglio1!$C$15*Foglio2!R127, NA())","v":{"$error":"#N/A"}},{"$f":"IF(Foglio1!$H$15 <> \"\", Foglio1!$H$15 + S127*10^-3, NA())","v":{"$error":"#N/A"}}]
[1099,7.0021559544036212,{"$f":" IF(Foglio1!$C$11 <> \"\", 8.314472*Foglio1!$C$11*Foglio2!B128, NA())","v":17465.768886756658},{"$f":"IF(Foglio1!$H$11 <> \"\", Foglio1!$H$11 + C128*10^-3, NA())","v":-72.534231113243351},1099,7.0021559544036212,{"$f":" IF(Foglio1!$C$12 <> \"\", 8.314472*Foglio1!$C$12*Foglio2!F128, NA())","v":{"$error":"#N/A"}},{"$f":"IF(Foglio1!$H$12 <> \"\", Foglio1!$H$12 + G128*10^-3, NA())","v":{"$error":"#N/A"}},1099,7.0021559544036212,{"$f":" IF(Foglio1!$C$13 <> \"\", 8.314472*Foglio1!$C$13*Foglio2!J128, NA())","v":{"$error":"#N/A"}},{"$f":"IF(Foglio1!$H$13 <> \"\", Foglio1!$H$13 + K128*10^-3, NA())","v":{"$error":"#N/A"}},1099,7.0021559544036212,{"$f":" IF(Foglio1!$C$14 <> \"\", 8.314472*Foglio1!$C$14*Foglio2!N128, NA())","v":{"$error":"#N/A"}},{"$f":"IF(Foglio1!$H$14 <> \"\", Foglio1!$H$14 + O128*10^-3, NA())","v":{"$error":"#N/A"}},1099,7.0021559544036212,{"$f":" IF(Foglio1!$C$15 <> \"\", 8.314472*Foglio1!$C$15*Foglio2!R128, NA())","v":{"$error":"#N/A"}},{"$f":"IF(Foglio1!$H$15 <> \"\", Foglio1!$H$15 + S128*10^-3, NA())","v":{"$error":"#N/A"}}]
[1108,7.0103118673072293,{"$f":" IF(Foglio1!$C$11 <> \"\", 8.314472*Foglio1!$C$11*Foglio2!B129, NA())","v":17486.112519598104},{"$f":"IF(Foglio1!$H$11 <> \"\", Foglio1!$H$11 + C129*10^-3, NA())","v":-72.513887480401891},1108,7.0103118673072293,{"$f":" IF(Foglio1!$C$12 <> \"\", 8.314472*Foglio1!$C$12*Foglio2!F129, NA())","v":{"$error":"#N/A"}},{"$f":"IF(Foglio1!$H$12 <> \"\", Foglio1!$H$12 + G129*10^-3, NA())","v":{"$error":"#N/A"}},1108,7.0103118673072293,{"$f":" IF(Foglio1!$C$13 <> \"\", 8.314472*Foglio1!$C$13*Foglio2!J129, NA())","v":{"$error":"#N/A"}},{"$f":"IF(Foglio1!$H$13 <> \"\", Foglio1!$H$13 + K129*10^-3, NA())","v":{"$error":"#N/A"}},1108,7.0103118673072293,{"$f":" IF(Foglio1!$C$14 <> \"\", 8.314472*Foglio1!$C$14*Foglio2!N129, NA())","v":{"$error":"#N/A"}},{"$f":"IF(Foglio1!$H$14 <> \"\", Foglio1!$H$14 + O129*10^-3, NA())","v":{"$error":"#N/A"}},1108,7.0103118673072293,{"$f":" IF(Foglio1!$C$15 <> \"\", 8.314472*Foglio1!$C$15*Foglio2!R129, NA())","v":{"$error":"#N/A"}},{"$f":"IF(Foglio1!$H$15 <> \"\", Foglio1!$H$15 + S129*10^-3, NA())","v":{"$error":"#N/A"}}]
[1117,7.0184017990692009,{"$f":" IF(Foglio1!$C$11 <> \"\", 8.314472*Foglio1!$C$11*Foglio2!B130, NA())","v":17506.291572933151},{"$f":"IF(Foglio1!$H$11 <> \"\", Foglio1!$H$11 + C130*10^-3, NA())","v":-72.493708427066849},1117,7.0184017990692009,{"$f":" IF(Foglio1!$C$12 <> \"\", 8.314472*Foglio1!$C$12*Foglio2!F130, NA())","v":{"$error":"#N/A"}},{"$f":"IF(Foglio1!$H$12 <> \"\", Foglio1!$H$12 + G130*10^-3, NA())","v":{"$error":"#N/A"}},1117,7.0184017990692009,{"$f":" IF(Foglio1!$C$13 <> \"\", 8.314472*Foglio1!$C$13*Foglio2!J130, NA())","v":{"$error":"#N/A"}},{"$f":"IF(Foglio1!$H$13 <> \"\", Foglio1!$H$13 + K130*10^-3, NA())","v":{"$error":"#N/A"}},1117,7.0184017990692009,{"$f":" IF(Foglio1!$C$14 <> \"\", 8.314472*Foglio1!$C$14*Foglio2!N130, NA())","v":{"$error":"#N/A"}},{"$f":"IF(Foglio1!$H$14 <> \"\", Foglio1!$H$14 + O130*10^-3, NA())","v":{"$error":"#N/A"}},1117,7.0184017990692009,{"$f":" IF(Foglio1!$C$15 <> \"\", 8.314472*Foglio1!$C$15*Foglio2!R130, NA())","v":{"$error":"#N/A"}},{"$f":"IF(Foglio1!$H$15 <> \"\", Foglio1!$H$15 + S130*10^-3, NA())","v":{"$error":"#N/A"}}]
[1126,{"$f":"LN(A131)","v":7.026426808699636},{"$f":" IF(Foglio1!$C$11 <> \"\", 8.314472*Foglio1!$C$11*Foglio2!B131, NA())","v":17526.308688294746},{"$f":"IF(Foglio1!$H$11 <> \"\", Foglio1!$H$11 + C131*10^-3, NA())","v":-72.473691311705252},1126,{"$f":"LN(E131)","v":7.026426808699636},{"$f":" IF(Foglio1!$C$12 <> \"\", 8.314472*Foglio1!$C$12*Foglio2!F131, NA())","v":{"$error":"#N/A"}},{"$f":"IF(Foglio1!$H$12 <> \"\", Foglio1!$H$12 + G131*10^-3, NA())","v":{"$error":"#N/A"}},1126,{"$f":"LN(I131)","v":7.026426808699636},{"$f":" IF(Foglio1!$C$13 <> \"\", 8.314472*Foglio1!$C$13*Foglio2!J131, NA())","v":{"$error":"#N/A"}},{"$f":"IF(Foglio1!$H$13 <> \"\", Foglio1!$H$13 + K131*10^-3, NA())","v":{"$error":"#N/A"}},1126,{"$f":"LN(M131)","v":7.026426808699636},{"$f":" IF(Foglio1!$C$14 <> \"\", 8.314472*Foglio1!$C$14*Foglio2!N131, NA())","v":{"$error":"#N/A"}},{"$f":"IF(Foglio1!$H$14 <> \"\", Foglio1!$H$14 + O131*10^-3, NA())","v":{"$error":"#N/A"}},1126,{"$f":"LN(Q131)","v":7.026426808699636},{"$f":" IF(Foglio1!$C$15 <> \"\", 8.314472*Foglio1!$C$15*Foglio2!R131, NA())","v":{"$error":"#N/A"}},{"$f":"IF(Foglio1!$H$15 <> \"\", Foglio1!$H$15 + S131*10^-3, NA())","v":{"$error":"#N/A"}}]
[1135,7.0343879299155034,{"$f":" IF(Foglio1!$C$11 <> \"\", 8.314472*Foglio1!$C$11*Foglio2!B132, NA())","v":17546.166444126127},{"$f":"IF(Foglio1!$H$11 <> \"\", Foglio1!$H$11 + C132*10^-3, NA())","v":-72.453833555873871},1135,7.0343879299155034,{"$f":" IF(Foglio1!$C$12 <> \"\", 8.314472*Foglio1!$C$12*Foglio2!F132, NA())","v":{"$error":"#N/A"}},{"$f":"IF(Foglio1!$H$12 <> \"\", Foglio1!$H$12 + G132*10^-3, NA())","v":{"$error":"#N/A"}},1135,7.0343879299155034,{"$f":" IF(Foglio1!$C$13 <> \"\", 8.314472*Foglio1!$C$13*Foglio2!J132, NA())","v":{"$error":"#N/A"}},{"$f":"IF(Foglio1!$H$13 <> \"\", Foglio1!$H$13 + K132*10^-3, NA())","v":{"$error":"#N/A"}},1135,7.0343879299155034,{"$f":" IF(Foglio1!$C$14 <> \"\", 8.314472*Foglio1!$C$14*Foglio2!N132, NA())","v":{"$error":"#N/A"}},{"$f":"IF(Foglio1!$H$14 <> \"\", Foglio1!$H$14 + O132*10^-3, NA())","v":{"$error":"#N/A"}},1135,7.0343879299155034,{"$f":" IF(Foglio1!$C$15 <> \"\", 8.314472*Foglio1!$C$15*Foglio2!R132, NA())","v":{"$error":"#N/A"}},{"$f":"IF(Foglio1!$H$15 <> \"\", Foglio1!$H$15 + S132*10^-3, NA())","v":{"$error":"#N/A"}}]
[1144,7.0422861719397432,{"$f":" IF(Foglio1!$C$11 <> \"\", 8.314472*Foglio1!$C$11*Foglio2!B133, NA())","v":17565.867357774056},{"$f":"IF(Foglio1!$H$11 <> \"\", Foglio1!$H$11 + C133*10^-3, NA())","v":-72.434132642225947},1144,7.0422861719397432,{"$f":" IF(Foglio1!$C$12 <> \"\", 8.314472*Foglio1!$C$12*Foglio2!F133, NA())","v":{"$error":"#N/A"}},{"$f":"IF(Foglio1!$H$12 <> \"\", Foglio1!$H$12 + G133*10^-3, NA())","v":{"$error":"#N/A"}},1144,7.0422861719397432,{"$f":" IF(Foglio1!$C$13 <> \"\", 8.314472*Foglio1!$C$13*Foglio2!J133, NA())","v":{"$error":"#N/A"}},{"$f":"IF(Foglio1!$H$13 <> \"\", Foglio1!$H$13 + K133*10^-3, NA())","v":{"$error":"#N/A"}},1144,7.0422861719397432,{"$f":" IF(Foglio1!$C$14 <> \"\", 8.314472*Foglio1!$C$14*Foglio2!N133, NA())","v":{"$error":"#N/A"}},{"$f":"IF(Foglio1!$H$14 <> \"\", Foglio1!$H$14 + O133*10^-3, NA())","v":{"$error":"#N/A"}},1144,7.0422861719397432,{"$f":" IF(Foglio1!$C$15 <> \"\", 8.314472*Foglio1!$C$15*Foglio2!R133, NA())","v":{"$error":"#N/A"}},{"$f":"IF(Foglio1!$H$15 <> \"\", Foglio1!$H$15 + S133*10^-3, NA())","v":{"$error":"#N/A"}}]
[1153,7.0501225202690589,{"$f":" IF(Foglio1!$C$11 <> \"\", 8.314472*Foglio1!$C$11*Foglio2!B134, NA())","v":17585.41388740396},{"$f":"IF(Foglio1!$H$11 <> \"\", Foglio1!$H$11 + C134*10^-3, NA())","v":-72.414586112596041},1153,7.0501225202690589,{"$f":" IF(Foglio1!$C$12 <> \"\", 8.314472*Foglio1!$C$12*Foglio2!F134, NA())","v":{"$error":"#N/A"}},{"$f":"IF(Foglio1!$H$12 <> \"\", Foglio1!$H$12 + G134*10^-3, NA())","v":{"$error":"#N/A"}},1153,7.0501225202690589,{"$f":" IF(Foglio1!$C$13 <> \"\", 8.314472*Foglio1!$C$13*Foglio2!J134, NA())","v":{"$error":"#N/A"}},{"$f":"IF(Foglio1!$H$13 <> \"\", Foglio1!$H$13 + K134*10^-3, NA())","v":{"$error":"#N/A"}},1153,7.0501225202690589,{"$f":" IF(Foglio1!$C$14 <> \"\", 8.314472*Foglio1!$C$14*Foglio2!N134, NA())","v":{"$error":"#N/A"}},{"$f":"IF(Foglio1!$H$14 <> \"\", Foglio1!$H$14 + O134*10^-3, NA())","v":{"$error":"#N/A"}},1153,7.0501225202690589,{"$f":" IF(Foglio1!$C$15 <> \"\", 8.314472*Foglio1!$C$15*Foglio2!R134, NA())","v":{"$error":"#N/A"}},{"$f":"IF(Foglio1!$H$15 <> \"\", Foglio1!$H$15 + S134*10^-3, NA())","v":{"$error":"#N/A"}}]
[1162,7.0578979374118562,{"$f":" IF(Foglio1!$C$11 <> \"\", 8.314472*Foglio1!$C$11*Foglio2!B135, NA())","v":17604.80843384059},{"$f":"IF(Foglio1!$H$11 <> \"\", Foglio1!$H$11 + C135*10^-3, NA())","v":-72.395191566159411},1162,7.0578979374118562,{"$f":" IF(Foglio1!$C$12 <> \"\", 8.314472*Foglio1!$C$12*Foglio2!F135, NA())","v":{"$error":"#N/A"}},{"$f":"IF(Foglio1!$H$12 <> \"\", Foglio1!$H$12 + G135*10^-3, NA())","v":{"$error":"#N/A"}},1162,7.0578979374118562,{"$f":" IF(Foglio1!$C$13 <> \"\", 8.314472*Foglio1!$C$13*Foglio2!J135, NA())","v":{"$error":"#N/A"}},{"$f":"IF(Foglio1!$H$13 <> \"\", Foglio1!$H$13 + K135*10^-3, NA())","v":{"$error":"#N/A"}},1162,7.0578979374118562,{"$f":" IF(Foglio1!$C$14 <> \"\", 8.314472*Foglio1!$C$14*Foglio2!N135, NA())","v":{"$error":"#N/A"}},{"$f":"IF(Foglio1!$H$14 <> \"\", Foglio1!$H$14 + O135*10^-3, NA())","v":{"$error":"#N/A"}},1162,7.0578979374118562,{"$f":" IF(Foglio1!$C$15 <> \"\", 8.314472*Foglio1!$C$15*Foglio2!R135, NA())","v":{"$error":"#N/A"}},{"$f":"IF(Foglio1!$H$15 <> \"\", Foglio1!$H$15 + S135*10^-3, NA())","v":{"$error":"#N/A"}}]
[1171,7.0656133635977172,{"$f":" IF(Foglio1!$C$11 <> \"\", 8.314472*Foglio1!$C$11*Foglio2!B136, NA())","v":17624.053342337713},{"$f":"IF(Foglio1!$H$11 <> \"\", Foglio1!$H$11 + C136*10^-3, NA())","v":-72.375946657662283},1171,7.0656133635977172,{"$f":" IF(Foglio1!$C$12 <> \"\", 8.314472*Foglio1!$C$12*Foglio2!F136, NA())","v":{"$error":"#N/A"}},{"$f":"IF(Foglio1!$H$12 <> \"\", Foglio1!$H$12 + G136*10^-3, NA())","v":{"$error":"#N/A"}},1171,7.0656133635977172,{"$f":" IF(Foglio1!$C$13 <> \"\", 8.314472*Foglio1!$C$13*Foglio2!J136, NA())","v":{"$error":"#N/A"}},{"$f":"IF(Foglio1!$H$13 <> \"\", Foglio1!$H$13 + K136*10^-3, NA())","v":{"$error":"#N/A"}},1171,7.0656133635977172,{"$f":" IF(Foglio1!$C$14 <> \"\", 8.314472*Foglio1!$C$14*Foglio2!N136, NA())","v":{"$error":"#N/A"}},{"$f":"IF(Foglio1!$H$14 <> \"\", Foglio1!$H$14 + O136*10^-3, NA())","v":{"$error":"#N/A"}},1171,7.0656133635977172,{"$f":" IF(Foglio1!$C$15 <> \"\", 8.314472*Foglio1!$C$15*Foglio2!R136, NA())","v":{"$error":"#N/A"}},{"$f":"IF(Foglio1!$H$15 <> \"\", Foglio1!$H$15 + S136*10^-3, NA())","v":{"$error":"#N/A"}}]
[1180,7.0732697174597101,{"$f":" IF(Foglio1!$C$11 <> \"\", 8.314472*Foglio1!$C$11*Foglio2!B137, NA())","v":17643.150904280003},{"$f":"IF(Foglio1!$H$11 <> \"\", Foglio1!$H$11 + C137*10^-3, NA())","v":-72.356849095719994},1180,7.0732697174597101,{"$f":" IF(Foglio1!$C$12 <> \"\", 8.314472*Foglio1!$C$12*Foglio2!F137, NA())","v":{"$error":"#N/A"}},{"$f":"IF(Foglio1!$H$12 <> \"\", Foglio1!$H$12 + G137*10^-3, NA())","v":{"$error":"#N/A"}},1180,7.0732697174597101,{"$f":" IF(Foglio1!$C$13 <> \"\", 8.314472*Foglio1!$C$13*Foglio2!J137, NA())","v":{"$error":"#N/A"}},{"$f":"IF(Foglio1!$H$13 <> \"\", Foglio1!$H$13 + K137*10^-3, NA())","v":{"$error":"#N/A"}},1180,7.0732697174597101,{"$f":" IF(Foglio1!$C$14 <> \"\", 8.314472*Foglio1!$C$14*Foglio2!N137, NA())","v":{"$error":"#N/A"}},{"$f":"IF(Foglio1!$H$14 <> \"\", Foglio1!$H$14 + O137*10^-3, NA())","v":{"$error":"#N/A"}},1180,7.0732697174597101,{"$f":" IF(Foglio1!$C$15 <> \"\", 8.314472*Foglio1!$C$15*Foglio2!R137, NA())","v":{"$error":"#N/A"}},{"$f":"IF(Foglio1!$H$15 <> \"\", Foglio1!$H$15 + S137*10^-3, NA())","v":{"$error":"#N/A"}}]
[1189,7.0808678966907816,{"$f":" IF(Foglio1!$C$11 <> \"\", 8.314472*Foglio1!$C$11*Foglio2!B138, NA())","v":17662.103358820321},{"$f":"IF(Foglio1!$H$11 <> \"\", Foglio1!$H$11 + C138*10^-3, NA())","v":-72.337896641179682},1189,7.0808678966907816,{"$f":" IF(Foglio1!$C$12 <> \"\", 8.314472*Foglio1!$C$12*Foglio2!F138, NA())","v":{"$error":"#N/A"}},{"$f":"IF(Foglio1!$H$12 <> \"\", Foglio1!$H$12 + G138*10^-3, NA())","v":{"$error":"#N/A"}},1189,7.0808678966907816,{"$f":" IF(Foglio1!$C$13 <> \"\", 8.314472*Foglio1!$C$13*Foglio2!J138, NA())","v":{"$error":"#N/A"}},{"$f":"IF(Foglio1!$H$13 <> \"\", Foglio1!$H$13 + K138*10^-3, NA())","v":{"$error":"#N/A"}},1189,7.0808678966907816,{"$f":" IF(Foglio1!$C$14 <> \"\", 8.314472*Foglio1!$C$14*Foglio2!N138, NA())","v":{"$error":"#N/A"}},{"$f":"IF(Foglio1!$H$14 <> \"\", Foglio1!$H$14 + O138*10^-3, NA())","v":{"$error":"#N/A"}},1189,7.0808678966907816,{"$f":" IF(Foglio1!$C$15 <> \"\", 8.314472*Foglio1!$C$15*Foglio2!R138, NA())","v":{"$error":"#N/A"}},{"$f":"IF(Foglio1!$H$15 <> \"\", Foglio1!$H$15 + S138*10^-3, NA())","v":{"$error":"#N/A"}}]
[1198,7.0884087786753947,{"$f":" IF(Foglio1!$C$11 <> \"\", 8.314472*Foglio1!$C$11*Foglio2!B139, NA())","v":17680.912894455232},{"$f":"IF(Foglio1!$H$11 <> \"\", Foglio1!$H$11 + C139*10^-3, NA())","v":-72.319087105544767},1198,7.0884087786753947,{"$f":" IF(Foglio1!$C$12 <> \"\", 8.314472*Foglio1!$C$12*Foglio2!F139, NA())","v":{"$error":"#N/A"}},{"$f":"IF(Foglio1!$H$12 <> \"\", Foglio1!$H$12 + G139*10^-3, NA())","v":{"$error":"#N/A"}},1198,7.0884087786753947,{"$f":" IF(Foglio1!$C$13 <> \"\", 8.314472*Foglio1!$C$13*Foglio2!J139, NA())","v":{"$error":"#N/A"}},{"$f":"IF(Foglio1!$H$13 <> \"\", Foglio1!$H$13 + K139*10^-3, NA())","v":{"$error":"#N/A"}},1198,7.0884087786753947,{"$f":" IF(Foglio1!$C$14 <> \"\", 8.314472*Foglio1!$C$14*Foglio2!N139, NA())","v":{"$error":"#N/A"}},{"$f":"IF(Foglio1!$H$14 <> \"\", Foglio1!$H$14 + O139*10^-3, NA())","v":{"$error":"#N/A"}},1198,7.0884087786753947,{"$f":" IF(Foglio1!$C$15 <> \"\", 8.314472*Foglio1!$C$15*Foglio2!R139, NA())","v":{"$error":"#N/A"}},{"$f":"IF(Foglio1!$H$15 <> \"\", Foglio1!$H$15 + S139*10^-3, NA())","v":{"$error":"#N/A"}}]
[1207,7.0958932210975316,{"$f":" IF(Foglio1!$C$11 <> \"\", 8.314472*Foglio1!$C$11*Foglio2!B140, NA())","v":17699.581650541571},{"$f":"IF(Foglio1!$H$11 <> \"\", Foglio1!$H$11 + C140*10^-3, NA())","v":-72.300418349458425},1207,7.0958932210975316,{"$f":" IF(Foglio1!$C$12 <> \"\", 8.314472*Foglio1!$C$12*Foglio2!F140, NA())","v":{"$error":"#N/A"}},{"$f":"IF(Foglio1!$H$12 <> \"\", Foglio1!$H$12 + G140*10^-3, NA())","v":{"$error":"#N/A"}},1207,7.0958932210975316,{"$f":" IF(Foglio1!$C$13 <> \"\", 8.314472*Foglio1!$C$13*Foglio2!J140, NA())","v":{"$error":"#N/A"}},{"$f":"IF(Foglio1!$H$13 <> \"\", Foglio1!$H$13 + K140*10^-3, NA())","v":{"$error":"#N/A"}},1207,7.0958932210975316,{"$f":" IF(Foglio1!$C$14 <> \"\", 8.314472*Foglio1!$C$14*Foglio2!N140, NA())","v":{"$error":"#N/A"}},{"$f":"IF(Foglio1!$H$14 <> \"\", Foglio1!$H$14 + O140*10^-3, NA())","v":{"$error":"#N/A"}},1207,7.0958932210975316,{"$f":" IF(Foglio1!$C$15 <> \"\", 8.314472*Foglio1!$C$15*Foglio2!R140, NA())","v":{"$error":"#N/A"}},{"$f":"IF(Foglio1!$H$15 <> \"\", Foglio1!$H$15 + S140*10^-3, NA())","v":{"$error":"#N/A"}}]
[1216,7.1033220625261126,{"$f":" IF(Foglio1!$C$11 <> \"\", 8.314472*Foglio1!$C$11*Foglio2!B141, NA())","v":17718.111718756685},{"$f":"IF(Foglio1!$H$11 <> \"\", Foglio1!$H$11 + C141*10^-3, NA())","v":-72.281888281243312},1216,7.1033220625261126,{"$f":" IF(Foglio1!$C$12 <> \"\", 8.314472*Foglio1!$C$12*Foglio2!F141, NA())","v":{"$error":"#N/A"}},{"$f":"IF(Foglio1!$H$12 <> \"\", Foglio1!$H$12 + G141*10^-3, NA())","v":{"$error":"#N/A"}},1216,7.1033220625261126,{"$f":" IF(Foglio1!$C$13 <> \"\", 8.314472*Foglio1!$C$13*Foglio2!J141, NA())","v":{"$error":"#N/A"}},{"$f":"IF(Foglio1!$H$13 <> \"\", Foglio1!$H$13 + K141*10^-3, NA())","v":{"$error":"#N/A"}},1216,7.1033220625261126,{"$f":" IF(Foglio1!$C$14 <> \"\", 8.314472*Foglio1!$C$14*Foglio2!N141, NA())","v":{"$error":"#N/A"}},{"$f":"IF(Foglio1!$H$14 <> \"\", Foglio1!$H$14 + O141*10^-3, NA())","v":{"$error":"#N/A"}},1216,7.1033220625261126,{"$f":" IF(Foglio1!$C$15 <> \"\", 8.314472*Foglio1!$C$15*Foglio2!R141, NA())","v":{"$error":"#N/A"}},{"$f":"IF(Foglio1!$H$15 <> \"\", Foglio1!$H$15 + S141*10^-3, NA())","v":{"$error":"#N/A"}}]
[1225,7.110696122978827,{"$f":" IF(Foglio1!$C$11 <> \"\", 8.314472*Foglio1!$C$11*Foglio2!B142, NA())","v":17736.505144504805},{"$f":"IF(Foglio1!$H$11 <> \"\", Foglio1!$H$11 + C142*10^-3, NA())","v":-72.263494855495196},1225,7.110696122978827,{"$f":" IF(Foglio1!$C$12 <> \"\", 8.314472*Foglio1!$C$12*Foglio2!F142, NA())","v":{"$error":"#N/A"}},{"$f":"IF(Foglio1!$H$12 <> \"\", Foglio1!$H$12 + G142*10^-3, NA())","v":{"$error":"#N/A"}},1225,7.110696122978827,{"$f":" IF(Foglio1!$C$13 <> \"\", 8.314472*Foglio1!$C$13*Foglio2!J142, NA())","v":{"$error":"#N/A"}},{"$f":"IF(Foglio1!$H$13 <> \"\", Foglio1!$H$13 + K142*10^-3, NA())","v":{"$error":"#N/A"}},1225,7.110696122978827,{"$f":" IF(Foglio1!$C$14 <> \"\", 8.314472*Foglio1!$C$14*Foglio2!N142, NA())","v":{"$error":"#N/A"}},{"$f":"IF(Foglio1!$H$14 <> \"\", Foglio1!$H$14 + O142*10^-3, NA())","v":{"$error":"#N/A"}},1225,7.110696122978827,{"$f":" IF(Foglio1!$C$15 <> \"\", 8.314472*Foglio1!$C$15*Foglio2!R142, NA())","v":{"$error":"#N/A"}},{"$f":"IF(Foglio1!$H$15 <> \"\", Foglio1!$H$15 + S142*10^-3, NA())","v":{"$error":"#N/A"}}]
[1234,7.1180162044653335,{"$f":" IF(Foglio1!$C$11 <> \"\", 8.314472*Foglio1!$C$11*Foglio2!B143, NA())","v":17754.76392827199},{"$f":"IF(Foglio1!$H$11 <> \"\", Foglio1!$H$11 + C143*10^-3, NA())","v":-72.245236071728016},1234,7.1180162044653335,{"$f":" IF(Foglio1!$C$12 <> \"\", 8.314472*Foglio1!$C$12*Foglio2!F143, NA())","v":{"$error":"#N/A"}},{"$f":"IF(Foglio1!$H$12 <> \"\", Foglio1!$H$12 + G143*10^-3, NA())","v":{"$error":"#N/A"}},1234,7.1180162044653335,{"$f":" IF(Foglio1!$C$13 <> \"\", 8.314472*Foglio1!$C$13*Foglio2!J143, NA())","v":{"$error":"#N/A"}},{"$f":"IF(Foglio1!$H$13 <> \"\", Foglio1!$H$13 + K143*10^-3, NA())","v":{"$error":"#N/A"}},1234,7.1180162044653335,{"$f":" IF(Foglio1!$C$14 <> \"\", 8.314472*Foglio1!$C$14*Foglio2!N143, NA())","v":{"$error":"#N/A"}},{"$f":"IF(Foglio1!$H$14 <> \"\", Foglio1!$H$14 + O143*10^-3, NA())","v":{"$error":"#N/A"}},1234,7.1180162044653335,{"$f":" IF(Foglio1!$C$15 <> \"\", 8.314472*Foglio1!$C$15*Foglio2!R143, NA())","v":{"$error":"#N/A"}},{"$f":"IF(Foglio1!$H$15 <> \"\", Foglio1!$H$15 + S143*10^-3, NA())","v":{"$error":"#N/A"}}]
[1243,7.1252830915107115,{"$f":" IF(Foglio1!$C$11 <> \"\", 8.314472*Foglio1!$C$11*Foglio2!B144, NA())","v":17772.890026931775},{"$f":"IF(Foglio1!$H$11 <> \"\", Foglio1!$H$11 + C144*10^-3, NA())","v":-72.227109973068224},1243,7.1252830915107115,{"$f":" IF(Foglio1!$C$12 <> \"\", 8.314472*Foglio1!$C$12*Foglio2!F144, NA())","v":{"$error":"#N/A"}},{"$f":"IF(Foglio1!$H$12 <> \"\", Foglio1!$H$12 + G144*10^-3, NA())","v":{"$error":"#N/A"}},1243,7.1252830915107115,{"$f":" IF(Foglio1!$C$13 <> \"\", 8.314472*Foglio1!$C$13*Foglio2!J144, NA())","v":{"$error":"#N/A"}},{"$f":"IF(Foglio1!$H$13 <> \"\", Foglio1!$H$13 + K144*10^-3, NA())","v":{"$error":"#N/A"}},1243,7.1252830915107115,{"$f":" IF(Foglio1!$C$14 <> \"\", 8.314472*Foglio1!$C$14*Foglio2!N144, NA())","v":{"$error":"#N/A"}},{"$f":"IF(Foglio1!$H$14 <> \"\", Foglio1!$H$14 + O144*10^-3, NA())","v":{"$error":"#N/A"}},1243,7.1252830915107115,{"$f":" IF(Foglio1!$C$15 <> \"\", 8.314472*Foglio1!$C$15*Foglio2!R144, NA())","v":{"$error":"#N/A"}},{"$f":"IF(Foglio1!$H$15 <> \"\", Foglio1!$H$15 + S144*10^-3, NA())","v":{"$error":"#N/A"}}]
[1252,7.1324975516600437,{"$f":" IF(Foglio1!$C$11 <> \"\", 8.314472*Foglio1!$C$11*Foglio2!B145, NA())","v":17790.885355003797},{"$f":"IF(Foglio1!$H$11 <> \"\", Foglio1!$H$11 + C145*10^-3, NA())","v":-72.209114644996205},1252,7.1324975516600437,{"$f":" IF(Foglio1!$C$12 <> \"\", 8.314472*Foglio1!$C$12*Foglio2!F145, NA())","v":{"$error":"#N/A"}},{"$f":"IF(Foglio1!$H$12 <> \"\", Foglio1!$H$12 + G145*10^-3, NA())","v":{"$error":"#N/A"}},1252,7.1324975516600437,{"$f":" IF(Foglio1!$C$13 <> \"\", 8.314472*Foglio1!$C$13*Foglio2!J145, NA())","v":{"$error":"#N/A"}},{"$f":"IF(Foglio1!$H$13 <> \"\", Foglio1!$H$13 + K145*10^-3, NA())","v":{"$error":"#N/A"}},1252,7.1324975516600437,{"$f":" IF(Foglio1!$C$14 <> \"\", 8.314472*Foglio1!$C$14*Foglio2!N145, NA())","v":{"$error":"#N/A"}},{"$f":"IF(Foglio1!$H$14 <> \"\", Foglio1!$H$14 + O145*10^-3, NA())","v":{"$error":"#N/A"}},1252,7.1324975516600437,{"$f":" IF(Foglio1!$C$15 <> \"\", 8.314472*Foglio1!$C$15*Foglio2!R145, NA())","v":{"$error":"#N/A"}},{"$f":"IF(Foglio1!$H$15 <> \"\", Foglio1!$H$15 + S145*10^-3, NA())","v":{"$error":"#N/A"}}]
[1261,7.13966033596492,{"$f":" IF(Foglio1!$C$11 <> \"\", 8.314472*Foglio1!$C$11*Foglio2!B146, NA())","v":17808.751785867276},{"$f":"IF(Foglio1!$H$11 <> \"\", Foglio1!$H$11 + C146*10^-3, NA())","v":-72.191248214132727},1261,7.13966033596492,{"$f":" IF(Foglio1!$C$12 <> \"\", 8.314472*Foglio1!$C$12*Foglio2!F146, NA())","v":{"$error":"#N/A"}},{"$f":"IF(Foglio1!$H$12 <> \"\", Foglio1!$H$12 + G146*10^-3, NA())","v":{"$error":"#N/A"}},1261,7.13966033596492,{"$f":" IF(Foglio1!$C$13 <> \"\", 8.314472*Foglio1!$C$13*Foglio2!J146, NA())","v":{"$error":"#N/A"}},{"$f":"IF(Foglio1!$H$13 <> \"\", Foglio1!$H$13 + K146*10^-3, NA())","v":{"$error":"#N/A"}},1261,7.13966033596492,{"$f":" IF(Foglio1!$C$14 <> \"\", 8.314472*Foglio1!$C$14*Foglio2!N146, NA())","v":{"$error":"#N/A"}},{"$f":"IF(Foglio1!$H$14 <> \"\", Foglio1!$H$14 + O146*10^-3, NA())","v":{"$error":"#N/A"}},1261,7.13966033596492,{"$f":" IF(Foglio1!$C$15 <> \"\", 8.314472*Foglio1!$C$15*Foglio2!R146, NA())","v":{"$error":"#N/A"}},{"$f":"IF(Foglio1!$H$15 <> \"\", Foglio1!$H$15 + S146*10^-3, NA())","v":{"$error":"#N/A"}}]
[1270,7.1467721794526371,{"$f":" IF(Foglio1!$C$11 <> \"\", 8.314472*Foglio1!$C$11*Foglio2!B147, NA())","v":17826.491152931379},{"$f":"IF(Foglio1!$H$11 <> \"\", Foglio1!$H$11 + C147*10^-3, NA())","v":-72.173508847068618},1270,7.1467721794526371,{"$f":" IF(Foglio1!$C$12 <> \"\", 8.314472*Foglio1!$C$12*Foglio2!F147, NA())","v":{"$error":"#N/A"}},{"$f":"IF(Foglio1!$H$12 <> \"\", Foglio1!$H$12 + G147*10^-3, NA())","v":{"$error":"#N/A"}},1270,7.1467721794526371,{"$f":" IF(Foglio1!$C$13 <> \"\", 8.314472*Foglio1!$C$13*Foglio2!J147, NA())","v":{"$error":"#N/A"}},{"$f":"IF(Foglio1!$H$13 <> \"\", Foglio1!$H$13 + K147*10^-3, NA())","v":{"$error":"#N/A"}},1270,7.1467721794526371,{"$f":" IF(Foglio1!$C$14 <> \"\", 8.314472*Foglio1!$C$14*Foglio2!N147, NA())","v":{"$error":"#N/A"}},{"$f":"IF(Foglio1!$H$14 <> \"\", Foglio1!$H$14 + O147*10^-3, NA())","v":{"$error":"#N/A"}},1270,7.1467721794526371,{"$f":" IF(Foglio1!$C$15 <> \"\", 8.314472*Foglio1!$C$15*Foglio2!R147, NA())","v":{"$error":"#N/A"}},{"$f":"IF(Foglio1!$H$15 <> \"\", Foglio1!$H$15 + S147*10^-3, NA())","v":{"$error":"#N/A"}}]
[1279,7.153833801578843,{"$f":" IF(Foglio1!$C$11 <> \"\", 8.314472*Foglio1!$C$11*Foglio2!B148, NA())","v":17844.105250764256},{"$f":"IF(Foglio1!$H$11 <> \"\", Foglio1!$H$11 + C148*10^-3, NA())","v":-72.155894749235742},1279,7.153833801578843,{"$f":" IF(Foglio1!$C$12 <> \"\", 8.314472*Foglio1!$C$12*Foglio2!F148, NA())","v":{"$error":"#N/A"}},{"$f":"IF(Foglio1!$H$12 <> \"\", Foglio1!$H$12 + G148*10^-3, NA())","v":{"$error":"#N/A"}},1279,7.153833801578843,{"$f":" IF(Foglio1!$C$13 <> \"\", 8.314472*Foglio1!$C$13*Foglio2!J148, NA())","v":{"$error":"#N/A"}},{"$f":"IF(Foglio1!$H$13 <> \"\", Foglio1!$H$13 + K148*10^-3, NA())","v":{"$error":"#N/A"}},1279,7.153833801578843,{"$f":" IF(Foglio1!$C$14 <> \"\", 8.314472*Foglio1!$C$14*Foglio2!N148, NA())","v":{"$error":"#N/A"}},{"$f":"IF(Foglio1!$H$14 <> \"\", Foglio1!$H$14 + O148*10^-3, NA())","v":{"$error":"#N/A"}},1279,7.153833801578843,{"$f":" IF(Foglio1!$C$15 <> \"\", 8.314472*Foglio1!$C$15*Foglio2!R148, NA())","v":{"$error":"#N/A"}},{"$f":"IF(Foglio1!$H$15 <> \"\", Foglio1!$H$15 + S148*10^-3, NA())","v":{"$error":"#N/A"}}]
[1288,7.1608459066642993,{"$f":" IF(Foglio1!$C$11 <> \"\", 8.314472*Foglio1!$C$11*Foglio2!B149, NA())","v":17861.595836182481},{"$f":"IF(Foglio1!$H$11 <> \"\", Foglio1!$H$11 + C149*10^-3, NA())","v":-72.138404163817512},1288,7.1608459066642993,{"$f":" IF(Foglio1!$C$12 <> \"\", 8.314472*Foglio1!$C$12*Foglio2!F149, NA())","v":{"$error":"#N/A"}},{"$f":"IF(Foglio1!$H$12 <> \"\", Foglio1!$H$12 + G149*10^-3, NA())","v":{"$error":"#N/A"}},1288,7.1608459066642993,{"$f":" IF(Foglio1!$C$13 <> \"\", 8.314472*Foglio1!$C$13*Foglio2!J149, NA())","v":{"$error":"#N/A"}},{"$f":"IF(Foglio1!$H$13 <> \"\", Foglio1!$H$13 + K149*10^-3, NA())","v":{"$error":"#N/A"}},1288,7.1608459066642993,{"$f":" IF(Foglio1!$C$14 <> \"\", 8.314472*Foglio1!$C$14*Foglio2!N149, NA())","v":{"$error":"#N/A"}},{"$f":"IF(Foglio1!$H$14 <> \"\", Foglio1!$H$14 + O149*10^-3, NA())","v":{"$error":"#N/A"}},1288,7.1608459066642993,{"$f":" IF(Foglio1!$C$15 <> \"\", 8.314472*Foglio1!$C$15*Foglio2!R149, NA())","v":{"$error":"#N/A"}},{"$f":"IF(Foglio1!$H$15 <> \"\", Foglio1!$H$15 + S149*10^-3, NA())","v":{"$error":"#N/A"}}]
[1297,7.167809184316444,{"$f":" IF(Foglio1!$C$11 <> \"\", 8.314472*Foglio1!$C$11*Foglio2!B150, NA())","v":17878.964629302576},{"$f":"IF(Foglio1!$H$11 <> \"\", Foglio1!$H$11 + C150*10^-3, NA())","v":-72.121035370697427},1297,7.167809184316444,{"$f":" IF(Foglio1!$C$12 <> \"\", 8.314472*Foglio1!$C$12*Foglio2!F150, NA())","v":{"$error":"#N/A"}},{"$f":"IF(Foglio1!$H$12 <> \"\", Foglio1!$H$12 + G150*10^-3, NA())","v":{"$error":"#N/A"}},1297,7.167809184316444,{"$f":" IF(Foglio1!$C$13 <> \"\", 8.314472*Foglio1!$C$13*Foglio2!J150, NA())","v":{"$error":"#N/A"}},{"$f":"IF(Foglio1!$H$13 <> \"\", Foglio1!$H$13 + K150*10^-3, NA())","v":{"$error":"#N/A"}},1297,7.167809184316444,{"$f":" IF(Foglio1!$C$14 <> \"\", 8.314472*Foglio1!$C$14*Foglio2!N150, NA())","v":{"$error":"#N/A"}},{"$f":"IF(Foglio1!$H$14 <> \"\", Foglio1!$H$14 + O150*10^-3, NA())","v":{"$error":"#N/A"}},1297,7.167809184316444,{"$f":" IF(Foglio1!$C$15 <> \"\", 8.314472*Foglio1!$C$15*Foglio2!R150, NA())","v":{"$error":"#N/A"}},{"$f":"IF(Foglio1!$H$15 <> \"\", Foglio1!$H$15 + S150*10^-3, NA())","v":{"$error":"#N/A"}}]
[1306,7.1747243098363764,{"$f":" IF(Foglio1!$C$11 <> \"\", 8.314472*Foglio1!$C$11*Foglio2!B151, NA())","v":17896.213314556164},{"$f":"IF(Foglio1!$H$11 <> \"\", Foglio1!$H$11 + C151*10^-3, NA())","v":-72.103786685443836},1306,7.1747243098363764,{"$f":" IF(Foglio1!$C$12 <> \"\", 8.314472*Foglio1!$C$12*Foglio2!F151, NA())","v":{"$error":"#N/A"}},{"$f":"IF(Foglio1!$H$12 <> \"\", Foglio1!$H$12 + G151*10^-3, NA())","v":{"$error":"#N/A"}},1306,7.1747243098363764,{"$f":" IF(Foglio1!$C$13 <> \"\", 8.314472*Foglio1!$C$13*Foglio2!J151, NA())","v":{"$error":"#N/A"}},{"$f":"IF(Foglio1!$H$13 <> \"\", Foglio1!$H$13 + K151*10^-3, NA())","v":{"$error":"#N/A"}},1306,7.1747243098363764,{"$f":" IF(Foglio1!$C$14 <> \"\", 8.314472*Foglio1!$C$14*Foglio2!N151, NA())","v":{"$error":"#N/A"}},{"$f":"IF(Foglio1!$H$14 <> \"\", Foglio1!$H$14 + O151*10^-3, NA())","v":{"$error":"#N/A"}},1306,7.1747243098363764,{"$f":" IF(Foglio1!$C$15 <> \"\", 8.314472*Foglio1!$C$15*Foglio2!R151, NA())","v":{"$error":"#N/A"}},{"$f":"IF(Foglio1!$H$15 <> \"\", Foglio1!$H$15 + S151*10^-3, NA())","v":{"$error":"#N/A"}}]
[1315,7.1815919446118652,{"$f":" IF(Foglio1!$C$11 <> \"\", 8.314472*Foglio1!$C$11*Foglio2!B152, NA())","v":17913.343541670274},{"$f":"IF(Foglio1!$H$11 <> \"\", Foglio1!$H$11 + C152*10^-3, NA())","v":-72.086656458329728},1315,7.1815919446118652,{"$f":" IF(Foglio1!$C$12 <> \"\", 8.314472*Foglio1!$C$12*Foglio2!F152, NA())","v":{"$error":"#N/A"}},{"$f":"IF(Foglio1!$H$12 <> \"\", Foglio1!$H$12 + G152*10^-3, NA())","v":{"$error":"#N/A"}},1315,7.1815919446118652,{"$f":" IF(Foglio1!$C$13 <> \"\", 8.314472*Foglio1!$C$13*Foglio2!J152, NA())","v":{"$error":"#N/A"}},{"$f":"IF(Foglio1!$H$13 <> \"\", Foglio1!$H$13 + K152*10^-3, NA())","v":{"$error":"#N/A"}},1315,7.1815919446118652,{"$f":" IF(Foglio1!$C$14 <> \"\", 8.314472*Foglio1!$C$14*Foglio2!N152, NA())","v":{"$error":"#N/A"}},{"$f":"IF(Foglio1!$H$14 <> \"\", Foglio1!$H$14 + O152*10^-3, NA())","v":{"$error":"#N/A"}},1315,7.1815919446118652,{"$f":" IF(Foglio1!$C$15 <> \"\", 8.314472*Foglio1!$C$15*Foglio2!R152, NA())","v":{"$error":"#N/A"}},{"$f":"IF(Foglio1!$H$15 <> \"\", Foglio1!$H$15 + S152*10^-3, NA())","v":{"$error":"#N/A"}}]
[1324,7.1884127364969537,{"$f":" IF(Foglio1!$C$11 <> \"\", 8.314472*Foglio1!$C$11*Foglio2!B153, NA())","v":17930.356926614189},{"$f":"IF(Foglio1!$H$11 <> \"\", Foglio1!$H$11 + C153*10^-3, NA())","v":-72.069643073385805},1324,7.1884127364969537,{"$f":" IF(Foglio1!$C$12 <> \"\", 8.314472*Foglio1!$C$12*Foglio2!F153, NA())","v":{"$error":"#N/A"}},{"$f":"IF(Foglio1!$H$12 <> \"\", Foglio1!$H$12 + G153*10^-3, NA())","v":{"$error":"#N/A"}},1324,7.1884127364969537,{"$f":" IF(Foglio1!$C$13 <> \"\", 8.314472*Foglio1!$C$13*Foglio2!J153, NA())","v":{"$error":"#N/A"}},{"$f":"IF(Foglio1!$H$13 <> \"\", Foglio1!$H$13 + K153*10^-3, NA())","v":{"$error":"#N/A"}},1324,7.1884127364969537,{"$f":" IF(Foglio1!$C$14 <> \"\", 8.314472*Foglio1!$C$14*Foglio2!N153, NA())","v":{"$error":"#N/A"}},{"$f":"IF(Foglio1!$H$14 <> \"\", Foglio1!$H$14 + O153*10^-3, NA())","v":{"$error":"#N/A"}},1324,7.1884127364969537,{"$f":" IF(Foglio1!$C$15 <> \"\", 8.314472*Foglio1!$C$15*Foglio2!R153, NA())","v":{"$error":"#N/A"}},{"$f":"IF(Foglio1!$H$15 <> \"\", Foglio1!$H$15 + S153*10^-3, NA())","v":{"$error":"#N/A"}}]
[1333,7.1951873201787091,{"$f":" IF(Foglio1!$C$11 <> \"\", 8.314472*Foglio1!$C$11*Foglio2!B154, NA())","v":17947.255052514276},{"$f":"IF(Foglio1!$H$11 <> \"\", Foglio1!$H$11 + C154*10^-3, NA())","v":-72.052744947485721},1333,7.1951873201787091,{"$f":" IF(Foglio1!$C$12 <> \"\", 8.314472*Foglio1!$C$12*Foglio2!F154, NA())","v":{"$error":"#N/A"}},{"$f":"IF(Foglio1!$H$12 <> \"\", Foglio1!$H$12 + G154*10^-3, NA())","v":{"$error":"#N/A"}},1333,7.1951873201787091,{"$f":" IF(Foglio1!$C$13 <> \"\", 8.314472*Foglio1!$C$13*Foglio2!J154, NA())","v":{"$error":"#N/A"}},{"$f":"IF(Foglio1!$H$13 <> \"\", Foglio1!$H$13 + K154*10^-3, NA())","v":{"$error":"#N/A"}},1333,7.1951873201787091,{"$f":" IF(Foglio1!$C$14 <> \"\", 8.314472*Foglio1!$C$14*Foglio2!N154, NA())","v":{"$error":"#N/A"}},{"$f":"IF(Foglio1!$H$14 <> \"\", Foglio1!$H$14 + O154*10^-3, NA())","v":{"$error":"#N/A"}},1333,7.1951873201787091,{"$f":" IF(Foglio1!$C$15 <> \"\", 8.314472*Foglio1!$C$15*Foglio2!R154, NA())","v":{"$error":"#N/A"}},{"$f":"IF(Foglio1!$H$15 <> \"\", Foglio1!$H$15 + S154*10^-3, NA())","v":{"$error":"#N/A"}}]
[1342,7.2019163175316274,{"$f":" IF(Foglio1!$C$11 <> \"\", 8.314472*Foglio1!$C$11*Foglio2!B155, NA())","v":17964.039470537948},{"$f":"IF(Foglio1!$H$11 <> \"\", Foglio1!$H$11 + C155*10^-3, NA())","v":-72.035960529462045},1342,7.2019163175316274,{"$f":" IF(Foglio1!$C$12 <> \"\", 8.314472*Foglio1!$C$12*Foglio2!F155, NA())","v":{"$error":"#N/A"}},{"$f":"IF(Foglio1!$H$12 <> \"\", Foglio1!$H$12 + G155*10^-3, NA())","v":{"$error":"#N/A"}},1342,7.2019163175316274,{"$f":" IF(Foglio1!$C$13 <> \"\", 8.314472*Foglio1!$C$13*Foglio2!J155, NA())","v":{"$error":"#N/A"}},{"$f":"IF(Foglio1!$H$13 <> \"\", Foglio1!$H$13 + K155*10^-3, NA())","v":{"$error":"#N/A"}},1342,7.2019163175316274,{"$f":" IF(Foglio1!$C$14 <> \"\", 8.314472*Foglio1!$C$14*Foglio2!N155, NA())","v":{"$error":"#N/A"}},{"$f":"IF(Foglio1!$H$14 <> \"\", Foglio1!$H$14 + O155*10^-3, NA())","v":{"$error":"#N/A"}},1342,7.2019163175316274,{"$f":" IF(Foglio1!$C$15 <> \"\", 8.314472*Foglio1!$C$15*Foglio2!R155, NA())","v":{"$error":"#N/A"}},{"$f":"IF(Foglio1!$H$15 <> \"\", Foglio1!$H$15 + S155*10^-3, NA())","v":{"$error":"#N/A"}}]
[1351,7.2086003379601991,{"$f":" IF(Foglio1!$C$11 <> \"\", 8.314472*Foglio1!$C$11*Foglio2!B156, NA())","v":17980.711700748187},{"$f":"IF(Foglio1!$H$11 <> \"\", Foglio1!$H$11 + C156*10^-3, NA())","v":-72.019288299251812},1351,7.2086003379601991,{"$f":" IF(Foglio1!$C$12 <> \"\", 8.314472*Foglio1!$C$12*Foglio2!F156, NA())","v":{"$error":"#N/A"}},{"$f":"IF(Foglio1!$H$12 <> \"\", Foglio1!$H$12 + G156*10^-3, NA())","v":{"$error":"#N/A"}},1351,7.2086003379601991,{"$f":" IF(Foglio1!$C$13 <> \"\", 8.314472*Foglio1!$C$13*Foglio2!J156, NA())","v":{"$error":"#N/A"}},{"$f":"IF(Foglio1!$H$13 <> \"\", Foglio1!$H$13 + K156*10^-3, NA())","v":{"$error":"#N/A"}},1351,7.2086003379601991,{"$f":" IF(Foglio1!$C$14 <> \"\", 8.314472*Foglio1!$C$14*Foglio2!N156, NA())","v":{"$error":"#N/A"}},{"$f":"IF(Foglio1!$H$14 <> \"\", Foglio1!$H$14 + O156*10^-3, NA())","v":{"$error":"#N/A"}},1351,7.2086003379601991,{"$f":" IF(Foglio1!$C$15 <> \"\", 8.314472*Foglio1!$C$15*Foglio2!R156, NA())","v":{"$error":"#N/A"}},{"$f":"IF(Foglio1!$H$15 <> \"\", Foglio1!$H$15 + S156*10^-3, NA())","v":{"$error":"#N/A"}}]
[1360,7.2152399787300974,{"$f":" IF(Foglio1!$C$11 <> \"\", 8.314472*Foglio1!$C$11*Foglio2!B157, NA())","v":17997.273232929598},{"$f":"IF(Foglio1!$H$11 <> \"\", Foglio1!$H$11 + C157*10^-3, NA())","v":-72.002726767070399},1360,7.2152399787300974,{"$f":" IF(Foglio1!$C$12 <> \"\", 8.314472*Foglio1!$C$12*Foglio2!F157, NA())","v":{"$error":"#N/A"}},{"$f":"IF(Foglio1!$H$12 <> \"\", Foglio1!$H$12 + G157*10^-3, NA())","v":{"$error":"#N/A"}},1360,7.2152399787300974,{"$f":" IF(Foglio1!$C$13 <> \"\", 8.314472*Foglio1!$C$13*Foglio2!J157, NA())","v":{"$error":"#N/A"}},{"$f":"IF(Foglio1!$H$13 <> \"\", Foglio1!$H$13 + K157*10^-3, NA())","v":{"$error":"#N/A"}},1360,7.2152399787300974,{"$f":" IF(Foglio1!$C$14 <> \"\", 8.314472*Foglio1!$C$14*Foglio2!N157, NA())","v":{"$error":"#N/A"}},{"$f":"IF(Foglio1!$H$14 <> \"\", Foglio1!$H$14 + O157*10^-3, NA())","v":{"$error":"#N/A"}},1360,7.2152399787300974,{"$f":" IF(Foglio1!$C$15 <> \"\", 8.314472*Foglio1!$C$15*Foglio2!R157, NA())","v":{"$error":"#N/A"}},{"$f":"IF(Foglio1!$H$15 <> \"\", Foglio1!$H$15 + S157*10^-3, NA())","v":{"$error":"#N/A"}}]
[1369,7.2218358252884487,{"$f":" IF(Foglio1!$C$11 <> \"\", 8.314472*Foglio1!$C$11*Foglio2!B158, NA())","v":18013.725527387312},{"$f":"IF(Foglio1!$H$11 <> \"\", Foglio1!$H$11 + C158*10^-3, NA())","v":-71.986274472612692},1369,7.2218358252884487,{"$f":" IF(Foglio1!$C$12 <> \"\", 8.314472*Foglio1!$C$12*Foglio2!F158, NA())","v":{"$error":"#N/A"}},{"$f":"IF(Foglio1!$H$12 <> \"\", Foglio1!$H$12 + G158*10^-3, NA())","v":{"$error":"#N/A"}},1369,7.2218358252884487,{"$f":" IF(Foglio1!$C$13 <> \"\", 8.314472*Foglio1!$C$13*Foglio2!J158, NA())","v":{"$error":"#N/A"}},{"$f":"IF(Foglio1!$H$13 <> \"\", Foglio1!$H$13 + K158*10^-3, NA())","v":{"$error":"#N/A"}},1369,7.2218358252884487,{"$f":" IF(Foglio1!$C$14 <> \"\", 8.314472*Foglio1!$C$14*Foglio2!N158, NA())","v":{"$error":"#N/A"}},{"$f":"IF(Foglio1!$H$14 <> \"\", Foglio1!$H$14 + O158*10^-3, NA())","v":{"$error":"#N/A"}},1369,7.2218358252884487,{"$f":" IF(Foglio1!$C$15 <> \"\", 8.314472*Foglio1!$C$15*Foglio2!R158, NA())","v":{"$error":"#N/A"}},{"$f":"IF(Foglio1!$H$15 <> \"\", Foglio1!$H$15 + S158*10^-3, NA())","v":{"$error":"#N/A"}}]
[1378,7.2283884515736041,{"$f":" IF(Foglio1!$C$11 <> \"\", 8.314472*Foglio1!$C$11*Foglio2!B159, NA())","v":18030.070015719626},{"$f":"IF(Foglio1!$H$11 <> \"\", Foglio1!$H$11 + C159*10^-3, NA())","v":-71.96992998428037},1378,7.2283884515736041,{"$f":" IF(Foglio1!$C$12 <> \"\", 8.314472*Foglio1!$C$12*Foglio2!F159, NA())","v":{"$error":"#N/A"}},{"$f":"IF(Foglio1!$H$12 <> \"\", Foglio1!$H$12 + G159*10^-3, NA())","v":{"$error":"#N/A"}},1378,7.2283884515736041,{"$f":" IF(Foglio1!$C$13 <> \"\", 8.314472*Foglio1!$C$13*Foglio2!J159, NA())","v":{"$error":"#N/A"}},{"$f":"IF(Foglio1!$H$13 <> \"\", Foglio1!$H$13 + K159*10^-3, NA())","v":{"$error":"#N/A"}},1378,7.2283884515736041,{"$f":" IF(Foglio1!$C$14 <> \"\", 8.314472*Foglio1!$C$14*Foglio2!N159, NA())","v":{"$error":"#N/A"}},{"$f":"IF(Foglio1!$H$14 <> \"\", Foglio1!$H$14 + O159*10^-3, NA())","v":{"$error":"#N/A"}},1378,7.2283884515736041,{"$f":" IF(Foglio1!$C$15 <> \"\", 8.314472*Foglio1!$C$15*Foglio2!R159, NA())","v":{"$error":"#N/A"}},{"$f":"IF(Foglio1!$H$15 <> \"\", Foglio1!$H$15 + S159*10^-3, NA())","v":{"$error":"#N/A"}}]
[1387,7.2348984203148312,{"$f":" IF(Foglio1!$C$11 <> \"\", 8.314472*Foglio1!$C$11*Foglio2!B160, NA())","v":18046.30810156557},{"$f":"IF(Foglio1!$H$11 <> \"\", Foglio1!$H$11 + C160*10^-3, NA())","v":-71.953691898434428},1387,7.2348984203148312,{"$f":" IF(Foglio1!$C$12 <> \"\", 8.314472*Foglio1!$C$12*Foglio2!F160, NA())","v":{"$error":"#N/A"}},{"$f":"IF(Foglio1!$H$12 <> \"\", Foglio1!$H$12 + G160*10^-3, NA())","v":{"$error":"#N/A"}},1387,7.2348984203148312,{"$f":" IF(Foglio1!$C$13 <> \"\", 8.314472*Foglio1!$C$13*Foglio2!J160, NA())","v":{"$error":"#N/A"}},{"$f":"IF(Foglio1!$H$13 <> \"\", Foglio1!$H$13 + K160*10^-3, NA())","v":{"$error":"#N/A"}},1387,7.2348984203148312,{"$f":" IF(Foglio1!$C$14 <> \"\", 8.314472*Foglio1!$C$14*Foglio2!N160, NA())","v":{"$error":"#N/A"}},{"$f":"IF(Foglio1!$H$14 <> \"\", Foglio1!$H$14 + O160*10^-3, NA())","v":{"$error":"#N/A"}},1387,7.2348984203148312,{"$f":" IF(Foglio1!$C$15 <> \"\", 8.314472*Foglio1!$C$15*Foglio2!R160, NA())","v":{"$error":"#N/A"}},{"$f":"IF(Foglio1!$H$15 <> \"\", Foglio1!$H$15 + S160*10^-3, NA())","v":{"$error":"#N/A"}}]
[1396,7.2413662833223178,{"$f":" IF(Foglio1!$C$11 <> \"\", 8.314472*Foglio1!$C$11*Foglio2!B161, NA())","v":18062.441161328246},{"$f":"IF(Foglio1!$H$11 <> \"\", Foglio1!$H$11 + C161*10^-3, NA())","v":-71.937558838671748},1396,7.2413662833223178,{"$f":" IF(Foglio1!$C$12 <> \"\", 8.314472*Foglio1!$C$12*Foglio2!F161, NA())","v":{"$error":"#N/A"}},{"$f":"IF(Foglio1!$H$12 <> \"\", Foglio1!$H$12 + G161*10^-3, NA())","v":{"$error":"#N/A"}},1396,7.2413662833223178,{"$f":" IF(Foglio1!$C$13 <> \"\", 8.314472*Foglio1!$C$13*Foglio2!J161, NA())","v":{"$error":"#N/A"}},{"$f":"IF(Foglio1!$H$13 <> \"\", Foglio1!$H$13 + K161*10^-3, NA())","v":{"$error":"#N/A"}},1396,7.2413662833223178,{"$f":" IF(Foglio1!$C$14 <> \"\", 8.314472*Foglio1!$C$14*Foglio2!N161, NA())","v":{"$error":"#N/A"}},{"$f":"IF(Foglio1!$H$14 <> \"\", Foglio1!$H$14 + O161*10^-3, NA())","v":{"$error":"#N/A"}},1396,7.2413662833223178,{"$f":" IF(Foglio1!$C$15 <> \"\", 8.314472*Foglio1!$C$15*Foglio2!R161, NA())","v":{"$error":"#N/A"}},{"$f":"IF(Foglio1!$H$15 <> \"\", Foglio1!$H$15 + S161*10^-3, NA())","v":{"$error":"#N/A"}}]
[1405,7.2477925817678459,{"$f":" IF(Foglio1!$C$11 <> \"\", 8.314472*Foglio1!$C$11*Foglio2!B162, NA())","v":18078.470544874941},{"$f":"IF(Foglio1!$H$11 <> \"\", Foglio1!$H$11 + C162*10^-3, NA())","v":-71.921529455125054},1405,7.2477925817678459,{"$f":" IF(Foglio1!$C$12 <> \"\", 8.314472*Foglio1!$C$12*Foglio2!F162, NA())","v":{"$error":"#N/A"}},{"$f":"IF(Foglio1!$H$12 <> \"\", Foglio1!$H$12 + G162*10^-3, NA())","v":{"$error":"#N/A"}},1405,7.2477925817678459,{"$f":" IF(Foglio1!$C$13 <> \"\", 8.314472*Foglio1!$C$13*Foglio2!J162, NA())","v":{"$error":"#N/A"}},{"$f":"IF(Foglio1!$H$13 <> \"\", Foglio1!$H$13 + K162*10^-3, NA())","v":{"$error":"#N/A"}},1405,7.2477925817678459,{"$f":" IF(Foglio1!$C$14 <> \"\", 8.314472*Foglio1!$C$14*Foglio2!N162, NA())","v":{"$error":"#N/A"}},{"$f":"IF(Foglio1!$H$14 <> \"\", Foglio1!$H$14 + O162*10^-3, NA())","v":{"$error":"#N/A"}},1405,7.2477925817678459,{"$f":" IF(Foglio1!$C$15 <> \"\", 8.314472*Foglio1!$C$15*Foglio2!R162, NA())","v":{"$error":"#N/A"}},{"$f":"IF(Foglio1!$H$15 <> \"\", Foglio1!$H$15 + S162*10^-3, NA())","v":{"$error":"#N/A"}}]
[1414,7.2541778464565176,{"$f":" IF(Foglio1!$C$11 <> \"\", 8.314472*Foglio1!$C$11*Foglio2!B163, NA())","v":18094.397576214906},{"$f":"IF(Foglio1!$H$11 <> \"\", Foglio1!$H$11 + C163*10^-3, NA())","v":-71.905602423785098},1414,7.2541778464565176,{"$f":" IF(Foglio1!$C$12 <> \"\", 8.314472*Foglio1!$C$12*Foglio2!F163, NA())","v":{"$error":"#N/A"}},{"$f":"IF(Foglio1!$H$12 <> \"\", Foglio1!$H$12 + G163*10^-3, NA())","v":{"$error":"#N/A"}},1414,7.2541778464565176,{"$f":" IF(Foglio1!$C$13 <> \"\", 8.314472*Foglio1!$C$13*Foglio2!J163, NA())","v":{"$error":"#N/A"}},{"$f":"IF(Foglio1!$H$13 <> \"\", Foglio1!$H$13 + K163*10^-3, NA())","v":{"$error":"#N/A"}},1414,7.2541778464565176,{"$f":" IF(Foglio1!$C$14 <> \"\", 8.314472*Foglio1!$C$14*Foglio2!N163, NA())","v":{"$error":"#N/A"}},{"$f":"IF(Foglio1!$H$14 <> \"\", Foglio1!$H$14 + O163*10^-3, NA())","v":{"$error":"#N/A"}},1414,7.2541778464565176,{"$f":" IF(Foglio1!$C$15 <> \"\", 8.314472*Foglio1!$C$15*Foglio2!R163, NA())","v":{"$error":"#N/A"}},{"$f":"IF(Foglio1!$H$15 <> \"\", Foglio1!$H$15 + S163*10^-3, NA())","v":{"$error":"#N/A"}}]
[1423,7.2605225980898522,{"$f":" IF(Foglio1!$C$11 <> \"\", 8.314472*Foglio1!$C$11*Foglio2!B164, NA())","v":18110.2235541556},{"$f":"IF(Foglio1!$H$11 <> \"\", Foglio1!$H$11 + C164*10^-3, NA())","v":-71.889776445844404},1423,7.2605225980898522,{"$f":" IF(Foglio1!$C$12 <> \"\", 8.314472*Foglio1!$C$12*Foglio2!F164, NA())","v":{"$error":"#N/A"}},{"$f":"IF(Foglio1!$H$12 <> \"\", Foglio1!$H$12 + G164*10^-3, NA())","v":{"$error":"#N/A"}},1423,7.2605225980898522,{"$f":" IF(Foglio1!$C$13 <> \"\", 8.314472*Foglio1!$C$13*Foglio2!J164, NA())","v":{"$error":"#N/A"}},{"$f":"IF(Foglio1!$H$13 <> \"\", Foglio1!$H$13 + K164*10^-3, NA())","v":{"$error":"#N/A"}},1423,7.2605225980898522,{"$f":" IF(Foglio1!$C$14 <> \"\", 8.314472*Foglio1!$C$14*Foglio2!N164, NA())","v":{"$error":"#N/A"}},{"$f":"IF(Foglio1!$H$14 <> \"\", Foglio1!$H$14 + O164*10^-3, NA())","v":{"$error":"#N/A"}},1423,7.2605225980898522,{"$f":" IF(Foglio1!$C$15 <> \"\", 8.314472*Foglio1!$C$15*Foglio2!R164, NA())","v":{"$error":"#N/A"}},{"$f":"IF(Foglio1!$H$15 <> \"\", Foglio1!$H$15 + S164*10^-3, NA())","v":{"$error":"#N/A"}}]
[1432,7.2668273475205911,{"$f":" IF(Foglio1!$C$11 <> \"\", 8.314472*Foglio1!$C$11*Foglio2!B165, NA())","v":18125.949752938268},{"$f":"IF(Foglio1!$H$11 <> \"\", Foglio1!$H$11 + C165*10^-3, NA())","v":-71.874050247061732},1432,7.2668273475205911,{"$f":" IF(Foglio1!$C$12 <> \"\", 8.314472*Foglio1!$C$12*Foglio2!F165, NA())","v":{"$error":"#N/A"}},{"$f":"IF(Foglio1!$H$12 <> \"\", Foglio1!$H$12 + G165*10^-3, NA())","v":{"$error":"#N/A"}},1432,7.2668273475205911,{"$f":" IF(Foglio1!$C$13 <> \"\", 8.314472*Foglio1!$C$13*Foglio2!J165, NA())","v":{"$error":"#N/A"}},{"$f":"IF(Foglio1!$H$13 <> \"\", Foglio1!$H$13 + K165*10^-3, NA())","v":{"$error":"#N/A"}},1432,7.2668273475205911,{"$f":" IF(Foglio1!$C$14 <> \"\", 8.314472*Foglio1!$C$14*Foglio2!N165, NA())","v":{"$error":"#N/A"}},{"$f":"IF(Foglio1!$H$14 <> \"\", Foglio1!$H$14 + O165*10^-3, NA())","v":{"$error":"#N/A"}},1432,7.2668273475205911,{"$f":" IF(Foglio1!$C$15 <> \"\", 8.314472*Foglio1!$C$15*Foglio2!R165, NA())","v":{"$error":"#N/A"}},{"$f":"IF(Foglio1!$H$15 <> \"\", Foglio1!$H$15 + S165*10^-3, NA())","v":{"$error":"#N/A"}}]
[1441,7.2730925959995218,{"$f":" IF(Foglio1!$C$11 <> \"\", 8.314472*Foglio1!$C$11*Foglio2!B166, NA())","v":18141.577422853603},{"$f":"IF(Foglio1!$H$11 <> \"\", Foglio1!$H$11 + C166*10^-3, NA())","v":-71.858422577146399},1441,7.2730925959995218,{"$f":" IF(Foglio1!$C$12 <> \"\", 8.314472*Foglio1!$C$12*Foglio2!F166, NA())","v":{"$error":"#N/A"}},{"$f":"IF(Foglio1!$H$12 <> \"\", Foglio1!$H$12 + G166*10^-3, NA())","v":{"$error":"#N/A"}},1441,7.2730925959995218,{"$f":" IF(Foglio1!$C$13 <> \"\", 8.314472*Foglio1!$C$13*Foglio2!J166, NA())","v":{"$error":"#N/A"}},{"$f":"IF(Foglio1!$H$13 <> \"\", Foglio1!$H$13 + K166*10^-3, NA())","v":{"$error":"#N/A"}},1441,7.2730925959995218,{"$f":" IF(Foglio1!$C$14 <> \"\", 8.314472*Foglio1!$C$14*Foglio2!N166, NA())","v":{"$error":"#N/A"}},{"$f":"IF(Foglio1!$H$14 <> \"\", Foglio1!$H$14 + O166*10^-3, NA())","v":{"$error":"#N/A"}},1441,7.2730925959995218,{"$f":" IF(Foglio1!$C$15 <> \"\", 8.314472*Foglio1!$C$15*Foglio2!R166, NA())","v":{"$error":"#N/A"}},{"$f":"IF(Foglio1!$H$15 <> \"\", Foglio1!$H$15 + S166*10^-3, NA())","v":{"$error":"#N/A"}}]
[1450,7.2793188354146201,{"$f":" IF(Foglio1!$C$11 <> \"\", 8.314472*Foglio1!$C$11*Foglio2!B167, NA())","v":18157.107790838243},{"$f":"IF(Foglio1!$H$11 <> \"\", Foglio1!$H$11 + C167*10^-3, NA())","v":-71.842892209161761},1450,7.2793188354146201,{"$f":" IF(Foglio1!$C$12 <> \"\", 8.314472*Foglio1!$C$12*Foglio2!F167, NA())","v":{"$error":"#N/A"}},{"$f":"IF(Foglio1!$H$12 <> \"\", Foglio1!$H$12 + G167*10^-3, NA())","v":{"$error":"#N/A"}},1450,7.2793188354146201,{"$f":" IF(Foglio1!$C$13 <> \"\", 8.314472*Foglio1!$C$13*Foglio2!J167, NA())","v":{"$error":"#N/A"}},{"$f":"IF(Foglio1!$H$13 <> \"\", Foglio1!$H$13 + K167*10^-3, NA())","v":{"$error":"#N/A"}},1450,7.2793188354146201,{"$f":" IF(Foglio1!$C$14 <> \"\", 8.314472*Foglio1!$C$14*Foglio2!N167, NA())","v":{"$error":"#N/A"}},{"$f":"IF(Foglio1!$H$14 <> \"\", Foglio1!$H$14 + O167*10^-3, NA())","v":{"$error":"#N/A"}},1450,7.2793188354146201,{"$f":" IF(Foglio1!$C$15 <> \"\", 8.314472*Foglio1!$C$15*Foglio2!R167, NA())","v":{"$error":"#N/A"}},{"$f":"IF(Foglio1!$H$15 <> \"\", Foglio1!$H$15 + S167*10^-3, NA())","v":{"$error":"#N/A"}}]
[1459,7.2855065485227852,{"$f":" IF(Foglio1!$C$11 <> \"\", 8.314472*Foglio1!$C$11*Foglio2!B168, NA())","v":18172.542061052802},{"$f":"IF(Foglio1!$H$11 <> \"\", Foglio1!$H$11 + C168*10^-3, NA())","v":-71.827457938947191},1459,7.2855065485227852,{"$f":" IF(Foglio1!$C$12 <> \"\", 8.314472*Foglio1!$C$12*Foglio2!F168, NA())","v":{"$error":"#N/A"}},{"$f":"IF(Foglio1!$H$12 <> \"\", Foglio1!$H$12 + G168*10^-3, NA())","v":{"$error":"#N/A"}},1459,7.2855065485227852,{"$f":" IF(Foglio1!$C$13 <> \"\", 8.314472*Foglio1!$C$13*Foglio2!J168, NA())","v":{"$error":"#N/A"}},{"$f":"IF(Foglio1!$H$13 <> \"\", Foglio1!$H$13 + K168*10^-3, NA())","v":{"$error":"#N/A"}},1459,7.2855065485227852,{"$f":" IF(Foglio1!$C$14 <> \"\", 8.314472*Foglio1!$C$14*Foglio2!N168, NA())","v":{"$error":"#N/A"}},{"$f":"IF(Foglio1!$H$14 <> \"\", Foglio1!$H$14 + O168*10^-3, NA())","v":{"$error":"#N/A"}},1459,7.2855065485227852,{"$f":" IF(Foglio1!$C$15 <> \"\", 8.314472*Foglio1!$C$15*Foglio2!R168, NA())","v":{"$error":"#N/A"}},{"$f":"IF(Foglio1!$H$15 <> \"\", Foglio1!$H$15 + S168*10^-3, NA())","v":{"$error":"#N/A"}}]
[1468,7.2916562091744606,{"$f":" IF(Foglio1!$C$11 <> \"\", 8.314472*Foglio1!$C$11*Foglio2!B169, NA())","v":18187.88141544216},{"$f":"IF(Foglio1!$H$11 <> \"\", Foglio1!$H$11 + C169*10^-3, NA())","v":-71.812118584557837},1468,7.2916562091744606,{"$f":" IF(Foglio1!$C$12 <> \"\", 8.314472*Foglio1!$C$12*Foglio2!F169, NA())","v":{"$error":"#N/A"}},{"$f":"IF(Foglio1!$H$12 <> \"\", Foglio1!$H$12 + G169*10^-3, NA())","v":{"$error":"#N/A"}},1468,7.2916562091744606,{"$f":" IF(Foglio1!$C$13 <> \"\", 8.314472*Foglio1!$C$13*Foglio2!J169, NA())","v":{"$error":"#N/A"}},{"$f":"IF(Foglio1!$H$13 <> \"\", Foglio1!$H$13 + K169*10^-3, NA())","v":{"$error":"#N/A"}},1468,7.2916562091744606,{"$f":" IF(Foglio1!$C$14 <> \"\", 8.314472*Foglio1!$C$14*Foglio2!N169, NA())","v":{"$error":"#N/A"}},{"$f":"IF(Foglio1!$H$14 <> \"\", Foglio1!$H$14 + O169*10^-3, NA())","v":{"$error":"#N/A"}},1468,7.2916562091744606,{"$f":" IF(Foglio1!$C$15 <> \"\", 8.314472*Foglio1!$C$15*Foglio2!R169, NA())","v":{"$error":"#N/A"}},{"$f":"IF(Foglio1!$H$15 <> \"\", Foglio1!$H$15 + S169*10^-3, NA())","v":{"$error":"#N/A"}}]
[1477,7.2977682825313801,{"$f":" IF(Foglio1!$C$11 <> \"\", 8.314472*Foglio1!$C$11*Foglio2!B170, NA())","v":18203.127014278576},{"$f":"IF(Foglio1!$H$11 <> \"\", Foglio1!$H$11 + C170*10^-3, NA())","v":-71.796872985721421},1477,7.2977682825313801,{"$f":" IF(Foglio1!$C$12 <> \"\", 8.314472*Foglio1!$C$12*Foglio2!F170, NA())","v":{"$error":"#N/A"}},{"$f":"IF(Foglio1!$H$12 <> \"\", Foglio1!$H$12 + G170*10^-3, NA())","v":{"$error":"#N/A"}},1477,7.2977682825313801,{"$f":" IF(Foglio1!$C$13 <> \"\", 8.314472*Foglio1!$C$13*Foglio2!J170, NA())","v":{"$error":"#N/A"}},{"$f":"IF(Foglio1!$H$13 <> \"\", Foglio1!$H$13 + K170*10^-3, NA())","v":{"$error":"#N/A"}},1477,7.2977682825313801,{"$f":" IF(Foglio1!$C$14 <> \"\", 8.314472*Foglio1!$C$14*Foglio2!N170, NA())","v":{"$error":"#N/A"}},{"$f":"IF(Foglio1!$H$14 <> \"\", Foglio1!$H$14 + O170*10^-3, NA())","v":{"$error":"#N/A"}},1477,7.2977682825313801,{"$f":" IF(Foglio1!$C$15 <> \"\", 8.314472*Foglio1!$C$15*Foglio2!R170, NA())","v":{"$error":"#N/A"}},{"$f":"IF(Foglio1!$H$15 <> \"\", Foglio1!$H$15 + S170*10^-3, NA())","v":{"$error":"#N/A"}}]
[1486,7.3038432252777046,{"$f":" IF(Foglio1!$C$11 <> \"\", 8.314472*Foglio1!$C$11*Foglio2!B171, NA())","v":18218.27999668835},{"$f":"IF(Foglio1!$H$11 <> \"\", Foglio1!$H$11 + C171*10^-3, NA())","v":-71.781720003311648},1486,7.3038432252777046,{"$f":" IF(Foglio1!$C$12 <> \"\", 8.314472*Foglio1!$C$12*Foglio2!F171, NA())","v":{"$error":"#N/A"}},{"$f":"IF(Foglio1!$H$12 <> \"\", Foglio1!$H$12 + G171*10^-3, NA())","v":{"$error":"#N/A"}},1486,7.3038432252777046,{"$f":" IF(Foglio1!$C$13 <> \"\", 8.314472*Foglio1!$C$13*Foglio2!J171, NA())","v":{"$error":"#N/A"}},{"$f":"IF(Foglio1!$H$13 <> \"\", Foglio1!$H$13 + K171*10^-3, NA())","v":{"$error":"#N/A"}},1486,7.3038432252777046,{"$f":" IF(Foglio1!$C$14 <> \"\", 8.314472*Foglio1!$C$14*Foglio2!N171, NA())","v":{"$error":"#N/A"}},{"$f":"IF(Foglio1!$H$14 <> \"\", Foglio1!$H$14 + O171*10^-3, NA())","v":{"$error":"#N/A"}},1486,7.3038432252777046,{"$f":" IF(Foglio1!$C$15 <> \"\", 8.314472*Foglio1!$C$15*Foglio2!R171, NA())","v":{"$error":"#N/A"}},{"$f":"IF(Foglio1!$H$15 <> \"\", Foglio1!$H$15 + S171*10^-3, NA())","v":{"$error":"#N/A"}}]
[1495,7.3098814858247865,{"$f":" IF(Foglio1!$C$11 <> \"\", 8.314472*Foglio1!$C$11*Foglio2!B172, NA())","v":18233.341481162577},{"$f":"IF(Foglio1!$H$11 <> \"\", Foglio1!$H$11 + C172*10^-3, NA())","v":-71.766658518837431},1495,7.3098814858247865,{"$f":" IF(Foglio1!$C$12 <> \"\", 8.314472*Foglio1!$C$12*Foglio2!F172, NA())","v":{"$error":"#N/A"}},{"$f":"IF(Foglio1!$H$12 <> \"\", Foglio1!$H$12 + G172*10^-3, NA())","v":{"$error":"#N/A"}},1495,7.3098814858247865,{"$f":" IF(Foglio1!$C$13 <> \"\", 8.314472*Foglio1!$C$13*Foglio2!J172, NA())","v":{"$error":"#N/A"}},{"$f":"IF(Foglio1!$H$13 <> \"\", Foglio1!$H$13 + K172*10^-3, NA())","v":{"$error":"#N/A"}},1495,7.3098814858247865,{"$f":" IF(Foglio1!$C$14 <> \"\", 8.314472*Foglio1!$C$14*Foglio2!N172, NA())","v":{"$error":"#N/A"}},{"$f":"IF(Foglio1!$H$14 <> \"\", Foglio1!$H$14 + O172*10^-3, NA())","v":{"$error":"#N/A"}},1495,7.3098814858247865,{"$f":" IF(Foglio1!$C$15 <> \"\", 8.314472*Foglio1!$C$15*Foglio2!R172, NA())","v":{"$error":"#N/A"}},{"$f":"IF(Foglio1!$H$15 <> \"\", Foglio1!$H$15 + S172*10^-3, NA())","v":{"$error":"#N/A"}}]
[1504,7.3158835045097854,{"$f":" IF(Foglio1!$C$11 <> \"\", 8.314472*Foglio1!$C$11*Foglio2!B173, NA())","v":18248.312566052547},{"$f":"IF(Foglio1!$H$11 <> \"\", Foglio1!$H$11 + C173*10^-3, NA())","v":-71.751687433947453},1504,7.3158835045097854,{"$f":" IF(Foglio1!$C$12 <> \"\", 8.314472*Foglio1!$C$12*Foglio2!F173, NA())","v":{"$error":"#N/A"}},{"$f":"IF(Foglio1!$H$12 <> \"\", Foglio1!$H$12 + G173*10^-3, NA())","v":{"$error":"#N/A"}},1504,7.3158835045097854,{"$f":" IF(Foglio1!$C$13 <> \"\", 8.314472*Foglio1!$C$13*Foglio2!J173, NA())","v":{"$error":"#N/A"}},{"$f":"IF(Foglio1!$H$13 <> \"\", Foglio1!$H$13 + K173*10^-3, NA())","v":{"$error":"#N/A"}},1504,7.3158835045097854,{"$f":" IF(Foglio1!$C$14 <> \"\", 8.314472*Foglio1!$C$14*Foglio2!N173, NA())","v":{"$error":"#N/A"}},{"$f":"IF(Foglio1!$H$14 <> \"\", Foglio1!$H$14 + O173*10^-3, NA())","v":{"$error":"#N/A"}},1504,7.3158835045097854,{"$f":" IF(Foglio1!$C$15 <> \"\", 8.314472*Foglio1!$C$15*Foglio2!R173, NA())","v":{"$error":"#N/A"}},{"$f":"IF(Foglio1!$H$15 <> \"\", Foglio1!$H$15 + S173*10^-3, NA())","v":{"$error":"#N/A"}}]
[1513,7.3218497137883558,{"$f":" IF(Foglio1!$C$11 <> \"\", 8.314472*Foglio1!$C$11*Foglio2!B174, NA())","v":18263.194330050392},{"$f":"IF(Foglio1!$H$11 <> \"\", Foglio1!$H$11 + C174*10^-3, NA())","v":-71.736805669949604},1513,7.3218497137883558,{"$f":" IF(Foglio1!$C$12 <> \"\", 8.314472*Foglio1!$C$12*Foglio2!F174, NA())","v":{"$error":"#N/A"}},{"$f":"IF(Foglio1!$H$12 <> \"\", Foglio1!$H$12 + G174*10^-3, NA())","v":{"$error":"#N/A"}},1513,7.3218497137883558,{"$f":" IF(Foglio1!$C$13 <> \"\", 8.314472*Foglio1!$C$13*Foglio2!J174, NA())","v":{"$error":"#N/A"}},{"$f":"IF(Foglio1!$H$13 <> \"\", Foglio1!$H$13 + K174*10^-3, NA())","v":{"$error":"#N/A"}},1513,7.3218497137883558,{"$f":" IF(Foglio1!$C$14 <> \"\", 8.314472*Foglio1!$C$14*Foglio2!N174, NA())","v":{"$error":"#N/A"}},{"$f":"IF(Foglio1!$H$14 <> \"\", Foglio1!$H$14 + O174*10^-3, NA())","v":{"$error":"#N/A"}},1513,7.3218497137883558,{"$f":" IF(Foglio1!$C$15 <> \"\", 8.314472*Foglio1!$C$15*Foglio2!R174, NA())","v":{"$error":"#N/A"}},{"$f":"IF(Foglio1!$H$15 <> \"\", Foglio1!$H$15 + S174*10^-3, NA())","v":{"$error":"#N/A"}}]
[1522,7.3277805384216315,{"$f":" IF(Foglio1!$C$11 <> \"\", 8.314472*Foglio1!$C$11*Foglio2!B175, NA())","v":18277.987832655475},{"$f":"IF(Foglio1!$H$11 <> \"\", Foglio1!$H$11 + C175*10^-3, NA())","v":-71.722012167344531},1522,7.3277805384216315,{"$f":" IF(Foglio1!$C$12 <> \"\", 8.314472*Foglio1!$C$12*Foglio2!F175, NA())","v":{"$error":"#N/A"}},{"$f":"IF(Foglio1!$H$12 <> \"\", Foglio1!$H$12 + G175*10^-3, NA())","v":{"$error":"#N/A"}},1522,7.3277805384216315,{"$f":" IF(Foglio1!$C$13 <> \"\", 8.314472*Foglio1!$C$13*Foglio2!J175, NA())","v":{"$error":"#N/A"}},{"$f":"IF(Foglio1!$H$13 <> \"\", Foglio1!$H$13 + K175*10^-3, NA())","v":{"$error":"#N/A"}},1522,7.3277805384216315,{"$f":" IF(Foglio1!$C$14 <> \"\", 8.314472*Foglio1!$C$14*Foglio2!N175, NA())","v":{"$error":"#N/A"}},{"$f":"IF(Foglio1!$H$14 <> \"\", Foglio1!$H$14 + O175*10^-3, NA())","v":{"$error":"#N/A"}},1522,7.3277805384216315,{"$f":" IF(Foglio1!$C$15 <> \"\", 8.314472*Foglio1!$C$15*Foglio2!R175, NA())","v":{"$error":"#N/A"}},{"$f":"IF(Foglio1!$H$15 <> \"\", Foglio1!$H$15 + S175*10^-3, NA())","v":{"$error":"#N/A"}}]
[1531,7.333676395657684,{"$f":" IF(Foglio1!$C$11 <> \"\", 8.314472*Foglio1!$C$11*Foglio2!B176, NA())","v":18292.694114627022},{"$f":"IF(Foglio1!$H$11 <> \"\", Foglio1!$H$11 + C176*10^-3, NA())","v":-71.707305885372975},1531,7.333676395657684,{"$f":" IF(Foglio1!$C$12 <> \"\", 8.314472*Foglio1!$C$12*Foglio2!F176, NA())","v":{"$error":"#N/A"}},{"$f":"IF(Foglio1!$H$12 <> \"\", Foglio1!$H$12 + G176*10^-3, NA())","v":{"$error":"#N/A"}},1531,7.333676395657684,{"$f":" IF(Foglio1!$C$13 <> \"\", 8.314472*Foglio1!$C$13*Foglio2!J176, NA())","v":{"$error":"#N/A"}},{"$f":"IF(Foglio1!$H$13 <> \"\", Foglio1!$H$13 + K176*10^-3, NA())","v":{"$error":"#N/A"}},1531,7.333676395657684,{"$f":" IF(Foglio1!$C$14 <> \"\", 8.314472*Foglio1!$C$14*Foglio2!N176, NA())","v":{"$error":"#N/A"}},{"$f":"IF(Foglio1!$H$14 <> \"\", Foglio1!$H$14 + O176*10^-3, NA())","v":{"$error":"#N/A"}},1531,7.333676395657684,{"$f":" IF(Foglio1!$C$15 <> \"\", 8.314472*Foglio1!$C$15*Foglio2!R176, NA())","v":{"$error":"#N/A"}},{"$f":"IF(Foglio1!$H$15 <> \"\", Foglio1!$H$15 + S176*10^-3, NA())","v":{"$error":"#N/A"}}]
[1540,7.3395376954076745,{"$f":" IF(Foglio1!$C$11 <> \"\", 8.314472*Foglio1!$C$11*Foglio2!B177, NA())","v":18307.314198423494},{"$f":"IF(Foglio1!$H$11 <> \"\", Foglio1!$H$11 + C177*10^-3, NA())","v":-71.692685801576502},1540,7.3395376954076745,{"$f":" IF(Foglio1!$C$12 <> \"\", 8.314472*Foglio1!$C$12*Foglio2!F177, NA())","v":{"$error":"#N/A"}},{"$f":"IF(Foglio1!$H$12 <> \"\", Foglio1!$H$12 + G177*10^-3, NA())","v":{"$error":"#N/A"}},1540,7.3395376954076745,{"$f":" IF(Foglio1!$C$13 <> \"\", 8.314472*Foglio1!$C$13*Foglio2!J177, NA())","v":{"$error":"#N/A"}},{"$f":"IF(Foglio1!$H$13 <> \"\", Foglio1!$H$13 + K177*10^-3, NA())","v":{"$error":"#N/A"}},1540,7.3395376954076745,{"$f":" IF(Foglio1!$C$14 <> \"\", 8.314472*Foglio1!$C$14*Foglio2!N177, NA())","v":{"$error":"#N/A"}},{"$f":"IF(Foglio1!$H$14 <> \"\", Foglio1!$H$14 + O177*10^-3, NA())","v":{"$error":"#N/A"}},1540,7.3395376954076745,{"$f":" IF(Foglio1!$C$15 <> \"\", 8.314472*Foglio1!$C$15*Foglio2!R177, NA())","v":{"$error":"#N/A"}},{"$f":"IF(Foglio1!$H$15 <> \"\", Foglio1!$H$15 + S177*10^-3, NA())","v":{"$error":"#N/A"}}]
[1549,7.3453648404168685,{"$f":" IF(Foglio1!$C$11 <> \"\", 8.314472*Foglio1!$C$11*Foglio2!B178, NA())","v":18321.849088629158},{"$f":"IF(Foglio1!$H$11 <> \"\", Foglio1!$H$11 + C178*10^-3, NA())","v":-71.678150911370835},1549,7.3453648404168685,{"$f":" IF(Foglio1!$C$12 <> \"\", 8.314472*Foglio1!$C$12*Foglio2!F178, NA())","v":{"$error":"#N/A"}},{"$f":"IF(Foglio1!$H$12 <> \"\", Foglio1!$H$12 + G178*10^-3, NA())","v":{"$error":"#N/A"}},1549,7.3453648404168685,{"$f":" IF(Foglio1!$C$13 <> \"\", 8.314472*Foglio1!$C$13*Foglio2!J178, NA())","v":{"$error":"#N/A"}},{"$f":"IF(Foglio1!$H$13 <> \"\", Foglio1!$H$13 + K178*10^-3, NA())","v":{"$error":"#N/A"}},1549,7.3453648404168685,{"$f":" IF(Foglio1!$C$14 <> \"\", 8.314472*Foglio1!$C$14*Foglio2!N178, NA())","v":{"$error":"#N/A"}},{"$f":"IF(Foglio1!$H$14 <> \"\", Foglio1!$H$14 + O178*10^-3, NA())","v":{"$error":"#N/A"}},1549,7.3453648404168685,{"$f":" IF(Foglio1!$C$15 <> \"\", 8.314472*Foglio1!$C$15*Foglio2!R178, NA())","v":{"$error":"#N/A"}},{"$f":"IF(Foglio1!$H$15 <> \"\", Foglio1!$H$15 + S178*10^-3, NA())","v":{"$error":"#N/A"}}]
[1558,7.3511582264306936,{"$f":" IF(Foglio1!$C$11 <> \"\", 8.314472*Foglio1!$C$11*Foglio2!B179, NA())","v":18336.2997723683},{"$f":"IF(Foglio1!$H$11 <> \"\", Foglio1!$H$11 + C179*10^-3, NA())","v":-71.663700227631693},1558,7.3511582264306936,{"$f":" IF(Foglio1!$C$12 <> \"\", 8.314472*Foglio1!$C$12*Foglio2!F179, NA())","v":{"$error":"#N/A"}},{"$f":"IF(Foglio1!$H$12 <> \"\", Foglio1!$H$12 + G179*10^-3, NA())","v":{"$error":"#N/A"}},1558,7.3511582264306936,{"$f":" IF(Foglio1!$C$13 <> \"\", 8.314472*Foglio1!$C$13*Foglio2!J179, NA())","v":{"$error":"#N/A"}},{"$f":"IF(Foglio1!$H$13 <> \"\", Foglio1!$H$13 + K179*10^-3, NA())","v":{"$error":"#N/A"}},1558,7.3511582264306936,{"$f":" IF(Foglio1!$C$14 <> \"\", 8.314472*Foglio1!$C$14*Foglio2!N179, NA())","v":{"$error":"#N/A"}},{"$f":"IF(Foglio1!$H$14 <> \"\", Foglio1!$H$14 + O179*10^-3, NA())","v":{"$error":"#N/A"}},1558,7.3511582264306936,{"$f":" IF(Foglio1!$C$15 <> \"\", 8.314472*Foglio1!$C$15*Foglio2!R179, NA())","v":{"$error":"#N/A"}},{"$f":"IF(Foglio1!$H$15 <> \"\", Foglio1!$H$15 + S179*10^-3, NA())","v":{"$error":"#N/A"}}]
[1567,7.3569182423560209,{"$f":" IF(Foglio1!$C$11 <> \"\", 8.314472*Foglio1!$C$11*Foglio2!B180, NA())","v":18350.667219707506},{"$f":"IF(Foglio1!$H$11 <> \"\", Foglio1!$H$11 + C180*10^-3, NA())","v":-71.649332780292497},1567,7.3569182423560209,{"$f":" IF(Foglio1!$C$12 <> \"\", 8.314472*Foglio1!$C$12*Foglio2!F180, NA())","v":{"$error":"#N/A"}},{"$f":"IF(Foglio1!$H$12 <> \"\", Foglio1!$H$12 + G180*10^-3, NA())","v":{"$error":"#N/A"}},1567,7.3569182423560209,{"$f":" IF(Foglio1!$C$13 <> \"\", 8.314472*Foglio1!$C$13*Foglio2!J180, NA())","v":{"$error":"#N/A"}},{"$f":"IF(Foglio1!$H$13 <> \"\", Foglio1!$H$13 + K180*10^-3, NA())","v":{"$error":"#N/A"}},1567,7.3569182423560209,{"$f":" IF(Foglio1!$C$14 <> \"\", 8.314472*Foglio1!$C$14*Foglio2!N180, NA())","v":{"$error":"#N/A"}},{"$f":"IF(Foglio1!$H$14 <> \"\", Foglio1!$H$14 + O180*10^-3, NA())","v":{"$error":"#N/A"}},1567,7.3569182423560209,{"$f":" IF(Foglio1!$C$15 <> \"\", 8.314472*Foglio1!$C$15*Foglio2!R180, NA())","v":{"$error":"#N/A"}},{"$f":"IF(Foglio1!$H$15 <> \"\", Foglio1!$H$15 + S180*10^-3, NA())","v":{"$error":"#N/A"}}]
[1576,7.3626452704178247,{"$f":" IF(Foglio1!$C$11 <> \"\", 8.314472*Foglio1!$C$11*Foglio2!B181, NA())","v":18364.952384046432},{"$f":"IF(Foglio1!$H$11 <> \"\", Foglio1!$H$11 + C181*10^-3, NA())","v":-71.635047615953567},1576,7.3626452704178247,{"$f":" IF(Foglio1!$C$12 <> \"\", 8.314472*Foglio1!$C$12*Foglio2!F181, NA())","v":{"$error":"#N/A"}},{"$f":"IF(Foglio1!$H$12 <> \"\", Foglio1!$H$12 + G181*10^-3, NA())","v":{"$error":"#N/A"}},1576,7.3626452704178247,{"$f":" IF(Foglio1!$C$13 <> \"\", 8.314472*Foglio1!$C$13*Foglio2!J181, NA())","v":{"$error":"#N/A"}},{"$f":"IF(Foglio1!$H$13 <> \"\", Foglio1!$H$13 + K181*10^-3, NA())","v":{"$error":"#N/A"}},1576,7.3626452704178247,{"$f":" IF(Foglio1!$C$14 <> \"\", 8.314472*Foglio1!$C$14*Foglio2!N181, NA())","v":{"$error":"#N/A"}},{"$f":"IF(Foglio1!$H$14 <> \"\", Foglio1!$H$14 + O181*10^-3, NA())","v":{"$error":"#N/A"}},1576,7.3626452704178247,{"$f":" IF(Foglio1!$C$15 <> \"\", 8.314472*Foglio1!$C$15*Foglio2!R181, NA())","v":{"$error":"#N/A"}},{"$f":"IF(Foglio1!$H$15 <> \"\", Foglio1!$H$15 + S181*10^-3, NA())","v":{"$error":"#N/A"}}]
[1585,7.3683396863113808,{"$f":" IF(Foglio1!$C$11 <> \"\", 8.314472*Foglio1!$C$11*Foglio2!B182, NA())","v":18379.15620249743},{"$f":"IF(Foglio1!$H$11 <> \"\", Foglio1!$H$11 + C182*10^-3, NA())","v":-71.620843797502573},1585,7.3683396863113808,{"$f":" IF(Foglio1!$C$12 <> \"\", 8.314472*Foglio1!$C$12*Foglio2!F182, NA())","v":{"$error":"#N/A"}},{"$f":"IF(Foglio1!$H$12 <> \"\", Foglio1!$H$12 + G182*10^-3, NA())","v":{"$error":"#N/A"}},1585,7.3683396863113808,{"$f":" IF(Foglio1!$C$13 <> \"\", 8.314472*Foglio1!$C$13*Foglio2!J182, NA())","v":{"$error":"#N/A"}},{"$f":"IF(Foglio1!$H$13 <> \"\", Foglio1!$H$13 + K182*10^-3, NA())","v":{"$error":"#N/A"}},1585,7.3683396863113808,{"$f":" IF(Foglio1!$C$14 <> \"\", 8.314472*Foglio1!$C$14*Foglio2!N182, NA())","v":{"$error":"#N/A"}},{"$f":"IF(Foglio1!$H$14 <> \"\", Foglio1!$H$14 + O182*10^-3, NA())","v":{"$error":"#N/A"}},1585,7.3683396863113808,{"$f":" IF(Foglio1!$C$15 <> \"\", 8.314472*Foglio1!$C$15*Foglio2!R182, NA())","v":{"$error":"#N/A"}},{"$f":"IF(Foglio1!$H$15 <> \"\", Foglio1!$H$15 + S182*10^-3, NA())","v":{"$error":"#N/A"}}]
[1594,7.3740018593501606,{"$f":" IF(Foglio1!$C$11 <> \"\", 8.314472*Foglio1!$C$11*Foglio2!B183, NA())","v":18393.279596254455},{"$f":"IF(Foglio1!$H$11 <> \"\", Foglio1!$H$11 + C183*10^-3, NA())","v":-71.606720403745541},1594,7.3740018593501606,{"$f":" IF(Foglio1!$C$12 <> \"\", 8.314472*Foglio1!$C$12*Foglio2!F183, NA())","v":{"$error":"#N/A"}},{"$f":"IF(Foglio1!$H$12 <> \"\", Foglio1!$H$12 + G183*10^-3, NA())","v":{"$error":"#N/A"}},1594,7.3740018593501606,{"$f":" IF(Foglio1!$C$13 <> \"\", 8.314472*Foglio1!$C$13*Foglio2!J183, NA())","v":{"$error":"#N/A"}},{"$f":"IF(Foglio1!$H$13 <> \"\", Foglio1!$H$13 + K183*10^-3, NA())","v":{"$error":"#N/A"}},1594,7.3740018593501606,{"$f":" IF(Foglio1!$C$14 <> \"\", 8.314472*Foglio1!$C$14*Foglio2!N183, NA())","v":{"$error":"#N/A"}},{"$f":"IF(Foglio1!$H$14 <> \"\", Foglio1!$H$14 + O183*10^-3, NA())","v":{"$error":"#N/A"}},1594,7.3740018593501606,{"$f":" IF(Foglio1!$C$15 <> \"\", 8.314472*Foglio1!$C$15*Foglio2!R183, NA())","v":{"$error":"#N/A"}},{"$f":"IF(Foglio1!$H$15 <> \"\", Foglio1!$H$15 + S183*10^-3, NA())","v":{"$error":"#N/A"}}]
[1603,7.3796321526095525,{"$f":" IF(Foglio1!$C$11 <> \"\", 8.314472*Foglio1!$C$11*Foglio2!B184, NA())","v":18407.323470951556},{"$f":"IF(Foglio1!$H$11 <> \"\", Foglio1!$H$11 + C184*10^-3, NA())","v":-71.592676529048447},1603,7.3796321526095525,{"$f":" IF(Foglio1!$C$12 <> \"\", 8.314472*Foglio1!$C$12*Foglio2!F184, NA())","v":{"$error":"#N/A"}},{"$f":"IF(Foglio1!$H$12 <> \"\", Foglio1!$H$12 + G184*10^-3, NA())","v":{"$error":"#N/A"}},1603,7.3796321526095525,{"$f":" IF(Foglio1!$C$13 <> \"\", 8.314472*Foglio1!$C$13*Foglio2!J184, NA())","v":{"$error":"#N/A"}},{"$f":"IF(Foglio1!$H$13 <> \"\", Foglio1!$H$13 + K184*10^-3, NA())","v":{"$error":"#N/A"}},1603,7.3796321526095525,{"$f":" IF(Foglio1!$C$14 <> \"\", 8.314472*Foglio1!$C$14*Foglio2!N184, NA())","v":{"$error":"#N/A"}},{"$f":"IF(Foglio1!$H$14 <> \"\", Foglio1!$H$14 + O184*10^-3, NA())","v":{"$error":"#N/A"}},1603,7.3796321526095525,{"$f":" IF(Foglio1!$C$15 <> \"\", 8.314472*Foglio1!$C$15*Foglio2!R184, NA())","v":{"$error":"#N/A"}},{"$f":"IF(Foglio1!$H$15 <> \"\", Foglio1!$H$15 + S184*10^-3, NA())","v":{"$error":"#N/A"}}]
[1612,7.3852309230665734,{"$f":" IF(Foglio1!$C$11 <> \"\", 8.314472*Foglio1!$C$11*Foglio2!B185, NA())","v":18421.288717011354},{"$f":"IF(Foglio1!$H$11 <> \"\", Foglio1!$H$11 + C185*10^-3, NA())","v":-71.57871128298865},1612,7.3852309230665734,{"$f":" IF(Foglio1!$C$12 <> \"\", 8.314472*Foglio1!$C$12*Foglio2!F185, NA())","v":{"$error":"#N/A"}},{"$f":"IF(Foglio1!$H$12 <> \"\", Foglio1!$H$12 + G185*10^-3, NA())","v":{"$error":"#N/A"}},1612,7.3852309230665734,{"$f":" IF(Foglio1!$C$13 <> \"\", 8.314472*Foglio1!$C$13*Foglio2!J185, NA())","v":{"$error":"#N/A"}},{"$f":"IF(Foglio1!$H$13 <> \"\", Foglio1!$H$13 + K185*10^-3, NA())","v":{"$error":"#N/A"}},1612,7.3852309230665734,{"$f":" IF(Foglio1!$C$14 <> \"\", 8.314472*Foglio1!$C$14*Foglio2!N185, NA())","v":{"$error":"#N/A"}},{"$f":"IF(Foglio1!$H$14 <> \"\", Foglio1!$H$14 + O185*10^-3, NA())","v":{"$error":"#N/A"}},1612,7.3852309230665734,{"$f":" IF(Foglio1!$C$15 <> \"\", 8.314472*Foglio1!$C$15*Foglio2!R185, NA())","v":{"$error":"#N/A"}},{"$f":"IF(Foglio1!$H$15 <> \"\", Foglio1!$H$15 + S185*10^-3, NA())","v":{"$error":"#N/A"}}]
[1621,7.3907985217356762,{"$f":" IF(Foglio1!$C$11 <> \"\", 8.314472*Foglio1!$C$11*Foglio2!B186, NA())","v":18435.176209983802},{"$f":"IF(Foglio1!$H$11 <> \"\", Foglio1!$H$11 + C186*10^-3, NA())","v":-71.564823790016192},1621,7.3907985217356762,{"$f":" IF(Foglio1!$C$12 <> \"\", 8.314472*Foglio1!$C$12*Foglio2!F186, NA())","v":{"$error":"#N/A"}},{"$f":"IF(Foglio1!$H$12 <> \"\", Foglio1!$H$12 + G186*10^-3, NA())","v":{"$error":"#N/A"}},1621,7.3907985217356762,{"$f":" IF(Foglio1!$C$13 <> \"\", 8.314472*Foglio1!$C$13*Foglio2!J186, NA())","v":{"$error":"#N/A"}},{"$f":"IF(Foglio1!$H$13 <> \"\", Foglio1!$H$13 + K186*10^-3, NA())","v":{"$error":"#N/A"}},1621,7.3907985217356762,{"$f":" IF(Foglio1!$C$14 <> \"\", 8.314472*Foglio1!$C$14*Foglio2!N186, NA())","v":{"$error":"#N/A"}},{"$f":"IF(Foglio1!$H$14 <> \"\", Foglio1!$H$14 + O186*10^-3, NA())","v":{"$error":"#N/A"}},1621,7.3907985217356762,{"$f":" IF(Foglio1!$C$15 <> \"\", 8.314472*Foglio1!$C$15*Foglio2!R186, NA())","v":{"$error":"#N/A"}},{"$f":"IF(Foglio1!$H$15 <> \"\", Foglio1!$H$15 + S186*10^-3, NA())","v":{"$error":"#N/A"}}]
[1630,7.3963352938008082,{"$f":" IF(Foglio1!$C$11 <> \"\", 8.314472*Foglio1!$C$11*Foglio2!B187, NA())","v":18448.98681087558},{"$f":"IF(Foglio1!$H$11 <> \"\", Foglio1!$H$11 + C187*10^-3, NA())","v":-71.551013189124419},1630,7.3963352938008082,{"$f":" IF(Foglio1!$C$12 <> \"\", 8.314472*Foglio1!$C$12*Foglio2!F187, NA())","v":{"$error":"#N/A"}},{"$f":"IF(Foglio1!$H$12 <> \"\", Foglio1!$H$12 + G187*10^-3, NA())","v":{"$error":"#N/A"}},1630,7.3963352938008082,{"$f":" IF(Foglio1!$C$13 <> \"\", 8.314472*Foglio1!$C$13*Foglio2!J187, NA())","v":{"$error":"#N/A"}},{"$f":"IF(Foglio1!$H$13 <> \"\", Foglio1!$H$13 + K187*10^-3, NA())","v":{"$error":"#N/A"}},1630,7.3963352938008082,{"$f":" IF(Foglio1!$C$14 <> \"\", 8.314472*Foglio1!$C$14*Foglio2!N187, NA())","v":{"$error":"#N/A"}},{"$f":"IF(Foglio1!$H$14 <> \"\", Foglio1!$H$14 + O187*10^-3, NA())","v":{"$error":"#N/A"}},1630,7.3963352938008082,{"$f":" IF(Foglio1!$C$15 <> \"\", 8.314472*Foglio1!$C$15*Foglio2!R187, NA())","v":{"$error":"#N/A"}},{"$f":"IF(Foglio1!$H$15 <> \"\", Foglio1!$H$15 + S187*10^-3, NA())","v":{"$error":"#N/A"}}]
[1639,7.4018415787438299,{"$f":" IF(Foglio1!$C$11 <> \"\", 8.314472*Foglio1!$C$11*Foglio2!B188, NA())","v":18462.72136647041},{"$f":"IF(Foglio1!$H$11 <> \"\", Foglio1!$H$11 + C188*10^-3, NA())","v":-71.537278633529581},1639,7.4018415787438299,{"$f":" IF(Foglio1!$C$12 <> \"\", 8.314472*Foglio1!$C$12*Foglio2!F188, NA())","v":{"$error":"#N/A"}},{"$f":"IF(Foglio1!$H$12 <> \"\", Foglio1!$H$12 + G188*10^-3, NA())","v":{"$error":"#N/A"}},1639,7.4018415787438299,{"$f":" IF(Foglio1!$C$13 <> \"\", 8.314472*Foglio1!$C$13*Foglio2!J188, NA())","v":{"$error":"#N/A"}},{"$f":"IF(Foglio1!$H$13 <> \"\", Foglio1!$H$13 + K188*10^-3, NA())","v":{"$error":"#N/A"}},1639,7.4018415787438299,{"$f":" IF(Foglio1!$C$14 <> \"\", 8.314472*Foglio1!$C$14*Foglio2!N188, NA())","v":{"$error":"#N/A"}},{"$f":"IF(Foglio1!$H$14 <> \"\", Foglio1!$H$14 + O188*10^-3, NA())","v":{"$error":"#N/A"}},1639,7.4018415787438299,{"$f":" IF(Foglio1!$C$15 <> \"\", 8.314472*Foglio1!$C$15*Foglio2!R188, NA())","v":{"$error":"#N/A"}},{"$f":"IF(Foglio1!$H$15 <> \"\", Foglio1!$H$15 + S188*10^-3, NA())","v":{"$error":"#N/A"}}]
[1648,7.4073177104694174,{"$f":" IF(Foglio1!$C$11 <> \"\", 8.314472*Foglio1!$C$11*Foglio2!B189, NA())","v":18476.380709640624},{"$f":"IF(Foglio1!$H$11 <> \"\", Foglio1!$H$11 + C189*10^-3, NA())","v":-71.523619290359377},1648,7.4073177104694174,{"$f":" IF(Foglio1!$C$12 <> \"\", 8.314472*Foglio1!$C$12*Foglio2!F189, NA())","v":{"$error":"#N/A"}},{"$f":"IF(Foglio1!$H$12 <> \"\", Foglio1!$H$12 + G189*10^-3, NA())","v":{"$error":"#N/A"}},1648,7.4073177104694174,{"$f":" IF(Foglio1!$C$13 <> \"\", 8.314472*Foglio1!$C$13*Foglio2!J189, NA())","v":{"$error":"#N/A"}},{"$f":"IF(Foglio1!$H$13 <> \"\", Foglio1!$H$13 + K189*10^-3, NA())","v":{"$error":"#N/A"}},1648,7.4073177104694174,{"$f":" IF(Foglio1!$C$14 <> \"\", 8.314472*Foglio1!$C$14*Foglio2!N189, NA())","v":{"$error":"#N/A"}},{"$f":"IF(Foglio1!$H$14 <> \"\", Foglio1!$H$14 + O189*10^-3, NA())","v":{"$error":"#N/A"}},1648,7.4073177104694174,{"$f":" IF(Foglio1!$C$15 <> \"\", 8.314472*Foglio1!$C$15*Foglio2!R189, NA())","v":{"$error":"#N/A"}},{"$f":"IF(Foglio1!$H$15 <> \"\", Foglio1!$H$15 + S189*10^-3, NA())","v":{"$error":"#N/A"}}]
[1657,7.4127640174265625,{"$f":" IF(Foglio1!$C$11 <> \"\", 8.314472*Foglio1!$C$11*Foglio2!B190, NA())","v":18489.965659650203},{"$f":"IF(Foglio1!$H$11 <> \"\", Foglio1!$H$11 + C190*10^-3, NA())","v":-71.51003434034979},1657,7.4127640174265625,{"$f":" IF(Foglio1!$C$12 <> \"\", 8.314472*Foglio1!$C$12*Foglio2!F190, NA())","v":{"$error":"#N/A"}},{"$f":"IF(Foglio1!$H$12 <> \"\", Foglio1!$H$12 + G190*10^-3, NA())","v":{"$error":"#N/A"}},1657,7.4127640174265625,{"$f":" IF(Foglio1!$C$13 <> \"\", 8.314472*Foglio1!$C$13*Foglio2!J190, NA())","v":{"$error":"#N/A"}},{"$f":"IF(Foglio1!$H$13 <> \"\", Foglio1!$H$13 + K190*10^-3, NA())","v":{"$error":"#N/A"}},1657,7.4127640174265625,{"$f":" IF(Foglio1!$C$14 <> \"\", 8.314472*Foglio1!$C$14*Foglio2!N190, NA())","v":{"$error":"#N/A"}},{"$f":"IF(Foglio1!$H$14 <> \"\", Foglio1!$H$14 + O190*10^-3, NA())","v":{"$error":"#N/A"}},1657,7.4127640174265625,{"$f":" IF(Foglio1!$C$15 <> \"\", 8.314472*Foglio1!$C$15*Foglio2!R190, NA())","v":{"$error":"#N/A"}},{"$f":"IF(Foglio1!$H$15 <> \"\", Foglio1!$H$15 + S190*10^-3, NA())","v":{"$error":"#N/A"}}]
[1666,7.4181808227267876,{"$f":" IF(Foglio1!$C$11 <> \"\", 8.314472*Foglio1!$C$11*Foglio2!B191, NA())","v":18503.477022449653},{"$f":"IF(Foglio1!$H$11 <> \"\", Foglio1!$H$11 + C191*10^-3, NA())","v":-71.496522977550342},1666,7.4181808227267876,{"$f":" IF(Foglio1!$C$12 <> \"\", 8.314472*Foglio1!$C$12*Foglio2!F191, NA())","v":{"$error":"#N/A"}},{"$f":"IF(Foglio1!$H$12 <> \"\", Foglio1!$H$12 + G191*10^-3, NA())","v":{"$error":"#N/A"}},1666,7.4181808227267876,{"$f":" IF(Foglio1!$C$13 <> \"\", 8.314472*Foglio1!$C$13*Foglio2!J191, NA())","v":{"$error":"#N/A"}},{"$f":"IF(Foglio1!$H$13 <> \"\", Foglio1!$H$13 + K191*10^-3, NA())","v":{"$error":"#N/A"}},1666,7.4181808227267876,{"$f":" IF(Foglio1!$C$14 <> \"\", 8.314472*Foglio1!$C$14*Foglio2!N191, NA())","v":{"$error":"#N/A"}},{"$f":"IF(Foglio1!$H$14 <> \"\", Foglio1!$H$14 + O191*10^-3, NA())","v":{"$error":"#N/A"}},1666,7.4181808227267876,{"$f":" IF(Foglio1!$C$15 <> \"\", 8.314472*Foglio1!$C$15*Foglio2!R191, NA())","v":{"$error":"#N/A"}},{"$f":"IF(Foglio1!$H$15 <> \"\", Foglio1!$H$15 + S191*10^-3, NA())","v":{"$error":"#N/A"}}]
[1675,7.4235684442591667,{"$f":" IF(Foglio1!$C$11 <> \"\", 8.314472*Foglio1!$C$11*Foglio2!B192, NA())","v":18516.915590962923},{"$f":"IF(Foglio1!$H$11 <> \"\", Foglio1!$H$11 + C192*10^-3, NA())","v":-71.483084409037076},1675,7.4235684442591667,{"$f":" IF(Foglio1!$C$12 <> \"\", 8.314472*Foglio1!$C$12*Foglio2!F192, NA())","v":{"$error":"#N/A"}},{"$f":"IF(Foglio1!$H$12 <> \"\", Foglio1!$H$12 + G192*10^-3, NA())","v":{"$error":"#N/A"}},1675,7.4235684442591667,{"$f":" IF(Foglio1!$C$13 <> \"\", 8.314472*Foglio1!$C$13*Foglio2!J192, NA())","v":{"$error":"#N/A"}},{"$f":"IF(Foglio1!$H$13 <> \"\", Foglio1!$H$13 + K192*10^-3, NA())","v":{"$error":"#N/A"}},1675,7.4235684442591667,{"$f":" IF(Foglio1!$C$14 <> \"\", 8.314472*Foglio1!$C$14*Foglio2!N192, NA())","v":{"$error":"#N/A"}},{"$f":"IF(Foglio1!$H$14 <> \"\", Foglio1!$H$14 + O192*10^-3, NA())","v":{"$error":"#N/A"}},1675,7.4235684442591667,{"$f":" IF(Foglio1!$C$15 <> \"\", 8.314472*Foglio1!$C$15*Foglio2!R192, NA())","v":{"$error":"#N/A"}},{"$f":"IF(Foglio1!$H$15 <> \"\", Foglio1!$H$15 + S192*10^-3, NA())","v":{"$error":"#N/A"}}]
[1684,7.4289271948022719,{"$f":" IF(Foglio1!$C$11 <> \"\", 8.314472*Foglio1!$C$11*Foglio2!B193, NA())","v":18530.282145366611},{"$f":"IF(Foglio1!$H$11 <> \"\", Foglio1!$H$11 + C193*10^-3, NA())","v":-71.469717854633387},1684,7.4289271948022719,{"$f":" IF(Foglio1!$C$12 <> \"\", 8.314472*Foglio1!$C$12*Foglio2!F193, NA())","v":{"$error":"#N/A"}},{"$f":"IF(Foglio1!$H$12 <> \"\", Foglio1!$H$12 + G193*10^-3, NA())","v":{"$error":"#N/A"}},1684,7.4289271948022719,{"$f":" IF(Foglio1!$C$13 <> \"\", 8.314472*Foglio1!$C$13*Foglio2!J193, NA())","v":{"$error":"#N/A"}},{"$f":"IF(Foglio1!$H$13 <> \"\", Foglio1!$H$13 + K193*10^-3, NA())","v":{"$error":"#N/A"}},1684,7.4289271948022719,{"$f":" IF(Foglio1!$C$14 <> \"\", 8.314472*Foglio1!$C$14*Foglio2!N193, NA())","v":{"$error":"#N/A"}},{"$f":"IF(Foglio1!$H$14 <> \"\", Foglio1!$H$14 + O193*10^-3, NA())","v":{"$error":"#N/A"}},1684,7.4289271948022719,{"$f":" IF(Foglio1!$C$15 <> \"\", 8.314472*Foglio1!$C$15*Foglio2!R193, NA())","v":{"$error":"#N/A"}},{"$f":"IF(Foglio1!$H$15 <> \"\", Foglio1!$H$15 + S193*10^-3, NA())","v":{"$error":"#N/A"}}]
[1693,7.4342573821331355,{"$f":" IF(Foglio1!$C$11 <> \"\", 8.314472*Foglio1!$C$11*Foglio2!B194, NA())","v":18543.577453361777},{"$f":"IF(Foglio1!$H$11 <> \"\", Foglio1!$H$11 + C194*10^-3, NA())","v":-71.456422546638223},1693,7.4342573821331355,{"$f":" IF(Foglio1!$C$12 <> \"\", 8.314472*Foglio1!$C$12*Foglio2!F194, NA())","v":{"$error":"#N/A"}},{"$f":"IF(Foglio1!$H$12 <> \"\", Foglio1!$H$12 + G194*10^-3, NA())","v":{"$error":"#N/A"}},1693,7.4342573821331355,{"$f":" IF(Foglio1!$C$13 <> \"\", 8.314472*Foglio1!$C$13*Foglio2!J194, NA())","v":{"$error":"#N/A"}},{"$f":"IF(Foglio1!$H$13 <> \"\", Foglio1!$H$13 + K194*10^-3, NA())","v":{"$error":"#N/A"}},1693,7.4342573821331355,{"$f":" IF(Foglio1!$C$14 <> \"\", 8.314472*Foglio1!$C$14*Foglio2!N194, NA())","v":{"$error":"#N/A"}},{"$f":"IF(Foglio1!$H$14 <> \"\", Foglio1!$H$14 + O194*10^-3, NA())","v":{"$error":"#N/A"}},1693,7.4342573821331355,{"$f":" IF(Foglio1!$C$15 <> \"\", 8.314472*Foglio1!$C$15*Foglio2!R194, NA())","v":{"$error":"#N/A"}},{"$f":"IF(Foglio1!$H$15 <> \"\", Foglio1!$H$15 + S194*10^-3, NA())","v":{"$error":"#N/A"}}]
[1702,{"$f":"LN(A195)","v":7.4395593091333199},{"$f":" IF(Foglio1!$C$11 <> \"\", 8.314472*Foglio1!$C$11*Foglio2!B195, NA())","v":18556.8022704385},{"$f":"IF(Foglio1!$H$11 <> \"\", Foglio1!$H$11 + C195*10^-3, NA())","v":-71.443197729561504},1702,{"$f":"LN(E195)","v":7.4395593091333199},{"$f":" IF(Foglio1!$C$12 <> \"\", 8.314472*Foglio1!$C$12*Foglio2!F195, NA())","v":{"$error":"#N/A"}},{"$f":"IF(Foglio1!$H$12 <> \"\", Foglio1!$H$12 + G195*10^-3, NA())","v":{"$error":"#N/A"}},1702,{"$f":"LN(I195)","v":7.4395593091333199},{"$f":" IF(Foglio1!$C$13 <> \"\", 8.314472*Foglio1!$C$13*Foglio2!J195, NA())","v":{"$error":"#N/A"}},{"$f":"IF(Foglio1!$H$13 <> \"\", Foglio1!$H$13 + K195*10^-3, NA())","v":{"$error":"#N/A"}},1702,{"$f":"LN(M195)","v":7.4395593091333199},{"$f":" IF(Foglio1!$C$14 <> \"\", 8.314472*Foglio1!$C$14*Foglio2!N195, NA())","v":{"$error":"#N/A"}},{"$f":"IF(Foglio1!$H$14 <> \"\", Foglio1!$H$14 + O195*10^-3, NA())","v":{"$error":"#N/A"}},1702,{"$f":"LN(Q195)","v":7.4395593091333199},{"$f":" IF(Foglio1!$C$15 <> \"\", 8.314472*Foglio1!$C$15*Foglio2!R195, NA())","v":{"$error":"#N/A"}},{"$f":"IF(Foglio1!$H$15 <> \"\", Foglio1!$H$15 + S195*10^-3, NA())","v":{"$error":"#N/A"}}]
[1711,7.4448332738921934,{"$f":" IF(Foglio1!$C$11 <> \"\", 8.314472*Foglio1!$C$11*Foglio2!B196, NA())","v":18569.957340133493},{"$f":"IF(Foglio1!$H$11 <> \"\", Foglio1!$H$11 + C196*10^-3, NA())","v":-71.430042659866501},1711,7.4448332738921934,{"$f":" IF(Foglio1!$C$12 <> \"\", 8.314472*Foglio1!$C$12*Foglio2!F196, NA())","v":{"$error":"#N/A"}},{"$f":"IF(Foglio1!$H$12 <> \"\", Foglio1!$H$12 + G196*10^-3, NA())","v":{"$error":"#N/A"}},1711,7.4448332738921934,{"$f":" IF(Foglio1!$C$13 <> \"\", 8.314472*Foglio1!$C$13*Foglio2!J196, NA())","v":{"$error":"#N/A"}},{"$f":"IF(Foglio1!$H$13 <> \"\", Foglio1!$H$13 + K196*10^-3, NA())","v":{"$error":"#N/A"}},1711,7.4448332738921934,{"$f":" IF(Foglio1!$C$14 <> \"\", 8.314472*Foglio1!$C$14*Foglio2!N196, NA())","v":{"$error":"#N/A"}},{"$f":"IF(Foglio1!$H$14 <> \"\", Foglio1!$H$14 + O196*10^-3, NA())","v":{"$error":"#N/A"}},1711,7.4448332738921934,{"$f":" IF(Foglio1!$C$15 <> \"\", 8.314472*Foglio1!$C$15*Foglio2!R196, NA())","v":{"$error":"#N/A"}},{"$f":"IF(Foglio1!$H$15 <> \"\", Foglio1!$H$15 + S196*10^-3, NA())","v":{"$error":"#N/A"}}]
[1720,7.4500795698074986,{"$f":" IF(Foglio1!$C$11 <> \"\", 8.314472*Foglio1!$C$11*Foglio2!B197, NA())","v":18583.04339428095},{"$f":"IF(Foglio1!$H$11 <> \"\", Foglio1!$H$11 + C197*10^-3, NA())","v":-71.416956605719051},1720,7.4500795698074986,{"$f":" IF(Foglio1!$C$12 <> \"\", 8.314472*Foglio1!$C$12*Foglio2!F197, NA())","v":{"$error":"#N/A"}},{"$f":"IF(Foglio1!$H$12 <> \"\", Foglio1!$H$12 + G197*10^-3, NA())","v":{"$error":"#N/A"}},1720,7.4500795698074986,{"$f":" IF(Foglio1!$C$13 <> \"\", 8.314472*Foglio1!$C$13*Foglio2!J197, NA())","v":{"$error":"#N/A"}},{"$f":"IF(Foglio1!$H$13 <> \"\", Foglio1!$H$13 + K197*10^-3, NA())","v":{"$error":"#N/A"}},1720,7.4500795698074986,{"$f":" IF(Foglio1!$C$14 <> \"\", 8.314472*Foglio1!$C$14*Foglio2!N197, NA())","v":{"$error":"#N/A"}},{"$f":"IF(Foglio1!$H$14 <> \"\", Foglio1!$H$14 + O197*10^-3, NA())","v":{"$error":"#N/A"}},1720,7.4500795698074986,{"$f":" IF(Foglio1!$C$15 <> \"\", 8.314472*Foglio1!$C$15*Foglio2!R197, NA())","v":{"$error":"#N/A"}},{"$f":"IF(Foglio1!$H$15 <> \"\", Foglio1!$H$15 + S197*10^-3, NA())","v":{"$error":"#N/A"}}]
[1729,7.4552984856832909,{"$f":" IF(Foglio1!$C$11 <> \"\", 8.314472*Foglio1!$C$11*Foglio2!B198, NA())","v":18596.06115325684},{"$f":"IF(Foglio1!$H$11 <> \"\", Foglio1!$H$11 + C198*10^-3, NA())","v":-71.403938846743159},1729,7.4552984856832909,{"$f":" IF(Foglio1!$C$12 <> \"\", 8.314472*Foglio1!$C$12*Foglio2!F198, NA())","v":{"$error":"#N/A"}},{"$f":"IF(Foglio1!$H$12 <> \"\", Foglio1!$H$12 + G198*10^-3, NA())","v":{"$error":"#N/A"}},1729,7.4552984856832909,{"$f":" IF(Foglio1!$C$13 <> \"\", 8.314472*Foglio1!$C$13*Foglio2!J198, NA())","v":{"$error":"#N/A"}},{"$f":"IF(Foglio1!$H$13 <> \"\", Foglio1!$H$13 + K198*10^-3, NA())","v":{"$error":"#N/A"}},1729,7.4552984856832909,{"$f":" IF(Foglio1!$C$14 <> \"\", 8.314472*Foglio1!$C$14*Foglio2!N198, NA())","v":{"$error":"#N/A"}},{"$f":"IF(Foglio1!$H$14 <> \"\", Foglio1!$H$14 + O198*10^-3, NA())","v":{"$error":"#N/A"}},1729,7.4552984856832909,{"$f":" IF(Foglio1!$C$15 <> \"\", 8.314472*Foglio1!$C$15*Foglio2!R198, NA())","v":{"$error":"#N/A"}},{"$f":"IF(Foglio1!$H$15 <> \"\", Foglio1!$H$15 + S198*10^-3, NA())","v":{"$error":"#N/A"}}]
[1738,7.4604903058253376,{"$f":" IF(Foglio1!$C$11 <> \"\", 8.314472*Foglio1!$C$11*Foglio2!B199, NA())","v":18609.011326216863},{"$f":"IF(Foglio1!$H$11 <> \"\", Foglio1!$H$11 + C199*10^-3, NA())","v":-71.390988673783141},1738,7.4604903058253376,{"$f":" IF(Foglio1!$C$12 <> \"\", 8.314472*Foglio1!$C$12*Foglio2!F199, NA())","v":{"$error":"#N/A"}},{"$f":"IF(Foglio1!$H$12 <> \"\", Foglio1!$H$12 + G199*10^-3, NA())","v":{"$error":"#N/A"}},1738,7.4604903058253376,{"$f":" IF(Foglio1!$C$13 <> \"\", 8.314472*Foglio1!$C$13*Foglio2!J199, NA())","v":{"$error":"#N/A"}},{"$f":"IF(Foglio1!$H$13 <> \"\", Foglio1!$H$13 + K199*10^-3, NA())","v":{"$error":"#N/A"}},1738,7.4604903058253376,{"$f":" IF(Foglio1!$C$14 <> \"\", 8.314472*Foglio1!$C$14*Foglio2!N199, NA())","v":{"$error":"#N/A"}},{"$f":"IF(Foglio1!$H$14 <> \"\", Foglio1!$H$14 + O199*10^-3, NA())","v":{"$error":"#N/A"}},1738,7.4604903058253376,{"$f":" IF(Foglio1!$C$15 <> \"\", 8.314472*Foglio1!$C$15*Foglio2!R199, NA())","v":{"$error":"#N/A"}},{"$f":"IF(Foglio1!$H$15 <> \"\", Foglio1!$H$15 + S199*10^-3, NA())","v":{"$error":"#N/A"}}]
[1747,7.4656553101340561,{"$f":" IF(Foglio1!$C$11 <> \"\", 8.314472*Foglio1!$C$11*Foglio2!B200, NA())","v":18621.89461132828},{"$f":"IF(Foglio1!$H$11 <> \"\", Foglio1!$H$11 + C200*10^-3, NA())","v":-71.378105388671713},1747,7.4656553101340561,{"$f":" IF(Foglio1!$C$12 <> \"\", 8.314472*Foglio1!$C$12*Foglio2!F200, NA())","v":{"$error":"#N/A"}},{"$f":"IF(Foglio1!$H$12 <> \"\", Foglio1!$H$12 + G200*10^-3, NA())","v":{"$error":"#N/A"}},1747,7.4656553101340561,{"$f":" IF(Foglio1!$C$13 <> \"\", 8.314472*Foglio1!$C$13*Foglio2!J200, NA())","v":{"$error":"#N/A"}},{"$f":"IF(Foglio1!$H$13 <> \"\", Foglio1!$H$13 + K200*10^-3, NA())","v":{"$error":"#N/A"}},1747,7.4656553101340561,{"$f":" IF(Foglio1!$C$14 <> \"\", 8.314472*Foglio1!$C$14*Foglio2!N200, NA())","v":{"$error":"#N/A"}},{"$f":"IF(Foglio1!$H$14 <> \"\", Foglio1!$H$14 + O200*10^-3, NA())","v":{"$error":"#N/A"}},1747,7.4656553101340561,{"$f":" IF(Foglio1!$C$15 <> \"\", 8.314472*Foglio1!$C$15*Foglio2!R200, NA())","v":{"$error":"#N/A"}},{"$f":"IF(Foglio1!$H$15 <> \"\", Foglio1!$H$15 + S200*10^-3, NA())","v":{"$error":"#N/A"}}]
[1756,7.4707937741950623,{"$f":" IF(Foglio1!$C$11 <> \"\", 8.314472*Foglio1!$C$11*Foglio2!B201, NA())","v":18634.711695995753},{"$f":"IF(Foglio1!$H$11 <> \"\", Foglio1!$H$11 + C201*10^-3, NA())","v":-71.365288304004252},1756,7.4707937741950623,{"$f":" IF(Foglio1!$C$12 <> \"\", 8.314472*Foglio1!$C$12*Foglio2!F201, NA())","v":{"$error":"#N/A"}},{"$f":"IF(Foglio1!$H$12 <> \"\", Foglio1!$H$12 + G201*10^-3, NA())","v":{"$error":"#N/A"}},1756,7.4707937741950623,{"$f":" IF(Foglio1!$C$13 <> \"\", 8.314472*Foglio1!$C$13*Foglio2!J201, NA())","v":{"$error":"#N/A"}},{"$f":"IF(Foglio1!$H$13 <> \"\", Foglio1!$H$13 + K201*10^-3, NA())","v":{"$error":"#N/A"}},1756,7.4707937741950623,{"$f":" IF(Foglio1!$C$14 <> \"\", 8.314472*Foglio1!$C$14*Foglio2!N201, NA())","v":{"$error":"#N/A"}},{"$f":"IF(Foglio1!$H$14 <> \"\", Foglio1!$H$14 + O201*10^-3, NA())","v":{"$error":"#N/A"}},1756,7.4707937741950623,{"$f":" IF(Foglio1!$C$15 <> \"\", 8.314472*Foglio1!$C$15*Foglio2!R201, NA())","v":{"$error":"#N/A"}},{"$f":"IF(Foglio1!$H$15 <> \"\", Foglio1!$H$15 + S201*10^-3, NA())","v":{"$error":"#N/A"}}]
[1765,7.475905969367397,{"$f":" IF(Foglio1!$C$11 <> \"\", 8.314472*Foglio1!$C$11*Foglio2!B202, NA())","v":18647.463257081425},{"$f":"IF(Foglio1!$H$11 <> \"\", Foglio1!$H$11 + C202*10^-3, NA())","v":-71.352536742918574},1765,7.475905969367397,{"$f":" IF(Foglio1!$C$12 <> \"\", 8.314472*Foglio1!$C$12*Foglio2!F202, NA())","v":{"$error":"#N/A"}},{"$f":"IF(Foglio1!$H$12 <> \"\", Foglio1!$H$12 + G202*10^-3, NA())","v":{"$error":"#N/A"}},1765,7.475905969367397,{"$f":" IF(Foglio1!$C$13 <> \"\", 8.314472*Foglio1!$C$13*Foglio2!J202, NA())","v":{"$error":"#N/A"}},{"$f":"IF(Foglio1!$H$13 <> \"\", Foglio1!$H$13 + K202*10^-3, NA())","v":{"$error":"#N/A"}},1765,7.475905969367397,{"$f":" IF(Foglio1!$C$14 <> \"\", 8.314472*Foglio1!$C$14*Foglio2!N202, NA())","v":{"$error":"#N/A"}},{"$f":"IF(Foglio1!$H$14 <> \"\", Foglio1!$H$14 + O202*10^-3, NA())","v":{"$error":"#N/A"}},1765,7.475905969367397,{"$f":" IF(Foglio1!$C$15 <> \"\", 8.314472*Foglio1!$C$15*Foglio2!R202, NA())","v":{"$error":"#N/A"}},{"$f":"IF(Foglio1!$H$15 <> \"\", Foglio1!$H$15 + S202*10^-3, NA())","v":{"$error":"#N/A"}}]
[1774,7.4809921628695246,{"$f":" IF(Foglio1!$C$11 <> \"\", 8.314472*Foglio1!$C$11*Foglio2!B203, NA())","v":18660.14996111943},{"$f":"IF(Foglio1!$H$11 <> \"\", Foglio1!$H$11 + C203*10^-3, NA())","v":-71.33985003888057},1774,7.4809921628695246,{"$f":" IF(Foglio1!$C$12 <> \"\", 8.314472*Foglio1!$C$12*Foglio2!F203, NA())","v":{"$error":"#N/A"}},{"$f":"IF(Foglio1!$H$12 <> \"\", Foglio1!$H$12 + G203*10^-3, NA())","v":{"$error":"#N/A"}},1774,7.4809921628695246,{"$f":" IF(Foglio1!$C$13 <> \"\", 8.314472*Foglio1!$C$13*Foglio2!J203, NA())","v":{"$error":"#N/A"}},{"$f":"IF(Foglio1!$H$13 <> \"\", Foglio1!$H$13 + K203*10^-3, NA())","v":{"$error":"#N/A"}},1774,7.4809921628695246,{"$f":" IF(Foglio1!$C$14 <> \"\", 8.314472*Foglio1!$C$14*Foglio2!N203, NA())","v":{"$error":"#N/A"}},{"$f":"IF(Foglio1!$H$14 <> \"\", Foglio1!$H$14 + O203*10^-3, NA())","v":{"$error":"#N/A"}},1774,7.4809921628695246,{"$f":" IF(Foglio1!$C$15 <> \"\", 8.314472*Foglio1!$C$15*Foglio2!R203, NA())","v":{"$error":"#N/A"}},{"$f":"IF(Foglio1!$H$15 <> \"\", Foglio1!$H$15 + S203*10^-3, NA())","v":{"$error":"#N/A"}}]
[1783,7.4860526178631401,{"$f":" IF(Foglio1!$C$11 <> \"\", 8.314472*Foglio1!$C$11*Foglio2!B204, NA())","v":18672.772464524936},{"$f":"IF(Foglio1!$H$11 <> \"\", Foglio1!$H$11 + C204*10^-3, NA())","v":-71.32722753547506},1783,7.4860526178631401,{"$f":" IF(Foglio1!$C$12 <> \"\", 8.314472*Foglio1!$C$12*Foglio2!F204, NA())","v":{"$error":"#N/A"}},{"$f":"IF(Foglio1!$H$12 <> \"\", Foglio1!$H$12 + G204*10^-3, NA())","v":{"$error":"#N/A"}},1783,7.4860526178631401,{"$f":" IF(Foglio1!$C$13 <> \"\", 8.314472*Foglio1!$C$13*Foglio2!J204, NA())","v":{"$error":"#N/A"}},{"$f":"IF(Foglio1!$H$13 <> \"\", Foglio1!$H$13 + K204*10^-3, NA())","v":{"$error":"#N/A"}},1783,7.4860526178631401,{"$f":" IF(Foglio1!$C$14 <> \"\", 8.314472*Foglio1!$C$14*Foglio2!N204, NA())","v":{"$error":"#N/A"}},{"$f":"IF(Foglio1!$H$14 <> \"\", Foglio1!$H$14 + O204*10^-3, NA())","v":{"$error":"#N/A"}},1783,7.4860526178631401,{"$f":" IF(Foglio1!$C$15 <> \"\", 8.314472*Foglio1!$C$15*Foglio2!R204, NA())","v":{"$error":"#N/A"}},{"$f":"IF(Foglio1!$H$15 <> \"\", Foglio1!$H$15 + S204*10^-3, NA())","v":{"$error":"#N/A"}}]
[1792,7.4910875935348757,{"$f":" IF(Foglio1!$C$11 <> \"\", 8.314472*Foglio1!$C$11*Foglio2!B205, NA())","v":18685.331413797932},{"$f":"IF(Foglio1!$H$11 <> \"\", Foglio1!$H$11 + C205*10^-3, NA())","v":-71.31466858620206},1792,7.4910875935348757,{"$f":" IF(Foglio1!$C$12 <> \"\", 8.314472*Foglio1!$C$12*Foglio2!F205, NA())","v":{"$error":"#N/A"}},{"$f":"IF(Foglio1!$H$12 <> \"\", Foglio1!$H$12 + G205*10^-3, NA())","v":{"$error":"#N/A"}},1792,7.4910875935348757,{"$f":" IF(Foglio1!$C$13 <> \"\", 8.314472*Foglio1!$C$13*Foglio2!J205, NA())","v":{"$error":"#N/A"}},{"$f":"IF(Foglio1!$H$13 <> \"\", Foglio1!$H$13 + K205*10^-3, NA())","v":{"$error":"#N/A"}},1792,7.4910875935348757,{"$f":" IF(Foglio1!$C$14 <> \"\", 8.314472*Foglio1!$C$14*Foglio2!N205, NA())","v":{"$error":"#N/A"}},{"$f":"IF(Foglio1!$H$14 <> \"\", Foglio1!$H$14 + O205*10^-3, NA())","v":{"$error":"#N/A"}},1792,7.4910875935348757,{"$f":" IF(Foglio1!$C$15 <> \"\", 8.314472*Foglio1!$C$15*Foglio2!R205, NA())","v":{"$error":"#N/A"}},{"$f":"IF(Foglio1!$H$15 <> \"\", Foglio1!$H$15 + S205*10^-3, NA())","v":{"$error":"#N/A"}}]
[1801,7.4960973451759561,{"$f":" IF(Foglio1!$C$11 <> \"\", 8.314472*Foglio1!$C$11*Foglio2!B206, NA())","v":18697.827445721949},{"$f":"IF(Foglio1!$H$11 <> \"\", Foglio1!$H$11 + C206*10^-3, NA())","v":-71.302172554278059},1801,7.4960973451759561,{"$f":" IF(Foglio1!$C$12 <> \"\", 8.314472*Foglio1!$C$12*Foglio2!F206, NA())","v":{"$error":"#N/A"}},{"$f":"IF(Foglio1!$H$12 <> \"\", Foglio1!$H$12 + G206*10^-3, NA())","v":{"$error":"#N/A"}},1801,7.4960973451759561,{"$f":" IF(Foglio1!$C$13 <> \"\", 8.314472*Foglio1!$C$13*Foglio2!J206, NA())","v":{"$error":"#N/A"}},{"$f":"IF(Foglio1!$H$13 <> \"\", Foglio1!$H$13 + K206*10^-3, NA())","v":{"$error":"#N/A"}},1801,7.4960973451759561,{"$f":" IF(Foglio1!$C$14 <> \"\", 8.314472*Foglio1!$C$14*Foglio2!N206, NA())","v":{"$error":"#N/A"}},{"$f":"IF(Foglio1!$H$14 <> \"\", Foglio1!$H$14 + O206*10^-3, NA())","v":{"$error":"#N/A"}},1801,7.4960973451759561,{"$f":" IF(Foglio1!$C$15 <> \"\", 8.314472*Foglio1!$C$15*Foglio2!R206, NA())","v":{"$error":"#N/A"}},{"$f":"IF(Foglio1!$H$15 <> \"\", Foglio1!$H$15 + S206*10^-3, NA())","v":{"$error":"#N/A"}}]
[1810,7.5010821242598711,{"$f":" IF(Foglio1!$C$11 <> \"\", 8.314472*Foglio1!$C$11*Foglio2!B207, NA())","v":18710.261187557768},{"$f":"IF(Foglio1!$H$11 <> \"\", Foglio1!$H$11 + C207*10^-3, NA())","v":-71.289738812442238},1810,7.5010821242598711,{"$f":" IF(Foglio1!$C$12 <> \"\", 8.314472*Foglio1!$C$12*Foglio2!F207, NA())","v":{"$error":"#N/A"}},{"$f":"IF(Foglio1!$H$12 <> \"\", Foglio1!$H$12 + G207*10^-3, NA())","v":{"$error":"#N/A"}},1810,7.5010821242598711,{"$f":" IF(Foglio1!$C$13 <> \"\", 8.314472*Foglio1!$C$13*Foglio2!J207, NA())","v":{"$error":"#N/A"}},{"$f":"IF(Foglio1!$H$13 <> \"\", Foglio1!$H$13 + K207*10^-3, NA())","v":{"$error":"#N/A"}},1810,7.5010821242598711,{"$f":" IF(Foglio1!$C$14 <> \"\", 8.314472*Foglio1!$C$14*Foglio2!N207, NA())","v":{"$error":"#N/A"}},{"$f":"IF(Foglio1!$H$14 <> \"\", Foglio1!$H$14 + O207*10^-3, NA())","v":{"$error":"#N/A"}},1810,7.5010821242598711,{"$f":" IF(Foglio1!$C$15 <> \"\", 8.314472*Foglio1!$C$15*Foglio2!R207, NA())","v":{"$error":"#N/A"}},{"$f":"IF(Foglio1!$H$15 <> \"\", Foglio1!$H$15 + S207*10^-3, NA())","v":{"$error":"#N/A"}}]
[1819,7.5060421785181219,{"$f":" IF(Foglio1!$C$11 <> \"\", 8.314472*Foglio1!$C$11*Foglio2!B208, NA())","v":18722.633257232381},{"$f":"IF(Foglio1!$H$11 <> \"\", Foglio1!$H$11 + C208*10^-3, NA())","v":-71.277366742767612},1819,7.5060421785181219,{"$f":" IF(Foglio1!$C$12 <> \"\", 8.314472*Foglio1!$C$12*Foglio2!F208, NA())","v":{"$error":"#N/A"}},{"$f":"IF(Foglio1!$H$12 <> \"\", Foglio1!$H$12 + G208*10^-3, NA())","v":{"$error":"#N/A"}},1819,7.5060421785181219,{"$f":" IF(Foglio1!$C$13 <> \"\", 8.314472*Foglio1!$C$13*Foglio2!J208, NA())","v":{"$error":"#N/A"}},{"$f":"IF(Foglio1!$H$13 <> \"\", Foglio1!$H$13 + K208*10^-3, NA())","v":{"$error":"#N/A"}},1819,7.5060421785181219,{"$f":" IF(Foglio1!$C$14 <> \"\", 8.314472*Foglio1!$C$14*Foglio2!N208, NA())","v":{"$error":"#N/A"}},{"$f":"IF(Foglio1!$H$14 <> \"\", Foglio1!$H$14 + O208*10^-3, NA())","v":{"$error":"#N/A"}},1819,7.5060421785181219,{"$f":" IF(Foglio1!$C$15 <> \"\", 8.314472*Foglio1!$C$15*Foglio2!R208, NA())","v":{"$error":"#N/A"}},{"$f":"IF(Foglio1!$H$15 <> \"\", Foglio1!$H$15 + S208*10^-3, NA())","v":{"$error":"#N/A"}}]
[1828,7.510977752014095,{"$f":" IF(Foglio1!$C$11 <> \"\", 8.314472*Foglio1!$C$11*Foglio2!B209, NA())","v":18734.944263523241},{"$f":"IF(Foglio1!$H$11 <> \"\", Foglio1!$H$11 + C209*10^-3, NA())","v":-71.265055736476754},1828,7.510977752014095,{"$f":" IF(Foglio1!$C$12 <> \"\", 8.314472*Foglio1!$C$12*Foglio2!F209, NA())","v":{"$error":"#N/A"}},{"$f":"IF(Foglio1!$H$12 <> \"\", Foglio1!$H$12 + G209*10^-3, NA())","v":{"$error":"#N/A"}},1828,7.510977752014095,{"$f":" IF(Foglio1!$C$13 <> \"\", 8.314472*Foglio1!$C$13*Foglio2!J209, NA())","v":{"$error":"#N/A"}},{"$f":"IF(Foglio1!$H$13 <> \"\", Foglio1!$H$13 + K209*10^-3, NA())","v":{"$error":"#N/A"}},1828,7.510977752014095,{"$f":" IF(Foglio1!$C$14 <> \"\", 8.314472*Foglio1!$C$14*Foglio2!N209, NA())","v":{"$error":"#N/A"}},{"$f":"IF(Foglio1!$H$14 <> \"\", Foglio1!$H$14 + O209*10^-3, NA())","v":{"$error":"#N/A"}},1828,7.510977752014095,{"$f":" IF(Foglio1!$C$15 <> \"\", 8.314472*Foglio1!$C$15*Foglio2!R209, NA())","v":{"$error":"#N/A"}},{"$f":"IF(Foglio1!$H$15 <> \"\", Foglio1!$H$15 + S209*10^-3, NA())","v":{"$error":"#N/A"}}]
[1837,7.5158890852151252,{"$f":" IF(Foglio1!$C$11 <> \"\", 8.314472*Foglio1!$C$11*Foglio2!B210, NA())","v":18747.194806238032},{"$f":"IF(Foglio1!$H$11 <> \"\", Foglio1!$H$11 + C210*10^-3, NA())","v":-71.252805193761972},1837,7.5158890852151252,{"$f":" IF(Foglio1!$C$12 <> \"\", 8.314472*Foglio1!$C$12*Foglio2!F210, NA())","v":{"$error":"#N/A"}},{"$f":"IF(Foglio1!$H$12 <> \"\", Foglio1!$H$12 + G210*10^-3, NA())","v":{"$error":"#N/A"}},1837,7.5158890852151252,{"$f":" IF(Foglio1!$C$13 <> \"\", 8.314472*Foglio1!$C$13*Foglio2!J210, NA())","v":{"$error":"#N/A"}},{"$f":"IF(Foglio1!$H$13 <> \"\", Foglio1!$H$13 + K210*10^-3, NA())","v":{"$error":"#N/A"}},1837,7.5158890852151252,{"$f":" IF(Foglio1!$C$14 <> \"\", 8.314472*Foglio1!$C$14*Foglio2!N210, NA())","v":{"$error":"#N/A"}},{"$f":"IF(Foglio1!$H$14 <> \"\", Foglio1!$H$14 + O210*10^-3, NA())","v":{"$error":"#N/A"}},1837,7.5158890852151252,{"$f":" IF(Foglio1!$C$15 <> \"\", 8.314472*Foglio1!$C$15*Foglio2!R210, NA())","v":{"$error":"#N/A"}},{"$f":"IF(Foglio1!$H$15 <> \"\", Foglio1!$H$15 + S210*10^-3, NA())","v":{"$error":"#N/A"}}]
[1846,7.5207764150627971,{"$f":" IF(Foglio1!$C$11 <> \"\", 8.314472*Foglio1!$C$11*Foglio2!B211, NA())","v":18759.385476390002},{"$f":"IF(Foglio1!$H$11 <> \"\", Foglio1!$H$11 + C211*10^-3, NA())","v":-71.240614523609992},1846,7.5207764150627971,{"$f":" IF(Foglio1!$C$12 <> \"\", 8.314472*Foglio1!$C$12*Foglio2!F211, NA())","v":{"$error":"#N/A"}},{"$f":"IF(Foglio1!$H$12 <> \"\", Foglio1!$H$12 + G211*10^-3, NA())","v":{"$error":"#N/A"}},1846,7.5207764150627971,{"$f":" IF(Foglio1!$C$13 <> \"\", 8.314472*Foglio1!$C$13*Foglio2!J211, NA())","v":{"$error":"#N/A"}},{"$f":"IF(Foglio1!$H$13 <> \"\", Foglio1!$H$13 + K211*10^-3, NA())","v":{"$error":"#N/A"}},1846,7.5207764150627971,{"$f":" IF(Foglio1!$C$14 <> \"\", 8.314472*Foglio1!$C$14*Foglio2!N211, NA())","v":{"$error":"#N/A"}},{"$f":"IF(Foglio1!$H$14 <> \"\", Foglio1!$H$14 + O211*10^-3, NA())","v":{"$error":"#N/A"}},1846,7.5207764150627971,{"$f":" IF(Foglio1!$C$15 <> \"\", 8.314472*Foglio1!$C$15*Foglio2!R211, NA())","v":{"$error":"#N/A"}},{"$f":"IF(Foglio1!$H$15 <> \"\", Foglio1!$H$15 + S211*10^-3, NA())","v":{"$error":"#N/A"}}]
[1855,7.5256399750415355,{"$f":" IF(Foglio1!$C$11 <> \"\", 8.314472*Foglio1!$C$11*Foglio2!B212, NA())","v":18771.516856369064},{"$f":"IF(Foglio1!$H$11 <> \"\", Foglio1!$H$11 + C212*10^-3, NA())","v":-71.228483143630939},1855,7.5256399750415355,{"$f":" IF(Foglio1!$C$12 <> \"\", 8.314472*Foglio1!$C$12*Foglio2!F212, NA())","v":{"$error":"#N/A"}},{"$f":"IF(Foglio1!$H$12 <> \"\", Foglio1!$H$12 + G212*10^-3, NA())","v":{"$error":"#N/A"}},1855,7.5256399750415355,{"$f":" IF(Foglio1!$C$13 <> \"\", 8.314472*Foglio1!$C$13*Foglio2!J212, NA())","v":{"$error":"#N/A"}},{"$f":"IF(Foglio1!$H$13 <> \"\", Foglio1!$H$13 + K212*10^-3, NA())","v":{"$error":"#N/A"}},1855,7.5256399750415355,{"$f":" IF(Foglio1!$C$14 <> \"\", 8.314472*Foglio1!$C$14*Foglio2!N212, NA())","v":{"$error":"#N/A"}},{"$f":"IF(Foglio1!$H$14 <> \"\", Foglio1!$H$14 + O212*10^-3, NA())","v":{"$error":"#N/A"}},1855,7.5256399750415355,{"$f":" IF(Foglio1!$C$15 <> \"\", 8.314472*Foglio1!$C$15*Foglio2!R212, NA())","v":{"$error":"#N/A"}},{"$f":"IF(Foglio1!$H$15 <> \"\", Foglio1!$H$15 + S212*10^-3, NA())","v":{"$error":"#N/A"}}]
[1864,7.5304799952455364,{"$f":" IF(Foglio1!$C$11 <> \"\", 8.314472*Foglio1!$C$11*Foglio2!B213, NA())","v":18783.589520108744},{"$f":"IF(Foglio1!$H$11 <> \"\", Foglio1!$H$11 + C213*10^-3, NA())","v":-71.216410479891252},1864,7.5304799952455364,{"$f":" IF(Foglio1!$C$12 <> \"\", 8.314472*Foglio1!$C$12*Foglio2!F213, NA())","v":{"$error":"#N/A"}},{"$f":"IF(Foglio1!$H$12 <> \"\", Foglio1!$H$12 + G213*10^-3, NA())","v":{"$error":"#N/A"}},1864,7.5304799952455364,{"$f":" IF(Foglio1!$C$13 <> \"\", 8.314472*Foglio1!$C$13*Foglio2!J213, NA())","v":{"$error":"#N/A"}},{"$f":"IF(Foglio1!$H$13 <> \"\", Foglio1!$H$13 + K213*10^-3, NA())","v":{"$error":"#N/A"}},1864,7.5304799952455364,{"$f":" IF(Foglio1!$C$14 <> \"\", 8.314472*Foglio1!$C$14*Foglio2!N213, NA())","v":{"$error":"#N/A"}},{"$f":"IF(Foglio1!$H$14 <> \"\", Foglio1!$H$14 + O213*10^-3, NA())","v":{"$error":"#N/A"}},1864,7.5304799952455364,{"$f":" IF(Foglio1!$C$15 <> \"\", 8.314472*Foglio1!$C$15*Foglio2!R213, NA())","v":{"$error":"#N/A"}},{"$f":"IF(Foglio1!$H$15 <> \"\", Foglio1!$H$15 + S213*10^-3, NA())","v":{"$error":"#N/A"}}]
[1873,7.5352967024440884,{"$f":" IF(Foglio1!$C$11 <> \"\", 8.314472*Foglio1!$C$11*Foglio2!B214, NA())","v":18795.604033249114},{"$f":"IF(Foglio1!$H$11 <> \"\", Foglio1!$H$11 + C214*10^-3, NA())","v":-71.204395966750894},1873,7.5352967024440884,{"$f":" IF(Foglio1!$C$12 <> \"\", 8.314472*Foglio1!$C$12*Foglio2!F214, NA())","v":{"$error":"#N/A"}},{"$f":"IF(Foglio1!$H$12 <> \"\", Foglio1!$H$12 + G214*10^-3, NA())","v":{"$error":"#N/A"}},1873,7.5352967024440884,{"$f":" IF(Foglio1!$C$13 <> \"\", 8.314472*Foglio1!$C$13*Foglio2!J214, NA())","v":{"$error":"#N/A"}},{"$f":"IF(Foglio1!$H$13 <> \"\", Foglio1!$H$13 + K214*10^-3, NA())","v":{"$error":"#N/A"}},1873,7.5352967024440884,{"$f":" IF(Foglio1!$C$14 <> \"\", 8.314472*Foglio1!$C$14*Foglio2!N214, NA())","v":{"$error":"#N/A"}},{"$f":"IF(Foglio1!$H$14 <> \"\", Foglio1!$H$14 + O214*10^-3, NA())","v":{"$error":"#N/A"}},1873,7.5352967024440884,{"$f":" IF(Foglio1!$C$15 <> \"\", 8.314472*Foglio1!$C$15*Foglio2!R214, NA())","v":{"$error":"#N/A"}},{"$f":"IF(Foglio1!$H$15 <> \"\", Foglio1!$H$15 + S214*10^-3, NA())","v":{"$error":"#N/A"}}]
[1882,7.5400903201453247,{"$f":" IF(Foglio1!$C$11 <> \"\", 8.314472*Foglio1!$C$11*Foglio2!B215, NA())","v":18807.560953295804},{"$f":"IF(Foglio1!$H$11 <> \"\", Foglio1!$H$11 + C215*10^-3, NA())","v":-71.192439046704195},1882,7.5400903201453247,{"$f":" IF(Foglio1!$C$12 <> \"\", 8.314472*Foglio1!$C$12*Foglio2!F215, NA())","v":{"$error":"#N/A"}},{"$f":"IF(Foglio1!$H$12 <> \"\", Foglio1!$H$12 + G215*10^-3, NA())","v":{"$error":"#N/A"}},1882,7.5400903201453247,{"$f":" IF(Foglio1!$C$13 <> \"\", 8.314472*Foglio1!$C$13*Foglio2!J215, NA())","v":{"$error":"#N/A"}},{"$f":"IF(Foglio1!$H$13 <> \"\", Foglio1!$H$13 + K215*10^-3, NA())","v":{"$error":"#N/A"}},1882,7.5400903201453247,{"$f":" IF(Foglio1!$C$14 <> \"\", 8.314472*Foglio1!$C$14*Foglio2!N215, NA())","v":{"$error":"#N/A"}},{"$f":"IF(Foglio1!$H$14 <> \"\", Foglio1!$H$14 + O215*10^-3, NA())","v":{"$error":"#N/A"}},1882,7.5400903201453247,{"$f":" IF(Foglio1!$C$15 <> \"\", 8.314472*Foglio1!$C$15*Foglio2!R215, NA())","v":{"$error":"#N/A"}},{"$f":"IF(Foglio1!$H$15 <> \"\", Foglio1!$H$15 + S215*10^-3, NA())","v":{"$error":"#N/A"}}]
[1891,7.5448610686584576,{"$f":" IF(Foglio1!$C$11 <> \"\", 8.314472*Foglio1!$C$11*Foglio2!B216, NA())","v":18819.460829775249},{"$f":"IF(Foglio1!$H$11 <> \"\", Foglio1!$H$11 + C216*10^-3, NA())","v":-71.180539170224748},1891,7.5448610686584576,{"$f":" IF(Foglio1!$C$12 <> \"\", 8.314472*Foglio1!$C$12*Foglio2!F216, NA())","v":{"$error":"#N/A"}},{"$f":"IF(Foglio1!$H$12 <> \"\", Foglio1!$H$12 + G216*10^-3, NA())","v":{"$error":"#N/A"}},1891,7.5448610686584576,{"$f":" IF(Foglio1!$C$13 <> \"\", 8.314472*Foglio1!$C$13*Foglio2!J216, NA())","v":{"$error":"#N/A"}},{"$f":"IF(Foglio1!$H$13 <> \"\", Foglio1!$H$13 + K216*10^-3, NA())","v":{"$error":"#N/A"}},1891,7.5448610686584576,{"$f":" IF(Foglio1!$C$14 <> \"\", 8.314472*Foglio1!$C$14*Foglio2!N216, NA())","v":{"$error":"#N/A"}},{"$f":"IF(Foglio1!$H$14 <> \"\", Foglio1!$H$14 + O216*10^-3, NA())","v":{"$error":"#N/A"}},1891,7.5448610686584576,{"$f":" IF(Foglio1!$C$15 <> \"\", 8.314472*Foglio1!$C$15*Foglio2!R216, NA())","v":{"$error":"#N/A"}},{"$f":"IF(Foglio1!$H$15 <> \"\", Foglio1!$H$15 + S216*10^-3, NA())","v":{"$error":"#N/A"}}]
[1900,7.5496091651545321,{"$f":" IF(Foglio1!$C$11 <> \"\", 8.314472*Foglio1!$C$11*Foglio2!B217, NA())","v":18831.304204386222},{"$f":"IF(Foglio1!$H$11 <> \"\", Foglio1!$H$11 + C217*10^-3, NA())","v":-71.168695795613786},1900,7.5496091651545321,{"$f":" IF(Foglio1!$C$12 <> \"\", 8.314472*Foglio1!$C$12*Foglio2!F217, NA())","v":{"$error":"#N/A"}},{"$f":"IF(Foglio1!$H$12 <> \"\", Foglio1!$H$12 + G217*10^-3, NA())","v":{"$error":"#N/A"}},1900,7.5496091651545321,{"$f":" IF(Foglio1!$C$13 <> \"\", 8.314472*Foglio1!$C$13*Foglio2!J217, NA())","v":{"$error":"#N/A"}},{"$f":"IF(Foglio1!$H$13 <> \"\", Foglio1!$H$13 + K217*10^-3, NA())","v":{"$error":"#N/A"}},1900,7.5496091651545321,{"$f":" IF(Foglio1!$C$14 <> \"\", 8.314472*Foglio1!$C$14*Foglio2!N217, NA())","v":{"$error":"#N/A"}},{"$f":"IF(Foglio1!$H$14 <> \"\", Foglio1!$H$14 + O217*10^-3, NA())","v":{"$error":"#N/A"}},1900,7.5496091651545321,{"$f":" IF(Foglio1!$C$15 <> \"\", 8.314472*Foglio1!$C$15*Foglio2!R217, NA())","v":{"$error":"#N/A"}},{"$f":"IF(Foglio1!$H$15 <> \"\", Foglio1!$H$15 + S217*10^-3, NA())","v":{"$error":"#N/A"}}]
[1909,7.5543348237257479,{"$f":" IF(Foglio1!$C$11 <> \"\", 8.314472*Foglio1!$C$11*Foglio2!B218, NA())","v":18843.0916111478},{"$f":"IF(Foglio1!$H$11 <> \"\", Foglio1!$H$11 + C218*10^-3, NA())","v":-71.156908388852202},1909,7.5543348237257479,{"$f":" IF(Foglio1!$C$12 <> \"\", 8.314472*Foglio1!$C$12*Foglio2!F218, NA())","v":{"$error":"#N/A"}},{"$f":"IF(Foglio1!$H$12 <> \"\", Foglio1!$H$12 + G218*10^-3, NA())","v":{"$error":"#N/A"}},1909,7.5543348237257479,{"$f":" IF(Foglio1!$C$13 <> \"\", 8.314472*Foglio1!$C$13*Foglio2!J218, NA())","v":{"$error":"#N/A"}},{"$f":"IF(Foglio1!$H$13 <> \"\", Foglio1!$H$13 + K218*10^-3, NA())","v":{"$error":"#N/A"}},1909,7.5543348237257479,{"$f":" IF(Foglio1!$C$14 <> \"\", 8.314472*Foglio1!$C$14*Foglio2!N218, NA())","v":{"$error":"#N/A"}},{"$f":"IF(Foglio1!$H$14 <> \"\", Foglio1!$H$14 + O218*10^-3, NA())","v":{"$error":"#N/A"}},1909,7.5543348237257479,{"$f":" IF(Foglio1!$C$15 <> \"\", 8.314472*Foglio1!$C$15*Foglio2!R218, NA())","v":{"$error":"#N/A"}},{"$f":"IF(Foglio1!$H$15 <> \"\", Foglio1!$H$15 + S218*10^-3, NA())","v":{"$error":"#N/A"}}]
[1918,7.5590382554433839,{"$f":" IF(Foglio1!$C$11 <> \"\", 8.314472*Foglio1!$C$11*Foglio2!B219, NA())","v":18854.823576543862},{"$f":"IF(Foglio1!$H$11 <> \"\", Foglio1!$H$11 + C219*10^-3, NA())","v":-71.145176423456135},1918,7.5590382554433839,{"$f":" IF(Foglio1!$C$12 <> \"\", 8.314472*Foglio1!$C$12*Foglio2!F219, NA())","v":{"$error":"#N/A"}},{"$f":"IF(Foglio1!$H$12 <> \"\", Foglio1!$H$12 + G219*10^-3, NA())","v":{"$error":"#N/A"}},1918,7.5590382554433839,{"$f":" IF(Foglio1!$C$13 <> \"\", 8.314472*Foglio1!$C$13*Foglio2!J219, NA())","v":{"$error":"#N/A"}},{"$f":"IF(Foglio1!$H$13 <> \"\", Foglio1!$H$13 + K219*10^-3, NA())","v":{"$error":"#N/A"}},1918,7.5590382554433839,{"$f":" IF(Foglio1!$C$14 <> \"\", 8.314472*Foglio1!$C$14*Foglio2!N219, NA())","v":{"$error":"#N/A"}},{"$f":"IF(Foglio1!$H$14 <> \"\", Foglio1!$H$14 + O219*10^-3, NA())","v":{"$error":"#N/A"}},1918,7.5590382554433839,{"$f":" IF(Foglio1!$C$15 <> \"\", 8.314472*Foglio1!$C$15*Foglio2!R219, NA())","v":{"$error":"#N/A"}},{"$f":"IF(Foglio1!$H$15 <> \"\", Foglio1!$H$15 + S219*10^-3, NA())","v":{"$error":"#N/A"}}]
[1927,7.5637196684143664,{"$f":" IF(Foglio1!$C$11 <> \"\", 8.314472*Foglio1!$C$11*Foglio2!B220, NA())","v":18866.500619664163},{"$f":"IF(Foglio1!$H$11 <> \"\", Foglio1!$H$11 + C220*10^-3, NA())","v":-71.133499380335834},1927,7.5637196684143664,{"$f":" IF(Foglio1!$C$12 <> \"\", 8.314472*Foglio1!$C$12*Foglio2!F220, NA())","v":{"$error":"#N/A"}},{"$f":"IF(Foglio1!$H$12 <> \"\", Foglio1!$H$12 + G220*10^-3, NA())","v":{"$error":"#N/A"}},1927,7.5637196684143664,{"$f":" IF(Foglio1!$C$13 <> \"\", 8.314472*Foglio1!$C$13*Foglio2!J220, NA())","v":{"$error":"#N/A"}},{"$f":"IF(Foglio1!$H$13 <> \"\", Foglio1!$H$13 + K220*10^-3, NA())","v":{"$error":"#N/A"}},1927,7.5637196684143664,{"$f":" IF(Foglio1!$C$14 <> \"\", 8.314472*Foglio1!$C$14*Foglio2!N220, NA())","v":{"$error":"#N/A"}},{"$f":"IF(Foglio1!$H$14 <> \"\", Foglio1!$H$14 + O220*10^-3, NA())","v":{"$error":"#N/A"}},1927,7.5637196684143664,{"$f":" IF(Foglio1!$C$15 <> \"\", 8.314472*Foglio1!$C$15*Foglio2!R220, NA())","v":{"$error":"#N/A"}},{"$f":"IF(Foglio1!$H$15 <> \"\", Foglio1!$H$15 + S220*10^-3, NA())","v":{"$error":"#N/A"}}]
[1936,7.568379267836522,{"$f":" IF(Foglio1!$C$11 <> \"\", 8.314472*Foglio1!$C$11*Foglio2!B221, NA())","v":18878.123252342182},{"$f":"IF(Foglio1!$H$11 <> \"\", Foglio1!$H$11 + C221*10^-3, NA())","v":-71.121876747657822},1936,7.568379267836522,{"$f":" IF(Foglio1!$C$12 <> \"\", 8.314472*Foglio1!$C$12*Foglio2!F221, NA())","v":{"$error":"#N/A"}},{"$f":"IF(Foglio1!$H$12 <> \"\", Foglio1!$H$12 + G221*10^-3, NA())","v":{"$error":"#N/A"}},1936,7.568379267836522,{"$f":" IF(Foglio1!$C$13 <> \"\", 8.314472*Foglio1!$C$13*Foglio2!J221, NA())","v":{"$error":"#N/A"}},{"$f":"IF(Foglio1!$H$13 <> \"\", Foglio1!$H$13 + K221*10^-3, NA())","v":{"$error":"#N/A"}},1936,7.568379267836522,{"$f":" IF(Foglio1!$C$14 <> \"\", 8.314472*Foglio1!$C$14*Foglio2!N221, NA())","v":{"$error":"#N/A"}},{"$f":"IF(Foglio1!$H$14 <> \"\", Foglio1!$H$14 + O221*10^-3, NA())","v":{"$error":"#N/A"}},1936,7.568379267836522,{"$f":" IF(Foglio1!$C$15 <> \"\", 8.314472*Foglio1!$C$15*Foglio2!R221, NA())","v":{"$error":"#N/A"}},{"$f":"IF(Foglio1!$H$15 <> \"\", Foglio1!$H$15 + S221*10^-3, NA())","v":{"$error":"#N/A"}}]
[1945,7.5730172560525464,{"$f":" IF(Foglio1!$C$11 <> \"\", 8.314472*Foglio1!$C$11*Foglio2!B222, NA())","v":18889.691979289721},{"$f":"IF(Foglio1!$H$11 <> \"\", Foglio1!$H$11 + C222*10^-3, NA())","v":-71.110308020710278},1945,7.5730172560525464,{"$f":" IF(Foglio1!$C$12 <> \"\", 8.314472*Foglio1!$C$12*Foglio2!F222, NA())","v":{"$error":"#N/A"}},{"$f":"IF(Foglio1!$H$12 <> \"\", Foglio1!$H$12 + G222*10^-3, NA())","v":{"$error":"#N/A"}},1945,7.5730172560525464,{"$f":" IF(Foglio1!$C$13 <> \"\", 8.314472*Foglio1!$C$13*Foglio2!J222, NA())","v":{"$error":"#N/A"}},{"$f":"IF(Foglio1!$H$13 <> \"\", Foglio1!$H$13 + K222*10^-3, NA())","v":{"$error":"#N/A"}},1945,7.5730172560525464,{"$f":" IF(Foglio1!$C$14 <> \"\", 8.314472*Foglio1!$C$14*Foglio2!N222, NA())","v":{"$error":"#N/A"}},{"$f":"IF(Foglio1!$H$14 <> \"\", Foglio1!$H$14 + O222*10^-3, NA())","v":{"$error":"#N/A"}},1945,7.5730172560525464,{"$f":" IF(Foglio1!$C$15 <> \"\", 8.314472*Foglio1!$C$15*Foglio2!R222, NA())","v":{"$error":"#N/A"}},{"$f":"IF(Foglio1!$H$15 <> \"\", Foglio1!$H$15 + S222*10^-3, NA())","v":{"$error":"#N/A"}}]
[1954,7.5776338326027277,{"$f":" IF(Foglio1!$C$11 <> \"\", 8.314472*Foglio1!$C$11*Foglio2!B223, NA())","v":18901.207298228423},{"$f":"IF(Foglio1!$H$11 <> \"\", Foglio1!$H$11 + C223*10^-3, NA())","v":-71.098792701771572},1954,7.5776338326027277,{"$f":" IF(Foglio1!$C$12 <> \"\", 8.314472*Foglio1!$C$12*Foglio2!F223, NA())","v":{"$error":"#N/A"}},{"$f":"IF(Foglio1!$H$12 <> \"\", Foglio1!$H$12 + G223*10^-3, NA())","v":{"$error":"#N/A"}},1954,7.5776338326027277,{"$f":" IF(Foglio1!$C$13 <> \"\", 8.314472*Foglio1!$C$13*Foglio2!J223, NA())","v":{"$error":"#N/A"}},{"$f":"IF(Foglio1!$H$13 <> \"\", Foglio1!$H$13 + K223*10^-3, NA())","v":{"$error":"#N/A"}},1954,7.5776338326027277,{"$f":" IF(Foglio1!$C$14 <> \"\", 8.314472*Foglio1!$C$14*Foglio2!N223, NA())","v":{"$error":"#N/A"}},{"$f":"IF(Foglio1!$H$14 <> \"\", Foglio1!$H$14 + O223*10^-3, NA())","v":{"$error":"#N/A"}},1954,7.5776338326027277,{"$f":" IF(Foglio1!$C$15 <> \"\", 8.314472*Foglio1!$C$15*Foglio2!R223, NA())","v":{"$error":"#N/A"}},{"$f":"IF(Foglio1!$H$15 <> \"\", Foglio1!$H$15 + S223*10^-3, NA())","v":{"$error":"#N/A"}}]
[1963,7.5822291942764615,{"$f":" IF(Foglio1!$C$11 <> \"\", 8.314472*Foglio1!$C$11*Foglio2!B224, NA())","v":18912.669700018261},{"$f":"IF(Foglio1!$H$11 <> \"\", Foglio1!$H$11 + C224*10^-3, NA())","v":-71.087330299981744},1963,7.5822291942764615,{"$f":" IF(Foglio1!$C$12 <> \"\", 8.314472*Foglio1!$C$12*Foglio2!F224, NA())","v":{"$error":"#N/A"}},{"$f":"IF(Foglio1!$H$12 <> \"\", Foglio1!$H$12 + G224*10^-3, NA())","v":{"$error":"#N/A"}},1963,7.5822291942764615,{"$f":" IF(Foglio1!$C$13 <> \"\", 8.314472*Foglio1!$C$13*Foglio2!J224, NA())","v":{"$error":"#N/A"}},{"$f":"IF(Foglio1!$H$13 <> \"\", Foglio1!$H$13 + K224*10^-3, NA())","v":{"$error":"#N/A"}},1963,7.5822291942764615,{"$f":" IF(Foglio1!$C$14 <> \"\", 8.314472*Foglio1!$C$14*Foglio2!N224, NA())","v":{"$error":"#N/A"}},{"$f":"IF(Foglio1!$H$14 <> \"\", Foglio1!$H$14 + O224*10^-3, NA())","v":{"$error":"#N/A"}},1963,7.5822291942764615,{"$f":" IF(Foglio1!$C$15 <> \"\", 8.314472*Foglio1!$C$15*Foglio2!R224, NA())","v":{"$error":"#N/A"}},{"$f":"IF(Foglio1!$H$15 <> \"\", Foglio1!$H$15 + S224*10^-3, NA())","v":{"$error":"#N/A"}}]
[1972,7.5868035351625807,{"$f":" IF(Foglio1!$C$11 <> \"\", 8.314472*Foglio1!$C$11*Foglio2!B225, NA())","v":18924.079668783088},{"$f":"IF(Foglio1!$H$11 <> \"\", Foglio1!$H$11 + C225*10^-3, NA())","v":-71.075920331216906},1972,7.5868035351625807,{"$f":" IF(Foglio1!$C$12 <> \"\", 8.314472*Foglio1!$C$12*Foglio2!F225, NA())","v":{"$error":"#N/A"}},{"$f":"IF(Foglio1!$H$12 <> \"\", Foglio1!$H$12 + G225*10^-3, NA())","v":{"$error":"#N/A"}},1972,7.5868035351625807,{"$f":" IF(Foglio1!$C$13 <> \"\", 8.314472*Foglio1!$C$13*Foglio2!J225, NA())","v":{"$error":"#N/A"}},{"$f":"IF(Foglio1!$H$13 <> \"\", Foglio1!$H$13 + K225*10^-3, NA())","v":{"$error":"#N/A"}},1972,7.5868035351625807,{"$f":" IF(Foglio1!$C$14 <> \"\", 8.314472*Foglio1!$C$14*Foglio2!N225, NA())","v":{"$error":"#N/A"}},{"$f":"IF(Foglio1!$H$14 <> \"\", Foglio1!$H$14 + O225*10^-3, NA())","v":{"$error":"#N/A"}},1972,7.5868035351625807,{"$f":" IF(Foglio1!$C$15 <> \"\", 8.314472*Foglio1!$C$15*Foglio2!R225, NA())","v":{"$error":"#N/A"}},{"$f":"IF(Foglio1!$H$15 <> \"\", Foglio1!$H$15 + S225*10^-3, NA())","v":{"$error":"#N/A"}}]
[1981,7.5913570466985512,{"$f":" IF(Foglio1!$C$11 <> \"\", 8.314472*Foglio1!$C$11*Foglio2!B226, NA())","v":18935.437682033342},{"$f":"IF(Foglio1!$H$11 <> \"\", Foglio1!$H$11 + C226*10^-3, NA())","v":-71.064562317966661},1981,7.5913570466985512,{"$f":" IF(Foglio1!$C$12 <> \"\", 8.314472*Foglio1!$C$12*Foglio2!F226, NA())","v":{"$error":"#N/A"}},{"$f":"IF(Foglio1!$H$12 <> \"\", Foglio1!$H$12 + G226*10^-3, NA())","v":{"$error":"#N/A"}},1981,7.5913570466985512,{"$f":" IF(Foglio1!$C$13 <> \"\", 8.314472*Foglio1!$C$13*Foglio2!J226, NA())","v":{"$error":"#N/A"}},{"$f":"IF(Foglio1!$H$13 <> \"\", Foglio1!$H$13 + K226*10^-3, NA())","v":{"$error":"#N/A"}},1981,7.5913570466985512,{"$f":" IF(Foglio1!$C$14 <> \"\", 8.314472*Foglio1!$C$14*Foglio2!N226, NA())","v":{"$error":"#N/A"}},{"$f":"IF(Foglio1!$H$14 <> \"\", Foglio1!$H$14 + O226*10^-3, NA())","v":{"$error":"#N/A"}},1981,7.5913570466985512,{"$f":" IF(Foglio1!$C$15 <> \"\", 8.314472*Foglio1!$C$15*Foglio2!R226, NA())","v":{"$error":"#N/A"}},{"$f":"IF(Foglio1!$H$15 <> \"\", Foglio1!$H$15 + S226*10^-3, NA())","v":{"$error":"#N/A"}}]
[1990,7.5958899177185382,{"$f":" IF(Foglio1!$C$11 <> \"\", 8.314472*Foglio1!$C$11*Foglio2!B227, NA())","v":18946.744210785928},{"$f":"IF(Foglio1!$H$11 <> \"\", Foglio1!$H$11 + C227*10^-3, NA())","v":-71.053255789214063},1990,7.5958899177185382,{"$f":" IF(Foglio1!$C$12 <> \"\", 8.314472*Foglio1!$C$12*Foglio2!F227, NA())","v":{"$error":"#N/A"}},{"$f":"IF(Foglio1!$H$12 <> \"\", Foglio1!$H$12 + G227*10^-3, NA())","v":{"$error":"#N/A"}},1990,7.5958899177185382,{"$f":" IF(Foglio1!$C$13 <> \"\", 8.314472*Foglio1!$C$13*Foglio2!J227, NA())","v":{"$error":"#N/A"}},{"$f":"IF(Foglio1!$H$13 <> \"\", Foglio1!$H$13 + K227*10^-3, NA())","v":{"$error":"#N/A"}},1990,7.5958899177185382,{"$f":" IF(Foglio1!$C$14 <> \"\", 8.314472*Foglio1!$C$14*Foglio2!N227, NA())","v":{"$error":"#N/A"}},{"$f":"IF(Foglio1!$H$14 <> \"\", Foglio1!$H$14 + O227*10^-3, NA())","v":{"$error":"#N/A"}},1990,7.5958899177185382,{"$f":" IF(Foglio1!$C$15 <> \"\", 8.314472*Foglio1!$C$15*Foglio2!R227, NA())","v":{"$error":"#N/A"}},{"$f":"IF(Foglio1!$H$15 <> \"\", Foglio1!$H$15 + S227*10^-3, NA())","v":{"$error":"#N/A"}}]
[1999,7.6004023345003997,{"$f":" IF(Foglio1!$C$11 <> \"\", 8.314472*Foglio1!$C$11*Foglio2!B228, NA())","v":18957.999719681462},{"$f":"IF(Foglio1!$H$11 <> \"\", Foglio1!$H$11 + C228*10^-3, NA())","v":-71.042000280318533},1999,7.6004023345003997,{"$f":" IF(Foglio1!$C$12 <> \"\", 8.314472*Foglio1!$C$12*Foglio2!F228, NA())","v":{"$error":"#N/A"}},{"$f":"IF(Foglio1!$H$12 <> \"\", Foglio1!$H$12 + G228*10^-3, NA())","v":{"$error":"#N/A"}},1999,7.6004023345003997,{"$f":" IF(Foglio1!$C$13 <> \"\", 8.314472*Foglio1!$C$13*Foglio2!J228, NA())","v":{"$error":"#N/A"}},{"$f":"IF(Foglio1!$H$13 <> \"\", Foglio1!$H$13 + K228*10^-3, NA())","v":{"$error":"#N/A"}},1999,7.6004023345003997,{"$f":" IF(Foglio1!$C$14 <> \"\", 8.314472*Foglio1!$C$14*Foglio2!N228, NA())","v":{"$error":"#N/A"}},{"$f":"IF(Foglio1!$H$14 <> \"\", Foglio1!$H$14 + O228*10^-3, NA())","v":{"$error":"#N/A"}},1999,7.6004023345003997,{"$f":" IF(Foglio1!$C$15 <> \"\", 8.314472*Foglio1!$C$15*Foglio2!R228, NA())","v":{"$error":"#N/A"}},{"$f":"IF(Foglio1!$H$15 <> \"\", Foglio1!$H$15 + S228*10^-3, NA())","v":{"$error":"#N/A"}}]
[2008,7.6048944808116197,{"$f":" IF(Foglio1!$C$11 <> \"\", 8.314472*Foglio1!$C$11*Foglio2!B229, NA())","v":18969.204667098827},{"$f":"IF(Foglio1!$H$11 <> \"\", Foglio1!$H$11 + C229*10^-3, NA())","v":-71.030795332901164},2008,7.6048944808116197,{"$f":" IF(Foglio1!$C$12 <> \"\", 8.314472*Foglio1!$C$12*Foglio2!F229, NA())","v":{"$error":"#N/A"}},{"$f":"IF(Foglio1!$H$12 <> \"\", Foglio1!$H$12 + G229*10^-3, NA())","v":{"$error":"#N/A"}},2008,7.6048944808116197,{"$f":" IF(Foglio1!$C$13 <> \"\", 8.314472*Foglio1!$C$13*Foglio2!J229, NA())","v":{"$error":"#N/A"}},{"$f":"IF(Foglio1!$H$13 <> \"\", Foglio1!$H$13 + K229*10^-3, NA())","v":{"$error":"#N/A"}},2008,7.6048944808116197,{"$f":" IF(Foglio1!$C$14 <> \"\", 8.314472*Foglio1!$C$14*Foglio2!N229, NA())","v":{"$error":"#N/A"}},{"$f":"IF(Foglio1!$H$14 <> \"\", Foglio1!$H$14 + O229*10^-3, NA())","v":{"$error":"#N/A"}},2008,7.6048944808116197,{"$f":" IF(Foglio1!$C$15 <> \"\", 8.314472*Foglio1!$C$15*Foglio2!R229, NA())","v":{"$error":"#N/A"}},{"$f":"IF(Foglio1!$H$15 <> \"\", Foglio1!$H$15 + S229*10^-3, NA())","v":{"$error":"#N/A"}}]
[2017,7.6093665379542115,{"$f":" IF(Foglio1!$C$11 <> \"\", 8.314472*Foglio1!$C$11*Foglio2!B230, NA())","v":18980.35950526717},{"$f":"IF(Foglio1!$H$11 <> \"\", Foglio1!$H$11 + C230*10^-3, NA())","v":-71.019640494732826},2017,7.6093665379542115,{"$f":" IF(Foglio1!$C$12 <> \"\", 8.314472*Foglio1!$C$12*Foglio2!F230, NA())","v":{"$error":"#N/A"}},{"$f":"IF(Foglio1!$H$12 <> \"\", Foglio1!$H$12 + G230*10^-3, NA())","v":{"$error":"#N/A"}},2017,7.6093665379542115,{"$f":" IF(Foglio1!$C$13 <> \"\", 8.314472*Foglio1!$C$13*Foglio2!J230, NA())","v":{"$error":"#N/A"}},{"$f":"IF(Foglio1!$H$13 <> \"\", Foglio1!$H$13 + K230*10^-3, NA())","v":{"$error":"#N/A"}},2017,7.6093665379542115,{"$f":" IF(Foglio1!$C$14 <> \"\", 8.314472*Foglio1!$C$14*Foglio2!N230, NA())","v":{"$error":"#N/A"}},{"$f":"IF(Foglio1!$H$14 <> \"\", Foglio1!$H$14 + O230*10^-3, NA())","v":{"$error":"#N/A"}},2017,7.6093665379542115,{"$f":" IF(Foglio1!$C$15 <> \"\", 8.314472*Foglio1!$C$15*Foglio2!R230, NA())","v":{"$error":"#N/A"}},{"$f":"IF(Foglio1!$H$15 <> \"\", Foglio1!$H$15 + S230*10^-3, NA())","v":{"$error":"#N/A"}}]
[2026,7.6138186848086287,{"$f":" IF(Foglio1!$C$11 <> \"\", 8.314472*Foglio1!$C$11*Foglio2!B231, NA())","v":18991.464680375451},{"$f":"IF(Foglio1!$H$11 <> \"\", Foglio1!$H$11 + C231*10^-3, NA())","v":-71.008535319624542},2026,7.6138186848086287,{"$f":" IF(Foglio1!$C$12 <> \"\", 8.314472*Foglio1!$C$12*Foglio2!F231, NA())","v":{"$error":"#N/A"}},{"$f":"IF(Foglio1!$H$12 <> \"\", Foglio1!$H$12 + G231*10^-3, NA())","v":{"$error":"#N/A"}},2026,7.6138186848086287,{"$f":" IF(Foglio1!$C$13 <> \"\", 8.314472*Foglio1!$C$13*Foglio2!J231, NA())","v":{"$error":"#N/A"}},{"$f":"IF(Foglio1!$H$13 <> \"\", Foglio1!$H$13 + K231*10^-3, NA())","v":{"$error":"#N/A"}},2026,7.6138186848086287,{"$f":" IF(Foglio1!$C$14 <> \"\", 8.314472*Foglio1!$C$14*Foglio2!N231, NA())","v":{"$error":"#N/A"}},{"$f":"IF(Foglio1!$H$14 <> \"\", Foglio1!$H$14 + O231*10^-3, NA())","v":{"$error":"#N/A"}},2026,7.6138186848086287,{"$f":" IF(Foglio1!$C$15 <> \"\", 8.314472*Foglio1!$C$15*Foglio2!R231, NA())","v":{"$error":"#N/A"}},{"$f":"IF(Foglio1!$H$15 <> \"\", Foglio1!$H$15 + S231*10^-3, NA())","v":{"$error":"#N/A"}}]
[2035,7.6182510978766951,{"$f":" IF(Foglio1!$C$11 <> \"\", 8.314472*Foglio1!$C$11*Foglio2!B232, NA())","v":19002.520632679512},{"$f":"IF(Foglio1!$H$11 <> \"\", Foglio1!$H$11 + C232*10^-3, NA())","v":-70.997479367320494},2035,7.6182510978766951,{"$f":" IF(Foglio1!$C$12 <> \"\", 8.314472*Foglio1!$C$12*Foglio2!F232, NA())","v":{"$error":"#N/A"}},{"$f":"IF(Foglio1!$H$12 <> \"\", Foglio1!$H$12 + G232*10^-3, NA())","v":{"$error":"#N/A"}},2035,7.6182510978766951,{"$f":" IF(Foglio1!$C$13 <> \"\", 8.314472*Foglio1!$C$13*Foglio2!J232, NA())","v":{"$error":"#N/A"}},{"$f":"IF(Foglio1!$H$13 <> \"\", Foglio1!$H$13 + K232*10^-3, NA())","v":{"$error":"#N/A"}},2035,7.6182510978766951,{"$f":" IF(Foglio1!$C$14 <> \"\", 8.314472*Foglio1!$C$14*Foglio2!N232, NA())","v":{"$error":"#N/A"}},{"$f":"IF(Foglio1!$H$14 <> \"\", Foglio1!$H$14 + O232*10^-3, NA())","v":{"$error":"#N/A"}},2035,7.6182510978766951,{"$f":" IF(Foglio1!$C$15 <> \"\", 8.314472*Foglio1!$C$15*Foglio2!R232, NA())","v":{"$error":"#N/A"}},{"$f":"IF(Foglio1!$H$15 <> \"\", Foglio1!$H$15 + S232*10^-3, NA())","v":{"$error":"#N/A"}}]
[2044,7.6226639513235952,{"$f":" IF(Foglio1!$C$11 <> \"\", 8.314472*Foglio1!$C$11*Foglio2!B233, NA())","v":19013.527796606821},{"$f":"IF(Foglio1!$H$11 <> \"\", Foglio1!$H$11 + C233*10^-3, NA())","v":-70.986472203393177},2044,7.6226639513235952,{"$f":" IF(Foglio1!$C$12 <> \"\", 8.314472*Foglio1!$C$12*Foglio2!F233, NA())","v":{"$error":"#N/A"}},{"$f":"IF(Foglio1!$H$12 <> \"\", Foglio1!$H$12 + G233*10^-3, NA())","v":{"$error":"#N/A"}},2044,7.6226639513235952,{"$f":" IF(Foglio1!$C$13 <> \"\", 8.314472*Foglio1!$C$13*Foglio2!J233, NA())","v":{"$error":"#N/A"}},{"$f":"IF(Foglio1!$H$13 <> \"\", Foglio1!$H$13 + K233*10^-3, NA())","v":{"$error":"#N/A"}},2044,7.6226639513235952,{"$f":" IF(Foglio1!$C$14 <> \"\", 8.314472*Foglio1!$C$14*Foglio2!N233, NA())","v":{"$error":"#N/A"}},{"$f":"IF(Foglio1!$H$14 <> \"\", Foglio1!$H$14 + O233*10^-3, NA())","v":{"$error":"#N/A"}},2044,7.6226639513235952,{"$f":" IF(Foglio1!$C$15 <> \"\", 8.314472*Foglio1!$C$15*Foglio2!R233, NA())","v":{"$error":"#N/A"}},{"$f":"IF(Foglio1!$H$15 <> \"\", Foglio1!$H$15 + S233*10^-3, NA())","v":{"$error":"#N/A"}}]
[2053,7.6270574170189338,{"$f":" IF(Foglio1!$C$11 <> \"\", 8.314472*Foglio1!$C$11*Foglio2!B234, NA())","v":19024.486600858876},{"$f":"IF(Foglio1!$H$11 <> \"\", Foglio1!$H$11 + C234*10^-3, NA())","v":-70.975513399141121},2053,7.6270574170189338,{"$f":" IF(Foglio1!$C$12 <> \"\", 8.314472*Foglio1!$C$12*Foglio2!F234, NA())","v":{"$error":"#N/A"}},{"$f":"IF(Foglio1!$H$12 <> \"\", Foglio1!$H$12 + G234*10^-3, NA())","v":{"$error":"#N/A"}},2053,7.6270574170189338,{"$f":" IF(Foglio1!$C$13 <> \"\", 8.314472*Foglio1!$C$13*Foglio2!J234, NA())","v":{"$error":"#N/A"}},{"$f":"IF(Foglio1!$H$13 <> \"\", Foglio1!$H$13 + K234*10^-3, NA())","v":{"$error":"#N/A"}},2053,7.6270574170189338,{"$f":" IF(Foglio1!$C$14 <> \"\", 8.314472*Foglio1!$C$14*Foglio2!N234, NA())","v":{"$error":"#N/A"}},{"$f":"IF(Foglio1!$H$14 <> \"\", Foglio1!$H$14 + O234*10^-3, NA())","v":{"$error":"#N/A"}},2053,7.6270574170189338,{"$f":" IF(Foglio1!$C$15 <> \"\", 8.314472*Foglio1!$C$15*Foglio2!R234, NA())","v":{"$error":"#N/A"}},{"$f":"IF(Foglio1!$H$15 <> \"\", Foglio1!$H$15 + S234*10^-3, NA())","v":{"$error":"#N/A"}}]
[2062,7.6314316645769056,{"$f":" IF(Foglio1!$C$11 <> \"\", 8.314472*Foglio1!$C$11*Foglio2!B235, NA())","v":19035.397468511423},{"$f":"IF(Foglio1!$H$11 <> \"\", Foglio1!$H$11 + C235*10^-3, NA())","v":-70.96460253148858},2062,7.6314316645769056,{"$f":" IF(Foglio1!$C$12 <> \"\", 8.314472*Foglio1!$C$12*Foglio2!F235, NA())","v":{"$error":"#N/A"}},{"$f":"IF(Foglio1!$H$12 <> \"\", Foglio1!$H$12 + G235*10^-3, NA())","v":{"$error":"#N/A"}},2062,7.6314316645769056,{"$f":" IF(Foglio1!$C$13 <> \"\", 8.314472*Foglio1!$C$13*Foglio2!J235, NA())","v":{"$error":"#N/A"}},{"$f":"IF(Foglio1!$H$13 <> \"\", Foglio1!$H$13 + K235*10^-3, NA())","v":{"$error":"#N/A"}},2062,7.6314316645769056,{"$f":" IF(Foglio1!$C$14 <> \"\", 8.314472*Foglio1!$C$14*Foglio2!N235, NA())","v":{"$error":"#N/A"}},{"$f":"IF(Foglio1!$H$14 <> \"\", Foglio1!$H$14 + O235*10^-3, NA())","v":{"$error":"#N/A"}},2062,7.6314316645769056,{"$f":" IF(Foglio1!$C$15 <> \"\", 8.314472*Foglio1!$C$15*Foglio2!R235, NA())","v":{"$error":"#N/A"}},{"$f":"IF(Foglio1!$H$15 <> \"\", Foglio1!$H$15 + S235*10^-3, NA())","v":{"$error":"#N/A"}}]
[2071,7.6357868613955846,{"$f":" IF(Foglio1!$C$11 <> \"\", 8.314472*Foglio1!$C$11*Foglio2!B236, NA())","v":19046.260817112441},{"$f":"IF(Foglio1!$H$11 <> \"\", Foglio1!$H$11 + C236*10^-3, NA())","v":-70.95373918288756},2071,7.6357868613955846,{"$f":" IF(Foglio1!$C$12 <> \"\", 8.314472*Foglio1!$C$12*Foglio2!F236, NA())","v":{"$error":"#N/A"}},{"$f":"IF(Foglio1!$H$12 <> \"\", Foglio1!$H$12 + G236*10^-3, NA())","v":{"$error":"#N/A"}},2071,7.6357868613955846,{"$f":" IF(Foglio1!$C$13 <> \"\", 8.314472*Foglio1!$C$13*Foglio2!J236, NA())","v":{"$error":"#N/A"}},{"$f":"IF(Foglio1!$H$13 <> \"\", Foglio1!$H$13 + K236*10^-3, NA())","v":{"$error":"#N/A"}},2071,7.6357868613955846,{"$f":" IF(Foglio1!$C$14 <> \"\", 8.314472*Foglio1!$C$14*Foglio2!N236, NA())","v":{"$error":"#N/A"}},{"$f":"IF(Foglio1!$H$14 <> \"\", Foglio1!$H$14 + O236*10^-3, NA())","v":{"$error":"#N/A"}},2071,7.6357868613955846,{"$f":" IF(Foglio1!$C$15 <> \"\", 8.314472*Foglio1!$C$15*Foglio2!R236, NA())","v":{"$error":"#N/A"}},{"$f":"IF(Foglio1!$H$15 <> \"\", Foglio1!$H$15 + S236*10^-3, NA())","v":{"$error":"#N/A"}}]
[2080,7.6401231726953638,{"$f":" IF(Foglio1!$C$11 <> \"\", 8.314472*Foglio1!$C$11*Foglio2!B237, NA())","v":19057.077058778032},{"$f":"IF(Foglio1!$H$11 <> \"\", Foglio1!$H$11 + C237*10^-3, NA())","v":-70.942922941221966},2080,7.6401231726953638,{"$f":" IF(Foglio1!$C$12 <> \"\", 8.314472*Foglio1!$C$12*Foglio2!F237, NA())","v":{"$error":"#N/A"}},{"$f":"IF(Foglio1!$H$12 <> \"\", Foglio1!$H$12 + G237*10^-3, NA())","v":{"$error":"#N/A"}},2080,7.6401231726953638,{"$f":" IF(Foglio1!$C$13 <> \"\", 8.314472*Foglio1!$C$13*Foglio2!J237, NA())","v":{"$error":"#N/A"}},{"$f":"IF(Foglio1!$H$13 <> \"\", Foglio1!$H$13 + K237*10^-3, NA())","v":{"$error":"#N/A"}},2080,7.6401231726953638,{"$f":" IF(Foglio1!$C$14 <> \"\", 8.314472*Foglio1!$C$14*Foglio2!N237, NA())","v":{"$error":"#N/A"}},{"$f":"IF(Foglio1!$H$14 <> \"\", Foglio1!$H$14 + O237*10^-3, NA())","v":{"$error":"#N/A"}},2080,7.6401231726953638,{"$f":" IF(Foglio1!$C$15 <> \"\", 8.314472*Foglio1!$C$15*Foglio2!R237, NA())","v":{"$error":"#N/A"}},{"$f":"IF(Foglio1!$H$15 <> \"\", Foglio1!$H$15 + S237*10^-3, NA())","v":{"$error":"#N/A"}}]
[2089,7.6444407615565657,{"$f":" IF(Foglio1!$C$11 <> \"\", 8.314472*Foglio1!$C$11*Foglio2!B238, NA())","v":19067.846600286222},{"$f":"IF(Foglio1!$H$11 <> \"\", Foglio1!$H$11 + C238*10^-3, NA())","v":-70.932153399713769},2089,7.6444407615565657,{"$f":" IF(Foglio1!$C$12 <> \"\", 8.314472*Foglio1!$C$12*Foglio2!F238, NA())","v":{"$error":"#N/A"}},{"$f":"IF(Foglio1!$H$12 <> \"\", Foglio1!$H$12 + G238*10^-3, NA())","v":{"$error":"#N/A"}},2089,7.6444407615565657,{"$f":" IF(Foglio1!$C$13 <> \"\", 8.314472*Foglio1!$C$13*Foglio2!J238, NA())","v":{"$error":"#N/A"}},{"$f":"IF(Foglio1!$H$13 <> \"\", Foglio1!$H$13 + K238*10^-3, NA())","v":{"$error":"#N/A"}},2089,7.6444407615565657,{"$f":" IF(Foglio1!$C$14 <> \"\", 8.314472*Foglio1!$C$14*Foglio2!N238, NA())","v":{"$error":"#N/A"}},{"$f":"IF(Foglio1!$H$14 <> \"\", Foglio1!$H$14 + O238*10^-3, NA())","v":{"$error":"#N/A"}},2089,7.6444407615565657,{"$f":" IF(Foglio1!$C$15 <> \"\", 8.314472*Foglio1!$C$15*Foglio2!R238, NA())","v":{"$error":"#N/A"}},{"$f":"IF(Foglio1!$H$15 <> \"\", Foglio1!$H$15 + S238*10^-3, NA())","v":{"$error":"#N/A"}}]
[2098,7.6487397889562425,{"$f":" IF(Foglio1!$C$11 <> \"\", 8.314472*Foglio1!$C$11*Foglio2!B239, NA())","v":19078.569843168778},{"$f":"IF(Foglio1!$H$11 <> \"\", Foglio1!$H$11 + C239*10^-3, NA())","v":-70.921430156831221},2098,7.6487397889562425,{"$f":" IF(Foglio1!$C$12 <> \"\", 8.314472*Foglio1!$C$12*Foglio2!F239, NA())","v":{"$error":"#N/A"}},{"$f":"IF(Foglio1!$H$12 <> \"\", Foglio1!$H$12 + G239*10^-3, NA())","v":{"$error":"#N/A"}},2098,7.6487397889562425,{"$f":" IF(Foglio1!$C$13 <> \"\", 8.314472*Foglio1!$C$13*Foglio2!J239, NA())","v":{"$error":"#N/A"}},{"$f":"IF(Foglio1!$H$13 <> \"\", Foglio1!$H$13 + K239*10^-3, NA())","v":{"$error":"#N/A"}},2098,7.6487397889562425,{"$f":" IF(Foglio1!$C$14 <> \"\", 8.314472*Foglio1!$C$14*Foglio2!N239, NA())","v":{"$error":"#N/A"}},{"$f":"IF(Foglio1!$H$14 <> \"\", Foglio1!$H$14 + O239*10^-3, NA())","v":{"$error":"#N/A"}},2098,7.6487397889562425,{"$f":" IF(Foglio1!$C$15 <> \"\", 8.314472*Foglio1!$C$15*Foglio2!R239, NA())","v":{"$error":"#N/A"}},{"$f":"IF(Foglio1!$H$15 <> \"\", Foglio1!$H$15 + S239*10^-3, NA())","v":{"$error":"#N/A"}}]
[2107,7.6530204138041888,{"$f":" IF(Foglio1!$C$11 <> \"\", 8.314472*Foglio1!$C$11*Foglio2!B240, NA())","v":19089.247183801002},{"$f":"IF(Foglio1!$H$11 <> \"\", Foglio1!$H$11 + C240*10^-3, NA())","v":-70.910752816198993},2107,7.6530204138041888,{"$f":" IF(Foglio1!$C$12 <> \"\", 8.314472*Foglio1!$C$12*Foglio2!F240, NA())","v":{"$error":"#N/A"}},{"$f":"IF(Foglio1!$H$12 <> \"\", Foglio1!$H$12 + G240*10^-3, NA())","v":{"$error":"#N/A"}},2107,7.6530204138041888,{"$f":" IF(Foglio1!$C$13 <> \"\", 8.314472*Foglio1!$C$13*Foglio2!J240, NA())","v":{"$error":"#N/A"}},{"$f":"IF(Foglio1!$H$13 <> \"\", Foglio1!$H$13 + K240*10^-3, NA())","v":{"$error":"#N/A"}},2107,7.6530204138041888,{"$f":" IF(Foglio1!$C$14 <> \"\", 8.314472*Foglio1!$C$14*Foglio2!N240, NA())","v":{"$error":"#N/A"}},{"$f":"IF(Foglio1!$H$14 <> \"\", Foglio1!$H$14 + O240*10^-3, NA())","v":{"$error":"#N/A"}},2107,7.6530204138041888,{"$f":" IF(Foglio1!$C$15 <> \"\", 8.314472*Foglio1!$C$15*Foglio2!R240, NA())","v":{"$error":"#N/A"}},{"$f":"IF(Foglio1!$H$15 <> \"\", Foglio1!$H$15 + S240*10^-3, NA())","v":{"$error":"#N/A"}}]
[2116,7.6572827929781901,{"$f":" IF(Foglio1!$C$11 <> \"\", 8.314472*Foglio1!$C$11*Foglio2!B241, NA())","v":19099.879013489688},{"$f":"IF(Foglio1!$H$11 <> \"\", Foglio1!$H$11 + C241*10^-3, NA())","v":-70.900120986510316},2116,7.6572827929781901,{"$f":" IF(Foglio1!$C$12 <> \"\", 8.314472*Foglio1!$C$12*Foglio2!F241, NA())","v":{"$error":"#N/A"}},{"$f":"IF(Foglio1!$H$12 <> \"\", Foglio1!$H$12 + G241*10^-3, NA())","v":{"$error":"#N/A"}},2116,7.6572827929781901,{"$f":" IF(Foglio1!$C$13 <> \"\", 8.314472*Foglio1!$C$13*Foglio2!J241, NA())","v":{"$error":"#N/A"}},{"$f":"IF(Foglio1!$H$13 <> \"\", Foglio1!$H$13 + K241*10^-3, NA())","v":{"$error":"#N/A"}},2116,7.6572827929781901,{"$f":" IF(Foglio1!$C$14 <> \"\", 8.314472*Foglio1!$C$14*Foglio2!N241, NA())","v":{"$error":"#N/A"}},{"$f":"IF(Foglio1!$H$14 <> \"\", Foglio1!$H$14 + O241*10^-3, NA())","v":{"$error":"#N/A"}},2116,7.6572827929781901,{"$f":" IF(Foglio1!$C$15 <> \"\", 8.314472*Foglio1!$C$15*Foglio2!R241, NA())","v":{"$error":"#N/A"}},{"$f":"IF(Foglio1!$H$15 <> \"\", Foglio1!$H$15 + S241*10^-3, NA())","v":{"$error":"#N/A"}}]
[2125,7.6615270813585168,{"$f":" IF(Foglio1!$C$11 <> \"\", 8.314472*Foglio1!$C$11*Foglio2!B242, NA())","v":19110.465718559135},{"$f":"IF(Foglio1!$H$11 <> \"\", Foglio1!$H$11 + C242*10^-3, NA())","v":-70.889534281440859},2125,7.6615270813585168,{"$f":" IF(Foglio1!$C$12 <> \"\", 8.314472*Foglio1!$C$12*Foglio2!F242, NA())","v":{"$error":"#N/A"}},{"$f":"IF(Foglio1!$H$12 <> \"\", Foglio1!$H$12 + G242*10^-3, NA())","v":{"$error":"#N/A"}},2125,7.6615270813585168,{"$f":" IF(Foglio1!$C$13 <> \"\", 8.314472*Foglio1!$C$13*Foglio2!J242, NA())","v":{"$error":"#N/A"}},{"$f":"IF(Foglio1!$H$13 <> \"\", Foglio1!$H$13 + K242*10^-3, NA())","v":{"$error":"#N/A"}},2125,7.6615270813585168,{"$f":" IF(Foglio1!$C$14 <> \"\", 8.314472*Foglio1!$C$14*Foglio2!N242, NA())","v":{"$error":"#N/A"}},{"$f":"IF(Foglio1!$H$14 <> \"\", Foglio1!$H$14 + O242*10^-3, NA())","v":{"$error":"#N/A"}},2125,7.6615270813585168,{"$f":" IF(Foglio1!$C$15 <> \"\", 8.314472*Foglio1!$C$15*Foglio2!R242, NA())","v":{"$error":"#N/A"}},{"$f":"IF(Foglio1!$H$15 <> \"\", Foglio1!$H$15 + S242*10^-3, NA())","v":{"$error":"#N/A"}}]
[2134,7.6657534318616989,{"$f":" IF(Foglio1!$C$11 <> \"\", 8.314472*Foglio1!$C$11*Foglio2!B243, NA())","v":19121.007680435403},{"$f":"IF(Foglio1!$H$11 <> \"\", Foglio1!$H$11 + C243*10^-3, NA())","v":-70.878992319564588},2134,7.6657534318616989,{"$f":" IF(Foglio1!$C$12 <> \"\", 8.314472*Foglio1!$C$12*Foglio2!F243, NA())","v":{"$error":"#N/A"}},{"$f":"IF(Foglio1!$H$12 <> \"\", Foglio1!$H$12 + G243*10^-3, NA())","v":{"$error":"#N/A"}},2134,7.6657534318616989,{"$f":" IF(Foglio1!$C$13 <> \"\", 8.314472*Foglio1!$C$13*Foglio2!J243, NA())","v":{"$error":"#N/A"}},{"$f":"IF(Foglio1!$H$13 <> \"\", Foglio1!$H$13 + K243*10^-3, NA())","v":{"$error":"#N/A"}},2134,7.6657534318616989,{"$f":" IF(Foglio1!$C$14 <> \"\", 8.314472*Foglio1!$C$14*Foglio2!N243, NA())","v":{"$error":"#N/A"}},{"$f":"IF(Foglio1!$H$14 <> \"\", Foglio1!$H$14 + O243*10^-3, NA())","v":{"$error":"#N/A"}},2134,7.6657534318616989,{"$f":" IF(Foglio1!$C$15 <> \"\", 8.314472*Foglio1!$C$15*Foglio2!R243, NA())","v":{"$error":"#N/A"}},{"$f":"IF(Foglio1!$H$15 <> \"\", Foglio1!$H$15 + S243*10^-3, NA())","v":{"$error":"#N/A"}}]
[2143,7.6699619954735772,{"$f":" IF(Foglio1!$C$11 <> \"\", 8.314472*Foglio1!$C$11*Foglio2!B244, NA())","v":19131.505275728756},{"$f":"IF(Foglio1!$H$11 <> \"\", Foglio1!$H$11 + C244*10^-3, NA())","v":-70.868494724271244},2143,7.6699619954735772,{"$f":" IF(Foglio1!$C$12 <> \"\", 8.314472*Foglio1!$C$12*Foglio2!F244, NA())","v":{"$error":"#N/A"}},{"$f":"IF(Foglio1!$H$12 <> \"\", Foglio1!$H$12 + G244*10^-3, NA())","v":{"$error":"#N/A"}},2143,7.6699619954735772,{"$f":" IF(Foglio1!$C$13 <> \"\", 8.314472*Foglio1!$C$13*Foglio2!J244, NA())","v":{"$error":"#N/A"}},{"$f":"IF(Foglio1!$H$13 <> \"\", Foglio1!$H$13 + K244*10^-3, NA())","v":{"$error":"#N/A"}},2143,7.6699619954735772,{"$f":" IF(Foglio1!$C$14 <> \"\", 8.314472*Foglio1!$C$14*Foglio2!N244, NA())","v":{"$error":"#N/A"}},{"$f":"IF(Foglio1!$H$14 <> \"\", Foglio1!$H$14 + O244*10^-3, NA())","v":{"$error":"#N/A"}},2143,7.6699619954735772,{"$f":" IF(Foglio1!$C$15 <> \"\", 8.314472*Foglio1!$C$15*Foglio2!R244, NA())","v":{"$error":"#N/A"}},{"$f":"IF(Foglio1!$H$15 <> \"\", Foglio1!$H$15 + S244*10^-3, NA())","v":{"$error":"#N/A"}}]
[2152,7.6741529212816753,{"$f":" IF(Foglio1!$C$11 <> \"\", 8.314472*Foglio1!$C$11*Foglio2!B245, NA())","v":19141.958876314409},{"$f":"IF(Foglio1!$H$11 <> \"\", Foglio1!$H$11 + C245*10^-3, NA())","v":-70.858041123685595},2152,7.6741529212816753,{"$f":" IF(Foglio1!$C$12 <> \"\", 8.314472*Foglio1!$C$12*Foglio2!F245, NA())","v":{"$error":"#N/A"}},{"$f":"IF(Foglio1!$H$12 <> \"\", Foglio1!$H$12 + G245*10^-3, NA())","v":{"$error":"#N/A"}},2152,7.6741529212816753,{"$f":" IF(Foglio1!$C$13 <> \"\", 8.314472*Foglio1!$C$13*Foglio2!J245, NA())","v":{"$error":"#N/A"}},{"$f":"IF(Foglio1!$H$13 <> \"\", Foglio1!$H$13 + K245*10^-3, NA())","v":{"$error":"#N/A"}},2152,7.6741529212816753,{"$f":" IF(Foglio1!$C$14 <> \"\", 8.314472*Foglio1!$C$14*Foglio2!N245, NA())","v":{"$error":"#N/A"}},{"$f":"IF(Foglio1!$H$14 <> \"\", Foglio1!$H$14 + O245*10^-3, NA())","v":{"$error":"#N/A"}},2152,7.6741529212816753,{"$f":" IF(Foglio1!$C$15 <> \"\", 8.314472*Foglio1!$C$15*Foglio2!R245, NA())","v":{"$error":"#N/A"}},{"$f":"IF(Foglio1!$H$15 <> \"\", Foglio1!$H$15 + S245*10^-3, NA())","v":{"$error":"#N/A"}}]
[2161,7.6783263565068856,{"$f":" IF(Foglio1!$C$11 <> \"\", 8.314472*Foglio1!$C$11*Foglio2!B246, NA())","v":19152.368849411556},{"$f":"IF(Foglio1!$H$11 <> \"\", Foglio1!$H$11 + C246*10^-3, NA())","v":-70.847631150588441},2161,7.6783263565068856,{"$f":" IF(Foglio1!$C$12 <> \"\", 8.314472*Foglio1!$C$12*Foglio2!F246, NA())","v":{"$error":"#N/A"}},{"$f":"IF(Foglio1!$H$12 <> \"\", Foglio1!$H$12 + G246*10^-3, NA())","v":{"$error":"#N/A"}},2161,7.6783263565068856,{"$f":" IF(Foglio1!$C$13 <> \"\", 8.314472*Foglio1!$C$13*Foglio2!J246, NA())","v":{"$error":"#N/A"}},{"$f":"IF(Foglio1!$H$13 <> \"\", Foglio1!$H$13 + K246*10^-3, NA())","v":{"$error":"#N/A"}},2161,7.6783263565068856,{"$f":" IF(Foglio1!$C$14 <> \"\", 8.314472*Foglio1!$C$14*Foglio2!N246, NA())","v":{"$error":"#N/A"}},{"$f":"IF(Foglio1!$H$14 <> \"\", Foglio1!$H$14 + O246*10^-3, NA())","v":{"$error":"#N/A"}},2161,7.6783263565068856,{"$f":" IF(Foglio1!$C$15 <> \"\", 8.314472*Foglio1!$C$15*Foglio2!R246, NA())","v":{"$error":"#N/A"}},{"$f":"IF(Foglio1!$H$15 <> \"\", Foglio1!$H$15 + S246*10^-3, NA())","v":{"$error":"#N/A"}}]
[2170,7.6824824465345056,{"$f":" IF(Foglio1!$C$11 <> \"\", 8.314472*Foglio1!$C$11*Foglio2!B247, NA())","v":19162.735557660795},{"$f":"IF(Foglio1!$H$11 <> \"\", Foglio1!$H$11 + C247*10^-3, NA())","v":-70.837264442339205},2170,7.6824824465345056,{"$f":" IF(Foglio1!$C$12 <> \"\", 8.314472*Foglio1!$C$12*Foglio2!F247, NA())","v":{"$error":"#N/A"}},{"$f":"IF(Foglio1!$H$12 <> \"\", Foglio1!$H$12 + G247*10^-3, NA())","v":{"$error":"#N/A"}},2170,7.6824824465345056,{"$f":" IF(Foglio1!$C$13 <> \"\", 8.314472*Foglio1!$C$13*Foglio2!J247, NA())","v":{"$error":"#N/A"}},{"$f":"IF(Foglio1!$H$13 <> \"\", Foglio1!$H$13 + K247*10^-3, NA())","v":{"$error":"#N/A"}},2170,7.6824824465345056,{"$f":" IF(Foglio1!$C$14 <> \"\", 8.314472*Foglio1!$C$14*Foglio2!N247, NA())","v":{"$error":"#N/A"}},{"$f":"IF(Foglio1!$H$14 <> \"\", Foglio1!$H$14 + O247*10^-3, NA())","v":{"$error":"#N/A"}},2170,7.6824824465345056,{"$f":" IF(Foglio1!$C$15 <> \"\", 8.314472*Foglio1!$C$15*Foglio2!R247, NA())","v":{"$error":"#N/A"}},{"$f":"IF(Foglio1!$H$15 <> \"\", Foglio1!$H$15 + S247*10^-3, NA())","v":{"$error":"#N/A"}}]
[2179,7.6866213349446202,{"$f":" IF(Foglio1!$C$11 <> \"\", 8.314472*Foglio1!$C$11*Foglio2!B248, NA())","v":19173.059359199902},{"$f":"IF(Foglio1!$H$11 <> \"\", Foglio1!$H$11 + C248*10^-3, NA())","v":-70.826940640800103},2179,7.6866213349446202,{"$f":" IF(Foglio1!$C$12 <> \"\", 8.314472*Foglio1!$C$12*Foglio2!F248, NA())","v":{"$error":"#N/A"}},{"$f":"IF(Foglio1!$H$12 <> \"\", Foglio1!$H$12 + G248*10^-3, NA())","v":{"$error":"#N/A"}},2179,7.6866213349446202,{"$f":" IF(Foglio1!$C$13 <> \"\", 8.314472*Foglio1!$C$13*Foglio2!J248, NA())","v":{"$error":"#N/A"}},{"$f":"IF(Foglio1!$H$13 <> \"\", Foglio1!$H$13 + K248*10^-3, NA())","v":{"$error":"#N/A"}},2179,7.6866213349446202,{"$f":" IF(Foglio1!$C$14 <> \"\", 8.314472*Foglio1!$C$14*Foglio2!N248, NA())","v":{"$error":"#N/A"}},{"$f":"IF(Foglio1!$H$14 <> \"\", Foglio1!$H$14 + O248*10^-3, NA())","v":{"$error":"#N/A"}},2179,7.6866213349446202,{"$f":" IF(Foglio1!$C$15 <> \"\", 8.314472*Foglio1!$C$15*Foglio2!R248, NA())","v":{"$error":"#N/A"}},{"$f":"IF(Foglio1!$H$15 <> \"\", Foglio1!$H$15 + S248*10^-3, NA())","v":{"$error":"#N/A"}}]
[2188,7.6907431635418719,{"$f":" IF(Foglio1!$C$11 <> \"\", 8.314472*Foglio1!$C$11*Foglio2!B249, NA())","v":19183.340607738097},{"$f":"IF(Foglio1!$H$11 <> \"\", Foglio1!$H$11 + C249*10^-3, NA())","v":-70.816659392261897},2188,7.6907431635418719,{"$f":" IF(Foglio1!$C$12 <> \"\", 8.314472*Foglio1!$C$12*Foglio2!F249, NA())","v":{"$error":"#N/A"}},{"$f":"IF(Foglio1!$H$12 <> \"\", Foglio1!$H$12 + G249*10^-3, NA())","v":{"$error":"#N/A"}},2188,7.6907431635418719,{"$f":" IF(Foglio1!$C$13 <> \"\", 8.314472*Foglio1!$C$13*Foglio2!J249, NA())","v":{"$error":"#N/A"}},{"$f":"IF(Foglio1!$H$13 <> \"\", Foglio1!$H$13 + K249*10^-3, NA())","v":{"$error":"#N/A"}},2188,7.6907431635418719,{"$f":" IF(Foglio1!$C$14 <> \"\", 8.314472*Foglio1!$C$14*Foglio2!N249, NA())","v":{"$error":"#N/A"}},{"$f":"IF(Foglio1!$H$14 <> \"\", Foglio1!$H$14 + O249*10^-3, NA())","v":{"$error":"#N/A"}},2188,7.6907431635418719,{"$f":" IF(Foglio1!$C$15 <> \"\", 8.314472*Foglio1!$C$15*Foglio2!R249, NA())","v":{"$error":"#N/A"}},{"$f":"IF(Foglio1!$H$15 <> \"\", Foglio1!$H$15 + S249*10^-3, NA())","v":{"$error":"#N/A"}}]
[2197,7.6948480723846098,{"$f":" IF(Foglio1!$C$11 <> \"\", 8.314472*Foglio1!$C$11*Foglio2!B250, NA())","v":19193.579652628745},{"$f":"IF(Foglio1!$H$11 <> \"\", Foglio1!$H$11 + C250*10^-3, NA())","v":-70.806420347371258},2197,7.6948480723846098,{"$f":" IF(Foglio1!$C$12 <> \"\", 8.314472*Foglio1!$C$12*Foglio2!F250, NA())","v":{"$error":"#N/A"}},{"$f":"IF(Foglio1!$H$12 <> \"\", Foglio1!$H$12 + G250*10^-3, NA())","v":{"$error":"#N/A"}},2197,7.6948480723846098,{"$f":" IF(Foglio1!$C$13 <> \"\", 8.314472*Foglio1!$C$13*Foglio2!J250, NA())","v":{"$error":"#N/A"}},{"$f":"IF(Foglio1!$H$13 <> \"\", Foglio1!$H$13 + K250*10^-3, NA())","v":{"$error":"#N/A"}},2197,7.6948480723846098,{"$f":" IF(Foglio1!$C$14 <> \"\", 8.314472*Foglio1!$C$14*Foglio2!N250, NA())","v":{"$error":"#N/A"}},{"$f":"IF(Foglio1!$H$14 <> \"\", Foglio1!$H$14 + O250*10^-3, NA())","v":{"$error":"#N/A"}},2197,7.6948480723846098,{"$f":" IF(Foglio1!$C$15 <> \"\", 8.314472*Foglio1!$C$15*Foglio2!R250, NA())","v":{"$error":"#N/A"}},{"$f":"IF(Foglio1!$H$15 <> \"\", Foglio1!$H$15 + S250*10^-3, NA())","v":{"$error":"#N/A"}}]
[2206,7.6989361998134473,{"$f":" IF(Foglio1!$C$11 <> \"\", 8.314472*Foglio1!$C$11*Foglio2!B251, NA())","v":19203.776838940594},{"$f":"IF(Foglio1!$H$11 <> \"\", Foglio1!$H$11 + C251*10^-3, NA())","v":-70.796223161059402},2206,7.6989361998134473,{"$f":" IF(Foglio1!$C$12 <> \"\", 8.314472*Foglio1!$C$12*Foglio2!F251, NA())","v":{"$error":"#N/A"}},{"$f":"IF(Foglio1!$H$12 <> \"\", Foglio1!$H$12 + G251*10^-3, NA())","v":{"$error":"#N/A"}},2206,7.6989361998134473,{"$f":" IF(Foglio1!$C$13 <> \"\", 8.314472*Foglio1!$C$13*Foglio2!J251, NA())","v":{"$error":"#N/A"}},{"$f":"IF(Foglio1!$H$13 <> \"\", Foglio1!$H$13 + K251*10^-3, NA())","v":{"$error":"#N/A"}},2206,7.6989361998134473,{"$f":" IF(Foglio1!$C$14 <> \"\", 8.314472*Foglio1!$C$14*Foglio2!N251, NA())","v":{"$error":"#N/A"}},{"$f":"IF(Foglio1!$H$14 <> \"\", Foglio1!$H$14 + O251*10^-3, NA())","v":{"$error":"#N/A"}},2206,7.6989361998134473,{"$f":" IF(Foglio1!$C$15 <> \"\", 8.314472*Foglio1!$C$15*Foglio2!R251, NA())","v":{"$error":"#N/A"}},{"$f":"IF(Foglio1!$H$15 <> \"\", Foglio1!$H$15 + S251*10^-3, NA())","v":{"$error":"#N/A"}}]
[2215,7.7030076824792362,{"$f":" IF(Foglio1!$C$11 <> \"\", 8.314472*Foglio1!$C$11*Foglio2!B252, NA())","v":19213.932507527552},{"$f":"IF(Foglio1!$H$11 <> \"\", Foglio1!$H$11 + C252*10^-3, NA())","v":-70.786067492472455},2215,7.7030076824792362,{"$f":" IF(Foglio1!$C$12 <> \"\", 8.314472*Foglio1!$C$12*Foglio2!F252, NA())","v":{"$error":"#N/A"}},{"$f":"IF(Foglio1!$H$12 <> \"\", Foglio1!$H$12 + G252*10^-3, NA())","v":{"$error":"#N/A"}},2215,7.7030076824792362,{"$f":" IF(Foglio1!$C$13 <> \"\", 8.314472*Foglio1!$C$13*Foglio2!J252, NA())","v":{"$error":"#N/A"}},{"$f":"IF(Foglio1!$H$13 <> \"\", Foglio1!$H$13 + K252*10^-3, NA())","v":{"$error":"#N/A"}},2215,7.7030076824792362,{"$f":" IF(Foglio1!$C$14 <> \"\", 8.314472*Foglio1!$C$14*Foglio2!N252, NA())","v":{"$error":"#N/A"}},{"$f":"IF(Foglio1!$H$14 <> \"\", Foglio1!$H$14 + O252*10^-3, NA())","v":{"$error":"#N/A"}},2215,7.7030076824792362,{"$f":" IF(Foglio1!$C$15 <> \"\", 8.314472*Foglio1!$C$15*Foglio2!R252, NA())","v":{"$error":"#N/A"}},{"$f":"IF(Foglio1!$H$15 <> \"\", Foglio1!$H$15 + S252*10^-3, NA())","v":{"$error":"#N/A"}}]
[2224,7.7070626553704731,{"$f":" IF(Foglio1!$C$11 <> \"\", 8.314472*Foglio1!$C$11*Foglio2!B253, NA())","v":19224.046995097036},{"$f":"IF(Foglio1!$H$11 <> \"\", Foglio1!$H$11 + C253*10^-3, NA())","v":-70.775953004902959},2224,7.7070626553704731,{"$f":" IF(Foglio1!$C$12 <> \"\", 8.314472*Foglio1!$C$12*Foglio2!F253, NA())","v":{"$error":"#N/A"}},{"$f":"IF(Foglio1!$H$12 <> \"\", Foglio1!$H$12 + G253*10^-3, NA())","v":{"$error":"#N/A"}},2224,7.7070626553704731,{"$f":" IF(Foglio1!$C$13 <> \"\", 8.314472*Foglio1!$C$13*Foglio2!J253, NA())","v":{"$error":"#N/A"}},{"$f":"IF(Foglio1!$H$13 <> \"\", Foglio1!$H$13 + K253*10^-3, NA())","v":{"$error":"#N/A"}},2224,7.7070626553704731,{"$f":" IF(Foglio1!$C$14 <> \"\", 8.314472*Foglio1!$C$14*Foglio2!N253, NA())","v":{"$error":"#N/A"}},{"$f":"IF(Foglio1!$H$14 <> \"\", Foglio1!$H$14 + O253*10^-3, NA())","v":{"$error":"#N/A"}},2224,7.7070626553704731,{"$f":" IF(Foglio1!$C$15 <> \"\", 8.314472*Foglio1!$C$15*Foglio2!R253, NA())","v":{"$error":"#N/A"}},{"$f":"IF(Foglio1!$H$15 <> \"\", Foglio1!$H$15 + S253*10^-3, NA())","v":{"$error":"#N/A"}}]
[2233,7.7111012518401578,{"$f":" IF(Foglio1!$C$11 <> \"\", 8.314472*Foglio1!$C$11*Foglio2!B254, NA())","v":19234.120634276984},{"$f":"IF(Foglio1!$H$11 <> \"\", Foglio1!$H$11 + C254*10^-3, NA())","v":-70.765879365723009},2233,7.7111012518401578,{"$f":" IF(Foglio1!$C$12 <> \"\", 8.314472*Foglio1!$C$12*Foglio2!F254, NA())","v":{"$error":"#N/A"}},{"$f":"IF(Foglio1!$H$12 <> \"\", Foglio1!$H$12 + G254*10^-3, NA())","v":{"$error":"#N/A"}},2233,7.7111012518401578,{"$f":" IF(Foglio1!$C$13 <> \"\", 8.314472*Foglio1!$C$13*Foglio2!J254, NA())","v":{"$error":"#N/A"}},{"$f":"IF(Foglio1!$H$13 <> \"\", Foglio1!$H$13 + K254*10^-3, NA())","v":{"$error":"#N/A"}},2233,7.7111012518401578,{"$f":" IF(Foglio1!$C$14 <> \"\", 8.314472*Foglio1!$C$14*Foglio2!N254, NA())","v":{"$error":"#N/A"}},{"$f":"IF(Foglio1!$H$14 <> \"\", Foglio1!$H$14 + O254*10^-3, NA())","v":{"$error":"#N/A"}},2233,7.7111012518401578,{"$f":" IF(Foglio1!$C$15 <> \"\", 8.314472*Foglio1!$C$15*Foglio2!R254, NA())","v":{"$error":"#N/A"}},{"$f":"IF(Foglio1!$H$15 <> \"\", Foglio1!$H$15 + S254*10^-3, NA())","v":{"$error":"#N/A"}}]
[2242,7.7151236036321054,{"$f":" IF(Foglio1!$C$11 <> \"\", 8.314472*Foglio1!$C$11*Foglio2!B255, NA())","v":19244.153753681472},{"$f":"IF(Foglio1!$H$11 <> \"\", Foglio1!$H$11 + C255*10^-3, NA())","v":-70.755846246318526},2242,7.7151236036321054,{"$f":" IF(Foglio1!$C$12 <> \"\", 8.314472*Foglio1!$C$12*Foglio2!F255, NA())","v":{"$error":"#N/A"}},{"$f":"IF(Foglio1!$H$12 <> \"\", Foglio1!$H$12 + G255*10^-3, NA())","v":{"$error":"#N/A"}},2242,7.7151236036321054,{"$f":" IF(Foglio1!$C$13 <> \"\", 8.314472*Foglio1!$C$13*Foglio2!J255, NA())","v":{"$error":"#N/A"}},{"$f":"IF(Foglio1!$H$13 <> \"\", Foglio1!$H$13 + K255*10^-3, NA())","v":{"$error":"#N/A"}},2242,7.7151236036321054,{"$f":" IF(Foglio1!$C$14 <> \"\", 8.314472*Foglio1!$C$14*Foglio2!N255, NA())","v":{"$error":"#N/A"}},{"$f":"IF(Foglio1!$H$14 <> \"\", Foglio1!$H$14 + O255*10^-3, NA())","v":{"$error":"#N/A"}},2242,7.7151236036321054,{"$f":" IF(Foglio1!$C$15 <> \"\", 8.314472*Foglio1!$C$15*Foglio2!R255, NA())","v":{"$error":"#N/A"}},{"$f":"IF(Foglio1!$H$15 <> \"\", Foglio1!$H$15 + S255*10^-3, NA())","v":{"$error":"#N/A"}}]
[2251,7.7191298409067324,{"$f":" IF(Foglio1!$C$11 <> \"\", 8.314472*Foglio1!$C$11*Foglio2!B256, NA())","v":19254.146677975044},{"$f":"IF(Foglio1!$H$11 <> \"\", Foglio1!$H$11 + C256*10^-3, NA())","v":-70.745853322024956},2251,7.7191298409067324,{"$f":" IF(Foglio1!$C$12 <> \"\", 8.314472*Foglio1!$C$12*Foglio2!F256, NA())","v":{"$error":"#N/A"}},{"$f":"IF(Foglio1!$H$12 <> \"\", Foglio1!$H$12 + G256*10^-3, NA())","v":{"$error":"#N/A"}},2251,7.7191298409067324,{"$f":" IF(Foglio1!$C$13 <> \"\", 8.314472*Foglio1!$C$13*Foglio2!J256, NA())","v":{"$error":"#N/A"}},{"$f":"IF(Foglio1!$H$13 <> \"\", Foglio1!$H$13 + K256*10^-3, NA())","v":{"$error":"#N/A"}},2251,7.7191298409067324,{"$f":" IF(Foglio1!$C$14 <> \"\", 8.314472*Foglio1!$C$14*Foglio2!N256, NA())","v":{"$error":"#N/A"}},{"$f":"IF(Foglio1!$H$14 <> \"\", Foglio1!$H$14 + O256*10^-3, NA())","v":{"$error":"#N/A"}},2251,7.7191298409067324,{"$f":" IF(Foglio1!$C$15 <> \"\", 8.314472*Foglio1!$C$15*Foglio2!R256, NA())","v":{"$error":"#N/A"}},{"$f":"IF(Foglio1!$H$15 <> \"\", Foglio1!$H$15 + S256*10^-3, NA())","v":{"$error":"#N/A"}}]
[2260,7.7231200922663312,{"$f":" IF(Foglio1!$C$11 <> \"\", 8.314472*Foglio1!$C$11*Foglio2!B257, NA())","v":19264.099727935751},{"$f":"IF(Foglio1!$H$11 <> \"\", Foglio1!$H$11 + C257*10^-3, NA())","v":-70.735900272064242},2260,7.7231200922663312,{"$f":" IF(Foglio1!$C$12 <> \"\", 8.314472*Foglio1!$C$12*Foglio2!F257, NA())","v":{"$error":"#N/A"}},{"$f":"IF(Foglio1!$H$12 <> \"\", Foglio1!$H$12 + G257*10^-3, NA())","v":{"$error":"#N/A"}},2260,7.7231200922663312,{"$f":" IF(Foglio1!$C$13 <> \"\", 8.314472*Foglio1!$C$13*Foglio2!J257, NA())","v":{"$error":"#N/A"}},{"$f":"IF(Foglio1!$H$13 <> \"\", Foglio1!$H$13 + K257*10^-3, NA())","v":{"$error":"#N/A"}},2260,7.7231200922663312,{"$f":" IF(Foglio1!$C$14 <> \"\", 8.314472*Foglio1!$C$14*Foglio2!N257, NA())","v":{"$error":"#N/A"}},{"$f":"IF(Foglio1!$H$14 <> \"\", Foglio1!$H$14 + O257*10^-3, NA())","v":{"$error":"#N/A"}},2260,7.7231200922663312,{"$f":" IF(Foglio1!$C$15 <> \"\", 8.314472*Foglio1!$C$15*Foglio2!R257, NA())","v":{"$error":"#N/A"}},{"$f":"IF(Foglio1!$H$15 <> \"\", Foglio1!$H$15 + S257*10^-3, NA())","v":{"$error":"#N/A"}}]
[2269,7.7270944847798413,{"$f":" IF(Foglio1!$C$11 <> \"\", 8.314472*Foglio1!$C$11*Foglio2!B258, NA())","v":19274.013220516925},{"$f":"IF(Foglio1!$H$11 <> \"\", Foglio1!$H$11 + C258*10^-3, NA())","v":-70.72598677948308},2269,7.7270944847798413,{"$f":" IF(Foglio1!$C$12 <> \"\", 8.314472*Foglio1!$C$12*Foglio2!F258, NA())","v":{"$error":"#N/A"}},{"$f":"IF(Foglio1!$H$12 <> \"\", Foglio1!$H$12 + G258*10^-3, NA())","v":{"$error":"#N/A"}},2269,7.7270944847798413,{"$f":" IF(Foglio1!$C$13 <> \"\", 8.314472*Foglio1!$C$13*Foglio2!J258, NA())","v":{"$error":"#N/A"}},{"$f":"IF(Foglio1!$H$13 <> \"\", Foglio1!$H$13 + K258*10^-3, NA())","v":{"$error":"#N/A"}},2269,7.7270944847798413,{"$f":" IF(Foglio1!$C$14 <> \"\", 8.314472*Foglio1!$C$14*Foglio2!N258, NA())","v":{"$error":"#N/A"}},{"$f":"IF(Foglio1!$H$14 <> \"\", Foglio1!$H$14 + O258*10^-3, NA())","v":{"$error":"#N/A"}},2269,7.7270944847798413,{"$f":" IF(Foglio1!$C$15 <> \"\", 8.314472*Foglio1!$C$15*Foglio2!R258, NA())","v":{"$error":"#N/A"}},{"$f":"IF(Foglio1!$H$15 <> \"\", Foglio1!$H$15 + S258*10^-3, NA())","v":{"$error":"#N/A"}}]
[2278,{"$f":"LN(A259)","v":7.7310531440071273},{"$f":" IF(Foglio1!$C$11 <> \"\", 8.314472*Foglio1!$C$11*Foglio2!B259, NA())","v":19283.887468907771},{"$f":"IF(Foglio1!$H$11 <> \"\", Foglio1!$H$11 + C259*10^-3, NA())","v":-70.716112531092222},2278,{"$f":"LN(E259)","v":7.7310531440071273},{"$f":" IF(Foglio1!$C$12 <> \"\", 8.314472*Foglio1!$C$12*Foglio2!F259, NA())","v":{"$error":"#N/A"}},{"$f":"IF(Foglio1!$H$12 <> \"\", Foglio1!$H$12 + G259*10^-3, NA())","v":{"$error":"#N/A"}},2278,{"$f":"LN(I259)","v":7.7310531440071273},{"$f":" IF(Foglio1!$C$13 <> \"\", 8.314472*Foglio1!$C$13*Foglio2!J259, NA())","v":{"$error":"#N/A"}},{"$f":"IF(Foglio1!$H$13 <> \"\", Foglio1!$H$13 + K259*10^-3, NA())","v":{"$error":"#N/A"}},2278,{"$f":"LN(M259)","v":7.7310531440071273},{"$f":" IF(Foglio1!$C$14 <> \"\", 8.314472*Foglio1!$C$14*Foglio2!N259, NA())","v":{"$error":"#N/A"}},{"$f":"IF(Foglio1!$H$14 <> \"\", Foglio1!$H$14 + O259*10^-3, NA())","v":{"$error":"#N/A"}},2278,{"$f":"LN(Q259)","v":7.7310531440071273},{"$f":" IF(Foglio1!$C$15 <> \"\", 8.314472*Foglio1!$C$15*Foglio2!R259, NA())","v":{"$error":"#N/A"}},{"$f":"IF(Foglio1!$H$15 <> \"\", Foglio1!$H$15 + S259*10^-3, NA())","v":{"$error":"#N/A"}}]
[2287,7.7349961940227807,{"$f":" IF(Foglio1!$C$11 <> \"\", 8.314472*Foglio1!$C$11*Foglio2!B260, NA())","v":19293.722782592697},{"$f":"IF(Foglio1!$H$11 <> \"\", Foglio1!$H$11 + C260*10^-3, NA())","v":-70.706277217407305},2287,7.7349961940227807,{"$f":" IF(Foglio1!$C$12 <> \"\", 8.314472*Foglio1!$C$12*Foglio2!F260, NA())","v":{"$error":"#N/A"}},{"$f":"IF(Foglio1!$H$12 <> \"\", Foglio1!$H$12 + G260*10^-3, NA())","v":{"$error":"#N/A"}},2287,7.7349961940227807,{"$f":" IF(Foglio1!$C$13 <> \"\", 8.314472*Foglio1!$C$13*Foglio2!J260, NA())","v":{"$error":"#N/A"}},{"$f":"IF(Foglio1!$H$13 <> \"\", Foglio1!$H$13 + K260*10^-3, NA())","v":{"$error":"#N/A"}},2287,7.7349961940227807,{"$f":" IF(Foglio1!$C$14 <> \"\", 8.314472*Foglio1!$C$14*Foglio2!N260, NA())","v":{"$error":"#N/A"}},{"$f":"IF(Foglio1!$H$14 <> \"\", Foglio1!$H$14 + O260*10^-3, NA())","v":{"$error":"#N/A"}},2287,7.7349961940227807,{"$f":" IF(Foglio1!$C$15 <> \"\", 8.314472*Foglio1!$C$15*Foglio2!R260, NA())","v":{"$error":"#N/A"}},{"$f":"IF(Foglio1!$H$15 <> \"\", Foglio1!$H$15 + S260*10^-3, NA())","v":{"$error":"#N/A"}}]
[2296,7.7389237574394567,{"$f":" IF(Foglio1!$C$11 <> \"\", 8.314472*Foglio1!$C$11*Foglio2!B261, NA())","v":19303.519467409547},{"$f":"IF(Foglio1!$H$11 <> \"\", Foglio1!$H$11 + C261*10^-3, NA())","v":-70.696480532590456},2296,7.7389237574394567,{"$f":" IF(Foglio1!$C$12 <> \"\", 8.314472*Foglio1!$C$12*Foglio2!F261, NA())","v":{"$error":"#N/A"}},{"$f":"IF(Foglio1!$H$12 <> \"\", Foglio1!$H$12 + G261*10^-3, NA())","v":{"$error":"#N/A"}},2296,7.7389237574394567,{"$f":" IF(Foglio1!$C$13 <> \"\", 8.314472*Foglio1!$C$13*Foglio2!J261, NA())","v":{"$error":"#N/A"}},{"$f":"IF(Foglio1!$H$13 <> \"\", Foglio1!$H$13 + K261*10^-3, NA())","v":{"$error":"#N/A"}},2296,7.7389237574394567,{"$f":" IF(Foglio1!$C$14 <> \"\", 8.314472*Foglio1!$C$14*Foglio2!N261, NA())","v":{"$error":"#N/A"}},{"$f":"IF(Foglio1!$H$14 <> \"\", Foglio1!$H$14 + O261*10^-3, NA())","v":{"$error":"#N/A"}},2296,7.7389237574394567,{"$f":" IF(Foglio1!$C$15 <> \"\", 8.314472*Foglio1!$C$15*Foglio2!R261, NA())","v":{"$error":"#N/A"}},{"$f":"IF(Foglio1!$H$15 <> \"\", Foglio1!$H$15 + S261*10^-3, NA())","v":{"$error":"#N/A"}}]
[2305,7.7428359554307491,{"$f":" IF(Foglio1!$C$11 <> \"\", 8.314472*Foglio1!$C$11*Foglio2!B262, NA())","v":19313.277825606667},{"$f":"IF(Foglio1!$H$11 <> \"\", Foglio1!$H$11 + C262*10^-3, NA())","v":-70.686722174393338},2305,7.7428359554307491,{"$f":" IF(Foglio1!$C$12 <> \"\", 8.314472*Foglio1!$C$12*Foglio2!F262, NA())","v":{"$error":"#N/A"}},{"$f":"IF(Foglio1!$H$12 <> \"\", Foglio1!$H$12 + G262*10^-3, NA())","v":{"$error":"#N/A"}},2305,7.7428359554307491,{"$f":" IF(Foglio1!$C$13 <> \"\", 8.314472*Foglio1!$C$13*Foglio2!J262, NA())","v":{"$error":"#N/A"}},{"$f":"IF(Foglio1!$H$13 <> \"\", Foglio1!$H$13 + K262*10^-3, NA())","v":{"$error":"#N/A"}},2305,7.7428359554307491,{"$f":" IF(Foglio1!$C$14 <> \"\", 8.314472*Foglio1!$C$14*Foglio2!N262, NA())","v":{"$error":"#N/A"}},{"$f":"IF(Foglio1!$H$14 <> \"\", Foglio1!$H$14 + O262*10^-3, NA())","v":{"$error":"#N/A"}},2305,7.7428359554307491,{"$f":" IF(Foglio1!$C$15 <> \"\", 8.314472*Foglio1!$C$15*Foglio2!R262, NA())","v":{"$error":"#N/A"}},{"$f":"IF(Foglio1!$H$15 <> \"\", Foglio1!$H$15 + S262*10^-3, NA())","v":{"$error":"#N/A"}}]
[2314,7.7467329077536222,{"$f":" IF(Foglio1!$C$11 <> \"\", 8.314472*Foglio1!$C$11*Foglio2!B263, NA())","v":19322.998155898826},{"$f":"IF(Foglio1!$H$11 <> \"\", Foglio1!$H$11 + C263*10^-3, NA())","v":-70.67700184410117},2314,7.7467329077536222,{"$f":" IF(Foglio1!$C$12 <> \"\", 8.314472*Foglio1!$C$12*Foglio2!F263, NA())","v":{"$error":"#N/A"}},{"$f":"IF(Foglio1!$H$12 <> \"\", Foglio1!$H$12 + G263*10^-3, NA())","v":{"$error":"#N/A"}},2314,7.7467329077536222,{"$f":" IF(Foglio1!$C$13 <> \"\", 8.314472*Foglio1!$C$13*Foglio2!J263, NA())","v":{"$error":"#N/A"}},{"$f":"IF(Foglio1!$H$13 <> \"\", Foglio1!$H$13 + K263*10^-3, NA())","v":{"$error":"#N/A"}},2314,7.7467329077536222,{"$f":" IF(Foglio1!$C$14 <> \"\", 8.314472*Foglio1!$C$14*Foglio2!N263, NA())","v":{"$error":"#N/A"}},{"$f":"IF(Foglio1!$H$14 <> \"\", Foglio1!$H$14 + O263*10^-3, NA())","v":{"$error":"#N/A"}},2314,7.7467329077536222,{"$f":" IF(Foglio1!$C$15 <> \"\", 8.314472*Foglio1!$C$15*Foglio2!R263, NA())","v":{"$error":"#N/A"}},{"$f":"IF(Foglio1!$H$15 <> \"\", Foglio1!$H$15 + S263*10^-3, NA())","v":{"$error":"#N/A"}}]
[2323,7.7506147327704094,{"$f":" IF(Foglio1!$C$11 <> \"\", 8.314472*Foglio1!$C$11*Foglio2!B264, NA())","v":19332.680753522116},{"$f":"IF(Foglio1!$H$11 <> \"\", Foglio1!$H$11 + C264*10^-3, NA())","v":-70.667319246477888},2323,7.7506147327704094,{"$f":" IF(Foglio1!$C$12 <> \"\", 8.314472*Foglio1!$C$12*Foglio2!F264, NA())","v":{"$error":"#N/A"}},{"$f":"IF(Foglio1!$H$12 <> \"\", Foglio1!$H$12 + G264*10^-3, NA())","v":{"$error":"#N/A"}},2323,7.7506147327704094,{"$f":" IF(Foglio1!$C$13 <> \"\", 8.314472*Foglio1!$C$13*Foglio2!J264, NA())","v":{"$error":"#N/A"}},{"$f":"IF(Foglio1!$H$13 <> \"\", Foglio1!$H$13 + K264*10^-3, NA())","v":{"$error":"#N/A"}},2323,7.7506147327704094,{"$f":" IF(Foglio1!$C$14 <> \"\", 8.314472*Foglio1!$C$14*Foglio2!N264, NA())","v":{"$error":"#N/A"}},{"$f":"IF(Foglio1!$H$14 <> \"\", Foglio1!$H$14 + O264*10^-3, NA())","v":{"$error":"#N/A"}},2323,7.7506147327704094,{"$f":" IF(Foglio1!$C$15 <> \"\", 8.314472*Foglio1!$C$15*Foglio2!R264, NA())","v":{"$error":"#N/A"}},{"$f":"IF(Foglio1!$H$15 <> \"\", Foglio1!$H$15 + S264*10^-3, NA())","v":{"$error":"#N/A"}}]
[2332,7.754481547470383,{"$f":" IF(Foglio1!$C$11 <> \"\", 8.314472*Foglio1!$C$11*Foglio2!B265, NA())","v":19342.325910287753},{"$f":"IF(Foglio1!$H$11 <> \"\", Foglio1!$H$11 + C265*10^-3, NA())","v":-70.657674089712245},2332,7.754481547470383,{"$f":" IF(Foglio1!$C$12 <> \"\", 8.314472*Foglio1!$C$12*Foglio2!F265, NA())","v":{"$error":"#N/A"}},{"$f":"IF(Foglio1!$H$12 <> \"\", Foglio1!$H$12 + G265*10^-3, NA())","v":{"$error":"#N/A"}},2332,7.754481547470383,{"$f":" IF(Foglio1!$C$13 <> \"\", 8.314472*Foglio1!$C$13*Foglio2!J265, NA())","v":{"$error":"#N/A"}},{"$f":"IF(Foglio1!$H$13 <> \"\", Foglio1!$H$13 + K265*10^-3, NA())","v":{"$error":"#N/A"}},2332,7.754481547470383,{"$f":" IF(Foglio1!$C$14 <> \"\", 8.314472*Foglio1!$C$14*Foglio2!N265, NA())","v":{"$error":"#N/A"}},{"$f":"IF(Foglio1!$H$14 <> \"\", Foglio1!$H$14 + O265*10^-3, NA())","v":{"$error":"#N/A"}},2332,7.754481547470383,{"$f":" IF(Foglio1!$C$15 <> \"\", 8.314472*Foglio1!$C$15*Foglio2!R265, NA())","v":{"$error":"#N/A"}},{"$f":"IF(Foglio1!$H$15 <> \"\", Foglio1!$H$15 + S265*10^-3, NA())","v":{"$error":"#N/A"}}]
[2341,7.7583334674909104,{"$f":" IF(Foglio1!$C$11 <> \"\", 8.314472*Foglio1!$C$11*Foglio2!B266, NA())","v":19351.933914634828},{"$f":"IF(Foglio1!$H$11 <> \"\", Foglio1!$H$11 + C266*10^-3, NA())","v":-70.648066085365173},2341,7.7583334674909104,{"$f":" IF(Foglio1!$C$12 <> \"\", 8.314472*Foglio1!$C$12*Foglio2!F266, NA())","v":{"$error":"#N/A"}},{"$f":"IF(Foglio1!$H$12 <> \"\", Foglio1!$H$12 + G266*10^-3, NA())","v":{"$error":"#N/A"}},2341,7.7583334674909104,{"$f":" IF(Foglio1!$C$13 <> \"\", 8.314472*Foglio1!$C$13*Foglio2!J266, NA())","v":{"$error":"#N/A"}},{"$f":"IF(Foglio1!$H$13 <> \"\", Foglio1!$H$13 + K266*10^-3, NA())","v":{"$error":"#N/A"}},2341,7.7583334674909104,{"$f":" IF(Foglio1!$C$14 <> \"\", 8.314472*Foglio1!$C$14*Foglio2!N266, NA())","v":{"$error":"#N/A"}},{"$f":"IF(Foglio1!$H$14 <> \"\", Foglio1!$H$14 + O266*10^-3, NA())","v":{"$error":"#N/A"}},2341,7.7583334674909104,{"$f":" IF(Foglio1!$C$15 <> \"\", 8.314472*Foglio1!$C$15*Foglio2!R266, NA())","v":{"$error":"#N/A"}},{"$f":"IF(Foglio1!$H$15 <> \"\", Foglio1!$H$15 + S266*10^-3, NA())","v":{"$error":"#N/A"}}]
[2350,7.7621706071382048,{"$f":" IF(Foglio1!$C$11 <> \"\", 8.314472*Foglio1!$C$11*Foglio2!B267, NA())","v":19361.505051682081},{"$f":"IF(Foglio1!$H$11 <> \"\", Foglio1!$H$11 + C267*10^-3, NA())","v":-70.638494948317913},2350,7.7621706071382048,{"$f":" IF(Foglio1!$C$12 <> \"\", 8.314472*Foglio1!$C$12*Foglio2!F267, NA())","v":{"$error":"#N/A"}},{"$f":"IF(Foglio1!$H$12 <> \"\", Foglio1!$H$12 + G267*10^-3, NA())","v":{"$error":"#N/A"}},2350,7.7621706071382048,{"$f":" IF(Foglio1!$C$13 <> \"\", 8.314472*Foglio1!$C$13*Foglio2!J267, NA())","v":{"$error":"#N/A"}},{"$f":"IF(Foglio1!$H$13 <> \"\", Foglio1!$H$13 + K267*10^-3, NA())","v":{"$error":"#N/A"}},2350,7.7621706071382048,{"$f":" IF(Foglio1!$C$14 <> \"\", 8.314472*Foglio1!$C$14*Foglio2!N267, NA())","v":{"$error":"#N/A"}},{"$f":"IF(Foglio1!$H$14 <> \"\", Foglio1!$H$14 + O267*10^-3, NA())","v":{"$error":"#N/A"}},2350,7.7621706071382048,{"$f":" IF(Foglio1!$C$15 <> \"\", 8.314472*Foglio1!$C$15*Foglio2!R267, NA())","v":{"$error":"#N/A"}},{"$f":"IF(Foglio1!$H$15 <> \"\", Foglio1!$H$15 + S267*10^-3, NA())","v":{"$error":"#N/A"}}]
[2359,7.765993079407675,{"$f":" IF(Foglio1!$C$11 <> \"\", 8.314472*Foglio1!$C$11*Foglio2!B268, NA())","v":19371.03960327867},{"$f":"IF(Foglio1!$H$11 <> \"\", Foglio1!$H$11 + C268*10^-3, NA())","v":-70.628960396721325},2359,7.765993079407675,{"$f":" IF(Foglio1!$C$12 <> \"\", 8.314472*Foglio1!$C$12*Foglio2!F268, NA())","v":{"$error":"#N/A"}},{"$f":"IF(Foglio1!$H$12 <> \"\", Foglio1!$H$12 + G268*10^-3, NA())","v":{"$error":"#N/A"}},2359,7.765993079407675,{"$f":" IF(Foglio1!$C$13 <> \"\", 8.314472*Foglio1!$C$13*Foglio2!J268, NA())","v":{"$error":"#N/A"}},{"$f":"IF(Foglio1!$H$13 <> \"\", Foglio1!$H$13 + K268*10^-3, NA())","v":{"$error":"#N/A"}},2359,7.765993079407675,{"$f":" IF(Foglio1!$C$14 <> \"\", 8.314472*Foglio1!$C$14*Foglio2!N268, NA())","v":{"$error":"#N/A"}},{"$f":"IF(Foglio1!$H$14 <> \"\", Foglio1!$H$14 + O268*10^-3, NA())","v":{"$error":"#N/A"}},2359,7.765993079407675,{"$f":" IF(Foglio1!$C$15 <> \"\", 8.314472*Foglio1!$C$15*Foglio2!R268, NA())","v":{"$error":"#N/A"}},{"$f":"IF(Foglio1!$H$15 <> \"\", Foglio1!$H$15 + S268*10^-3, NA())","v":{"$error":"#N/A"}}]
[2368,7.7698009960038963,{"$f":" IF(Foglio1!$C$11 <> \"\", 8.314472*Foglio1!$C$11*Foglio2!B269, NA())","v":19380.537848053955},{"$f":"IF(Foglio1!$H$11 <> \"\", Foglio1!$H$11 + C269*10^-3, NA())","v":-70.619462151946038},2368,7.7698009960038963,{"$f":" IF(Foglio1!$C$12 <> \"\", 8.314472*Foglio1!$C$12*Foglio2!F269, NA())","v":{"$error":"#N/A"}},{"$f":"IF(Foglio1!$H$12 <> \"\", Foglio1!$H$12 + G269*10^-3, NA())","v":{"$error":"#N/A"}},2368,7.7698009960038963,{"$f":" IF(Foglio1!$C$13 <> \"\", 8.314472*Foglio1!$C$13*Foglio2!J269, NA())","v":{"$error":"#N/A"}},{"$f":"IF(Foglio1!$H$13 <> \"\", Foglio1!$H$13 + K269*10^-3, NA())","v":{"$error":"#N/A"}},2368,7.7698009960038963,{"$f":" IF(Foglio1!$C$14 <> \"\", 8.314472*Foglio1!$C$14*Foglio2!N269, NA())","v":{"$error":"#N/A"}},{"$f":"IF(Foglio1!$H$14 <> \"\", Foglio1!$H$14 + O269*10^-3, NA())","v":{"$error":"#N/A"}},2368,7.7698009960038963,{"$f":" IF(Foglio1!$C$15 <> \"\", 8.314472*Foglio1!$C$15*Foglio2!R269, NA())","v":{"$error":"#N/A"}},{"$f":"IF(Foglio1!$H$15 <> \"\", Foglio1!$H$15 + S269*10^-3, NA())","v":{"$error":"#N/A"}}]
[2377,7.7735944673601942,{"$f":" IF(Foglio1!$C$11 <> \"\", 8.314472*Foglio1!$C$11*Foglio2!B270, NA())","v":19390.000061466377},{"$f":"IF(Foglio1!$H$11 <> \"\", Foglio1!$H$11 + C270*10^-3, NA())","v":-70.609999938533619},2377,7.7735944673601942,{"$f":" IF(Foglio1!$C$12 <> \"\", 8.314472*Foglio1!$C$12*Foglio2!F270, NA())","v":{"$error":"#N/A"}},{"$f":"IF(Foglio1!$H$12 <> \"\", Foglio1!$H$12 + G270*10^-3, NA())","v":{"$error":"#N/A"}},2377,7.7735944673601942,{"$f":" IF(Foglio1!$C$13 <> \"\", 8.314472*Foglio1!$C$13*Foglio2!J270, NA())","v":{"$error":"#N/A"}},{"$f":"IF(Foglio1!$H$13 <> \"\", Foglio1!$H$13 + K270*10^-3, NA())","v":{"$error":"#N/A"}},2377,7.7735944673601942,{"$f":" IF(Foglio1!$C$14 <> \"\", 8.314472*Foglio1!$C$14*Foglio2!N270, NA())","v":{"$error":"#N/A"}},{"$f":"IF(Foglio1!$H$14 <> \"\", Foglio1!$H$14 + O270*10^-3, NA())","v":{"$error":"#N/A"}},2377,7.7735944673601942,{"$f":" IF(Foglio1!$C$15 <> \"\", 8.314472*Foglio1!$C$15*Foglio2!R270, NA())","v":{"$error":"#N/A"}},{"$f":"IF(Foglio1!$H$15 <> \"\", Foglio1!$H$15 + S270*10^-3, NA())","v":{"$error":"#N/A"}}]
[2386,7.7773736026578613,{"$f":" IF(Foglio1!$C$11 <> \"\", 8.314472*Foglio1!$C$11*Foglio2!B271, NA())","v":19399.426515851377},{"$f":"IF(Foglio1!$H$11 <> \"\", Foglio1!$H$11 + C271*10^-3, NA())","v":-70.600573484148626},2386,7.7773736026578613,{"$f":" IF(Foglio1!$C$12 <> \"\", 8.314472*Foglio1!$C$12*Foglio2!F271, NA())","v":{"$error":"#N/A"}},{"$f":"IF(Foglio1!$H$12 <> \"\", Foglio1!$H$12 + G271*10^-3, NA())","v":{"$error":"#N/A"}},2386,7.7773736026578613,{"$f":" IF(Foglio1!$C$13 <> \"\", 8.314472*Foglio1!$C$13*Foglio2!J271, NA())","v":{"$error":"#N/A"}},{"$f":"IF(Foglio1!$H$13 <> \"\", Foglio1!$H$13 + K271*10^-3, NA())","v":{"$error":"#N/A"}},2386,7.7773736026578613,{"$f":" IF(Foglio1!$C$14 <> \"\", 8.314472*Foglio1!$C$14*Foglio2!N271, NA())","v":{"$error":"#N/A"}},{"$f":"IF(Foglio1!$H$14 <> \"\", Foglio1!$H$14 + O271*10^-3, NA())","v":{"$error":"#N/A"}},2386,7.7773736026578613,{"$f":" IF(Foglio1!$C$15 <> \"\", 8.314472*Foglio1!$C$15*Foglio2!R271, NA())","v":{"$error":"#N/A"}},{"$f":"IF(Foglio1!$H$15 <> \"\", Foglio1!$H$15 + S271*10^-3, NA())","v":{"$error":"#N/A"}}]
[2395,7.7811385098450154,{"$f":" IF(Foglio1!$C$11 <> \"\", 8.314472*Foglio1!$C$11*Foglio2!B272, NA())","v":19408.817480468431},{"$f":"IF(Foglio1!$H$11 <> \"\", Foglio1!$H$11 + C272*10^-3, NA())","v":-70.591182519531571},2395,7.7811385098450154,{"$f":" IF(Foglio1!$C$12 <> \"\", 8.314472*Foglio1!$C$12*Foglio2!F272, NA())","v":{"$error":"#N/A"}},{"$f":"IF(Foglio1!$H$12 <> \"\", Foglio1!$H$12 + G272*10^-3, NA())","v":{"$error":"#N/A"}},2395,7.7811385098450154,{"$f":" IF(Foglio1!$C$13 <> \"\", 8.314472*Foglio1!$C$13*Foglio2!J272, NA())","v":{"$error":"#N/A"}},{"$f":"IF(Foglio1!$H$13 <> \"\", Foglio1!$H$13 + K272*10^-3, NA())","v":{"$error":"#N/A"}},2395,7.7811385098450154,{"$f":" IF(Foglio1!$C$14 <> \"\", 8.314472*Foglio1!$C$14*Foglio2!N272, NA())","v":{"$error":"#N/A"}},{"$f":"IF(Foglio1!$H$14 <> \"\", Foglio1!$H$14 + O272*10^-3, NA())","v":{"$error":"#N/A"}},2395,7.7811385098450154,{"$f":" IF(Foglio1!$C$15 <> \"\", 8.314472*Foglio1!$C$15*Foglio2!R272, NA())","v":{"$error":"#N/A"}},{"$f":"IF(Foglio1!$H$15 <> \"\", Foglio1!$H$15 + S272*10^-3, NA())","v":{"$error":"#N/A"}}]
[2404,7.7848892956550984,{"$f":" IF(Foglio1!$C$11 <> \"\", 8.314472*Foglio1!$C$11*Foglio2!B273, NA())","v":19418.173221547211},{"$f":"IF(Foglio1!$H$11 <> \"\", Foglio1!$H$11 + C273*10^-3, NA())","v":-70.581826778452793},2404,7.7848892956550984,{"$f":" IF(Foglio1!$C$12 <> \"\", 8.314472*Foglio1!$C$12*Foglio2!F273, NA())","v":{"$error":"#N/A"}},{"$f":"IF(Foglio1!$H$12 <> \"\", Foglio1!$H$12 + G273*10^-3, NA())","v":{"$error":"#N/A"}},2404,7.7848892956550984,{"$f":" IF(Foglio1!$C$13 <> \"\", 8.314472*Foglio1!$C$13*Foglio2!J273, NA())","v":{"$error":"#N/A"}},{"$f":"IF(Foglio1!$H$13 <> \"\", Foglio1!$H$13 + K273*10^-3, NA())","v":{"$error":"#N/A"}},2404,7.7848892956550984,{"$f":" IF(Foglio1!$C$14 <> \"\", 8.314472*Foglio1!$C$14*Foglio2!N273, NA())","v":{"$error":"#N/A"}},{"$f":"IF(Foglio1!$H$14 <> \"\", Foglio1!$H$14 + O273*10^-3, NA())","v":{"$error":"#N/A"}},2404,7.7848892956550984,{"$f":" IF(Foglio1!$C$15 <> \"\", 8.314472*Foglio1!$C$15*Foglio2!R273, NA())","v":{"$error":"#N/A"}},{"$f":"IF(Foglio1!$H$15 <> \"\", Foglio1!$H$15 + S273*10^-3, NA())","v":{"$error":"#N/A"}}]
[2413,7.7886260656250315,{"$f":" IF(Foglio1!$C$11 <> \"\", 8.314472*Foglio1!$C$11*Foglio2!B274, NA())","v":19427.494002332849},{"$f":"IF(Foglio1!$H$11 <> \"\", Foglio1!$H$11 + C274*10^-3, NA())","v":-70.57250599766715},2413,7.7886260656250315,{"$f":" IF(Foglio1!$C$12 <> \"\", 8.314472*Foglio1!$C$12*Foglio2!F274, NA())","v":{"$error":"#N/A"}},{"$f":"IF(Foglio1!$H$12 <> \"\", Foglio1!$H$12 + G274*10^-3, NA())","v":{"$error":"#N/A"}},2413,7.7886260656250315,{"$f":" IF(Foglio1!$C$13 <> \"\", 8.314472*Foglio1!$C$13*Foglio2!J274, NA())","v":{"$error":"#N/A"}},{"$f":"IF(Foglio1!$H$13 <> \"\", Foglio1!$H$13 + K274*10^-3, NA())","v":{"$error":"#N/A"}},2413,7.7886260656250315,{"$f":" IF(Foglio1!$C$14 <> \"\", 8.314472*Foglio1!$C$14*Foglio2!N274, NA())","v":{"$error":"#N/A"}},{"$f":"IF(Foglio1!$H$14 <> \"\", Foglio1!$H$14 + O274*10^-3, NA())","v":{"$error":"#N/A"}},2413,7.7886260656250315,{"$f":" IF(Foglio1!$C$15 <> \"\", 8.314472*Foglio1!$C$15*Foglio2!R274, NA())","v":{"$error":"#N/A"}},{"$f":"IF(Foglio1!$H$15 <> \"\", Foglio1!$H$15 + S274*10^-3, NA())","v":{"$error":"#N/A"}}]
[2422,7.7923489241130373,{"$f":" IF(Foglio1!$C$11 <> \"\", 8.314472*Foglio1!$C$11*Foglio2!B275, NA())","v":19436.780083130394},{"$f":"IF(Foglio1!$H$11 <> \"\", Foglio1!$H$11 + C275*10^-3, NA())","v":-70.563219916869599},2422,7.7923489241130373,{"$f":" IF(Foglio1!$C$12 <> \"\", 8.314472*Foglio1!$C$12*Foglio2!F275, NA())","v":{"$error":"#N/A"}},{"$f":"IF(Foglio1!$H$12 <> \"\", Foglio1!$H$12 + G275*10^-3, NA())","v":{"$error":"#N/A"}},2422,7.7923489241130373,{"$f":" IF(Foglio1!$C$13 <> \"\", 8.314472*Foglio1!$C$13*Foglio2!J275, NA())","v":{"$error":"#N/A"}},{"$f":"IF(Foglio1!$H$13 <> \"\", Foglio1!$H$13 + K275*10^-3, NA())","v":{"$error":"#N/A"}},2422,7.7923489241130373,{"$f":" IF(Foglio1!$C$14 <> \"\", 8.314472*Foglio1!$C$14*Foglio2!N275, NA())","v":{"$error":"#N/A"}},{"$f":"IF(Foglio1!$H$14 <> \"\", Foglio1!$H$14 + O275*10^-3, NA())","v":{"$error":"#N/A"}},2422,7.7923489241130373,{"$f":" IF(Foglio1!$C$15 <> \"\", 8.314472*Foglio1!$C$15*Foglio2!R275, NA())","v":{"$error":"#N/A"}},{"$f":"IF(Foglio1!$H$15 <> \"\", Foglio1!$H$15 + S275*10^-3, NA())","v":{"$error":"#N/A"}}]
[2431,7.7960579743161231,{"$f":" IF(Foglio1!$C$11 <> \"\", 8.314472*Foglio1!$C$11*Foglio2!B276, NA())","v":19446.031721348438},{"$f":"IF(Foglio1!$H$11 <> \"\", Foglio1!$H$11 + C276*10^-3, NA())","v":-70.553968278651567},2431,7.7960579743161231,{"$f":" IF(Foglio1!$C$12 <> \"\", 8.314472*Foglio1!$C$12*Foglio2!F276, NA())","v":{"$error":"#N/A"}},{"$f":"IF(Foglio1!$H$12 <> \"\", Foglio1!$H$12 + G276*10^-3, NA())","v":{"$error":"#N/A"}},2431,7.7960579743161231,{"$f":" IF(Foglio1!$C$13 <> \"\", 8.314472*Foglio1!$C$13*Foglio2!J276, NA())","v":{"$error":"#N/A"}},{"$f":"IF(Foglio1!$H$13 <> \"\", Foglio1!$H$13 + K276*10^-3, NA())","v":{"$error":"#N/A"}},2431,7.7960579743161231,{"$f":" IF(Foglio1!$C$14 <> \"\", 8.314472*Foglio1!$C$14*Foglio2!N276, NA())","v":{"$error":"#N/A"}},{"$f":"IF(Foglio1!$H$14 <> \"\", Foglio1!$H$14 + O276*10^-3, NA())","v":{"$error":"#N/A"}},2431,7.7960579743161231,{"$f":" IF(Foglio1!$C$15 <> \"\", 8.314472*Foglio1!$C$15*Foglio2!R276, NA())","v":{"$error":"#N/A"}},{"$f":"IF(Foglio1!$H$15 <> \"\", Foglio1!$H$15 + S276*10^-3, NA())","v":{"$error":"#N/A"}}]
[2440,7.7997533182872472,{"$f":" IF(Foglio1!$C$11 <> \"\", 8.314472*Foglio1!$C$11*Foglio2!B277, NA())","v":19455.249171541924},{"$f":"IF(Foglio1!$H$11 <> \"\", Foglio1!$H$11 + C277*10^-3, NA())","v":-70.544750828458078},2440,7.7997533182872472,{"$f":" IF(Foglio1!$C$12 <> \"\", 8.314472*Foglio1!$C$12*Foglio2!F277, NA())","v":{"$error":"#N/A"}},{"$f":"IF(Foglio1!$H$12 <> \"\", Foglio1!$H$12 + G277*10^-3, NA())","v":{"$error":"#N/A"}},2440,7.7997533182872472,{"$f":" IF(Foglio1!$C$13 <> \"\", 8.314472*Foglio1!$C$13*Foglio2!J277, NA())","v":{"$error":"#N/A"}},{"$f":"IF(Foglio1!$H$13 <> \"\", Foglio1!$H$13 + K277*10^-3, NA())","v":{"$error":"#N/A"}},2440,7.7997533182872472,{"$f":" IF(Foglio1!$C$14 <> \"\", 8.314472*Foglio1!$C$14*Foglio2!N277, NA())","v":{"$error":"#N/A"}},{"$f":"IF(Foglio1!$H$14 <> \"\", Foglio1!$H$14 + O277*10^-3, NA())","v":{"$error":"#N/A"}},2440,7.7997533182872472,{"$f":" IF(Foglio1!$C$15 <> \"\", 8.314472*Foglio1!$C$15*Foglio2!R277, NA())","v":{"$error":"#N/A"}},{"$f":"IF(Foglio1!$H$15 <> \"\", Foglio1!$H$15 + S277*10^-3, NA())","v":{"$error":"#N/A"}}]
[2449,7.8034350569521678,{"$f":" IF(Foglio1!$C$11 <> \"\", 8.314472*Foglio1!$C$11*Foglio2!B278, NA())","v":19464.432685454161},{"$f":"IF(Foglio1!$H$11 <> \"\", Foglio1!$H$11 + C278*10^-3, NA())","v":-70.53556731454583},2449,7.8034350569521678,{"$f":" IF(Foglio1!$C$12 <> \"\", 8.314472*Foglio1!$C$12*Foglio2!F278, NA())","v":{"$error":"#N/A"}},{"$f":"IF(Foglio1!$H$12 <> \"\", Foglio1!$H$12 + G278*10^-3, NA())","v":{"$error":"#N/A"}},2449,7.8034350569521678,{"$f":" IF(Foglio1!$C$13 <> \"\", 8.314472*Foglio1!$C$13*Foglio2!J278, NA())","v":{"$error":"#N/A"}},{"$f":"IF(Foglio1!$H$13 <> \"\", Foglio1!$H$13 + K278*10^-3, NA())","v":{"$error":"#N/A"}},2449,7.8034350569521678,{"$f":" IF(Foglio1!$C$14 <> \"\", 8.314472*Foglio1!$C$14*Foglio2!N278, NA())","v":{"$error":"#N/A"}},{"$f":"IF(Foglio1!$H$14 <> \"\", Foglio1!$H$14 + O278*10^-3, NA())","v":{"$error":"#N/A"}},2449,7.8034350569521678,{"$f":" IF(Foglio1!$C$15 <> \"\", 8.314472*Foglio1!$C$15*Foglio2!R278, NA())","v":{"$error":"#N/A"}},{"$f":"IF(Foglio1!$H$15 <> \"\", Foglio1!$H$15 + S278*10^-3, NA())","v":{"$error":"#N/A"}}]
[2458,7.8071032901259798,{"$f":" IF(Foglio1!$C$11 <> \"\", 8.314472*Foglio1!$C$11*Foglio2!B279, NA())","v":19473.582512058103},{"$f":"IF(Foglio1!$H$11 <> \"\", Foglio1!$H$11 + C279*10^-3, NA())","v":-70.526417487941899},2458,7.8071032901259798,{"$f":" IF(Foglio1!$C$12 <> \"\", 8.314472*Foglio1!$C$12*Foglio2!F279, NA())","v":{"$error":"#N/A"}},{"$f":"IF(Foglio1!$H$12 <> \"\", Foglio1!$H$12 + G279*10^-3, NA())","v":{"$error":"#N/A"}},2458,7.8071032901259798,{"$f":" IF(Foglio1!$C$13 <> \"\", 8.314472*Foglio1!$C$13*Foglio2!J279, NA())","v":{"$error":"#N/A"}},{"$f":"IF(Foglio1!$H$13 <> \"\", Foglio1!$H$13 + K279*10^-3, NA())","v":{"$error":"#N/A"}},2458,7.8071032901259798,{"$f":" IF(Foglio1!$C$14 <> \"\", 8.314472*Foglio1!$C$14*Foglio2!N279, NA())","v":{"$error":"#N/A"}},{"$f":"IF(Foglio1!$H$14 <> \"\", Foglio1!$H$14 + O279*10^-3, NA())","v":{"$error":"#N/A"}},2458,7.8071032901259798,{"$f":" IF(Foglio1!$C$15 <> \"\", 8.314472*Foglio1!$C$15*Foglio2!R279, NA())","v":{"$error":"#N/A"}},{"$f":"IF(Foglio1!$H$15 <> \"\", Foglio1!$H$15 + S279*10^-3, NA())","v":{"$error":"#N/A"}}]
[2467,7.8107581165293567,{"$f":" IF(Foglio1!$C$11 <> \"\", 8.314472*Foglio1!$C$11*Foglio2!B280, NA())","v":19482.698897596823},{"$f":"IF(Foglio1!$H$11 <> \"\", Foglio1!$H$11 + C280*10^-3, NA())","v":-70.517301102403181},2467,7.8107581165293567,{"$f":" IF(Foglio1!$C$12 <> \"\", 8.314472*Foglio1!$C$12*Foglio2!F280, NA())","v":{"$error":"#N/A"}},{"$f":"IF(Foglio1!$H$12 <> \"\", Foglio1!$H$12 + G280*10^-3, NA())","v":{"$error":"#N/A"}},2467,7.8107581165293567,{"$f":" IF(Foglio1!$C$13 <> \"\", 8.314472*Foglio1!$C$13*Foglio2!J280, NA())","v":{"$error":"#N/A"}},{"$f":"IF(Foglio1!$H$13 <> \"\", Foglio1!$H$13 + K280*10^-3, NA())","v":{"$error":"#N/A"}},2467,7.8107581165293567,{"$f":" IF(Foglio1!$C$14 <> \"\", 8.314472*Foglio1!$C$14*Foglio2!N280, NA())","v":{"$error":"#N/A"}},{"$f":"IF(Foglio1!$H$14 <> \"\", Foglio1!$H$14 + O280*10^-3, NA())","v":{"$error":"#N/A"}},2467,7.8107581165293567,{"$f":" IF(Foglio1!$C$15 <> \"\", 8.314472*Foglio1!$C$15*Foglio2!R280, NA())","v":{"$error":"#N/A"}},{"$f":"IF(Foglio1!$H$15 <> \"\", Foglio1!$H$15 + S280*10^-3, NA())","v":{"$error":"#N/A"}}]
[2476,7.814399633804487,{"$f":" IF(Foglio1!$C$11 <> \"\", 8.314472*Foglio1!$C$11*Foglio2!B281, NA())","v":19491.782085623301},{"$f":"IF(Foglio1!$H$11 <> \"\", Foglio1!$H$11 + C281*10^-3, NA())","v":-70.508217914376701},2476,7.814399633804487,{"$f":" IF(Foglio1!$C$12 <> \"\", 8.314472*Foglio1!$C$12*Foglio2!F281, NA())","v":{"$error":"#N/A"}},{"$f":"IF(Foglio1!$H$12 <> \"\", Foglio1!$H$12 + G281*10^-3, NA())","v":{"$error":"#N/A"}},2476,7.814399633804487,{"$f":" IF(Foglio1!$C$13 <> \"\", 8.314472*Foglio1!$C$13*Foglio2!J281, NA())","v":{"$error":"#N/A"}},{"$f":"IF(Foglio1!$H$13 <> \"\", Foglio1!$H$13 + K281*10^-3, NA())","v":{"$error":"#N/A"}},2476,7.814399633804487,{"$f":" IF(Foglio1!$C$14 <> \"\", 8.314472*Foglio1!$C$14*Foglio2!N281, NA())","v":{"$error":"#N/A"}},{"$f":"IF(Foglio1!$H$14 <> \"\", Foglio1!$H$14 + O281*10^-3, NA())","v":{"$error":"#N/A"}},2476,7.814399633804487,{"$f":" IF(Foglio1!$C$15 <> \"\", 8.314472*Foglio1!$C$15*Foglio2!R281, NA())","v":{"$error":"#N/A"}},{"$f":"IF(Foglio1!$H$15 <> \"\", Foglio1!$H$15 + S281*10^-3, NA())","v":{"$error":"#N/A"}}]
[2485,7.8180279385307294,{"$f":" IF(Foglio1!$C$11 <> \"\", 8.314472*Foglio1!$C$11*Foglio2!B282, NA())","v":19500.832317039443},{"$f":"IF(Foglio1!$H$11 <> \"\", Foglio1!$H$11 + C282*10^-3, NA())","v":-70.499167682960561},2485,7.8180279385307294,{"$f":" IF(Foglio1!$C$12 <> \"\", 8.314472*Foglio1!$C$12*Foglio2!F282, NA())","v":{"$error":"#N/A"}},{"$f":"IF(Foglio1!$H$12 <> \"\", Foglio1!$H$12 + G282*10^-3, NA())","v":{"$error":"#N/A"}},2485,7.8180279385307294,{"$f":" IF(Foglio1!$C$13 <> \"\", 8.314472*Foglio1!$C$13*Foglio2!J282, NA())","v":{"$error":"#N/A"}},{"$f":"IF(Foglio1!$H$13 <> \"\", Foglio1!$H$13 + K282*10^-3, NA())","v":{"$error":"#N/A"}},2485,7.8180279385307294,{"$f":" IF(Foglio1!$C$14 <> \"\", 8.314472*Foglio1!$C$14*Foglio2!N282, NA())","v":{"$error":"#N/A"}},{"$f":"IF(Foglio1!$H$14 <> \"\", Foglio1!$H$14 + O282*10^-3, NA())","v":{"$error":"#N/A"}},2485,7.8180279385307294,{"$f":" IF(Foglio1!$C$15 <> \"\", 8.314472*Foglio1!$C$15*Foglio2!R282, NA())","v":{"$error":"#N/A"}},{"$f":"IF(Foglio1!$H$15 <> \"\", Foglio1!$H$15 + S282*10^-3, NA())","v":{"$error":"#N/A"}}]
[2494,7.8216431262399819,{"$f":" IF(Foglio1!$C$11 <> \"\", 8.314472*Foglio1!$C$11*Foglio2!B283, NA())","v":19509.849830134441},{"$f":"IF(Foglio1!$H$11 <> \"\", Foglio1!$H$11 + C283*10^-3, NA())","v":-70.490150169865558},2494,7.8216431262399819,{"$f":" IF(Foglio1!$C$12 <> \"\", 8.314472*Foglio1!$C$12*Foglio2!F283, NA())","v":{"$error":"#N/A"}},{"$f":"IF(Foglio1!$H$12 <> \"\", Foglio1!$H$12 + G283*10^-3, NA())","v":{"$error":"#N/A"}},2494,7.8216431262399819,{"$f":" IF(Foglio1!$C$13 <> \"\", 8.314472*Foglio1!$C$13*Foglio2!J283, NA())","v":{"$error":"#N/A"}},{"$f":"IF(Foglio1!$H$13 <> \"\", Foglio1!$H$13 + K283*10^-3, NA())","v":{"$error":"#N/A"}},2494,7.8216431262399819,{"$f":" IF(Foglio1!$C$14 <> \"\", 8.314472*Foglio1!$C$14*Foglio2!N283, NA())","v":{"$error":"#N/A"}},{"$f":"IF(Foglio1!$H$14 <> \"\", Foglio1!$H$14 + O283*10^-3, NA())","v":{"$error":"#N/A"}},2494,7.8216431262399819,{"$f":" IF(Foglio1!$C$15 <> \"\", 8.314472*Foglio1!$C$15*Foglio2!R283, NA())","v":{"$error":"#N/A"}},{"$f":"IF(Foglio1!$H$15 <> \"\", Foglio1!$H$15 + S283*10^-3, NA())","v":{"$error":"#N/A"}}]
[2503,7.8252452914317745,{"$f":" IF(Foglio1!$C$11 <> \"\", 8.314472*Foglio1!$C$11*Foglio2!B284, NA())","v":19518.834860622399},{"$f":"IF(Foglio1!$H$11 <> \"\", Foglio1!$H$11 + C284*10^-3, NA())","v":-70.481165139377595},2503,7.8252452914317745,{"$f":" IF(Foglio1!$C$12 <> \"\", 8.314472*Foglio1!$C$12*Foglio2!F284, NA())","v":{"$error":"#N/A"}},{"$f":"IF(Foglio1!$H$12 <> \"\", Foglio1!$H$12 + G284*10^-3, NA())","v":{"$error":"#N/A"}},2503,7.8252452914317745,{"$f":" IF(Foglio1!$C$13 <> \"\", 8.314472*Foglio1!$C$13*Foglio2!J284, NA())","v":{"$error":"#N/A"}},{"$f":"IF(Foglio1!$H$13 <> \"\", Foglio1!$H$13 + K284*10^-3, NA())","v":{"$error":"#N/A"}},2503,7.8252452914317745,{"$f":" IF(Foglio1!$C$14 <> \"\", 8.314472*Foglio1!$C$14*Foglio2!N284, NA())","v":{"$error":"#N/A"}},{"$f":"IF(Foglio1!$H$14 <> \"\", Foglio1!$H$14 + O284*10^-3, NA())","v":{"$error":"#N/A"}},2503,7.8252452914317745,{"$f":" IF(Foglio1!$C$15 <> \"\", 8.314472*Foglio1!$C$15*Foglio2!R284, NA())","v":{"$error":"#N/A"}},{"$f":"IF(Foglio1!$H$15 <> \"\", Foglio1!$H$15 + S284*10^-3, NA())","v":{"$error":"#N/A"}}]
[2512,7.8288345275880893,{"$f":" IF(Foglio1!$C$11 <> \"\", 8.314472*Foglio1!$C$11*Foglio2!B285, NA())","v":19527.787641679319},{"$f":"IF(Foglio1!$H$11 <> \"\", Foglio1!$H$11 + C285*10^-3, NA())","v":-70.472212358320689},2512,7.8288345275880893,{"$f":" IF(Foglio1!$C$12 <> \"\", 8.314472*Foglio1!$C$12*Foglio2!F285, NA())","v":{"$error":"#N/A"}},{"$f":"IF(Foglio1!$H$12 <> \"\", Foglio1!$H$12 + G285*10^-3, NA())","v":{"$error":"#N/A"}},2512,7.8288345275880893,{"$f":" IF(Foglio1!$C$13 <> \"\", 8.314472*Foglio1!$C$13*Foglio2!J285, NA())","v":{"$error":"#N/A"}},{"$f":"IF(Foglio1!$H$13 <> \"\", Foglio1!$H$13 + K285*10^-3, NA())","v":{"$error":"#N/A"}},2512,7.8288345275880893,{"$f":" IF(Foglio1!$C$14 <> \"\", 8.314472*Foglio1!$C$14*Foglio2!N285, NA())","v":{"$error":"#N/A"}},{"$f":"IF(Foglio1!$H$14 <> \"\", Foglio1!$H$14 + O285*10^-3, NA())","v":{"$error":"#N/A"}},2512,7.8288345275880893,{"$f":" IF(Foglio1!$C$15 <> \"\", 8.314472*Foglio1!$C$15*Foglio2!R285, NA())","v":{"$error":"#N/A"}},{"$f":"IF(Foglio1!$H$15 <> \"\", Foglio1!$H$15 + S285*10^-3, NA())","v":{"$error":"#N/A"}}]
[2521,7.8324109271879196,{"$f":" IF(Foglio1!$C$11 <> \"\", 8.314472*Foglio1!$C$11*Foglio2!B286, NA())","v":19536.708403979399},{"$f":"IF(Foglio1!$H$11 <> \"\", Foglio1!$H$11 + C286*10^-3, NA())","v":-70.463291596020596},2521,7.8324109271879196,{"$f":" IF(Foglio1!$C$12 <> \"\", 8.314472*Foglio1!$C$12*Foglio2!F286, NA())","v":{"$error":"#N/A"}},{"$f":"IF(Foglio1!$H$12 <> \"\", Foglio1!$H$12 + G286*10^-3, NA())","v":{"$error":"#N/A"}},2521,7.8324109271879196,{"$f":" IF(Foglio1!$C$13 <> \"\", 8.314472*Foglio1!$C$13*Foglio2!J286, NA())","v":{"$error":"#N/A"}},{"$f":"IF(Foglio1!$H$13 <> \"\", Foglio1!$H$13 + K286*10^-3, NA())","v":{"$error":"#N/A"}},2521,7.8324109271879196,{"$f":" IF(Foglio1!$C$14 <> \"\", 8.314472*Foglio1!$C$14*Foglio2!N286, NA())","v":{"$error":"#N/A"}},{"$f":"IF(Foglio1!$H$14 <> \"\", Foglio1!$H$14 + O286*10^-3, NA())","v":{"$error":"#N/A"}},2521,7.8324109271879196,{"$f":" IF(Foglio1!$C$15 <> \"\", 8.314472*Foglio1!$C$15*Foglio2!R286, NA())","v":{"$error":"#N/A"}},{"$f":"IF(Foglio1!$H$15 <> \"\", Foglio1!$H$15 + S286*10^-3, NA())","v":{"$error":"#N/A"}}]
[2530,7.8359745817215662,{"$f":" IF(Foglio1!$C$11 <> \"\", 8.314472*Foglio1!$C$11*Foglio2!B287, NA())","v":19545.597375730704},{"$f":"IF(Foglio1!$H$11 <> \"\", Foglio1!$H$11 + C287*10^-3, NA())","v":-70.454402624269292},2530,7.8359745817215662,{"$f":" IF(Foglio1!$C$12 <> \"\", 8.314472*Foglio1!$C$12*Foglio2!F287, NA())","v":{"$error":"#N/A"}},{"$f":"IF(Foglio1!$H$12 <> \"\", Foglio1!$H$12 + G287*10^-3, NA())","v":{"$error":"#N/A"}},2530,7.8359745817215662,{"$f":" IF(Foglio1!$C$13 <> \"\", 8.314472*Foglio1!$C$13*Foglio2!J287, NA())","v":{"$error":"#N/A"}},{"$f":"IF(Foglio1!$H$13 <> \"\", Foglio1!$H$13 + K287*10^-3, NA())","v":{"$error":"#N/A"}},2530,7.8359745817215662,{"$f":" IF(Foglio1!$C$14 <> \"\", 8.314472*Foglio1!$C$14*Foglio2!N287, NA())","v":{"$error":"#N/A"}},{"$f":"IF(Foglio1!$H$14 <> \"\", Foglio1!$H$14 + O287*10^-3, NA())","v":{"$error":"#N/A"}},2530,7.8359745817215662,{"$f":" IF(Foglio1!$C$15 <> \"\", 8.314472*Foglio1!$C$15*Foglio2!R287, NA())","v":{"$error":"#N/A"}},{"$f":"IF(Foglio1!$H$15 <> \"\", Foglio1!$H$15 + S287*10^-3, NA())","v":{"$error":"#N/A"}}]
[2539,7.8395255817046783,{"$f":" IF(Foglio1!$C$11 <> \"\", 8.314472*Foglio1!$C$11*Foglio2!B288, NA())","v":19554.454782710178},{"$f":"IF(Foglio1!$H$11 <> \"\", Foglio1!$H$11 + C288*10^-3, NA())","v":-70.445545217289819},2539,7.8395255817046783,{"$f":" IF(Foglio1!$C$12 <> \"\", 8.314472*Foglio1!$C$12*Foglio2!F288, NA())","v":{"$error":"#N/A"}},{"$f":"IF(Foglio1!$H$12 <> \"\", Foglio1!$H$12 + G288*10^-3, NA())","v":{"$error":"#N/A"}},2539,7.8395255817046783,{"$f":" IF(Foglio1!$C$13 <> \"\", 8.314472*Foglio1!$C$13*Foglio2!J288, NA())","v":{"$error":"#N/A"}},{"$f":"IF(Foglio1!$H$13 <> \"\", Foglio1!$H$13 + K288*10^-3, NA())","v":{"$error":"#N/A"}},2539,7.8395255817046783,{"$f":" IF(Foglio1!$C$14 <> \"\", 8.314472*Foglio1!$C$14*Foglio2!N288, NA())","v":{"$error":"#N/A"}},{"$f":"IF(Foglio1!$H$14 <> \"\", Foglio1!$H$14 + O288*10^-3, NA())","v":{"$error":"#N/A"}},2539,7.8395255817046783,{"$f":" IF(Foglio1!$C$15 <> \"\", 8.314472*Foglio1!$C$15*Foglio2!R288, NA())","v":{"$error":"#N/A"}},{"$f":"IF(Foglio1!$H$15 <> \"\", Foglio1!$H$15 + S288*10^-3, NA())","v":{"$error":"#N/A"}}]
[2548,7.843064016692054,{"$f":" IF(Foglio1!$C$11 <> \"\", 8.314472*Foglio1!$C$11*Foglio2!B289, NA())","v":19563.280848298087},{"$f":"IF(Foglio1!$H$11 <> \"\", Foglio1!$H$11 + C289*10^-3, NA())","v":-70.436719151701908},2548,7.843064016692054,{"$f":" IF(Foglio1!$C$12 <> \"\", 8.314472*Foglio1!$C$12*Foglio2!F289, NA())","v":{"$error":"#N/A"}},{"$f":"IF(Foglio1!$H$12 <> \"\", Foglio1!$H$12 + G289*10^-3, NA())","v":{"$error":"#N/A"}},2548,7.843064016692054,{"$f":" IF(Foglio1!$C$13 <> \"\", 8.314472*Foglio1!$C$13*Foglio2!J289, NA())","v":{"$error":"#N/A"}},{"$f":"IF(Foglio1!$H$13 <> \"\", Foglio1!$H$13 + K289*10^-3, NA())","v":{"$error":"#N/A"}},2548,7.843064016692054,{"$f":" IF(Foglio1!$C$14 <> \"\", 8.314472*Foglio1!$C$14*Foglio2!N289, NA())","v":{"$error":"#N/A"}},{"$f":"IF(Foglio1!$H$14 <> \"\", Foglio1!$H$14 + O289*10^-3, NA())","v":{"$error":"#N/A"}},2548,7.843064016692054,{"$f":" IF(Foglio1!$C$15 <> \"\", 8.314472*Foglio1!$C$15*Foglio2!R289, NA())","v":{"$error":"#N/A"}},{"$f":"IF(Foglio1!$H$15 <> \"\", Foglio1!$H$15 + S289*10^-3, NA())","v":{"$error":"#N/A"}}]
[2557,7.8465899752911863,{"$f":" IF(Foglio1!$C$11 <> \"\", 8.314472*Foglio1!$C$11*Foglio2!B290, NA())","v":19572.07579351178},{"$f":"IF(Foglio1!$H$11 <> \"\", Foglio1!$H$11 + C290*10^-3, NA())","v":-70.427924206488228},2557,7.8465899752911863,{"$f":" IF(Foglio1!$C$12 <> \"\", 8.314472*Foglio1!$C$12*Foglio2!F290, NA())","v":{"$error":"#N/A"}},{"$f":"IF(Foglio1!$H$12 <> \"\", Foglio1!$H$12 + G290*10^-3, NA())","v":{"$error":"#N/A"}},2557,7.8465899752911863,{"$f":" IF(Foglio1!$C$13 <> \"\", 8.314472*Foglio1!$C$13*Foglio2!J290, NA())","v":{"$error":"#N/A"}},{"$f":"IF(Foglio1!$H$13 <> \"\", Foglio1!$H$13 + K290*10^-3, NA())","v":{"$error":"#N/A"}},2557,7.8465899752911863,{"$f":" IF(Foglio1!$C$14 <> \"\", 8.314472*Foglio1!$C$14*Foglio2!N290, NA())","v":{"$error":"#N/A"}},{"$f":"IF(Foglio1!$H$14 <> \"\", Foglio1!$H$14 + O290*10^-3, NA())","v":{"$error":"#N/A"}},2557,7.8465899752911863,{"$f":" IF(Foglio1!$C$15 <> \"\", 8.314472*Foglio1!$C$15*Foglio2!R290, NA())","v":{"$error":"#N/A"}},{"$f":"IF(Foglio1!$H$15 <> \"\", Foglio1!$H$15 + S290*10^-3, NA())","v":{"$error":"#N/A"}}]
[2566,7.8501035451755818,{"$f":" IF(Foglio1!$C$11 <> \"\", 8.314472*Foglio1!$C$11*Foglio2!B291, NA())","v":19580.839837038933},{"$f":"IF(Foglio1!$H$11 <> \"\", Foglio1!$H$11 + C291*10^-3, NA())","v":-70.419160162961063},2566,7.8501035451755818,{"$f":" IF(Foglio1!$C$12 <> \"\", 8.314472*Foglio1!$C$12*Foglio2!F291, NA())","v":{"$error":"#N/A"}},{"$f":"IF(Foglio1!$H$12 <> \"\", Foglio1!$H$12 + G291*10^-3, NA())","v":{"$error":"#N/A"}},2566,7.8501035451755818,{"$f":" IF(Foglio1!$C$13 <> \"\", 8.314472*Foglio1!$C$13*Foglio2!J291, NA())","v":{"$error":"#N/A"}},{"$f":"IF(Foglio1!$H$13 <> \"\", Foglio1!$H$13 + K291*10^-3, NA())","v":{"$error":"#N/A"}},2566,7.8501035451755818,{"$f":" IF(Foglio1!$C$14 <> \"\", 8.314472*Foglio1!$C$14*Foglio2!N291, NA())","v":{"$error":"#N/A"}},{"$f":"IF(Foglio1!$H$14 <> \"\", Foglio1!$H$14 + O291*10^-3, NA())","v":{"$error":"#N/A"}},2566,7.8501035451755818,{"$f":" IF(Foglio1!$C$15 <> \"\", 8.314472*Foglio1!$C$15*Foglio2!R291, NA())","v":{"$error":"#N/A"}},{"$f":"IF(Foglio1!$H$15 <> \"\", Foglio1!$H$15 + S291*10^-3, NA())","v":{"$error":"#N/A"}}]
[2575,7.8536048130978369,{"$f":" IF(Foglio1!$C$11 <> \"\", 8.314472*Foglio1!$C$11*Foglio2!B292, NA())","v":19589.573195270161},{"$f":"IF(Foglio1!$H$11 <> \"\", Foglio1!$H$11 + C292*10^-3, NA())","v":-70.410426804729838},2575,7.8536048130978369,{"$f":" IF(Foglio1!$C$12 <> \"\", 8.314472*Foglio1!$C$12*Foglio2!F292, NA())","v":{"$error":"#N/A"}},{"$f":"IF(Foglio1!$H$12 <> \"\", Foglio1!$H$12 + G292*10^-3, NA())","v":{"$error":"#N/A"}},2575,7.8536048130978369,{"$f":" IF(Foglio1!$C$13 <> \"\", 8.314472*Foglio1!$C$13*Foglio2!J292, NA())","v":{"$error":"#N/A"}},{"$f":"IF(Foglio1!$H$13 <> \"\", Foglio1!$H$13 + K292*10^-3, NA())","v":{"$error":"#N/A"}},2575,7.8536048130978369,{"$f":" IF(Foglio1!$C$14 <> \"\", 8.314472*Foglio1!$C$14*Foglio2!N292, NA())","v":{"$error":"#N/A"}},{"$f":"IF(Foglio1!$H$14 <> \"\", Foglio1!$H$14 + O292*10^-3, NA())","v":{"$error":"#N/A"}},2575,7.8536048130978369,{"$f":" IF(Foglio1!$C$15 <> \"\", 8.314472*Foglio1!$C$15*Foglio2!R292, NA())","v":{"$error":"#N/A"}},{"$f":"IF(Foglio1!$H$15 <> \"\", Foglio1!$H$15 + S292*10^-3, NA())","v":{"$error":"#N/A"}}]
[2584,7.8570938649024926,{"$f":" IF(Foglio1!$C$11 <> \"\", 8.314472*Foglio1!$C$11*Foglio2!B293, NA())","v":19598.276082331067},{"$f":"IF(Foglio1!$H$11 <> \"\", Foglio1!$H$11 + C293*10^-3, NA())","v":-70.401723917668932},2584,7.8570938649024926,{"$f":" IF(Foglio1!$C$12 <> \"\", 8.314472*Foglio1!$C$12*Foglio2!F293, NA())","v":{"$error":"#N/A"}},{"$f":"IF(Foglio1!$H$12 <> \"\", Foglio1!$H$12 + G293*10^-3, NA())","v":{"$error":"#N/A"}},2584,7.8570938649024926,{"$f":" IF(Foglio1!$C$13 <> \"\", 8.314472*Foglio1!$C$13*Foglio2!J293, NA())","v":{"$error":"#N/A"}},{"$f":"IF(Foglio1!$H$13 <> \"\", Foglio1!$H$13 + K293*10^-3, NA())","v":{"$error":"#N/A"}},2584,7.8570938649024926,{"$f":" IF(Foglio1!$C$14 <> \"\", 8.314472*Foglio1!$C$14*Foglio2!N293, NA())","v":{"$error":"#N/A"}},{"$f":"IF(Foglio1!$H$14 <> \"\", Foglio1!$H$14 + O293*10^-3, NA())","v":{"$error":"#N/A"}},2584,7.8570938649024926,{"$f":" IF(Foglio1!$C$15 <> \"\", 8.314472*Foglio1!$C$15*Foglio2!R293, NA())","v":{"$error":"#N/A"}},{"$f":"IF(Foglio1!$H$15 <> \"\", Foglio1!$H$15 + S293*10^-3, NA())","v":{"$error":"#N/A"}}]
[2593,7.8605707855386644,{"$f":" IF(Foglio1!$C$11 <> \"\", 8.314472*Foglio1!$C$11*Foglio2!B294, NA())","v":19606.948710113771},{"$f":"IF(Foglio1!$H$11 <> \"\", Foglio1!$H$11 + C294*10^-3, NA())","v":-70.39305128988623},2593,7.8605707855386644,{"$f":" IF(Foglio1!$C$12 <> \"\", 8.314472*Foglio1!$C$12*Foglio2!F294, NA())","v":{"$error":"#N/A"}},{"$f":"IF(Foglio1!$H$12 <> \"\", Foglio1!$H$12 + G294*10^-3, NA())","v":{"$error":"#N/A"}},2593,7.8605707855386644,{"$f":" IF(Foglio1!$C$13 <> \"\", 8.314472*Foglio1!$C$13*Foglio2!J294, NA())","v":{"$error":"#N/A"}},{"$f":"IF(Foglio1!$H$13 <> \"\", Foglio1!$H$13 + K294*10^-3, NA())","v":{"$error":"#N/A"}},2593,7.8605707855386644,{"$f":" IF(Foglio1!$C$14 <> \"\", 8.314472*Foglio1!$C$14*Foglio2!N294, NA())","v":{"$error":"#N/A"}},{"$f":"IF(Foglio1!$H$14 <> \"\", Foglio1!$H$14 + O294*10^-3, NA())","v":{"$error":"#N/A"}},2593,7.8605707855386644,{"$f":" IF(Foglio1!$C$15 <> \"\", 8.314472*Foglio1!$C$15*Foglio2!R294, NA())","v":{"$error":"#N/A"}},{"$f":"IF(Foglio1!$H$15 <> \"\", Foglio1!$H$15 + S294*10^-3, NA())","v":{"$error":"#N/A"}}]
[2602,7.8640356590724503,{"$f":" IF(Foglio1!$C$11 <> \"\", 8.314472*Foglio1!$C$11*Foglio2!B295, NA())","v":19615.591288307831},{"$f":"IF(Foglio1!$H$11 <> \"\", Foglio1!$H$11 + C295*10^-3, NA())","v":-70.384408711692174},2602,7.8640356590724503,{"$f":" IF(Foglio1!$C$12 <> \"\", 8.314472*Foglio1!$C$12*Foglio2!F295, NA())","v":{"$error":"#N/A"}},{"$f":"IF(Foglio1!$H$12 <> \"\", Foglio1!$H$12 + G295*10^-3, NA())","v":{"$error":"#N/A"}},2602,7.8640356590724503,{"$f":" IF(Foglio1!$C$13 <> \"\", 8.314472*Foglio1!$C$13*Foglio2!J295, NA())","v":{"$error":"#N/A"}},{"$f":"IF(Foglio1!$H$13 <> \"\", Foglio1!$H$13 + K295*10^-3, NA())","v":{"$error":"#N/A"}},2602,7.8640356590724503,{"$f":" IF(Foglio1!$C$14 <> \"\", 8.314472*Foglio1!$C$14*Foglio2!N295, NA())","v":{"$error":"#N/A"}},{"$f":"IF(Foglio1!$H$14 <> \"\", Foglio1!$H$14 + O295*10^-3, NA())","v":{"$error":"#N/A"}},2602,7.8640356590724503,{"$f":" IF(Foglio1!$C$15 <> \"\", 8.314472*Foglio1!$C$15*Foglio2!R295, NA())","v":{"$error":"#N/A"}},{"$f":"IF(Foglio1!$H$15 <> \"\", Foglio1!$H$15 + S295*10^-3, NA())","v":{"$error":"#N/A"}}]
[2611,7.8674885686991285,{"$f":" IF(Foglio1!$C$11 <> \"\", 8.314472*Foglio1!$C$11*Foglio2!B296, NA())","v":19624.204024430695},{"$f":"IF(Foglio1!$H$11 <> \"\", Foglio1!$H$11 + C296*10^-3, NA())","v":-70.375795975569304},2611,7.8674885686991285,{"$f":" IF(Foglio1!$C$12 <> \"\", 8.314472*Foglio1!$C$12*Foglio2!F296, NA())","v":{"$error":"#N/A"}},{"$f":"IF(Foglio1!$H$12 <> \"\", Foglio1!$H$12 + G296*10^-3, NA())","v":{"$error":"#N/A"}},2611,7.8674885686991285,{"$f":" IF(Foglio1!$C$13 <> \"\", 8.314472*Foglio1!$C$13*Foglio2!J296, NA())","v":{"$error":"#N/A"}},{"$f":"IF(Foglio1!$H$13 <> \"\", Foglio1!$H$13 + K296*10^-3, NA())","v":{"$error":"#N/A"}},2611,7.8674885686991285,{"$f":" IF(Foglio1!$C$14 <> \"\", 8.314472*Foglio1!$C$14*Foglio2!N296, NA())","v":{"$error":"#N/A"}},{"$f":"IF(Foglio1!$H$14 <> \"\", Foglio1!$H$14 + O296*10^-3, NA())","v":{"$error":"#N/A"}},2611,7.8674885686991285,{"$f":" IF(Foglio1!$C$15 <> \"\", 8.314472*Foglio1!$C$15*Foglio2!R296, NA())","v":{"$error":"#N/A"}},{"$f":"IF(Foglio1!$H$15 <> \"\", Foglio1!$H$15 + S296*10^-3, NA())","v":{"$error":"#N/A"}}]
[2620,7.8709295967551425,{"$f":" IF(Foglio1!$C$11 <> \"\", 8.314472*Foglio1!$C$11*Foglio2!B297, NA())","v":19632.787123857579},{"$f":"IF(Foglio1!$H$11 <> \"\", Foglio1!$H$11 + C297*10^-3, NA())","v":-70.367212876142418},2620,7.8709295967551425,{"$f":" IF(Foglio1!$C$12 <> \"\", 8.314472*Foglio1!$C$12*Foglio2!F297, NA())","v":{"$error":"#N/A"}},{"$f":"IF(Foglio1!$H$12 <> \"\", Foglio1!$H$12 + G297*10^-3, NA())","v":{"$error":"#N/A"}},2620,7.8709295967551425,{"$f":" IF(Foglio1!$C$13 <> \"\", 8.314472*Foglio1!$C$13*Foglio2!J297, NA())","v":{"$error":"#N/A"}},{"$f":"IF(Foglio1!$H$13 <> \"\", Foglio1!$H$13 + K297*10^-3, NA())","v":{"$error":"#N/A"}},2620,7.8709295967551425,{"$f":" IF(Foglio1!$C$14 <> \"\", 8.314472*Foglio1!$C$14*Foglio2!N297, NA())","v":{"$error":"#N/A"}},{"$f":"IF(Foglio1!$H$14 <> \"\", Foglio1!$H$14 + O297*10^-3, NA())","v":{"$error":"#N/A"}},2620,7.8709295967551425,{"$f":" IF(Foglio1!$C$15 <> \"\", 8.314472*Foglio1!$C$15*Foglio2!R297, NA())","v":{"$error":"#N/A"}},{"$f":"IF(Foglio1!$H$15 <> \"\", Foglio1!$H$15 + S297*10^-3, NA())","v":{"$error":"#N/A"}}]
[2629,7.8743588247298808,{"$f":" IF(Foglio1!$C$11 <> \"\", 8.314472*Foglio1!$C$11*Foglio2!B298, NA())","v":19641.340789850852},{"$f":"IF(Foglio1!$H$11 <> \"\", Foglio1!$H$11 + C298*10^-3, NA())","v":-70.358659210149142},2629,7.8743588247298808,{"$f":" IF(Foglio1!$C$12 <> \"\", 8.314472*Foglio1!$C$12*Foglio2!F298, NA())","v":{"$error":"#N/A"}},{"$f":"IF(Foglio1!$H$12 <> \"\", Foglio1!$H$12 + G298*10^-3, NA())","v":{"$error":"#N/A"}},2629,7.8743588247298808,{"$f":" IF(Foglio1!$C$13 <> \"\", 8.314472*Foglio1!$C$13*Foglio2!J298, NA())","v":{"$error":"#N/A"}},{"$f":"IF(Foglio1!$H$13 <> \"\", Foglio1!$H$13 + K298*10^-3, NA())","v":{"$error":"#N/A"}},2629,7.8743588247298808,{"$f":" IF(Foglio1!$C$14 <> \"\", 8.314472*Foglio1!$C$14*Foglio2!N298, NA())","v":{"$error":"#N/A"}},{"$f":"IF(Foglio1!$H$14 <> \"\", Foglio1!$H$14 + O298*10^-3, NA())","v":{"$error":"#N/A"}},2629,7.8743588247298808,{"$f":" IF(Foglio1!$C$15 <> \"\", 8.314472*Foglio1!$C$15*Foglio2!R298, NA())","v":{"$error":"#N/A"}},{"$f":"IF(Foglio1!$H$15 <> \"\", Foglio1!$H$15 + S298*10^-3, NA())","v":{"$error":"#N/A"}}]
[2638,7.8777763332772599,{"$f":" IF(Foglio1!$C$11 <> \"\", 8.314472*Foglio1!$C$11*Foglio2!B299, NA())","v":19649.865223588935},{"$f":"IF(Foglio1!$H$11 <> \"\", Foglio1!$H$11 + C299*10^-3, NA())","v":-70.350134776411068},2638,7.8777763332772599,{"$f":" IF(Foglio1!$C$12 <> \"\", 8.314472*Foglio1!$C$12*Foglio2!F299, NA())","v":{"$error":"#N/A"}},{"$f":"IF(Foglio1!$H$12 <> \"\", Foglio1!$H$12 + G299*10^-3, NA())","v":{"$error":"#N/A"}},2638,7.8777763332772599,{"$f":" IF(Foglio1!$C$13 <> \"\", 8.314472*Foglio1!$C$13*Foglio2!J299, NA())","v":{"$error":"#N/A"}},{"$f":"IF(Foglio1!$H$13 <> \"\", Foglio1!$H$13 + K299*10^-3, NA())","v":{"$error":"#N/A"}},2638,7.8777763332772599,{"$f":" IF(Foglio1!$C$14 <> \"\", 8.314472*Foglio1!$C$14*Foglio2!N299, NA())","v":{"$error":"#N/A"}},{"$f":"IF(Foglio1!$H$14 <> \"\", Foglio1!$H$14 + O299*10^-3, NA())","v":{"$error":"#N/A"}},2638,7.8777763332772599,{"$f":" IF(Foglio1!$C$15 <> \"\", 8.314472*Foglio1!$C$15*Foglio2!R299, NA())","v":{"$error":"#N/A"}},{"$f":"IF(Foglio1!$H$15 <> \"\", Foglio1!$H$15 + S299*10^-3, NA())","v":{"$error":"#N/A"}}]
[2647,7.8811822022271016,{"$f":" IF(Foglio1!$C$11 <> \"\", 8.314472*Foglio1!$C$11*Foglio2!B300, NA())","v":19658.360624194673},{"$f":"IF(Foglio1!$H$11 <> \"\", Foglio1!$H$11 + C300*10^-3, NA())","v":-70.341639375805329},2647,7.8811822022271016,{"$f":" IF(Foglio1!$C$12 <> \"\", 8.314472*Foglio1!$C$12*Foglio2!F300, NA())","v":{"$error":"#N/A"}},{"$f":"IF(Foglio1!$H$12 <> \"\", Foglio1!$H$12 + G300*10^-3, NA())","v":{"$error":"#N/A"}},2647,7.8811822022271016,{"$f":" IF(Foglio1!$C$13 <> \"\", 8.314472*Foglio1!$C$13*Foglio2!J300, NA())","v":{"$error":"#N/A"}},{"$f":"IF(Foglio1!$H$13 <> \"\", Foglio1!$H$13 + K300*10^-3, NA())","v":{"$error":"#N/A"}},2647,7.8811822022271016,{"$f":" IF(Foglio1!$C$14 <> \"\", 8.314472*Foglio1!$C$14*Foglio2!N300, NA())","v":{"$error":"#N/A"}},{"$f":"IF(Foglio1!$H$14 <> \"\", Foglio1!$H$14 + O300*10^-3, NA())","v":{"$error":"#N/A"}},2647,7.8811822022271016,{"$f":" IF(Foglio1!$C$15 <> \"\", 8.314472*Foglio1!$C$15*Foglio2!R300, NA())","v":{"$error":"#N/A"}},{"$f":"IF(Foglio1!$H$15 <> \"\", Foglio1!$H$15 + S300*10^-3, NA())","v":{"$error":"#N/A"}}]
[2656,7.8845765105963244,{"$f":" IF(Foglio1!$C$11 <> \"\", 8.314472*Foglio1!$C$11*Foglio2!B301, NA())","v":19666.827188763255},{"$f":"IF(Foglio1!$H$11 <> \"\", Foglio1!$H$11 + C301*10^-3, NA())","v":-70.33317281123675},2656,7.8845765105963244,{"$f":" IF(Foglio1!$C$12 <> \"\", 8.314472*Foglio1!$C$12*Foglio2!F301, NA())","v":{"$error":"#N/A"}},{"$f":"IF(Foglio1!$H$12 <> \"\", Foglio1!$H$12 + G301*10^-3, NA())","v":{"$error":"#N/A"}},2656,7.8845765105963244,{"$f":" IF(Foglio1!$C$13 <> \"\", 8.314472*Foglio1!$C$13*Foglio2!J301, NA())","v":{"$error":"#N/A"}},{"$f":"IF(Foglio1!$H$13 <> \"\", Foglio1!$H$13 + K301*10^-3, NA())","v":{"$error":"#N/A"}},2656,7.8845765105963244,{"$f":" IF(Foglio1!$C$14 <> \"\", 8.314472*Foglio1!$C$14*Foglio2!N301, NA())","v":{"$error":"#N/A"}},{"$f":"IF(Foglio1!$H$14 <> \"\", Foglio1!$H$14 + O301*10^-3, NA())","v":{"$error":"#N/A"}},2656,7.8845765105963244,{"$f":" IF(Foglio1!$C$15 <> \"\", 8.314472*Foglio1!$C$15*Foglio2!R301, NA())","v":{"$error":"#N/A"}},{"$f":"IF(Foglio1!$H$15 <> \"\", Foglio1!$H$15 + S301*10^-3, NA())","v":{"$error":"#N/A"}}]
[2665,7.8879593365999447,{"$f":" IF(Foglio1!$C$11 <> \"\", 8.314472*Foglio1!$C$11*Foglio2!B302, NA())","v":19675.265112389647},{"$f":"IF(Foglio1!$H$11 <> \"\", Foglio1!$H$11 + C302*10^-3, NA())","v":-70.324734887610362},2665,7.8879593365999447,{"$f":" IF(Foglio1!$C$12 <> \"\", 8.314472*Foglio1!$C$12*Foglio2!F302, NA())","v":{"$error":"#N/A"}},{"$f":"IF(Foglio1!$H$12 <> \"\", Foglio1!$H$12 + G302*10^-3, NA())","v":{"$error":"#N/A"}},2665,7.8879593365999447,{"$f":" IF(Foglio1!$C$13 <> \"\", 8.314472*Foglio1!$C$13*Foglio2!J302, NA())","v":{"$error":"#N/A"}},{"$f":"IF(Foglio1!$H$13 <> \"\", Foglio1!$H$13 + K302*10^-3, NA())","v":{"$error":"#N/A"}},2665,7.8879593365999447,{"$f":" IF(Foglio1!$C$14 <> \"\", 8.314472*Foglio1!$C$14*Foglio2!N302, NA())","v":{"$error":"#N/A"}},{"$f":"IF(Foglio1!$H$14 <> \"\", Foglio1!$H$14 + O302*10^-3, NA())","v":{"$error":"#N/A"}},2665,7.8879593365999447,{"$f":" IF(Foglio1!$C$15 <> \"\", 8.314472*Foglio1!$C$15*Foglio2!R302, NA())","v":{"$error":"#N/A"}},{"$f":"IF(Foglio1!$H$15 <> \"\", Foglio1!$H$15 + S302*10^-3, NA())","v":{"$error":"#N/A"}}]
[2674,7.8913307576618887,{"$f":" IF(Foglio1!$C$11 <> \"\", 8.314472*Foglio1!$C$11*Foglio2!B303, NA())","v":19683.674588195569},{"$f":"IF(Foglio1!$H$11 <> \"\", Foglio1!$H$11 + C303*10^-3, NA())","v":-70.316325411804428},2674,7.8913307576618887,{"$f":" IF(Foglio1!$C$12 <> \"\", 8.314472*Foglio1!$C$12*Foglio2!F303, NA())","v":{"$error":"#N/A"}},{"$f":"IF(Foglio1!$H$12 <> \"\", Foglio1!$H$12 + G303*10^-3, NA())","v":{"$error":"#N/A"}},2674,7.8913307576618887,{"$f":" IF(Foglio1!$C$13 <> \"\", 8.314472*Foglio1!$C$13*Foglio2!J303, NA())","v":{"$error":"#N/A"}},{"$f":"IF(Foglio1!$H$13 <> \"\", Foglio1!$H$13 + K303*10^-3, NA())","v":{"$error":"#N/A"}},2674,7.8913307576618887,{"$f":" IF(Foglio1!$C$14 <> \"\", 8.314472*Foglio1!$C$14*Foglio2!N303, NA())","v":{"$error":"#N/A"}},{"$f":"IF(Foglio1!$H$14 <> \"\", Foglio1!$H$14 + O303*10^-3, NA())","v":{"$error":"#N/A"}},2674,7.8913307576618887,{"$f":" IF(Foglio1!$C$15 <> \"\", 8.314472*Foglio1!$C$15*Foglio2!R303, NA())","v":{"$error":"#N/A"}},{"$f":"IF(Foglio1!$H$15 <> \"\", Foglio1!$H$15 + S303*10^-3, NA())","v":{"$error":"#N/A"}}]
[2683,7.8946908504256239,{"$f":" IF(Foglio1!$C$11 <> \"\", 8.314472*Foglio1!$C$11*Foglio2!B304, NA())","v":19692.055807356013},{"$f":"IF(Foglio1!$H$11 <> \"\", Foglio1!$H$11 + C304*10^-3, NA())","v":-70.307944192643987},2683,7.8946908504256239,{"$f":" IF(Foglio1!$C$12 <> \"\", 8.314472*Foglio1!$C$12*Foglio2!F304, NA())","v":{"$error":"#N/A"}},{"$f":"IF(Foglio1!$H$12 <> \"\", Foglio1!$H$12 + G304*10^-3, NA())","v":{"$error":"#N/A"}},2683,7.8946908504256239,{"$f":" IF(Foglio1!$C$13 <> \"\", 8.314472*Foglio1!$C$13*Foglio2!J304, NA())","v":{"$error":"#N/A"}},{"$f":"IF(Foglio1!$H$13 <> \"\", Foglio1!$H$13 + K304*10^-3, NA())","v":{"$error":"#N/A"}},2683,7.8946908504256239,{"$f":" IF(Foglio1!$C$14 <> \"\", 8.314472*Foglio1!$C$14*Foglio2!N304, NA())","v":{"$error":"#N/A"}},{"$f":"IF(Foglio1!$H$14 <> \"\", Foglio1!$H$14 + O304*10^-3, NA())","v":{"$error":"#N/A"}},2683,7.8946908504256239,{"$f":" IF(Foglio1!$C$15 <> \"\", 8.314472*Foglio1!$C$15*Foglio2!R304, NA())","v":{"$error":"#N/A"}},{"$f":"IF(Foglio1!$H$15 <> \"\", Foglio1!$H$15 + S304*10^-3, NA())","v":{"$error":"#N/A"}}]
[2692,7.8980396907646186,{"$f":" IF(Foglio1!$C$11 <> \"\", 8.314472*Foglio1!$C$11*Foglio2!B305, NA())","v":19700.408959125325},{"$f":"IF(Foglio1!$H$11 <> \"\", Foglio1!$H$11 + C305*10^-3, NA())","v":-70.299591040874674},2692,7.8980396907646186,{"$f":" IF(Foglio1!$C$12 <> \"\", 8.314472*Foglio1!$C$12*Foglio2!F305, NA())","v":{"$error":"#N/A"}},{"$f":"IF(Foglio1!$H$12 <> \"\", Foglio1!$H$12 + G305*10^-3, NA())","v":{"$error":"#N/A"}},2692,7.8980396907646186,{"$f":" IF(Foglio1!$C$13 <> \"\", 8.314472*Foglio1!$C$13*Foglio2!J305, NA())","v":{"$error":"#N/A"}},{"$f":"IF(Foglio1!$H$13 <> \"\", Foglio1!$H$13 + K305*10^-3, NA())","v":{"$error":"#N/A"}},2692,7.8980396907646186,{"$f":" IF(Foglio1!$C$14 <> \"\", 8.314472*Foglio1!$C$14*Foglio2!N305, NA())","v":{"$error":"#N/A"}},{"$f":"IF(Foglio1!$H$14 <> \"\", Foglio1!$H$14 + O305*10^-3, NA())","v":{"$error":"#N/A"}},2692,7.8980396907646186,{"$f":" IF(Foglio1!$C$15 <> \"\", 8.314472*Foglio1!$C$15*Foglio2!R305, NA())","v":{"$error":"#N/A"}},{"$f":"IF(Foglio1!$H$15 <> \"\", Foglio1!$H$15 + S305*10^-3, NA())","v":{"$error":"#N/A"}}]
[2701,7.9013773537926157,{"$f":" IF(Foglio1!$C$11 <> \"\", 8.314472*Foglio1!$C$11*Foglio2!B306, NA())","v":19708.734230862839},{"$f":"IF(Foglio1!$H$11 <> \"\", Foglio1!$H$11 + C306*10^-3, NA())","v":-70.291265769137155},2701,7.9013773537926157,{"$f":" IF(Foglio1!$C$12 <> \"\", 8.314472*Foglio1!$C$12*Foglio2!F306, NA())","v":{"$error":"#N/A"}},{"$f":"IF(Foglio1!$H$12 <> \"\", Foglio1!$H$12 + G306*10^-3, NA())","v":{"$error":"#N/A"}},2701,7.9013773537926157,{"$f":" IF(Foglio1!$C$13 <> \"\", 8.314472*Foglio1!$C$13*Foglio2!J306, NA())","v":{"$error":"#N/A"}},{"$f":"IF(Foglio1!$H$13 <> \"\", Foglio1!$H$13 + K306*10^-3, NA())","v":{"$error":"#N/A"}},2701,7.9013773537926157,{"$f":" IF(Foglio1!$C$14 <> \"\", 8.314472*Foglio1!$C$14*Foglio2!N306, NA())","v":{"$error":"#N/A"}},{"$f":"IF(Foglio1!$H$14 <> \"\", Foglio1!$H$14 + O306*10^-3, NA())","v":{"$error":"#N/A"}},2701,7.9013773537926157,{"$f":" IF(Foglio1!$C$15 <> \"\", 8.314472*Foglio1!$C$15*Foglio2!R306, NA())","v":{"$error":"#N/A"}},{"$f":"IF(Foglio1!$H$15 <> \"\", Foglio1!$H$15 + S306*10^-3, NA())","v":{"$error":"#N/A"}}]
[2710,7.9047039138737469,{"$f":" IF(Foglio1!$C$11 <> \"\", 8.314472*Foglio1!$C$11*Foglio2!B307, NA())","v":19717.031808058106},{"$f":"IF(Foglio1!$H$11 <> \"\", Foglio1!$H$11 + C307*10^-3, NA())","v":-70.28296819194189},2710,7.9047039138737469,{"$f":" IF(Foglio1!$C$12 <> \"\", 8.314472*Foglio1!$C$12*Foglio2!F307, NA())","v":{"$error":"#N/A"}},{"$f":"IF(Foglio1!$H$12 <> \"\", Foglio1!$H$12 + G307*10^-3, NA())","v":{"$error":"#N/A"}},2710,7.9047039138737469,{"$f":" IF(Foglio1!$C$13 <> \"\", 8.314472*Foglio1!$C$13*Foglio2!J307, NA())","v":{"$error":"#N/A"}},{"$f":"IF(Foglio1!$H$13 <> \"\", Foglio1!$H$13 + K307*10^-3, NA())","v":{"$error":"#N/A"}},2710,7.9047039138737469,{"$f":" IF(Foglio1!$C$14 <> \"\", 8.314472*Foglio1!$C$14*Foglio2!N307, NA())","v":{"$error":"#N/A"}},{"$f":"IF(Foglio1!$H$14 <> \"\", Foglio1!$H$14 + O307*10^-3, NA())","v":{"$error":"#N/A"}},2710,7.9047039138737469,{"$f":" IF(Foglio1!$C$15 <> \"\", 8.314472*Foglio1!$C$15*Foglio2!R307, NA())","v":{"$error":"#N/A"}},{"$f":"IF(Foglio1!$H$15 <> \"\", Foglio1!$H$15 + S307*10^-3, NA())","v":{"$error":"#N/A"}}]
[2719,7.9080194446324708,{"$f":" IF(Foglio1!$C$11 <> \"\", 8.314472*Foglio1!$C$11*Foglio2!B308, NA())","v":19725.301874355671},{"$f":"IF(Foglio1!$H$11 <> \"\", Foglio1!$H$11 + C308*10^-3, NA())","v":-70.274698125644335},2719,7.9080194446324708,{"$f":" IF(Foglio1!$C$12 <> \"\", 8.314472*Foglio1!$C$12*Foglio2!F308, NA())","v":{"$error":"#N/A"}},{"$f":"IF(Foglio1!$H$12 <> \"\", Foglio1!$H$12 + G308*10^-3, NA())","v":{"$error":"#N/A"}},2719,7.9080194446324708,{"$f":" IF(Foglio1!$C$13 <> \"\", 8.314472*Foglio1!$C$13*Foglio2!J308, NA())","v":{"$error":"#N/A"}},{"$f":"IF(Foglio1!$H$13 <> \"\", Foglio1!$H$13 + K308*10^-3, NA())","v":{"$error":"#N/A"}},2719,7.9080194446324708,{"$f":" IF(Foglio1!$C$14 <> \"\", 8.314472*Foglio1!$C$14*Foglio2!N308, NA())","v":{"$error":"#N/A"}},{"$f":"IF(Foglio1!$H$14 <> \"\", Foglio1!$H$14 + O308*10^-3, NA())","v":{"$error":"#N/A"}},2719,7.9080194446324708,{"$f":" IF(Foglio1!$C$15 <> \"\", 8.314472*Foglio1!$C$15*Foglio2!R308, NA())","v":{"$error":"#N/A"}},{"$f":"IF(Foglio1!$H$15 <> \"\", Foglio1!$H$15 + S308*10^-3, NA())","v":{"$error":"#N/A"}}]
[2728,7.9113240189633531,{"$f":" IF(Foglio1!$C$11 <> \"\", 8.314472*Foglio1!$C$11*Foglio2!B309, NA())","v":19733.544611579484},{"$f":"IF(Foglio1!$H$11 <> \"\", Foglio1!$H$11 + C309*10^-3, NA())","v":-70.266455388420511},2728,7.9113240189633531,{"$f":" IF(Foglio1!$C$12 <> \"\", 8.314472*Foglio1!$C$12*Foglio2!F309, NA())","v":{"$error":"#N/A"}},{"$f":"IF(Foglio1!$H$12 <> \"\", Foglio1!$H$12 + G309*10^-3, NA())","v":{"$error":"#N/A"}},2728,7.9113240189633531,{"$f":" IF(Foglio1!$C$13 <> \"\", 8.314472*Foglio1!$C$13*Foglio2!J309, NA())","v":{"$error":"#N/A"}},{"$f":"IF(Foglio1!$H$13 <> \"\", Foglio1!$H$13 + K309*10^-3, NA())","v":{"$error":"#N/A"}},2728,7.9113240189633531,{"$f":" IF(Foglio1!$C$14 <> \"\", 8.314472*Foglio1!$C$14*Foglio2!N309, NA())","v":{"$error":"#N/A"}},{"$f":"IF(Foglio1!$H$14 <> \"\", Foglio1!$H$14 + O309*10^-3, NA())","v":{"$error":"#N/A"}},2728,7.9113240189633531,{"$f":" IF(Foglio1!$C$15 <> \"\", 8.314472*Foglio1!$C$15*Foglio2!R309, NA())","v":{"$error":"#N/A"}},{"$f":"IF(Foglio1!$H$15 <> \"\", Foglio1!$H$15 + S309*10^-3, NA())","v":{"$error":"#N/A"}}]
[2737,7.9146177090406793,{"$f":" IF(Foglio1!$C$11 <> \"\", 8.314472*Foglio1!$C$11*Foglio2!B310, NA())","v":19741.760199756864},{"$f":"IF(Foglio1!$H$11 <> \"\", Foglio1!$H$11 + C310*10^-3, NA())","v":-70.258239800243132},2737,7.9146177090406793,{"$f":" IF(Foglio1!$C$12 <> \"\", 8.314472*Foglio1!$C$12*Foglio2!F310, NA())","v":{"$error":"#N/A"}},{"$f":"IF(Foglio1!$H$12 <> \"\", Foglio1!$H$12 + G310*10^-3, NA())","v":{"$error":"#N/A"}},2737,7.9146177090406793,{"$f":" IF(Foglio1!$C$13 <> \"\", 8.314472*Foglio1!$C$13*Foglio2!J310, NA())","v":{"$error":"#N/A"}},{"$f":"IF(Foglio1!$H$13 <> \"\", Foglio1!$H$13 + K310*10^-3, NA())","v":{"$error":"#N/A"}},2737,7.9146177090406793,{"$f":" IF(Foglio1!$C$14 <> \"\", 8.314472*Foglio1!$C$14*Foglio2!N310, NA())","v":{"$error":"#N/A"}},{"$f":"IF(Foglio1!$H$14 <> \"\", Foglio1!$H$14 + O310*10^-3, NA())","v":{"$error":"#N/A"}},2737,7.9146177090406793,{"$f":" IF(Foglio1!$C$15 <> \"\", 8.314472*Foglio1!$C$15*Foglio2!R310, NA())","v":{"$error":"#N/A"}},{"$f":"IF(Foglio1!$H$15 <> \"\", Foglio1!$H$15 + S310*10^-3, NA())","v":{"$error":"#N/A"}}]
[2746,7.9179005863279164,{"$f":" IF(Foglio1!$C$11 <> \"\", 8.314472*Foglio1!$C$11*Foglio2!B311, NA())","v":19749.948817142114},{"$f":"IF(Foglio1!$H$11 <> \"\", Foglio1!$H$11 + C311*10^-3, NA())","v":-70.250051182857888},2746,7.9179005863279164,{"$f":" IF(Foglio1!$C$12 <> \"\", 8.314472*Foglio1!$C$12*Foglio2!F311, NA())","v":{"$error":"#N/A"}},{"$f":"IF(Foglio1!$H$12 <> \"\", Foglio1!$H$12 + G311*10^-3, NA())","v":{"$error":"#N/A"}},2746,7.9179005863279164,{"$f":" IF(Foglio1!$C$13 <> \"\", 8.314472*Foglio1!$C$13*Foglio2!J311, NA())","v":{"$error":"#N/A"}},{"$f":"IF(Foglio1!$H$13 <> \"\", Foglio1!$H$13 + K311*10^-3, NA())","v":{"$error":"#N/A"}},2746,7.9179005863279164,{"$f":" IF(Foglio1!$C$14 <> \"\", 8.314472*Foglio1!$C$14*Foglio2!N311, NA())","v":{"$error":"#N/A"}},{"$f":"IF(Foglio1!$H$14 <> \"\", Foglio1!$H$14 + O311*10^-3, NA())","v":{"$error":"#N/A"}},2746,7.9179005863279164,{"$f":" IF(Foglio1!$C$15 <> \"\", 8.314472*Foglio1!$C$15*Foglio2!R311, NA())","v":{"$error":"#N/A"}},{"$f":"IF(Foglio1!$H$15 <> \"\", Foglio1!$H$15 + S311*10^-3, NA())","v":{"$error":"#N/A"}}]
[2755,7.9211727215870145,{"$f":" IF(Foglio1!$C$11 <> \"\", 8.314472*Foglio1!$C$11*Foglio2!B312, NA())","v":19758.110640239709},{"$f":"IF(Foglio1!$H$11 <> \"\", Foglio1!$H$11 + C312*10^-3, NA())","v":-70.241889359760293},2755,7.9211727215870145,{"$f":" IF(Foglio1!$C$12 <> \"\", 8.314472*Foglio1!$C$12*Foglio2!F312, NA())","v":{"$error":"#N/A"}},{"$f":"IF(Foglio1!$H$12 <> \"\", Foglio1!$H$12 + G312*10^-3, NA())","v":{"$error":"#N/A"}},2755,7.9211727215870145,{"$f":" IF(Foglio1!$C$13 <> \"\", 8.314472*Foglio1!$C$13*Foglio2!J312, NA())","v":{"$error":"#N/A"}},{"$f":"IF(Foglio1!$H$13 <> \"\", Foglio1!$H$13 + K312*10^-3, NA())","v":{"$error":"#N/A"}},2755,7.9211727215870145,{"$f":" IF(Foglio1!$C$14 <> \"\", 8.314472*Foglio1!$C$14*Foglio2!N312, NA())","v":{"$error":"#N/A"}},{"$f":"IF(Foglio1!$H$14 <> \"\", Foglio1!$H$14 + O312*10^-3, NA())","v":{"$error":"#N/A"}},2755,7.9211727215870145,{"$f":" IF(Foglio1!$C$15 <> \"\", 8.314472*Foglio1!$C$15*Foglio2!R312, NA())","v":{"$error":"#N/A"}},{"$f":"IF(Foglio1!$H$15 <> \"\", Foglio1!$H$15 + S312*10^-3, NA())","v":{"$error":"#N/A"}}]
[2764,7.9244341848875601,{"$f":" IF(Foglio1!$C$11 <> \"\", 8.314472*Foglio1!$C$11*Foglio2!B313, NA())","v":19766.245843827135},{"$f":"IF(Foglio1!$H$11 <> \"\", Foglio1!$H$11 + C313*10^-3, NA())","v":-70.233754156172864},2764,7.9244341848875601,{"$f":" IF(Foglio1!$C$12 <> \"\", 8.314472*Foglio1!$C$12*Foglio2!F313, NA())","v":{"$error":"#N/A"}},{"$f":"IF(Foglio1!$H$12 <> \"\", Foglio1!$H$12 + G313*10^-3, NA())","v":{"$error":"#N/A"}},2764,7.9244341848875601,{"$f":" IF(Foglio1!$C$13 <> \"\", 8.314472*Foglio1!$C$13*Foglio2!J313, NA())","v":{"$error":"#N/A"}},{"$f":"IF(Foglio1!$H$13 <> \"\", Foglio1!$H$13 + K313*10^-3, NA())","v":{"$error":"#N/A"}},2764,7.9244341848875601,{"$f":" IF(Foglio1!$C$14 <> \"\", 8.314472*Foglio1!$C$14*Foglio2!N313, NA())","v":{"$error":"#N/A"}},{"$f":"IF(Foglio1!$H$14 <> \"\", Foglio1!$H$14 + O313*10^-3, NA())","v":{"$error":"#N/A"}},2764,7.9244341848875601,{"$f":" IF(Foglio1!$C$15 <> \"\", 8.314472*Foglio1!$C$15*Foglio2!R313, NA())","v":{"$error":"#N/A"}},{"$f":"IF(Foglio1!$H$15 <> \"\", Foglio1!$H$15 + S313*10^-3, NA())","v":{"$error":"#N/A"}}]
[2773,7.9276850456157781,{"$f":" IF(Foglio1!$C$11 <> \"\", 8.314472*Foglio1!$C$11*Foglio2!B314, NA())","v":19774.354600977334},{"$f":"IF(Foglio1!$H$11 <> \"\", Foglio1!$H$11 + C314*10^-3, NA())","v":-70.225645399022667},2773,7.9276850456157781,{"$f":" IF(Foglio1!$C$12 <> \"\", 8.314472*Foglio1!$C$12*Foglio2!F314, NA())","v":{"$error":"#N/A"}},{"$f":"IF(Foglio1!$H$12 <> \"\", Foglio1!$H$12 + G314*10^-3, NA())","v":{"$error":"#N/A"}},2773,7.9276850456157781,{"$f":" IF(Foglio1!$C$13 <> \"\", 8.314472*Foglio1!$C$13*Foglio2!J314, NA())","v":{"$error":"#N/A"}},{"$f":"IF(Foglio1!$H$13 <> \"\", Foglio1!$H$13 + K314*10^-3, NA())","v":{"$error":"#N/A"}},2773,7.9276850456157781,{"$f":" IF(Foglio1!$C$14 <> \"\", 8.314472*Foglio1!$C$14*Foglio2!N314, NA())","v":{"$error":"#N/A"}},{"$f":"IF(Foglio1!$H$14 <> \"\", Foglio1!$H$14 + O314*10^-3, NA())","v":{"$error":"#N/A"}},2773,7.9276850456157781,{"$f":" IF(Foglio1!$C$15 <> \"\", 8.314472*Foglio1!$C$15*Foglio2!R314, NA())","v":{"$error":"#N/A"}},{"$f":"IF(Foglio1!$H$15 <> \"\", Foglio1!$H$15 + S314*10^-3, NA())","v":{"$error":"#N/A"}}]
[2782,7.9309253724833884,{"$f":" IF(Foglio1!$C$11 <> \"\", 8.314472*Foglio1!$C$11*Foglio2!B315, NA())","v":19782.437083080811},{"$f":"IF(Foglio1!$H$11 <> \"\", Foglio1!$H$11 + C315*10^-3, NA())","v":-70.217562916919192},2782,7.9309253724833884,{"$f":" IF(Foglio1!$C$12 <> \"\", 8.314472*Foglio1!$C$12*Foglio2!F315, NA())","v":{"$error":"#N/A"}},{"$f":"IF(Foglio1!$H$12 <> \"\", Foglio1!$H$12 + G315*10^-3, NA())","v":{"$error":"#N/A"}},2782,7.9309253724833884,{"$f":" IF(Foglio1!$C$13 <> \"\", 8.314472*Foglio1!$C$13*Foglio2!J315, NA())","v":{"$error":"#N/A"}},{"$f":"IF(Foglio1!$H$13 <> \"\", Foglio1!$H$13 + K315*10^-3, NA())","v":{"$error":"#N/A"}},2782,7.9309253724833884,{"$f":" IF(Foglio1!$C$14 <> \"\", 8.314472*Foglio1!$C$14*Foglio2!N315, NA())","v":{"$error":"#N/A"}},{"$f":"IF(Foglio1!$H$14 <> \"\", Foglio1!$H$14 + O315*10^-3, NA())","v":{"$error":"#N/A"}},2782,7.9309253724833884,{"$f":" IF(Foglio1!$C$15 <> \"\", 8.314472*Foglio1!$C$15*Foglio2!R315, NA())","v":{"$error":"#N/A"}},{"$f":"IF(Foglio1!$H$15 <> \"\", Foglio1!$H$15 + S315*10^-3, NA())","v":{"$error":"#N/A"}}]
[2791,7.9341552335363223,{"$f":" IF(Foglio1!$C$11 <> \"\", 8.314472*Foglio1!$C$11*Foglio2!B316, NA())","v":19790.493459867364},{"$f":"IF(Foglio1!$H$11 <> \"\", Foglio1!$H$11 + C316*10^-3, NA())","v":-70.209506540132637},2791,7.9341552335363223,{"$f":" IF(Foglio1!$C$12 <> \"\", 8.314472*Foglio1!$C$12*Foglio2!F316, NA())","v":{"$error":"#N/A"}},{"$f":"IF(Foglio1!$H$12 <> \"\", Foglio1!$H$12 + G316*10^-3, NA())","v":{"$error":"#N/A"}},2791,7.9341552335363223,{"$f":" IF(Foglio1!$C$13 <> \"\", 8.314472*Foglio1!$C$13*Foglio2!J316, NA())","v":{"$error":"#N/A"}},{"$f":"IF(Foglio1!$H$13 <> \"\", Foglio1!$H$13 + K316*10^-3, NA())","v":{"$error":"#N/A"}},2791,7.9341552335363223,{"$f":" IF(Foglio1!$C$14 <> \"\", 8.314472*Foglio1!$C$14*Foglio2!N316, NA())","v":{"$error":"#N/A"}},{"$f":"IF(Foglio1!$H$14 <> \"\", Foglio1!$H$14 + O316*10^-3, NA())","v":{"$error":"#N/A"}},2791,7.9341552335363223,{"$f":" IF(Foglio1!$C$15 <> \"\", 8.314472*Foglio1!$C$15*Foglio2!R316, NA())","v":{"$error":"#N/A"}},{"$f":"IF(Foglio1!$H$15 <> \"\", Foglio1!$H$15 + S316*10^-3, NA())","v":{"$error":"#N/A"}}]
[2800,7.9373746961632952,{"$f":" IF(Foglio1!$C$11 <> \"\", 8.314472*Foglio1!$C$11*Foglio2!B317, NA())","v":19798.52389942747},{"$f":"IF(Foglio1!$H$11 <> \"\", Foglio1!$H$11 + C317*10^-3, NA())","v":-70.201476100572535},2800,7.9373746961632952,{"$f":" IF(Foglio1!$C$12 <> \"\", 8.314472*Foglio1!$C$12*Foglio2!F317, NA())","v":{"$error":"#N/A"}},{"$f":"IF(Foglio1!$H$12 <> \"\", Foglio1!$H$12 + G317*10^-3, NA())","v":{"$error":"#N/A"}},2800,7.9373746961632952,{"$f":" IF(Foglio1!$C$13 <> \"\", 8.314472*Foglio1!$C$13*Foglio2!J317, NA())","v":{"$error":"#N/A"}},{"$f":"IF(Foglio1!$H$13 <> \"\", Foglio1!$H$13 + K317*10^-3, NA())","v":{"$error":"#N/A"}},2800,7.9373746961632952,{"$f":" IF(Foglio1!$C$14 <> \"\", 8.314472*Foglio1!$C$14*Foglio2!N317, NA())","v":{"$error":"#N/A"}},{"$f":"IF(Foglio1!$H$14 <> \"\", Foglio1!$H$14 + O317*10^-3, NA())","v":{"$error":"#N/A"}},2800,7.9373746961632952,{"$f":" IF(Foglio1!$C$15 <> \"\", 8.314472*Foglio1!$C$15*Foglio2!R317, NA())","v":{"$error":"#N/A"}},{"$f":"IF(Foglio1!$H$15 <> \"\", Foglio1!$H$15 + S317*10^-3, NA())","v":{"$error":"#N/A"}}]
[2809,7.9405838271042439,{"$f":" IF(Foglio1!$C$11 <> \"\", 8.314472*Foglio1!$C$11*Foglio2!B318, NA())","v":19806.528568233323},{"$f":"IF(Foglio1!$H$11 <> \"\", Foglio1!$H$11 + C318*10^-3, NA())","v":-70.193471431766682},2809,7.9405838271042439,{"$f":" IF(Foglio1!$C$12 <> \"\", 8.314472*Foglio1!$C$12*Foglio2!F318, NA())","v":{"$error":"#N/A"}},{"$f":"IF(Foglio1!$H$12 <> \"\", Foglio1!$H$12 + G318*10^-3, NA())","v":{"$error":"#N/A"}},2809,7.9405838271042439,{"$f":" IF(Foglio1!$C$13 <> \"\", 8.314472*Foglio1!$C$13*Foglio2!J318, NA())","v":{"$error":"#N/A"}},{"$f":"IF(Foglio1!$H$13 <> \"\", Foglio1!$H$13 + K318*10^-3, NA())","v":{"$error":"#N/A"}},2809,7.9405838271042439,{"$f":" IF(Foglio1!$C$14 <> \"\", 8.314472*Foglio1!$C$14*Foglio2!N318, NA())","v":{"$error":"#N/A"}},{"$f":"IF(Foglio1!$H$14 <> \"\", Foglio1!$H$14 + O318*10^-3, NA())","v":{"$error":"#N/A"}},2809,7.9405838271042439,{"$f":" IF(Foglio1!$C$15 <> \"\", 8.314472*Foglio1!$C$15*Foglio2!R318, NA())","v":{"$error":"#N/A"}},{"$f":"IF(Foglio1!$H$15 <> \"\", Foglio1!$H$15 + S318*10^-3, NA())","v":{"$error":"#N/A"}}]
[2818,7.9437826924586252,{"$f":" IF(Foglio1!$C$11 <> \"\", 8.314472*Foglio1!$C$11*Foglio2!B319, NA())","v":19814.507631159559},{"$f":"IF(Foglio1!$H$11 <> \"\", Foglio1!$H$11 + C319*10^-3, NA())","v":-70.185492368840443},2818,7.9437826924586252,{"$f":" IF(Foglio1!$C$12 <> \"\", 8.314472*Foglio1!$C$12*Foglio2!F319, NA())","v":{"$error":"#N/A"}},{"$f":"IF(Foglio1!$H$12 <> \"\", Foglio1!$H$12 + G319*10^-3, NA())","v":{"$error":"#N/A"}},2818,7.9437826924586252,{"$f":" IF(Foglio1!$C$13 <> \"\", 8.314472*Foglio1!$C$13*Foglio2!J319, NA())","v":{"$error":"#N/A"}},{"$f":"IF(Foglio1!$H$13 <> \"\", Foglio1!$H$13 + K319*10^-3, NA())","v":{"$error":"#N/A"}},2818,7.9437826924586252,{"$f":" IF(Foglio1!$C$14 <> \"\", 8.314472*Foglio1!$C$14*Foglio2!N319, NA())","v":{"$error":"#N/A"}},{"$f":"IF(Foglio1!$H$14 <> \"\", Foglio1!$H$14 + O319*10^-3, NA())","v":{"$error":"#N/A"}},2818,7.9437826924586252,{"$f":" IF(Foglio1!$C$15 <> \"\", 8.314472*Foglio1!$C$15*Foglio2!R319, NA())","v":{"$error":"#N/A"}},{"$f":"IF(Foglio1!$H$15 <> \"\", Foglio1!$H$15 + S319*10^-3, NA())","v":{"$error":"#N/A"}}]
[2827,7.9469713576935908,{"$f":" IF(Foglio1!$C$11 <> \"\", 8.314472*Foglio1!$C$11*Foglio2!B320, NA())","v":19822.461251503606},{"$f":"IF(Foglio1!$H$11 <> \"\", Foglio1!$H$11 + C320*10^-3, NA())","v":-70.177538748496389},2827,7.9469713576935908,{"$f":" IF(Foglio1!$C$12 <> \"\", 8.314472*Foglio1!$C$12*Foglio2!F320, NA())","v":{"$error":"#N/A"}},{"$f":"IF(Foglio1!$H$12 <> \"\", Foglio1!$H$12 + G320*10^-3, NA())","v":{"$error":"#N/A"}},2827,7.9469713576935908,{"$f":" IF(Foglio1!$C$13 <> \"\", 8.314472*Foglio1!$C$13*Foglio2!J320, NA())","v":{"$error":"#N/A"}},{"$f":"IF(Foglio1!$H$13 <> \"\", Foglio1!$H$13 + K320*10^-3, NA())","v":{"$error":"#N/A"}},2827,7.9469713576935908,{"$f":" IF(Foglio1!$C$14 <> \"\", 8.314472*Foglio1!$C$14*Foglio2!N320, NA())","v":{"$error":"#N/A"}},{"$f":"IF(Foglio1!$H$14 <> \"\", Foglio1!$H$14 + O320*10^-3, NA())","v":{"$error":"#N/A"}},2827,7.9469713576935908,{"$f":" IF(Foglio1!$C$15 <> \"\", 8.314472*Foglio1!$C$15*Foglio2!R320, NA())","v":{"$error":"#N/A"}},{"$f":"IF(Foglio1!$H$15 <> \"\", Foglio1!$H$15 + S320*10^-3, NA())","v":{"$error":"#N/A"}}]
[2836,7.9501498876520182,{"$f":" IF(Foglio1!$C$11 <> \"\", 8.314472*Foglio1!$C$11*Foglio2!B321, NA())","v":19830.389591005758},{"$f":"IF(Foglio1!$H$11 <> \"\", Foglio1!$H$11 + C321*10^-3, NA())","v":-70.169610408994245},2836,7.9501498876520182,{"$f":" IF(Foglio1!$C$12 <> \"\", 8.314472*Foglio1!$C$12*Foglio2!F321, NA())","v":{"$error":"#N/A"}},{"$f":"IF(Foglio1!$H$12 <> \"\", Foglio1!$H$12 + G321*10^-3, NA())","v":{"$error":"#N/A"}},2836,7.9501498876520182,{"$f":" IF(Foglio1!$C$13 <> \"\", 8.314472*Foglio1!$C$13*Foglio2!J321, NA())","v":{"$error":"#N/A"}},{"$f":"IF(Foglio1!$H$13 <> \"\", Foglio1!$H$13 + K321*10^-3, NA())","v":{"$error":"#N/A"}},2836,7.9501498876520182,{"$f":" IF(Foglio1!$C$14 <> \"\", 8.314472*Foglio1!$C$14*Foglio2!N321, NA())","v":{"$error":"#N/A"}},{"$f":"IF(Foglio1!$H$14 <> \"\", Foglio1!$H$14 + O321*10^-3, NA())","v":{"$error":"#N/A"}},2836,7.9501498876520182,{"$f":" IF(Foglio1!$C$15 <> \"\", 8.314472*Foglio1!$C$15*Foglio2!R321, NA())","v":{"$error":"#N/A"}},{"$f":"IF(Foglio1!$H$15 <> \"\", Foglio1!$H$15 + S321*10^-3, NA())","v":{"$error":"#N/A"}}]
[2845,7.9533183465604314,{"$f":" IF(Foglio1!$C$11 <> \"\", 8.314472*Foglio1!$C$11*Foglio2!B322, NA())","v":19838.292809868901},{"$f":"IF(Foglio1!$H$11 <> \"\", Foglio1!$H$11 + C322*10^-3, NA())","v":-70.161707190131096},2845,7.9533183465604314,{"$f":" IF(Foglio1!$C$12 <> \"\", 8.314472*Foglio1!$C$12*Foglio2!F322, NA())","v":{"$error":"#N/A"}},{"$f":"IF(Foglio1!$H$12 <> \"\", Foglio1!$H$12 + G322*10^-3, NA())","v":{"$error":"#N/A"}},2845,7.9533183465604314,{"$f":" IF(Foglio1!$C$13 <> \"\", 8.314472*Foglio1!$C$13*Foglio2!J322, NA())","v":{"$error":"#N/A"}},{"$f":"IF(Foglio1!$H$13 <> \"\", Foglio1!$H$13 + K322*10^-3, NA())","v":{"$error":"#N/A"}},2845,7.9533183465604314,{"$f":" IF(Foglio1!$C$14 <> \"\", 8.314472*Foglio1!$C$14*Foglio2!N322, NA())","v":{"$error":"#N/A"}},{"$f":"IF(Foglio1!$H$14 <> \"\", Foglio1!$H$14 + O322*10^-3, NA())","v":{"$error":"#N/A"}},2845,7.9533183465604314,{"$f":" IF(Foglio1!$C$15 <> \"\", 8.314472*Foglio1!$C$15*Foglio2!R322, NA())","v":{"$error":"#N/A"}},{"$f":"IF(Foglio1!$H$15 <> \"\", Foglio1!$H$15 + S322*10^-3, NA())","v":{"$error":"#N/A"}}]
[2854,{"$f":"LN(A323)","v":7.9564767980367819},{"$f":" IF(Foglio1!$C$11 <> \"\", 8.314472*Foglio1!$C$11*Foglio2!B323, NA())","v":19846.171066777944},{"$f":"IF(Foglio1!$H$11 <> \"\", Foglio1!$H$11 + C323*10^-3, NA())","v":-70.153828933222059},2854,{"$f":"LN(E323)","v":7.9564767980367819},{"$f":" IF(Foglio1!$C$12 <> \"\", 8.314472*Foglio1!$C$12*Foglio2!F323, NA())","v":{"$error":"#N/A"}},{"$f":"IF(Foglio1!$H$12 <> \"\", Foglio1!$H$12 + G323*10^-3, NA())","v":{"$error":"#N/A"}},2854,{"$f":"LN(I323)","v":7.9564767980367819},{"$f":" IF(Foglio1!$C$13 <> \"\", 8.314472*Foglio1!$C$13*Foglio2!J323, NA())","v":{"$error":"#N/A"}},{"$f":"IF(Foglio1!$H$13 <> \"\", Foglio1!$H$13 + K323*10^-3, NA())","v":{"$error":"#N/A"}},2854,{"$f":"LN(M323)","v":7.9564767980367819},{"$f":" IF(Foglio1!$C$14 <> \"\", 8.314472*Foglio1!$C$14*Foglio2!N323, NA())","v":{"$error":"#N/A"}},{"$f":"IF(Foglio1!$H$14 <> \"\", Foglio1!$H$14 + O323*10^-3, NA())","v":{"$error":"#N/A"}},2854,{"$f":"LN(Q323)","v":7.9564767980367819},{"$f":" IF(Foglio1!$C$15 <> \"\", 8.314472*Foglio1!$C$15*Foglio2!R323, NA())","v":{"$error":"#N/A"}},{"$f":"IF(Foglio1!$H$15 <> \"\", Foglio1!$H$15 + S323*10^-3, NA())","v":{"$error":"#N/A"}}]
[2863,7.9596253050981147,{"$f":" IF(Foglio1!$C$11 <> \"\", 8.314472*Foglio1!$C$11*Foglio2!B324, NA())","v":19854.024518918923},{"$f":"IF(Foglio1!$H$11 <> \"\", Foglio1!$H$11 + C324*10^-3, NA())","v":-70.145975481081081},2863,7.9596253050981147,{"$f":" IF(Foglio1!$C$12 <> \"\", 8.314472*Foglio1!$C$12*Foglio2!F324, NA())","v":{"$error":"#N/A"}},{"$f":"IF(Foglio1!$H$12 <> \"\", Foglio1!$H$12 + G324*10^-3, NA())","v":{"$error":"#N/A"}},2863,7.9596253050981147,{"$f":" IF(Foglio1!$C$13 <> \"\", 8.314472*Foglio1!$C$13*Foglio2!J324, NA())","v":{"$error":"#N/A"}},{"$f":"IF(Foglio1!$H$13 <> \"\", Foglio1!$H$13 + K324*10^-3, NA())","v":{"$error":"#N/A"}},2863,7.9596253050981147,{"$f":" IF(Foglio1!$C$14 <> \"\", 8.314472*Foglio1!$C$14*Foglio2!N324, NA())","v":{"$error":"#N/A"}},{"$f":"IF(Foglio1!$H$14 <> \"\", Foglio1!$H$14 + O324*10^-3, NA())","v":{"$error":"#N/A"}},2863,7.9596253050981147,{"$f":" IF(Foglio1!$C$15 <> \"\", 8.314472*Foglio1!$C$15*Foglio2!R324, NA())","v":{"$error":"#N/A"}},{"$f":"IF(Foglio1!$H$15 <> \"\", Foglio1!$H$15 + S324*10^-3, NA())","v":{"$error":"#N/A"}}]
[2872,7.9627639301681148,{"$f":" IF(Foglio1!$C$11 <> \"\", 8.314472*Foglio1!$C$11*Foglio2!B325, NA())","v":19861.853321997824},{"$f":"IF(Foglio1!$H$11 <> \"\", Foglio1!$H$11 + C325*10^-3, NA())","v":-70.138146678002173},2872,7.9627639301681148,{"$f":" IF(Foglio1!$C$12 <> \"\", 8.314472*Foglio1!$C$12*Foglio2!F325, NA())","v":{"$error":"#N/A"}},{"$f":"IF(Foglio1!$H$12 <> \"\", Foglio1!$H$12 + G325*10^-3, NA())","v":{"$error":"#N/A"}},2872,7.9627639301681148,{"$f":" IF(Foglio1!$C$13 <> \"\", 8.314472*Foglio1!$C$13*Foglio2!J325, NA())","v":{"$error":"#N/A"}},{"$f":"IF(Foglio1!$H$13 <> \"\", Foglio1!$H$13 + K325*10^-3, NA())","v":{"$error":"#N/A"}},2872,7.9627639301681148,{"$f":" IF(Foglio1!$C$14 <> \"\", 8.314472*Foglio1!$C$14*Foglio2!N325, NA())","v":{"$error":"#N/A"}},{"$f":"IF(Foglio1!$H$14 <> \"\", Foglio1!$H$14 + O325*10^-3, NA())","v":{"$error":"#N/A"}},2872,7.9627639301681148,{"$f":" IF(Foglio1!$C$15 <> \"\", 8.314472*Foglio1!$C$15*Foglio2!R325, NA())","v":{"$error":"#N/A"}},{"$f":"IF(Foglio1!$H$15 <> \"\", Foglio1!$H$15 + S325*10^-3, NA())","v":{"$error":"#N/A"}}]
[2881,7.9658927350845286,{"$f":" IF(Foglio1!$C$11 <> \"\", 8.314472*Foglio1!$C$11*Foglio2!B326, NA())","v":19869.65763025912},{"$f":"IF(Foglio1!$H$11 <> \"\", Foglio1!$H$11 + C326*10^-3, NA())","v":-70.130342369740873},2881,7.9658927350845286,{"$f":" IF(Foglio1!$C$12 <> \"\", 8.314472*Foglio1!$C$12*Foglio2!F326, NA())","v":{"$error":"#N/A"}},{"$f":"IF(Foglio1!$H$12 <> \"\", Foglio1!$H$12 + G326*10^-3, NA())","v":{"$error":"#N/A"}},2881,7.9658927350845286,{"$f":" IF(Foglio1!$C$13 <> \"\", 8.314472*Foglio1!$C$13*Foglio2!J326, NA())","v":{"$error":"#N/A"}},{"$f":"IF(Foglio1!$H$13 <> \"\", Foglio1!$H$13 + K326*10^-3, NA())","v":{"$error":"#N/A"}},2881,7.9658927350845286,{"$f":" IF(Foglio1!$C$14 <> \"\", 8.314472*Foglio1!$C$14*Foglio2!N326, NA())","v":{"$error":"#N/A"}},{"$f":"IF(Foglio1!$H$14 <> \"\", Foglio1!$H$14 + O326*10^-3, NA())","v":{"$error":"#N/A"}},2881,7.9658927350845286,{"$f":" IF(Foglio1!$C$15 <> \"\", 8.314472*Foglio1!$C$15*Foglio2!R326, NA())","v":{"$error":"#N/A"}},{"$f":"IF(Foglio1!$H$15 <> \"\", Foglio1!$H$15 + S326*10^-3, NA())","v":{"$error":"#N/A"}}]
[2890,7.9690117811064782,{"$f":" IF(Foglio1!$C$11 <> \"\", 8.314472*Foglio1!$C$11*Foglio2!B327, NA())","v":19877.437596503984},{"$f":"IF(Foglio1!$H$11 <> \"\", Foglio1!$H$11 + C327*10^-3, NA())","v":-70.122562403496019},2890,7.9690117811064782,{"$f":" IF(Foglio1!$C$12 <> \"\", 8.314472*Foglio1!$C$12*Foglio2!F327, NA())","v":{"$error":"#N/A"}},{"$f":"IF(Foglio1!$H$12 <> \"\", Foglio1!$H$12 + G327*10^-3, NA())","v":{"$error":"#N/A"}},2890,7.9690117811064782,{"$f":" IF(Foglio1!$C$13 <> \"\", 8.314472*Foglio1!$C$13*Foglio2!J327, NA())","v":{"$error":"#N/A"}},{"$f":"IF(Foglio1!$H$13 <> \"\", Foglio1!$H$13 + K327*10^-3, NA())","v":{"$error":"#N/A"}},2890,7.9690117811064782,{"$f":" IF(Foglio1!$C$14 <> \"\", 8.314472*Foglio1!$C$14*Foglio2!N327, NA())","v":{"$error":"#N/A"}},{"$f":"IF(Foglio1!$H$14 <> \"\", Foglio1!$H$14 + O327*10^-3, NA())","v":{"$error":"#N/A"}},2890,7.9690117811064782,{"$f":" IF(Foglio1!$C$15 <> \"\", 8.314472*Foglio1!$C$15*Foglio2!R327, NA())","v":{"$error":"#N/A"}},{"$f":"IF(Foglio1!$H$15 <> \"\", Foglio1!$H$15 + S327*10^-3, NA())","v":{"$error":"#N/A"}}]
[2899,7.9721211289216551,{"$f":" IF(Foglio1!$C$11 <> \"\", 8.314472*Foglio1!$C$11*Foglio2!B328, NA())","v":19885.19337210825},{"$f":"IF(Foglio1!$H$11 <> \"\", Foglio1!$H$11 + C328*10^-3, NA())","v":-70.114806627891753},2899,7.9721211289216551,{"$f":" IF(Foglio1!$C$12 <> \"\", 8.314472*Foglio1!$C$12*Foglio2!F328, NA())","v":{"$error":"#N/A"}},{"$f":"IF(Foglio1!$H$12 <> \"\", Foglio1!$H$12 + G328*10^-3, NA())","v":{"$error":"#N/A"}},2899,7.9721211289216551,{"$f":" IF(Foglio1!$C$13 <> \"\", 8.314472*Foglio1!$C$13*Foglio2!J328, NA())","v":{"$error":"#N/A"}},{"$f":"IF(Foglio1!$H$13 <> \"\", Foglio1!$H$13 + K328*10^-3, NA())","v":{"$error":"#N/A"}},2899,7.9721211289216551,{"$f":" IF(Foglio1!$C$14 <> \"\", 8.314472*Foglio1!$C$14*Foglio2!N328, NA())","v":{"$error":"#N/A"}},{"$f":"IF(Foglio1!$H$14 <> \"\", Foglio1!$H$14 + O328*10^-3, NA())","v":{"$error":"#N/A"}},2899,7.9721211289216551,{"$f":" IF(Foglio1!$C$15 <> \"\", 8.314472*Foglio1!$C$15*Foglio2!R328, NA())","v":{"$error":"#N/A"}},{"$f":"IF(Foglio1!$H$15 <> \"\", Foglio1!$H$15 + S328*10^-3, NA())","v":{"$error":"#N/A"}}]
[2908,7.97522083865341,{"$f":" IF(Foglio1!$C$11 <> \"\", 8.314472*Foglio1!$C$11*Foglio2!B329, NA())","v":19892.92510704009},{"$f":"IF(Foglio1!$H$11 <> \"\", Foglio1!$H$11 + C329*10^-3, NA())","v":-70.107074892959915},2908,7.97522083865341,{"$f":" IF(Foglio1!$C$12 <> \"\", 8.314472*Foglio1!$C$12*Foglio2!F329, NA())","v":{"$error":"#N/A"}},{"$f":"IF(Foglio1!$H$12 <> \"\", Foglio1!$H$12 + G329*10^-3, NA())","v":{"$error":"#N/A"}},2908,7.97522083865341,{"$f":" IF(Foglio1!$C$13 <> \"\", 8.314472*Foglio1!$C$13*Foglio2!J329, NA())","v":{"$error":"#N/A"}},{"$f":"IF(Foglio1!$H$13 <> \"\", Foglio1!$H$13 + K329*10^-3, NA())","v":{"$error":"#N/A"}},2908,7.97522083865341,{"$f":" IF(Foglio1!$C$14 <> \"\", 8.314472*Foglio1!$C$14*Foglio2!N329, NA())","v":{"$error":"#N/A"}},{"$f":"IF(Foglio1!$H$14 <> \"\", Foglio1!$H$14 + O329*10^-3, NA())","v":{"$error":"#N/A"}},2908,7.97522083865341,{"$f":" IF(Foglio1!$C$15 <> \"\", 8.314472*Foglio1!$C$15*Foglio2!R329, NA())","v":{"$error":"#N/A"}},{"$f":"IF(Foglio1!$H$15 <> \"\", Foglio1!$H$15 + S329*10^-3, NA())","v":{"$error":"#N/A"}}]
[2917,7.9783109698677217,{"$f":" IF(Foglio1!$C$11 <> \"\", 8.314472*Foglio1!$C$11*Foglio2!B330, NA())","v":19900.632949877407},{"$f":"IF(Foglio1!$H$11 <> \"\", Foglio1!$H$11 + C330*10^-3, NA())","v":-70.099367050122595},2917,7.9783109698677217,{"$f":" IF(Foglio1!$C$12 <> \"\", 8.314472*Foglio1!$C$12*Foglio2!F330, NA())","v":{"$error":"#N/A"}},{"$f":"IF(Foglio1!$H$12 <> \"\", Foglio1!$H$12 + G330*10^-3, NA())","v":{"$error":"#N/A"}},2917,7.9783109698677217,{"$f":" IF(Foglio1!$C$13 <> \"\", 8.314472*Foglio1!$C$13*Foglio2!J330, NA())","v":{"$error":"#N/A"}},{"$f":"IF(Foglio1!$H$13 <> \"\", Foglio1!$H$13 + K330*10^-3, NA())","v":{"$error":"#N/A"}},2917,7.9783109698677217,{"$f":" IF(Foglio1!$C$14 <> \"\", 8.314472*Foglio1!$C$14*Foglio2!N330, NA())","v":{"$error":"#N/A"}},{"$f":"IF(Foglio1!$H$14 <> \"\", Foglio1!$H$14 + O330*10^-3, NA())","v":{"$error":"#N/A"}},2917,7.9783109698677217,{"$f":" IF(Foglio1!$C$15 <> \"\", 8.314472*Foglio1!$C$15*Foglio2!R330, NA())","v":{"$error":"#N/A"}},{"$f":"IF(Foglio1!$H$15 <> \"\", Foglio1!$H$15 + S330*10^-3, NA())","v":{"$error":"#N/A"}}]
[2926,7.9813915815800698,{"$f":" IF(Foglio1!$C$11 <> \"\", 8.314472*Foglio1!$C$11*Foglio2!B331, NA())","v":19908.317047824963},{"$f":"IF(Foglio1!$H$11 <> \"\", Foglio1!$H$11 + C331*10^-3, NA())","v":-70.091682952175034},2926,7.9813915815800698,{"$f":" IF(Foglio1!$C$12 <> \"\", 8.314472*Foglio1!$C$12*Foglio2!F331, NA())","v":{"$error":"#N/A"}},{"$f":"IF(Foglio1!$H$12 <> \"\", Foglio1!$H$12 + G331*10^-3, NA())","v":{"$error":"#N/A"}},2926,7.9813915815800698,{"$f":" IF(Foglio1!$C$13 <> \"\", 8.314472*Foglio1!$C$13*Foglio2!J331, NA())","v":{"$error":"#N/A"}},{"$f":"IF(Foglio1!$H$13 <> \"\", Foglio1!$H$13 + K331*10^-3, NA())","v":{"$error":"#N/A"}},2926,7.9813915815800698,{"$f":" IF(Foglio1!$C$14 <> \"\", 8.314472*Foglio1!$C$14*Foglio2!N331, NA())","v":{"$error":"#N/A"}},{"$f":"IF(Foglio1!$H$14 <> \"\", Foglio1!$H$14 + O331*10^-3, NA())","v":{"$error":"#N/A"}},2926,7.9813915815800698,{"$f":" IF(Foglio1!$C$15 <> \"\", 8.314472*Foglio1!$C$15*Foglio2!R331, NA())","v":{"$error":"#N/A"}},{"$f":"IF(Foglio1!$H$15 <> \"\", Foglio1!$H$15 + S331*10^-3, NA())","v":{"$error":"#N/A"}}]
[2935,7.9844627322621964,{"$f":" IF(Foglio1!$C$11 <> \"\", 8.314472*Foglio1!$C$11*Foglio2!B332, NA())","v":19915.977546731261},{"$f":"IF(Foglio1!$H$11 <> \"\", Foglio1!$H$11 + C332*10^-3, NA())","v":-70.084022453268744},2935,7.9844627322621964,{"$f":" IF(Foglio1!$C$12 <> \"\", 8.314472*Foglio1!$C$12*Foglio2!F332, NA())","v":{"$error":"#N/A"}},{"$f":"IF(Foglio1!$H$12 <> \"\", Foglio1!$H$12 + G332*10^-3, NA())","v":{"$error":"#N/A"}},2935,7.9844627322621964,{"$f":" IF(Foglio1!$C$13 <> \"\", 8.314472*Foglio1!$C$13*Foglio2!J332, NA())","v":{"$error":"#N/A"}},{"$f":"IF(Foglio1!$H$13 <> \"\", Foglio1!$H$13 + K332*10^-3, NA())","v":{"$error":"#N/A"}},2935,7.9844627322621964,{"$f":" IF(Foglio1!$C$14 <> \"\", 8.314472*Foglio1!$C$14*Foglio2!N332, NA())","v":{"$error":"#N/A"}},{"$f":"IF(Foglio1!$H$14 <> \"\", Foglio1!$H$14 + O332*10^-3, NA())","v":{"$error":"#N/A"}},2935,7.9844627322621964,{"$f":" IF(Foglio1!$C$15 <> \"\", 8.314472*Foglio1!$C$15*Foglio2!R332, NA())","v":{"$error":"#N/A"}},{"$f":"IF(Foglio1!$H$15 <> \"\", Foglio1!$H$15 + S332*10^-3, NA())","v":{"$error":"#N/A"}}]
[2944,7.9875244798487666,{"$f":" IF(Foglio1!$C$11 <> \"\", 8.314472*Foglio1!$C$11*Foglio2!B333, NA())","v":19923.614591105143},{"$f":"IF(Foglio1!$H$11 <> \"\", Foglio1!$H$11 + C333*10^-3, NA())","v":-70.076385408894851},2944,7.9875244798487666,{"$f":" IF(Foglio1!$C$12 <> \"\", 8.314472*Foglio1!$C$12*Foglio2!F333, NA())","v":{"$error":"#N/A"}},{"$f":"IF(Foglio1!$H$12 <> \"\", Foglio1!$H$12 + G333*10^-3, NA())","v":{"$error":"#N/A"}},2944,7.9875244798487666,{"$f":" IF(Foglio1!$C$13 <> \"\", 8.314472*Foglio1!$C$13*Foglio2!J333, NA())","v":{"$error":"#N/A"}},{"$f":"IF(Foglio1!$H$13 <> \"\", Foglio1!$H$13 + K333*10^-3, NA())","v":{"$error":"#N/A"}},2944,7.9875244798487666,{"$f":" IF(Foglio1!$C$14 <> \"\", 8.314472*Foglio1!$C$14*Foglio2!N333, NA())","v":{"$error":"#N/A"}},{"$f":"IF(Foglio1!$H$14 <> \"\", Foglio1!$H$14 + O333*10^-3, NA())","v":{"$error":"#N/A"}},2944,7.9875244798487666,{"$f":" IF(Foglio1!$C$15 <> \"\", 8.314472*Foglio1!$C$15*Foglio2!R333, NA())","v":{"$error":"#N/A"}},{"$f":"IF(Foglio1!$H$15 <> \"\", Foglio1!$H$15 + S333*10^-3, NA())","v":{"$error":"#N/A"}}]
[2953,7.9905768817439231,{"$f":" IF(Foglio1!$C$11 <> \"\", 8.314472*Foglio1!$C$11*Foglio2!B334, NA())","v":19931.228324132149},{"$f":"IF(Foglio1!$H$11 <> \"\", Foglio1!$H$11 + C334*10^-3, NA())","v":-70.06877167586785},2953,7.9905768817439231,{"$f":" IF(Foglio1!$C$12 <> \"\", 8.314472*Foglio1!$C$12*Foglio2!F334, NA())","v":{"$error":"#N/A"}},{"$f":"IF(Foglio1!$H$12 <> \"\", Foglio1!$H$12 + G334*10^-3, NA())","v":{"$error":"#N/A"}},2953,7.9905768817439231,{"$f":" IF(Foglio1!$C$13 <> \"\", 8.314472*Foglio1!$C$13*Foglio2!J334, NA())","v":{"$error":"#N/A"}},{"$f":"IF(Foglio1!$H$13 <> \"\", Foglio1!$H$13 + K334*10^-3, NA())","v":{"$error":"#N/A"}},2953,7.9905768817439231,{"$f":" IF(Foglio1!$C$14 <> \"\", 8.314472*Foglio1!$C$14*Foglio2!N334, NA())","v":{"$error":"#N/A"}},{"$f":"IF(Foglio1!$H$14 <> \"\", Foglio1!$H$14 + O334*10^-3, NA())","v":{"$error":"#N/A"}},2953,7.9905768817439231,{"$f":" IF(Foglio1!$C$15 <> \"\", 8.314472*Foglio1!$C$15*Foglio2!R334, NA())","v":{"$error":"#N/A"}},{"$f":"IF(Foglio1!$H$15 <> \"\", Foglio1!$H$15 + S334*10^-3, NA())","v":{"$error":"#N/A"}}]
[2962,7.9936199948277444,{"$f":" IF(Foglio1!$C$11 <> \"\", 8.314472*Foglio1!$C$11*Foglio2!B335, NA())","v":19938.818887690628},{"$f":"IF(Foglio1!$H$11 <> \"\", Foglio1!$H$11 + C335*10^-3, NA())","v":-70.06118111230937},2962,7.9936199948277444,{"$f":" IF(Foglio1!$C$12 <> \"\", 8.314472*Foglio1!$C$12*Foglio2!F335, NA())","v":{"$error":"#N/A"}},{"$f":"IF(Foglio1!$H$12 <> \"\", Foglio1!$H$12 + G335*10^-3, NA())","v":{"$error":"#N/A"}},2962,7.9936199948277444,{"$f":" IF(Foglio1!$C$13 <> \"\", 8.314472*Foglio1!$C$13*Foglio2!J335, NA())","v":{"$error":"#N/A"}},{"$f":"IF(Foglio1!$H$13 <> \"\", Foglio1!$H$13 + K335*10^-3, NA())","v":{"$error":"#N/A"}},2962,7.9936199948277444,{"$f":" IF(Foglio1!$C$14 <> \"\", 8.314472*Foglio1!$C$14*Foglio2!N335, NA())","v":{"$error":"#N/A"}},{"$f":"IF(Foglio1!$H$14 <> \"\", Foglio1!$H$14 + O335*10^-3, NA())","v":{"$error":"#N/A"}},2962,7.9936199948277444,{"$f":" IF(Foglio1!$C$15 <> \"\", 8.314472*Foglio1!$C$15*Foglio2!R335, NA())","v":{"$error":"#N/A"}},{"$f":"IF(Foglio1!$H$15 <> \"\", Foglio1!$H$15 + S335*10^-3, NA())","v":{"$error":"#N/A"}}]
[2971,7.9966538754626075,{"$f":" IF(Foglio1!$C$11 <> \"\", 8.314472*Foglio1!$C$11*Foglio2!B336, NA())","v":19946.386422367603},{"$f":"IF(Foglio1!$H$11 <> \"\", Foglio1!$H$11 + C336*10^-3, NA())","v":-70.053613577632404},2971,7.9966538754626075,{"$f":" IF(Foglio1!$C$12 <> \"\", 8.314472*Foglio1!$C$12*Foglio2!F336, NA())","v":{"$error":"#N/A"}},{"$f":"IF(Foglio1!$H$12 <> \"\", Foglio1!$H$12 + G336*10^-3, NA())","v":{"$error":"#N/A"}},2971,7.9966538754626075,{"$f":" IF(Foglio1!$C$13 <> \"\", 8.314472*Foglio1!$C$13*Foglio2!J336, NA())","v":{"$error":"#N/A"}},{"$f":"IF(Foglio1!$H$13 <> \"\", Foglio1!$H$13 + K336*10^-3, NA())","v":{"$error":"#N/A"}},2971,7.9966538754626075,{"$f":" IF(Foglio1!$C$14 <> \"\", 8.314472*Foglio1!$C$14*Foglio2!N336, NA())","v":{"$error":"#N/A"}},{"$f":"IF(Foglio1!$H$14 <> \"\", Foglio1!$H$14 + O336*10^-3, NA())","v":{"$error":"#N/A"}},2971,7.9966538754626075,{"$f":" IF(Foglio1!$C$15 <> \"\", 8.314472*Foglio1!$C$15*Foglio2!R336, NA())","v":{"$error":"#N/A"}},{"$f":"IF(Foglio1!$H$15 <> \"\", Foglio1!$H$15 + S336*10^-3, NA())","v":{"$error":"#N/A"}}]
[2980,7.9996785794994505,{"$f":" IF(Foglio1!$C$11 <> \"\", 8.314472*Foglio1!$C$11*Foglio2!B337, NA())","v":19953.931067474387},{"$f":"IF(Foglio1!$H$11 <> \"\", Foglio1!$H$11 + C337*10^-3, NA())","v":-70.046068932525614},2980,7.9996785794994505,{"$f":" IF(Foglio1!$C$12 <> \"\", 8.314472*Foglio1!$C$12*Foglio2!F337, NA())","v":{"$error":"#N/A"}},{"$f":"IF(Foglio1!$H$12 <> \"\", Foglio1!$H$12 + G337*10^-3, NA())","v":{"$error":"#N/A"}},2980,7.9996785794994505,{"$f":" IF(Foglio1!$C$13 <> \"\", 8.314472*Foglio1!$C$13*Foglio2!J337, NA())","v":{"$error":"#N/A"}},{"$f":"IF(Foglio1!$H$13 <> \"\", Foglio1!$H$13 + K337*10^-3, NA())","v":{"$error":"#N/A"}},2980,7.9996785794994505,{"$f":" IF(Foglio1!$C$14 <> \"\", 8.314472*Foglio1!$C$14*Foglio2!N337, NA())","v":{"$error":"#N/A"}},{"$f":"IF(Foglio1!$H$14 <> \"\", Foglio1!$H$14 + O337*10^-3, NA())","v":{"$error":"#N/A"}},2980,7.9996785794994505,{"$f":" IF(Foglio1!$C$15 <> \"\", 8.314472*Foglio1!$C$15*Foglio2!R337, NA())","v":{"$error":"#N/A"}},{"$f":"IF(Foglio1!$H$15 <> \"\", Foglio1!$H$15 + S337*10^-3, NA())","v":{"$error":"#N/A"}}]
[2989,8.0026941622839374,{"$f":" IF(Foglio1!$C$11 <> \"\", 8.314472*Foglio1!$C$11*Foglio2!B338, NA())","v":19961.452961061979},{"$f":"IF(Foglio1!$H$11 <> \"\", Foglio1!$H$11 + C338*10^-3, NA())","v":-70.03854703893802},2989,8.0026941622839374,{"$f":" IF(Foglio1!$C$12 <> \"\", 8.314472*Foglio1!$C$12*Foglio2!F338, NA())","v":{"$error":"#N/A"}},{"$f":"IF(Foglio1!$H$12 <> \"\", Foglio1!$H$12 + G338*10^-3, NA())","v":{"$error":"#N/A"}},2989,8.0026941622839374,{"$f":" IF(Foglio1!$C$13 <> \"\", 8.314472*Foglio1!$C$13*Foglio2!J338, NA())","v":{"$error":"#N/A"}},{"$f":"IF(Foglio1!$H$13 <> \"\", Foglio1!$H$13 + K338*10^-3, NA())","v":{"$error":"#N/A"}},2989,8.0026941622839374,{"$f":" IF(Foglio1!$C$14 <> \"\", 8.314472*Foglio1!$C$14*Foglio2!N338, NA())","v":{"$error":"#N/A"}},{"$f":"IF(Foglio1!$H$14 <> \"\", Foglio1!$H$14 + O338*10^-3, NA())","v":{"$error":"#N/A"}},2989,8.0026941622839374,{"$f":" IF(Foglio1!$C$15 <> \"\", 8.314472*Foglio1!$C$15*Foglio2!R338, NA())","v":{"$error":"#N/A"}},{"$f":"IF(Foglio1!$H$15 <> \"\", Foglio1!$H$15 + S338*10^-3, NA())","v":{"$error":"#N/A"}}]
[2998,8.0057006786625422,{"$f":" IF(Foglio1!$C$11 <> \"\", 8.314472*Foglio1!$C$11*Foglio2!B339, NA())","v":19968.952239936214},{"$f":"IF(Foglio1!$H$11 <> \"\", Foglio1!$H$11 + C339*10^-3, NA())","v":-70.031047760063785},2998,8.0057006786625422,{"$f":" IF(Foglio1!$C$12 <> \"\", 8.314472*Foglio1!$C$12*Foglio2!F339, NA())","v":{"$error":"#N/A"}},{"$f":"IF(Foglio1!$H$12 <> \"\", Foglio1!$H$12 + G339*10^-3, NA())","v":{"$error":"#N/A"}},2998,8.0057006786625422,{"$f":" IF(Foglio1!$C$13 <> \"\", 8.314472*Foglio1!$C$13*Foglio2!J339, NA())","v":{"$error":"#N/A"}},{"$f":"IF(Foglio1!$H$13 <> \"\", Foglio1!$H$13 + K339*10^-3, NA())","v":{"$error":"#N/A"}},2998,8.0057006786625422,{"$f":" IF(Foglio1!$C$14 <> \"\", 8.314472*Foglio1!$C$14*Foglio2!N339, NA())","v":{"$error":"#N/A"}},{"$f":"IF(Foglio1!$H$14 <> \"\", Foglio1!$H$14 + O339*10^-3, NA())","v":{"$error":"#N/A"}},2998,8.0057006786625422,{"$f":" IF(Foglio1!$C$15 <> \"\", 8.314472*Foglio1!$C$15*Foglio2!R339, NA())","v":{"$error":"#N/A"}},{"$f":"IF(Foglio1!$H$15 <> \"\", Foglio1!$H$15 + S339*10^-3, NA())","v":{"$error":"#N/A"}}]
[3007,8.0086981829885282,{"$f":" IF(Foglio1!$C$11 <> \"\", 8.314472*Foglio1!$C$11*Foglio2!B340, NA())","v":19976.429039672701},{"$f":"IF(Foglio1!$H$11 <> \"\", Foglio1!$H$11 + C340*10^-3, NA())","v":-70.023570960327305},3007,8.0086981829885282,{"$f":" IF(Foglio1!$C$12 <> \"\", 8.314472*Foglio1!$C$12*Foglio2!F340, NA())","v":{"$error":"#N/A"}},{"$f":"IF(Foglio1!$H$12 <> \"\", Foglio1!$H$12 + G340*10^-3, NA())","v":{"$error":"#N/A"}},3007,8.0086981829885282,{"$f":" IF(Foglio1!$C$13 <> \"\", 8.314472*Foglio1!$C$13*Foglio2!J340, NA())","v":{"$error":"#N/A"}},{"$f":"IF(Foglio1!$H$13 <> \"\", Foglio1!$H$13 + K340*10^-3, NA())","v":{"$error":"#N/A"}},3007,8.0086981829885282,{"$f":" IF(Foglio1!$C$14 <> \"\", 8.314472*Foglio1!$C$14*Foglio2!N340, NA())","v":{"$error":"#N/A"}},{"$f":"IF(Foglio1!$H$14 <> \"\", Foglio1!$H$14 + O340*10^-3, NA())","v":{"$error":"#N/A"}},3007,8.0086981829885282,{"$f":" IF(Foglio1!$C$15 <> \"\", 8.314472*Foglio1!$C$15*Foglio2!R340, NA())","v":{"$error":"#N/A"}},{"$f":"IF(Foglio1!$H$15 <> \"\", Foglio1!$H$15 + S340*10^-3, NA())","v":{"$error":"#N/A"}}]
[3016,8.0116867291278471,{"$f":" IF(Foglio1!$C$11 <> \"\", 8.314472*Foglio1!$C$11*Foglio2!B341, NA())","v":19983.883494631522},{"$f":"IF(Foglio1!$H$11 <> \"\", Foglio1!$H$11 + C341*10^-3, NA())","v":-70.016116505368473},3016,8.0116867291278471,{"$f":" IF(Foglio1!$C$12 <> \"\", 8.314472*Foglio1!$C$12*Foglio2!F341, NA())","v":{"$error":"#N/A"}},{"$f":"IF(Foglio1!$H$12 <> \"\", Foglio1!$H$12 + G341*10^-3, NA())","v":{"$error":"#N/A"}},3016,8.0116867291278471,{"$f":" IF(Foglio1!$C$13 <> \"\", 8.314472*Foglio1!$C$13*Foglio2!J341, NA())","v":{"$error":"#N/A"}},{"$f":"IF(Foglio1!$H$13 <> \"\", Foglio1!$H$13 + K341*10^-3, NA())","v":{"$error":"#N/A"}},3016,8.0116867291278471,{"$f":" IF(Foglio1!$C$14 <> \"\", 8.314472*Foglio1!$C$14*Foglio2!N341, NA())","v":{"$error":"#N/A"}},{"$f":"IF(Foglio1!$H$14 <> \"\", Foglio1!$H$14 + O341*10^-3, NA())","v":{"$error":"#N/A"}},3016,8.0116867291278471,{"$f":" IF(Foglio1!$C$15 <> \"\", 8.314472*Foglio1!$C$15*Foglio2!R341, NA())","v":{"$error":"#N/A"}},{"$f":"IF(Foglio1!$H$15 <> \"\", Foglio1!$H$15 + S341*10^-3, NA())","v":{"$error":"#N/A"}}]
[3025,8.0146663704649423,{"$f":" IF(Foglio1!$C$11 <> \"\", 8.314472*Foglio1!$C$11*Foglio2!B342, NA())","v":19991.315737971719},{"$f":"IF(Foglio1!$H$11 <> \"\", Foglio1!$H$11 + C342*10^-3, NA())","v":-70.008684262028282},3025,8.0146663704649423,{"$f":" IF(Foglio1!$C$12 <> \"\", 8.314472*Foglio1!$C$12*Foglio2!F342, NA())","v":{"$error":"#N/A"}},{"$f":"IF(Foglio1!$H$12 <> \"\", Foglio1!$H$12 + G342*10^-3, NA())","v":{"$error":"#N/A"}},3025,8.0146663704649423,{"$f":" IF(Foglio1!$C$13 <> \"\", 8.314472*Foglio1!$C$13*Foglio2!J342, NA())","v":{"$error":"#N/A"}},{"$f":"IF(Foglio1!$H$13 <> \"\", Foglio1!$H$13 + K342*10^-3, NA())","v":{"$error":"#N/A"}},3025,8.0146663704649423,{"$f":" IF(Foglio1!$C$14 <> \"\", 8.314472*Foglio1!$C$14*Foglio2!N342, NA())","v":{"$error":"#N/A"}},{"$f":"IF(Foglio1!$H$14 <> \"\", Foglio1!$H$14 + O342*10^-3, NA())","v":{"$error":"#N/A"}},3025,8.0146663704649423,{"$f":" IF(Foglio1!$C$15 <> \"\", 8.314472*Foglio1!$C$15*Foglio2!R342, NA())","v":{"$error":"#N/A"}},{"$f":"IF(Foglio1!$H$15 <> \"\", Foglio1!$H$15 + S342*10^-3, NA())","v":{"$error":"#N/A"}}]
[3034,8.0176371599084781,{"$f":" IF(Foglio1!$C$11 <> \"\", 8.314472*Foglio1!$C$11*Foglio2!B343, NA())","v":19998.72590166557},{"$f":"IF(Foglio1!$H$11 <> \"\", Foglio1!$H$11 + C343*10^-3, NA())","v":-70.001274098334434},3034,8.0176371599084781,{"$f":" IF(Foglio1!$C$12 <> \"\", 8.314472*Foglio1!$C$12*Foglio2!F343, NA())","v":{"$error":"#N/A"}},{"$f":"IF(Foglio1!$H$12 <> \"\", Foglio1!$H$12 + G343*10^-3, NA())","v":{"$error":"#N/A"}},3034,8.0176371599084781,{"$f":" IF(Foglio1!$C$13 <> \"\", 8.314472*Foglio1!$C$13*Foglio2!J343, NA())","v":{"$error":"#N/A"}},{"$f":"IF(Foglio1!$H$13 <> \"\", Foglio1!$H$13 + K343*10^-3, NA())","v":{"$error":"#N/A"}},3034,8.0176371599084781,{"$f":" IF(Foglio1!$C$14 <> \"\", 8.314472*Foglio1!$C$14*Foglio2!N343, NA())","v":{"$error":"#N/A"}},{"$f":"IF(Foglio1!$H$14 <> \"\", Foglio1!$H$14 + O343*10^-3, NA())","v":{"$error":"#N/A"}},3034,8.0176371599084781,{"$f":" IF(Foglio1!$C$15 <> \"\", 8.314472*Foglio1!$C$15*Foglio2!R343, NA())","v":{"$error":"#N/A"}},{"$f":"IF(Foglio1!$H$15 <> \"\", Foglio1!$H$15 + S343*10^-3, NA())","v":{"$error":"#N/A"}}]
[3043,8.0205991498969702,{"$f":" IF(Foglio1!$C$11 <> \"\", 8.314472*Foglio1!$C$11*Foglio2!B344, NA())","v":20006.11411651265},{"$f":"IF(Foglio1!$H$11 <> \"\", Foglio1!$H$11 + C344*10^-3, NA())","v":-69.993885883487351},3043,8.0205991498969702,{"$f":" IF(Foglio1!$C$12 <> \"\", 8.314472*Foglio1!$C$12*Foglio2!F344, NA())","v":{"$error":"#N/A"}},{"$f":"IF(Foglio1!$H$12 <> \"\", Foglio1!$H$12 + G344*10^-3, NA())","v":{"$error":"#N/A"}},3043,8.0205991498969702,{"$f":" IF(Foglio1!$C$13 <> \"\", 8.314472*Foglio1!$C$13*Foglio2!J344, NA())","v":{"$error":"#N/A"}},{"$f":"IF(Foglio1!$H$13 <> \"\", Foglio1!$H$13 + K344*10^-3, NA())","v":{"$error":"#N/A"}},3043,8.0205991498969702,{"$f":" IF(Foglio1!$C$14 <> \"\", 8.314472*Foglio1!$C$14*Foglio2!N344, NA())","v":{"$error":"#N/A"}},{"$f":"IF(Foglio1!$H$14 <> \"\", Foglio1!$H$14 + O344*10^-3, NA())","v":{"$error":"#N/A"}},3043,8.0205991498969702,{"$f":" IF(Foglio1!$C$15 <> \"\", 8.314472*Foglio1!$C$15*Foglio2!R344, NA())","v":{"$error":"#N/A"}},{"$f":"IF(Foglio1!$H$15 <> \"\", Foglio1!$H$15 + S344*10^-3, NA())","v":{"$error":"#N/A"}}]
[3052,8.0235523924043477,{"$f":" IF(Foglio1!$C$11 <> \"\", 8.314472*Foglio1!$C$11*Foglio2!B345, NA())","v":20013.480512153688},{"$f":"IF(Foglio1!$H$11 <> \"\", Foglio1!$H$11 + C345*10^-3, NA())","v":-69.986519487846309},3052,8.0235523924043477,{"$f":" IF(Foglio1!$C$12 <> \"\", 8.314472*Foglio1!$C$12*Foglio2!F345, NA())","v":{"$error":"#N/A"}},{"$f":"IF(Foglio1!$H$12 <> \"\", Foglio1!$H$12 + G345*10^-3, NA())","v":{"$error":"#N/A"}},3052,8.0235523924043477,{"$f":" IF(Foglio1!$C$13 <> \"\", 8.314472*Foglio1!$C$13*Foglio2!J345, NA())","v":{"$error":"#N/A"}},{"$f":"IF(Foglio1!$H$13 <> \"\", Foglio1!$H$13 + K345*10^-3, NA())","v":{"$error":"#N/A"}},3052,8.0235523924043477,{"$f":" IF(Foglio1!$C$14 <> \"\", 8.314472*Foglio1!$C$14*Foglio2!N345, NA())","v":{"$error":"#N/A"}},{"$f":"IF(Foglio1!$H$14 <> \"\", Foglio1!$H$14 + O345*10^-3, NA())","v":{"$error":"#N/A"}},3052,8.0235523924043477,{"$f":" IF(Foglio1!$C$15 <> \"\", 8.314472*Foglio1!$C$15*Foglio2!R345, NA())","v":{"$error":"#N/A"}},{"$f":"IF(Foglio1!$H$15 <> \"\", Foglio1!$H$15 + S345*10^-3, NA())","v":{"$error":"#N/A"}}]
[3061,8.0264969389454119,{"$f":" IF(Foglio1!$C$11 <> \"\", 8.314472*Foglio1!$C$11*Foglio2!B346, NA())","v":20020.825217084202},{"$f":"IF(Foglio1!$H$11 <> \"\", Foglio1!$H$11 + C346*10^-3, NA())","v":-69.979174782915806},3061,8.0264969389454119,{"$f":" IF(Foglio1!$C$12 <> \"\", 8.314472*Foglio1!$C$12*Foglio2!F346, NA())","v":{"$error":"#N/A"}},{"$f":"IF(Foglio1!$H$12 <> \"\", Foglio1!$H$12 + G346*10^-3, NA())","v":{"$error":"#N/A"}},3061,8.0264969389454119,{"$f":" IF(Foglio1!$C$13 <> \"\", 8.314472*Foglio1!$C$13*Foglio2!J346, NA())","v":{"$error":"#N/A"}},{"$f":"IF(Foglio1!$H$13 <> \"\", Foglio1!$H$13 + K346*10^-3, NA())","v":{"$error":"#N/A"}},3061,8.0264969389454119,{"$f":" IF(Foglio1!$C$14 <> \"\", 8.314472*Foglio1!$C$14*Foglio2!N346, NA())","v":{"$error":"#N/A"}},{"$f":"IF(Foglio1!$H$14 <> \"\", Foglio1!$H$14 + O346*10^-3, NA())","v":{"$error":"#N/A"}},3061,8.0264969389454119,{"$f":" IF(Foglio1!$C$15 <> \"\", 8.314472*Foglio1!$C$15*Foglio2!R346, NA())","v":{"$error":"#N/A"}},{"$f":"IF(Foglio1!$H$15 <> \"\", Foglio1!$H$15 + S346*10^-3, NA())","v":{"$error":"#N/A"}}]
[3070,8.0294328405812436,{"$f":" IF(Foglio1!$C$11 <> \"\", 8.314472*Foglio1!$C$11*Foglio2!B347, NA())","v":20028.148358667964},{"$f":"IF(Foglio1!$H$11 <> \"\", Foglio1!$H$11 + C347*10^-3, NA())","v":-69.971851641332037},3070,8.0294328405812436,{"$f":" IF(Foglio1!$C$12 <> \"\", 8.314472*Foglio1!$C$12*Foglio2!F347, NA())","v":{"$error":"#N/A"}},{"$f":"IF(Foglio1!$H$12 <> \"\", Foglio1!$H$12 + G347*10^-3, NA())","v":{"$error":"#N/A"}},3070,8.0294328405812436,{"$f":" IF(Foglio1!$C$13 <> \"\", 8.314472*Foglio1!$C$13*Foglio2!J347, NA())","v":{"$error":"#N/A"}},{"$f":"IF(Foglio1!$H$13 <> \"\", Foglio1!$H$13 + K347*10^-3, NA())","v":{"$error":"#N/A"}},3070,8.0294328405812436,{"$f":" IF(Foglio1!$C$14 <> \"\", 8.314472*Foglio1!$C$14*Foglio2!N347, NA())","v":{"$error":"#N/A"}},{"$f":"IF(Foglio1!$H$14 <> \"\", Foglio1!$H$14 + O347*10^-3, NA())","v":{"$error":"#N/A"}},3070,8.0294328405812436,{"$f":" IF(Foglio1!$C$15 <> \"\", 8.314472*Foglio1!$C$15*Foglio2!R347, NA())","v":{"$error":"#N/A"}},{"$f":"IF(Foglio1!$H$15 <> \"\", Foglio1!$H$15 + S347*10^-3, NA())","v":{"$error":"#N/A"}}]
[3079,8.0323601479244999,{"$f":" IF(Foglio1!$C$11 <> \"\", 8.314472*Foglio1!$C$11*Foglio2!B348, NA())","v":20035.450063150234},{"$f":"IF(Foglio1!$H$11 <> \"\", Foglio1!$H$11 + C348*10^-3, NA())","v":-69.964549936849764},3079,8.0323601479244999,{"$f":" IF(Foglio1!$C$12 <> \"\", 8.314472*Foglio1!$C$12*Foglio2!F348, NA())","v":{"$error":"#N/A"}},{"$f":"IF(Foglio1!$H$12 <> \"\", Foglio1!$H$12 + G348*10^-3, NA())","v":{"$error":"#N/A"}},3079,8.0323601479244999,{"$f":" IF(Foglio1!$C$13 <> \"\", 8.314472*Foglio1!$C$13*Foglio2!J348, NA())","v":{"$error":"#N/A"}},{"$f":"IF(Foglio1!$H$13 <> \"\", Foglio1!$H$13 + K348*10^-3, NA())","v":{"$error":"#N/A"}},3079,8.0323601479244999,{"$f":" IF(Foglio1!$C$14 <> \"\", 8.314472*Foglio1!$C$14*Foglio2!N348, NA())","v":{"$error":"#N/A"}},{"$f":"IF(Foglio1!$H$14 <> \"\", Foglio1!$H$14 + O348*10^-3, NA())","v":{"$error":"#N/A"}},3079,8.0323601479244999,{"$f":" IF(Foglio1!$C$15 <> \"\", 8.314472*Foglio1!$C$15*Foglio2!R348, NA())","v":{"$error":"#N/A"}},{"$f":"IF(Foglio1!$H$15 <> \"\", Foglio1!$H$15 + S348*10^-3, NA())","v":{"$error":"#N/A"}}]
[3088,8.0352789111446672,{"$f":" IF(Foglio1!$C$11 <> \"\", 8.314472*Foglio1!$C$11*Foglio2!B349, NA())","v":20042.730455670848},{"$f":"IF(Foglio1!$H$11 <> \"\", Foglio1!$H$11 + C349*10^-3, NA())","v":-69.957269544329151},3088,8.0352789111446672,{"$f":" IF(Foglio1!$C$12 <> \"\", 8.314472*Foglio1!$C$12*Foglio2!F349, NA())","v":{"$error":"#N/A"}},{"$f":"IF(Foglio1!$H$12 <> \"\", Foglio1!$H$12 + G349*10^-3, NA())","v":{"$error":"#N/A"}},3088,8.0352789111446672,{"$f":" IF(Foglio1!$C$13 <> \"\", 8.314472*Foglio1!$C$13*Foglio2!J349, NA())","v":{"$error":"#N/A"}},{"$f":"IF(Foglio1!$H$13 <> \"\", Foglio1!$H$13 + K349*10^-3, NA())","v":{"$error":"#N/A"}},3088,8.0352789111446672,{"$f":" IF(Foglio1!$C$14 <> \"\", 8.314472*Foglio1!$C$14*Foglio2!N349, NA())","v":{"$error":"#N/A"}},{"$f":"IF(Foglio1!$H$14 <> \"\", Foglio1!$H$14 + O349*10^-3, NA())","v":{"$error":"#N/A"}},3088,8.0352789111446672,{"$f":" IF(Foglio1!$C$15 <> \"\", 8.314472*Foglio1!$C$15*Foglio2!R349, NA())","v":{"$error":"#N/A"}},{"$f":"IF(Foglio1!$H$15 <> \"\", Foglio1!$H$15 + S349*10^-3, NA())","v":{"$error":"#N/A"}}]
[3097,8.0381891799732035,{"$f":" IF(Foglio1!$C$11 <> \"\", 8.314472*Foglio1!$C$11*Foglio2!B350, NA())","v":20049.98966027705},{"$f":"IF(Foglio1!$H$11 <> \"\", Foglio1!$H$11 + C350*10^-3, NA())","v":-69.950010339722951},3097,8.0381891799732035,{"$f":" IF(Foglio1!$C$12 <> \"\", 8.314472*Foglio1!$C$12*Foglio2!F350, NA())","v":{"$error":"#N/A"}},{"$f":"IF(Foglio1!$H$12 <> \"\", Foglio1!$H$12 + G350*10^-3, NA())","v":{"$error":"#N/A"}},3097,8.0381891799732035,{"$f":" IF(Foglio1!$C$13 <> \"\", 8.314472*Foglio1!$C$13*Foglio2!J350, NA())","v":{"$error":"#N/A"}},{"$f":"IF(Foglio1!$H$13 <> \"\", Foglio1!$H$13 + K350*10^-3, NA())","v":{"$error":"#N/A"}},3097,8.0381891799732035,{"$f":" IF(Foglio1!$C$14 <> \"\", 8.314472*Foglio1!$C$14*Foglio2!N350, NA())","v":{"$error":"#N/A"}},{"$f":"IF(Foglio1!$H$14 <> \"\", Foglio1!$H$14 + O350*10^-3, NA())","v":{"$error":"#N/A"}},3097,8.0381891799732035,{"$f":" IF(Foglio1!$C$15 <> \"\", 8.314472*Foglio1!$C$15*Foglio2!R350, NA())","v":{"$error":"#N/A"}},{"$f":"IF(Foglio1!$H$15 <> \"\", Foglio1!$H$15 + S350*10^-3, NA())","v":{"$error":"#N/A"}}]
[3106,8.0410910037086332,{"$f":" IF(Foglio1!$C$11 <> \"\", 8.314472*Foglio1!$C$11*Foglio2!B351, NA())","v":20057.227799936201},{"$f":"IF(Foglio1!$H$11 <> \"\", Foglio1!$H$11 + C351*10^-3, NA())","v":-69.9427722000638},3106,8.0410910037086332,{"$f":" IF(Foglio1!$C$12 <> \"\", 8.314472*Foglio1!$C$12*Foglio2!F351, NA())","v":{"$error":"#N/A"}},{"$f":"IF(Foglio1!$H$12 <> \"\", Foglio1!$H$12 + G351*10^-3, NA())","v":{"$error":"#N/A"}},3106,8.0410910037086332,{"$f":" IF(Foglio1!$C$13 <> \"\", 8.314472*Foglio1!$C$13*Foglio2!J351, NA())","v":{"$error":"#N/A"}},{"$f":"IF(Foglio1!$H$13 <> \"\", Foglio1!$H$13 + K351*10^-3, NA())","v":{"$error":"#N/A"}},3106,8.0410910037086332,{"$f":" IF(Foglio1!$C$14 <> \"\", 8.314472*Foglio1!$C$14*Foglio2!N351, NA())","v":{"$error":"#N/A"}},{"$f":"IF(Foglio1!$H$14 <> \"\", Foglio1!$H$14 + O351*10^-3, NA())","v":{"$error":"#N/A"}},3106,8.0410910037086332,{"$f":" IF(Foglio1!$C$15 <> \"\", 8.314472*Foglio1!$C$15*Foglio2!R351, NA())","v":{"$error":"#N/A"}},{"$f":"IF(Foglio1!$H$15 <> \"\", Foglio1!$H$15 + S351*10^-3, NA())","v":{"$error":"#N/A"}}]
[3115,8.0439844312215527,{"$f":" IF(Foglio1!$C$11 <> \"\", 8.314472*Foglio1!$C$11*Foglio2!B352, NA())","v":20064.44499654826},{"$f":"IF(Foglio1!$H$11 <> \"\", Foglio1!$H$11 + C352*10^-3, NA())","v":-69.935555003451739},3115,8.0439844312215527,{"$f":" IF(Foglio1!$C$12 <> \"\", 8.314472*Foglio1!$C$12*Foglio2!F352, NA())","v":{"$error":"#N/A"}},{"$f":"IF(Foglio1!$H$12 <> \"\", Foglio1!$H$12 + G352*10^-3, NA())","v":{"$error":"#N/A"}},3115,8.0439844312215527,{"$f":" IF(Foglio1!$C$13 <> \"\", 8.314472*Foglio1!$C$13*Foglio2!J352, NA())","v":{"$error":"#N/A"}},{"$f":"IF(Foglio1!$H$13 <> \"\", Foglio1!$H$13 + K352*10^-3, NA())","v":{"$error":"#N/A"}},3115,8.0439844312215527,{"$f":" IF(Foglio1!$C$14 <> \"\", 8.314472*Foglio1!$C$14*Foglio2!N352, NA())","v":{"$error":"#N/A"}},{"$f":"IF(Foglio1!$H$14 <> \"\", Foglio1!$H$14 + O352*10^-3, NA())","v":{"$error":"#N/A"}},3115,8.0439844312215527,{"$f":" IF(Foglio1!$C$15 <> \"\", 8.314472*Foglio1!$C$15*Foglio2!R352, NA())","v":{"$error":"#N/A"}},{"$f":"IF(Foglio1!$H$15 <> \"\", Foglio1!$H$15 + S352*10^-3, NA())","v":{"$error":"#N/A"}}]
[3124,8.046869510959576,{"$f":" IF(Foglio1!$C$11 <> \"\", 8.314472*Foglio1!$C$11*Foglio2!B353, NA())","v":20071.641370958128},{"$f":"IF(Foglio1!$H$11 <> \"\", Foglio1!$H$11 + C353*10^-3, NA())","v":-69.928358629041867},3124,8.046869510959576,{"$f":" IF(Foglio1!$C$12 <> \"\", 8.314472*Foglio1!$C$12*Foglio2!F353, NA())","v":{"$error":"#N/A"}},{"$f":"IF(Foglio1!$H$12 <> \"\", Foglio1!$H$12 + G353*10^-3, NA())","v":{"$error":"#N/A"}},3124,8.046869510959576,{"$f":" IF(Foglio1!$C$13 <> \"\", 8.314472*Foglio1!$C$13*Foglio2!J353, NA())","v":{"$error":"#N/A"}},{"$f":"IF(Foglio1!$H$13 <> \"\", Foglio1!$H$13 + K353*10^-3, NA())","v":{"$error":"#N/A"}},3124,8.046869510959576,{"$f":" IF(Foglio1!$C$14 <> \"\", 8.314472*Foglio1!$C$14*Foglio2!N353, NA())","v":{"$error":"#N/A"}},{"$f":"IF(Foglio1!$H$14 <> \"\", Foglio1!$H$14 + O353*10^-3, NA())","v":{"$error":"#N/A"}},3124,8.046869510959576,{"$f":" IF(Foglio1!$C$15 <> \"\", 8.314472*Foglio1!$C$15*Foglio2!R353, NA())","v":{"$error":"#N/A"}},{"$f":"IF(Foglio1!$H$15 <> \"\", Foglio1!$H$15 + S353*10^-3, NA())","v":{"$error":"#N/A"}}]
[3133,8.0497462909521911,{"$f":" IF(Foglio1!$C$11 <> \"\", 8.314472*Foglio1!$C$11*Foglio2!B354, NA())","v":20078.817042967756},{"$f":"IF(Foglio1!$H$11 <> \"\", Foglio1!$H$11 + C354*10^-3, NA())","v":-69.921182957032244},3133,8.0497462909521911,{"$f":" IF(Foglio1!$C$12 <> \"\", 8.314472*Foglio1!$C$12*Foglio2!F354, NA())","v":{"$error":"#N/A"}},{"$f":"IF(Foglio1!$H$12 <> \"\", Foglio1!$H$12 + G354*10^-3, NA())","v":{"$error":"#N/A"}},3133,8.0497462909521911,{"$f":" IF(Foglio1!$C$13 <> \"\", 8.314472*Foglio1!$C$13*Foglio2!J354, NA())","v":{"$error":"#N/A"}},{"$f":"IF(Foglio1!$H$13 <> \"\", Foglio1!$H$13 + K354*10^-3, NA())","v":{"$error":"#N/A"}},3133,8.0497462909521911,{"$f":" IF(Foglio1!$C$14 <> \"\", 8.314472*Foglio1!$C$14*Foglio2!N354, NA())","v":{"$error":"#N/A"}},{"$f":"IF(Foglio1!$H$14 <> \"\", Foglio1!$H$14 + O354*10^-3, NA())","v":{"$error":"#N/A"}},3133,8.0497462909521911,{"$f":" IF(Foglio1!$C$15 <> \"\", 8.314472*Foglio1!$C$15*Foglio2!R354, NA())","v":{"$error":"#N/A"}},{"$f":"IF(Foglio1!$H$15 <> \"\", Foglio1!$H$15 + S354*10^-3, NA())","v":{"$error":"#N/A"}}]
[3142,8.0526148188155666,{"$f":" IF(Foglio1!$C$11 <> \"\", 8.314472*Foglio1!$C$11*Foglio2!B355, NA())","v":20085.972131348131},{"$f":"IF(Foglio1!$H$11 <> \"\", Foglio1!$H$11 + C355*10^-3, NA())","v":-69.914027868651871},3142,8.0526148188155666,{"$f":" IF(Foglio1!$C$12 <> \"\", 8.314472*Foglio1!$C$12*Foglio2!F355, NA())","v":{"$error":"#N/A"}},{"$f":"IF(Foglio1!$H$12 <> \"\", Foglio1!$H$12 + G355*10^-3, NA())","v":{"$error":"#N/A"}},3142,8.0526148188155666,{"$f":" IF(Foglio1!$C$13 <> \"\", 8.314472*Foglio1!$C$13*Foglio2!J355, NA())","v":{"$error":"#N/A"}},{"$f":"IF(Foglio1!$H$13 <> \"\", Foglio1!$H$13 + K355*10^-3, NA())","v":{"$error":"#N/A"}},3142,8.0526148188155666,{"$f":" IF(Foglio1!$C$14 <> \"\", 8.314472*Foglio1!$C$14*Foglio2!N355, NA())","v":{"$error":"#N/A"}},{"$f":"IF(Foglio1!$H$14 <> \"\", Foglio1!$H$14 + O355*10^-3, NA())","v":{"$error":"#N/A"}},3142,8.0526148188155666,{"$f":" IF(Foglio1!$C$15 <> \"\", 8.314472*Foglio1!$C$15*Foglio2!R355, NA())","v":{"$error":"#N/A"}},{"$f":"IF(Foglio1!$H$15 <> \"\", Foglio1!$H$15 + S355*10^-3, NA())","v":{"$error":"#N/A"}}]
[3151,8.0554751417572739,{"$f":" IF(Foglio1!$C$11 <> \"\", 8.314472*Foglio1!$C$11*Foglio2!B356, NA())","v":20093.106753851065},{"$f":"IF(Foglio1!$H$11 <> \"\", Foglio1!$H$11 + C356*10^-3, NA())","v":-69.90689324614894},3151,8.0554751417572739,{"$f":" IF(Foglio1!$C$12 <> \"\", 8.314472*Foglio1!$C$12*Foglio2!F356, NA())","v":{"$error":"#N/A"}},{"$f":"IF(Foglio1!$H$12 <> \"\", Foglio1!$H$12 + G356*10^-3, NA())","v":{"$error":"#N/A"}},3151,8.0554751417572739,{"$f":" IF(Foglio1!$C$13 <> \"\", 8.314472*Foglio1!$C$13*Foglio2!J356, NA())","v":{"$error":"#N/A"}},{"$f":"IF(Foglio1!$H$13 <> \"\", Foglio1!$H$13 + K356*10^-3, NA())","v":{"$error":"#N/A"}},3151,8.0554751417572739,{"$f":" IF(Foglio1!$C$14 <> \"\", 8.314472*Foglio1!$C$14*Foglio2!N356, NA())","v":{"$error":"#N/A"}},{"$f":"IF(Foglio1!$H$14 <> \"\", Foglio1!$H$14 + O356*10^-3, NA())","v":{"$error":"#N/A"}},3151,8.0554751417572739,{"$f":" IF(Foglio1!$C$15 <> \"\", 8.314472*Foglio1!$C$15*Foglio2!R356, NA())","v":{"$error":"#N/A"}},{"$f":"IF(Foglio1!$H$15 <> \"\", Foglio1!$H$15 + S356*10^-3, NA())","v":{"$error":"#N/A"}}]
[3160,8.0583273065809582,{"$f":" IF(Foglio1!$C$11 <> \"\", 8.314472*Foglio1!$C$11*Foglio2!B357, NA())","v":20100.221027220839},{"$f":"IF(Foglio1!$H$11 <> \"\", Foglio1!$H$11 + C357*10^-3, NA())","v":-69.89977897277916},3160,8.0583273065809582,{"$f":" IF(Foglio1!$C$12 <> \"\", 8.314472*Foglio1!$C$12*Foglio2!F357, NA())","v":{"$error":"#N/A"}},{"$f":"IF(Foglio1!$H$12 <> \"\", Foglio1!$H$12 + G357*10^-3, NA())","v":{"$error":"#N/A"}},3160,8.0583273065809582,{"$f":" IF(Foglio1!$C$13 <> \"\", 8.314472*Foglio1!$C$13*Foglio2!J357, NA())","v":{"$error":"#N/A"}},{"$f":"IF(Foglio1!$H$13 <> \"\", Foglio1!$H$13 + K357*10^-3, NA())","v":{"$error":"#N/A"}},3160,8.0583273065809582,{"$f":" IF(Foglio1!$C$14 <> \"\", 8.314472*Foglio1!$C$14*Foglio2!N357, NA())","v":{"$error":"#N/A"}},{"$f":"IF(Foglio1!$H$14 <> \"\", Foglio1!$H$14 + O357*10^-3, NA())","v":{"$error":"#N/A"}},3160,8.0583273065809582,{"$f":" IF(Foglio1!$C$15 <> \"\", 8.314472*Foglio1!$C$15*Foglio2!R357, NA())","v":{"$error":"#N/A"}},{"$f":"IF(Foglio1!$H$15 <> \"\", Foglio1!$H$15 + S357*10^-3, NA())","v":{"$error":"#N/A"}}]
[3169,8.0611713596909205,{"$f":" IF(Foglio1!$C$11 <> \"\", 8.314472*Foglio1!$C$11*Foglio2!B358, NA())","v":20107.315067205629},{"$f":"IF(Foglio1!$H$11 <> \"\", Foglio1!$H$11 + C358*10^-3, NA())","v":-69.892684932794367},3169,8.0611713596909205,{"$f":" IF(Foglio1!$C$12 <> \"\", 8.314472*Foglio1!$C$12*Foglio2!F358, NA())","v":{"$error":"#N/A"}},{"$f":"IF(Foglio1!$H$12 <> \"\", Foglio1!$H$12 + G358*10^-3, NA())","v":{"$error":"#N/A"}},3169,8.0611713596909205,{"$f":" IF(Foglio1!$C$13 <> \"\", 8.314472*Foglio1!$C$13*Foglio2!J358, NA())","v":{"$error":"#N/A"}},{"$f":"IF(Foglio1!$H$13 <> \"\", Foglio1!$H$13 + K358*10^-3, NA())","v":{"$error":"#N/A"}},3169,8.0611713596909205,{"$f":" IF(Foglio1!$C$14 <> \"\", 8.314472*Foglio1!$C$14*Foglio2!N358, NA())","v":{"$error":"#N/A"}},{"$f":"IF(Foglio1!$H$14 <> \"\", Foglio1!$H$14 + O358*10^-3, NA())","v":{"$error":"#N/A"}},3169,8.0611713596909205,{"$f":" IF(Foglio1!$C$15 <> \"\", 8.314472*Foglio1!$C$15*Foglio2!R358, NA())","v":{"$error":"#N/A"}},{"$f":"IF(Foglio1!$H$15 <> \"\", Foglio1!$H$15 + S358*10^-3, NA())","v":{"$error":"#N/A"}}]
[3178,8.0640073470966609,{"$f":" IF(Foglio1!$C$11 <> \"\", 8.314472*Foglio1!$C$11*Foglio2!B359, NA())","v":20114.38898856884},{"$f":"IF(Foglio1!$H$11 <> \"\", Foglio1!$H$11 + C359*10^-3, NA())","v":-69.885611011431166},3178,8.0640073470966609,{"$f":" IF(Foglio1!$C$12 <> \"\", 8.314472*Foglio1!$C$12*Foglio2!F359, NA())","v":{"$error":"#N/A"}},{"$f":"IF(Foglio1!$H$12 <> \"\", Foglio1!$H$12 + G359*10^-3, NA())","v":{"$error":"#N/A"}},3178,8.0640073470966609,{"$f":" IF(Foglio1!$C$13 <> \"\", 8.314472*Foglio1!$C$13*Foglio2!J359, NA())","v":{"$error":"#N/A"}},{"$f":"IF(Foglio1!$H$13 <> \"\", Foglio1!$H$13 + K359*10^-3, NA())","v":{"$error":"#N/A"}},3178,8.0640073470966609,{"$f":" IF(Foglio1!$C$14 <> \"\", 8.314472*Foglio1!$C$14*Foglio2!N359, NA())","v":{"$error":"#N/A"}},{"$f":"IF(Foglio1!$H$14 <> \"\", Foglio1!$H$14 + O359*10^-3, NA())","v":{"$error":"#N/A"}},3178,8.0640073470966609,{"$f":" IF(Foglio1!$C$15 <> \"\", 8.314472*Foglio1!$C$15*Foglio2!R359, NA())","v":{"$error":"#N/A"}},{"$f":"IF(Foglio1!$H$15 <> \"\", Foglio1!$H$15 + S359*10^-3, NA())","v":{"$error":"#N/A"}}]
[3187,8.0668353144173359,{"$f":" IF(Foglio1!$C$11 <> \"\", 8.314472*Foglio1!$C$11*Foglio2!B360, NA())","v":20121.442905100241},{"$f":"IF(Foglio1!$H$11 <> \"\", Foglio1!$H$11 + C360*10^-3, NA())","v":-69.878557094899762},3187,8.0668353144173359,{"$f":" IF(Foglio1!$C$12 <> \"\", 8.314472*Foglio1!$C$12*Foglio2!F360, NA())","v":{"$error":"#N/A"}},{"$f":"IF(Foglio1!$H$12 <> \"\", Foglio1!$H$12 + G360*10^-3, NA())","v":{"$error":"#N/A"}},3187,8.0668353144173359,{"$f":" IF(Foglio1!$C$13 <> \"\", 8.314472*Foglio1!$C$13*Foglio2!J360, NA())","v":{"$error":"#N/A"}},{"$f":"IF(Foglio1!$H$13 <> \"\", Foglio1!$H$13 + K360*10^-3, NA())","v":{"$error":"#N/A"}},3187,8.0668353144173359,{"$f":" IF(Foglio1!$C$14 <> \"\", 8.314472*Foglio1!$C$14*Foglio2!N360, NA())","v":{"$error":"#N/A"}},{"$f":"IF(Foglio1!$H$14 <> \"\", Foglio1!$H$14 + O360*10^-3, NA())","v":{"$error":"#N/A"}},3187,8.0668353144173359,{"$f":" IF(Foglio1!$C$15 <> \"\", 8.314472*Foglio1!$C$15*Foglio2!R360, NA())","v":{"$error":"#N/A"}},{"$f":"IF(Foglio1!$H$15 <> \"\", Foglio1!$H$15 + S360*10^-3, NA())","v":{"$error":"#N/A"}}]
[3196,8.0696553068861654,{"$f":" IF(Foglio1!$C$11 <> \"\", 8.314472*Foglio1!$C$11*Foglio2!B361, NA())","v":20128.47692962693},{"$f":"IF(Foglio1!$H$11 <> \"\", Foglio1!$H$11 + C361*10^-3, NA())","v":-69.871523070373073},3196,8.0696553068861654,{"$f":" IF(Foglio1!$C$12 <> \"\", 8.314472*Foglio1!$C$12*Foglio2!F361, NA())","v":{"$error":"#N/A"}},{"$f":"IF(Foglio1!$H$12 <> \"\", Foglio1!$H$12 + G361*10^-3, NA())","v":{"$error":"#N/A"}},3196,8.0696553068861654,{"$f":" IF(Foglio1!$C$13 <> \"\", 8.314472*Foglio1!$C$13*Foglio2!J361, NA())","v":{"$error":"#N/A"}},{"$f":"IF(Foglio1!$H$13 <> \"\", Foglio1!$H$13 + K361*10^-3, NA())","v":{"$error":"#N/A"}},3196,8.0696553068861654,{"$f":" IF(Foglio1!$C$14 <> \"\", 8.314472*Foglio1!$C$14*Foglio2!N361, NA())","v":{"$error":"#N/A"}},{"$f":"IF(Foglio1!$H$14 <> \"\", Foglio1!$H$14 + O361*10^-3, NA())","v":{"$error":"#N/A"}},3196,8.0696553068861654,{"$f":" IF(Foglio1!$C$15 <> \"\", 8.314472*Foglio1!$C$15*Foglio2!R361, NA())","v":{"$error":"#N/A"}},{"$f":"IF(Foglio1!$H$15 <> \"\", Foglio1!$H$15 + S361*10^-3, NA())","v":{"$error":"#N/A"}}]
[3205,8.0724673693547704,{"$f":" IF(Foglio1!$C$11 <> \"\", 8.314472*Foglio1!$C$11*Foglio2!B362, NA())","v":20135.49117402417},{"$f":"IF(Foglio1!$H$11 <> \"\", Foglio1!$H$11 + C362*10^-3, NA())","v":-69.864508825975832},3205,8.0724673693547704,{"$f":" IF(Foglio1!$C$12 <> \"\", 8.314472*Foglio1!$C$12*Foglio2!F362, NA())","v":{"$error":"#N/A"}},{"$f":"IF(Foglio1!$H$12 <> \"\", Foglio1!$H$12 + G362*10^-3, NA())","v":{"$error":"#N/A"}},3205,8.0724673693547704,{"$f":" IF(Foglio1!$C$13 <> \"\", 8.314472*Foglio1!$C$13*Foglio2!J362, NA())","v":{"$error":"#N/A"}},{"$f":"IF(Foglio1!$H$13 <> \"\", Foglio1!$H$13 + K362*10^-3, NA())","v":{"$error":"#N/A"}},3205,8.0724673693547704,{"$f":" IF(Foglio1!$C$14 <> \"\", 8.314472*Foglio1!$C$14*Foglio2!N362, NA())","v":{"$error":"#N/A"}},{"$f":"IF(Foglio1!$H$14 <> \"\", Foglio1!$H$14 + O362*10^-3, NA())","v":{"$error":"#N/A"}},3205,8.0724673693547704,{"$f":" IF(Foglio1!$C$15 <> \"\", 8.314472*Foglio1!$C$15*Foglio2!R362, NA())","v":{"$error":"#N/A"}},{"$f":"IF(Foglio1!$H$15 <> \"\", Foglio1!$H$15 + S362*10^-3, NA())","v":{"$error":"#N/A"}}]
[3214,8.0752715462974578,{"$f":" IF(Foglio1!$C$11 <> \"\", 8.314472*Foglio1!$C$11*Foglio2!B363, NA())","v":20142.485749226078},{"$f":"IF(Foglio1!$H$11 <> \"\", Foglio1!$H$11 + C363*10^-3, NA())","v":-69.857514250773917},3214,8.0752715462974578,{"$f":" IF(Foglio1!$C$12 <> \"\", 8.314472*Foglio1!$C$12*Foglio2!F363, NA())","v":{"$error":"#N/A"}},{"$f":"IF(Foglio1!$H$12 <> \"\", Foglio1!$H$12 + G363*10^-3, NA())","v":{"$error":"#N/A"}},3214,8.0752715462974578,{"$f":" IF(Foglio1!$C$13 <> \"\", 8.314472*Foglio1!$C$13*Foglio2!J363, NA())","v":{"$error":"#N/A"}},{"$f":"IF(Foglio1!$H$13 <> \"\", Foglio1!$H$13 + K363*10^-3, NA())","v":{"$error":"#N/A"}},3214,8.0752715462974578,{"$f":" IF(Foglio1!$C$14 <> \"\", 8.314472*Foglio1!$C$14*Foglio2!N363, NA())","v":{"$error":"#N/A"}},{"$f":"IF(Foglio1!$H$14 <> \"\", Foglio1!$H$14 + O363*10^-3, NA())","v":{"$error":"#N/A"}},3214,8.0752715462974578,{"$f":" IF(Foglio1!$C$15 <> \"\", 8.314472*Foglio1!$C$15*Foglio2!R363, NA())","v":{"$error":"#N/A"}},{"$f":"IF(Foglio1!$H$15 <> \"\", Foglio1!$H$15 + S363*10^-3, NA())","v":{"$error":"#N/A"}}]
[3223,8.0780678818154374,{"$f":" IF(Foglio1!$C$11 <> \"\", 8.314472*Foglio1!$C$11*Foglio2!B364, NA())","v":20149.46076523613},{"$f":"IF(Foglio1!$H$11 <> \"\", Foglio1!$H$11 + C364*10^-3, NA())","v":-69.850539234763872},3223,8.0780678818154374,{"$f":" IF(Foglio1!$C$12 <> \"\", 8.314472*Foglio1!$C$12*Foglio2!F364, NA())","v":{"$error":"#N/A"}},{"$f":"IF(Foglio1!$H$12 <> \"\", Foglio1!$H$12 + G364*10^-3, NA())","v":{"$error":"#N/A"}},3223,8.0780678818154374,{"$f":" IF(Foglio1!$C$13 <> \"\", 8.314472*Foglio1!$C$13*Foglio2!J364, NA())","v":{"$error":"#N/A"}},{"$f":"IF(Foglio1!$H$13 <> \"\", Foglio1!$H$13 + K364*10^-3, NA())","v":{"$error":"#N/A"}},3223,8.0780678818154374,{"$f":" IF(Foglio1!$C$14 <> \"\", 8.314472*Foglio1!$C$14*Foglio2!N364, NA())","v":{"$error":"#N/A"}},{"$f":"IF(Foglio1!$H$14 <> \"\", Foglio1!$H$14 + O364*10^-3, NA())","v":{"$error":"#N/A"}},3223,8.0780678818154374,{"$f":" IF(Foglio1!$C$15 <> \"\", 8.314472*Foglio1!$C$15*Foglio2!R364, NA())","v":{"$error":"#N/A"}},{"$f":"IF(Foglio1!$H$15 <> \"\", Foglio1!$H$15 + S364*10^-3, NA())","v":{"$error":"#N/A"}}]
[3232,8.0808564196409858,{"$f":" IF(Foglio1!$C$11 <> \"\", 8.314472*Foglio1!$C$11*Foglio2!B365, NA())","v":20156.416331137571},{"$f":"IF(Foglio1!$H$11 <> \"\", Foglio1!$H$11 + C365*10^-3, NA())","v":-69.843583668862436},3232,8.0808564196409858,{"$f":" IF(Foglio1!$C$12 <> \"\", 8.314472*Foglio1!$C$12*Foglio2!F365, NA())","v":{"$error":"#N/A"}},{"$f":"IF(Foglio1!$H$12 <> \"\", Foglio1!$H$12 + G365*10^-3, NA())","v":{"$error":"#N/A"}},3232,8.0808564196409858,{"$f":" IF(Foglio1!$C$13 <> \"\", 8.314472*Foglio1!$C$13*Foglio2!J365, NA())","v":{"$error":"#N/A"}},{"$f":"IF(Foglio1!$H$13 <> \"\", Foglio1!$H$13 + K365*10^-3, NA())","v":{"$error":"#N/A"}},3232,8.0808564196409858,{"$f":" IF(Foglio1!$C$14 <> \"\", 8.314472*Foglio1!$C$14*Foglio2!N365, NA())","v":{"$error":"#N/A"}},{"$f":"IF(Foglio1!$H$14 <> \"\", Foglio1!$H$14 + O365*10^-3, NA())","v":{"$error":"#N/A"}},3232,8.0808564196409858,{"$f":" IF(Foglio1!$C$15 <> \"\", 8.314472*Foglio1!$C$15*Foglio2!R365, NA())","v":{"$error":"#N/A"}},{"$f":"IF(Foglio1!$H$15 <> \"\", Foglio1!$H$15 + S365*10^-3, NA())","v":{"$error":"#N/A"}}]
[3241,8.0836372031415475,{"$f":" IF(Foglio1!$C$11 <> \"\", 8.314472*Foglio1!$C$11*Foglio2!B366, NA())","v":20163.352555103615},{"$f":"IF(Foglio1!$H$11 <> \"\", Foglio1!$H$11 + C366*10^-3, NA())","v":-69.836647444896386},3241,8.0836372031415475,{"$f":" IF(Foglio1!$C$12 <> \"\", 8.314472*Foglio1!$C$12*Foglio2!F366, NA())","v":{"$error":"#N/A"}},{"$f":"IF(Foglio1!$H$12 <> \"\", Foglio1!$H$12 + G366*10^-3, NA())","v":{"$error":"#N/A"}},3241,8.0836372031415475,{"$f":" IF(Foglio1!$C$13 <> \"\", 8.314472*Foglio1!$C$13*Foglio2!J366, NA())","v":{"$error":"#N/A"}},{"$f":"IF(Foglio1!$H$13 <> \"\", Foglio1!$H$13 + K366*10^-3, NA())","v":{"$error":"#N/A"}},3241,8.0836372031415475,{"$f":" IF(Foglio1!$C$14 <> \"\", 8.314472*Foglio1!$C$14*Foglio2!N366, NA())","v":{"$error":"#N/A"}},{"$f":"IF(Foglio1!$H$14 <> \"\", Foglio1!$H$14 + O366*10^-3, NA())","v":{"$error":"#N/A"}},3241,8.0836372031415475,{"$f":" IF(Foglio1!$C$15 <> \"\", 8.314472*Foglio1!$C$15*Foglio2!R366, NA())","v":{"$error":"#N/A"}},{"$f":"IF(Foglio1!$H$15 <> \"\", Foglio1!$H$15 + S366*10^-3, NA())","v":{"$error":"#N/A"}}]
[3250,8.0864102753237823,{"$f":" IF(Foglio1!$C$11 <> \"\", 8.314472*Foglio1!$C$11*Foglio2!B367, NA())","v":20170.269544407565},{"$f":"IF(Foglio1!$H$11 <> \"\", Foglio1!$H$11 + C367*10^-3, NA())","v":-69.829730455592426},3250,8.0864102753237823,{"$f":" IF(Foglio1!$C$12 <> \"\", 8.314472*Foglio1!$C$12*Foglio2!F367, NA())","v":{"$error":"#N/A"}},{"$f":"IF(Foglio1!$H$12 <> \"\", Foglio1!$H$12 + G367*10^-3, NA())","v":{"$error":"#N/A"}},3250,8.0864102753237823,{"$f":" IF(Foglio1!$C$13 <> \"\", 8.314472*Foglio1!$C$13*Foglio2!J367, NA())","v":{"$error":"#N/A"}},{"$f":"IF(Foglio1!$H$13 <> \"\", Foglio1!$H$13 + K367*10^-3, NA())","v":{"$error":"#N/A"}},3250,8.0864102753237823,{"$f":" IF(Foglio1!$C$14 <> \"\", 8.314472*Foglio1!$C$14*Foglio2!N367, NA())","v":{"$error":"#N/A"}},{"$f":"IF(Foglio1!$H$14 <> \"\", Foglio1!$H$14 + O367*10^-3, NA())","v":{"$error":"#N/A"}},3250,8.0864102753237823,{"$f":" IF(Foglio1!$C$15 <> \"\", 8.314472*Foglio1!$C$15*Foglio2!R367, NA())","v":{"$error":"#N/A"}},{"$f":"IF(Foglio1!$H$15 <> \"\", Foglio1!$H$15 + S367*10^-3, NA())","v":{"$error":"#N/A"}}]
[3259,8.0891756788375613,{"$f":" IF(Foglio1!$C$11 <> \"\", 8.314472*Foglio1!$C$11*Foglio2!B368, NA())","v":20177.16740543277},{"$f":"IF(Foglio1!$H$11 <> \"\", Foglio1!$H$11 + C368*10^-3, NA())","v":-69.822832594567231},3259,8.0891756788375613,{"$f":" IF(Foglio1!$C$12 <> \"\", 8.314472*Foglio1!$C$12*Foglio2!F368, NA())","v":{"$error":"#N/A"}},{"$f":"IF(Foglio1!$H$12 <> \"\", Foglio1!$H$12 + G368*10^-3, NA())","v":{"$error":"#N/A"}},3259,8.0891756788375613,{"$f":" IF(Foglio1!$C$13 <> \"\", 8.314472*Foglio1!$C$13*Foglio2!J368, NA())","v":{"$error":"#N/A"}},{"$f":"IF(Foglio1!$H$13 <> \"\", Foglio1!$H$13 + K368*10^-3, NA())","v":{"$error":"#N/A"}},3259,8.0891756788375613,{"$f":" IF(Foglio1!$C$14 <> \"\", 8.314472*Foglio1!$C$14*Foglio2!N368, NA())","v":{"$error":"#N/A"}},{"$f":"IF(Foglio1!$H$14 <> \"\", Foglio1!$H$14 + O368*10^-3, NA())","v":{"$error":"#N/A"}},3259,8.0891756788375613,{"$f":" IF(Foglio1!$C$15 <> \"\", 8.314472*Foglio1!$C$15*Foglio2!R368, NA())","v":{"$error":"#N/A"}},{"$f":"IF(Foglio1!$H$15 <> \"\", Foglio1!$H$15 + S368*10^-3, NA())","v":{"$error":"#N/A"}}]
[3268,8.091933455979893,{"$f":" IF(Foglio1!$C$11 <> \"\", 8.314472*Foglio1!$C$11*Foglio2!B369, NA())","v":20184.046243682416},{"$f":"IF(Foglio1!$H$11 <> \"\", Foglio1!$H$11 + C369*10^-3, NA())","v":-69.815953756317583},3268,8.091933455979893,{"$f":" IF(Foglio1!$C$12 <> \"\", 8.314472*Foglio1!$C$12*Foglio2!F369, NA())","v":{"$error":"#N/A"}},{"$f":"IF(Foglio1!$H$12 <> \"\", Foglio1!$H$12 + G369*10^-3, NA())","v":{"$error":"#N/A"}},3268,8.091933455979893,{"$f":" IF(Foglio1!$C$13 <> \"\", 8.314472*Foglio1!$C$13*Foglio2!J369, NA())","v":{"$error":"#N/A"}},{"$f":"IF(Foglio1!$H$13 <> \"\", Foglio1!$H$13 + K369*10^-3, NA())","v":{"$error":"#N/A"}},3268,8.091933455979893,{"$f":" IF(Foglio1!$C$14 <> \"\", 8.314472*Foglio1!$C$14*Foglio2!N369, NA())","v":{"$error":"#N/A"}},{"$f":"IF(Foglio1!$H$14 <> \"\", Foglio1!$H$14 + O369*10^-3, NA())","v":{"$error":"#N/A"}},3268,8.091933455979893,{"$f":" IF(Foglio1!$C$15 <> \"\", 8.314472*Foglio1!$C$15*Foglio2!R369, NA())","v":{"$error":"#N/A"}},{"$f":"IF(Foglio1!$H$15 <> \"\", Foglio1!$H$15 + S369*10^-3, NA())","v":{"$error":"#N/A"}}]
[3277,8.0946836486988154,{"$f":" IF(Foglio1!$C$11 <> \"\", 8.314472*Foglio1!$C$11*Foglio2!B370, NA())","v":20190.906163789241},{"$f":"IF(Foglio1!$H$11 <> \"\", Foglio1!$H$11 + C370*10^-3, NA())","v":-69.809093836210764},3277,8.0946836486988154,{"$f":" IF(Foglio1!$C$12 <> \"\", 8.314472*Foglio1!$C$12*Foglio2!F370, NA())","v":{"$error":"#N/A"}},{"$f":"IF(Foglio1!$H$12 <> \"\", Foglio1!$H$12 + G370*10^-3, NA())","v":{"$error":"#N/A"}},3277,8.0946836486988154,{"$f":" IF(Foglio1!$C$13 <> \"\", 8.314472*Foglio1!$C$13*Foglio2!J370, NA())","v":{"$error":"#N/A"}},{"$f":"IF(Foglio1!$H$13 <> \"\", Foglio1!$H$13 + K370*10^-3, NA())","v":{"$error":"#N/A"}},3277,8.0946836486988154,{"$f":" IF(Foglio1!$C$14 <> \"\", 8.314472*Foglio1!$C$14*Foglio2!N370, NA())","v":{"$error":"#N/A"}},{"$f":"IF(Foglio1!$H$14 <> \"\", Foglio1!$H$14 + O370*10^-3, NA())","v":{"$error":"#N/A"}},3277,8.0946836486988154,{"$f":" IF(Foglio1!$C$15 <> \"\", 8.314472*Foglio1!$C$15*Foglio2!R370, NA())","v":{"$error":"#N/A"}},{"$f":"IF(Foglio1!$H$15 <> \"\", Foglio1!$H$15 + S370*10^-3, NA())","v":{"$error":"#N/A"}}]
[3286,8.0974262985972132,{"$f":" IF(Foglio1!$C$11 <> \"\", 8.314472*Foglio1!$C$11*Foglio2!B371, NA())","v":20197.747269525051},{"$f":"IF(Foglio1!$H$11 <> \"\", Foglio1!$H$11 + C371*10^-3, NA())","v":-69.802252730474947},3286,8.0974262985972132,{"$f":" IF(Foglio1!$C$12 <> \"\", 8.314472*Foglio1!$C$12*Foglio2!F371, NA())","v":{"$error":"#N/A"}},{"$f":"IF(Foglio1!$H$12 <> \"\", Foglio1!$H$12 + G371*10^-3, NA())","v":{"$error":"#N/A"}},3286,8.0974262985972132,{"$f":" IF(Foglio1!$C$13 <> \"\", 8.314472*Foglio1!$C$13*Foglio2!J371, NA())","v":{"$error":"#N/A"}},{"$f":"IF(Foglio1!$H$13 <> \"\", Foglio1!$H$13 + K371*10^-3, NA())","v":{"$error":"#N/A"}},3286,8.0974262985972132,{"$f":" IF(Foglio1!$C$14 <> \"\", 8.314472*Foglio1!$C$14*Foglio2!N371, NA())","v":{"$error":"#N/A"}},{"$f":"IF(Foglio1!$H$14 <> \"\", Foglio1!$H$14 + O371*10^-3, NA())","v":{"$error":"#N/A"}},3286,8.0974262985972132,{"$f":" IF(Foglio1!$C$15 <> \"\", 8.314472*Foglio1!$C$15*Foglio2!R371, NA())","v":{"$error":"#N/A"}},{"$f":"IF(Foglio1!$H$15 <> \"\", Foglio1!$H$15 + S371*10^-3, NA())","v":{"$error":"#N/A"}}]
[3295,8.1001614469366068,{"$f":" IF(Foglio1!$C$11 <> \"\", 8.314472*Foglio1!$C$11*Foglio2!B372, NA())","v":20204.569663810173},{"$f":"IF(Foglio1!$H$11 <> \"\", Foglio1!$H$11 + C372*10^-3, NA())","v":-69.795430336189824},3295,8.1001614469366068,{"$f":" IF(Foglio1!$C$12 <> \"\", 8.314472*Foglio1!$C$12*Foglio2!F372, NA())","v":{"$error":"#N/A"}},{"$f":"IF(Foglio1!$H$12 <> \"\", Foglio1!$H$12 + G372*10^-3, NA())","v":{"$error":"#N/A"}},3295,8.1001614469366068,{"$f":" IF(Foglio1!$C$13 <> \"\", 8.314472*Foglio1!$C$13*Foglio2!J372, NA())","v":{"$error":"#N/A"}},{"$f":"IF(Foglio1!$H$13 <> \"\", Foglio1!$H$13 + K372*10^-3, NA())","v":{"$error":"#N/A"}},3295,8.1001614469366068,{"$f":" IF(Foglio1!$C$14 <> \"\", 8.314472*Foglio1!$C$14*Foglio2!N372, NA())","v":{"$error":"#N/A"}},{"$f":"IF(Foglio1!$H$14 <> \"\", Foglio1!$H$14 + O372*10^-3, NA())","v":{"$error":"#N/A"}},3295,8.1001614469366068,{"$f":" IF(Foglio1!$C$15 <> \"\", 8.314472*Foglio1!$C$15*Foglio2!R372, NA())","v":{"$error":"#N/A"}},{"$f":"IF(Foglio1!$H$15 <> \"\", Foglio1!$H$15 + S372*10^-3, NA())","v":{"$error":"#N/A"}}]
[3304,8.1028891346408685,{"$f":" IF(Foglio1!$C$11 <> \"\", 8.314472*Foglio1!$C$11*Foglio2!B373, NA())","v":20211.373448722719},{"$f":"IF(Foglio1!$H$11 <> \"\", Foglio1!$H$11 + C373*10^-3, NA())","v":-69.788626551277275},3304,8.1028891346408685,{"$f":" IF(Foglio1!$C$12 <> \"\", 8.314472*Foglio1!$C$12*Foglio2!F373, NA())","v":{"$error":"#N/A"}},{"$f":"IF(Foglio1!$H$12 <> \"\", Foglio1!$H$12 + G373*10^-3, NA())","v":{"$error":"#N/A"}},3304,8.1028891346408685,{"$f":" IF(Foglio1!$C$13 <> \"\", 8.314472*Foglio1!$C$13*Foglio2!J373, NA())","v":{"$error":"#N/A"}},{"$f":"IF(Foglio1!$H$13 <> \"\", Foglio1!$H$13 + K373*10^-3, NA())","v":{"$error":"#N/A"}},3304,8.1028891346408685,{"$f":" IF(Foglio1!$C$14 <> \"\", 8.314472*Foglio1!$C$14*Foglio2!N373, NA())","v":{"$error":"#N/A"}},{"$f":"IF(Foglio1!$H$14 <> \"\", Foglio1!$H$14 + O373*10^-3, NA())","v":{"$error":"#N/A"}},3304,8.1028891346408685,{"$f":" IF(Foglio1!$C$15 <> \"\", 8.314472*Foglio1!$C$15*Foglio2!R373, NA())","v":{"$error":"#N/A"}},{"$f":"IF(Foglio1!$H$15 <> \"\", Foglio1!$H$15 + S373*10^-3, NA())","v":{"$error":"#N/A"}}]
[3313,8.1056094022998959,{"$f":" IF(Foglio1!$C$11 <> \"\", 8.314472*Foglio1!$C$11*Foglio2!B374, NA())","v":20218.158725507768},{"$f":"IF(Foglio1!$H$11 <> \"\", Foglio1!$H$11 + C374*10^-3, NA())","v":-69.781841274492223},3313,8.1056094022998959,{"$f":" IF(Foglio1!$C$12 <> \"\", 8.314472*Foglio1!$C$12*Foglio2!F374, NA())","v":{"$error":"#N/A"}},{"$f":"IF(Foglio1!$H$12 <> \"\", Foglio1!$H$12 + G374*10^-3, NA())","v":{"$error":"#N/A"}},3313,8.1056094022998959,{"$f":" IF(Foglio1!$C$13 <> \"\", 8.314472*Foglio1!$C$13*Foglio2!J374, NA())","v":{"$error":"#N/A"}},{"$f":"IF(Foglio1!$H$13 <> \"\", Foglio1!$H$13 + K374*10^-3, NA())","v":{"$error":"#N/A"}},3313,8.1056094022998959,{"$f":" IF(Foglio1!$C$14 <> \"\", 8.314472*Foglio1!$C$14*Foglio2!N374, NA())","v":{"$error":"#N/A"}},{"$f":"IF(Foglio1!$H$14 <> \"\", Foglio1!$H$14 + O374*10^-3, NA())","v":{"$error":"#N/A"}},3313,8.1056094022998959,{"$f":" IF(Foglio1!$C$15 <> \"\", 8.314472*Foglio1!$C$15*Foglio2!R374, NA())","v":{"$error":"#N/A"}},{"$f":"IF(Foglio1!$H$15 <> \"\", Foglio1!$H$15 + S374*10^-3, NA())","v":{"$error":"#N/A"}}]
[3322,8.1083222901732395,{"$f":" IF(Foglio1!$C$11 <> \"\", 8.314472*Foglio1!$C$11*Foglio2!B375, NA())","v":20224.925594586384},{"$f":"IF(Foglio1!$H$11 <> \"\", Foglio1!$H$11 + C375*10^-3, NA())","v":-69.775074405413619},3322,8.1083222901732395,{"$f":" IF(Foglio1!$C$12 <> \"\", 8.314472*Foglio1!$C$12*Foglio2!F375, NA())","v":{"$error":"#N/A"}},{"$f":"IF(Foglio1!$H$12 <> \"\", Foglio1!$H$12 + G375*10^-3, NA())","v":{"$error":"#N/A"}},3322,8.1083222901732395,{"$f":" IF(Foglio1!$C$13 <> \"\", 8.314472*Foglio1!$C$13*Foglio2!J375, NA())","v":{"$error":"#N/A"}},{"$f":"IF(Foglio1!$H$13 <> \"\", Foglio1!$H$13 + K375*10^-3, NA())","v":{"$error":"#N/A"}},3322,8.1083222901732395,{"$f":" IF(Foglio1!$C$14 <> \"\", 8.314472*Foglio1!$C$14*Foglio2!N375, NA())","v":{"$error":"#N/A"}},{"$f":"IF(Foglio1!$H$14 <> \"\", Foglio1!$H$14 + O375*10^-3, NA())","v":{"$error":"#N/A"}},3322,8.1083222901732395,{"$f":" IF(Foglio1!$C$15 <> \"\", 8.314472*Foglio1!$C$15*Foglio2!R375, NA())","v":{"$error":"#N/A"}},{"$f":"IF(Foglio1!$H$15 <> \"\", Foglio1!$H$15 + S375*10^-3, NA())","v":{"$error":"#N/A"}}]
[3331,8.1110278381936798,{"$f":" IF(Foglio1!$C$11 <> \"\", 8.314472*Foglio1!$C$11*Foglio2!B376, NA())","v":20231.674155564568},{"$f":"IF(Foglio1!$H$11 <> \"\", Foglio1!$H$11 + C376*10^-3, NA())","v":-69.768325844435424},3331,8.1110278381936798,{"$f":" IF(Foglio1!$C$12 <> \"\", 8.314472*Foglio1!$C$12*Foglio2!F376, NA())","v":{"$error":"#N/A"}},{"$f":"IF(Foglio1!$H$12 <> \"\", Foglio1!$H$12 + G376*10^-3, NA())","v":{"$error":"#N/A"}},3331,8.1110278381936798,{"$f":" IF(Foglio1!$C$13 <> \"\", 8.314472*Foglio1!$C$13*Foglio2!J376, NA())","v":{"$error":"#N/A"}},{"$f":"IF(Foglio1!$H$13 <> \"\", Foglio1!$H$13 + K376*10^-3, NA())","v":{"$error":"#N/A"}},3331,8.1110278381936798,{"$f":" IF(Foglio1!$C$14 <> \"\", 8.314472*Foglio1!$C$14*Foglio2!N376, NA())","v":{"$error":"#N/A"}},{"$f":"IF(Foglio1!$H$14 <> \"\", Foglio1!$H$14 + O376*10^-3, NA())","v":{"$error":"#N/A"}},3331,8.1110278381936798,{"$f":" IF(Foglio1!$C$15 <> \"\", 8.314472*Foglio1!$C$15*Foglio2!R376, NA())","v":{"$error":"#N/A"}},{"$f":"IF(Foglio1!$H$15 <> \"\", Foglio1!$H$15 + S376*10^-3, NA())","v":{"$error":"#N/A"}}]
[3340,8.1137260859707467,{"$f":" IF(Foglio1!$C$11 <> \"\", 8.314472*Foglio1!$C$11*Foglio2!B377, NA())","v":20238.404507242012},{"$f":"IF(Foglio1!$H$11 <> \"\", Foglio1!$H$11 + C377*10^-3, NA())","v":-69.761595492757991},3340,8.1137260859707467,{"$f":" IF(Foglio1!$C$12 <> \"\", 8.314472*Foglio1!$C$12*Foglio2!F377, NA())","v":{"$error":"#N/A"}},{"$f":"IF(Foglio1!$H$12 <> \"\", Foglio1!$H$12 + G377*10^-3, NA())","v":{"$error":"#N/A"}},3340,8.1137260859707467,{"$f":" IF(Foglio1!$C$13 <> \"\", 8.314472*Foglio1!$C$13*Foglio2!J377, NA())","v":{"$error":"#N/A"}},{"$f":"IF(Foglio1!$H$13 <> \"\", Foglio1!$H$13 + K377*10^-3, NA())","v":{"$error":"#N/A"}},3340,8.1137260859707467,{"$f":" IF(Foglio1!$C$14 <> \"\", 8.314472*Foglio1!$C$14*Foglio2!N377, NA())","v":{"$error":"#N/A"}},{"$f":"IF(Foglio1!$H$14 <> \"\", Foglio1!$H$14 + O377*10^-3, NA())","v":{"$error":"#N/A"}},3340,8.1137260859707467,{"$f":" IF(Foglio1!$C$15 <> \"\", 8.314472*Foglio1!$C$15*Foglio2!R377, NA())","v":{"$error":"#N/A"}},{"$f":"IF(Foglio1!$H$15 <> \"\", Foglio1!$H$15 + S377*10^-3, NA())","v":{"$error":"#N/A"}}]
[3349,8.1164170727942047,{"$f":" IF(Foglio1!$C$11 <> \"\", 8.314472*Foglio1!$C$11*Foglio2!B378, NA())","v":20245.116747620814},{"$f":"IF(Foglio1!$H$11 <> \"\", Foglio1!$H$11 + C378*10^-3, NA())","v":-69.754883252379187},3349,8.1164170727942047,{"$f":" IF(Foglio1!$C$12 <> \"\", 8.314472*Foglio1!$C$12*Foglio2!F378, NA())","v":{"$error":"#N/A"}},{"$f":"IF(Foglio1!$H$12 <> \"\", Foglio1!$H$12 + G378*10^-3, NA())","v":{"$error":"#N/A"}},3349,8.1164170727942047,{"$f":" IF(Foglio1!$C$13 <> \"\", 8.314472*Foglio1!$C$13*Foglio2!J378, NA())","v":{"$error":"#N/A"}},{"$f":"IF(Foglio1!$H$13 <> \"\", Foglio1!$H$13 + K378*10^-3, NA())","v":{"$error":"#N/A"}},3349,8.1164170727942047,{"$f":" IF(Foglio1!$C$14 <> \"\", 8.314472*Foglio1!$C$14*Foglio2!N378, NA())","v":{"$error":"#N/A"}},{"$f":"IF(Foglio1!$H$14 <> \"\", Foglio1!$H$14 + O378*10^-3, NA())","v":{"$error":"#N/A"}},3349,8.1164170727942047,{"$f":" IF(Foglio1!$C$15 <> \"\", 8.314472*Foglio1!$C$15*Foglio2!R378, NA())","v":{"$error":"#N/A"}},{"$f":"IF(Foglio1!$H$15 <> \"\", Foglio1!$H$15 + S378*10^-3, NA())","v":{"$error":"#N/A"}}]
[3358,8.119100837637486,{"$f":" IF(Foglio1!$C$11 <> \"\", 8.314472*Foglio1!$C$11*Foglio2!B379, NA())","v":20251.810973914027},{"$f":"IF(Foglio1!$H$11 <> \"\", Foglio1!$H$11 + C379*10^-3, NA())","v":-69.748189026085967},3358,8.119100837637486,{"$f":" IF(Foglio1!$C$12 <> \"\", 8.314472*Foglio1!$C$12*Foglio2!F379, NA())","v":{"$error":"#N/A"}},{"$f":"IF(Foglio1!$H$12 <> \"\", Foglio1!$H$12 + G379*10^-3, NA())","v":{"$error":"#N/A"}},3358,8.119100837637486,{"$f":" IF(Foglio1!$C$13 <> \"\", 8.314472*Foglio1!$C$13*Foglio2!J379, NA())","v":{"$error":"#N/A"}},{"$f":"IF(Foglio1!$H$13 <> \"\", Foglio1!$H$13 + K379*10^-3, NA())","v":{"$error":"#N/A"}},3358,8.119100837637486,{"$f":" IF(Foglio1!$C$14 <> \"\", 8.314472*Foglio1!$C$14*Foglio2!N379, NA())","v":{"$error":"#N/A"}},{"$f":"IF(Foglio1!$H$14 <> \"\", Foglio1!$H$14 + O379*10^-3, NA())","v":{"$error":"#N/A"}},3358,8.119100837637486,{"$f":" IF(Foglio1!$C$15 <> \"\", 8.314472*Foglio1!$C$15*Foglio2!R379, NA())","v":{"$error":"#N/A"}},{"$f":"IF(Foglio1!$H$15 <> \"\", Foglio1!$H$15 + S379*10^-3, NA())","v":{"$error":"#N/A"}}]
[3367,8.1217774191610737,{"$f":" IF(Foglio1!$C$11 <> \"\", 8.314472*Foglio1!$C$11*Foglio2!B380, NA())","v":20258.487282554106},{"$f":"IF(Foglio1!$H$11 <> \"\", Foglio1!$H$11 + C380*10^-3, NA())","v":-69.741512717445886},3367,8.1217774191610737,{"$f":" IF(Foglio1!$C$12 <> \"\", 8.314472*Foglio1!$C$12*Foglio2!F380, NA())","v":{"$error":"#N/A"}},{"$f":"IF(Foglio1!$H$12 <> \"\", Foglio1!$H$12 + G380*10^-3, NA())","v":{"$error":"#N/A"}},3367,8.1217774191610737,{"$f":" IF(Foglio1!$C$13 <> \"\", 8.314472*Foglio1!$C$13*Foglio2!J380, NA())","v":{"$error":"#N/A"}},{"$f":"IF(Foglio1!$H$13 <> \"\", Foglio1!$H$13 + K380*10^-3, NA())","v":{"$error":"#N/A"}},3367,8.1217774191610737,{"$f":" IF(Foglio1!$C$14 <> \"\", 8.314472*Foglio1!$C$14*Foglio2!N380, NA())","v":{"$error":"#N/A"}},{"$f":"IF(Foglio1!$H$14 <> \"\", Foglio1!$H$14 + O380*10^-3, NA())","v":{"$error":"#N/A"}},3367,8.1217774191610737,{"$f":" IF(Foglio1!$C$15 <> \"\", 8.314472*Foglio1!$C$15*Foglio2!R380, NA())","v":{"$error":"#N/A"}},{"$f":"IF(Foglio1!$H$15 <> \"\", Foglio1!$H$15 + S380*10^-3, NA())","v":{"$error":"#N/A"}}]
[3376,8.1244468557158473,{"$f":" IF(Foglio1!$C$11 <> \"\", 8.314472*Foglio1!$C$11*Foglio2!B381, NA())","v":20265.145769201237},{"$f":"IF(Foglio1!$H$11 <> \"\", Foglio1!$H$11 + C381*10^-3, NA())","v":-69.73485423079876},3376,8.1244468557158473,{"$f":" IF(Foglio1!$C$12 <> \"\", 8.314472*Foglio1!$C$12*Foglio2!F381, NA())","v":{"$error":"#N/A"}},{"$f":"IF(Foglio1!$H$12 <> \"\", Foglio1!$H$12 + G381*10^-3, NA())","v":{"$error":"#N/A"}},3376,8.1244468557158473,{"$f":" IF(Foglio1!$C$13 <> \"\", 8.314472*Foglio1!$C$13*Foglio2!J381, NA())","v":{"$error":"#N/A"}},{"$f":"IF(Foglio1!$H$13 <> \"\", Foglio1!$H$13 + K381*10^-3, NA())","v":{"$error":"#N/A"}},3376,8.1244468557158473,{"$f":" IF(Foglio1!$C$14 <> \"\", 8.314472*Foglio1!$C$14*Foglio2!N381, NA())","v":{"$error":"#N/A"}},{"$f":"IF(Foglio1!$H$14 <> \"\", Foglio1!$H$14 + O381*10^-3, NA())","v":{"$error":"#N/A"}},3376,8.1244468557158473,{"$f":" IF(Foglio1!$C$15 <> \"\", 8.314472*Foglio1!$C$15*Foglio2!R381, NA())","v":{"$error":"#N/A"}},{"$f":"IF(Foglio1!$H$15 <> \"\", Foglio1!$H$15 + S381*10^-3, NA())","v":{"$error":"#N/A"}}]
[3385,8.1271091853463755,{"$f":" IF(Foglio1!$C$11 <> \"\", 8.314472*Foglio1!$C$11*Foglio2!B382, NA())","v":20271.786528751578},{"$f":"IF(Foglio1!$H$11 <> \"\", Foglio1!$H$11 + C382*10^-3, NA())","v":-69.728213471248424},3385,8.1271091853463755,{"$f":" IF(Foglio1!$C$12 <> \"\", 8.314472*Foglio1!$C$12*Foglio2!F382, NA())","v":{"$error":"#N/A"}},{"$f":"IF(Foglio1!$H$12 <> \"\", Foglio1!$H$12 + G382*10^-3, NA())","v":{"$error":"#N/A"}},3385,8.1271091853463755,{"$f":" IF(Foglio1!$C$13 <> \"\", 8.314472*Foglio1!$C$13*Foglio2!J382, NA())","v":{"$error":"#N/A"}},{"$f":"IF(Foglio1!$H$13 <> \"\", Foglio1!$H$13 + K382*10^-3, NA())","v":{"$error":"#N/A"}},3385,8.1271091853463755,{"$f":" IF(Foglio1!$C$14 <> \"\", 8.314472*Foglio1!$C$14*Foglio2!N382, NA())","v":{"$error":"#N/A"}},{"$f":"IF(Foglio1!$H$14 <> \"\", Foglio1!$H$14 + O382*10^-3, NA())","v":{"$error":"#N/A"}},3385,8.1271091853463755,{"$f":" IF(Foglio1!$C$15 <> \"\", 8.314472*Foglio1!$C$15*Foglio2!R382, NA())","v":{"$error":"#N/A"}},{"$f":"IF(Foglio1!$H$15 <> \"\", Foglio1!$H$15 + S382*10^-3, NA())","v":{"$error":"#N/A"}}]
[3394,8.1297644457941711,{"$f":" IF(Foglio1!$C$11 <> \"\", 8.314472*Foglio1!$C$11*Foglio2!B383, NA())","v":20278.409655345349},{"$f":"IF(Foglio1!$H$11 <> \"\", Foglio1!$H$11 + C383*10^-3, NA())","v":-69.721590344654658},3394,8.1297644457941711,{"$f":" IF(Foglio1!$C$12 <> \"\", 8.314472*Foglio1!$C$12*Foglio2!F383, NA())","v":{"$error":"#N/A"}},{"$f":"IF(Foglio1!$H$12 <> \"\", Foglio1!$H$12 + G383*10^-3, NA())","v":{"$error":"#N/A"}},3394,8.1297644457941711,{"$f":" IF(Foglio1!$C$13 <> \"\", 8.314472*Foglio1!$C$13*Foglio2!J383, NA())","v":{"$error":"#N/A"}},{"$f":"IF(Foglio1!$H$13 <> \"\", Foglio1!$H$13 + K383*10^-3, NA())","v":{"$error":"#N/A"}},3394,8.1297644457941711,{"$f":" IF(Foglio1!$C$14 <> \"\", 8.314472*Foglio1!$C$14*Foglio2!N383, NA())","v":{"$error":"#N/A"}},{"$f":"IF(Foglio1!$H$14 <> \"\", Foglio1!$H$14 + O383*10^-3, NA())","v":{"$error":"#N/A"}},3394,8.1297644457941711,{"$f":" IF(Foglio1!$C$15 <> \"\", 8.314472*Foglio1!$C$15*Foglio2!R383, NA())","v":{"$error":"#N/A"}},{"$f":"IF(Foglio1!$H$15 <> \"\", Foglio1!$H$15 + S383*10^-3, NA())","v":{"$error":"#N/A"}}]
[3403,8.1324126745009053,{"$f":" IF(Foglio1!$C$11 <> \"\", 8.314472*Foglio1!$C$11*Foglio2!B384, NA())","v":20285.01524237487},{"$f":"IF(Foglio1!$H$11 <> \"\", Foglio1!$H$11 + C384*10^-3, NA())","v":-69.714984757625132},3403,8.1324126745009053,{"$f":" IF(Foglio1!$C$12 <> \"\", 8.314472*Foglio1!$C$12*Foglio2!F384, NA())","v":{"$error":"#N/A"}},{"$f":"IF(Foglio1!$H$12 <> \"\", Foglio1!$H$12 + G384*10^-3, NA())","v":{"$error":"#N/A"}},3403,8.1324126745009053,{"$f":" IF(Foglio1!$C$13 <> \"\", 8.314472*Foglio1!$C$13*Foglio2!J384, NA())","v":{"$error":"#N/A"}},{"$f":"IF(Foglio1!$H$13 <> \"\", Foglio1!$H$13 + K384*10^-3, NA())","v":{"$error":"#N/A"}},3403,8.1324126745009053,{"$f":" IF(Foglio1!$C$14 <> \"\", 8.314472*Foglio1!$C$14*Foglio2!N384, NA())","v":{"$error":"#N/A"}},{"$f":"IF(Foglio1!$H$14 <> \"\", Foglio1!$H$14 + O384*10^-3, NA())","v":{"$error":"#N/A"}},3403,8.1324126745009053,{"$f":" IF(Foglio1!$C$15 <> \"\", 8.314472*Foglio1!$C$15*Foglio2!R384, NA())","v":{"$error":"#N/A"}},{"$f":"IF(Foglio1!$H$15 <> \"\", Foglio1!$H$15 + S384*10^-3, NA())","v":{"$error":"#N/A"}}]
[3412,8.1350539086115692,{"$f":" IF(Foglio1!$C$11 <> \"\", 8.314472*Foglio1!$C$11*Foglio2!B385, NA())","v":20291.603382492438},{"$f":"IF(Foglio1!$H$11 <> \"\", Foglio1!$H$11 + C385*10^-3, NA())","v":-69.70839661750756},3412,8.1350539086115692,{"$f":" IF(Foglio1!$C$12 <> \"\", 8.314472*Foglio1!$C$12*Foglio2!F385, NA())","v":{"$error":"#N/A"}},{"$f":"IF(Foglio1!$H$12 <> \"\", Foglio1!$H$12 + G385*10^-3, NA())","v":{"$error":"#N/A"}},3412,8.1350539086115692,{"$f":" IF(Foglio1!$C$13 <> \"\", 8.314472*Foglio1!$C$13*Foglio2!J385, NA())","v":{"$error":"#N/A"}},{"$f":"IF(Foglio1!$H$13 <> \"\", Foglio1!$H$13 + K385*10^-3, NA())","v":{"$error":"#N/A"}},3412,8.1350539086115692,{"$f":" IF(Foglio1!$C$14 <> \"\", 8.314472*Foglio1!$C$14*Foglio2!N385, NA())","v":{"$error":"#N/A"}},{"$f":"IF(Foglio1!$H$14 <> \"\", Foglio1!$H$14 + O385*10^-3, NA())","v":{"$error":"#N/A"}},3412,8.1350539086115692,{"$f":" IF(Foglio1!$C$15 <> \"\", 8.314472*Foglio1!$C$15*Foglio2!R385, NA())","v":{"$error":"#N/A"}},{"$f":"IF(Foglio1!$H$15 <> \"\", Foglio1!$H$15 + S385*10^-3, NA())","v":{"$error":"#N/A"}}]
[3421,8.1376881849776055,{"$f":" IF(Foglio1!$C$11 <> \"\", 8.314472*Foglio1!$C$11*Foglio2!B386, NA())","v":20298.174167618137},{"$f":"IF(Foglio1!$H$11 <> \"\", Foglio1!$H$11 + C386*10^-3, NA())","v":-69.701825832381857},3421,8.1376881849776055,{"$f":" IF(Foglio1!$C$12 <> \"\", 8.314472*Foglio1!$C$12*Foglio2!F386, NA())","v":{"$error":"#N/A"}},{"$f":"IF(Foglio1!$H$12 <> \"\", Foglio1!$H$12 + G386*10^-3, NA())","v":{"$error":"#N/A"}},3421,8.1376881849776055,{"$f":" IF(Foglio1!$C$13 <> \"\", 8.314472*Foglio1!$C$13*Foglio2!J386, NA())","v":{"$error":"#N/A"}},{"$f":"IF(Foglio1!$H$13 <> \"\", Foglio1!$H$13 + K386*10^-3, NA())","v":{"$error":"#N/A"}},3421,8.1376881849776055,{"$f":" IF(Foglio1!$C$14 <> \"\", 8.314472*Foglio1!$C$14*Foglio2!N386, NA())","v":{"$error":"#N/A"}},{"$f":"IF(Foglio1!$H$14 <> \"\", Foglio1!$H$14 + O386*10^-3, NA())","v":{"$error":"#N/A"}},3421,8.1376881849776055,{"$f":" IF(Foglio1!$C$15 <> \"\", 8.314472*Foglio1!$C$15*Foglio2!R386, NA())","v":{"$error":"#N/A"}},{"$f":"IF(Foglio1!$H$15 <> \"\", Foglio1!$H$15 + S386*10^-3, NA())","v":{"$error":"#N/A"}}]
[3430,{"$f":"LN(A387)","v":8.1403155401599854},{"$f":" IF(Foglio1!$C$11 <> \"\", 8.314472*Foglio1!$C$11*Foglio2!B387, NA())","v":20304.727688947525},{"$f":"IF(Foglio1!$H$11 <> \"\", Foglio1!$H$11 + C387*10^-3, NA())","v":-69.695272311052477},3430,{"$f":"LN(E387)","v":8.1403155401599854},{"$f":" IF(Foglio1!$C$12 <> \"\", 8.314472*Foglio1!$C$12*Foglio2!F387, NA())","v":{"$error":"#N/A"}},{"$f":"IF(Foglio1!$H$12 <> \"\", Foglio1!$H$12 + G387*10^-3, NA())","v":{"$error":"#N/A"}},3430,{"$f":"LN(I387)","v":8.1403155401599854},{"$f":" IF(Foglio1!$C$13 <> \"\", 8.314472*Foglio1!$C$13*Foglio2!J387, NA())","v":{"$error":"#N/A"}},{"$f":"IF(Foglio1!$H$13 <> \"\", Foglio1!$H$13 + K387*10^-3, NA())","v":{"$error":"#N/A"}},3430,{"$f":"LN(M387)","v":8.1403155401599854},{"$f":" IF(Foglio1!$C$14 <> \"\", 8.314472*Foglio1!$C$14*Foglio2!N387, NA())","v":{"$error":"#N/A"}},{"$f":"IF(Foglio1!$H$14 <> \"\", Foglio1!$H$14 + O387*10^-3, NA())","v":{"$error":"#N/A"}},3430,{"$f":"LN(Q387)","v":8.1403155401599854},{"$f":" IF(Foglio1!$C$15 <> \"\", 8.314472*Foglio1!$C$15*Foglio2!R387, NA())","v":{"$error":"#N/A"}},{"$f":"IF(Foglio1!$H$15 <> \"\", Foglio1!$H$15 + S387*10^-3, NA())","v":{"$error":"#N/A"}}]
[3439,8.1429360104322654,{"$f":" IF(Foglio1!$C$11 <> \"\", 8.314472*Foglio1!$C$11*Foglio2!B388, NA())","v":20311.264036959234},{"$f":"IF(Foglio1!$H$11 <> \"\", Foglio1!$H$11 + C388*10^-3, NA())","v":-69.68873596304077},3439,8.1429360104322654,{"$f":" IF(Foglio1!$C$12 <> \"\", 8.314472*Foglio1!$C$12*Foglio2!F388, NA())","v":{"$error":"#N/A"}},{"$f":"IF(Foglio1!$H$12 <> \"\", Foglio1!$H$12 + G388*10^-3, NA())","v":{"$error":"#N/A"}},3439,8.1429360104322654,{"$f":" IF(Foglio1!$C$13 <> \"\", 8.314472*Foglio1!$C$13*Foglio2!J388, NA())","v":{"$error":"#N/A"}},{"$f":"IF(Foglio1!$H$13 <> \"\", Foglio1!$H$13 + K388*10^-3, NA())","v":{"$error":"#N/A"}},3439,8.1429360104322654,{"$f":" IF(Foglio1!$C$14 <> \"\", 8.314472*Foglio1!$C$14*Foglio2!N388, NA())","v":{"$error":"#N/A"}},{"$f":"IF(Foglio1!$H$14 <> \"\", Foglio1!$H$14 + O388*10^-3, NA())","v":{"$error":"#N/A"}},3439,8.1429360104322654,{"$f":" IF(Foglio1!$C$15 <> \"\", 8.314472*Foglio1!$C$15*Foglio2!R388, NA())","v":{"$error":"#N/A"}},{"$f":"IF(Foglio1!$H$15 <> \"\", Foglio1!$H$15 + S388*10^-3, NA())","v":{"$error":"#N/A"}}]
[3448,8.1455496317835845,{"$f":" IF(Foglio1!$C$11 <> \"\", 8.314472*Foglio1!$C$11*Foglio2!B389, NA())","v":20317.783301422478},{"$f":"IF(Foglio1!$H$11 <> \"\", Foglio1!$H$11 + C389*10^-3, NA())","v":-69.68221669857752},3448,8.1455496317835845,{"$f":" IF(Foglio1!$C$12 <> \"\", 8.314472*Foglio1!$C$12*Foglio2!F389, NA())","v":{"$error":"#N/A"}},{"$f":"IF(Foglio1!$H$12 <> \"\", Foglio1!$H$12 + G389*10^-3, NA())","v":{"$error":"#N/A"}},3448,8.1455496317835845,{"$f":" IF(Foglio1!$C$13 <> \"\", 8.314472*Foglio1!$C$13*Foglio2!J389, NA())","v":{"$error":"#N/A"}},{"$f":"IF(Foglio1!$H$13 <> \"\", Foglio1!$H$13 + K389*10^-3, NA())","v":{"$error":"#N/A"}},3448,8.1455496317835845,{"$f":" IF(Foglio1!$C$14 <> \"\", 8.314472*Foglio1!$C$14*Foglio2!N389, NA())","v":{"$error":"#N/A"}},{"$f":"IF(Foglio1!$H$14 <> \"\", Foglio1!$H$14 + O389*10^-3, NA())","v":{"$error":"#N/A"}},3448,8.1455496317835845,{"$f":" IF(Foglio1!$C$15 <> \"\", 8.314472*Foglio1!$C$15*Foglio2!R389, NA())","v":{"$error":"#N/A"}},{"$f":"IF(Foglio1!$H$15 <> \"\", Foglio1!$H$15 + S389*10^-3, NA())","v":{"$error":"#N/A"}}]
[3457,8.1481564399216246,{"$f":" IF(Foglio1!$C$11 <> \"\", 8.314472*Foglio1!$C$11*Foglio2!B390, NA())","v":20324.285571404409},{"$f":"IF(Foglio1!$H$11 <> \"\", Foglio1!$H$11 + C390*10^-3, NA())","v":-69.675714428595597},3457,8.1481564399216246,{"$f":" IF(Foglio1!$C$12 <> \"\", 8.314472*Foglio1!$C$12*Foglio2!F390, NA())","v":{"$error":"#N/A"}},{"$f":"IF(Foglio1!$H$12 <> \"\", Foglio1!$H$12 + G390*10^-3, NA())","v":{"$error":"#N/A"}},3457,8.1481564399216246,{"$f":" IF(Foglio1!$C$13 <> \"\", 8.314472*Foglio1!$C$13*Foglio2!J390, NA())","v":{"$error":"#N/A"}},{"$f":"IF(Foglio1!$H$13 <> \"\", Foglio1!$H$13 + K390*10^-3, NA())","v":{"$error":"#N/A"}},3457,8.1481564399216246,{"$f":" IF(Foglio1!$C$14 <> \"\", 8.314472*Foglio1!$C$14*Foglio2!N390, NA())","v":{"$error":"#N/A"}},{"$f":"IF(Foglio1!$H$14 <> \"\", Foglio1!$H$14 + O390*10^-3, NA())","v":{"$error":"#N/A"}},3457,8.1481564399216246,{"$f":" IF(Foglio1!$C$15 <> \"\", 8.314472*Foglio1!$C$15*Foglio2!R390, NA())","v":{"$error":"#N/A"}},{"$f":"IF(Foglio1!$H$15 <> \"\", Foglio1!$H$15 + S390*10^-3, NA())","v":{"$error":"#N/A"}}]
[3466,8.1507564702755513,{"$f":" IF(Foglio1!$C$11 <> \"\", 8.314472*Foglio1!$C$11*Foglio2!B391, NA())","v":20330.770935277473},{"$f":"IF(Foglio1!$H$11 <> \"\", Foglio1!$H$11 + C391*10^-3, NA())","v":-69.669229064722529},3466,8.1507564702755513,{"$f":" IF(Foglio1!$C$12 <> \"\", 8.314472*Foglio1!$C$12*Foglio2!F391, NA())","v":{"$error":"#N/A"}},{"$f":"IF(Foglio1!$H$12 <> \"\", Foglio1!$H$12 + G391*10^-3, NA())","v":{"$error":"#N/A"}},3466,8.1507564702755513,{"$f":" IF(Foglio1!$C$13 <> \"\", 8.314472*Foglio1!$C$13*Foglio2!J391, NA())","v":{"$error":"#N/A"}},{"$f":"IF(Foglio1!$H$13 <> \"\", Foglio1!$H$13 + K391*10^-3, NA())","v":{"$error":"#N/A"}},3466,8.1507564702755513,{"$f":" IF(Foglio1!$C$14 <> \"\", 8.314472*Foglio1!$C$14*Foglio2!N391, NA())","v":{"$error":"#N/A"}},{"$f":"IF(Foglio1!$H$14 <> \"\", Foglio1!$H$14 + O391*10^-3, NA())","v":{"$error":"#N/A"}},3466,8.1507564702755513,{"$f":" IF(Foglio1!$C$15 <> \"\", 8.314472*Foglio1!$C$15*Foglio2!R391, NA())","v":{"$error":"#N/A"}},{"$f":"IF(Foglio1!$H$15 <> \"\", Foglio1!$H$15 + S391*10^-3, NA())","v":{"$error":"#N/A"}}]
[3475,8.1533497579988925,{"$f":" IF(Foglio1!$C$11 <> \"\", 8.314472*Foglio1!$C$11*Foglio2!B392, NA())","v":20337.239480726574},{"$f":"IF(Foglio1!$H$11 <> \"\", Foglio1!$H$11 + C392*10^-3, NA())","v":-69.662760519273434},3475,8.1533497579988925,{"$f":" IF(Foglio1!$C$12 <> \"\", 8.314472*Foglio1!$C$12*Foglio2!F392, NA())","v":{"$error":"#N/A"}},{"$f":"IF(Foglio1!$H$12 <> \"\", Foglio1!$H$12 + G392*10^-3, NA())","v":{"$error":"#N/A"}},3475,8.1533497579988925,{"$f":" IF(Foglio1!$C$13 <> \"\", 8.314472*Foglio1!$C$13*Foglio2!J392, NA())","v":{"$error":"#N/A"}},{"$f":"IF(Foglio1!$H$13 <> \"\", Foglio1!$H$13 + K392*10^-3, NA())","v":{"$error":"#N/A"}},3475,8.1533497579988925,{"$f":" IF(Foglio1!$C$14 <> \"\", 8.314472*Foglio1!$C$14*Foglio2!N392, NA())","v":{"$error":"#N/A"}},{"$f":"IF(Foglio1!$H$14 <> \"\", Foglio1!$H$14 + O392*10^-3, NA())","v":{"$error":"#N/A"}},3475,8.1533497579988925,{"$f":" IF(Foglio1!$C$15 <> \"\", 8.314472*Foglio1!$C$15*Foglio2!R392, NA())","v":{"$error":"#N/A"}},{"$f":"IF(Foglio1!$H$15 <> \"\", Foglio1!$H$15 + S392*10^-3, NA())","v":{"$error":"#N/A"}}]
[3484,8.1559363379723937,{"$f":" IF(Foglio1!$C$11 <> \"\", 8.314472*Foglio1!$C$11*Foglio2!B393, NA())","v":20343.691294756201},{"$f":"IF(Foglio1!$H$11 <> \"\", Foglio1!$H$11 + C393*10^-3, NA())","v":-69.656308705243802},3484,8.1559363379723937,{"$f":" IF(Foglio1!$C$12 <> \"\", 8.314472*Foglio1!$C$12*Foglio2!F393, NA())","v":{"$error":"#N/A"}},{"$f":"IF(Foglio1!$H$12 <> \"\", Foglio1!$H$12 + G393*10^-3, NA())","v":{"$error":"#N/A"}},3484,8.1559363379723937,{"$f":" IF(Foglio1!$C$13 <> \"\", 8.314472*Foglio1!$C$13*Foglio2!J393, NA())","v":{"$error":"#N/A"}},{"$f":"IF(Foglio1!$H$13 <> \"\", Foglio1!$H$13 + K393*10^-3, NA())","v":{"$error":"#N/A"}},3484,8.1559363379723937,{"$f":" IF(Foglio1!$C$14 <> \"\", 8.314472*Foglio1!$C$14*Foglio2!N393, NA())","v":{"$error":"#N/A"}},{"$f":"IF(Foglio1!$H$14 <> \"\", Foglio1!$H$14 + O393*10^-3, NA())","v":{"$error":"#N/A"}},3484,8.1559363379723937,{"$f":" IF(Foglio1!$C$15 <> \"\", 8.314472*Foglio1!$C$15*Foglio2!R393, NA())","v":{"$error":"#N/A"}},{"$f":"IF(Foglio1!$H$15 <> \"\", Foglio1!$H$15 + S393*10^-3, NA())","v":{"$error":"#N/A"}}]
[3493,8.1585162448068314,{"$f":" IF(Foglio1!$C$11 <> \"\", 8.314472*Foglio1!$C$11*Foglio2!B394, NA())","v":20350.126463697467},{"$f":"IF(Foglio1!$H$11 <> \"\", Foglio1!$H$11 + C394*10^-3, NA())","v":-69.649873536302536},3493,8.1585162448068314,{"$f":" IF(Foglio1!$C$12 <> \"\", 8.314472*Foglio1!$C$12*Foglio2!F394, NA())","v":{"$error":"#N/A"}},{"$f":"IF(Foglio1!$H$12 <> \"\", Foglio1!$H$12 + G394*10^-3, NA())","v":{"$error":"#N/A"}},3493,8.1585162448068314,{"$f":" IF(Foglio1!$C$13 <> \"\", 8.314472*Foglio1!$C$13*Foglio2!J394, NA())","v":{"$error":"#N/A"}},{"$f":"IF(Foglio1!$H$13 <> \"\", Foglio1!$H$13 + K394*10^-3, NA())","v":{"$error":"#N/A"}},3493,8.1585162448068314,{"$f":" IF(Foglio1!$C$14 <> \"\", 8.314472*Foglio1!$C$14*Foglio2!N394, NA())","v":{"$error":"#N/A"}},{"$f":"IF(Foglio1!$H$14 <> \"\", Foglio1!$H$14 + O394*10^-3, NA())","v":{"$error":"#N/A"}},3493,8.1585162448068314,{"$f":" IF(Foglio1!$C$15 <> \"\", 8.314472*Foglio1!$C$15*Foglio2!R394, NA())","v":{"$error":"#N/A"}},{"$f":"IF(Foglio1!$H$15 <> \"\", Foglio1!$H$15 + S394*10^-3, NA())","v":{"$error":"#N/A"}}]
[3502,8.1610895128457965,{"$f":" IF(Foglio1!$C$11 <> \"\", 8.314472*Foglio1!$C$11*Foglio2!B395, NA())","v":20356.545073215006},{"$f":"IF(Foglio1!$H$11 <> \"\", Foglio1!$H$11 + C395*10^-3, NA())","v":-69.643454926784997},3502,8.1610895128457965,{"$f":" IF(Foglio1!$C$12 <> \"\", 8.314472*Foglio1!$C$12*Foglio2!F395, NA())","v":{"$error":"#N/A"}},{"$f":"IF(Foglio1!$H$12 <> \"\", Foglio1!$H$12 + G395*10^-3, NA())","v":{"$error":"#N/A"}},3502,8.1610895128457965,{"$f":" IF(Foglio1!$C$13 <> \"\", 8.314472*Foglio1!$C$13*Foglio2!J395, NA())","v":{"$error":"#N/A"}},{"$f":"IF(Foglio1!$H$13 <> \"\", Foglio1!$H$13 + K395*10^-3, NA())","v":{"$error":"#N/A"}},3502,8.1610895128457965,{"$f":" IF(Foglio1!$C$14 <> \"\", 8.314472*Foglio1!$C$14*Foglio2!N395, NA())","v":{"$error":"#N/A"}},{"$f":"IF(Foglio1!$H$14 <> \"\", Foglio1!$H$14 + O395*10^-3, NA())","v":{"$error":"#N/A"}},3502,8.1610895128457965,{"$f":" IF(Foglio1!$C$15 <> \"\", 8.314472*Foglio1!$C$15*Foglio2!R395, NA())","v":{"$error":"#N/A"}},{"$f":"IF(Foglio1!$H$15 <> \"\", Foglio1!$H$15 + S395*10^-3, NA())","v":{"$error":"#N/A"}}]
[3511,8.1636561761684323,{"$f":" IF(Foglio1!$C$11 <> \"\", 8.314472*Foglio1!$C$11*Foglio2!B396, NA())","v":20362.94720831385},{"$f":"IF(Foglio1!$H$11 <> \"\", Foglio1!$H$11 + C396*10^-3, NA())","v":-69.637052791686145},3511,8.1636561761684323,{"$f":" IF(Foglio1!$C$12 <> \"\", 8.314472*Foglio1!$C$12*Foglio2!F396, NA())","v":{"$error":"#N/A"}},{"$f":"IF(Foglio1!$H$12 <> \"\", Foglio1!$H$12 + G396*10^-3, NA())","v":{"$error":"#N/A"}},3511,8.1636561761684323,{"$f":" IF(Foglio1!$C$13 <> \"\", 8.314472*Foglio1!$C$13*Foglio2!J396, NA())","v":{"$error":"#N/A"}},{"$f":"IF(Foglio1!$H$13 <> \"\", Foglio1!$H$13 + K396*10^-3, NA())","v":{"$error":"#N/A"}},3511,8.1636561761684323,{"$f":" IF(Foglio1!$C$14 <> \"\", 8.314472*Foglio1!$C$14*Foglio2!N396, NA())","v":{"$error":"#N/A"}},{"$f":"IF(Foglio1!$H$14 <> \"\", Foglio1!$H$14 + O396*10^-3, NA())","v":{"$error":"#N/A"}},3511,8.1636561761684323,{"$f":" IF(Foglio1!$C$15 <> \"\", 8.314472*Foglio1!$C$15*Foglio2!R396, NA())","v":{"$error":"#N/A"}},{"$f":"IF(Foglio1!$H$15 <> \"\", Foglio1!$H$15 + S396*10^-3, NA())","v":{"$error":"#N/A"}}]
[3520,8.1662162685921427,{"$f":" IF(Foglio1!$C$11 <> \"\", 8.314472*Foglio1!$C$11*Foglio2!B397, NA())","v":20369.332953346158},{"$f":"IF(Foglio1!$H$11 <> \"\", Foglio1!$H$11 + C397*10^-3, NA())","v":-69.630667046653841},3520,8.1662162685921427,{"$f":" IF(Foglio1!$C$12 <> \"\", 8.314472*Foglio1!$C$12*Foglio2!F397, NA())","v":{"$error":"#N/A"}},{"$f":"IF(Foglio1!$H$12 <> \"\", Foglio1!$H$12 + G397*10^-3, NA())","v":{"$error":"#N/A"}},3520,8.1662162685921427,{"$f":" IF(Foglio1!$C$13 <> \"\", 8.314472*Foglio1!$C$13*Foglio2!J397, NA())","v":{"$error":"#N/A"}},{"$f":"IF(Foglio1!$H$13 <> \"\", Foglio1!$H$13 + K397*10^-3, NA())","v":{"$error":"#N/A"}},3520,8.1662162685921427,{"$f":" IF(Foglio1!$C$14 <> \"\", 8.314472*Foglio1!$C$14*Foglio2!N397, NA())","v":{"$error":"#N/A"}},{"$f":"IF(Foglio1!$H$14 <> \"\", Foglio1!$H$14 + O397*10^-3, NA())","v":{"$error":"#N/A"}},3520,8.1662162685921427,{"$f":" IF(Foglio1!$C$15 <> \"\", 8.314472*Foglio1!$C$15*Foglio2!R397, NA())","v":{"$error":"#N/A"}},{"$f":"IF(Foglio1!$H$15 <> \"\", Foglio1!$H$15 + S397*10^-3, NA())","v":{"$error":"#N/A"}}]
[3529,8.1687698236752695,{"$f":" IF(Foglio1!$C$11 <> \"\", 8.314472*Foglio1!$C$11*Foglio2!B398, NA())","v":20375.702392017891},{"$f":"IF(Foglio1!$H$11 <> \"\", Foglio1!$H$11 + C398*10^-3, NA())","v":-69.624297607982101},3529,8.1687698236752695,{"$f":" IF(Foglio1!$C$12 <> \"\", 8.314472*Foglio1!$C$12*Foglio2!F398, NA())","v":{"$error":"#N/A"}},{"$f":"IF(Foglio1!$H$12 <> \"\", Foglio1!$H$12 + G398*10^-3, NA())","v":{"$error":"#N/A"}},3529,8.1687698236752695,{"$f":" IF(Foglio1!$C$13 <> \"\", 8.314472*Foglio1!$C$13*Foglio2!J398, NA())","v":{"$error":"#N/A"}},{"$f":"IF(Foglio1!$H$13 <> \"\", Foglio1!$H$13 + K398*10^-3, NA())","v":{"$error":"#N/A"}},3529,8.1687698236752695,{"$f":" IF(Foglio1!$C$14 <> \"\", 8.314472*Foglio1!$C$14*Foglio2!N398, NA())","v":{"$error":"#N/A"}},{"$f":"IF(Foglio1!$H$14 <> \"\", Foglio1!$H$14 + O398*10^-3, NA())","v":{"$error":"#N/A"}},3529,8.1687698236752695,{"$f":" IF(Foglio1!$C$15 <> \"\", 8.314472*Foglio1!$C$15*Foglio2!R398, NA())","v":{"$error":"#N/A"}},{"$f":"IF(Foglio1!$H$15 <> \"\", Foglio1!$H$15 + S398*10^-3, NA())","v":{"$error":"#N/A"}}]
[3538,8.1713168747197304,{"$f":" IF(Foglio1!$C$11 <> \"\", 8.314472*Foglio1!$C$11*Foglio2!B399, NA())","v":20382.055607395414},{"$f":"IF(Foglio1!$H$11 <> \"\", Foglio1!$H$11 + C399*10^-3, NA())","v":-69.617944392604585},3538,8.1713168747197304,{"$f":" IF(Foglio1!$C$12 <> \"\", 8.314472*Foglio1!$C$12*Foglio2!F399, NA())","v":{"$error":"#N/A"}},{"$f":"IF(Foglio1!$H$12 <> \"\", Foglio1!$H$12 + G399*10^-3, NA())","v":{"$error":"#N/A"}},3538,8.1713168747197304,{"$f":" IF(Foglio1!$C$13 <> \"\", 8.314472*Foglio1!$C$13*Foglio2!J399, NA())","v":{"$error":"#N/A"}},{"$f":"IF(Foglio1!$H$13 <> \"\", Foglio1!$H$13 + K399*10^-3, NA())","v":{"$error":"#N/A"}},3538,8.1713168747197304,{"$f":" IF(Foglio1!$C$14 <> \"\", 8.314472*Foglio1!$C$14*Foglio2!N399, NA())","v":{"$error":"#N/A"}},{"$f":"IF(Foglio1!$H$14 <> \"\", Foglio1!$H$14 + O399*10^-3, NA())","v":{"$error":"#N/A"}},3538,8.1713168747197304,{"$f":" IF(Foglio1!$C$15 <> \"\", 8.314472*Foglio1!$C$15*Foglio2!R399, NA())","v":{"$error":"#N/A"}},{"$f":"IF(Foglio1!$H$15 <> \"\", Foglio1!$H$15 + S399*10^-3, NA())","v":{"$error":"#N/A"}}]
[3547,8.1738574547736214,{"$f":" IF(Foglio1!$C$11 <> \"\", 8.314472*Foglio1!$C$11*Foglio2!B400, NA())","v":20388.392681911962},{"$f":"IF(Foglio1!$H$11 <> \"\", Foglio1!$H$11 + C400*10^-3, NA())","v":-69.611607318088033},3547,8.1738574547736214,{"$f":" IF(Foglio1!$C$12 <> \"\", 8.314472*Foglio1!$C$12*Foglio2!F400, NA())","v":{"$error":"#N/A"}},{"$f":"IF(Foglio1!$H$12 <> \"\", Foglio1!$H$12 + G400*10^-3, NA())","v":{"$error":"#N/A"}},3547,8.1738574547736214,{"$f":" IF(Foglio1!$C$13 <> \"\", 8.314472*Foglio1!$C$13*Foglio2!J400, NA())","v":{"$error":"#N/A"}},{"$f":"IF(Foglio1!$H$13 <> \"\", Foglio1!$H$13 + K400*10^-3, NA())","v":{"$error":"#N/A"}},3547,8.1738574547736214,{"$f":" IF(Foglio1!$C$14 <> \"\", 8.314472*Foglio1!$C$14*Foglio2!N400, NA())","v":{"$error":"#N/A"}},{"$f":"IF(Foglio1!$H$14 <> \"\", Foglio1!$H$14 + O400*10^-3, NA())","v":{"$error":"#N/A"}},3547,8.1738574547736214,{"$f":" IF(Foglio1!$C$15 <> \"\", 8.314472*Foglio1!$C$15*Foglio2!R400, NA())","v":{"$error":"#N/A"}},{"$f":"IF(Foglio1!$H$15 <> \"\", Foglio1!$H$15 + S400*10^-3, NA())","v":{"$error":"#N/A"}}]
[3556,8.1763915966337954,{"$f":" IF(Foglio1!$C$11 <> \"\", 8.314472*Foglio1!$C$11*Foglio2!B401, NA())","v":20394.713697374096},{"$f":"IF(Foglio1!$H$11 <> \"\", Foglio1!$H$11 + C401*10^-3, NA())","v":-69.605286302625899},3556,8.1763915966337954,{"$f":" IF(Foglio1!$C$12 <> \"\", 8.314472*Foglio1!$C$12*Foglio2!F401, NA())","v":{"$error":"#N/A"}},{"$f":"IF(Foglio1!$H$12 <> \"\", Foglio1!$H$12 + G401*10^-3, NA())","v":{"$error":"#N/A"}},3556,8.1763915966337954,{"$f":" IF(Foglio1!$C$13 <> \"\", 8.314472*Foglio1!$C$13*Foglio2!J401, NA())","v":{"$error":"#N/A"}},{"$f":"IF(Foglio1!$H$13 <> \"\", Foglio1!$H$13 + K401*10^-3, NA())","v":{"$error":"#N/A"}},3556,8.1763915966337954,{"$f":" IF(Foglio1!$C$14 <> \"\", 8.314472*Foglio1!$C$14*Foglio2!N401, NA())","v":{"$error":"#N/A"}},{"$f":"IF(Foglio1!$H$14 <> \"\", Foglio1!$H$14 + O401*10^-3, NA())","v":{"$error":"#N/A"}},3556,8.1763915966337954,{"$f":" IF(Foglio1!$C$15 <> \"\", 8.314472*Foglio1!$C$15*Foglio2!R401, NA())","v":{"$error":"#N/A"}},{"$f":"IF(Foglio1!$H$15 <> \"\", Foglio1!$H$15 + S401*10^-3, NA())","v":{"$error":"#N/A"}}]
[3565,8.1789193328483965,{"$f":" IF(Foglio1!$C$11 <> \"\", 8.314472*Foglio1!$C$11*Foglio2!B402, NA())","v":20401.018734968002},{"$f":"IF(Foglio1!$H$11 <> \"\", Foglio1!$H$11 + C402*10^-3, NA())","v":-69.598981265031995},3565,8.1789193328483965,{"$f":" IF(Foglio1!$C$12 <> \"\", 8.314472*Foglio1!$C$12*Foglio2!F402, NA())","v":{"$error":"#N/A"}},{"$f":"IF(Foglio1!$H$12 <> \"\", Foglio1!$H$12 + G402*10^-3, NA())","v":{"$error":"#N/A"}},3565,8.1789193328483965,{"$f":" IF(Foglio1!$C$13 <> \"\", 8.314472*Foglio1!$C$13*Foglio2!J402, NA())","v":{"$error":"#N/A"}},{"$f":"IF(Foglio1!$H$13 <> \"\", Foglio1!$H$13 + K402*10^-3, NA())","v":{"$error":"#N/A"}},3565,8.1789193328483965,{"$f":" IF(Foglio1!$C$14 <> \"\", 8.314472*Foglio1!$C$14*Foglio2!N402, NA())","v":{"$error":"#N/A"}},{"$f":"IF(Foglio1!$H$14 <> \"\", Foglio1!$H$14 + O402*10^-3, NA())","v":{"$error":"#N/A"}},3565,8.1789193328483965,{"$f":" IF(Foglio1!$C$15 <> \"\", 8.314472*Foglio1!$C$15*Foglio2!R402, NA())","v":{"$error":"#N/A"}},{"$f":"IF(Foglio1!$H$15 <> \"\", Foglio1!$H$15 + S402*10^-3, NA())","v":{"$error":"#N/A"}}]
[3574,8.1814406957193739,{"$f":" IF(Foglio1!$C$11 <> \"\", 8.314472*Foglio1!$C$11*Foglio2!B403, NA())","v":20407.307875265778},{"$f":"IF(Foglio1!$H$11 <> \"\", Foglio1!$H$11 + C403*10^-3, NA())","v":-69.592692124734214},3574,8.1814406957193739,{"$f":" IF(Foglio1!$C$12 <> \"\", 8.314472*Foglio1!$C$12*Foglio2!F403, NA())","v":{"$error":"#N/A"}},{"$f":"IF(Foglio1!$H$12 <> \"\", Foglio1!$H$12 + G403*10^-3, NA())","v":{"$error":"#N/A"}},3574,8.1814406957193739,{"$f":" IF(Foglio1!$C$13 <> \"\", 8.314472*Foglio1!$C$13*Foglio2!J403, NA())","v":{"$error":"#N/A"}},{"$f":"IF(Foglio1!$H$13 <> \"\", Foglio1!$H$13 + K403*10^-3, NA())","v":{"$error":"#N/A"}},3574,8.1814406957193739,{"$f":" IF(Foglio1!$C$14 <> \"\", 8.314472*Foglio1!$C$14*Foglio2!N403, NA())","v":{"$error":"#N/A"}},{"$f":"IF(Foglio1!$H$14 <> \"\", Foglio1!$H$14 + O403*10^-3, NA())","v":{"$error":"#N/A"}},3574,8.1814406957193739,{"$f":" IF(Foglio1!$C$15 <> \"\", 8.314472*Foglio1!$C$15*Foglio2!R403, NA())","v":{"$error":"#N/A"}},{"$f":"IF(Foglio1!$H$15 <> \"\", Foglio1!$H$15 + S403*10^-3, NA())","v":{"$error":"#N/A"}}]
[3583,8.1839557173049542,{"$f":" IF(Foglio1!$C$11 <> \"\", 8.314472*Foglio1!$C$11*Foglio2!B404, NA())","v":20413.58119823159},{"$f":"IF(Foglio1!$H$11 <> \"\", Foglio1!$H$11 + C404*10^-3, NA())","v":-69.586418801768417},3583,8.1839557173049542,{"$f":" IF(Foglio1!$C$12 <> \"\", 8.314472*Foglio1!$C$12*Foglio2!F404, NA())","v":{"$error":"#N/A"}},{"$f":"IF(Foglio1!$H$12 <> \"\", Foglio1!$H$12 + G404*10^-3, NA())","v":{"$error":"#N/A"}},3583,8.1839557173049542,{"$f":" IF(Foglio1!$C$13 <> \"\", 8.314472*Foglio1!$C$13*Foglio2!J404, NA())","v":{"$error":"#N/A"}},{"$f":"IF(Foglio1!$H$13 <> \"\", Foglio1!$H$13 + K404*10^-3, NA())","v":{"$error":"#N/A"}},3583,8.1839557173049542,{"$f":" IF(Foglio1!$C$14 <> \"\", 8.314472*Foglio1!$C$14*Foglio2!N404, NA())","v":{"$error":"#N/A"}},{"$f":"IF(Foglio1!$H$14 <> \"\", Foglio1!$H$14 + O404*10^-3, NA())","v":{"$error":"#N/A"}},3583,8.1839557173049542,{"$f":" IF(Foglio1!$C$15 <> \"\", 8.314472*Foglio1!$C$15*Foglio2!R404, NA())","v":{"$error":"#N/A"}},{"$f":"IF(Foglio1!$H$15 <> \"\", Foglio1!$H$15 + S404*10^-3, NA())","v":{"$error":"#N/A"}}]
[3592,8.1864644294220899,{"$f":" IF(Foglio1!$C$11 <> \"\", 8.314472*Foglio1!$C$11*Foglio2!B405, NA())","v":20419.838783227784},{"$f":"IF(Foglio1!$H$11 <> \"\", Foglio1!$H$11 + C405*10^-3, NA())","v":-69.580161216772211},3592,8.1864644294220899,{"$f":" IF(Foglio1!$C$12 <> \"\", 8.314472*Foglio1!$C$12*Foglio2!F405, NA())","v":{"$error":"#N/A"}},{"$f":"IF(Foglio1!$H$12 <> \"\", Foglio1!$H$12 + G405*10^-3, NA())","v":{"$error":"#N/A"}},3592,8.1864644294220899,{"$f":" IF(Foglio1!$C$13 <> \"\", 8.314472*Foglio1!$C$13*Foglio2!J405, NA())","v":{"$error":"#N/A"}},{"$f":"IF(Foglio1!$H$13 <> \"\", Foglio1!$H$13 + K405*10^-3, NA())","v":{"$error":"#N/A"}},3592,8.1864644294220899,{"$f":" IF(Foglio1!$C$14 <> \"\", 8.314472*Foglio1!$C$14*Foglio2!N405, NA())","v":{"$error":"#N/A"}},{"$f":"IF(Foglio1!$H$14 <> \"\", Foglio1!$H$14 + O405*10^-3, NA())","v":{"$error":"#N/A"}},3592,8.1864644294220899,{"$f":" IF(Foglio1!$C$15 <> \"\", 8.314472*Foglio1!$C$15*Foglio2!R405, NA())","v":{"$error":"#N/A"}},{"$f":"IF(Foglio1!$H$15 <> \"\", Foglio1!$H$15 + S405*10^-3, NA())","v":{"$error":"#N/A"}}]
[3601,8.1889668636488757,{"$f":" IF(Foglio1!$C$11 <> \"\", 8.314472*Foglio1!$C$11*Foglio2!B406, NA())","v":20426.08070902092},{"$f":"IF(Foglio1!$H$11 <> \"\", Foglio1!$H$11 + C406*10^-3, NA())","v":-69.573919290979077},3601,8.1889668636488757,{"$f":" IF(Foglio1!$C$12 <> \"\", 8.314472*Foglio1!$C$12*Foglio2!F406, NA())","v":{"$error":"#N/A"}},{"$f":"IF(Foglio1!$H$12 <> \"\", Foglio1!$H$12 + G406*10^-3, NA())","v":{"$error":"#N/A"}},3601,8.1889668636488757,{"$f":" IF(Foglio1!$C$13 <> \"\", 8.314472*Foglio1!$C$13*Foglio2!J406, NA())","v":{"$error":"#N/A"}},{"$f":"IF(Foglio1!$H$13 <> \"\", Foglio1!$H$13 + K406*10^-3, NA())","v":{"$error":"#N/A"}},3601,8.1889668636488757,{"$f":" IF(Foglio1!$C$14 <> \"\", 8.314472*Foglio1!$C$14*Foglio2!N406, NA())","v":{"$error":"#N/A"}},{"$f":"IF(Foglio1!$H$14 <> \"\", Foglio1!$H$14 + O406*10^-3, NA())","v":{"$error":"#N/A"}},3601,8.1889668636488757,{"$f":" IF(Foglio1!$C$15 <> \"\", 8.314472*Foglio1!$C$15*Foglio2!R406, NA())","v":{"$error":"#N/A"}},{"$f":"IF(Foglio1!$H$15 <> \"\", Foglio1!$H$15 + S406*10^-3, NA())","v":{"$error":"#N/A"}}]
[3610,8.1914630513269273,{"$f":" IF(Foglio1!$C$11 <> \"\", 8.314472*Foglio1!$C$11*Foglio2!B407, NA())","v":20432.307053787692},{"$f":"IF(Foglio1!$H$11 <> \"\", Foglio1!$H$11 + C407*10^-3, NA())","v":-69.567692946212304},3610,8.1914630513269273,{"$f":" IF(Foglio1!$C$12 <> \"\", 8.314472*Foglio1!$C$12*Foglio2!F407, NA())","v":{"$error":"#N/A"}},{"$f":"IF(Foglio1!$H$12 <> \"\", Foglio1!$H$12 + G407*10^-3, NA())","v":{"$error":"#N/A"}},3610,8.1914630513269273,{"$f":" IF(Foglio1!$C$13 <> \"\", 8.314472*Foglio1!$C$13*Foglio2!J407, NA())","v":{"$error":"#N/A"}},{"$f":"IF(Foglio1!$H$13 <> \"\", Foglio1!$H$13 + K407*10^-3, NA())","v":{"$error":"#N/A"}},3610,8.1914630513269273,{"$f":" IF(Foglio1!$C$14 <> \"\", 8.314472*Foglio1!$C$14*Foglio2!N407, NA())","v":{"$error":"#N/A"}},{"$f":"IF(Foglio1!$H$14 <> \"\", Foglio1!$H$14 + O407*10^-3, NA())","v":{"$error":"#N/A"}},3610,8.1914630513269273,{"$f":" IF(Foglio1!$C$15 <> \"\", 8.314472*Foglio1!$C$15*Foglio2!R407, NA())","v":{"$error":"#N/A"}},{"$f":"IF(Foglio1!$H$15 <> \"\", Foglio1!$H$15 + S407*10^-3, NA())","v":{"$error":"#N/A"}}]
[3619,8.1939530235637417,{"$f":" IF(Foglio1!$C$11 <> \"\", 8.314472*Foglio1!$C$11*Foglio2!B408, NA())","v":20438.517895120822},{"$f":"IF(Foglio1!$H$11 <> \"\", Foglio1!$H$11 + C408*10^-3, NA())","v":-69.561482104879175},3619,8.1939530235637417,{"$f":" IF(Foglio1!$C$12 <> \"\", 8.314472*Foglio1!$C$12*Foglio2!F408, NA())","v":{"$error":"#N/A"}},{"$f":"IF(Foglio1!$H$12 <> \"\", Foglio1!$H$12 + G408*10^-3, NA())","v":{"$error":"#N/A"}},3619,8.1939530235637417,{"$f":" IF(Foglio1!$C$13 <> \"\", 8.314472*Foglio1!$C$13*Foglio2!J408, NA())","v":{"$error":"#N/A"}},{"$f":"IF(Foglio1!$H$13 <> \"\", Foglio1!$H$13 + K408*10^-3, NA())","v":{"$error":"#N/A"}},3619,8.1939530235637417,{"$f":" IF(Foglio1!$C$14 <> \"\", 8.314472*Foglio1!$C$14*Foglio2!N408, NA())","v":{"$error":"#N/A"}},{"$f":"IF(Foglio1!$H$14 <> \"\", Foglio1!$H$14 + O408*10^-3, NA())","v":{"$error":"#N/A"}},3619,8.1939530235637417,{"$f":" IF(Foglio1!$C$15 <> \"\", 8.314472*Foglio1!$C$15*Foglio2!R408, NA())","v":{"$error":"#N/A"}},{"$f":"IF(Foglio1!$H$15 <> \"\", Foglio1!$H$15 + S408*10^-3, NA())","v":{"$error":"#N/A"}}]
[3628,8.1964368112350279,{"$f":" IF(Foglio1!$C$11 <> \"\", 8.314472*Foglio1!$C$11*Foglio2!B409, NA())","v":20444.71331003488},{"$f":"IF(Foglio1!$H$11 <> \"\", Foglio1!$H$11 + C409*10^-3, NA())","v":-69.555286689965115},3628,8.1964368112350279,{"$f":" IF(Foglio1!$C$12 <> \"\", 8.314472*Foglio1!$C$12*Foglio2!F409, NA())","v":{"$error":"#N/A"}},{"$f":"IF(Foglio1!$H$12 <> \"\", Foglio1!$H$12 + G409*10^-3, NA())","v":{"$error":"#N/A"}},3628,8.1964368112350279,{"$f":" IF(Foglio1!$C$13 <> \"\", 8.314472*Foglio1!$C$13*Foglio2!J409, NA())","v":{"$error":"#N/A"}},{"$f":"IF(Foglio1!$H$13 <> \"\", Foglio1!$H$13 + K409*10^-3, NA())","v":{"$error":"#N/A"}},3628,8.1964368112350279,{"$f":" IF(Foglio1!$C$14 <> \"\", 8.314472*Foglio1!$C$14*Foglio2!N409, NA())","v":{"$error":"#N/A"}},{"$f":"IF(Foglio1!$H$14 <> \"\", Foglio1!$H$14 + O409*10^-3, NA())","v":{"$error":"#N/A"}},3628,8.1964368112350279,{"$f":" IF(Foglio1!$C$15 <> \"\", 8.314472*Foglio1!$C$15*Foglio2!R409, NA())","v":{"$error":"#N/A"}},{"$f":"IF(Foglio1!$H$15 <> \"\", Foglio1!$H$15 + S409*10^-3, NA())","v":{"$error":"#N/A"}}]
[3637,8.1989144449869897,{"$f":" IF(Foglio1!$C$11 <> \"\", 8.314472*Foglio1!$C$11*Foglio2!B410, NA())","v":20450.893374971962},{"$f":"IF(Foglio1!$H$11 <> \"\", Foglio1!$H$11 + C410*10^-3, NA())","v":-69.549106625028031},3637,8.1989144449869897,{"$f":" IF(Foglio1!$C$12 <> \"\", 8.314472*Foglio1!$C$12*Foglio2!F410, NA())","v":{"$error":"#N/A"}},{"$f":"IF(Foglio1!$H$12 <> \"\", Foglio1!$H$12 + G410*10^-3, NA())","v":{"$error":"#N/A"}},3637,8.1989144449869897,{"$f":" IF(Foglio1!$C$13 <> \"\", 8.314472*Foglio1!$C$13*Foglio2!J410, NA())","v":{"$error":"#N/A"}},{"$f":"IF(Foglio1!$H$13 <> \"\", Foglio1!$H$13 + K410*10^-3, NA())","v":{"$error":"#N/A"}},3637,8.1989144449869897,{"$f":" IF(Foglio1!$C$14 <> \"\", 8.314472*Foglio1!$C$14*Foglio2!N410, NA())","v":{"$error":"#N/A"}},{"$f":"IF(Foglio1!$H$14 <> \"\", Foglio1!$H$14 + O410*10^-3, NA())","v":{"$error":"#N/A"}},3637,8.1989144449869897,{"$f":" IF(Foglio1!$C$15 <> \"\", 8.314472*Foglio1!$C$15*Foglio2!R410, NA())","v":{"$error":"#N/A"}},{"$f":"IF(Foglio1!$H$15 <> \"\", Foglio1!$H$15 + S410*10^-3, NA())","v":{"$error":"#N/A"}}]
[3646,8.2013859552386084,{"$f":" IF(Foglio1!$C$11 <> \"\", 8.314472*Foglio1!$C$11*Foglio2!B411, NA())","v":20457.058165807401},{"$f":"IF(Foglio1!$H$11 <> \"\", Foglio1!$H$11 + C411*10^-3, NA())","v":-69.542941834192604},3646,8.2013859552386084,{"$f":" IF(Foglio1!$C$12 <> \"\", 8.314472*Foglio1!$C$12*Foglio2!F411, NA())","v":{"$error":"#N/A"}},{"$f":"IF(Foglio1!$H$12 <> \"\", Foglio1!$H$12 + G411*10^-3, NA())","v":{"$error":"#N/A"}},3646,8.2013859552386084,{"$f":" IF(Foglio1!$C$13 <> \"\", 8.314472*Foglio1!$C$13*Foglio2!J411, NA())","v":{"$error":"#N/A"}},{"$f":"IF(Foglio1!$H$13 <> \"\", Foglio1!$H$13 + K411*10^-3, NA())","v":{"$error":"#N/A"}},3646,8.2013859552386084,{"$f":" IF(Foglio1!$C$14 <> \"\", 8.314472*Foglio1!$C$14*Foglio2!N411, NA())","v":{"$error":"#N/A"}},{"$f":"IF(Foglio1!$H$14 <> \"\", Foglio1!$H$14 + O411*10^-3, NA())","v":{"$error":"#N/A"}},3646,8.2013859552386084,{"$f":" IF(Foglio1!$C$15 <> \"\", 8.314472*Foglio1!$C$15*Foglio2!R411, NA())","v":{"$error":"#N/A"}},{"$f":"IF(Foglio1!$H$15 <> \"\", Foglio1!$H$15 + S411*10^-3, NA())","v":{"$error":"#N/A"}}]
[3655,8.2038513721838786,{"$f":" IF(Foglio1!$C$11 <> \"\", 8.314472*Foglio1!$C$11*Foglio2!B412, NA())","v":20463.207757855333},{"$f":"IF(Foglio1!$H$11 <> \"\", Foglio1!$H$11 + C412*10^-3, NA())","v":-69.536792242144671},3655,8.2038513721838786,{"$f":" IF(Foglio1!$C$12 <> \"\", 8.314472*Foglio1!$C$12*Foglio2!F412, NA())","v":{"$error":"#N/A"}},{"$f":"IF(Foglio1!$H$12 <> \"\", Foglio1!$H$12 + G412*10^-3, NA())","v":{"$error":"#N/A"}},3655,8.2038513721838786,{"$f":" IF(Foglio1!$C$13 <> \"\", 8.314472*Foglio1!$C$13*Foglio2!J412, NA())","v":{"$error":"#N/A"}},{"$f":"IF(Foglio1!$H$13 <> \"\", Foglio1!$H$13 + K412*10^-3, NA())","v":{"$error":"#N/A"}},3655,8.2038513721838786,{"$f":" IF(Foglio1!$C$14 <> \"\", 8.314472*Foglio1!$C$14*Foglio2!N412, NA())","v":{"$error":"#N/A"}},{"$f":"IF(Foglio1!$H$14 <> \"\", Foglio1!$H$14 + O412*10^-3, NA())","v":{"$error":"#N/A"}},3655,8.2038513721838786,{"$f":" IF(Foglio1!$C$15 <> \"\", 8.314472*Foglio1!$C$15*Foglio2!R412, NA())","v":{"$error":"#N/A"}},{"$f":"IF(Foglio1!$H$15 <> \"\", Foglio1!$H$15 + S412*10^-3, NA())","v":{"$error":"#N/A"}}]
[3664,8.2063107257940207,{"$f":" IF(Foglio1!$C$11 <> \"\", 8.314472*Foglio1!$C$11*Foglio2!B413, NA())","v":20469.342225874221},{"$f":"IF(Foglio1!$H$11 <> \"\", Foglio1!$H$11 + C413*10^-3, NA())","v":-69.530657774125785},3664,8.2063107257940207,{"$f":" IF(Foglio1!$C$12 <> \"\", 8.314472*Foglio1!$C$12*Foglio2!F413, NA())","v":{"$error":"#N/A"}},{"$f":"IF(Foglio1!$H$12 <> \"\", Foglio1!$H$12 + G413*10^-3, NA())","v":{"$error":"#N/A"}},3664,8.2063107257940207,{"$f":" IF(Foglio1!$C$13 <> \"\", 8.314472*Foglio1!$C$13*Foglio2!J413, NA())","v":{"$error":"#N/A"}},{"$f":"IF(Foglio1!$H$13 <> \"\", Foglio1!$H$13 + K413*10^-3, NA())","v":{"$error":"#N/A"}},3664,8.2063107257940207,{"$f":" IF(Foglio1!$C$14 <> \"\", 8.314472*Foglio1!$C$14*Foglio2!N413, NA())","v":{"$error":"#N/A"}},{"$f":"IF(Foglio1!$H$14 <> \"\", Foglio1!$H$14 + O413*10^-3, NA())","v":{"$error":"#N/A"}},3664,8.2063107257940207,{"$f":" IF(Foglio1!$C$15 <> \"\", 8.314472*Foglio1!$C$15*Foglio2!R413, NA())","v":{"$error":"#N/A"}},{"$f":"IF(Foglio1!$H$15 <> \"\", Foglio1!$H$15 + S413*10^-3, NA())","v":{"$error":"#N/A"}}]
[3673,8.2087640458196667,{"$f":" IF(Foglio1!$C$11 <> \"\", 8.314472*Foglio1!$C$11*Foglio2!B414, NA())","v":20475.461644072304},{"$f":"IF(Foglio1!$H$11 <> \"\", Foglio1!$H$11 + C414*10^-3, NA())","v":-69.524538355927689},3673,8.2087640458196667,{"$f":" IF(Foglio1!$C$12 <> \"\", 8.314472*Foglio1!$C$12*Foglio2!F414, NA())","v":{"$error":"#N/A"}},{"$f":"IF(Foglio1!$H$12 <> \"\", Foglio1!$H$12 + G414*10^-3, NA())","v":{"$error":"#N/A"}},3673,8.2087640458196667,{"$f":" IF(Foglio1!$C$13 <> \"\", 8.314472*Foglio1!$C$13*Foglio2!J414, NA())","v":{"$error":"#N/A"}},{"$f":"IF(Foglio1!$H$13 <> \"\", Foglio1!$H$13 + K414*10^-3, NA())","v":{"$error":"#N/A"}},3673,8.2087640458196667,{"$f":" IF(Foglio1!$C$14 <> \"\", 8.314472*Foglio1!$C$14*Foglio2!N414, NA())","v":{"$error":"#N/A"}},{"$f":"IF(Foglio1!$H$14 <> \"\", Foglio1!$H$14 + O414*10^-3, NA())","v":{"$error":"#N/A"}},3673,8.2087640458196667,{"$f":" IF(Foglio1!$C$15 <> \"\", 8.314472*Foglio1!$C$15*Foglio2!R414, NA())","v":{"$error":"#N/A"}},{"$f":"IF(Foglio1!$H$15 <> \"\", Foglio1!$H$15 + S414*10^-3, NA())","v":{"$error":"#N/A"}}]
[3682,8.2112113617930227,{"$f":" IF(Foglio1!$C$11 <> \"\", 8.314472*Foglio1!$C$11*Foglio2!B415, NA())","v":20481.566086112987},{"$f":"IF(Foglio1!$H$11 <> \"\", Foglio1!$H$11 + C415*10^-3, NA())","v":-69.518433913887009},3682,8.2112113617930227,{"$f":" IF(Foglio1!$C$12 <> \"\", 8.314472*Foglio1!$C$12*Foglio2!F415, NA())","v":{"$error":"#N/A"}},{"$f":"IF(Foglio1!$H$12 <> \"\", Foglio1!$H$12 + G415*10^-3, NA())","v":{"$error":"#N/A"}},3682,8.2112113617930227,{"$f":" IF(Foglio1!$C$13 <> \"\", 8.314472*Foglio1!$C$13*Foglio2!J415, NA())","v":{"$error":"#N/A"}},{"$f":"IF(Foglio1!$H$13 <> \"\", Foglio1!$H$13 + K415*10^-3, NA())","v":{"$error":"#N/A"}},3682,8.2112113617930227,{"$f":" IF(Foglio1!$C$14 <> \"\", 8.314472*Foglio1!$C$14*Foglio2!N415, NA())","v":{"$error":"#N/A"}},{"$f":"IF(Foglio1!$H$14 <> \"\", Foglio1!$H$14 + O415*10^-3, NA())","v":{"$error":"#N/A"}},3682,8.2112113617930227,{"$f":" IF(Foglio1!$C$15 <> \"\", 8.314472*Foglio1!$C$15*Foglio2!R415, NA())","v":{"$error":"#N/A"}},{"$f":"IF(Foglio1!$H$15 <> \"\", Foglio1!$H$15 + S415*10^-3, NA())","v":{"$error":"#N/A"}}]
[3691,8.2136527030299984,{"$f":" IF(Foglio1!$C$11 <> \"\", 8.314472*Foglio1!$C$11*Foglio2!B416, NA())","v":20487.655625120173},{"$f":"IF(Foglio1!$H$11 <> \"\", Foglio1!$H$11 + C416*10^-3, NA())","v":-69.512344374879831},3691,8.2136527030299984,{"$f":" IF(Foglio1!$C$12 <> \"\", 8.314472*Foglio1!$C$12*Foglio2!F416, NA())","v":{"$error":"#N/A"}},{"$f":"IF(Foglio1!$H$12 <> \"\", Foglio1!$H$12 + G416*10^-3, NA())","v":{"$error":"#N/A"}},3691,8.2136527030299984,{"$f":" IF(Foglio1!$C$13 <> \"\", 8.314472*Foglio1!$C$13*Foglio2!J416, NA())","v":{"$error":"#N/A"}},{"$f":"IF(Foglio1!$H$13 <> \"\", Foglio1!$H$13 + K416*10^-3, NA())","v":{"$error":"#N/A"}},3691,8.2136527030299984,{"$f":" IF(Foglio1!$C$14 <> \"\", 8.314472*Foglio1!$C$14*Foglio2!N416, NA())","v":{"$error":"#N/A"}},{"$f":"IF(Foglio1!$H$14 <> \"\", Foglio1!$H$14 + O416*10^-3, NA())","v":{"$error":"#N/A"}},3691,8.2136527030299984,{"$f":" IF(Foglio1!$C$15 <> \"\", 8.314472*Foglio1!$C$15*Foglio2!R416, NA())","v":{"$error":"#N/A"}},{"$f":"IF(Foglio1!$H$15 <> \"\", Foglio1!$H$15 + S416*10^-3, NA())","v":{"$error":"#N/A"}}]
[3700,8.2160880986323157,{"$f":" IF(Foglio1!$C$11 <> \"\", 8.314472*Foglio1!$C$11*Foglio2!B417, NA())","v":20493.730333683488},{"$f":"IF(Foglio1!$H$11 <> \"\", Foglio1!$H$11 + C417*10^-3, NA())","v":-69.506269666316513},3700,8.2160880986323157,{"$f":" IF(Foglio1!$C$12 <> \"\", 8.314472*Foglio1!$C$12*Foglio2!F417, NA())","v":{"$error":"#N/A"}},{"$f":"IF(Foglio1!$H$12 <> \"\", Foglio1!$H$12 + G417*10^-3, NA())","v":{"$error":"#N/A"}},3700,8.2160880986323157,{"$f":" IF(Foglio1!$C$13 <> \"\", 8.314472*Foglio1!$C$13*Foglio2!J417, NA())","v":{"$error":"#N/A"}},{"$f":"IF(Foglio1!$H$13 <> \"\", Foglio1!$H$13 + K417*10^-3, NA())","v":{"$error":"#N/A"}},3700,8.2160880986323157,{"$f":" IF(Foglio1!$C$14 <> \"\", 8.314472*Foglio1!$C$14*Foglio2!N417, NA())","v":{"$error":"#N/A"}},{"$f":"IF(Foglio1!$H$14 <> \"\", Foglio1!$H$14 + O417*10^-3, NA())","v":{"$error":"#N/A"}},3700,8.2160880986323157,{"$f":" IF(Foglio1!$C$15 <> \"\", 8.314472*Foglio1!$C$15*Foglio2!R417, NA())","v":{"$error":"#N/A"}},{"$f":"IF(Foglio1!$H$15 <> \"\", Foglio1!$H$15 + S417*10^-3, NA())","v":{"$error":"#N/A"}}]
[3709,8.2185175774895907,{"$f":" IF(Foglio1!$C$11 <> \"\", 8.314472*Foglio1!$C$11*Foglio2!B418, NA())","v":20499.790283863513},{"$f":"IF(Foglio1!$H$11 <> \"\", Foglio1!$H$11 + C418*10^-3, NA())","v":-69.500209716136482},3709,8.2185175774895907,{"$f":" IF(Foglio1!$C$12 <> \"\", 8.314472*Foglio1!$C$12*Foglio2!F418, NA())","v":{"$error":"#N/A"}},{"$f":"IF(Foglio1!$H$12 <> \"\", Foglio1!$H$12 + G418*10^-3, NA())","v":{"$error":"#N/A"}},3709,8.2185175774895907,{"$f":" IF(Foglio1!$C$13 <> \"\", 8.314472*Foglio1!$C$13*Foglio2!J418, NA())","v":{"$error":"#N/A"}},{"$f":"IF(Foglio1!$H$13 <> \"\", Foglio1!$H$13 + K418*10^-3, NA())","v":{"$error":"#N/A"}},3709,8.2185175774895907,{"$f":" IF(Foglio1!$C$14 <> \"\", 8.314472*Foglio1!$C$14*Foglio2!N418, NA())","v":{"$error":"#N/A"}},{"$f":"IF(Foglio1!$H$14 <> \"\", Foglio1!$H$14 + O418*10^-3, NA())","v":{"$error":"#N/A"}},3709,8.2185175774895907,{"$f":" IF(Foglio1!$C$15 <> \"\", 8.314472*Foglio1!$C$15*Foglio2!R418, NA())","v":{"$error":"#N/A"}},{"$f":"IF(Foglio1!$H$15 <> \"\", Foglio1!$H$15 + S418*10^-3, NA())","v":{"$error":"#N/A"}}]
[3718,8.2209411682813887,{"$f":" IF(Foglio1!$C$11 <> \"\", 8.314472*Foglio1!$C$11*Foglio2!B419, NA())","v":20505.835547196872},{"$f":"IF(Foglio1!$H$11 <> \"\", Foglio1!$H$11 + C419*10^-3, NA())","v":-69.494164452803133},3718,8.2209411682813887,{"$f":" IF(Foglio1!$C$12 <> \"\", 8.314472*Foglio1!$C$12*Foglio2!F419, NA())","v":{"$error":"#N/A"}},{"$f":"IF(Foglio1!$H$12 <> \"\", Foglio1!$H$12 + G419*10^-3, NA())","v":{"$error":"#N/A"}},3718,8.2209411682813887,{"$f":" IF(Foglio1!$C$13 <> \"\", 8.314472*Foglio1!$C$13*Foglio2!J419, NA())","v":{"$error":"#N/A"}},{"$f":"IF(Foglio1!$H$13 <> \"\", Foglio1!$H$13 + K419*10^-3, NA())","v":{"$error":"#N/A"}},3718,8.2209411682813887,{"$f":" IF(Foglio1!$C$14 <> \"\", 8.314472*Foglio1!$C$14*Foglio2!N419, NA())","v":{"$error":"#N/A"}},{"$f":"IF(Foglio1!$H$14 <> \"\", Foglio1!$H$14 + O419*10^-3, NA())","v":{"$error":"#N/A"}},3718,8.2209411682813887,{"$f":" IF(Foglio1!$C$15 <> \"\", 8.314472*Foglio1!$C$15*Foglio2!R419, NA())","v":{"$error":"#N/A"}},{"$f":"IF(Foglio1!$H$15 <> \"\", Foglio1!$H$15 + S419*10^-3, NA())","v":{"$error":"#N/A"}}]
[3727,8.2233588994792584,{"$f":" IF(Foglio1!$C$11 <> \"\", 8.314472*Foglio1!$C$11*Foglio2!B420, NA())","v":20511.866194701335},{"$f":"IF(Foglio1!$H$11 <> \"\", Foglio1!$H$11 + C420*10^-3, NA())","v":-69.488133805298659},3727,8.2233588994792584,{"$f":" IF(Foglio1!$C$12 <> \"\", 8.314472*Foglio1!$C$12*Foglio2!F420, NA())","v":{"$error":"#N/A"}},{"$f":"IF(Foglio1!$H$12 <> \"\", Foglio1!$H$12 + G420*10^-3, NA())","v":{"$error":"#N/A"}},3727,8.2233588994792584,{"$f":" IF(Foglio1!$C$13 <> \"\", 8.314472*Foglio1!$C$13*Foglio2!J420, NA())","v":{"$error":"#N/A"}},{"$f":"IF(Foglio1!$H$13 <> \"\", Foglio1!$H$13 + K420*10^-3, NA())","v":{"$error":"#N/A"}},3727,8.2233588994792584,{"$f":" IF(Foglio1!$C$14 <> \"\", 8.314472*Foglio1!$C$14*Foglio2!N420, NA())","v":{"$error":"#N/A"}},{"$f":"IF(Foglio1!$H$14 <> \"\", Foglio1!$H$14 + O420*10^-3, NA())","v":{"$error":"#N/A"}},3727,8.2233588994792584,{"$f":" IF(Foglio1!$C$15 <> \"\", 8.314472*Foglio1!$C$15*Foglio2!R420, NA())","v":{"$error":"#N/A"}},{"$f":"IF(Foglio1!$H$15 <> \"\", Foglio1!$H$15 + S420*10^-3, NA())","v":{"$error":"#N/A"}}]
[3736,8.2257707993487337,{"$f":" IF(Foglio1!$C$11 <> \"\", 8.314472*Foglio1!$C$11*Foglio2!B421, NA())","v":20517.882296880802},{"$f":"IF(Foglio1!$H$11 <> \"\", Foglio1!$H$11 + C421*10^-3, NA())","v":-69.482117703119201},3736,8.2257707993487337,{"$f":" IF(Foglio1!$C$12 <> \"\", 8.314472*Foglio1!$C$12*Foglio2!F421, NA())","v":{"$error":"#N/A"}},{"$f":"IF(Foglio1!$H$12 <> \"\", Foglio1!$H$12 + G421*10^-3, NA())","v":{"$error":"#N/A"}},3736,8.2257707993487337,{"$f":" IF(Foglio1!$C$13 <> \"\", 8.314472*Foglio1!$C$13*Foglio2!J421, NA())","v":{"$error":"#N/A"}},{"$f":"IF(Foglio1!$H$13 <> \"\", Foglio1!$H$13 + K421*10^-3, NA())","v":{"$error":"#N/A"}},3736,8.2257707993487337,{"$f":" IF(Foglio1!$C$14 <> \"\", 8.314472*Foglio1!$C$14*Foglio2!N421, NA())","v":{"$error":"#N/A"}},{"$f":"IF(Foglio1!$H$14 <> \"\", Foglio1!$H$14 + O421*10^-3, NA())","v":{"$error":"#N/A"}},3736,8.2257707993487337,{"$f":" IF(Foglio1!$C$15 <> \"\", 8.314472*Foglio1!$C$15*Foglio2!R421, NA())","v":{"$error":"#N/A"}},{"$f":"IF(Foglio1!$H$15 <> \"\", Foglio1!$H$15 + S421*10^-3, NA())","v":{"$error":"#N/A"}}]
[3745,8.2281768959513197,{"$f":" IF(Foglio1!$C$11 <> \"\", 8.314472*Foglio1!$C$11*Foglio2!B422, NA())","v":20523.883923730249},{"$f":"IF(Foglio1!$H$11 <> \"\", Foglio1!$H$11 + C422*10^-3, NA())","v":-69.476116076269747},3745,8.2281768959513197,{"$f":" IF(Foglio1!$C$12 <> \"\", 8.314472*Foglio1!$C$12*Foglio2!F422, NA())","v":{"$error":"#N/A"}},{"$f":"IF(Foglio1!$H$12 <> \"\", Foglio1!$H$12 + G422*10^-3, NA())","v":{"$error":"#N/A"}},3745,8.2281768959513197,{"$f":" IF(Foglio1!$C$13 <> \"\", 8.314472*Foglio1!$C$13*Foglio2!J422, NA())","v":{"$error":"#N/A"}},{"$f":"IF(Foglio1!$H$13 <> \"\", Foglio1!$H$13 + K422*10^-3, NA())","v":{"$error":"#N/A"}},3745,8.2281768959513197,{"$f":" IF(Foglio1!$C$14 <> \"\", 8.314472*Foglio1!$C$14*Foglio2!N422, NA())","v":{"$error":"#N/A"}},{"$f":"IF(Foglio1!$H$14 <> \"\", Foglio1!$H$14 + O422*10^-3, NA())","v":{"$error":"#N/A"}},3745,8.2281768959513197,{"$f":" IF(Foglio1!$C$15 <> \"\", 8.314472*Foglio1!$C$15*Foglio2!R422, NA())","v":{"$error":"#N/A"}},{"$f":"IF(Foglio1!$H$15 <> \"\", Foglio1!$H$15 + S422*10^-3, NA())","v":{"$error":"#N/A"}}]
[3754,8.230577217146454,{"$f":" IF(Foglio1!$C$11 <> \"\", 8.314472*Foglio1!$C$11*Foglio2!B423, NA())","v":20529.871144740635},{"$f":"IF(Foglio1!$H$11 <> \"\", Foglio1!$H$11 + C423*10^-3, NA())","v":-69.470128855259361},3754,8.230577217146454,{"$f":" IF(Foglio1!$C$12 <> \"\", 8.314472*Foglio1!$C$12*Foglio2!F423, NA())","v":{"$error":"#N/A"}},{"$f":"IF(Foglio1!$H$12 <> \"\", Foglio1!$H$12 + G423*10^-3, NA())","v":{"$error":"#N/A"}},3754,8.230577217146454,{"$f":" IF(Foglio1!$C$13 <> \"\", 8.314472*Foglio1!$C$13*Foglio2!J423, NA())","v":{"$error":"#N/A"}},{"$f":"IF(Foglio1!$H$13 <> \"\", Foglio1!$H$13 + K423*10^-3, NA())","v":{"$error":"#N/A"}},3754,8.230577217146454,{"$f":" IF(Foglio1!$C$14 <> \"\", 8.314472*Foglio1!$C$14*Foglio2!N423, NA())","v":{"$error":"#N/A"}},{"$f":"IF(Foglio1!$H$14 <> \"\", Foglio1!$H$14 + O423*10^-3, NA())","v":{"$error":"#N/A"}},3754,8.230577217146454,{"$f":" IF(Foglio1!$C$15 <> \"\", 8.314472*Foglio1!$C$15*Foglio2!R423, NA())","v":{"$error":"#N/A"}},{"$f":"IF(Foglio1!$H$15 <> \"\", Foglio1!$H$15 + S423*10^-3, NA())","v":{"$error":"#N/A"}}]
[3763,8.232971790593437,{"$f":" IF(Foglio1!$C$11 <> \"\", 8.314472*Foglio1!$C$11*Foglio2!B424, NA())","v":20535.844028903699},{"$f":"IF(Foglio1!$H$11 <> \"\", Foglio1!$H$11 + C424*10^-3, NA())","v":-69.464155971096304},3763,8.232971790593437,{"$f":" IF(Foglio1!$C$12 <> \"\", 8.314472*Foglio1!$C$12*Foglio2!F424, NA())","v":{"$error":"#N/A"}},{"$f":"IF(Foglio1!$H$12 <> \"\", Foglio1!$H$12 + G424*10^-3, NA())","v":{"$error":"#N/A"}},3763,8.232971790593437,{"$f":" IF(Foglio1!$C$13 <> \"\", 8.314472*Foglio1!$C$13*Foglio2!J424, NA())","v":{"$error":"#N/A"}},{"$f":"IF(Foglio1!$H$13 <> \"\", Foglio1!$H$13 + K424*10^-3, NA())","v":{"$error":"#N/A"}},3763,8.232971790593437,{"$f":" IF(Foglio1!$C$14 <> \"\", 8.314472*Foglio1!$C$14*Foglio2!N424, NA())","v":{"$error":"#N/A"}},{"$f":"IF(Foglio1!$H$14 <> \"\", Foglio1!$H$14 + O424*10^-3, NA())","v":{"$error":"#N/A"}},3763,8.232971790593437,{"$f":" IF(Foglio1!$C$15 <> \"\", 8.314472*Foglio1!$C$15*Foglio2!R424, NA())","v":{"$error":"#N/A"}},{"$f":"IF(Foglio1!$H$15 <> \"\", Foglio1!$H$15 + S424*10^-3, NA())","v":{"$error":"#N/A"}}]
[3772,8.2353606437533475,{"$f":" IF(Foglio1!$C$11 <> \"\", 8.314472*Foglio1!$C$11*Foglio2!B425, NA())","v":20541.802644716758},{"$f":"IF(Foglio1!$H$11 <> \"\", Foglio1!$H$11 + C425*10^-3, NA())","v":-69.458197355283247},3772,8.2353606437533475,{"$f":" IF(Foglio1!$C$12 <> \"\", 8.314472*Foglio1!$C$12*Foglio2!F425, NA())","v":{"$error":"#N/A"}},{"$f":"IF(Foglio1!$H$12 <> \"\", Foglio1!$H$12 + G425*10^-3, NA())","v":{"$error":"#N/A"}},3772,8.2353606437533475,{"$f":" IF(Foglio1!$C$13 <> \"\", 8.314472*Foglio1!$C$13*Foglio2!J425, NA())","v":{"$error":"#N/A"}},{"$f":"IF(Foglio1!$H$13 <> \"\", Foglio1!$H$13 + K425*10^-3, NA())","v":{"$error":"#N/A"}},3772,8.2353606437533475,{"$f":" IF(Foglio1!$C$14 <> \"\", 8.314472*Foglio1!$C$14*Foglio2!N425, NA())","v":{"$error":"#N/A"}},{"$f":"IF(Foglio1!$H$14 <> \"\", Foglio1!$H$14 + O425*10^-3, NA())","v":{"$error":"#N/A"}},3772,8.2353606437533475,{"$f":" IF(Foglio1!$C$15 <> \"\", 8.314472*Foglio1!$C$15*Foglio2!R425, NA())","v":{"$error":"#N/A"}},{"$f":"IF(Foglio1!$H$15 <> \"\", Foglio1!$H$15 + S425*10^-3, NA())","v":{"$error":"#N/A"}}]
[3781,8.2377438038909325,{"$f":" IF(Foglio1!$C$11 <> \"\", 8.314472*Foglio1!$C$11*Foglio2!B426, NA())","v":20547.747060187397},{"$f":"IF(Foglio1!$H$11 <> \"\", Foglio1!$H$11 + C426*10^-3, NA())","v":-69.45225293981261},3781,8.2377438038909325,{"$f":" IF(Foglio1!$C$12 <> \"\", 8.314472*Foglio1!$C$12*Foglio2!F426, NA())","v":{"$error":"#N/A"}},{"$f":"IF(Foglio1!$H$12 <> \"\", Foglio1!$H$12 + G426*10^-3, NA())","v":{"$error":"#N/A"}},3781,8.2377438038909325,{"$f":" IF(Foglio1!$C$13 <> \"\", 8.314472*Foglio1!$C$13*Foglio2!J426, NA())","v":{"$error":"#N/A"}},{"$f":"IF(Foglio1!$H$13 <> \"\", Foglio1!$H$13 + K426*10^-3, NA())","v":{"$error":"#N/A"}},3781,8.2377438038909325,{"$f":" IF(Foglio1!$C$14 <> \"\", 8.314472*Foglio1!$C$14*Foglio2!N426, NA())","v":{"$error":"#N/A"}},{"$f":"IF(Foglio1!$H$14 <> \"\", Foglio1!$H$14 + O426*10^-3, NA())","v":{"$error":"#N/A"}},3781,8.2377438038909325,{"$f":" IF(Foglio1!$C$15 <> \"\", 8.314472*Foglio1!$C$15*Foglio2!R426, NA())","v":{"$error":"#N/A"}},{"$f":"IF(Foglio1!$H$15 <> \"\", Foglio1!$H$15 + S426*10^-3, NA())","v":{"$error":"#N/A"}}]
[3790,8.2401212980764722,{"$f":" IF(Foglio1!$C$11 <> \"\", 8.314472*Foglio1!$C$11*Foglio2!B427, NA())","v":20553.677342838146},{"$f":"IF(Foglio1!$H$11 <> \"\", Foglio1!$H$11 + C427*10^-3, NA())","v":-69.446322657161858},3790,8.2401212980764722,{"$f":" IF(Foglio1!$C$12 <> \"\", 8.314472*Foglio1!$C$12*Foglio2!F427, NA())","v":{"$error":"#N/A"}},{"$f":"IF(Foglio1!$H$12 <> \"\", Foglio1!$H$12 + G427*10^-3, NA())","v":{"$error":"#N/A"}},3790,8.2401212980764722,{"$f":" IF(Foglio1!$C$13 <> \"\", 8.314472*Foglio1!$C$13*Foglio2!J427, NA())","v":{"$error":"#N/A"}},{"$f":"IF(Foglio1!$H$13 <> \"\", Foglio1!$H$13 + K427*10^-3, NA())","v":{"$error":"#N/A"}},3790,8.2401212980764722,{"$f":" IF(Foglio1!$C$14 <> \"\", 8.314472*Foglio1!$C$14*Foglio2!N427, NA())","v":{"$error":"#N/A"}},{"$f":"IF(Foglio1!$H$14 <> \"\", Foglio1!$H$14 + O427*10^-3, NA())","v":{"$error":"#N/A"}},3790,8.2401212980764722,{"$f":" IF(Foglio1!$C$15 <> \"\", 8.314472*Foglio1!$C$15*Foglio2!R427, NA())","v":{"$error":"#N/A"}},{"$f":"IF(Foglio1!$H$15 <> \"\", Foglio1!$H$15 + S427*10^-3, NA())","v":{"$error":"#N/A"}}]
[3799,8.2424931531876258,{"$f":" IF(Foglio1!$C$11 <> \"\", 8.314472*Foglio1!$C$11*Foglio2!B428, NA())","v":20559.593559711069},{"$f":"IF(Foglio1!$H$11 <> \"\", Foglio1!$H$11 + C428*10^-3, NA())","v":-69.440406440288939},3799,8.2424931531876258,{"$f":" IF(Foglio1!$C$12 <> \"\", 8.314472*Foglio1!$C$12*Foglio2!F428, NA())","v":{"$error":"#N/A"}},{"$f":"IF(Foglio1!$H$12 <> \"\", Foglio1!$H$12 + G428*10^-3, NA())","v":{"$error":"#N/A"}},3799,8.2424931531876258,{"$f":" IF(Foglio1!$C$13 <> \"\", 8.314472*Foglio1!$C$13*Foglio2!J428, NA())","v":{"$error":"#N/A"}},{"$f":"IF(Foglio1!$H$13 <> \"\", Foglio1!$H$13 + K428*10^-3, NA())","v":{"$error":"#N/A"}},3799,8.2424931531876258,{"$f":" IF(Foglio1!$C$14 <> \"\", 8.314472*Foglio1!$C$14*Foglio2!N428, NA())","v":{"$error":"#N/A"}},{"$f":"IF(Foglio1!$H$14 <> \"\", Foglio1!$H$14 + O428*10^-3, NA())","v":{"$error":"#N/A"}},3799,8.2424931531876258,{"$f":" IF(Foglio1!$C$15 <> \"\", 8.314472*Foglio1!$C$15*Foglio2!R428, NA())","v":{"$error":"#N/A"}},{"$f":"IF(Foglio1!$H$15 <> \"\", Foglio1!$H$15 + S428*10^-3, NA())","v":{"$error":"#N/A"}}]
[3808,8.2448593959112557,{"$f":" IF(Foglio1!$C$11 <> \"\", 8.314472*Foglio1!$C$11*Foglio2!B429, NA())","v":20565.495777372318},{"$f":"IF(Foglio1!$H$11 <> \"\", Foglio1!$H$11 + C429*10^-3, NA())","v":-69.43450422262768},3808,8.2448593959112557,{"$f":" IF(Foglio1!$C$12 <> \"\", 8.314472*Foglio1!$C$12*Foglio2!F429, NA())","v":{"$error":"#N/A"}},{"$f":"IF(Foglio1!$H$12 <> \"\", Foglio1!$H$12 + G429*10^-3, NA())","v":{"$error":"#N/A"}},3808,8.2448593959112557,{"$f":" IF(Foglio1!$C$13 <> \"\", 8.314472*Foglio1!$C$13*Foglio2!J429, NA())","v":{"$error":"#N/A"}},{"$f":"IF(Foglio1!$H$13 <> \"\", Foglio1!$H$13 + K429*10^-3, NA())","v":{"$error":"#N/A"}},3808,8.2448593959112557,{"$f":" IF(Foglio1!$C$14 <> \"\", 8.314472*Foglio1!$C$14*Foglio2!N429, NA())","v":{"$error":"#N/A"}},{"$f":"IF(Foglio1!$H$14 <> \"\", Foglio1!$H$14 + O429*10^-3, NA())","v":{"$error":"#N/A"}},3808,8.2448593959112557,{"$f":" IF(Foglio1!$C$15 <> \"\", 8.314472*Foglio1!$C$15*Foglio2!R429, NA())","v":{"$error":"#N/A"}},{"$f":"IF(Foglio1!$H$15 <> \"\", Foglio1!$H$15 + S429*10^-3, NA())","v":{"$error":"#N/A"}}]
[3817,8.2472200527452291,{"$f":" IF(Foglio1!$C$11 <> \"\", 8.314472*Foglio1!$C$11*Foglio2!B430, NA())","v":20571.384061916622},{"$f":"IF(Foglio1!$H$11 <> \"\", Foglio1!$H$11 + C430*10^-3, NA())","v":-69.428615938083382},3817,8.2472200527452291,{"$f":" IF(Foglio1!$C$12 <> \"\", 8.314472*Foglio1!$C$12*Foglio2!F430, NA())","v":{"$error":"#N/A"}},{"$f":"IF(Foglio1!$H$12 <> \"\", Foglio1!$H$12 + G430*10^-3, NA())","v":{"$error":"#N/A"}},3817,8.2472200527452291,{"$f":" IF(Foglio1!$C$13 <> \"\", 8.314472*Foglio1!$C$13*Foglio2!J430, NA())","v":{"$error":"#N/A"}},{"$f":"IF(Foglio1!$H$13 <> \"\", Foglio1!$H$13 + K430*10^-3, NA())","v":{"$error":"#N/A"}},3817,8.2472200527452291,{"$f":" IF(Foglio1!$C$14 <> \"\", 8.314472*Foglio1!$C$14*Foglio2!N430, NA())","v":{"$error":"#N/A"}},{"$f":"IF(Foglio1!$H$14 <> \"\", Foglio1!$H$14 + O430*10^-3, NA())","v":{"$error":"#N/A"}},3817,8.2472200527452291,{"$f":" IF(Foglio1!$C$15 <> \"\", 8.314472*Foglio1!$C$15*Foglio2!R430, NA())","v":{"$error":"#N/A"}},{"$f":"IF(Foglio1!$H$15 <> \"\", Foglio1!$H$15 + S430*10^-3, NA())","v":{"$error":"#N/A"}}]
[3826,8.249575150000199,{"$f":" IF(Foglio1!$C$11 <> \"\", 8.314472*Foglio1!$C$11*Foglio2!B431, NA())","v":20577.258478971737},{"$f":"IF(Foglio1!$H$11 <> \"\", Foglio1!$H$11 + C431*10^-3, NA())","v":-69.422741521028257},3826,8.249575150000199,{"$f":" IF(Foglio1!$C$12 <> \"\", 8.314472*Foglio1!$C$12*Foglio2!F431, NA())","v":{"$error":"#N/A"}},{"$f":"IF(Foglio1!$H$12 <> \"\", Foglio1!$H$12 + G431*10^-3, NA())","v":{"$error":"#N/A"}},3826,8.249575150000199,{"$f":" IF(Foglio1!$C$13 <> \"\", 8.314472*Foglio1!$C$13*Foglio2!J431, NA())","v":{"$error":"#N/A"}},{"$f":"IF(Foglio1!$H$13 <> \"\", Foglio1!$H$13 + K431*10^-3, NA())","v":{"$error":"#N/A"}},3826,8.249575150000199,{"$f":" IF(Foglio1!$C$14 <> \"\", 8.314472*Foglio1!$C$14*Foglio2!N431, NA())","v":{"$error":"#N/A"}},{"$f":"IF(Foglio1!$H$14 <> \"\", Foglio1!$H$14 + O431*10^-3, NA())","v":{"$error":"#N/A"}},3826,8.249575150000199,{"$f":" IF(Foglio1!$C$15 <> \"\", 8.314472*Foglio1!$C$15*Foglio2!R431, NA())","v":{"$error":"#N/A"}},{"$f":"IF(Foglio1!$H$15 <> \"\", Foglio1!$H$15 + S431*10^-3, NA())","v":{"$error":"#N/A"}}]
[3835,8.2519247138013565,{"$f":" IF(Foglio1!$C$11 <> \"\", 8.314472*Foglio1!$C$11*Foglio2!B432, NA())","v":20583.119093702819},{"$f":"IF(Foglio1!$H$11 <> \"\", Foglio1!$H$11 + C432*10^-3, NA())","v":-69.41688090629718},3835,8.2519247138013565,{"$f":" IF(Foglio1!$C$12 <> \"\", 8.314472*Foglio1!$C$12*Foglio2!F432, NA())","v":{"$error":"#N/A"}},{"$f":"IF(Foglio1!$H$12 <> \"\", Foglio1!$H$12 + G432*10^-3, NA())","v":{"$error":"#N/A"}},3835,8.2519247138013565,{"$f":" IF(Foglio1!$C$13 <> \"\", 8.314472*Foglio1!$C$13*Foglio2!J432, NA())","v":{"$error":"#N/A"}},{"$f":"IF(Foglio1!$H$13 <> \"\", Foglio1!$H$13 + K432*10^-3, NA())","v":{"$error":"#N/A"}},3835,8.2519247138013565,{"$f":" IF(Foglio1!$C$14 <> \"\", 8.314472*Foglio1!$C$14*Foglio2!N432, NA())","v":{"$error":"#N/A"}},{"$f":"IF(Foglio1!$H$14 <> \"\", Foglio1!$H$14 + O432*10^-3, NA())","v":{"$error":"#N/A"}},3835,8.2519247138013565,{"$f":" IF(Foglio1!$C$15 <> \"\", 8.314472*Foglio1!$C$15*Foglio2!R432, NA())","v":{"$error":"#N/A"}},{"$f":"IF(Foglio1!$H$15 <> \"\", Foglio1!$H$15 + S432*10^-3, NA())","v":{"$error":"#N/A"}}]
[3844,8.2542687700901833,{"$f":" IF(Foglio1!$C$11 <> \"\", 8.314472*Foglio1!$C$11*Foglio2!B433, NA())","v":20588.965970816782},{"$f":"IF(Foglio1!$H$11 <> \"\", Foglio1!$H$11 + C433*10^-3, NA())","v":-69.411034029183213},3844,8.2542687700901833,{"$f":" IF(Foglio1!$C$12 <> \"\", 8.314472*Foglio1!$C$12*Foglio2!F433, NA())","v":{"$error":"#N/A"}},{"$f":"IF(Foglio1!$H$12 <> \"\", Foglio1!$H$12 + G433*10^-3, NA())","v":{"$error":"#N/A"}},3844,8.2542687700901833,{"$f":" IF(Foglio1!$C$13 <> \"\", 8.314472*Foglio1!$C$13*Foglio2!J433, NA())","v":{"$error":"#N/A"}},{"$f":"IF(Foglio1!$H$13 <> \"\", Foglio1!$H$13 + K433*10^-3, NA())","v":{"$error":"#N/A"}},3844,8.2542687700901833,{"$f":" IF(Foglio1!$C$14 <> \"\", 8.314472*Foglio1!$C$14*Foglio2!N433, NA())","v":{"$error":"#N/A"}},{"$f":"IF(Foglio1!$H$14 <> \"\", Foglio1!$H$14 + O433*10^-3, NA())","v":{"$error":"#N/A"}},3844,8.2542687700901833,{"$f":" IF(Foglio1!$C$15 <> \"\", 8.314472*Foglio1!$C$15*Foglio2!R433, NA())","v":{"$error":"#N/A"}},{"$f":"IF(Foglio1!$H$15 <> \"\", Foglio1!$H$15 + S433*10^-3, NA())","v":{"$error":"#N/A"}}]
[3853,8.2566073446261576,{"$f":" IF(Foglio1!$C$11 <> \"\", 8.314472*Foglio1!$C$11*Foglio2!B434, NA())","v":20594.799174566564},{"$f":"IF(Foglio1!$H$11 <> \"\", Foglio1!$H$11 + C434*10^-3, NA())","v":-69.40520082543344},3853,8.2566073446261576,{"$f":" IF(Foglio1!$C$12 <> \"\", 8.314472*Foglio1!$C$12*Foglio2!F434, NA())","v":{"$error":"#N/A"}},{"$f":"IF(Foglio1!$H$12 <> \"\", Foglio1!$H$12 + G434*10^-3, NA())","v":{"$error":"#N/A"}},3853,8.2566073446261576,{"$f":" IF(Foglio1!$C$13 <> \"\", 8.314472*Foglio1!$C$13*Foglio2!J434, NA())","v":{"$error":"#N/A"}},{"$f":"IF(Foglio1!$H$13 <> \"\", Foglio1!$H$13 + K434*10^-3, NA())","v":{"$error":"#N/A"}},3853,8.2566073446261576,{"$f":" IF(Foglio1!$C$14 <> \"\", 8.314472*Foglio1!$C$14*Foglio2!N434, NA())","v":{"$error":"#N/A"}},{"$f":"IF(Foglio1!$H$14 <> \"\", Foglio1!$H$14 + O434*10^-3, NA())","v":{"$error":"#N/A"}},3853,8.2566073446261576,{"$f":" IF(Foglio1!$C$15 <> \"\", 8.314472*Foglio1!$C$15*Foglio2!R434, NA())","v":{"$error":"#N/A"}},{"$f":"IF(Foglio1!$H$15 <> \"\", Foglio1!$H$15 + S434*10^-3, NA())","v":{"$error":"#N/A"}}]
[3862,8.2589404629884591,{"$f":" IF(Foglio1!$C$11 <> \"\", 8.314472*Foglio1!$C$11*Foglio2!B435, NA())","v":20600.618768755376},{"$f":"IF(Foglio1!$H$11 <> \"\", Foglio1!$H$11 + C435*10^-3, NA())","v":-69.399381231244632},3862,8.2589404629884591,{"$f":" IF(Foglio1!$C$12 <> \"\", 8.314472*Foglio1!$C$12*Foglio2!F435, NA())","v":{"$error":"#N/A"}},{"$f":"IF(Foglio1!$H$12 <> \"\", Foglio1!$H$12 + G435*10^-3, NA())","v":{"$error":"#N/A"}},3862,8.2589404629884591,{"$f":" IF(Foglio1!$C$13 <> \"\", 8.314472*Foglio1!$C$13*Foglio2!J435, NA())","v":{"$error":"#N/A"}},{"$f":"IF(Foglio1!$H$13 <> \"\", Foglio1!$H$13 + K435*10^-3, NA())","v":{"$error":"#N/A"}},3862,8.2589404629884591,{"$f":" IF(Foglio1!$C$14 <> \"\", 8.314472*Foglio1!$C$14*Foglio2!N435, NA())","v":{"$error":"#N/A"}},{"$f":"IF(Foglio1!$H$14 <> \"\", Foglio1!$H$14 + O435*10^-3, NA())","v":{"$error":"#N/A"}},3862,8.2589404629884591,{"$f":" IF(Foglio1!$C$15 <> \"\", 8.314472*Foglio1!$C$15*Foglio2!R435, NA())","v":{"$error":"#N/A"}},{"$f":"IF(Foglio1!$H$15 <> \"\", Foglio1!$H$15 + S435*10^-3, NA())","v":{"$error":"#N/A"}}]
[3871,8.2612681505776475,{"$f":" IF(Foglio1!$C$11 <> \"\", 8.314472*Foglio1!$C$11*Foglio2!B436, NA())","v":20606.424816740891},{"$f":"IF(Foglio1!$H$11 <> \"\", Foglio1!$H$11 + C436*10^-3, NA())","v":-69.393575183259117},3871,8.2612681505776475,{"$f":" IF(Foglio1!$C$12 <> \"\", 8.314472*Foglio1!$C$12*Foglio2!F436, NA())","v":{"$error":"#N/A"}},{"$f":"IF(Foglio1!$H$12 <> \"\", Foglio1!$H$12 + G436*10^-3, NA())","v":{"$error":"#N/A"}},3871,8.2612681505776475,{"$f":" IF(Foglio1!$C$13 <> \"\", 8.314472*Foglio1!$C$13*Foglio2!J436, NA())","v":{"$error":"#N/A"}},{"$f":"IF(Foglio1!$H$13 <> \"\", Foglio1!$H$13 + K436*10^-3, NA())","v":{"$error":"#N/A"}},3871,8.2612681505776475,{"$f":" IF(Foglio1!$C$14 <> \"\", 8.314472*Foglio1!$C$14*Foglio2!N436, NA())","v":{"$error":"#N/A"}},{"$f":"IF(Foglio1!$H$14 <> \"\", Foglio1!$H$14 + O436*10^-3, NA())","v":{"$error":"#N/A"}},3871,8.2612681505776475,{"$f":" IF(Foglio1!$C$15 <> \"\", 8.314472*Foglio1!$C$15*Foglio2!R436, NA())","v":{"$error":"#N/A"}},{"$f":"IF(Foglio1!$H$15 <> \"\", Foglio1!$H$15 + S436*10^-3, NA())","v":{"$error":"#N/A"}}]
[3880,8.2635904326173186,{"$f":" IF(Foglio1!$C$11 <> \"\", 8.314472*Foglio1!$C$11*Foglio2!B437, NA())","v":20612.217381439375},{"$f":"IF(Foglio1!$H$11 <> \"\", Foglio1!$H$11 + C437*10^-3, NA())","v":-69.387782618560621},3880,8.2635904326173186,{"$f":" IF(Foglio1!$C$12 <> \"\", 8.314472*Foglio1!$C$12*Foglio2!F437, NA())","v":{"$error":"#N/A"}},{"$f":"IF(Foglio1!$H$12 <> \"\", Foglio1!$H$12 + G437*10^-3, NA())","v":{"$error":"#N/A"}},3880,8.2635904326173186,{"$f":" IF(Foglio1!$C$13 <> \"\", 8.314472*Foglio1!$C$13*Foglio2!J437, NA())","v":{"$error":"#N/A"}},{"$f":"IF(Foglio1!$H$13 <> \"\", Foglio1!$H$13 + K437*10^-3, NA())","v":{"$error":"#N/A"}},3880,8.2635904326173186,{"$f":" IF(Foglio1!$C$14 <> \"\", 8.314472*Foglio1!$C$14*Foglio2!N437, NA())","v":{"$error":"#N/A"}},{"$f":"IF(Foglio1!$H$14 <> \"\", Foglio1!$H$14 + O437*10^-3, NA())","v":{"$error":"#N/A"}},3880,8.2635904326173186,{"$f":" IF(Foglio1!$C$15 <> \"\", 8.314472*Foglio1!$C$15*Foglio2!R437, NA())","v":{"$error":"#N/A"}},{"$f":"IF(Foglio1!$H$15 <> \"\", Foglio1!$H$15 + S437*10^-3, NA())","v":{"$error":"#N/A"}}]
[3889,8.265907334155747,{"$f":" IF(Foglio1!$C$11 <> \"\", 8.314472*Foglio1!$C$11*Foglio2!B438, NA())","v":20617.996525329781},{"$f":"IF(Foglio1!$H$11 <> \"\", Foglio1!$H$11 + C438*10^-3, NA())","v":-69.382003474670213},3889,8.265907334155747,{"$f":" IF(Foglio1!$C$12 <> \"\", 8.314472*Foglio1!$C$12*Foglio2!F438, NA())","v":{"$error":"#N/A"}},{"$f":"IF(Foglio1!$H$12 <> \"\", Foglio1!$H$12 + G438*10^-3, NA())","v":{"$error":"#N/A"}},3889,8.265907334155747,{"$f":" IF(Foglio1!$C$13 <> \"\", 8.314472*Foglio1!$C$13*Foglio2!J438, NA())","v":{"$error":"#N/A"}},{"$f":"IF(Foglio1!$H$13 <> \"\", Foglio1!$H$13 + K438*10^-3, NA())","v":{"$error":"#N/A"}},3889,8.265907334155747,{"$f":" IF(Foglio1!$C$14 <> \"\", 8.314472*Foglio1!$C$14*Foglio2!N438, NA())","v":{"$error":"#N/A"}},{"$f":"IF(Foglio1!$H$14 <> \"\", Foglio1!$H$14 + O438*10^-3, NA())","v":{"$error":"#N/A"}},3889,8.265907334155747,{"$f":" IF(Foglio1!$C$15 <> \"\", 8.314472*Foglio1!$C$15*Foglio2!R438, NA())","v":{"$error":"#N/A"}},{"$f":"IF(Foglio1!$H$15 <> \"\", Foglio1!$H$15 + S438*10^-3, NA())","v":{"$error":"#N/A"}}]
[3898,8.268218880067506,{"$f":" IF(Foglio1!$C$11 <> \"\", 8.314472*Foglio1!$C$11*Foglio2!B439, NA())","v":20623.762310457794},{"$f":"IF(Foglio1!$H$11 <> \"\", Foglio1!$H$11 + C439*10^-3, NA())","v":-69.376237689542208},3898,8.268218880067506,{"$f":" IF(Foglio1!$C$12 <> \"\", 8.314472*Foglio1!$C$12*Foglio2!F439, NA())","v":{"$error":"#N/A"}},{"$f":"IF(Foglio1!$H$12 <> \"\", Foglio1!$H$12 + G439*10^-3, NA())","v":{"$error":"#N/A"}},3898,8.268218880067506,{"$f":" IF(Foglio1!$C$13 <> \"\", 8.314472*Foglio1!$C$13*Foglio2!J439, NA())","v":{"$error":"#N/A"}},{"$f":"IF(Foglio1!$H$13 <> \"\", Foglio1!$H$13 + K439*10^-3, NA())","v":{"$error":"#N/A"}},3898,8.268218880067506,{"$f":" IF(Foglio1!$C$14 <> \"\", 8.314472*Foglio1!$C$14*Foglio2!N439, NA())","v":{"$error":"#N/A"}},{"$f":"IF(Foglio1!$H$14 <> \"\", Foglio1!$H$14 + O439*10^-3, NA())","v":{"$error":"#N/A"}},3898,8.268218880067506,{"$f":" IF(Foglio1!$C$15 <> \"\", 8.314472*Foglio1!$C$15*Foglio2!R439, NA())","v":{"$error":"#N/A"}},{"$f":"IF(Foglio1!$H$15 <> \"\", Foglio1!$H$15 + S439*10^-3, NA())","v":{"$error":"#N/A"}}]
[3907,8.2705250950550706,{"$f":" IF(Foglio1!$C$11 <> \"\", 8.314472*Foglio1!$C$11*Foglio2!B440, NA())","v":20629.514798439817},{"$f":"IF(Foglio1!$H$11 <> \"\", Foglio1!$H$11 + C440*10^-3, NA())","v":-69.370485201560186},3907,8.2705250950550706,{"$f":" IF(Foglio1!$C$12 <> \"\", 8.314472*Foglio1!$C$12*Foglio2!F440, NA())","v":{"$error":"#N/A"}},{"$f":"IF(Foglio1!$H$12 <> \"\", Foglio1!$H$12 + G440*10^-3, NA())","v":{"$error":"#N/A"}},3907,8.2705250950550706,{"$f":" IF(Foglio1!$C$13 <> \"\", 8.314472*Foglio1!$C$13*Foglio2!J440, NA())","v":{"$error":"#N/A"}},{"$f":"IF(Foglio1!$H$13 <> \"\", Foglio1!$H$13 + K440*10^-3, NA())","v":{"$error":"#N/A"}},3907,8.2705250950550706,{"$f":" IF(Foglio1!$C$14 <> \"\", 8.314472*Foglio1!$C$14*Foglio2!N440, NA())","v":{"$error":"#N/A"}},{"$f":"IF(Foglio1!$H$14 <> \"\", Foglio1!$H$14 + O440*10^-3, NA())","v":{"$error":"#N/A"}},3907,8.2705250950550706,{"$f":" IF(Foglio1!$C$15 <> \"\", 8.314472*Foglio1!$C$15*Foglio2!R440, NA())","v":{"$error":"#N/A"}},{"$f":"IF(Foglio1!$H$15 <> \"\", Foglio1!$H$15 + S440*10^-3, NA())","v":{"$error":"#N/A"}}]
[3916,8.2728260036504011,{"$f":" IF(Foglio1!$C$11 <> \"\", 8.314472*Foglio1!$C$11*Foglio2!B441, NA())","v":20635.254050466949},{"$f":"IF(Foglio1!$H$11 <> \"\", Foglio1!$H$11 + C441*10^-3, NA())","v":-69.364745949533045},3916,8.2728260036504011,{"$f":" IF(Foglio1!$C$12 <> \"\", 8.314472*Foglio1!$C$12*Foglio2!F441, NA())","v":{"$error":"#N/A"}},{"$f":"IF(Foglio1!$H$12 <> \"\", Foglio1!$H$12 + G441*10^-3, NA())","v":{"$error":"#N/A"}},3916,8.2728260036504011,{"$f":" IF(Foglio1!$C$13 <> \"\", 8.314472*Foglio1!$C$13*Foglio2!J441, NA())","v":{"$error":"#N/A"}},{"$f":"IF(Foglio1!$H$13 <> \"\", Foglio1!$H$13 + K441*10^-3, NA())","v":{"$error":"#N/A"}},3916,8.2728260036504011,{"$f":" IF(Foglio1!$C$14 <> \"\", 8.314472*Foglio1!$C$14*Foglio2!N441, NA())","v":{"$error":"#N/A"}},{"$f":"IF(Foglio1!$H$14 <> \"\", Foglio1!$H$14 + O441*10^-3, NA())","v":{"$error":"#N/A"}},3916,8.2728260036504011,{"$f":" IF(Foglio1!$C$15 <> \"\", 8.314472*Foglio1!$C$15*Foglio2!R441, NA())","v":{"$error":"#N/A"}},{"$f":"IF(Foglio1!$H$15 <> \"\", Foglio1!$H$15 + S441*10^-3, NA())","v":{"$error":"#N/A"}}]
[3925,8.2751216302165087,{"$f":" IF(Foglio1!$C$11 <> \"\", 8.314472*Foglio1!$C$11*Foglio2!B442, NA())","v":20640.980127308856},{"$f":"IF(Foglio1!$H$11 <> \"\", Foglio1!$H$11 + C442*10^-3, NA())","v":-69.359019872691135},3925,8.2751216302165087,{"$f":" IF(Foglio1!$C$12 <> \"\", 8.314472*Foglio1!$C$12*Foglio2!F442, NA())","v":{"$error":"#N/A"}},{"$f":"IF(Foglio1!$H$12 <> \"\", Foglio1!$H$12 + G442*10^-3, NA())","v":{"$error":"#N/A"}},3925,8.2751216302165087,{"$f":" IF(Foglio1!$C$13 <> \"\", 8.314472*Foglio1!$C$13*Foglio2!J442, NA())","v":{"$error":"#N/A"}},{"$f":"IF(Foglio1!$H$13 <> \"\", Foglio1!$H$13 + K442*10^-3, NA())","v":{"$error":"#N/A"}},3925,8.2751216302165087,{"$f":" IF(Foglio1!$C$14 <> \"\", 8.314472*Foglio1!$C$14*Foglio2!N442, NA())","v":{"$error":"#N/A"}},{"$f":"IF(Foglio1!$H$14 <> \"\", Foglio1!$H$14 + O442*10^-3, NA())","v":{"$error":"#N/A"}},3925,8.2751216302165087,{"$f":" IF(Foglio1!$C$15 <> \"\", 8.314472*Foglio1!$C$15*Foglio2!R442, NA())","v":{"$error":"#N/A"}},{"$f":"IF(Foglio1!$H$15 <> \"\", Foglio1!$H$15 + S442*10^-3, NA())","v":{"$error":"#N/A"}}]
[3934,8.2774119989490043,{"$f":" IF(Foglio1!$C$11 <> \"\", 8.314472*Foglio1!$C$11*Foglio2!B443, NA())","v":20646.693089317658},{"$f":"IF(Foglio1!$H$11 <> \"\", Foglio1!$H$11 + C443*10^-3, NA())","v":-69.353306910682335},3934,8.2774119989490043,{"$f":" IF(Foglio1!$C$12 <> \"\", 8.314472*Foglio1!$C$12*Foglio2!F443, NA())","v":{"$error":"#N/A"}},{"$f":"IF(Foglio1!$H$12 <> \"\", Foglio1!$H$12 + G443*10^-3, NA())","v":{"$error":"#N/A"}},3934,8.2774119989490043,{"$f":" IF(Foglio1!$C$13 <> \"\", 8.314472*Foglio1!$C$13*Foglio2!J443, NA())","v":{"$error":"#N/A"}},{"$f":"IF(Foglio1!$H$13 <> \"\", Foglio1!$H$13 + K443*10^-3, NA())","v":{"$error":"#N/A"}},3934,8.2774119989490043,{"$f":" IF(Foglio1!$C$14 <> \"\", 8.314472*Foglio1!$C$14*Foglio2!N443, NA())","v":{"$error":"#N/A"}},{"$f":"IF(Foglio1!$H$14 <> \"\", Foglio1!$H$14 + O443*10^-3, NA())","v":{"$error":"#N/A"}},3934,8.2774119989490043,{"$f":" IF(Foglio1!$C$15 <> \"\", 8.314472*Foglio1!$C$15*Foglio2!R443, NA())","v":{"$error":"#N/A"}},{"$f":"IF(Foglio1!$H$15 <> \"\", Foglio1!$H$15 + S443*10^-3, NA())","v":{"$error":"#N/A"}}]
[3943,8.2796971338776277,{"$f":" IF(Foglio1!$C$11 <> \"\", 8.314472*Foglio1!$C$11*Foglio2!B444, NA())","v":20652.392996431739},{"$f":"IF(Foglio1!$H$11 <> \"\", Foglio1!$H$11 + C444*10^-3, NA())","v":-69.347607003568257},3943,8.2796971338776277,{"$f":" IF(Foglio1!$C$12 <> \"\", 8.314472*Foglio1!$C$12*Foglio2!F444, NA())","v":{"$error":"#N/A"}},{"$f":"IF(Foglio1!$H$12 <> \"\", Foglio1!$H$12 + G444*10^-3, NA())","v":{"$error":"#N/A"}},3943,8.2796971338776277,{"$f":" IF(Foglio1!$C$13 <> \"\", 8.314472*Foglio1!$C$13*Foglio2!J444, NA())","v":{"$error":"#N/A"}},{"$f":"IF(Foglio1!$H$13 <> \"\", Foglio1!$H$13 + K444*10^-3, NA())","v":{"$error":"#N/A"}},3943,8.2796971338776277,{"$f":" IF(Foglio1!$C$14 <> \"\", 8.314472*Foglio1!$C$14*Foglio2!N444, NA())","v":{"$error":"#N/A"}},{"$f":"IF(Foglio1!$H$14 <> \"\", Foglio1!$H$14 + O444*10^-3, NA())","v":{"$error":"#N/A"}},3943,8.2796971338776277,{"$f":" IF(Foglio1!$C$15 <> \"\", 8.314472*Foglio1!$C$15*Foglio2!R444, NA())","v":{"$error":"#N/A"}},{"$f":"IF(Foglio1!$H$15 <> \"\", Foglio1!$H$15 + S444*10^-3, NA())","v":{"$error":"#N/A"}}]
[3952,8.2819770588677581,{"$f":" IF(Foglio1!$C$11 <> \"\", 8.314472*Foglio1!$C$11*Foglio2!B445, NA())","v":20658.079908179501},{"$f":"IF(Foglio1!$H$11 <> \"\", Foglio1!$H$11 + C445*10^-3, NA())","v":-69.341920091820498},3952,8.2819770588677581,{"$f":" IF(Foglio1!$C$12 <> \"\", 8.314472*Foglio1!$C$12*Foglio2!F445, NA())","v":{"$error":"#N/A"}},{"$f":"IF(Foglio1!$H$12 <> \"\", Foglio1!$H$12 + G445*10^-3, NA())","v":{"$error":"#N/A"}},3952,8.2819770588677581,{"$f":" IF(Foglio1!$C$13 <> \"\", 8.314472*Foglio1!$C$13*Foglio2!J445, NA())","v":{"$error":"#N/A"}},{"$f":"IF(Foglio1!$H$13 <> \"\", Foglio1!$H$13 + K445*10^-3, NA())","v":{"$error":"#N/A"}},3952,8.2819770588677581,{"$f":" IF(Foglio1!$C$14 <> \"\", 8.314472*Foglio1!$C$14*Foglio2!N445, NA())","v":{"$error":"#N/A"}},{"$f":"IF(Foglio1!$H$14 <> \"\", Foglio1!$H$14 + O445*10^-3, NA())","v":{"$error":"#N/A"}},3952,8.2819770588677581,{"$f":" IF(Foglio1!$C$15 <> \"\", 8.314472*Foglio1!$C$15*Foglio2!R445, NA())","v":{"$error":"#N/A"}},{"$f":"IF(Foglio1!$H$15 <> \"\", Foglio1!$H$15 + S445*10^-3, NA())","v":{"$error":"#N/A"}}]
[3961,8.2842517976219163,{"$f":" IF(Foglio1!$C$11 <> \"\", 8.314472*Foglio1!$C$11*Foglio2!B446, NA())","v":20663.75388368313},{"$f":"IF(Foglio1!$H$11 <> \"\", Foglio1!$H$11 + C446*10^-3, NA())","v":-69.336246116316872},3961,8.2842517976219163,{"$f":" IF(Foglio1!$C$12 <> \"\", 8.314472*Foglio1!$C$12*Foglio2!F446, NA())","v":{"$error":"#N/A"}},{"$f":"IF(Foglio1!$H$12 <> \"\", Foglio1!$H$12 + G446*10^-3, NA())","v":{"$error":"#N/A"}},3961,8.2842517976219163,{"$f":" IF(Foglio1!$C$13 <> \"\", 8.314472*Foglio1!$C$13*Foglio2!J446, NA())","v":{"$error":"#N/A"}},{"$f":"IF(Foglio1!$H$13 <> \"\", Foglio1!$H$13 + K446*10^-3, NA())","v":{"$error":"#N/A"}},3961,8.2842517976219163,{"$f":" IF(Foglio1!$C$14 <> \"\", 8.314472*Foglio1!$C$14*Foglio2!N446, NA())","v":{"$error":"#N/A"}},{"$f":"IF(Foglio1!$H$14 <> \"\", Foglio1!$H$14 + O446*10^-3, NA())","v":{"$error":"#N/A"}},3961,8.2842517976219163,{"$f":" IF(Foglio1!$C$15 <> \"\", 8.314472*Foglio1!$C$15*Foglio2!R446, NA())","v":{"$error":"#N/A"}},{"$f":"IF(Foglio1!$H$15 <> \"\", Foglio1!$H$15 + S446*10^-3, NA())","v":{"$error":"#N/A"}}]
[3970,8.2865213736812358,{"$f":" IF(Foglio1!$C$11 <> \"\", 8.314472*Foglio1!$C$11*Foglio2!B447, NA())","v":20669.414981662252},{"$f":"IF(Foglio1!$H$11 <> \"\", Foglio1!$H$11 + C447*10^-3, NA())","v":-69.330585018337743},3970,8.2865213736812358,{"$f":" IF(Foglio1!$C$12 <> \"\", 8.314472*Foglio1!$C$12*Foglio2!F447, NA())","v":{"$error":"#N/A"}},{"$f":"IF(Foglio1!$H$12 <> \"\", Foglio1!$H$12 + G447*10^-3, NA())","v":{"$error":"#N/A"}},3970,8.2865213736812358,{"$f":" IF(Foglio1!$C$13 <> \"\", 8.314472*Foglio1!$C$13*Foglio2!J447, NA())","v":{"$error":"#N/A"}},{"$f":"IF(Foglio1!$H$13 <> \"\", Foglio1!$H$13 + K447*10^-3, NA())","v":{"$error":"#N/A"}},3970,8.2865213736812358,{"$f":" IF(Foglio1!$C$14 <> \"\", 8.314472*Foglio1!$C$14*Foglio2!N447, NA())","v":{"$error":"#N/A"}},{"$f":"IF(Foglio1!$H$14 <> \"\", Foglio1!$H$14 + O447*10^-3, NA())","v":{"$error":"#N/A"}},3970,8.2865213736812358,{"$f":" IF(Foglio1!$C$15 <> \"\", 8.314472*Foglio1!$C$15*Foglio2!R447, NA())","v":{"$error":"#N/A"}},{"$f":"IF(Foglio1!$H$15 <> \"\", Foglio1!$H$15 + S447*10^-3, NA())","v":{"$error":"#N/A"}}]
[3979,8.2887858104269281,{"$f":" IF(Foglio1!$C$11 <> \"\", 8.314472*Foglio1!$C$11*Foglio2!B448, NA())","v":20675.063260437601},{"$f":"IF(Foglio1!$H$11 <> \"\", Foglio1!$H$11 + C448*10^-3, NA())","v":-69.324936739562403},3979,8.2887858104269281,{"$f":" IF(Foglio1!$C$12 <> \"\", 8.314472*Foglio1!$C$12*Foglio2!F448, NA())","v":{"$error":"#N/A"}},{"$f":"IF(Foglio1!$H$12 <> \"\", Foglio1!$H$12 + G448*10^-3, NA())","v":{"$error":"#N/A"}},3979,8.2887858104269281,{"$f":" IF(Foglio1!$C$13 <> \"\", 8.314472*Foglio1!$C$13*Foglio2!J448, NA())","v":{"$error":"#N/A"}},{"$f":"IF(Foglio1!$H$13 <> \"\", Foglio1!$H$13 + K448*10^-3, NA())","v":{"$error":"#N/A"}},3979,8.2887858104269281,{"$f":" IF(Foglio1!$C$14 <> \"\", 8.314472*Foglio1!$C$14*Foglio2!N448, NA())","v":{"$error":"#N/A"}},{"$f":"IF(Foglio1!$H$14 <> \"\", Foglio1!$H$14 + O448*10^-3, NA())","v":{"$error":"#N/A"}},3979,8.2887858104269281,{"$f":" IF(Foglio1!$C$15 <> \"\", 8.314472*Foglio1!$C$15*Foglio2!R448, NA())","v":{"$error":"#N/A"}},{"$f":"IF(Foglio1!$H$15 <> \"\", Foglio1!$H$15 + S448*10^-3, NA())","v":{"$error":"#N/A"}}]
[3988,8.291045131081729,{"$f":" IF(Foglio1!$C$11 <> \"\", 8.314472*Foglio1!$C$11*Foglio2!B449, NA())","v":20680.698777934613},{"$f":"IF(Foglio1!$H$11 <> \"\", Foglio1!$H$11 + C449*10^-3, NA())","v":-69.319301222065391},3988,8.291045131081729,{"$f":" IF(Foglio1!$C$12 <> \"\", 8.314472*Foglio1!$C$12*Foglio2!F449, NA())","v":{"$error":"#N/A"}},{"$f":"IF(Foglio1!$H$12 <> \"\", Foglio1!$H$12 + G449*10^-3, NA())","v":{"$error":"#N/A"}},3988,8.291045131081729,{"$f":" IF(Foglio1!$C$13 <> \"\", 8.314472*Foglio1!$C$13*Foglio2!J449, NA())","v":{"$error":"#N/A"}},{"$f":"IF(Foglio1!$H$13 <> \"\", Foglio1!$H$13 + K449*10^-3, NA())","v":{"$error":"#N/A"}},3988,8.291045131081729,{"$f":" IF(Foglio1!$C$14 <> \"\", 8.314472*Foglio1!$C$14*Foglio2!N449, NA())","v":{"$error":"#N/A"}},{"$f":"IF(Foglio1!$H$14 <> \"\", Foglio1!$H$14 + O449*10^-3, NA())","v":{"$error":"#N/A"}},3988,8.291045131081729,{"$f":" IF(Foglio1!$C$15 <> \"\", 8.314472*Foglio1!$C$15*Foglio2!R449, NA())","v":{"$error":"#N/A"}},{"$f":"IF(Foglio1!$H$15 <> \"\", Foglio1!$H$15 + S449*10^-3, NA())","v":{"$error":"#N/A"}}]
[3997,8.2932993587113231,{"$f":" IF(Foglio1!$C$11 <> \"\", 8.314472*Foglio1!$C$11*Foglio2!B450, NA())","v":20686.321591686978},{"$f":"IF(Foglio1!$H$11 <> \"\", Foglio1!$H$11 + C450*10^-3, NA())","v":-69.313678408313024},3997,8.2932993587113231,{"$f":" IF(Foglio1!$C$12 <> \"\", 8.314472*Foglio1!$C$12*Foglio2!F450, NA())","v":{"$error":"#N/A"}},{"$f":"IF(Foglio1!$H$12 <> \"\", Foglio1!$H$12 + G450*10^-3, NA())","v":{"$error":"#N/A"}},3997,8.2932993587113231,{"$f":" IF(Foglio1!$C$13 <> \"\", 8.314472*Foglio1!$C$13*Foglio2!J450, NA())","v":{"$error":"#N/A"}},{"$f":"IF(Foglio1!$H$13 <> \"\", Foglio1!$H$13 + K450*10^-3, NA())","v":{"$error":"#N/A"}},3997,8.2932993587113231,{"$f":" IF(Foglio1!$C$14 <> \"\", 8.314472*Foglio1!$C$14*Foglio2!N450, NA())","v":{"$error":"#N/A"}},{"$f":"IF(Foglio1!$H$14 <> \"\", Foglio1!$H$14 + O450*10^-3, NA())","v":{"$error":"#N/A"}},3997,8.2932993587113231,{"$f":" IF(Foglio1!$C$15 <> \"\", 8.314472*Foglio1!$C$15*Foglio2!R450, NA())","v":{"$error":"#N/A"}},{"$f":"IF(Foglio1!$H$15 <> \"\", Foglio1!$H$15 + S450*10^-3, NA())","v":{"$error":"#N/A"}}]
[4006,{"$f":"LN(A451)","v":8.2955485162257627},{"$f":" IF(Foglio1!$C$11 <> \"\", 8.314472*Foglio1!$C$11*Foglio2!B451, NA())","v":20691.931758840197},{"$f":"IF(Foglio1!$H$11 <> \"\", Foglio1!$H$11 + C451*10^-3, NA())","v":-69.308068241159802},4006,{"$f":"LN(E451)","v":8.2955485162257627},{"$f":" IF(Foglio1!$C$12 <> \"\", 8.314472*Foglio1!$C$12*Foglio2!F451, NA())","v":{"$error":"#N/A"}},{"$f":"IF(Foglio1!$H$12 <> \"\", Foglio1!$H$12 + G451*10^-3, NA())","v":{"$error":"#N/A"}},4006,{"$f":"LN(I451)","v":8.2955485162257627},{"$f":" IF(Foglio1!$C$13 <> \"\", 8.314472*Foglio1!$C$13*Foglio2!J451, NA())","v":{"$error":"#N/A"}},{"$f":"IF(Foglio1!$H$13 <> \"\", Foglio1!$H$13 + K451*10^-3, NA())","v":{"$error":"#N/A"}},4006,{"$f":"LN(M451)","v":8.2955485162257627},{"$f":" IF(Foglio1!$C$14 <> \"\", 8.314472*Foglio1!$C$14*Foglio2!N451, NA())","v":{"$error":"#N/A"}},{"$f":"IF(Foglio1!$H$14 <> \"\", Foglio1!$H$14 + O451*10^-3, NA())","v":{"$error":"#N/A"}},4006,{"$f":"LN(Q451)","v":8.2955485162257627},{"$f":" IF(Foglio1!$C$15 <> \"\", 8.314472*Foglio1!$C$15*Foglio2!R451, NA())","v":{"$error":"#N/A"}},{"$f":"IF(Foglio1!$H$15 <> \"\", Foglio1!$H$15 + S451*10^-3, NA())","v":{"$error":"#N/A"}}]
[4015,8.2977926263808612,{"$f":" IF(Foglio1!$C$11 <> \"\", 8.314472*Foglio1!$C$11*Foglio2!B452, NA())","v":20697.529336155043},{"$f":"IF(Foglio1!$H$11 <> \"\", Foglio1!$H$11 + C452*10^-3, NA())","v":-69.302470663844957},4015,8.2977926263808612,{"$f":" IF(Foglio1!$C$12 <> \"\", 8.314472*Foglio1!$C$12*Foglio2!F452, NA())","v":{"$error":"#N/A"}},{"$f":"IF(Foglio1!$H$12 <> \"\", Foglio1!$H$12 + G452*10^-3, NA())","v":{"$error":"#N/A"}},4015,8.2977926263808612,{"$f":" IF(Foglio1!$C$13 <> \"\", 8.314472*Foglio1!$C$13*Foglio2!J452, NA())","v":{"$error":"#N/A"}},{"$f":"IF(Foglio1!$H$13 <> \"\", Foglio1!$H$13 + K452*10^-3, NA())","v":{"$error":"#N/A"}},4015,8.2977926263808612,{"$f":" IF(Foglio1!$C$14 <> \"\", 8.314472*Foglio1!$C$14*Foglio2!N452, NA())","v":{"$error":"#N/A"}},{"$f":"IF(Foglio1!$H$14 <> \"\", Foglio1!$H$14 + O452*10^-3, NA())","v":{"$error":"#N/A"}},4015,8.2977926263808612,{"$f":" IF(Foglio1!$C$15 <> \"\", 8.314472*Foglio1!$C$15*Foglio2!R452, NA())","v":{"$error":"#N/A"}},{"$f":"IF(Foglio1!$H$15 <> \"\", Foglio1!$H$15 + S452*10^-3, NA())","v":{"$error":"#N/A"}}]
[4024,8.3000317117795746,{"$f":" IF(Foglio1!$C$11 <> \"\", 8.314472*Foglio1!$C$11*Foglio2!B453, NA())","v":20703.114380011004},{"$f":"IF(Foglio1!$H$11 <> \"\", Foglio1!$H$11 + C453*10^-3, NA())","v":-69.296885619988998},4024,8.3000317117795746,{"$f":" IF(Foglio1!$C$12 <> \"\", 8.314472*Foglio1!$C$12*Foglio2!F453, NA())","v":{"$error":"#N/A"}},{"$f":"IF(Foglio1!$H$12 <> \"\", Foglio1!$H$12 + G453*10^-3, NA())","v":{"$error":"#N/A"}},4024,8.3000317117795746,{"$f":" IF(Foglio1!$C$13 <> \"\", 8.314472*Foglio1!$C$13*Foglio2!J453, NA())","v":{"$error":"#N/A"}},{"$f":"IF(Foglio1!$H$13 <> \"\", Foglio1!$H$13 + K453*10^-3, NA())","v":{"$error":"#N/A"}},4024,8.3000317117795746,{"$f":" IF(Foglio1!$C$14 <> \"\", 8.314472*Foglio1!$C$14*Foglio2!N453, NA())","v":{"$error":"#N/A"}},{"$f":"IF(Foglio1!$H$14 <> \"\", Foglio1!$H$14 + O453*10^-3, NA())","v":{"$error":"#N/A"}},4024,8.3000317117795746,{"$f":" IF(Foglio1!$C$15 <> \"\", 8.314472*Foglio1!$C$15*Foglio2!R453, NA())","v":{"$error":"#N/A"}},{"$f":"IF(Foglio1!$H$15 <> \"\", Foglio1!$H$15 + S453*10^-3, NA())","v":{"$error":"#N/A"}}]
[4033,8.3022657948733674,{"$f":" IF(Foglio1!$C$11 <> \"\", 8.314472*Foglio1!$C$11*Foglio2!B454, NA())","v":20708.686946409707},{"$f":"IF(Foglio1!$H$11 <> \"\", Foglio1!$H$11 + C454*10^-3, NA())","v":-69.291313053590301},4033,8.3022657948733674,{"$f":" IF(Foglio1!$C$12 <> \"\", 8.314472*Foglio1!$C$12*Foglio2!F454, NA())","v":{"$error":"#N/A"}},{"$f":"IF(Foglio1!$H$12 <> \"\", Foglio1!$H$12 + G454*10^-3, NA())","v":{"$error":"#N/A"}},4033,8.3022657948733674,{"$f":" IF(Foglio1!$C$13 <> \"\", 8.314472*Foglio1!$C$13*Foglio2!J454, NA())","v":{"$error":"#N/A"}},{"$f":"IF(Foglio1!$H$13 <> \"\", Foglio1!$H$13 + K454*10^-3, NA())","v":{"$error":"#N/A"}},4033,8.3022657948733674,{"$f":" IF(Foglio1!$C$14 <> \"\", 8.314472*Foglio1!$C$14*Foglio2!N454, NA())","v":{"$error":"#N/A"}},{"$f":"IF(Foglio1!$H$14 <> \"\", Foglio1!$H$14 + O454*10^-3, NA())","v":{"$error":"#N/A"}},4033,8.3022657948733674,{"$f":" IF(Foglio1!$C$15 <> \"\", 8.314472*Foglio1!$C$15*Foglio2!R454, NA())","v":{"$error":"#N/A"}},{"$f":"IF(Foglio1!$H$15 <> \"\", Foglio1!$H$15 + S454*10^-3, NA())","v":{"$error":"#N/A"}}]
[4042,8.3044948979635667,{"$f":" IF(Foglio1!$C$11 <> \"\", 8.314472*Foglio1!$C$11*Foglio2!B455, NA())","v":20714.247090978282},{"$f":"IF(Foglio1!$H$11 <> \"\", Foglio1!$H$11 + C455*10^-3, NA())","v":-69.28575290902171},4042,8.3044948979635667,{"$f":" IF(Foglio1!$C$12 <> \"\", 8.314472*Foglio1!$C$12*Foglio2!F455, NA())","v":{"$error":"#N/A"}},{"$f":"IF(Foglio1!$H$12 <> \"\", Foglio1!$H$12 + G455*10^-3, NA())","v":{"$error":"#N/A"}},4042,8.3044948979635667,{"$f":" IF(Foglio1!$C$13 <> \"\", 8.314472*Foglio1!$C$13*Foglio2!J455, NA())","v":{"$error":"#N/A"}},{"$f":"IF(Foglio1!$H$13 <> \"\", Foglio1!$H$13 + K455*10^-3, NA())","v":{"$error":"#N/A"}},4042,8.3044948979635667,{"$f":" IF(Foglio1!$C$14 <> \"\", 8.314472*Foglio1!$C$14*Foglio2!N455, NA())","v":{"$error":"#N/A"}},{"$f":"IF(Foglio1!$H$14 <> \"\", Foglio1!$H$14 + O455*10^-3, NA())","v":{"$error":"#N/A"}},4042,8.3044948979635667,{"$f":" IF(Foglio1!$C$15 <> \"\", 8.314472*Foglio1!$C$15*Foglio2!R455, NA())","v":{"$error":"#N/A"}},{"$f":"IF(Foglio1!$H$15 <> \"\", Foglio1!$H$15 + S455*10^-3, NA())","v":{"$error":"#N/A"}}]
[4051,8.3067190432026905,{"$f":" IF(Foglio1!$C$11 <> \"\", 8.314472*Foglio1!$C$11*Foglio2!B456, NA())","v":20719.794868972669},{"$f":"IF(Foglio1!$H$11 <> \"\", Foglio1!$H$11 + C456*10^-3, NA())","v":-69.28020513102733},4051,8.3067190432026905,{"$f":" IF(Foglio1!$C$12 <> \"\", 8.314472*Foglio1!$C$12*Foglio2!F456, NA())","v":{"$error":"#N/A"}},{"$f":"IF(Foglio1!$H$12 <> \"\", Foglio1!$H$12 + G456*10^-3, NA())","v":{"$error":"#N/A"}},4051,8.3067190432026905,{"$f":" IF(Foglio1!$C$13 <> \"\", 8.314472*Foglio1!$C$13*Foglio2!J456, NA())","v":{"$error":"#N/A"}},{"$f":"IF(Foglio1!$H$13 <> \"\", Foglio1!$H$13 + K456*10^-3, NA())","v":{"$error":"#N/A"}},4051,8.3067190432026905,{"$f":" IF(Foglio1!$C$14 <> \"\", 8.314472*Foglio1!$C$14*Foglio2!N456, NA())","v":{"$error":"#N/A"}},{"$f":"IF(Foglio1!$H$14 <> \"\", Foglio1!$H$14 + O456*10^-3, NA())","v":{"$error":"#N/A"}},4051,8.3067190432026905,{"$f":" IF(Foglio1!$C$15 <> \"\", 8.314472*Foglio1!$C$15*Foglio2!R456, NA())","v":{"$error":"#N/A"}},{"$f":"IF(Foglio1!$H$15 <> \"\", Foglio1!$H$15 + S456*10^-3, NA())","v":{"$error":"#N/A"}}]
[4060,8.3089382525957785,{"$f":" IF(Foglio1!$C$11 <> \"\", 8.314472*Foglio1!$C$11*Foglio2!B457, NA())","v":20725.33033528096},{"$f":"IF(Foglio1!$H$11 <> \"\", Foglio1!$H$11 + C457*10^-3, NA())","v":-69.274669664719042},4060,8.3089382525957785,{"$f":" IF(Foglio1!$C$12 <> \"\", 8.314472*Foglio1!$C$12*Foglio2!F457, NA())","v":{"$error":"#N/A"}},{"$f":"IF(Foglio1!$H$12 <> \"\", Foglio1!$H$12 + G457*10^-3, NA())","v":{"$error":"#N/A"}},4060,8.3089382525957785,{"$f":" IF(Foglio1!$C$13 <> \"\", 8.314472*Foglio1!$C$13*Foglio2!J457, NA())","v":{"$error":"#N/A"}},{"$f":"IF(Foglio1!$H$13 <> \"\", Foglio1!$H$13 + K457*10^-3, NA())","v":{"$error":"#N/A"}},4060,8.3089382525957785,{"$f":" IF(Foglio1!$C$14 <> \"\", 8.314472*Foglio1!$C$14*Foglio2!N457, NA())","v":{"$error":"#N/A"}},{"$f":"IF(Foglio1!$H$14 <> \"\", Foglio1!$H$14 + O457*10^-3, NA())","v":{"$error":"#N/A"}},4060,8.3089382525957785,{"$f":" IF(Foglio1!$C$15 <> \"\", 8.314472*Foglio1!$C$15*Foglio2!R457, NA())","v":{"$error":"#N/A"}},{"$f":"IF(Foglio1!$H$15 <> \"\", Foglio1!$H$15 + S457*10^-3, NA())","v":{"$error":"#N/A"}}]
[4069,8.3111525480016901,{"$f":" IF(Foglio1!$C$11 <> \"\", 8.314472*Foglio1!$C$11*Foglio2!B458, NA())","v":20730.853544426613},{"$f":"IF(Foglio1!$H$11 <> \"\", Foglio1!$H$11 + C458*10^-3, NA())","v":-69.269146455573392},4069,8.3111525480016901,{"$f":" IF(Foglio1!$C$12 <> \"\", 8.314472*Foglio1!$C$12*Foglio2!F458, NA())","v":{"$error":"#N/A"}},{"$f":"IF(Foglio1!$H$12 <> \"\", Foglio1!$H$12 + G458*10^-3, NA())","v":{"$error":"#N/A"}},4069,8.3111525480016901,{"$f":" IF(Foglio1!$C$13 <> \"\", 8.314472*Foglio1!$C$13*Foglio2!J458, NA())","v":{"$error":"#N/A"}},{"$f":"IF(Foglio1!$H$13 <> \"\", Foglio1!$H$13 + K458*10^-3, NA())","v":{"$error":"#N/A"}},4069,8.3111525480016901,{"$f":" IF(Foglio1!$C$14 <> \"\", 8.314472*Foglio1!$C$14*Foglio2!N458, NA())","v":{"$error":"#N/A"}},{"$f":"IF(Foglio1!$H$14 <> \"\", Foglio1!$H$14 + O458*10^-3, NA())","v":{"$error":"#N/A"}},4069,8.3111525480016901,{"$f":" IF(Foglio1!$C$15 <> \"\", 8.314472*Foglio1!$C$15*Foglio2!R458, NA())","v":{"$error":"#N/A"}},{"$f":"IF(Foglio1!$H$15 <> \"\", Foglio1!$H$15 + S458*10^-3, NA())","v":{"$error":"#N/A"}}]
[4078,8.3133619511344001,{"$f":" IF(Foglio1!$C$11 <> \"\", 8.314472*Foglio1!$C$11*Foglio2!B459, NA())","v":20736.364550571703},{"$f":"IF(Foglio1!$H$11 <> \"\", Foglio1!$H$11 + C459*10^-3, NA())","v":-69.263635449428293},4078,8.3133619511344001,{"$f":" IF(Foglio1!$C$12 <> \"\", 8.314472*Foglio1!$C$12*Foglio2!F459, NA())","v":{"$error":"#N/A"}},{"$f":"IF(Foglio1!$H$12 <> \"\", Foglio1!$H$12 + G459*10^-3, NA())","v":{"$error":"#N/A"}},4078,8.3133619511344001,{"$f":" IF(Foglio1!$C$13 <> \"\", 8.314472*Foglio1!$C$13*Foglio2!J459, NA())","v":{"$error":"#N/A"}},{"$f":"IF(Foglio1!$H$13 <> \"\", Foglio1!$H$13 + K459*10^-3, NA())","v":{"$error":"#N/A"}},4078,8.3133619511344001,{"$f":" IF(Foglio1!$C$14 <> \"\", 8.314472*Foglio1!$C$14*Foglio2!N459, NA())","v":{"$error":"#N/A"}},{"$f":"IF(Foglio1!$H$14 <> \"\", Foglio1!$H$14 + O459*10^-3, NA())","v":{"$error":"#N/A"}},4078,8.3133619511344001,{"$f":" IF(Foglio1!$C$15 <> \"\", 8.314472*Foglio1!$C$15*Foglio2!R459, NA())","v":{"$error":"#N/A"}},{"$f":"IF(Foglio1!$H$15 <> \"\", Foglio1!$H$15 + S459*10^-3, NA())","v":{"$error":"#N/A"}}]
[4087,8.3155664835642771,{"$f":" IF(Foglio1!$C$11 <> \"\", 8.314472*Foglio1!$C$11*Foglio2!B460, NA())","v":20741.863407520093},{"$f":"IF(Foglio1!$H$11 <> \"\", Foglio1!$H$11 + C460*10^-3, NA())","v":-69.2581365924799},4087,8.3155664835642771,{"$f":" IF(Foglio1!$C$12 <> \"\", 8.314472*Foglio1!$C$12*Foglio2!F460, NA())","v":{"$error":"#N/A"}},{"$f":"IF(Foglio1!$H$12 <> \"\", Foglio1!$H$12 + G460*10^-3, NA())","v":{"$error":"#N/A"}},4087,8.3155664835642771,{"$f":" IF(Foglio1!$C$13 <> \"\", 8.314472*Foglio1!$C$13*Foglio2!J460, NA())","v":{"$error":"#N/A"}},{"$f":"IF(Foglio1!$H$13 <> \"\", Foglio1!$H$13 + K460*10^-3, NA())","v":{"$error":"#N/A"}},4087,8.3155664835642771,{"$f":" IF(Foglio1!$C$14 <> \"\", 8.314472*Foglio1!$C$14*Foglio2!N460, NA())","v":{"$error":"#N/A"}},{"$f":"IF(Foglio1!$H$14 <> \"\", Foglio1!$H$14 + O460*10^-3, NA())","v":{"$error":"#N/A"}},4087,8.3155664835642771,{"$f":" IF(Foglio1!$C$15 <> \"\", 8.314472*Foglio1!$C$15*Foglio2!R460, NA())","v":{"$error":"#N/A"}},{"$f":"IF(Foglio1!$H$15 <> \"\", Foglio1!$H$15 + S460*10^-3, NA())","v":{"$error":"#N/A"}}]
[4096,8.317766166719343,{"$f":" IF(Foglio1!$C$11 <> \"\", 8.314472*Foglio1!$C$11*Foglio2!B461, NA())","v":20747.350168720594},{"$f":"IF(Foglio1!$H$11 <> \"\", Foglio1!$H$11 + C461*10^-3, NA())","v":-69.252649831279399},4096,8.317766166719343,{"$f":" IF(Foglio1!$C$12 <> \"\", 8.314472*Foglio1!$C$12*Foglio2!F461, NA())","v":{"$error":"#N/A"}},{"$f":"IF(Foglio1!$H$12 <> \"\", Foglio1!$H$12 + G461*10^-3, NA())","v":{"$error":"#N/A"}},4096,8.317766166719343,{"$f":" IF(Foglio1!$C$13 <> \"\", 8.314472*Foglio1!$C$13*Foglio2!J461, NA())","v":{"$error":"#N/A"}},{"$f":"IF(Foglio1!$H$13 <> \"\", Foglio1!$H$13 + K461*10^-3, NA())","v":{"$error":"#N/A"}},4096,8.317766166719343,{"$f":" IF(Foglio1!$C$14 <> \"\", 8.314472*Foglio1!$C$14*Foglio2!N461, NA())","v":{"$error":"#N/A"}},{"$f":"IF(Foglio1!$H$14 <> \"\", Foglio1!$H$14 + O461*10^-3, NA())","v":{"$error":"#N/A"}},4096,8.317766166719343,{"$f":" IF(Foglio1!$C$15 <> \"\", 8.314472*Foglio1!$C$15*Foglio2!R461, NA())","v":{"$error":"#N/A"}},{"$f":"IF(Foglio1!$H$15 <> \"\", Foglio1!$H$15 + S461*10^-3, NA())","v":{"$error":"#N/A"}}]
[4105,8.3199610218865292,{"$f":" IF(Foglio1!$C$11 <> \"\", 8.314472*Foglio1!$C$11*Foglio2!B462, NA())","v":20752.824887270082},{"$f":"IF(Foglio1!$H$11 <> \"\", Foglio1!$H$11 + C462*10^-3, NA())","v":-69.24717511272992},4105,8.3199610218865292,{"$f":" IF(Foglio1!$C$12 <> \"\", 8.314472*Foglio1!$C$12*Foglio2!F462, NA())","v":{"$error":"#N/A"}},{"$f":"IF(Foglio1!$H$12 <> \"\", Foglio1!$H$12 + G462*10^-3, NA())","v":{"$error":"#N/A"}},4105,8.3199610218865292,{"$f":" IF(Foglio1!$C$13 <> \"\", 8.314472*Foglio1!$C$13*Foglio2!J462, NA())","v":{"$error":"#N/A"}},{"$f":"IF(Foglio1!$H$13 <> \"\", Foglio1!$H$13 + K462*10^-3, NA())","v":{"$error":"#N/A"}},4105,8.3199610218865292,{"$f":" IF(Foglio1!$C$14 <> \"\", 8.314472*Foglio1!$C$14*Foglio2!N462, NA())","v":{"$error":"#N/A"}},{"$f":"IF(Foglio1!$H$14 <> \"\", Foglio1!$H$14 + O462*10^-3, NA())","v":{"$error":"#N/A"}},4105,8.3199610218865292,{"$f":" IF(Foglio1!$C$15 <> \"\", 8.314472*Foglio1!$C$15*Foglio2!R462, NA())","v":{"$error":"#N/A"}},{"$f":"IF(Foglio1!$H$15 <> \"\", Foglio1!$H$15 + S462*10^-3, NA())","v":{"$error":"#N/A"}}]
[4114,8.322151070212902,{"$f":" IF(Foglio1!$C$11 <> \"\", 8.314472*Foglio1!$C$11*Foglio2!B463, NA())","v":20758.287615916564},{"$f":"IF(Foglio1!$H$11 <> \"\", Foglio1!$H$11 + C463*10^-3, NA())","v":-69.241712384083428},4114,8.322151070212902,{"$f":" IF(Foglio1!$C$12 <> \"\", 8.314472*Foglio1!$C$12*Foglio2!F463, NA())","v":{"$error":"#N/A"}},{"$f":"IF(Foglio1!$H$12 <> \"\", Foglio1!$H$12 + G463*10^-3, NA())","v":{"$error":"#N/A"}},4114,8.322151070212902,{"$f":" IF(Foglio1!$C$13 <> \"\", 8.314472*Foglio1!$C$13*Foglio2!J463, NA())","v":{"$error":"#N/A"}},{"$f":"IF(Foglio1!$H$13 <> \"\", Foglio1!$H$13 + K463*10^-3, NA())","v":{"$error":"#N/A"}},4114,8.322151070212902,{"$f":" IF(Foglio1!$C$14 <> \"\", 8.314472*Foglio1!$C$14*Foglio2!N463, NA())","v":{"$error":"#N/A"}},{"$f":"IF(Foglio1!$H$14 <> \"\", Foglio1!$H$14 + O463*10^-3, NA())","v":{"$error":"#N/A"}},4114,8.322151070212902,{"$f":" IF(Foglio1!$C$15 <> \"\", 8.314472*Foglio1!$C$15*Foglio2!R463, NA())","v":{"$error":"#N/A"}},{"$f":"IF(Foglio1!$H$15 <> \"\", Foglio1!$H$15 + S463*10^-3, NA())","v":{"$error":"#N/A"}}]
[4123,8.3243363327069009,{"$f":" IF(Foglio1!$C$11 <> \"\", 8.314472*Foglio1!$C$11*Foglio2!B464, NA())","v":20763.738407062265},{"$f":"IF(Foglio1!$H$11 <> \"\", Foglio1!$H$11 + C464*10^-3, NA())","v":-69.236261592937737},4123,8.3243363327069009,{"$f":" IF(Foglio1!$C$12 <> \"\", 8.314472*Foglio1!$C$12*Foglio2!F464, NA())","v":{"$error":"#N/A"}},{"$f":"IF(Foglio1!$H$12 <> \"\", Foglio1!$H$12 + G464*10^-3, NA())","v":{"$error":"#N/A"}},4123,8.3243363327069009,{"$f":" IF(Foglio1!$C$13 <> \"\", 8.314472*Foglio1!$C$13*Foglio2!J464, NA())","v":{"$error":"#N/A"}},{"$f":"IF(Foglio1!$H$13 <> \"\", Foglio1!$H$13 + K464*10^-3, NA())","v":{"$error":"#N/A"}},4123,8.3243363327069009,{"$f":" IF(Foglio1!$C$14 <> \"\", 8.314472*Foglio1!$C$14*Foglio2!N464, NA())","v":{"$error":"#N/A"}},{"$f":"IF(Foglio1!$H$14 <> \"\", Foglio1!$H$14 + O464*10^-3, NA())","v":{"$error":"#N/A"}},4123,8.3243363327069009,{"$f":" IF(Foglio1!$C$15 <> \"\", 8.314472*Foglio1!$C$15*Foglio2!R464, NA())","v":{"$error":"#N/A"}},{"$f":"IF(Foglio1!$H$15 <> \"\", Foglio1!$H$15 + S464*10^-3, NA())","v":{"$error":"#N/A"}}]
[4132,8.3265168302395285,{"$f":" IF(Foglio1!$C$11 <> \"\", 8.314472*Foglio1!$C$11*Foglio2!B465, NA())","v":20769.177312766595},{"$f":"IF(Foglio1!$H$11 <> \"\", Foglio1!$H$11 + C465*10^-3, NA())","v":-69.230822687233399},4132,8.3265168302395285,{"$f":" IF(Foglio1!$C$12 <> \"\", 8.314472*Foglio1!$C$12*Foglio2!F465, NA())","v":{"$error":"#N/A"}},{"$f":"IF(Foglio1!$H$12 <> \"\", Foglio1!$H$12 + G465*10^-3, NA())","v":{"$error":"#N/A"}},4132,8.3265168302395285,{"$f":" IF(Foglio1!$C$13 <> \"\", 8.314472*Foglio1!$C$13*Foglio2!J465, NA())","v":{"$error":"#N/A"}},{"$f":"IF(Foglio1!$H$13 <> \"\", Foglio1!$H$13 + K465*10^-3, NA())","v":{"$error":"#N/A"}},4132,8.3265168302395285,{"$f":" IF(Foglio1!$C$14 <> \"\", 8.314472*Foglio1!$C$14*Foglio2!N465, NA())","v":{"$error":"#N/A"}},{"$f":"IF(Foglio1!$H$14 <> \"\", Foglio1!$H$14 + O465*10^-3, NA())","v":{"$error":"#N/A"}},4132,8.3265168302395285,{"$f":" IF(Foglio1!$C$15 <> \"\", 8.314472*Foglio1!$C$15*Foglio2!R465, NA())","v":{"$error":"#N/A"}},{"$f":"IF(Foglio1!$H$15 <> \"\", Foglio1!$H$15 + S465*10^-3, NA())","v":{"$error":"#N/A"}}]
[4141,8.3286925835455676,{"$f":" IF(Foglio1!$C$11 <> \"\", 8.314472*Foglio1!$C$11*Foglio2!B466, NA())","v":20774.604384749186},{"$f":"IF(Foglio1!$H$11 <> \"\", Foglio1!$H$11 + C466*10^-3, NA())","v":-69.225395615250818},4141,8.3286925835455676,{"$f":" IF(Foglio1!$C$12 <> \"\", 8.314472*Foglio1!$C$12*Foglio2!F466, NA())","v":{"$error":"#N/A"}},{"$f":"IF(Foglio1!$H$12 <> \"\", Foglio1!$H$12 + G466*10^-3, NA())","v":{"$error":"#N/A"}},4141,8.3286925835455676,{"$f":" IF(Foglio1!$C$13 <> \"\", 8.314472*Foglio1!$C$13*Foglio2!J466, NA())","v":{"$error":"#N/A"}},{"$f":"IF(Foglio1!$H$13 <> \"\", Foglio1!$H$13 + K466*10^-3, NA())","v":{"$error":"#N/A"}},4141,8.3286925835455676,{"$f":" IF(Foglio1!$C$14 <> \"\", 8.314472*Foglio1!$C$14*Foglio2!N466, NA())","v":{"$error":"#N/A"}},{"$f":"IF(Foglio1!$H$14 <> \"\", Foglio1!$H$14 + O466*10^-3, NA())","v":{"$error":"#N/A"}},4141,8.3286925835455676,{"$f":" IF(Foglio1!$C$15 <> \"\", 8.314472*Foglio1!$C$15*Foglio2!R466, NA())","v":{"$error":"#N/A"}},{"$f":"IF(Foglio1!$H$15 <> \"\", Foglio1!$H$15 + S466*10^-3, NA())","v":{"$error":"#N/A"}}]
[4150,8.3308636132247447,{"$f":" IF(Foglio1!$C$11 <> \"\", 8.314472*Foglio1!$C$11*Foglio2!B467, NA())","v":20780.019674392792},{"$f":"IF(Foglio1!$H$11 <> \"\", Foglio1!$H$11 + C467*10^-3, NA())","v":-69.21998032560721},4150,8.3308636132247447,{"$f":" IF(Foglio1!$C$12 <> \"\", 8.314472*Foglio1!$C$12*Foglio2!F467, NA())","v":{"$error":"#N/A"}},{"$f":"IF(Foglio1!$H$12 <> \"\", Foglio1!$H$12 + G467*10^-3, NA())","v":{"$error":"#N/A"}},4150,8.3308636132247447,{"$f":" IF(Foglio1!$C$13 <> \"\", 8.314472*Foglio1!$C$13*Foglio2!J467, NA())","v":{"$error":"#N/A"}},{"$f":"IF(Foglio1!$H$13 <> \"\", Foglio1!$H$13 + K467*10^-3, NA())","v":{"$error":"#N/A"}},4150,8.3308636132247447,{"$f":" IF(Foglio1!$C$14 <> \"\", 8.314472*Foglio1!$C$14*Foglio2!N467, NA())","v":{"$error":"#N/A"}},{"$f":"IF(Foglio1!$H$14 <> \"\", Foglio1!$H$14 + O467*10^-3, NA())","v":{"$error":"#N/A"}},4150,8.3308636132247447,{"$f":" IF(Foglio1!$C$15 <> \"\", 8.314472*Foglio1!$C$15*Foglio2!R467, NA())","v":{"$error":"#N/A"}},{"$f":"IF(Foglio1!$H$15 <> \"\", Foglio1!$H$15 + S467*10^-3, NA())","v":{"$error":"#N/A"}}]
[4159,8.3330299397429108,{"$f":" IF(Foglio1!$C$11 <> \"\", 8.314472*Foglio1!$C$11*Foglio2!B468, NA())","v":20785.423232746238},{"$f":"IF(Foglio1!$H$11 <> \"\", Foglio1!$H$11 + C468*10^-3, NA())","v":-69.21457676725376},4159,8.3330299397429108,{"$f":" IF(Foglio1!$C$12 <> \"\", 8.314472*Foglio1!$C$12*Foglio2!F468, NA())","v":{"$error":"#N/A"}},{"$f":"IF(Foglio1!$H$12 <> \"\", Foglio1!$H$12 + G468*10^-3, NA())","v":{"$error":"#N/A"}},4159,8.3330299397429108,{"$f":" IF(Foglio1!$C$13 <> \"\", 8.314472*Foglio1!$C$13*Foglio2!J468, NA())","v":{"$error":"#N/A"}},{"$f":"IF(Foglio1!$H$13 <> \"\", Foglio1!$H$13 + K468*10^-3, NA())","v":{"$error":"#N/A"}},4159,8.3330299397429108,{"$f":" IF(Foglio1!$C$14 <> \"\", 8.314472*Foglio1!$C$14*Foglio2!N468, NA())","v":{"$error":"#N/A"}},{"$f":"IF(Foglio1!$H$14 <> \"\", Foglio1!$H$14 + O468*10^-3, NA())","v":{"$error":"#N/A"}},4159,8.3330299397429108,{"$f":" IF(Foglio1!$C$15 <> \"\", 8.314472*Foglio1!$C$15*Foglio2!R468, NA())","v":{"$error":"#N/A"}},{"$f":"IF(Foglio1!$H$15 <> \"\", Foglio1!$H$15 + S468*10^-3, NA())","v":{"$error":"#N/A"}}]
[4168,8.3351915834332022,{"$f":" IF(Foglio1!$C$11 <> \"\", 8.314472*Foglio1!$C$11*Foglio2!B469, NA())","v":20790.81511052731},{"$f":"IF(Foglio1!$H$11 <> \"\", Foglio1!$H$11 + C469*10^-3, NA())","v":-69.209184889472681},4168,8.3351915834332022,{"$f":" IF(Foglio1!$C$12 <> \"\", 8.314472*Foglio1!$C$12*Foglio2!F469, NA())","v":{"$error":"#N/A"}},{"$f":"IF(Foglio1!$H$12 <> \"\", Foglio1!$H$12 + G469*10^-3, NA())","v":{"$error":"#N/A"}},4168,8.3351915834332022,{"$f":" IF(Foglio1!$C$13 <> \"\", 8.314472*Foglio1!$C$13*Foglio2!J469, NA())","v":{"$error":"#N/A"}},{"$f":"IF(Foglio1!$H$13 <> \"\", Foglio1!$H$13 + K469*10^-3, NA())","v":{"$error":"#N/A"}},4168,8.3351915834332022,{"$f":" IF(Foglio1!$C$14 <> \"\", 8.314472*Foglio1!$C$14*Foglio2!N469, NA())","v":{"$error":"#N/A"}},{"$f":"IF(Foglio1!$H$14 <> \"\", Foglio1!$H$14 + O469*10^-3, NA())","v":{"$error":"#N/A"}},4168,8.3351915834332022,{"$f":" IF(Foglio1!$C$15 <> \"\", 8.314472*Foglio1!$C$15*Foglio2!R469, NA())","v":{"$error":"#N/A"}},{"$f":"IF(Foglio1!$H$15 <> \"\", Foglio1!$H$15 + S469*10^-3, NA())","v":{"$error":"#N/A"}}]
[4177,8.3373485644971748,{"$f":" IF(Foglio1!$C$11 <> \"\", 8.314472*Foglio1!$C$11*Foglio2!B470, NA())","v":20796.195358125588},{"$f":"IF(Foglio1!$H$11 <> \"\", Foglio1!$H$11 + C470*10^-3, NA())","v":-69.203804641874413},4177,8.3373485644971748,{"$f":" IF(Foglio1!$C$12 <> \"\", 8.314472*Foglio1!$C$12*Foglio2!F470, NA())","v":{"$error":"#N/A"}},{"$f":"IF(Foglio1!$H$12 <> \"\", Foglio1!$H$12 + G470*10^-3, NA())","v":{"$error":"#N/A"}},4177,8.3373485644971748,{"$f":" IF(Foglio1!$C$13 <> \"\", 8.314472*Foglio1!$C$13*Foglio2!J470, NA())","v":{"$error":"#N/A"}},{"$f":"IF(Foglio1!$H$13 <> \"\", Foglio1!$H$13 + K470*10^-3, NA())","v":{"$error":"#N/A"}},4177,8.3373485644971748,{"$f":" IF(Foglio1!$C$14 <> \"\", 8.314472*Foglio1!$C$14*Foglio2!N470, NA())","v":{"$error":"#N/A"}},{"$f":"IF(Foglio1!$H$14 <> \"\", Foglio1!$H$14 + O470*10^-3, NA())","v":{"$error":"#N/A"}},4177,8.3373485644971748,{"$f":" IF(Foglio1!$C$15 <> \"\", 8.314472*Foglio1!$C$15*Foglio2!R470, NA())","v":{"$error":"#N/A"}},{"$f":"IF(Foglio1!$H$15 <> \"\", Foglio1!$H$15 + S470*10^-3, NA())","v":{"$error":"#N/A"}}]
[4186,8.3395009030059448,{"$f":" IF(Foglio1!$C$11 <> \"\", 8.314472*Foglio1!$C$11*Foglio2!B471, NA())","v":20801.564025605294},{"$f":"IF(Foglio1!$H$11 <> \"\", Foglio1!$H$11 + C471*10^-3, NA())","v":-69.198435974394698},4186,8.3395009030059448,{"$f":" IF(Foglio1!$C$12 <> \"\", 8.314472*Foglio1!$C$12*Foglio2!F471, NA())","v":{"$error":"#N/A"}},{"$f":"IF(Foglio1!$H$12 <> \"\", Foglio1!$H$12 + G471*10^-3, NA())","v":{"$error":"#N/A"}},4186,8.3395009030059448,{"$f":" IF(Foglio1!$C$13 <> \"\", 8.314472*Foglio1!$C$13*Foglio2!J471, NA())","v":{"$error":"#N/A"}},{"$f":"IF(Foglio1!$H$13 <> \"\", Foglio1!$H$13 + K471*10^-3, NA())","v":{"$error":"#N/A"}},4186,8.3395009030059448,{"$f":" IF(Foglio1!$C$14 <> \"\", 8.314472*Foglio1!$C$14*Foglio2!N471, NA())","v":{"$error":"#N/A"}},{"$f":"IF(Foglio1!$H$14 <> \"\", Foglio1!$H$14 + O471*10^-3, NA())","v":{"$error":"#N/A"}},4186,8.3395009030059448,{"$f":" IF(Foglio1!$C$15 <> \"\", 8.314472*Foglio1!$C$15*Foglio2!R471, NA())","v":{"$error":"#N/A"}},{"$f":"IF(Foglio1!$H$15 <> \"\", Foglio1!$H$15 + S471*10^-3, NA())","v":{"$error":"#N/A"}}]
[4195,8.3416486189013064,{"$f":" IF(Foglio1!$C$11 <> \"\", 8.314472*Foglio1!$C$11*Foglio2!B472, NA())","v":20806.921162708077},{"$f":"IF(Foglio1!$H$11 <> \"\", Foglio1!$H$11 + C472*10^-3, NA())","v":-69.193078837291921},4195,8.3416486189013064,{"$f":" IF(Foglio1!$C$12 <> \"\", 8.314472*Foglio1!$C$12*Foglio2!F472, NA())","v":{"$error":"#N/A"}},{"$f":"IF(Foglio1!$H$12 <> \"\", Foglio1!$H$12 + G472*10^-3, NA())","v":{"$error":"#N/A"}},4195,8.3416486189013064,{"$f":" IF(Foglio1!$C$13 <> \"\", 8.314472*Foglio1!$C$13*Foglio2!J472, NA())","v":{"$error":"#N/A"}},{"$f":"IF(Foglio1!$H$13 <> \"\", Foglio1!$H$13 + K472*10^-3, NA())","v":{"$error":"#N/A"}},4195,8.3416486189013064,{"$f":" IF(Foglio1!$C$14 <> \"\", 8.314472*Foglio1!$C$14*Foglio2!N472, NA())","v":{"$error":"#N/A"}},{"$f":"IF(Foglio1!$H$14 <> \"\", Foglio1!$H$14 + O472*10^-3, NA())","v":{"$error":"#N/A"}},4195,8.3416486189013064,{"$f":" IF(Foglio1!$C$15 <> \"\", 8.314472*Foglio1!$C$15*Foglio2!R472, NA())","v":{"$error":"#N/A"}},{"$f":"IF(Foglio1!$H$15 <> \"\", Foglio1!$H$15 + S472*10^-3, NA())","v":{"$error":"#N/A"}}]
[4204,8.3437917319968413,{"$f":" IF(Foglio1!$C$11 <> \"\", 8.314472*Foglio1!$C$11*Foglio2!B473, NA())","v":20812.266818855773},{"$f":"IF(Foglio1!$H$11 <> \"\", Foglio1!$H$11 + C473*10^-3, NA())","v":-69.187733181144225},4204,8.3437917319968413,{"$f":" IF(Foglio1!$C$12 <> \"\", 8.314472*Foglio1!$C$12*Foglio2!F473, NA())","v":{"$error":"#N/A"}},{"$f":"IF(Foglio1!$H$12 <> \"\", Foglio1!$H$12 + G473*10^-3, NA())","v":{"$error":"#N/A"}},4204,8.3437917319968413,{"$f":" IF(Foglio1!$C$13 <> \"\", 8.314472*Foglio1!$C$13*Foglio2!J473, NA())","v":{"$error":"#N/A"}},{"$f":"IF(Foglio1!$H$13 <> \"\", Foglio1!$H$13 + K473*10^-3, NA())","v":{"$error":"#N/A"}},4204,8.3437917319968413,{"$f":" IF(Foglio1!$C$14 <> \"\", 8.314472*Foglio1!$C$14*Foglio2!N473, NA())","v":{"$error":"#N/A"}},{"$f":"IF(Foglio1!$H$14 <> \"\", Foglio1!$H$14 + O473*10^-3, NA())","v":{"$error":"#N/A"}},4204,8.3437917319968413,{"$f":" IF(Foglio1!$C$15 <> \"\", 8.314472*Foglio1!$C$15*Foglio2!R473, NA())","v":{"$error":"#N/A"}},{"$f":"IF(Foglio1!$H$15 <> \"\", Foglio1!$H$15 + S473*10^-3, NA())","v":{"$error":"#N/A"}}]
[4213,8.3459302619790172,{"$f":" IF(Foglio1!$C$11 <> \"\", 8.314472*Foglio1!$C$11*Foglio2!B474, NA())","v":20817.601043153161},{"$f":"IF(Foglio1!$H$11 <> \"\", Foglio1!$H$11 + C474*10^-3, NA())","v":-69.182398956846839},4213,8.3459302619790172,{"$f":" IF(Foglio1!$C$12 <> \"\", 8.314472*Foglio1!$C$12*Foglio2!F474, NA())","v":{"$error":"#N/A"}},{"$f":"IF(Foglio1!$H$12 <> \"\", Foglio1!$H$12 + G474*10^-3, NA())","v":{"$error":"#N/A"}},4213,8.3459302619790172,{"$f":" IF(Foglio1!$C$13 <> \"\", 8.314472*Foglio1!$C$13*Foglio2!J474, NA())","v":{"$error":"#N/A"}},{"$f":"IF(Foglio1!$H$13 <> \"\", Foglio1!$H$13 + K474*10^-3, NA())","v":{"$error":"#N/A"}},4213,8.3459302619790172,{"$f":" IF(Foglio1!$C$14 <> \"\", 8.314472*Foglio1!$C$14*Foglio2!N474, NA())","v":{"$error":"#N/A"}},{"$f":"IF(Foglio1!$H$14 <> \"\", Foglio1!$H$14 + O474*10^-3, NA())","v":{"$error":"#N/A"}},4213,8.3459302619790172,{"$f":" IF(Foglio1!$C$15 <> \"\", 8.314472*Foglio1!$C$15*Foglio2!R474, NA())","v":{"$error":"#N/A"}},{"$f":"IF(Foglio1!$H$15 <> \"\", Foglio1!$H$15 + S474*10^-3, NA())","v":{"$error":"#N/A"}}]
[4222,8.3480642284082656,{"$f":" IF(Foglio1!$C$11 <> \"\", 8.314472*Foglio1!$C$11*Foglio2!B475, NA())","v":20822.923884390639},{"$f":"IF(Foglio1!$H$11 <> \"\", Foglio1!$H$11 + C475*10^-3, NA())","v":-69.177076115609367},4222,8.3480642284082656,{"$f":" IF(Foglio1!$C$12 <> \"\", 8.314472*Foglio1!$C$12*Foglio2!F475, NA())","v":{"$error":"#N/A"}},{"$f":"IF(Foglio1!$H$12 <> \"\", Foglio1!$H$12 + G475*10^-3, NA())","v":{"$error":"#N/A"}},4222,8.3480642284082656,{"$f":" IF(Foglio1!$C$13 <> \"\", 8.314472*Foglio1!$C$13*Foglio2!J475, NA())","v":{"$error":"#N/A"}},{"$f":"IF(Foglio1!$H$13 <> \"\", Foglio1!$H$13 + K475*10^-3, NA())","v":{"$error":"#N/A"}},4222,8.3480642284082656,{"$f":" IF(Foglio1!$C$14 <> \"\", 8.314472*Foglio1!$C$14*Foglio2!N475, NA())","v":{"$error":"#N/A"}},{"$f":"IF(Foglio1!$H$14 <> \"\", Foglio1!$H$14 + O475*10^-3, NA())","v":{"$error":"#N/A"}},4222,8.3480642284082656,{"$f":" IF(Foglio1!$C$15 <> \"\", 8.314472*Foglio1!$C$15*Foglio2!R475, NA())","v":{"$error":"#N/A"}},{"$f":"IF(Foglio1!$H$15 <> \"\", Foglio1!$H$15 + S475*10^-3, NA())","v":{"$error":"#N/A"}}]
[4231,8.3501936507200671,{"$f":" IF(Foglio1!$C$11 <> \"\", 8.314472*Foglio1!$C$11*Foglio2!B476, NA())","v":20828.235391046936},{"$f":"IF(Foglio1!$H$11 <> \"\", Foglio1!$H$11 + C476*10^-3, NA())","v":-69.171764608953069},4231,8.3501936507200671,{"$f":" IF(Foglio1!$C$12 <> \"\", 8.314472*Foglio1!$C$12*Foglio2!F476, NA())","v":{"$error":"#N/A"}},{"$f":"IF(Foglio1!$H$12 <> \"\", Foglio1!$H$12 + G476*10^-3, NA())","v":{"$error":"#N/A"}},4231,8.3501936507200671,{"$f":" IF(Foglio1!$C$13 <> \"\", 8.314472*Foglio1!$C$13*Foglio2!J476, NA())","v":{"$error":"#N/A"}},{"$f":"IF(Foglio1!$H$13 <> \"\", Foglio1!$H$13 + K476*10^-3, NA())","v":{"$error":"#N/A"}},4231,8.3501936507200671,{"$f":" IF(Foglio1!$C$14 <> \"\", 8.314472*Foglio1!$C$14*Foglio2!N476, NA())","v":{"$error":"#N/A"}},{"$f":"IF(Foglio1!$H$14 <> \"\", Foglio1!$H$14 + O476*10^-3, NA())","v":{"$error":"#N/A"}},4231,8.3501936507200671,{"$f":" IF(Foglio1!$C$15 <> \"\", 8.314472*Foglio1!$C$15*Foglio2!R476, NA())","v":{"$error":"#N/A"}},{"$f":"IF(Foglio1!$H$15 <> \"\", Foglio1!$H$15 + S476*10^-3, NA())","v":{"$error":"#N/A"}}]
[4240,8.3523185482260036,{"$f":" IF(Foglio1!$C$11 <> \"\", 8.314472*Foglio1!$C$11*Foglio2!B477, NA())","v":20833.535611291729},{"$f":"IF(Foglio1!$H$11 <> \"\", Foglio1!$H$11 + C477*10^-3, NA())","v":-69.166464388708278},4240,8.3523185482260036,{"$f":" IF(Foglio1!$C$12 <> \"\", 8.314472*Foglio1!$C$12*Foglio2!F477, NA())","v":{"$error":"#N/A"}},{"$f":"IF(Foglio1!$H$12 <> \"\", Foglio1!$H$12 + G477*10^-3, NA())","v":{"$error":"#N/A"}},4240,8.3523185482260036,{"$f":" IF(Foglio1!$C$13 <> \"\", 8.314472*Foglio1!$C$13*Foglio2!J477, NA())","v":{"$error":"#N/A"}},{"$f":"IF(Foglio1!$H$13 <> \"\", Foglio1!$H$13 + K477*10^-3, NA())","v":{"$error":"#N/A"}},4240,8.3523185482260036,{"$f":" IF(Foglio1!$C$14 <> \"\", 8.314472*Foglio1!$C$14*Foglio2!N477, NA())","v":{"$error":"#N/A"}},{"$f":"IF(Foglio1!$H$14 <> \"\", Foglio1!$H$14 + O477*10^-3, NA())","v":{"$error":"#N/A"}},4240,8.3523185482260036,{"$f":" IF(Foglio1!$C$15 <> \"\", 8.314472*Foglio1!$C$15*Foglio2!R477, NA())","v":{"$error":"#N/A"}},{"$f":"IF(Foglio1!$H$15 <> \"\", Foglio1!$H$15 + S477*10^-3, NA())","v":{"$error":"#N/A"}}]
[4249,8.3544389401148109,{"$f":" IF(Foglio1!$C$11 <> \"\", 8.314472*Foglio1!$C$11*Foglio2!B478, NA())","v":20838.824592988283},{"$f":"IF(Foglio1!$H$11 <> \"\", Foglio1!$H$11 + C478*10^-3, NA())","v":-69.161175407011712},4249,8.3544389401148109,{"$f":" IF(Foglio1!$C$12 <> \"\", 8.314472*Foglio1!$C$12*Foglio2!F478, NA())","v":{"$error":"#N/A"}},{"$f":"IF(Foglio1!$H$12 <> \"\", Foglio1!$H$12 + G478*10^-3, NA())","v":{"$error":"#N/A"}},4249,8.3544389401148109,{"$f":" IF(Foglio1!$C$13 <> \"\", 8.314472*Foglio1!$C$13*Foglio2!J478, NA())","v":{"$error":"#N/A"}},{"$f":"IF(Foglio1!$H$13 <> \"\", Foglio1!$H$13 + K478*10^-3, NA())","v":{"$error":"#N/A"}},4249,8.3544389401148109,{"$f":" IF(Foglio1!$C$14 <> \"\", 8.314472*Foglio1!$C$14*Foglio2!N478, NA())","v":{"$error":"#N/A"}},{"$f":"IF(Foglio1!$H$14 <> \"\", Foglio1!$H$14 + O478*10^-3, NA())","v":{"$error":"#N/A"}},4249,8.3544389401148109,{"$f":" IF(Foglio1!$C$15 <> \"\", 8.314472*Foglio1!$C$15*Foglio2!R478, NA())","v":{"$error":"#N/A"}},{"$f":"IF(Foglio1!$H$15 <> \"\", Foglio1!$H$15 + S478*10^-3, NA())","v":{"$error":"#N/A"}}]
[4258,8.3565548454534255,{"$f":" IF(Foglio1!$C$11 <> \"\", 8.314472*Foglio1!$C$11*Foglio2!B479, NA())","v":20844.102383696052},{"$f":"IF(Foglio1!$H$11 <> \"\", Foglio1!$H$11 + C479*10^-3, NA())","v":-69.155897616303946},4258,8.3565548454534255,{"$f":" IF(Foglio1!$C$12 <> \"\", 8.314472*Foglio1!$C$12*Foglio2!F479, NA())","v":{"$error":"#N/A"}},{"$f":"IF(Foglio1!$H$12 <> \"\", Foglio1!$H$12 + G479*10^-3, NA())","v":{"$error":"#N/A"}},4258,8.3565548454534255,{"$f":" IF(Foglio1!$C$13 <> \"\", 8.314472*Foglio1!$C$13*Foglio2!J479, NA())","v":{"$error":"#N/A"}},{"$f":"IF(Foglio1!$H$13 <> \"\", Foglio1!$H$13 + K479*10^-3, NA())","v":{"$error":"#N/A"}},4258,8.3565548454534255,{"$f":" IF(Foglio1!$C$14 <> \"\", 8.314472*Foglio1!$C$14*Foglio2!N479, NA())","v":{"$error":"#N/A"}},{"$f":"IF(Foglio1!$H$14 <> \"\", Foglio1!$H$14 + O479*10^-3, NA())","v":{"$error":"#N/A"}},4258,8.3565548454534255,{"$f":" IF(Foglio1!$C$15 <> \"\", 8.314472*Foglio1!$C$15*Foglio2!R479, NA())","v":{"$error":"#N/A"}},{"$f":"IF(Foglio1!$H$15 <> \"\", Foglio1!$H$15 + S479*10^-3, NA())","v":{"$error":"#N/A"}}]
[4267,8.3586662831880005,{"$f":" IF(Foglio1!$C$11 <> \"\", 8.314472*Foglio1!$C$11*Foglio2!B480, NA())","v":20849.369030673213},{"$f":"IF(Foglio1!$H$11 <> \"\", Foglio1!$H$11 + C480*10^-3, NA())","v":-69.150630969326784},4267,8.3586662831880005,{"$f":" IF(Foglio1!$C$12 <> \"\", 8.314472*Foglio1!$C$12*Foglio2!F480, NA())","v":{"$error":"#N/A"}},{"$f":"IF(Foglio1!$H$12 <> \"\", Foglio1!$H$12 + G480*10^-3, NA())","v":{"$error":"#N/A"}},4267,8.3586662831880005,{"$f":" IF(Foglio1!$C$13 <> \"\", 8.314472*Foglio1!$C$13*Foglio2!J480, NA())","v":{"$error":"#N/A"}},{"$f":"IF(Foglio1!$H$13 <> \"\", Foglio1!$H$13 + K480*10^-3, NA())","v":{"$error":"#N/A"}},4267,8.3586662831880005,{"$f":" IF(Foglio1!$C$14 <> \"\", 8.314472*Foglio1!$C$14*Foglio2!N480, NA())","v":{"$error":"#N/A"}},{"$f":"IF(Foglio1!$H$14 <> \"\", Foglio1!$H$14 + O480*10^-3, NA())","v":{"$error":"#N/A"}},4267,8.3586662831880005,{"$f":" IF(Foglio1!$C$15 <> \"\", 8.314472*Foglio1!$C$15*Foglio2!R480, NA())","v":{"$error":"#N/A"}},{"$f":"IF(Foglio1!$H$15 <> \"\", Foglio1!$H$15 + S480*10^-3, NA())","v":{"$error":"#N/A"}}]
[4276,8.3607732721449359,{"$f":" IF(Foglio1!$C$11 <> \"\", 8.314472*Foglio1!$C$11*Foglio2!B481, NA())","v":20854.624580879237},{"$f":"IF(Foglio1!$H$11 <> \"\", Foglio1!$H$11 + C481*10^-3, NA())","v":-69.145375419120768},4276,8.3607732721449359,{"$f":" IF(Foglio1!$C$12 <> \"\", 8.314472*Foglio1!$C$12*Foglio2!F481, NA())","v":{"$error":"#N/A"}},{"$f":"IF(Foglio1!$H$12 <> \"\", Foglio1!$H$12 + G481*10^-3, NA())","v":{"$error":"#N/A"}},4276,8.3607732721449359,{"$f":" IF(Foglio1!$C$13 <> \"\", 8.314472*Foglio1!$C$13*Foglio2!J481, NA())","v":{"$error":"#N/A"}},{"$f":"IF(Foglio1!$H$13 <> \"\", Foglio1!$H$13 + K481*10^-3, NA())","v":{"$error":"#N/A"}},4276,8.3607732721449359,{"$f":" IF(Foglio1!$C$14 <> \"\", 8.314472*Foglio1!$C$14*Foglio2!N481, NA())","v":{"$error":"#N/A"}},{"$f":"IF(Foglio1!$H$14 <> \"\", Foglio1!$H$14 + O481*10^-3, NA())","v":{"$error":"#N/A"}},4276,8.3607732721449359,{"$f":" IF(Foglio1!$C$15 <> \"\", 8.314472*Foglio1!$C$15*Foglio2!R481, NA())","v":{"$error":"#N/A"}},{"$f":"IF(Foglio1!$H$15 <> \"\", Foglio1!$H$15 + S481*10^-3, NA())","v":{"$error":"#N/A"}}]
[4285,8.3628758310318805,{"$f":" IF(Foglio1!$C$11 <> \"\", 8.314472*Foglio1!$C$11*Foglio2!B482, NA())","v":20859.869080977391},{"$f":"IF(Foglio1!$H$11 <> \"\", Foglio1!$H$11 + C482*10^-3, NA())","v":-69.14013091902261},4285,8.3628758310318805,{"$f":" IF(Foglio1!$C$12 <> \"\", 8.314472*Foglio1!$C$12*Foglio2!F482, NA())","v":{"$error":"#N/A"}},{"$f":"IF(Foglio1!$H$12 <> \"\", Foglio1!$H$12 + G482*10^-3, NA())","v":{"$error":"#N/A"}},4285,8.3628758310318805,{"$f":" IF(Foglio1!$C$13 <> \"\", 8.314472*Foglio1!$C$13*Foglio2!J482, NA())","v":{"$error":"#N/A"}},{"$f":"IF(Foglio1!$H$13 <> \"\", Foglio1!$H$13 + K482*10^-3, NA())","v":{"$error":"#N/A"}},4285,8.3628758310318805,{"$f":" IF(Foglio1!$C$14 <> \"\", 8.314472*Foglio1!$C$14*Foglio2!N482, NA())","v":{"$error":"#N/A"}},{"$f":"IF(Foglio1!$H$14 <> \"\", Foglio1!$H$14 + O482*10^-3, NA())","v":{"$error":"#N/A"}},4285,8.3628758310318805,{"$f":" IF(Foglio1!$C$15 <> \"\", 8.314472*Foglio1!$C$15*Foglio2!R482, NA())","v":{"$error":"#N/A"}},{"$f":"IF(Foglio1!$H$15 <> \"\", Foglio1!$H$15 + S482*10^-3, NA())","v":{"$error":"#N/A"}}]
[4294,8.3649739784387265,{"$f":" IF(Foglio1!$C$11 <> \"\", 8.314472*Foglio1!$C$11*Foglio2!B483, NA())","v":20865.10257733722},{"$f":"IF(Foglio1!$H$11 <> \"\", Foglio1!$H$11 + C483*10^-3, NA())","v":-69.134897422662775},4294,8.3649739784387265,{"$f":" IF(Foglio1!$C$12 <> \"\", 8.314472*Foglio1!$C$12*Foglio2!F483, NA())","v":{"$error":"#N/A"}},{"$f":"IF(Foglio1!$H$12 <> \"\", Foglio1!$H$12 + G483*10^-3, NA())","v":{"$error":"#N/A"}},4294,8.3649739784387265,{"$f":" IF(Foglio1!$C$13 <> \"\", 8.314472*Foglio1!$C$13*Foglio2!J483, NA())","v":{"$error":"#N/A"}},{"$f":"IF(Foglio1!$H$13 <> \"\", Foglio1!$H$13 + K483*10^-3, NA())","v":{"$error":"#N/A"}},4294,8.3649739784387265,{"$f":" IF(Foglio1!$C$14 <> \"\", 8.314472*Foglio1!$C$14*Foglio2!N483, NA())","v":{"$error":"#N/A"}},{"$f":"IF(Foglio1!$H$14 <> \"\", Foglio1!$H$14 + O483*10^-3, NA())","v":{"$error":"#N/A"}},4294,8.3649739784387265,{"$f":" IF(Foglio1!$C$15 <> \"\", 8.314472*Foglio1!$C$15*Foglio2!R483, NA())","v":{"$error":"#N/A"}},{"$f":"IF(Foglio1!$H$15 <> \"\", Foglio1!$H$15 + S483*10^-3, NA())","v":{"$error":"#N/A"}}]
[4303,8.3670677328385992,{"$f":" IF(Foglio1!$C$11 <> \"\", 8.314472*Foglio1!$C$11*Foglio2!B484, NA())","v":20870.325116037006},{"$f":"IF(Foglio1!$H$11 <> \"\", Foglio1!$H$11 + C484*10^-3, NA())","v":-69.129674883962991},4303,8.3670677328385992,{"$f":" IF(Foglio1!$C$12 <> \"\", 8.314472*Foglio1!$C$12*Foglio2!F484, NA())","v":{"$error":"#N/A"}},{"$f":"IF(Foglio1!$H$12 <> \"\", Foglio1!$H$12 + G484*10^-3, NA())","v":{"$error":"#N/A"}},4303,8.3670677328385992,{"$f":" IF(Foglio1!$C$13 <> \"\", 8.314472*Foglio1!$C$13*Foglio2!J484, NA())","v":{"$error":"#N/A"}},{"$f":"IF(Foglio1!$H$13 <> \"\", Foglio1!$H$13 + K484*10^-3, NA())","v":{"$error":"#N/A"}},4303,8.3670677328385992,{"$f":" IF(Foglio1!$C$14 <> \"\", 8.314472*Foglio1!$C$14*Foglio2!N484, NA())","v":{"$error":"#N/A"}},{"$f":"IF(Foglio1!$H$14 <> \"\", Foglio1!$H$14 + O484*10^-3, NA())","v":{"$error":"#N/A"}},4303,8.3670677328385992,{"$f":" IF(Foglio1!$C$15 <> \"\", 8.314472*Foglio1!$C$15*Foglio2!R484, NA())","v":{"$error":"#N/A"}},{"$f":"IF(Foglio1!$H$15 <> \"\", Foglio1!$H$15 + S484*10^-3, NA())","v":{"$error":"#N/A"}}]
[4312,8.3691571125888338,{"$f":" IF(Foglio1!$C$11 <> \"\", 8.314472*Foglio1!$C$11*Foglio2!B485, NA())","v":20875.536742866214},{"$f":"IF(Foglio1!$H$11 <> \"\", Foglio1!$H$11 + C485*10^-3, NA())","v":-69.124463257133783},4312,8.3691571125888338,{"$f":" IF(Foglio1!$C$12 <> \"\", 8.314472*Foglio1!$C$12*Foglio2!F485, NA())","v":{"$error":"#N/A"}},{"$f":"IF(Foglio1!$H$12 <> \"\", Foglio1!$H$12 + G485*10^-3, NA())","v":{"$error":"#N/A"}},4312,8.3691571125888338,{"$f":" IF(Foglio1!$C$13 <> \"\", 8.314472*Foglio1!$C$13*Foglio2!J485, NA())","v":{"$error":"#N/A"}},{"$f":"IF(Foglio1!$H$13 <> \"\", Foglio1!$H$13 + K485*10^-3, NA())","v":{"$error":"#N/A"}},4312,8.3691571125888338,{"$f":" IF(Foglio1!$C$14 <> \"\", 8.314472*Foglio1!$C$14*Foglio2!N485, NA())","v":{"$error":"#N/A"}},{"$f":"IF(Foglio1!$H$14 <> \"\", Foglio1!$H$14 + O485*10^-3, NA())","v":{"$error":"#N/A"}},4312,8.3691571125888338,{"$f":" IF(Foglio1!$C$15 <> \"\", 8.314472*Foglio1!$C$15*Foglio2!R485, NA())","v":{"$error":"#N/A"}},{"$f":"IF(Foglio1!$H$15 <> \"\", Foglio1!$H$15 + S485*10^-3, NA())","v":{"$error":"#N/A"}}]
[4321,8.3712421359319329,{"$f":" IF(Foglio1!$C$11 <> \"\", 8.314472*Foglio1!$C$11*Foglio2!B486, NA())","v":20880.737503327877},{"$f":"IF(Foglio1!$H$11 <> \"\", Foglio1!$H$11 + C486*10^-3, NA())","v":-69.119262496672121},4321,8.3712421359319329,{"$f":" IF(Foglio1!$C$12 <> \"\", 8.314472*Foglio1!$C$12*Foglio2!F486, NA())","v":{"$error":"#N/A"}},{"$f":"IF(Foglio1!$H$12 <> \"\", Foglio1!$H$12 + G486*10^-3, NA())","v":{"$error":"#N/A"}},4321,8.3712421359319329,{"$f":" IF(Foglio1!$C$13 <> \"\", 8.314472*Foglio1!$C$13*Foglio2!J486, NA())","v":{"$error":"#N/A"}},{"$f":"IF(Foglio1!$H$13 <> \"\", Foglio1!$H$13 + K486*10^-3, NA())","v":{"$error":"#N/A"}},4321,8.3712421359319329,{"$f":" IF(Foglio1!$C$14 <> \"\", 8.314472*Foglio1!$C$14*Foglio2!N486, NA())","v":{"$error":"#N/A"}},{"$f":"IF(Foglio1!$H$14 <> \"\", Foglio1!$H$14 + O486*10^-3, NA())","v":{"$error":"#N/A"}},4321,8.3712421359319329,{"$f":" IF(Foglio1!$C$15 <> \"\", 8.314472*Foglio1!$C$15*Foglio2!R486, NA())","v":{"$error":"#N/A"}},{"$f":"IF(Foglio1!$H$15 <> \"\", Foglio1!$H$15 + S486*10^-3, NA())","v":{"$error":"#N/A"}}]
[4330,8.3733228209965347,{"$f":" IF(Foglio1!$C$11 <> \"\", 8.314472*Foglio1!$C$11*Foglio2!B487, NA())","v":20885.927442641012},{"$f":"IF(Foglio1!$H$11 <> \"\", Foglio1!$H$11 + C487*10^-3, NA())","v":-69.11407255735898},4330,8.3733228209965347,{"$f":" IF(Foglio1!$C$12 <> \"\", 8.314472*Foglio1!$C$12*Foglio2!F487, NA())","v":{"$error":"#N/A"}},{"$f":"IF(Foglio1!$H$12 <> \"\", Foglio1!$H$12 + G487*10^-3, NA())","v":{"$error":"#N/A"}},4330,8.3733228209965347,{"$f":" IF(Foglio1!$C$13 <> \"\", 8.314472*Foglio1!$C$13*Foglio2!J487, NA())","v":{"$error":"#N/A"}},{"$f":"IF(Foglio1!$H$13 <> \"\", Foglio1!$H$13 + K487*10^-3, NA())","v":{"$error":"#N/A"}},4330,8.3733228209965347,{"$f":" IF(Foglio1!$C$14 <> \"\", 8.314472*Foglio1!$C$14*Foglio2!N487, NA())","v":{"$error":"#N/A"}},{"$f":"IF(Foglio1!$H$14 <> \"\", Foglio1!$H$14 + O487*10^-3, NA())","v":{"$error":"#N/A"}},4330,8.3733228209965347,{"$f":" IF(Foglio1!$C$15 <> \"\", 8.314472*Foglio1!$C$15*Foglio2!R487, NA())","v":{"$error":"#N/A"}},{"$f":"IF(Foglio1!$H$15 <> \"\", Foglio1!$H$15 + S487*10^-3, NA())","v":{"$error":"#N/A"}}]
[4339,8.3753991857983507,{"$f":" IF(Foglio1!$C$11 <> \"\", 8.314472*Foglio1!$C$11*Foglio2!B488, NA())","v":20891.106605742956},{"$f":"IF(Foglio1!$H$11 <> \"\", Foglio1!$H$11 + C488*10^-3, NA())","v":-69.108893394257052},4339,8.3753991857983507,{"$f":" IF(Foglio1!$C$12 <> \"\", 8.314472*Foglio1!$C$12*Foglio2!F488, NA())","v":{"$error":"#N/A"}},{"$f":"IF(Foglio1!$H$12 <> \"\", Foglio1!$H$12 + G488*10^-3, NA())","v":{"$error":"#N/A"}},4339,8.3753991857983507,{"$f":" IF(Foglio1!$C$13 <> \"\", 8.314472*Foglio1!$C$13*Foglio2!J488, NA())","v":{"$error":"#N/A"}},{"$f":"IF(Foglio1!$H$13 <> \"\", Foglio1!$H$13 + K488*10^-3, NA())","v":{"$error":"#N/A"}},4339,8.3753991857983507,{"$f":" IF(Foglio1!$C$14 <> \"\", 8.314472*Foglio1!$C$14*Foglio2!N488, NA())","v":{"$error":"#N/A"}},{"$f":"IF(Foglio1!$H$14 <> \"\", Foglio1!$H$14 + O488*10^-3, NA())","v":{"$error":"#N/A"}},4339,8.3753991857983507,{"$f":" IF(Foglio1!$C$15 <> \"\", 8.314472*Foglio1!$C$15*Foglio2!R488, NA())","v":{"$error":"#N/A"}},{"$f":"IF(Foglio1!$H$15 <> \"\", Foglio1!$H$15 + S488*10^-3, NA())","v":{"$error":"#N/A"}}]
[4348,8.3774712482411005,{"$f":" IF(Foglio1!$C$11 <> \"\", 8.314472*Foglio1!$C$11*Foglio2!B489, NA())","v":20896.275037291707},{"$f":"IF(Foglio1!$H$11 <> \"\", Foglio1!$H$11 + C489*10^-3, NA())","v":-69.103724962708299},4348,8.3774712482411005,{"$f":" IF(Foglio1!$C$12 <> \"\", 8.314472*Foglio1!$C$12*Foglio2!F489, NA())","v":{"$error":"#N/A"}},{"$f":"IF(Foglio1!$H$12 <> \"\", Foglio1!$H$12 + G489*10^-3, NA())","v":{"$error":"#N/A"}},4348,8.3774712482411005,{"$f":" IF(Foglio1!$C$13 <> \"\", 8.314472*Foglio1!$C$13*Foglio2!J489, NA())","v":{"$error":"#N/A"}},{"$f":"IF(Foglio1!$H$13 <> \"\", Foglio1!$H$13 + K489*10^-3, NA())","v":{"$error":"#N/A"}},4348,8.3774712482411005,{"$f":" IF(Foglio1!$C$14 <> \"\", 8.314472*Foglio1!$C$14*Foglio2!N489, NA())","v":{"$error":"#N/A"}},{"$f":"IF(Foglio1!$H$14 <> \"\", Foglio1!$H$14 + O489*10^-3, NA())","v":{"$error":"#N/A"}},4348,8.3774712482411005,{"$f":" IF(Foglio1!$C$15 <> \"\", 8.314472*Foglio1!$C$15*Foglio2!R489, NA())","v":{"$error":"#N/A"}},{"$f":"IF(Foglio1!$H$15 <> \"\", Foglio1!$H$15 + S489*10^-3, NA())","v":{"$error":"#N/A"}}]
[4357,8.3795390261174418,{"$f":" IF(Foglio1!$C$11 <> \"\", 8.314472*Foglio1!$C$11*Foglio2!B490, NA())","v":20901.432781668223},{"$f":"IF(Foglio1!$H$11 <> \"\", Foglio1!$H$11 + C490*10^-3, NA())","v":-69.09856721833178},4357,8.3795390261174418,{"$f":" IF(Foglio1!$C$12 <> \"\", 8.314472*Foglio1!$C$12*Foglio2!F490, NA())","v":{"$error":"#N/A"}},{"$f":"IF(Foglio1!$H$12 <> \"\", Foglio1!$H$12 + G490*10^-3, NA())","v":{"$error":"#N/A"}},4357,8.3795390261174418,{"$f":" IF(Foglio1!$C$13 <> \"\", 8.314472*Foglio1!$C$13*Foglio2!J490, NA())","v":{"$error":"#N/A"}},{"$f":"IF(Foglio1!$H$13 <> \"\", Foglio1!$H$13 + K490*10^-3, NA())","v":{"$error":"#N/A"}},4357,8.3795390261174418,{"$f":" IF(Foglio1!$C$14 <> \"\", 8.314472*Foglio1!$C$14*Foglio2!N490, NA())","v":{"$error":"#N/A"}},{"$f":"IF(Foglio1!$H$14 <> \"\", Foglio1!$H$14 + O490*10^-3, NA())","v":{"$error":"#N/A"}},4357,8.3795390261174418,{"$f":" IF(Foglio1!$C$15 <> \"\", 8.314472*Foglio1!$C$15*Foglio2!R490, NA())","v":{"$error":"#N/A"}},{"$f":"IF(Foglio1!$H$15 <> \"\", Foglio1!$H$15 + S490*10^-3, NA())","v":{"$error":"#N/A"}}]
[4366,8.3816025371098899,{"$f":" IF(Foglio1!$C$11 <> \"\", 8.314472*Foglio1!$C$11*Foglio2!B491, NA())","v":20906.579882978745},{"$f":"IF(Foglio1!$H$11 <> \"\", Foglio1!$H$11 + C491*10^-3, NA())","v":-69.093420117021253},4366,8.3816025371098899,{"$f":" IF(Foglio1!$C$12 <> \"\", 8.314472*Foglio1!$C$12*Foglio2!F491, NA())","v":{"$error":"#N/A"}},{"$f":"IF(Foglio1!$H$12 <> \"\", Foglio1!$H$12 + G491*10^-3, NA())","v":{"$error":"#N/A"}},4366,8.3816025371098899,{"$f":" IF(Foglio1!$C$13 <> \"\", 8.314472*Foglio1!$C$13*Foglio2!J491, NA())","v":{"$error":"#N/A"}},{"$f":"IF(Foglio1!$H$13 <> \"\", Foglio1!$H$13 + K491*10^-3, NA())","v":{"$error":"#N/A"}},4366,8.3816025371098899,{"$f":" IF(Foglio1!$C$14 <> \"\", 8.314472*Foglio1!$C$14*Foglio2!N491, NA())","v":{"$error":"#N/A"}},{"$f":"IF(Foglio1!$H$14 <> \"\", Foglio1!$H$14 + O491*10^-3, NA())","v":{"$error":"#N/A"}},4366,8.3816025371098899,{"$f":" IF(Foglio1!$C$15 <> \"\", 8.314472*Foglio1!$C$15*Foglio2!R491, NA())","v":{"$error":"#N/A"}},{"$f":"IF(Foglio1!$H$15 <> \"\", Foglio1!$H$15 + S491*10^-3, NA())","v":{"$error":"#N/A"}}]
[4375,8.3836617987917155,{"$f":" IF(Foglio1!$C$11 <> \"\", 8.314472*Foglio1!$C$11*Foglio2!B492, NA())","v":20911.716385057007},{"$f":"IF(Foglio1!$H$11 <> \"\", Foglio1!$H$11 + C492*10^-3, NA())","v":-69.088283614942995},4375,8.3836617987917155,{"$f":" IF(Foglio1!$C$12 <> \"\", 8.314472*Foglio1!$C$12*Foglio2!F492, NA())","v":{"$error":"#N/A"}},{"$f":"IF(Foglio1!$H$12 <> \"\", Foglio1!$H$12 + G492*10^-3, NA())","v":{"$error":"#N/A"}},4375,8.3836617987917155,{"$f":" IF(Foglio1!$C$13 <> \"\", 8.314472*Foglio1!$C$13*Foglio2!J492, NA())","v":{"$error":"#N/A"}},{"$f":"IF(Foglio1!$H$13 <> \"\", Foglio1!$H$13 + K492*10^-3, NA())","v":{"$error":"#N/A"}},4375,8.3836617987917155,{"$f":" IF(Foglio1!$C$14 <> \"\", 8.314472*Foglio1!$C$14*Foglio2!N492, NA())","v":{"$error":"#N/A"}},{"$f":"IF(Foglio1!$H$14 <> \"\", Foglio1!$H$14 + O492*10^-3, NA())","v":{"$error":"#N/A"}},4375,8.3836617987917155,{"$f":" IF(Foglio1!$C$15 <> \"\", 8.314472*Foglio1!$C$15*Foglio2!R492, NA())","v":{"$error":"#N/A"}},{"$f":"IF(Foglio1!$H$15 <> \"\", Foglio1!$H$15 + S492*10^-3, NA())","v":{"$error":"#N/A"}}]
[4384,8.3857168286278512,{"$f":" IF(Foglio1!$C$11 <> \"\", 8.314472*Foglio1!$C$11*Foglio2!B493, NA())","v":20916.842331466523},{"$f":"IF(Foglio1!$H$11 <> \"\", Foglio1!$H$11 + C493*10^-3, NA())","v":-69.083157668533474},4384,8.3857168286278512,{"$f":" IF(Foglio1!$C$12 <> \"\", 8.314472*Foglio1!$C$12*Foglio2!F493, NA())","v":{"$error":"#N/A"}},{"$f":"IF(Foglio1!$H$12 <> \"\", Foglio1!$H$12 + G493*10^-3, NA())","v":{"$error":"#N/A"}},4384,8.3857168286278512,{"$f":" IF(Foglio1!$C$13 <> \"\", 8.314472*Foglio1!$C$13*Foglio2!J493, NA())","v":{"$error":"#N/A"}},{"$f":"IF(Foglio1!$H$13 <> \"\", Foglio1!$H$13 + K493*10^-3, NA())","v":{"$error":"#N/A"}},4384,8.3857168286278512,{"$f":" IF(Foglio1!$C$14 <> \"\", 8.314472*Foglio1!$C$14*Foglio2!N493, NA())","v":{"$error":"#N/A"}},{"$f":"IF(Foglio1!$H$14 <> \"\", Foglio1!$H$14 + O493*10^-3, NA())","v":{"$error":"#N/A"}},4384,8.3857168286278512,{"$f":" IF(Foglio1!$C$15 <> \"\", 8.314472*Foglio1!$C$15*Foglio2!R493, NA())","v":{"$error":"#N/A"}},{"$f":"IF(Foglio1!$H$15 <> \"\", Foglio1!$H$15 + S493*10^-3, NA())","v":{"$error":"#N/A"}}]
[4393,8.3877676439757796,{"$f":" IF(Foglio1!$C$11 <> \"\", 8.314472*Foglio1!$C$11*Foglio2!B494, NA())","v":20921.957765502779},{"$f":"IF(Foglio1!$H$11 <> \"\", Foglio1!$H$11 + C494*10^-3, NA())","v":-69.078042234497218},4393,8.3877676439757796,{"$f":" IF(Foglio1!$C$12 <> \"\", 8.314472*Foglio1!$C$12*Foglio2!F494, NA())","v":{"$error":"#N/A"}},{"$f":"IF(Foglio1!$H$12 <> \"\", Foglio1!$H$12 + G494*10^-3, NA())","v":{"$error":"#N/A"}},4393,8.3877676439757796,{"$f":" IF(Foglio1!$C$13 <> \"\", 8.314472*Foglio1!$C$13*Foglio2!J494, NA())","v":{"$error":"#N/A"}},{"$f":"IF(Foglio1!$H$13 <> \"\", Foglio1!$H$13 + K494*10^-3, NA())","v":{"$error":"#N/A"}},4393,8.3877676439757796,{"$f":" IF(Foglio1!$C$14 <> \"\", 8.314472*Foglio1!$C$14*Foglio2!N494, NA())","v":{"$error":"#N/A"}},{"$f":"IF(Foglio1!$H$14 <> \"\", Foglio1!$H$14 + O494*10^-3, NA())","v":{"$error":"#N/A"}},4393,8.3877676439757796,{"$f":" IF(Foglio1!$C$15 <> \"\", 8.314472*Foglio1!$C$15*Foglio2!R494, NA())","v":{"$error":"#N/A"}},{"$f":"IF(Foglio1!$H$15 <> \"\", Foglio1!$H$15 + S494*10^-3, NA())","v":{"$error":"#N/A"}}]
[4402,8.3898142620864071,{"$f":" IF(Foglio1!$C$11 <> \"\", 8.314472*Foglio1!$C$11*Foglio2!B495, NA())","v":20927.06273019543},{"$f":"IF(Foglio1!$H$11 <> \"\", Foglio1!$H$11 + C495*10^-3, NA())","v":-69.072937269804569},4402,8.3898142620864071,{"$f":" IF(Foglio1!$C$12 <> \"\", 8.314472*Foglio1!$C$12*Foglio2!F495, NA())","v":{"$error":"#N/A"}},{"$f":"IF(Foglio1!$H$12 <> \"\", Foglio1!$H$12 + G495*10^-3, NA())","v":{"$error":"#N/A"}},4402,8.3898142620864071,{"$f":" IF(Foglio1!$C$13 <> \"\", 8.314472*Foglio1!$C$13*Foglio2!J495, NA())","v":{"$error":"#N/A"}},{"$f":"IF(Foglio1!$H$13 <> \"\", Foglio1!$H$13 + K495*10^-3, NA())","v":{"$error":"#N/A"}},4402,8.3898142620864071,{"$f":" IF(Foglio1!$C$14 <> \"\", 8.314472*Foglio1!$C$14*Foglio2!N495, NA())","v":{"$error":"#N/A"}},{"$f":"IF(Foglio1!$H$14 <> \"\", Foglio1!$H$14 + O495*10^-3, NA())","v":{"$error":"#N/A"}},4402,8.3898142620864071,{"$f":" IF(Foglio1!$C$15 <> \"\", 8.314472*Foglio1!$C$15*Foglio2!R495, NA())","v":{"$error":"#N/A"}},{"$f":"IF(Foglio1!$H$15 <> \"\", Foglio1!$H$15 + S495*10^-3, NA())","v":{"$error":"#N/A"}}]
[4411,8.39185670010494,{"$f":" IF(Foglio1!$C$11 <> \"\", 8.314472*Foglio1!$C$11*Foglio2!B496, NA())","v":20932.157268310479},{"$f":"IF(Foglio1!$H$11 <> \"\", Foglio1!$H$11 + C496*10^-3, NA())","v":-69.067842731689524},4411,8.39185670010494,{"$f":" IF(Foglio1!$C$12 <> \"\", 8.314472*Foglio1!$C$12*Foglio2!F496, NA())","v":{"$error":"#N/A"}},{"$f":"IF(Foglio1!$H$12 <> \"\", Foglio1!$H$12 + G496*10^-3, NA())","v":{"$error":"#N/A"}},4411,8.39185670010494,{"$f":" IF(Foglio1!$C$13 <> \"\", 8.314472*Foglio1!$C$13*Foglio2!J496, NA())","v":{"$error":"#N/A"}},{"$f":"IF(Foglio1!$H$13 <> \"\", Foglio1!$H$13 + K496*10^-3, NA())","v":{"$error":"#N/A"}},4411,8.39185670010494,{"$f":" IF(Foglio1!$C$14 <> \"\", 8.314472*Foglio1!$C$14*Foglio2!N496, NA())","v":{"$error":"#N/A"}},{"$f":"IF(Foglio1!$H$14 <> \"\", Foglio1!$H$14 + O496*10^-3, NA())","v":{"$error":"#N/A"}},4411,8.39185670010494,{"$f":" IF(Foglio1!$C$15 <> \"\", 8.314472*Foglio1!$C$15*Foglio2!R496, NA())","v":{"$error":"#N/A"}},{"$f":"IF(Foglio1!$H$15 <> \"\", Foglio1!$H$15 + S496*10^-3, NA())","v":{"$error":"#N/A"}}]
[4420,8.3938949750717438,{"$f":" IF(Foglio1!$C$11 <> \"\", 8.314472*Foglio1!$C$11*Foglio2!B497, NA())","v":20937.241422352414},{"$f":"IF(Foglio1!$H$11 <> \"\", Foglio1!$H$11 + C497*10^-3, NA())","v":-69.062758577647585},4420,8.3938949750717438,{"$f":" IF(Foglio1!$C$12 <> \"\", 8.314472*Foglio1!$C$12*Foglio2!F497, NA())","v":{"$error":"#N/A"}},{"$f":"IF(Foglio1!$H$12 <> \"\", Foglio1!$H$12 + G497*10^-3, NA())","v":{"$error":"#N/A"}},4420,8.3938949750717438,{"$f":" IF(Foglio1!$C$13 <> \"\", 8.314472*Foglio1!$C$13*Foglio2!J497, NA())","v":{"$error":"#N/A"}},{"$f":"IF(Foglio1!$H$13 <> \"\", Foglio1!$H$13 + K497*10^-3, NA())","v":{"$error":"#N/A"}},4420,8.3938949750717438,{"$f":" IF(Foglio1!$C$14 <> \"\", 8.314472*Foglio1!$C$14*Foglio2!N497, NA())","v":{"$error":"#N/A"}},{"$f":"IF(Foglio1!$H$14 <> \"\", Foglio1!$H$14 + O497*10^-3, NA())","v":{"$error":"#N/A"}},4420,8.3938949750717438,{"$f":" IF(Foglio1!$C$15 <> \"\", 8.314472*Foglio1!$C$15*Foglio2!R497, NA())","v":{"$error":"#N/A"}},{"$f":"IF(Foglio1!$H$15 <> \"\", Foglio1!$H$15 + S497*10^-3, NA())","v":{"$error":"#N/A"}}]
[4429,8.3959291039231978,{"$f":" IF(Foglio1!$C$11 <> \"\", 8.314472*Foglio1!$C$11*Foglio2!B498, NA())","v":20942.315234566358},{"$f":"IF(Foglio1!$H$11 <> \"\", Foglio1!$H$11 + C498*10^-3, NA())","v":-69.057684765433635},4429,8.3959291039231978,{"$f":" IF(Foglio1!$C$12 <> \"\", 8.314472*Foglio1!$C$12*Foglio2!F498, NA())","v":{"$error":"#N/A"}},{"$f":"IF(Foglio1!$H$12 <> \"\", Foglio1!$H$12 + G498*10^-3, NA())","v":{"$error":"#N/A"}},4429,8.3959291039231978,{"$f":" IF(Foglio1!$C$13 <> \"\", 8.314472*Foglio1!$C$13*Foglio2!J498, NA())","v":{"$error":"#N/A"}},{"$f":"IF(Foglio1!$H$13 <> \"\", Foglio1!$H$13 + K498*10^-3, NA())","v":{"$error":"#N/A"}},4429,8.3959291039231978,{"$f":" IF(Foglio1!$C$14 <> \"\", 8.314472*Foglio1!$C$14*Foglio2!N498, NA())","v":{"$error":"#N/A"}},{"$f":"IF(Foglio1!$H$14 <> \"\", Foglio1!$H$14 + O498*10^-3, NA())","v":{"$error":"#N/A"}},4429,8.3959291039231978,{"$f":" IF(Foglio1!$C$15 <> \"\", 8.314472*Foglio1!$C$15*Foglio2!R498, NA())","v":{"$error":"#N/A"}},{"$f":"IF(Foglio1!$H$15 <> \"\", Foglio1!$H$15 + S498*10^-3, NA())","v":{"$error":"#N/A"}}]
[4438,8.3979591034925392,{"$f":" IF(Foglio1!$C$11 <> \"\", 8.314472*Foglio1!$C$11*Foglio2!B499, NA())","v":20947.378746940147},{"$f":"IF(Foglio1!$H$11 <> \"\", Foglio1!$H$11 + C499*10^-3, NA())","v":-69.052621253059854},4438,8.3979591034925392,{"$f":" IF(Foglio1!$C$12 <> \"\", 8.314472*Foglio1!$C$12*Foglio2!F499, NA())","v":{"$error":"#N/A"}},{"$f":"IF(Foglio1!$H$12 <> \"\", Foglio1!$H$12 + G499*10^-3, NA())","v":{"$error":"#N/A"}},4438,8.3979591034925392,{"$f":" IF(Foglio1!$C$13 <> \"\", 8.314472*Foglio1!$C$13*Foglio2!J499, NA())","v":{"$error":"#N/A"}},{"$f":"IF(Foglio1!$H$13 <> \"\", Foglio1!$H$13 + K499*10^-3, NA())","v":{"$error":"#N/A"}},4438,8.3979591034925392,{"$f":" IF(Foglio1!$C$14 <> \"\", 8.314472*Foglio1!$C$14*Foglio2!N499, NA())","v":{"$error":"#N/A"}},{"$f":"IF(Foglio1!$H$14 <> \"\", Foglio1!$H$14 + O499*10^-3, NA())","v":{"$error":"#N/A"}},4438,8.3979591034925392,{"$f":" IF(Foglio1!$C$15 <> \"\", 8.314472*Foglio1!$C$15*Foglio2!R499, NA())","v":{"$error":"#N/A"}},{"$f":"IF(Foglio1!$H$15 <> \"\", Foglio1!$H$15 + S499*10^-3, NA())","v":{"$error":"#N/A"}}]
[4447,8.3999849905106956,{"$f":" IF(Foglio1!$C$11 <> \"\", 8.314472*Foglio1!$C$11*Foglio2!B500, NA())","v":20952.432001206435},{"$f":"IF(Foglio1!$H$11 <> \"\", Foglio1!$H$11 + C500*10^-3, NA())","v":-69.047567998793568},4447,8.3999849905106956,{"$f":" IF(Foglio1!$C$12 <> \"\", 8.314472*Foglio1!$C$12*Foglio2!F500, NA())","v":{"$error":"#N/A"}},{"$f":"IF(Foglio1!$H$12 <> \"\", Foglio1!$H$12 + G500*10^-3, NA())","v":{"$error":"#N/A"}},4447,8.3999849905106956,{"$f":" IF(Foglio1!$C$13 <> \"\", 8.314472*Foglio1!$C$13*Foglio2!J500, NA())","v":{"$error":"#N/A"}},{"$f":"IF(Foglio1!$H$13 <> \"\", Foglio1!$H$13 + K500*10^-3, NA())","v":{"$error":"#N/A"}},4447,8.3999849905106956,{"$f":" IF(Foglio1!$C$14 <> \"\", 8.314472*Foglio1!$C$14*Foglio2!N500, NA())","v":{"$error":"#N/A"}},{"$f":"IF(Foglio1!$H$14 <> \"\", Foglio1!$H$14 + O500*10^-3, NA())","v":{"$error":"#N/A"}},4447,8.3999849905106956,{"$f":" IF(Foglio1!$C$15 <> \"\", 8.314472*Foglio1!$C$15*Foglio2!R500, NA())","v":{"$error":"#N/A"}},{"$f":"IF(Foglio1!$H$15 <> \"\", Foglio1!$H$15 + S500*10^-3, NA())","v":{"$error":"#N/A"}}]
[4456,8.4020067816071204,{"$f":" IF(Foglio1!$C$11 <> \"\", 8.314472*Foglio1!$C$11*Foglio2!B501, NA())","v":20957.475038844757},{"$f":"IF(Foglio1!$H$11 <> \"\", Foglio1!$H$11 + C501*10^-3, NA())","v":-69.042524961155237},4456,8.4020067816071204,{"$f":" IF(Foglio1!$C$12 <> \"\", 8.314472*Foglio1!$C$12*Foglio2!F501, NA())","v":{"$error":"#N/A"}},{"$f":"IF(Foglio1!$H$12 <> \"\", Foglio1!$H$12 + G501*10^-3, NA())","v":{"$error":"#N/A"}},4456,8.4020067816071204,{"$f":" IF(Foglio1!$C$13 <> \"\", 8.314472*Foglio1!$C$13*Foglio2!J501, NA())","v":{"$error":"#N/A"}},{"$f":"IF(Foglio1!$H$13 <> \"\", Foglio1!$H$13 + K501*10^-3, NA())","v":{"$error":"#N/A"}},4456,8.4020067816071204,{"$f":" IF(Foglio1!$C$14 <> \"\", 8.314472*Foglio1!$C$14*Foglio2!N501, NA())","v":{"$error":"#N/A"}},{"$f":"IF(Foglio1!$H$14 <> \"\", Foglio1!$H$14 + O501*10^-3, NA())","v":{"$error":"#N/A"}},4456,8.4020067816071204,{"$f":" IF(Foglio1!$C$15 <> \"\", 8.314472*Foglio1!$C$15*Foglio2!R501, NA())","v":{"$error":"#N/A"}},{"$f":"IF(Foglio1!$H$15 <> \"\", Foglio1!$H$15 + S501*10^-3, NA())","v":{"$error":"#N/A"}}]
[4465,8.4040244933105992,{"$f":" IF(Foglio1!$C$11 <> \"\", 8.314472*Foglio1!$C$11*Foglio2!B502, NA())","v":20962.507901083551},{"$f":"IF(Foglio1!$H$11 <> \"\", Foglio1!$H$11 + C502*10^-3, NA())","v":-69.037492098916445},4465,8.4040244933105992,{"$f":" IF(Foglio1!$C$12 <> \"\", 8.314472*Foglio1!$C$12*Foglio2!F502, NA())","v":{"$error":"#N/A"}},{"$f":"IF(Foglio1!$H$12 <> \"\", Foglio1!$H$12 + G502*10^-3, NA())","v":{"$error":"#N/A"}},4465,8.4040244933105992,{"$f":" IF(Foglio1!$C$13 <> \"\", 8.314472*Foglio1!$C$13*Foglio2!J502, NA())","v":{"$error":"#N/A"}},{"$f":"IF(Foglio1!$H$13 <> \"\", Foglio1!$H$13 + K502*10^-3, NA())","v":{"$error":"#N/A"}},4465,8.4040244933105992,{"$f":" IF(Foglio1!$C$14 <> \"\", 8.314472*Foglio1!$C$14*Foglio2!N502, NA())","v":{"$error":"#N/A"}},{"$f":"IF(Foglio1!$H$14 <> \"\", Foglio1!$H$14 + O502*10^-3, NA())","v":{"$error":"#N/A"}},4465,8.4040244933105992,{"$f":" IF(Foglio1!$C$15 <> \"\", 8.314472*Foglio1!$C$15*Foglio2!R502, NA())","v":{"$error":"#N/A"}},{"$f":"IF(Foglio1!$H$15 <> \"\", Foglio1!$H$15 + S502*10^-3, NA())","v":{"$error":"#N/A"}}]
[4474,8.4060381420500754,{"$f":" IF(Foglio1!$C$11 <> \"\", 8.314472*Foglio1!$C$11*Foglio2!B503, NA())","v":20967.530628902216},{"$f":"IF(Foglio1!$H$11 <> \"\", Foglio1!$H$11 + C503*10^-3, NA())","v":-69.03246937109779},4474,8.4060381420500754,{"$f":" IF(Foglio1!$C$12 <> \"\", 8.314472*Foglio1!$C$12*Foglio2!F503, NA())","v":{"$error":"#N/A"}},{"$f":"IF(Foglio1!$H$12 <> \"\", Foglio1!$H$12 + G503*10^-3, NA())","v":{"$error":"#N/A"}},4474,8.4060381420500754,{"$f":" IF(Foglio1!$C$13 <> \"\", 8.314472*Foglio1!$C$13*Foglio2!J503, NA())","v":{"$error":"#N/A"}},{"$f":"IF(Foglio1!$H$13 <> \"\", Foglio1!$H$13 + K503*10^-3, NA())","v":{"$error":"#N/A"}},4474,8.4060381420500754,{"$f":" IF(Foglio1!$C$14 <> \"\", 8.314472*Foglio1!$C$14*Foglio2!N503, NA())","v":{"$error":"#N/A"}},{"$f":"IF(Foglio1!$H$14 <> \"\", Foglio1!$H$14 + O503*10^-3, NA())","v":{"$error":"#N/A"}},4474,8.4060381420500754,{"$f":" IF(Foglio1!$C$15 <> \"\", 8.314472*Foglio1!$C$15*Foglio2!R503, NA())","v":{"$error":"#N/A"}},{"$f":"IF(Foglio1!$H$15 <> \"\", Foglio1!$H$15 + S503*10^-3, NA())","v":{"$error":"#N/A"}}]
[4483,8.4080477441554393,{"$f":" IF(Foglio1!$C$11 <> \"\", 8.314472*Foglio1!$C$11*Foglio2!B504, NA())","v":20972.543263033072},{"$f":"IF(Foglio1!$H$11 <> \"\", Foglio1!$H$11 + C504*10^-3, NA())","v":-69.027456736966926},4483,8.4080477441554393,{"$f":" IF(Foglio1!$C$12 <> \"\", 8.314472*Foglio1!$C$12*Foglio2!F504, NA())","v":{"$error":"#N/A"}},{"$f":"IF(Foglio1!$H$12 <> \"\", Foglio1!$H$12 + G504*10^-3, NA())","v":{"$error":"#N/A"}},4483,8.4080477441554393,{"$f":" IF(Foglio1!$C$13 <> \"\", 8.314472*Foglio1!$C$13*Foglio2!J504, NA())","v":{"$error":"#N/A"}},{"$f":"IF(Foglio1!$H$13 <> \"\", Foglio1!$H$13 + K504*10^-3, NA())","v":{"$error":"#N/A"}},4483,8.4080477441554393,{"$f":" IF(Foglio1!$C$14 <> \"\", 8.314472*Foglio1!$C$14*Foglio2!N504, NA())","v":{"$error":"#N/A"}},{"$f":"IF(Foglio1!$H$14 <> \"\", Foglio1!$H$14 + O504*10^-3, NA())","v":{"$error":"#N/A"}},4483,8.4080477441554393,{"$f":" IF(Foglio1!$C$15 <> \"\", 8.314472*Foglio1!$C$15*Foglio2!R504, NA())","v":{"$error":"#N/A"}},{"$f":"IF(Foglio1!$H$15 <> \"\", Foglio1!$H$15 + S504*10^-3, NA())","v":{"$error":"#N/A"}}]
[4492,8.4100533158583346,{"$f":" IF(Foglio1!$C$11 <> \"\", 8.314472*Foglio1!$C$11*Foglio2!B505, NA())","v":20977.545843963384},{"$f":"IF(Foglio1!$H$11 <> \"\", Foglio1!$H$11 + C505*10^-3, NA())","v":-69.022454156036616},4492,8.4100533158583346,{"$f":" IF(Foglio1!$C$12 <> \"\", 8.314472*Foglio1!$C$12*Foglio2!F505, NA())","v":{"$error":"#N/A"}},{"$f":"IF(Foglio1!$H$12 <> \"\", Foglio1!$H$12 + G505*10^-3, NA())","v":{"$error":"#N/A"}},4492,8.4100533158583346,{"$f":" IF(Foglio1!$C$13 <> \"\", 8.314472*Foglio1!$C$13*Foglio2!J505, NA())","v":{"$error":"#N/A"}},{"$f":"IF(Foglio1!$H$13 <> \"\", Foglio1!$H$13 + K505*10^-3, NA())","v":{"$error":"#N/A"}},4492,8.4100533158583346,{"$f":" IF(Foglio1!$C$14 <> \"\", 8.314472*Foglio1!$C$14*Foglio2!N505, NA())","v":{"$error":"#N/A"}},{"$f":"IF(Foglio1!$H$14 <> \"\", Foglio1!$H$14 + O505*10^-3, NA())","v":{"$error":"#N/A"}},4492,8.4100533158583346,{"$f":" IF(Foglio1!$C$15 <> \"\", 8.314472*Foglio1!$C$15*Foglio2!R505, NA())","v":{"$error":"#N/A"}},{"$f":"IF(Foglio1!$H$15 <> \"\", Foglio1!$H$15 + S505*10^-3, NA())","v":{"$error":"#N/A"}}]
[4501,8.4120548732929326,{"$f":" IF(Foglio1!$C$11 <> \"\", 8.314472*Foglio1!$C$11*Foglio2!B506, NA())","v":20982.538411937294},{"$f":"IF(Foglio1!$H$11 <> \"\", Foglio1!$H$11 + C506*10^-3, NA())","v":-69.017461588062702},4501,8.4120548732929326,{"$f":" IF(Foglio1!$C$12 <> \"\", 8.314472*Foglio1!$C$12*Foglio2!F506, NA())","v":{"$error":"#N/A"}},{"$f":"IF(Foglio1!$H$12 <> \"\", Foglio1!$H$12 + G506*10^-3, NA())","v":{"$error":"#N/A"}},4501,8.4120548732929326,{"$f":" IF(Foglio1!$C$13 <> \"\", 8.314472*Foglio1!$C$13*Foglio2!J506, NA())","v":{"$error":"#N/A"}},{"$f":"IF(Foglio1!$H$13 <> \"\", Foglio1!$H$13 + K506*10^-3, NA())","v":{"$error":"#N/A"}},4501,8.4120548732929326,{"$f":" IF(Foglio1!$C$14 <> \"\", 8.314472*Foglio1!$C$14*Foglio2!N506, NA())","v":{"$error":"#N/A"}},{"$f":"IF(Foglio1!$H$14 <> \"\", Foglio1!$H$14 + O506*10^-3, NA())","v":{"$error":"#N/A"}},4501,8.4120548732929326,{"$f":" IF(Foglio1!$C$15 <> \"\", 8.314472*Foglio1!$C$15*Foglio2!R506, NA())","v":{"$error":"#N/A"}},{"$f":"IF(Foglio1!$H$15 <> \"\", Foglio1!$H$15 + S506*10^-3, NA())","v":{"$error":"#N/A"}}]
[4510,8.4140524324967245,{"$f":" IF(Foglio1!$C$11 <> \"\", 8.314472*Foglio1!$C$11*Foglio2!B507, NA())","v":20987.521006957773},{"$f":"IF(Foglio1!$H$11 <> \"\", Foglio1!$H$11 + C507*10^-3, NA())","v":-69.012478993042222},4510,8.4140524324967245,{"$f":" IF(Foglio1!$C$12 <> \"\", 8.314472*Foglio1!$C$12*Foglio2!F507, NA())","v":{"$error":"#N/A"}},{"$f":"IF(Foglio1!$H$12 <> \"\", Foglio1!$H$12 + G507*10^-3, NA())","v":{"$error":"#N/A"}},4510,8.4140524324967245,{"$f":" IF(Foglio1!$C$13 <> \"\", 8.314472*Foglio1!$C$13*Foglio2!J507, NA())","v":{"$error":"#N/A"}},{"$f":"IF(Foglio1!$H$13 <> \"\", Foglio1!$H$13 + K507*10^-3, NA())","v":{"$error":"#N/A"}},4510,8.4140524324967245,{"$f":" IF(Foglio1!$C$14 <> \"\", 8.314472*Foglio1!$C$14*Foglio2!N507, NA())","v":{"$error":"#N/A"}},{"$f":"IF(Foglio1!$H$14 <> \"\", Foglio1!$H$14 + O507*10^-3, NA())","v":{"$error":"#N/A"}},4510,8.4140524324967245,{"$f":" IF(Foglio1!$C$15 <> \"\", 8.314472*Foglio1!$C$15*Foglio2!R507, NA())","v":{"$error":"#N/A"}},{"$f":"IF(Foglio1!$H$15 <> \"\", Foglio1!$H$15 + S507*10^-3, NA())","v":{"$error":"#N/A"}}]
[4519,8.4160460094112803,{"$f":" IF(Foglio1!$C$11 <> \"\", 8.314472*Foglio1!$C$11*Foglio2!B508, NA())","v":20992.493668788549},{"$f":"IF(Foglio1!$H$11 <> \"\", Foglio1!$H$11 + C508*10^-3, NA())","v":-69.007506331211445},4519,8.4160460094112803,{"$f":" IF(Foglio1!$C$12 <> \"\", 8.314472*Foglio1!$C$12*Foglio2!F508, NA())","v":{"$error":"#N/A"}},{"$f":"IF(Foglio1!$H$12 <> \"\", Foglio1!$H$12 + G508*10^-3, NA())","v":{"$error":"#N/A"}},4519,8.4160460094112803,{"$f":" IF(Foglio1!$C$13 <> \"\", 8.314472*Foglio1!$C$13*Foglio2!J508, NA())","v":{"$error":"#N/A"}},{"$f":"IF(Foglio1!$H$13 <> \"\", Foglio1!$H$13 + K508*10^-3, NA())","v":{"$error":"#N/A"}},4519,8.4160460094112803,{"$f":" IF(Foglio1!$C$14 <> \"\", 8.314472*Foglio1!$C$14*Foglio2!N508, NA())","v":{"$error":"#N/A"}},{"$f":"IF(Foglio1!$H$14 <> \"\", Foglio1!$H$14 + O508*10^-3, NA())","v":{"$error":"#N/A"}},4519,8.4160460094112803,{"$f":" IF(Foglio1!$C$15 <> \"\", 8.314472*Foglio1!$C$15*Foglio2!R508, NA())","v":{"$error":"#N/A"}},{"$f":"IF(Foglio1!$H$15 <> \"\", Foglio1!$H$15 + S508*10^-3, NA())","v":{"$error":"#N/A"}}]
[4528,8.4180356198830193,{"$f":" IF(Foglio1!$C$11 <> \"\", 8.314472*Foglio1!$C$11*Foglio2!B509, NA())","v":20997.456436956003},{"$f":"IF(Foglio1!$H$11 <> \"\", Foglio1!$H$11 + C509*10^-3, NA())","v":-69.002543563044},4528,8.4180356198830193,{"$f":" IF(Foglio1!$C$12 <> \"\", 8.314472*Foglio1!$C$12*Foglio2!F509, NA())","v":{"$error":"#N/A"}},{"$f":"IF(Foglio1!$H$12 <> \"\", Foglio1!$H$12 + G509*10^-3, NA())","v":{"$error":"#N/A"}},4528,8.4180356198830193,{"$f":" IF(Foglio1!$C$13 <> \"\", 8.314472*Foglio1!$C$13*Foglio2!J509, NA())","v":{"$error":"#N/A"}},{"$f":"IF(Foglio1!$H$13 <> \"\", Foglio1!$H$13 + K509*10^-3, NA())","v":{"$error":"#N/A"}},4528,8.4180356198830193,{"$f":" IF(Foglio1!$C$14 <> \"\", 8.314472*Foglio1!$C$14*Foglio2!N509, NA())","v":{"$error":"#N/A"}},{"$f":"IF(Foglio1!$H$14 <> \"\", Foglio1!$H$14 + O509*10^-3, NA())","v":{"$error":"#N/A"}},4528,8.4180356198830193,{"$f":" IF(Foglio1!$C$15 <> \"\", 8.314472*Foglio1!$C$15*Foglio2!R509, NA())","v":{"$error":"#N/A"}},{"$f":"IF(Foglio1!$H$15 <> \"\", Foglio1!$H$15 + S509*10^-3, NA())","v":{"$error":"#N/A"}}]
[4537,8.4200212796639633,{"$f":" IF(Foglio1!$C$11 <> \"\", 8.314472*Foglio1!$C$11*Foglio2!B510, NA())","v":21002.409350751059},{"$f":"IF(Foglio1!$H$11 <> \"\", Foglio1!$H$11 + C510*10^-3, NA())","v":-68.997590649248934},4537,8.4200212796639633,{"$f":" IF(Foglio1!$C$12 <> \"\", 8.314472*Foglio1!$C$12*Foglio2!F510, NA())","v":{"$error":"#N/A"}},{"$f":"IF(Foglio1!$H$12 <> \"\", Foglio1!$H$12 + G510*10^-3, NA())","v":{"$error":"#N/A"}},4537,8.4200212796639633,{"$f":" IF(Foglio1!$C$13 <> \"\", 8.314472*Foglio1!$C$13*Foglio2!J510, NA())","v":{"$error":"#N/A"}},{"$f":"IF(Foglio1!$H$13 <> \"\", Foglio1!$H$13 + K510*10^-3, NA())","v":{"$error":"#N/A"}},4537,8.4200212796639633,{"$f":" IF(Foglio1!$C$14 <> \"\", 8.314472*Foglio1!$C$14*Foglio2!N510, NA())","v":{"$error":"#N/A"}},{"$f":"IF(Foglio1!$H$14 <> \"\", Foglio1!$H$14 + O510*10^-3, NA())","v":{"$error":"#N/A"}},4537,8.4200212796639633,{"$f":" IF(Foglio1!$C$15 <> \"\", 8.314472*Foglio1!$C$15*Foglio2!R510, NA())","v":{"$error":"#N/A"}},{"$f":"IF(Foglio1!$H$15 <> \"\", Foglio1!$H$15 + S510*10^-3, NA())","v":{"$error":"#N/A"}}]
[4546,8.4220030044124883,{"$f":" IF(Foglio1!$C$11 <> \"\", 8.314472*Foglio1!$C$11*Foglio2!B511, NA())","v":21007.352449231053},{"$f":"IF(Foglio1!$H$11 <> \"\", Foglio1!$H$11 + C511*10^-3, NA())","v":-68.99264755076895},4546,8.4220030044124883,{"$f":" IF(Foglio1!$C$12 <> \"\", 8.314472*Foglio1!$C$12*Foglio2!F511, NA())","v":{"$error":"#N/A"}},{"$f":"IF(Foglio1!$H$12 <> \"\", Foglio1!$H$12 + G511*10^-3, NA())","v":{"$error":"#N/A"}},4546,8.4220030044124883,{"$f":" IF(Foglio1!$C$13 <> \"\", 8.314472*Foglio1!$C$13*Foglio2!J511, NA())","v":{"$error":"#N/A"}},{"$f":"IF(Foglio1!$H$13 <> \"\", Foglio1!$H$13 + K511*10^-3, NA())","v":{"$error":"#N/A"}},4546,8.4220030044124883,{"$f":" IF(Foglio1!$C$14 <> \"\", 8.314472*Foglio1!$C$14*Foglio2!N511, NA())","v":{"$error":"#N/A"}},{"$f":"IF(Foglio1!$H$14 <> \"\", Foglio1!$H$14 + O511*10^-3, NA())","v":{"$error":"#N/A"}},4546,8.4220030044124883,{"$f":" IF(Foglio1!$C$15 <> \"\", 8.314472*Foglio1!$C$15*Foglio2!R511, NA())","v":{"$error":"#N/A"}},{"$f":"IF(Foglio1!$H$15 <> \"\", Foglio1!$H$15 + S511*10^-3, NA())","v":{"$error":"#N/A"}}]
[4555,8.4239808096940578,{"$f":" IF(Foglio1!$C$11 <> \"\", 8.314472*Foglio1!$C$11*Foglio2!B512, NA())","v":21012.285771221574},{"$f":"IF(Foglio1!$H$11 <> \"\", Foglio1!$H$11 + C512*10^-3, NA())","v":-68.98771422877843},4555,8.4239808096940578,{"$f":" IF(Foglio1!$C$12 <> \"\", 8.314472*Foglio1!$C$12*Foglio2!F512, NA())","v":{"$error":"#N/A"}},{"$f":"IF(Foglio1!$H$12 <> \"\", Foglio1!$H$12 + G512*10^-3, NA())","v":{"$error":"#N/A"}},4555,8.4239808096940578,{"$f":" IF(Foglio1!$C$13 <> \"\", 8.314472*Foglio1!$C$13*Foglio2!J512, NA())","v":{"$error":"#N/A"}},{"$f":"IF(Foglio1!$H$13 <> \"\", Foglio1!$H$13 + K512*10^-3, NA())","v":{"$error":"#N/A"}},4555,8.4239808096940578,{"$f":" IF(Foglio1!$C$14 <> \"\", 8.314472*Foglio1!$C$14*Foglio2!N512, NA())","v":{"$error":"#N/A"}},{"$f":"IF(Foglio1!$H$14 <> \"\", Foglio1!$H$14 + O512*10^-3, NA())","v":{"$error":"#N/A"}},4555,8.4239808096940578,{"$f":" IF(Foglio1!$C$15 <> \"\", 8.314472*Foglio1!$C$15*Foglio2!R512, NA())","v":{"$error":"#N/A"}},{"$f":"IF(Foglio1!$H$15 <> \"\", Foglio1!$H$15 + S512*10^-3, NA())","v":{"$error":"#N/A"}}]
[4564,8.4259547109819657,{"$f":" IF(Foglio1!$C$11 <> \"\", 8.314472*Foglio1!$C$11*Foglio2!B513, NA())","v":21017.209355318297},{"$f":"IF(Foglio1!$H$11 <> \"\", Foglio1!$H$11 + C513*10^-3, NA())","v":-68.9827906446817},4564,8.4259547109819657,{"$f":" IF(Foglio1!$C$12 <> \"\", 8.314472*Foglio1!$C$12*Foglio2!F513, NA())","v":{"$error":"#N/A"}},{"$f":"IF(Foglio1!$H$12 <> \"\", Foglio1!$H$12 + G513*10^-3, NA())","v":{"$error":"#N/A"}},4564,8.4259547109819657,{"$f":" IF(Foglio1!$C$13 <> \"\", 8.314472*Foglio1!$C$13*Foglio2!J513, NA())","v":{"$error":"#N/A"}},{"$f":"IF(Foglio1!$H$13 <> \"\", Foglio1!$H$13 + K513*10^-3, NA())","v":{"$error":"#N/A"}},4564,8.4259547109819657,{"$f":" IF(Foglio1!$C$14 <> \"\", 8.314472*Foglio1!$C$14*Foglio2!N513, NA())","v":{"$error":"#N/A"}},{"$f":"IF(Foglio1!$H$14 <> \"\", Foglio1!$H$14 + O513*10^-3, NA())","v":{"$error":"#N/A"}},4564,8.4259547109819657,{"$f":" IF(Foglio1!$C$15 <> \"\", 8.314472*Foglio1!$C$15*Foglio2!R513, NA())","v":{"$error":"#N/A"}},{"$f":"IF(Foglio1!$H$15 <> \"\", Foglio1!$H$15 + S513*10^-3, NA())","v":{"$error":"#N/A"}}]
[4573,8.4279247236580552,{"$f":" IF(Foglio1!$C$11 <> \"\", 8.314472*Foglio1!$C$11*Foglio2!B514, NA())","v":21022.123239888791},{"$f":"IF(Foglio1!$H$11 <> \"\", Foglio1!$H$11 + C514*10^-3, NA())","v":-68.977876760111201},4573,8.4279247236580552,{"$f":" IF(Foglio1!$C$12 <> \"\", 8.314472*Foglio1!$C$12*Foglio2!F514, NA())","v":{"$error":"#N/A"}},{"$f":"IF(Foglio1!$H$12 <> \"\", Foglio1!$H$12 + G514*10^-3, NA())","v":{"$error":"#N/A"}},4573,8.4279247236580552,{"$f":" IF(Foglio1!$C$13 <> \"\", 8.314472*Foglio1!$C$13*Foglio2!J514, NA())","v":{"$error":"#N/A"}},{"$f":"IF(Foglio1!$H$13 <> \"\", Foglio1!$H$13 + K514*10^-3, NA())","v":{"$error":"#N/A"}},4573,8.4279247236580552,{"$f":" IF(Foglio1!$C$14 <> \"\", 8.314472*Foglio1!$C$14*Foglio2!N514, NA())","v":{"$error":"#N/A"}},{"$f":"IF(Foglio1!$H$14 <> \"\", Foglio1!$H$14 + O514*10^-3, NA())","v":{"$error":"#N/A"}},4573,8.4279247236580552,{"$f":" IF(Foglio1!$C$15 <> \"\", 8.314472*Foglio1!$C$15*Foglio2!R514, NA())","v":{"$error":"#N/A"}},{"$f":"IF(Foglio1!$H$15 <> \"\", Foglio1!$H$15 + S514*10^-3, NA())","v":{"$error":"#N/A"}}]
[4582,{"$f":"LN(A515)","v":8.4298908630134406},{"$f":" IF(Foglio1!$C$11 <> \"\", 8.314472*Foglio1!$C$11*Foglio2!B515, NA())","v":21027.02746307433},{"$f":"IF(Foglio1!$H$11 <> \"\", Foglio1!$H$11 + C515*10^-3, NA())","v":-68.972972536925667},4582,{"$f":"LN(E515)","v":8.4298908630134406},{"$f":" IF(Foglio1!$C$12 <> \"\", 8.314472*Foglio1!$C$12*Foglio2!F515, NA())","v":{"$error":"#N/A"}},{"$f":"IF(Foglio1!$H$12 <> \"\", Foglio1!$H$12 + G515*10^-3, NA())","v":{"$error":"#N/A"}},4582,{"$f":"LN(I515)","v":8.4298908630134406},{"$f":" IF(Foglio1!$C$13 <> \"\", 8.314472*Foglio1!$C$13*Foglio2!J515, NA())","v":{"$error":"#N/A"}},{"$f":"IF(Foglio1!$H$13 <> \"\", Foglio1!$H$13 + K515*10^-3, NA())","v":{"$error":"#N/A"}},4582,{"$f":"LN(M515)","v":8.4298908630134406},{"$f":" IF(Foglio1!$C$14 <> \"\", 8.314472*Foglio1!$C$14*Foglio2!N515, NA())","v":{"$error":"#N/A"}},{"$f":"IF(Foglio1!$H$14 <> \"\", Foglio1!$H$14 + O515*10^-3, NA())","v":{"$error":"#N/A"}},4582,{"$f":"LN(Q515)","v":8.4298908630134406},{"$f":" IF(Foglio1!$C$15 <> \"\", 8.314472*Foglio1!$C$15*Foglio2!R515, NA())","v":{"$error":"#N/A"}},{"$f":"IF(Foglio1!$H$15 <> \"\", Foglio1!$H$15 + S515*10^-3, NA())","v":{"$error":"#N/A"}}]
[4591,8.4318531442492226,{"$f":" IF(Foglio1!$C$11 <> \"\", 8.314472*Foglio1!$C$11*Foglio2!B516, NA())","v":21031.92206279164},{"$f":"IF(Foglio1!$H$11 <> \"\", Foglio1!$H$11 + C516*10^-3, NA())","v":-68.968077937208363},4591,8.4318531442492226,{"$f":" IF(Foglio1!$C$12 <> \"\", 8.314472*Foglio1!$C$12*Foglio2!F516, NA())","v":{"$error":"#N/A"}},{"$f":"IF(Foglio1!$H$12 <> \"\", Foglio1!$H$12 + G516*10^-3, NA())","v":{"$error":"#N/A"}},4591,8.4318531442492226,{"$f":" IF(Foglio1!$C$13 <> \"\", 8.314472*Foglio1!$C$13*Foglio2!J516, NA())","v":{"$error":"#N/A"}},{"$f":"IF(Foglio1!$H$13 <> \"\", Foglio1!$H$13 + K516*10^-3, NA())","v":{"$error":"#N/A"}},4591,8.4318531442492226,{"$f":" IF(Foglio1!$C$14 <> \"\", 8.314472*Foglio1!$C$14*Foglio2!N516, NA())","v":{"$error":"#N/A"}},{"$f":"IF(Foglio1!$H$14 <> \"\", Foglio1!$H$14 + O516*10^-3, NA())","v":{"$error":"#N/A"}},4591,8.4318531442492226,{"$f":" IF(Foglio1!$C$15 <> \"\", 8.314472*Foglio1!$C$15*Foglio2!R516, NA())","v":{"$error":"#N/A"}},{"$f":"IF(Foglio1!$H$15 <> \"\", Foglio1!$H$15 + S516*10^-3, NA())","v":{"$error":"#N/A"}}]
[4600,8.4338115824771869,{"$f":" IF(Foglio1!$C$11 <> \"\", 8.314472*Foglio1!$C$11*Foglio2!B517, NA())","v":21036.80707673468},{"$f":"IF(Foglio1!$H$11 <> \"\", Foglio1!$H$11 + C517*10^-3, NA())","v":-68.963192923265325},4600,8.4338115824771869,{"$f":" IF(Foglio1!$C$12 <> \"\", 8.314472*Foglio1!$C$12*Foglio2!F517, NA())","v":{"$error":"#N/A"}},{"$f":"IF(Foglio1!$H$12 <> \"\", Foglio1!$H$12 + G517*10^-3, NA())","v":{"$error":"#N/A"}},4600,8.4338115824771869,{"$f":" IF(Foglio1!$C$13 <> \"\", 8.314472*Foglio1!$C$13*Foglio2!J517, NA())","v":{"$error":"#N/A"}},{"$f":"IF(Foglio1!$H$13 <> \"\", Foglio1!$H$13 + K517*10^-3, NA())","v":{"$error":"#N/A"}},4600,8.4338115824771869,{"$f":" IF(Foglio1!$C$14 <> \"\", 8.314472*Foglio1!$C$14*Foglio2!N517, NA())","v":{"$error":"#N/A"}},{"$f":"IF(Foglio1!$H$14 <> \"\", Foglio1!$H$14 + O517*10^-3, NA())","v":{"$error":"#N/A"}},4600,8.4338115824771869,{"$f":" IF(Foglio1!$C$15 <> \"\", 8.314472*Foglio1!$C$15*Foglio2!R517, NA())","v":{"$error":"#N/A"}},{"$f":"IF(Foglio1!$H$15 <> \"\", Foglio1!$H$15 + S517*10^-3, NA())","v":{"$error":"#N/A"}}]
[4609,8.435766192720509,{"$f":" IF(Foglio1!$C$11 <> \"\", 8.314472*Foglio1!$C$11*Foglio2!B518, NA())","v":21041.682542376384},{"$f":"IF(Foglio1!$H$11 <> \"\", Foglio1!$H$11 + C518*10^-3, NA())","v":-68.958317457623622},4609,8.435766192720509,{"$f":" IF(Foglio1!$C$12 <> \"\", 8.314472*Foglio1!$C$12*Foglio2!F518, NA())","v":{"$error":"#N/A"}},{"$f":"IF(Foglio1!$H$12 <> \"\", Foglio1!$H$12 + G518*10^-3, NA())","v":{"$error":"#N/A"}},4609,8.435766192720509,{"$f":" IF(Foglio1!$C$13 <> \"\", 8.314472*Foglio1!$C$13*Foglio2!J518, NA())","v":{"$error":"#N/A"}},{"$f":"IF(Foglio1!$H$13 <> \"\", Foglio1!$H$13 + K518*10^-3, NA())","v":{"$error":"#N/A"}},4609,8.435766192720509,{"$f":" IF(Foglio1!$C$14 <> \"\", 8.314472*Foglio1!$C$14*Foglio2!N518, NA())","v":{"$error":"#N/A"}},{"$f":"IF(Foglio1!$H$14 <> \"\", Foglio1!$H$14 + O518*10^-3, NA())","v":{"$error":"#N/A"}},4609,8.435766192720509,{"$f":" IF(Foglio1!$C$15 <> \"\", 8.314472*Foglio1!$C$15*Foglio2!R518, NA())","v":{"$error":"#N/A"}},{"$f":"IF(Foglio1!$H$15 <> \"\", Foglio1!$H$15 + S518*10^-3, NA())","v":{"$error":"#N/A"}}]
[4618,8.4377169899144402,{"$f":" IF(Foglio1!$C$11 <> \"\", 8.314472*Foglio1!$C$11*Foglio2!B519, NA())","v":21046.548496970372},{"$f":"IF(Foglio1!$H$11 <> \"\", Foglio1!$H$11 + C519*10^-3, NA())","v":-68.953451503029626},4618,8.4377169899144402,{"$f":" IF(Foglio1!$C$12 <> \"\", 8.314472*Foglio1!$C$12*Foglio2!F519, NA())","v":{"$error":"#N/A"}},{"$f":"IF(Foglio1!$H$12 <> \"\", Foglio1!$H$12 + G519*10^-3, NA())","v":{"$error":"#N/A"}},4618,8.4377169899144402,{"$f":" IF(Foglio1!$C$13 <> \"\", 8.314472*Foglio1!$C$13*Foglio2!J519, NA())","v":{"$error":"#N/A"}},{"$f":"IF(Foglio1!$H$13 <> \"\", Foglio1!$H$13 + K519*10^-3, NA())","v":{"$error":"#N/A"}},4618,8.4377169899144402,{"$f":" IF(Foglio1!$C$14 <> \"\", 8.314472*Foglio1!$C$14*Foglio2!N519, NA())","v":{"$error":"#N/A"}},{"$f":"IF(Foglio1!$H$14 <> \"\", Foglio1!$H$14 + O519*10^-3, NA())","v":{"$error":"#N/A"}},4618,8.4377169899144402,{"$f":" IF(Foglio1!$C$15 <> \"\", 8.314472*Foglio1!$C$15*Foglio2!R519, NA())","v":{"$error":"#N/A"}},{"$f":"IF(Foglio1!$H$15 <> \"\", Foglio1!$H$15 + S519*10^-3, NA())","v":{"$error":"#N/A"}}]
[4627,8.4396639889070002,{"$f":" IF(Foglio1!$C$11 <> \"\", 8.314472*Foglio1!$C$11*Foglio2!B520, NA())","v":21051.404977552669},{"$f":"IF(Foglio1!$H$11 <> \"\", Foglio1!$H$11 + C520*10^-3, NA())","v":-68.948595022447336},4627,8.4396639889070002,{"$f":" IF(Foglio1!$C$12 <> \"\", 8.314472*Foglio1!$C$12*Foglio2!F520, NA())","v":{"$error":"#N/A"}},{"$f":"IF(Foglio1!$H$12 <> \"\", Foglio1!$H$12 + G520*10^-3, NA())","v":{"$error":"#N/A"}},4627,8.4396639889070002,{"$f":" IF(Foglio1!$C$13 <> \"\", 8.314472*Foglio1!$C$13*Foglio2!J520, NA())","v":{"$error":"#N/A"}},{"$f":"IF(Foglio1!$H$13 <> \"\", Foglio1!$H$13 + K520*10^-3, NA())","v":{"$error":"#N/A"}},4627,8.4396639889070002,{"$f":" IF(Foglio1!$C$14 <> \"\", 8.314472*Foglio1!$C$14*Foglio2!N520, NA())","v":{"$error":"#N/A"}},{"$f":"IF(Foglio1!$H$14 <> \"\", Foglio1!$H$14 + O520*10^-3, NA())","v":{"$error":"#N/A"}},4627,8.4396639889070002,{"$f":" IF(Foglio1!$C$15 <> \"\", 8.314472*Foglio1!$C$15*Foglio2!R520, NA())","v":{"$error":"#N/A"}},{"$f":"IF(Foglio1!$H$15 <> \"\", Foglio1!$H$15 + S520*10^-3, NA())","v":{"$error":"#N/A"}}]
[4636,8.4416072044596415,{"$f":" IF(Foglio1!$C$11 <> \"\", 8.314472*Foglio1!$C$11*Foglio2!B521, NA())","v":21056.25202094339},{"$f":"IF(Foglio1!$H$11 <> \"\", Foglio1!$H$11 + C521*10^-3, NA())","v":-68.94374797905661},4636,8.4416072044596415,{"$f":" IF(Foglio1!$C$12 <> \"\", 8.314472*Foglio1!$C$12*Foglio2!F521, NA())","v":{"$error":"#N/A"}},{"$f":"IF(Foglio1!$H$12 <> \"\", Foglio1!$H$12 + G521*10^-3, NA())","v":{"$error":"#N/A"}},4636,8.4416072044596415,{"$f":" IF(Foglio1!$C$13 <> \"\", 8.314472*Foglio1!$C$13*Foglio2!J521, NA())","v":{"$error":"#N/A"}},{"$f":"IF(Foglio1!$H$13 <> \"\", Foglio1!$H$13 + K521*10^-3, NA())","v":{"$error":"#N/A"}},4636,8.4416072044596415,{"$f":" IF(Foglio1!$C$14 <> \"\", 8.314472*Foglio1!$C$14*Foglio2!N521, NA())","v":{"$error":"#N/A"}},{"$f":"IF(Foglio1!$H$14 <> \"\", Foglio1!$H$14 + O521*10^-3, NA())","v":{"$error":"#N/A"}},4636,8.4416072044596415,{"$f":" IF(Foglio1!$C$15 <> \"\", 8.314472*Foglio1!$C$15*Foglio2!R521, NA())","v":{"$error":"#N/A"}},{"$f":"IF(Foglio1!$H$15 <> \"\", Foglio1!$H$15 + S521*10^-3, NA())","v":{"$error":"#N/A"}}]
[4645,8.4435466512479387,{"$f":" IF(Foglio1!$C$11 <> \"\", 8.314472*Foglio1!$C$11*Foglio2!B522, NA())","v":21061.089663748426},{"$f":"IF(Foglio1!$H$11 <> \"\", Foglio1!$H$11 + C522*10^-3, NA())","v":-68.938910336251581},4645,8.4435466512479387,{"$f":" IF(Foglio1!$C$12 <> \"\", 8.314472*Foglio1!$C$12*Foglio2!F522, NA())","v":{"$error":"#N/A"}},{"$f":"IF(Foglio1!$H$12 <> \"\", Foglio1!$H$12 + G522*10^-3, NA())","v":{"$error":"#N/A"}},4645,8.4435466512479387,{"$f":" IF(Foglio1!$C$13 <> \"\", 8.314472*Foglio1!$C$13*Foglio2!J522, NA())","v":{"$error":"#N/A"}},{"$f":"IF(Foglio1!$H$13 <> \"\", Foglio1!$H$13 + K522*10^-3, NA())","v":{"$error":"#N/A"}},4645,8.4435466512479387,{"$f":" IF(Foglio1!$C$14 <> \"\", 8.314472*Foglio1!$C$14*Foglio2!N522, NA())","v":{"$error":"#N/A"}},{"$f":"IF(Foglio1!$H$14 <> \"\", Foglio1!$H$14 + O522*10^-3, NA())","v":{"$error":"#N/A"}},4645,8.4435466512479387,{"$f":" IF(Foglio1!$C$15 <> \"\", 8.314472*Foglio1!$C$15*Foglio2!R522, NA())","v":{"$error":"#N/A"}},{"$f":"IF(Foglio1!$H$15 <> \"\", Foglio1!$H$15 + S522*10^-3, NA())","v":{"$error":"#N/A"}}]
[4654,8.4454823438622366,{"$f":" IF(Foglio1!$C$11 <> \"\", 8.314472*Foglio1!$C$11*Foglio2!B523, NA())","v":21065.917942361084},{"$f":"IF(Foglio1!$H$11 <> \"\", Foglio1!$H$11 + C523*10^-3, NA())","v":-68.934082057638918},4654,8.4454823438622366,{"$f":" IF(Foglio1!$C$12 <> \"\", 8.314472*Foglio1!$C$12*Foglio2!F523, NA())","v":{"$error":"#N/A"}},{"$f":"IF(Foglio1!$H$12 <> \"\", Foglio1!$H$12 + G523*10^-3, NA())","v":{"$error":"#N/A"}},4654,8.4454823438622366,{"$f":" IF(Foglio1!$C$13 <> \"\", 8.314472*Foglio1!$C$13*Foglio2!J523, NA())","v":{"$error":"#N/A"}},{"$f":"IF(Foglio1!$H$13 <> \"\", Foglio1!$H$13 + K523*10^-3, NA())","v":{"$error":"#N/A"}},4654,8.4454823438622366,{"$f":" IF(Foglio1!$C$14 <> \"\", 8.314472*Foglio1!$C$14*Foglio2!N523, NA())","v":{"$error":"#N/A"}},{"$f":"IF(Foglio1!$H$14 <> \"\", Foglio1!$H$14 + O523*10^-3, NA())","v":{"$error":"#N/A"}},4654,8.4454823438622366,{"$f":" IF(Foglio1!$C$15 <> \"\", 8.314472*Foglio1!$C$15*Foglio2!R523, NA())","v":{"$error":"#N/A"}},{"$f":"IF(Foglio1!$H$15 <> \"\", Foglio1!$H$15 + S523*10^-3, NA())","v":{"$error":"#N/A"}}]
[4663,8.4474142968083203,{"$f":" IF(Foglio1!$C$11 <> \"\", 8.314472*Foglio1!$C$11*Foglio2!B524, NA())","v":21070.736892963741},{"$f":"IF(Foglio1!$H$11 <> \"\", Foglio1!$H$11 + C524*10^-3, NA())","v":-68.929263107036263},4663,8.4474142968083203,{"$f":" IF(Foglio1!$C$12 <> \"\", 8.314472*Foglio1!$C$12*Foglio2!F524, NA())","v":{"$error":"#N/A"}},{"$f":"IF(Foglio1!$H$12 <> \"\", Foglio1!$H$12 + G524*10^-3, NA())","v":{"$error":"#N/A"}},4663,8.4474142968083203,{"$f":" IF(Foglio1!$C$13 <> \"\", 8.314472*Foglio1!$C$13*Foglio2!J524, NA())","v":{"$error":"#N/A"}},{"$f":"IF(Foglio1!$H$13 <> \"\", Foglio1!$H$13 + K524*10^-3, NA())","v":{"$error":"#N/A"}},4663,8.4474142968083203,{"$f":" IF(Foglio1!$C$14 <> \"\", 8.314472*Foglio1!$C$14*Foglio2!N524, NA())","v":{"$error":"#N/A"}},{"$f":"IF(Foglio1!$H$14 <> \"\", Foglio1!$H$14 + O524*10^-3, NA())","v":{"$error":"#N/A"}},4663,8.4474142968083203,{"$f":" IF(Foglio1!$C$15 <> \"\", 8.314472*Foglio1!$C$15*Foglio2!R524, NA())","v":{"$error":"#N/A"}},{"$f":"IF(Foglio1!$H$15 <> \"\", Foglio1!$H$15 + S524*10^-3, NA())","v":{"$error":"#N/A"}}]
[4672,8.4493425245080633,{"$f":" IF(Foglio1!$C$11 <> \"\", 8.314472*Foglio1!$C$11*Foglio2!B525, NA())","v":21075.546551529482},{"$f":"IF(Foglio1!$H$11 <> \"\", Foglio1!$H$11 + C525*10^-3, NA())","v":-68.924453448470516},4672,8.4493425245080633,{"$f":" IF(Foglio1!$C$12 <> \"\", 8.314472*Foglio1!$C$12*Foglio2!F525, NA())","v":{"$error":"#N/A"}},{"$f":"IF(Foglio1!$H$12 <> \"\", Foglio1!$H$12 + G525*10^-3, NA())","v":{"$error":"#N/A"}},4672,8.4493425245080633,{"$f":" IF(Foglio1!$C$13 <> \"\", 8.314472*Foglio1!$C$13*Foglio2!J525, NA())","v":{"$error":"#N/A"}},{"$f":"IF(Foglio1!$H$13 <> \"\", Foglio1!$H$13 + K525*10^-3, NA())","v":{"$error":"#N/A"}},4672,8.4493425245080633,{"$f":" IF(Foglio1!$C$14 <> \"\", 8.314472*Foglio1!$C$14*Foglio2!N525, NA())","v":{"$error":"#N/A"}},{"$f":"IF(Foglio1!$H$14 <> \"\", Foglio1!$H$14 + O525*10^-3, NA())","v":{"$error":"#N/A"}},4672,8.4493425245080633,{"$f":" IF(Foglio1!$C$15 <> \"\", 8.314472*Foglio1!$C$15*Foglio2!R525, NA())","v":{"$error":"#N/A"}},{"$f":"IF(Foglio1!$H$15 <> \"\", Foglio1!$H$15 + S525*10^-3, NA())","v":{"$error":"#N/A"}}]
[4681,8.4512670413000706,{"$f":" IF(Foglio1!$C$11 <> \"\", 8.314472*Foglio1!$C$11*Foglio2!B526, NA())","v":21080.346953823686},{"$f":"IF(Foglio1!$H$11 <> \"\", Foglio1!$H$11 + C526*10^-3, NA())","v":-68.919653046176307},4681,8.4512670413000706,{"$f":" IF(Foglio1!$C$12 <> \"\", 8.314472*Foglio1!$C$12*Foglio2!F526, NA())","v":{"$error":"#N/A"}},{"$f":"IF(Foglio1!$H$12 <> \"\", Foglio1!$H$12 + G526*10^-3, NA())","v":{"$error":"#N/A"}},4681,8.4512670413000706,{"$f":" IF(Foglio1!$C$13 <> \"\", 8.314472*Foglio1!$C$13*Foglio2!J526, NA())","v":{"$error":"#N/A"}},{"$f":"IF(Foglio1!$H$13 <> \"\", Foglio1!$H$13 + K526*10^-3, NA())","v":{"$error":"#N/A"}},4681,8.4512670413000706,{"$f":" IF(Foglio1!$C$14 <> \"\", 8.314472*Foglio1!$C$14*Foglio2!N526, NA())","v":{"$error":"#N/A"}},{"$f":"IF(Foglio1!$H$14 <> \"\", Foglio1!$H$14 + O526*10^-3, NA())","v":{"$error":"#N/A"}},4681,8.4512670413000706,{"$f":" IF(Foglio1!$C$15 <> \"\", 8.314472*Foglio1!$C$15*Foglio2!R526, NA())","v":{"$error":"#N/A"}},{"$f":"IF(Foglio1!$H$15 <> \"\", Foglio1!$H$15 + S526*10^-3, NA())","v":{"$error":"#N/A"}}]
[4690,8.4531878614403251,{"$f":" IF(Foglio1!$C$11 <> \"\", 8.314472*Foglio1!$C$11*Foglio2!B527, NA())","v":21085.138135405639},{"$f":"IF(Foglio1!$H$11 <> \"\", Foglio1!$H$11 + C527*10^-3, NA())","v":-68.914861864594357},4690,8.4531878614403251,{"$f":" IF(Foglio1!$C$12 <> \"\", 8.314472*Foglio1!$C$12*Foglio2!F527, NA())","v":{"$error":"#N/A"}},{"$f":"IF(Foglio1!$H$12 <> \"\", Foglio1!$H$12 + G527*10^-3, NA())","v":{"$error":"#N/A"}},4690,8.4531878614403251,{"$f":" IF(Foglio1!$C$13 <> \"\", 8.314472*Foglio1!$C$13*Foglio2!J527, NA())","v":{"$error":"#N/A"}},{"$f":"IF(Foglio1!$H$13 <> \"\", Foglio1!$H$13 + K527*10^-3, NA())","v":{"$error":"#N/A"}},4690,8.4531878614403251,{"$f":" IF(Foglio1!$C$14 <> \"\", 8.314472*Foglio1!$C$14*Foglio2!N527, NA())","v":{"$error":"#N/A"}},{"$f":"IF(Foglio1!$H$14 <> \"\", Foglio1!$H$14 + O527*10^-3, NA())","v":{"$error":"#N/A"}},4690,8.4531878614403251,{"$f":" IF(Foglio1!$C$15 <> \"\", 8.314472*Foglio1!$C$15*Foglio2!R527, NA())","v":{"$error":"#N/A"}},{"$f":"IF(Foglio1!$H$15 <> \"\", Foglio1!$H$15 + S527*10^-3, NA())","v":{"$error":"#N/A"}}]
[4699,8.4551049991028151,{"$f":" IF(Foglio1!$C$11 <> \"\", 8.314472*Foglio1!$C$11*Foglio2!B528, NA())","v":21089.920131630115},{"$f":"IF(Foglio1!$H$11 <> \"\", Foglio1!$H$11 + C528*10^-3, NA())","v":-68.910079868369877},4699,8.4551049991028151,{"$f":" IF(Foglio1!$C$12 <> \"\", 8.314472*Foglio1!$C$12*Foglio2!F528, NA())","v":{"$error":"#N/A"}},{"$f":"IF(Foglio1!$H$12 <> \"\", Foglio1!$H$12 + G528*10^-3, NA())","v":{"$error":"#N/A"}},4699,8.4551049991028151,{"$f":" IF(Foglio1!$C$13 <> \"\", 8.314472*Foglio1!$C$13*Foglio2!J528, NA())","v":{"$error":"#N/A"}},{"$f":"IF(Foglio1!$H$13 <> \"\", Foglio1!$H$13 + K528*10^-3, NA())","v":{"$error":"#N/A"}},4699,8.4551049991028151,{"$f":" IF(Foglio1!$C$14 <> \"\", 8.314472*Foglio1!$C$14*Foglio2!N528, NA())","v":{"$error":"#N/A"}},{"$f":"IF(Foglio1!$H$14 <> \"\", Foglio1!$H$14 + O528*10^-3, NA())","v":{"$error":"#N/A"}},4699,8.4551049991028151,{"$f":" IF(Foglio1!$C$15 <> \"\", 8.314472*Foglio1!$C$15*Foglio2!R528, NA())","v":{"$error":"#N/A"}},{"$f":"IF(Foglio1!$H$15 <> \"\", Foglio1!$H$15 + S528*10^-3, NA())","v":{"$error":"#N/A"}}]
[4708,8.4570184683801681,{"$f":" IF(Foglio1!$C$11 <> \"\", 8.314472*Foglio1!$C$11*Foglio2!B529, NA())","v":21094.692977648941},{"$f":"IF(Foglio1!$H$11 <> \"\", Foglio1!$H$11 + C529*10^-3, NA())","v":-68.905307022351053},4708,8.4570184683801681,{"$f":" IF(Foglio1!$C$12 <> \"\", 8.314472*Foglio1!$C$12*Foglio2!F529, NA())","v":{"$error":"#N/A"}},{"$f":"IF(Foglio1!$H$12 <> \"\", Foglio1!$H$12 + G529*10^-3, NA())","v":{"$error":"#N/A"}},4708,8.4570184683801681,{"$f":" IF(Foglio1!$C$13 <> \"\", 8.314472*Foglio1!$C$13*Foglio2!J529, NA())","v":{"$error":"#N/A"}},{"$f":"IF(Foglio1!$H$13 <> \"\", Foglio1!$H$13 + K529*10^-3, NA())","v":{"$error":"#N/A"}},4708,8.4570184683801681,{"$f":" IF(Foglio1!$C$14 <> \"\", 8.314472*Foglio1!$C$14*Foglio2!N529, NA())","v":{"$error":"#N/A"}},{"$f":"IF(Foglio1!$H$14 <> \"\", Foglio1!$H$14 + O529*10^-3, NA())","v":{"$error":"#N/A"}},4708,8.4570184683801681,{"$f":" IF(Foglio1!$C$15 <> \"\", 8.314472*Foglio1!$C$15*Foglio2!R529, NA())","v":{"$error":"#N/A"}},{"$f":"IF(Foglio1!$H$15 <> \"\", Foglio1!$H$15 + S529*10^-3, NA())","v":{"$error":"#N/A"}}]
[4717,8.4589282832842621,{"$f":" IF(Foglio1!$C$11 <> \"\", 8.314472*Foglio1!$C$11*Foglio2!B530, NA())","v":21099.456708412523},{"$f":"IF(Foglio1!$H$11 <> \"\", Foglio1!$H$11 + C530*10^-3, NA())","v":-68.900543291587482},4717,8.4589282832842621,{"$f":" IF(Foglio1!$C$12 <> \"\", 8.314472*Foglio1!$C$12*Foglio2!F530, NA())","v":{"$error":"#N/A"}},{"$f":"IF(Foglio1!$H$12 <> \"\", Foglio1!$H$12 + G530*10^-3, NA())","v":{"$error":"#N/A"}},4717,8.4589282832842621,{"$f":" IF(Foglio1!$C$13 <> \"\", 8.314472*Foglio1!$C$13*Foglio2!J530, NA())","v":{"$error":"#N/A"}},{"$f":"IF(Foglio1!$H$13 <> \"\", Foglio1!$H$13 + K530*10^-3, NA())","v":{"$error":"#N/A"}},4717,8.4589282832842621,{"$f":" IF(Foglio1!$C$14 <> \"\", 8.314472*Foglio1!$C$14*Foglio2!N530, NA())","v":{"$error":"#N/A"}},{"$f":"IF(Foglio1!$H$14 <> \"\", Foglio1!$H$14 + O530*10^-3, NA())","v":{"$error":"#N/A"}},4717,8.4589282832842621,{"$f":" IF(Foglio1!$C$15 <> \"\", 8.314472*Foglio1!$C$15*Foglio2!R530, NA())","v":{"$error":"#N/A"}},{"$f":"IF(Foglio1!$H$15 <> \"\", Foglio1!$H$15 + S530*10^-3, NA())","v":{"$error":"#N/A"}}]
[4726,8.4608344577468539,{"$f":" IF(Foglio1!$C$11 <> \"\", 8.314472*Foglio1!$C$11*Foglio2!B531, NA())","v":21104.211358671422},{"$f":"IF(Foglio1!$H$11 <> \"\", Foglio1!$H$11 + C531*10^-3, NA())","v":-68.895788641328579},4726,8.4608344577468539,{"$f":" IF(Foglio1!$C$12 <> \"\", 8.314472*Foglio1!$C$12*Foglio2!F531, NA())","v":{"$error":"#N/A"}},{"$f":"IF(Foglio1!$H$12 <> \"\", Foglio1!$H$12 + G531*10^-3, NA())","v":{"$error":"#N/A"}},4726,8.4608344577468539,{"$f":" IF(Foglio1!$C$13 <> \"\", 8.314472*Foglio1!$C$13*Foglio2!J531, NA())","v":{"$error":"#N/A"}},{"$f":"IF(Foglio1!$H$13 <> \"\", Foglio1!$H$13 + K531*10^-3, NA())","v":{"$error":"#N/A"}},4726,8.4608344577468539,{"$f":" IF(Foglio1!$C$14 <> \"\", 8.314472*Foglio1!$C$14*Foglio2!N531, NA())","v":{"$error":"#N/A"}},{"$f":"IF(Foglio1!$H$14 <> \"\", Foglio1!$H$14 + O531*10^-3, NA())","v":{"$error":"#N/A"}},4726,8.4608344577468539,{"$f":" IF(Foglio1!$C$15 <> \"\", 8.314472*Foglio1!$C$15*Foglio2!R531, NA())","v":{"$error":"#N/A"}},{"$f":"IF(Foglio1!$H$15 <> \"\", Foglio1!$H$15 + S531*10^-3, NA())","v":{"$error":"#N/A"}}]
[4735,8.4627370056201787,{"$f":" IF(Foglio1!$C$11 <> \"\", 8.314472*Foglio1!$C$11*Foglio2!B532, NA())","v":21108.956962977849},{"$f":"IF(Foglio1!$H$11 <> \"\", Foglio1!$H$11 + C532*10^-3, NA())","v":-68.891043037022143},4735,8.4627370056201787,{"$f":" IF(Foglio1!$C$12 <> \"\", 8.314472*Foglio1!$C$12*Foglio2!F532, NA())","v":{"$error":"#N/A"}},{"$f":"IF(Foglio1!$H$12 <> \"\", Foglio1!$H$12 + G532*10^-3, NA())","v":{"$error":"#N/A"}},4735,8.4627370056201787,{"$f":" IF(Foglio1!$C$13 <> \"\", 8.314472*Foglio1!$C$13*Foglio2!J532, NA())","v":{"$error":"#N/A"}},{"$f":"IF(Foglio1!$H$13 <> \"\", Foglio1!$H$13 + K532*10^-3, NA())","v":{"$error":"#N/A"}},4735,8.4627370056201787,{"$f":" IF(Foglio1!$C$14 <> \"\", 8.314472*Foglio1!$C$14*Foglio2!N532, NA())","v":{"$error":"#N/A"}},{"$f":"IF(Foglio1!$H$14 <> \"\", Foglio1!$H$14 + O532*10^-3, NA())","v":{"$error":"#N/A"}},4735,8.4627370056201787,{"$f":" IF(Foglio1!$C$15 <> \"\", 8.314472*Foglio1!$C$15*Foglio2!R532, NA())","v":{"$error":"#N/A"}},{"$f":"IF(Foglio1!$H$15 <> \"\", Foglio1!$H$15 + S532*10^-3, NA())","v":{"$error":"#N/A"}}]
[4744,8.464635940677562,{"$f":" IF(Foglio1!$C$11 <> \"\", 8.314472*Foglio1!$C$11*Foglio2!B533, NA())","v":21113.693555687176},{"$f":"IF(Foglio1!$H$11 <> \"\", Foglio1!$H$11 + C533*10^-3, NA())","v":-68.886306444312822},4744,8.464635940677562,{"$f":" IF(Foglio1!$C$12 <> \"\", 8.314472*Foglio1!$C$12*Foglio2!F533, NA())","v":{"$error":"#N/A"}},{"$f":"IF(Foglio1!$H$12 <> \"\", Foglio1!$H$12 + G533*10^-3, NA())","v":{"$error":"#N/A"}},4744,8.464635940677562,{"$f":" IF(Foglio1!$C$13 <> \"\", 8.314472*Foglio1!$C$13*Foglio2!J533, NA())","v":{"$error":"#N/A"}},{"$f":"IF(Foglio1!$H$13 <> \"\", Foglio1!$H$13 + K533*10^-3, NA())","v":{"$error":"#N/A"}},4744,8.464635940677562,{"$f":" IF(Foglio1!$C$14 <> \"\", 8.314472*Foglio1!$C$14*Foglio2!N533, NA())","v":{"$error":"#N/A"}},{"$f":"IF(Foglio1!$H$14 <> \"\", Foglio1!$H$14 + O533*10^-3, NA())","v":{"$error":"#N/A"}},4744,8.464635940677562,{"$f":" IF(Foglio1!$C$15 <> \"\", 8.314472*Foglio1!$C$15*Foglio2!R533, NA())","v":{"$error":"#N/A"}},{"$f":"IF(Foglio1!$H$15 <> \"\", Foglio1!$H$15 + S533*10^-3, NA())","v":{"$error":"#N/A"}}]
[4753,8.4665312766140097,{"$f":" IF(Foglio1!$C$11 <> \"\", 8.314472*Foglio1!$C$11*Foglio2!B534, NA())","v":21118.421170959435},{"$f":"IF(Foglio1!$H$11 <> \"\", Foglio1!$H$11 + C534*10^-3, NA())","v":-68.881578829040564},4753,8.4665312766140097,{"$f":" IF(Foglio1!$C$12 <> \"\", 8.314472*Foglio1!$C$12*Foglio2!F534, NA())","v":{"$error":"#N/A"}},{"$f":"IF(Foglio1!$H$12 <> \"\", Foglio1!$H$12 + G534*10^-3, NA())","v":{"$error":"#N/A"}},4753,8.4665312766140097,{"$f":" IF(Foglio1!$C$13 <> \"\", 8.314472*Foglio1!$C$13*Foglio2!J534, NA())","v":{"$error":"#N/A"}},{"$f":"IF(Foglio1!$H$13 <> \"\", Foglio1!$H$13 + K534*10^-3, NA())","v":{"$error":"#N/A"}},4753,8.4665312766140097,{"$f":" IF(Foglio1!$C$14 <> \"\", 8.314472*Foglio1!$C$14*Foglio2!N534, NA())","v":{"$error":"#N/A"}},{"$f":"IF(Foglio1!$H$14 <> \"\", Foglio1!$H$14 + O534*10^-3, NA())","v":{"$error":"#N/A"}},4753,8.4665312766140097,{"$f":" IF(Foglio1!$C$15 <> \"\", 8.314472*Foglio1!$C$15*Foglio2!R534, NA())","v":{"$error":"#N/A"}},{"$f":"IF(Foglio1!$H$15 <> \"\", Foglio1!$H$15 + S534*10^-3, NA())","v":{"$error":"#N/A"}}]
[4762,8.4684230270468088,{"$f":" IF(Foglio1!$C$11 <> \"\", 8.314472*Foglio1!$C$11*Foglio2!B535, NA())","v":21123.139842760782},{"$f":"IF(Foglio1!$H$11 <> \"\", Foglio1!$H$11 + C535*10^-3, NA())","v":-68.876860157239221},4762,8.4684230270468088,{"$f":" IF(Foglio1!$C$12 <> \"\", 8.314472*Foglio1!$C$12*Foglio2!F535, NA())","v":{"$error":"#N/A"}},{"$f":"IF(Foglio1!$H$12 <> \"\", Foglio1!$H$12 + G535*10^-3, NA())","v":{"$error":"#N/A"}},4762,8.4684230270468088,{"$f":" IF(Foglio1!$C$13 <> \"\", 8.314472*Foglio1!$C$13*Foglio2!J535, NA())","v":{"$error":"#N/A"}},{"$f":"IF(Foglio1!$H$13 <> \"\", Foglio1!$H$13 + K535*10^-3, NA())","v":{"$error":"#N/A"}},4762,8.4684230270468088,{"$f":" IF(Foglio1!$C$14 <> \"\", 8.314472*Foglio1!$C$14*Foglio2!N535, NA())","v":{"$error":"#N/A"}},{"$f":"IF(Foglio1!$H$14 <> \"\", Foglio1!$H$14 + O535*10^-3, NA())","v":{"$error":"#N/A"}},4762,8.4684230270468088,{"$f":" IF(Foglio1!$C$15 <> \"\", 8.314472*Foglio1!$C$15*Foglio2!R535, NA())","v":{"$error":"#N/A"}},{"$f":"IF(Foglio1!$H$15 <> \"\", Foglio1!$H$15 + S535*10^-3, NA())","v":{"$error":"#N/A"}}]
[4771,8.4703112055161078,{"$f":" IF(Foglio1!$C$11 <> \"\", 8.314472*Foglio1!$C$11*Foglio2!B536, NA())","v":21127.849604864979},{"$f":"IF(Foglio1!$H$11 <> \"\", Foglio1!$H$11 + C536*10^-3, NA())","v":-68.872150395135023},4771,8.4703112055161078,{"$f":" IF(Foglio1!$C$12 <> \"\", 8.314472*Foglio1!$C$12*Foglio2!F536, NA())","v":{"$error":"#N/A"}},{"$f":"IF(Foglio1!$H$12 <> \"\", Foglio1!$H$12 + G536*10^-3, NA())","v":{"$error":"#N/A"}},4771,8.4703112055161078,{"$f":" IF(Foglio1!$C$13 <> \"\", 8.314472*Foglio1!$C$13*Foglio2!J536, NA())","v":{"$error":"#N/A"}},{"$f":"IF(Foglio1!$H$13 <> \"\", Foglio1!$H$13 + K536*10^-3, NA())","v":{"$error":"#N/A"}},4771,8.4703112055161078,{"$f":" IF(Foglio1!$C$14 <> \"\", 8.314472*Foglio1!$C$14*Foglio2!N536, NA())","v":{"$error":"#N/A"}},{"$f":"IF(Foglio1!$H$14 <> \"\", Foglio1!$H$14 + O536*10^-3, NA())","v":{"$error":"#N/A"}},4771,8.4703112055161078,{"$f":" IF(Foglio1!$C$15 <> \"\", 8.314472*Foglio1!$C$15*Foglio2!R536, NA())","v":{"$error":"#N/A"}},{"$f":"IF(Foglio1!$H$15 <> \"\", Foglio1!$H$15 + S536*10^-3, NA())","v":{"$error":"#N/A"}}]
[4780,8.4721958254855014,{"$f":" IF(Foglio1!$C$11 <> \"\", 8.314472*Foglio1!$C$11*Foglio2!B537, NA())","v":21132.550490854828},{"$f":"IF(Foglio1!$H$11 <> \"\", Foglio1!$H$11 + C537*10^-3, NA())","v":-68.867449509145175},4780,8.4721958254855014,{"$f":" IF(Foglio1!$C$12 <> \"\", 8.314472*Foglio1!$C$12*Foglio2!F537, NA())","v":{"$error":"#N/A"}},{"$f":"IF(Foglio1!$H$12 <> \"\", Foglio1!$H$12 + G537*10^-3, NA())","v":{"$error":"#N/A"}},4780,8.4721958254855014,{"$f":" IF(Foglio1!$C$13 <> \"\", 8.314472*Foglio1!$C$13*Foglio2!J537, NA())","v":{"$error":"#N/A"}},{"$f":"IF(Foglio1!$H$13 <> \"\", Foglio1!$H$13 + K537*10^-3, NA())","v":{"$error":"#N/A"}},4780,8.4721958254855014,{"$f":" IF(Foglio1!$C$14 <> \"\", 8.314472*Foglio1!$C$14*Foglio2!N537, NA())","v":{"$error":"#N/A"}},{"$f":"IF(Foglio1!$H$14 <> \"\", Foglio1!$H$14 + O537*10^-3, NA())","v":{"$error":"#N/A"}},4780,8.4721958254855014,{"$f":" IF(Foglio1!$C$15 <> \"\", 8.314472*Foglio1!$C$15*Foglio2!R537, NA())","v":{"$error":"#N/A"}},{"$f":"IF(Foglio1!$H$15 <> \"\", Foglio1!$H$15 + S537*10^-3, NA())","v":{"$error":"#N/A"}}]
[4789,8.4740769003426095,{"$f":" IF(Foglio1!$C$11 <> \"\", 8.314472*Foglio1!$C$11*Foglio2!B538, NA())","v":21137.242534123627},{"$f":"IF(Foglio1!$H$11 <> \"\", Foglio1!$H$11 + C538*10^-3, NA())","v":-68.862757465876371},4789,8.4740769003426095,{"$f":" IF(Foglio1!$C$12 <> \"\", 8.314472*Foglio1!$C$12*Foglio2!F538, NA())","v":{"$error":"#N/A"}},{"$f":"IF(Foglio1!$H$12 <> \"\", Foglio1!$H$12 + G538*10^-3, NA())","v":{"$error":"#N/A"}},4789,8.4740769003426095,{"$f":" IF(Foglio1!$C$13 <> \"\", 8.314472*Foglio1!$C$13*Foglio2!J538, NA())","v":{"$error":"#N/A"}},{"$f":"IF(Foglio1!$H$13 <> \"\", Foglio1!$H$13 + K538*10^-3, NA())","v":{"$error":"#N/A"}},4789,8.4740769003426095,{"$f":" IF(Foglio1!$C$14 <> \"\", 8.314472*Foglio1!$C$14*Foglio2!N538, NA())","v":{"$error":"#N/A"}},{"$f":"IF(Foglio1!$H$14 <> \"\", Foglio1!$H$14 + O538*10^-3, NA())","v":{"$error":"#N/A"}},4789,8.4740769003426095,{"$f":" IF(Foglio1!$C$15 <> \"\", 8.314472*Foglio1!$C$15*Foglio2!R538, NA())","v":{"$error":"#N/A"}},{"$f":"IF(Foglio1!$H$15 <> \"\", Foglio1!$H$15 + S538*10^-3, NA())","v":{"$error":"#N/A"}}]
[4798,8.4759544433996403,{"$f":" IF(Foglio1!$C$11 <> \"\", 8.314472*Foglio1!$C$11*Foglio2!B539, NA())","v":21141.925767876572},{"$f":"IF(Foglio1!$H$11 <> \"\", Foglio1!$H$11 + C539*10^-3, NA())","v":-68.858074232123428},4798,8.4759544433996403,{"$f":" IF(Foglio1!$C$12 <> \"\", 8.314472*Foglio1!$C$12*Foglio2!F539, NA())","v":{"$error":"#N/A"}},{"$f":"IF(Foglio1!$H$12 <> \"\", Foglio1!$H$12 + G539*10^-3, NA())","v":{"$error":"#N/A"}},4798,8.4759544433996403,{"$f":" IF(Foglio1!$C$13 <> \"\", 8.314472*Foglio1!$C$13*Foglio2!J539, NA())","v":{"$error":"#N/A"}},{"$f":"IF(Foglio1!$H$13 <> \"\", Foglio1!$H$13 + K539*10^-3, NA())","v":{"$error":"#N/A"}},4798,8.4759544433996403,{"$f":" IF(Foglio1!$C$14 <> \"\", 8.314472*Foglio1!$C$14*Foglio2!N539, NA())","v":{"$error":"#N/A"}},{"$f":"IF(Foglio1!$H$14 <> \"\", Foglio1!$H$14 + O539*10^-3, NA())","v":{"$error":"#N/A"}},4798,8.4759544433996403,{"$f":" IF(Foglio1!$C$15 <> \"\", 8.314472*Foglio1!$C$15*Foglio2!R539, NA())","v":{"$error":"#N/A"}},{"$f":"IF(Foglio1!$H$15 <> \"\", Foglio1!$H$15 + S539*10^-3, NA())","v":{"$error":"#N/A"}}]
[4807,8.4778284678939606,{"$f":" IF(Foglio1!$C$11 <> \"\", 8.314472*Foglio1!$C$11*Foglio2!B540, NA())","v":21146.600225132173},{"$f":"IF(Foglio1!$H$11 <> \"\", Foglio1!$H$11 + C540*10^-3, NA())","v":-68.853399774867825},4807,8.4778284678939606,{"$f":" IF(Foglio1!$C$12 <> \"\", 8.314472*Foglio1!$C$12*Foglio2!F540, NA())","v":{"$error":"#N/A"}},{"$f":"IF(Foglio1!$H$12 <> \"\", Foglio1!$H$12 + G540*10^-3, NA())","v":{"$error":"#N/A"}},4807,8.4778284678939606,{"$f":" IF(Foglio1!$C$13 <> \"\", 8.314472*Foglio1!$C$13*Foglio2!J540, NA())","v":{"$error":"#N/A"}},{"$f":"IF(Foglio1!$H$13 <> \"\", Foglio1!$H$13 + K540*10^-3, NA())","v":{"$error":"#N/A"}},4807,8.4778284678939606,{"$f":" IF(Foglio1!$C$14 <> \"\", 8.314472*Foglio1!$C$14*Foglio2!N540, NA())","v":{"$error":"#N/A"}},{"$f":"IF(Foglio1!$H$14 <> \"\", Foglio1!$H$14 + O540*10^-3, NA())","v":{"$error":"#N/A"}},4807,8.4778284678939606,{"$f":" IF(Foglio1!$C$15 <> \"\", 8.314472*Foglio1!$C$15*Foglio2!R540, NA())","v":{"$error":"#N/A"}},{"$f":"IF(Foglio1!$H$15 <> \"\", Foglio1!$H$15 + S540*10^-3, NA())","v":{"$error":"#N/A"}}]
[4816,8.479698986988657,{"$f":" IF(Foglio1!$C$11 <> \"\", 8.314472*Foglio1!$C$11*Foglio2!B541, NA())","v":21151.265938723667},{"$f":"IF(Foglio1!$H$11 <> \"\", Foglio1!$H$11 + C541*10^-3, NA())","v":-68.848734061276332},4816,8.479698986988657,{"$f":" IF(Foglio1!$C$12 <> \"\", 8.314472*Foglio1!$C$12*Foglio2!F541, NA())","v":{"$error":"#N/A"}},{"$f":"IF(Foglio1!$H$12 <> \"\", Foglio1!$H$12 + G541*10^-3, NA())","v":{"$error":"#N/A"}},4816,8.479698986988657,{"$f":" IF(Foglio1!$C$13 <> \"\", 8.314472*Foglio1!$C$13*Foglio2!J541, NA())","v":{"$error":"#N/A"}},{"$f":"IF(Foglio1!$H$13 <> \"\", Foglio1!$H$13 + K541*10^-3, NA())","v":{"$error":"#N/A"}},4816,8.479698986988657,{"$f":" IF(Foglio1!$C$14 <> \"\", 8.314472*Foglio1!$C$14*Foglio2!N541, NA())","v":{"$error":"#N/A"}},{"$f":"IF(Foglio1!$H$14 <> \"\", Foglio1!$H$14 + O541*10^-3, NA())","v":{"$error":"#N/A"}},4816,8.479698986988657,{"$f":" IF(Foglio1!$C$15 <> \"\", 8.314472*Foglio1!$C$15*Foglio2!R541, NA())","v":{"$error":"#N/A"}},{"$f":"IF(Foglio1!$H$15 <> \"\", Foglio1!$H$15 + S541*10^-3, NA())","v":{"$error":"#N/A"}}]
[4825,8.4815660137730866,{"$f":" IF(Foglio1!$C$11 <> \"\", 8.314472*Foglio1!$C$11*Foglio2!B542, NA())","v":21155.922941300385},{"$f":"IF(Foglio1!$H$11 <> \"\", Foglio1!$H$11 + C542*10^-3, NA())","v":-68.844077058699611},4825,8.4815660137730866,{"$f":" IF(Foglio1!$C$12 <> \"\", 8.314472*Foglio1!$C$12*Foglio2!F542, NA())","v":{"$error":"#N/A"}},{"$f":"IF(Foglio1!$H$12 <> \"\", Foglio1!$H$12 + G542*10^-3, NA())","v":{"$error":"#N/A"}},4825,8.4815660137730866,{"$f":" IF(Foglio1!$C$13 <> \"\", 8.314472*Foglio1!$C$13*Foglio2!J542, NA())","v":{"$error":"#N/A"}},{"$f":"IF(Foglio1!$H$13 <> \"\", Foglio1!$H$13 + K542*10^-3, NA())","v":{"$error":"#N/A"}},4825,8.4815660137730866,{"$f":" IF(Foglio1!$C$14 <> \"\", 8.314472*Foglio1!$C$14*Foglio2!N542, NA())","v":{"$error":"#N/A"}},{"$f":"IF(Foglio1!$H$14 <> \"\", Foglio1!$H$14 + O542*10^-3, NA())","v":{"$error":"#N/A"}},4825,8.4815660137730866,{"$f":" IF(Foglio1!$C$15 <> \"\", 8.314472*Foglio1!$C$15*Foglio2!R542, NA())","v":{"$error":"#N/A"}},{"$f":"IF(Foglio1!$H$15 <> \"\", Foglio1!$H$15 + S542*10^-3, NA())","v":{"$error":"#N/A"}}]
[4834,8.4834295612634278,{"$f":" IF(Foglio1!$C$11 <> \"\", 8.314472*Foglio1!$C$11*Foglio2!B543, NA())","v":21160.571265329119},{"$f":"IF(Foglio1!$H$11 <> \"\", Foglio1!$H$11 + C543*10^-3, NA())","v":-68.839428734670875},4834,8.4834295612634278,{"$f":" IF(Foglio1!$C$12 <> \"\", 8.314472*Foglio1!$C$12*Foglio2!F543, NA())","v":{"$error":"#N/A"}},{"$f":"IF(Foglio1!$H$12 <> \"\", Foglio1!$H$12 + G543*10^-3, NA())","v":{"$error":"#N/A"}},4834,8.4834295612634278,{"$f":" IF(Foglio1!$C$13 <> \"\", 8.314472*Foglio1!$C$13*Foglio2!J543, NA())","v":{"$error":"#N/A"}},{"$f":"IF(Foglio1!$H$13 <> \"\", Foglio1!$H$13 + K543*10^-3, NA())","v":{"$error":"#N/A"}},4834,8.4834295612634278,{"$f":" IF(Foglio1!$C$14 <> \"\", 8.314472*Foglio1!$C$14*Foglio2!N543, NA())","v":{"$error":"#N/A"}},{"$f":"IF(Foglio1!$H$14 <> \"\", Foglio1!$H$14 + O543*10^-3, NA())","v":{"$error":"#N/A"}},4834,8.4834295612634278,{"$f":" IF(Foglio1!$C$15 <> \"\", 8.314472*Foglio1!$C$15*Foglio2!R543, NA())","v":{"$error":"#N/A"}},{"$f":"IF(Foglio1!$H$15 <> \"\", Foglio1!$H$15 + S543*10^-3, NA())","v":{"$error":"#N/A"}}]
[4843,8.4852896424032291,{"$f":" IF(Foglio1!$C$11 <> \"\", 8.314472*Foglio1!$C$11*Foglio2!B544, NA())","v":21165.210943095499},{"$f":"IF(Foglio1!$H$11 <> \"\", Foglio1!$H$11 + C544*10^-3, NA())","v":-68.834789056904498},4843,8.4852896424032291,{"$f":" IF(Foglio1!$C$12 <> \"\", 8.314472*Foglio1!$C$12*Foglio2!F544, NA())","v":{"$error":"#N/A"}},{"$f":"IF(Foglio1!$H$12 <> \"\", Foglio1!$H$12 + G544*10^-3, NA())","v":{"$error":"#N/A"}},4843,8.4852896424032291,{"$f":" IF(Foglio1!$C$13 <> \"\", 8.314472*Foglio1!$C$13*Foglio2!J544, NA())","v":{"$error":"#N/A"}},{"$f":"IF(Foglio1!$H$13 <> \"\", Foglio1!$H$13 + K544*10^-3, NA())","v":{"$error":"#N/A"}},4843,8.4852896424032291,{"$f":" IF(Foglio1!$C$14 <> \"\", 8.314472*Foglio1!$C$14*Foglio2!N544, NA())","v":{"$error":"#N/A"}},{"$f":"IF(Foglio1!$H$14 <> \"\", Foglio1!$H$14 + O544*10^-3, NA())","v":{"$error":"#N/A"}},4843,8.4852896424032291,{"$f":" IF(Foglio1!$C$15 <> \"\", 8.314472*Foglio1!$C$15*Foglio2!R544, NA())","v":{"$error":"#N/A"}},{"$f":"IF(Foglio1!$H$15 <> \"\", Foglio1!$H$15 + S544*10^-3, NA())","v":{"$error":"#N/A"}}]
[4852,8.4871462700639402,{"$f":" IF(Foglio1!$C$11 <> \"\", 8.314472*Foglio1!$C$11*Foglio2!B545, NA())","v":21169.842006705323},{"$f":"IF(Foglio1!$H$11 <> \"\", Foglio1!$H$11 + C545*10^-3, NA())","v":-68.830157993294677},4852,8.4871462700639402,{"$f":" IF(Foglio1!$C$12 <> \"\", 8.314472*Foglio1!$C$12*Foglio2!F545, NA())","v":{"$error":"#N/A"}},{"$f":"IF(Foglio1!$H$12 <> \"\", Foglio1!$H$12 + G545*10^-3, NA())","v":{"$error":"#N/A"}},4852,8.4871462700639402,{"$f":" IF(Foglio1!$C$13 <> \"\", 8.314472*Foglio1!$C$13*Foglio2!J545, NA())","v":{"$error":"#N/A"}},{"$f":"IF(Foglio1!$H$13 <> \"\", Foglio1!$H$13 + K545*10^-3, NA())","v":{"$error":"#N/A"}},4852,8.4871462700639402,{"$f":" IF(Foglio1!$C$14 <> \"\", 8.314472*Foglio1!$C$14*Foglio2!N545, NA())","v":{"$error":"#N/A"}},{"$f":"IF(Foglio1!$H$14 <> \"\", Foglio1!$H$14 + O545*10^-3, NA())","v":{"$error":"#N/A"}},4852,8.4871462700639402,{"$f":" IF(Foglio1!$C$15 <> \"\", 8.314472*Foglio1!$C$15*Foglio2!R545, NA())","v":{"$error":"#N/A"}},{"$f":"IF(Foglio1!$H$15 <> \"\", Foglio1!$H$15 + S545*10^-3, NA())","v":{"$error":"#N/A"}}]
[4861,8.4889994570454554,{"$f":" IF(Foglio1!$C$11 <> \"\", 8.314472*Foglio1!$C$11*Foglio2!B546, NA())","v":21174.464488085894},{"$f":"IF(Foglio1!$H$11 <> \"\", Foglio1!$H$11 + C546*10^-3, NA())","v":-68.825535511914097},4861,8.4889994570454554,{"$f":" IF(Foglio1!$C$12 <> \"\", 8.314472*Foglio1!$C$12*Foglio2!F546, NA())","v":{"$error":"#N/A"}},{"$f":"IF(Foglio1!$H$12 <> \"\", Foglio1!$H$12 + G546*10^-3, NA())","v":{"$error":"#N/A"}},4861,8.4889994570454554,{"$f":" IF(Foglio1!$C$13 <> \"\", 8.314472*Foglio1!$C$13*Foglio2!J546, NA())","v":{"$error":"#N/A"}},{"$f":"IF(Foglio1!$H$13 <> \"\", Foglio1!$H$13 + K546*10^-3, NA())","v":{"$error":"#N/A"}},4861,8.4889994570454554,{"$f":" IF(Foglio1!$C$14 <> \"\", 8.314472*Foglio1!$C$14*Foglio2!N546, NA())","v":{"$error":"#N/A"}},{"$f":"IF(Foglio1!$H$14 <> \"\", Foglio1!$H$14 + O546*10^-3, NA())","v":{"$error":"#N/A"}},4861,8.4889994570454554,{"$f":" IF(Foglio1!$C$15 <> \"\", 8.314472*Foglio1!$C$15*Foglio2!R546, NA())","v":{"$error":"#N/A"}},{"$f":"IF(Foglio1!$H$15 <> \"\", Foglio1!$H$15 + S546*10^-3, NA())","v":{"$error":"#N/A"}}]
[4870,8.4908492160766347,{"$f":" IF(Foglio1!$C$11 <> \"\", 8.314472*Foglio1!$C$11*Foglio2!B547, NA())","v":21179.078418987341},{"$f":"IF(Foglio1!$H$11 <> \"\", Foglio1!$H$11 + C547*10^-3, NA())","v":-68.820921581012655},4870,8.4908492160766347,{"$f":" IF(Foglio1!$C$12 <> \"\", 8.314472*Foglio1!$C$12*Foglio2!F547, NA())","v":{"$error":"#N/A"}},{"$f":"IF(Foglio1!$H$12 <> \"\", Foglio1!$H$12 + G547*10^-3, NA())","v":{"$error":"#N/A"}},4870,8.4908492160766347,{"$f":" IF(Foglio1!$C$13 <> \"\", 8.314472*Foglio1!$C$13*Foglio2!J547, NA())","v":{"$error":"#N/A"}},{"$f":"IF(Foglio1!$H$13 <> \"\", Foglio1!$H$13 + K547*10^-3, NA())","v":{"$error":"#N/A"}},4870,8.4908492160766347,{"$f":" IF(Foglio1!$C$14 <> \"\", 8.314472*Foglio1!$C$14*Foglio2!N547, NA())","v":{"$error":"#N/A"}},{"$f":"IF(Foglio1!$H$14 <> \"\", Foglio1!$H$14 + O547*10^-3, NA())","v":{"$error":"#N/A"}},4870,8.4908492160766347,{"$f":" IF(Foglio1!$C$15 <> \"\", 8.314472*Foglio1!$C$15*Foglio2!R547, NA())","v":{"$error":"#N/A"}},{"$f":"IF(Foglio1!$H$15 <> \"\", Foglio1!$H$15 + S547*10^-3, NA())","v":{"$error":"#N/A"}}]
[4879,8.4926955598158376,{"$f":" IF(Foglio1!$C$11 <> \"\", 8.314472*Foglio1!$C$11*Foglio2!B548, NA())","v":21183.683830983933},{"$f":"IF(Foglio1!$H$11 <> \"\", Foglio1!$H$11 + C548*10^-3, NA())","v":-68.816316169016062},4879,8.4926955598158376,{"$f":" IF(Foglio1!$C$12 <> \"\", 8.314472*Foglio1!$C$12*Foglio2!F548, NA())","v":{"$error":"#N/A"}},{"$f":"IF(Foglio1!$H$12 <> \"\", Foglio1!$H$12 + G548*10^-3, NA())","v":{"$error":"#N/A"}},4879,8.4926955598158376,{"$f":" IF(Foglio1!$C$13 <> \"\", 8.314472*Foglio1!$C$13*Foglio2!J548, NA())","v":{"$error":"#N/A"}},{"$f":"IF(Foglio1!$H$13 <> \"\", Foglio1!$H$13 + K548*10^-3, NA())","v":{"$error":"#N/A"}},4879,8.4926955598158376,{"$f":" IF(Foglio1!$C$14 <> \"\", 8.314472*Foglio1!$C$14*Foglio2!N548, NA())","v":{"$error":"#N/A"}},{"$f":"IF(Foglio1!$H$14 <> \"\", Foglio1!$H$14 + O548*10^-3, NA())","v":{"$error":"#N/A"}},4879,8.4926955598158376,{"$f":" IF(Foglio1!$C$15 <> \"\", 8.314472*Foglio1!$C$15*Foglio2!R548, NA())","v":{"$error":"#N/A"}},{"$f":"IF(Foglio1!$H$15 <> \"\", Foglio1!$H$15 + S548*10^-3, NA())","v":{"$error":"#N/A"}}]
[4888,8.4945385008514318,{"$f":" IF(Foglio1!$C$11 <> \"\", 8.314472*Foglio1!$C$11*Foglio2!B549, NA())","v":21188.280755475364},{"$f":"IF(Foglio1!$H$11 <> \"\", Foglio1!$H$11 + C549*10^-3, NA())","v":-68.811719244524639},4888,8.4945385008514318,{"$f":" IF(Foglio1!$C$12 <> \"\", 8.314472*Foglio1!$C$12*Foglio2!F549, NA())","v":{"$error":"#N/A"}},{"$f":"IF(Foglio1!$H$12 <> \"\", Foglio1!$H$12 + G549*10^-3, NA())","v":{"$error":"#N/A"}},4888,8.4945385008514318,{"$f":" IF(Foglio1!$C$13 <> \"\", 8.314472*Foglio1!$C$13*Foglio2!J549, NA())","v":{"$error":"#N/A"}},{"$f":"IF(Foglio1!$H$13 <> \"\", Foglio1!$H$13 + K549*10^-3, NA())","v":{"$error":"#N/A"}},4888,8.4945385008514318,{"$f":" IF(Foglio1!$C$14 <> \"\", 8.314472*Foglio1!$C$14*Foglio2!N549, NA())","v":{"$error":"#N/A"}},{"$f":"IF(Foglio1!$H$14 <> \"\", Foglio1!$H$14 + O549*10^-3, NA())","v":{"$error":"#N/A"}},4888,8.4945385008514318,{"$f":" IF(Foglio1!$C$15 <> \"\", 8.314472*Foglio1!$C$15*Foglio2!R549, NA())","v":{"$error":"#N/A"}},{"$f":"IF(Foglio1!$H$15 <> \"\", Foglio1!$H$15 + S549*10^-3, NA())","v":{"$error":"#N/A"}}]
[4897,8.4963780517023171,{"$f":" IF(Foglio1!$C$11 <> \"\", 8.314472*Foglio1!$C$11*Foglio2!B550, NA())","v":21192.869223688042},{"$f":"IF(Foglio1!$H$11 <> \"\", Foglio1!$H$11 + C550*10^-3, NA())","v":-68.807130776311965},4897,8.4963780517023171,{"$f":" IF(Foglio1!$C$12 <> \"\", 8.314472*Foglio1!$C$12*Foglio2!F550, NA())","v":{"$error":"#N/A"}},{"$f":"IF(Foglio1!$H$12 <> \"\", Foglio1!$H$12 + G550*10^-3, NA())","v":{"$error":"#N/A"}},4897,8.4963780517023171,{"$f":" IF(Foglio1!$C$13 <> \"\", 8.314472*Foglio1!$C$13*Foglio2!J550, NA())","v":{"$error":"#N/A"}},{"$f":"IF(Foglio1!$H$13 <> \"\", Foglio1!$H$13 + K550*10^-3, NA())","v":{"$error":"#N/A"}},4897,8.4963780517023171,{"$f":" IF(Foglio1!$C$14 <> \"\", 8.314472*Foglio1!$C$14*Foglio2!N550, NA())","v":{"$error":"#N/A"}},{"$f":"IF(Foglio1!$H$14 <> \"\", Foglio1!$H$14 + O550*10^-3, NA())","v":{"$error":"#N/A"}},4897,8.4963780517023171,{"$f":" IF(Foglio1!$C$15 <> \"\", 8.314472*Foglio1!$C$15*Foglio2!R550, NA())","v":{"$error":"#N/A"}},{"$f":"IF(Foglio1!$H$15 <> \"\", Foglio1!$H$15 + S550*10^-3, NA())","v":{"$error":"#N/A"}}]
[4906,8.4982142248184349,{"$f":" IF(Foglio1!$C$11 <> \"\", 8.314472*Foglio1!$C$11*Foglio2!B551, NA())","v":21197.449266676376},{"$f":"IF(Foglio1!$H$11 <> \"\", Foglio1!$H$11 + C551*10^-3, NA())","v":-68.802550733323628},4906,8.4982142248184349,{"$f":" IF(Foglio1!$C$12 <> \"\", 8.314472*Foglio1!$C$12*Foglio2!F551, NA())","v":{"$error":"#N/A"}},{"$f":"IF(Foglio1!$H$12 <> \"\", Foglio1!$H$12 + G551*10^-3, NA())","v":{"$error":"#N/A"}},4906,8.4982142248184349,{"$f":" IF(Foglio1!$C$13 <> \"\", 8.314472*Foglio1!$C$13*Foglio2!J551, NA())","v":{"$error":"#N/A"}},{"$f":"IF(Foglio1!$H$13 <> \"\", Foglio1!$H$13 + K551*10^-3, NA())","v":{"$error":"#N/A"}},4906,8.4982142248184349,{"$f":" IF(Foglio1!$C$14 <> \"\", 8.314472*Foglio1!$C$14*Foglio2!N551, NA())","v":{"$error":"#N/A"}},{"$f":"IF(Foglio1!$H$14 <> \"\", Foglio1!$H$14 + O551*10^-3, NA())","v":{"$error":"#N/A"}},4906,8.4982142248184349,{"$f":" IF(Foglio1!$C$15 <> \"\", 8.314472*Foglio1!$C$15*Foglio2!R551, NA())","v":{"$error":"#N/A"}},{"$f":"IF(Foglio1!$H$15 <> \"\", Foglio1!$H$15 + S551*10^-3, NA())","v":{"$error":"#N/A"}}]
[4915,8.5000470325812678,{"$f":" IF(Foglio1!$C$11 <> \"\", 8.314472*Foglio1!$C$11*Foglio2!B552, NA())","v":21202.020915324014},{"$f":"IF(Foglio1!$H$11 <> \"\", Foglio1!$H$11 + C552*10^-3, NA())","v":-68.797979084675987},4915,8.5000470325812678,{"$f":" IF(Foglio1!$C$12 <> \"\", 8.314472*Foglio1!$C$12*Foglio2!F552, NA())","v":{"$error":"#N/A"}},{"$f":"IF(Foglio1!$H$12 <> \"\", Foglio1!$H$12 + G552*10^-3, NA())","v":{"$error":"#N/A"}},4915,8.5000470325812678,{"$f":" IF(Foglio1!$C$13 <> \"\", 8.314472*Foglio1!$C$13*Foglio2!J552, NA())","v":{"$error":"#N/A"}},{"$f":"IF(Foglio1!$H$13 <> \"\", Foglio1!$H$13 + K552*10^-3, NA())","v":{"$error":"#N/A"}},4915,8.5000470325812678,{"$f":" IF(Foglio1!$C$14 <> \"\", 8.314472*Foglio1!$C$14*Foglio2!N552, NA())","v":{"$error":"#N/A"}},{"$f":"IF(Foglio1!$H$14 <> \"\", Foglio1!$H$14 + O552*10^-3, NA())","v":{"$error":"#N/A"}},4915,8.5000470325812678,{"$f":" IF(Foglio1!$C$15 <> \"\", 8.314472*Foglio1!$C$15*Foglio2!R552, NA())","v":{"$error":"#N/A"}},{"$f":"IF(Foglio1!$H$15 <> \"\", Foglio1!$H$15 + S552*10^-3, NA())","v":{"$error":"#N/A"}}]
[4924,8.5018764873043438,{"$f":" IF(Foglio1!$C$11 <> \"\", 8.314472*Foglio1!$C$11*Foglio2!B553, NA())","v":21206.5842003451},{"$f":"IF(Foglio1!$H$11 <> \"\", Foglio1!$H$11 + C553*10^-3, NA())","v":-68.793415799654895},4924,8.5018764873043438,{"$f":" IF(Foglio1!$C$12 <> \"\", 8.314472*Foglio1!$C$12*Foglio2!F553, NA())","v":{"$error":"#N/A"}},{"$f":"IF(Foglio1!$H$12 <> \"\", Foglio1!$H$12 + G553*10^-3, NA())","v":{"$error":"#N/A"}},4924,8.5018764873043438,{"$f":" IF(Foglio1!$C$13 <> \"\", 8.314472*Foglio1!$C$13*Foglio2!J553, NA())","v":{"$error":"#N/A"}},{"$f":"IF(Foglio1!$H$13 <> \"\", Foglio1!$H$13 + K553*10^-3, NA())","v":{"$error":"#N/A"}},4924,8.5018764873043438,{"$f":" IF(Foglio1!$C$14 <> \"\", 8.314472*Foglio1!$C$14*Foglio2!N553, NA())","v":{"$error":"#N/A"}},{"$f":"IF(Foglio1!$H$14 <> \"\", Foglio1!$H$14 + O553*10^-3, NA())","v":{"$error":"#N/A"}},4924,8.5018764873043438,{"$f":" IF(Foglio1!$C$15 <> \"\", 8.314472*Foglio1!$C$15*Foglio2!R553, NA())","v":{"$error":"#N/A"}},{"$f":"IF(Foglio1!$H$15 <> \"\", Foglio1!$H$15 + S553*10^-3, NA())","v":{"$error":"#N/A"}}]
[4933,8.5037026012337389,{"$f":" IF(Foglio1!$C$11 <> \"\", 8.314472*Foglio1!$C$11*Foglio2!B554, NA())","v":21211.139152285527},{"$f":"IF(Foglio1!$H$11 <> \"\", Foglio1!$H$11 + C554*10^-3, NA())","v":-68.788860847714474},4933,8.5037026012337389,{"$f":" IF(Foglio1!$C$12 <> \"\", 8.314472*Foglio1!$C$12*Foglio2!F554, NA())","v":{"$error":"#N/A"}},{"$f":"IF(Foglio1!$H$12 <> \"\", Foglio1!$H$12 + G554*10^-3, NA())","v":{"$error":"#N/A"}},4933,8.5037026012337389,{"$f":" IF(Foglio1!$C$13 <> \"\", 8.314472*Foglio1!$C$13*Foglio2!J554, NA())","v":{"$error":"#N/A"}},{"$f":"IF(Foglio1!$H$13 <> \"\", Foglio1!$H$13 + K554*10^-3, NA())","v":{"$error":"#N/A"}},4933,8.5037026012337389,{"$f":" IF(Foglio1!$C$14 <> \"\", 8.314472*Foglio1!$C$14*Foglio2!N554, NA())","v":{"$error":"#N/A"}},{"$f":"IF(Foglio1!$H$14 <> \"\", Foglio1!$H$14 + O554*10^-3, NA())","v":{"$error":"#N/A"}},4933,8.5037026012337389,{"$f":" IF(Foglio1!$C$15 <> \"\", 8.314472*Foglio1!$C$15*Foglio2!R554, NA())","v":{"$error":"#N/A"}},{"$f":"IF(Foglio1!$H$15 <> \"\", Foglio1!$H$15 + S554*10^-3, NA())","v":{"$error":"#N/A"}}]
[4942,8.5055253865485554,{"$f":" IF(Foglio1!$C$11 <> \"\", 8.314472*Foglio1!$C$11*Foglio2!B555, NA())","v":21215.685801524145},{"$f":"IF(Foglio1!$H$11 <> \"\", Foglio1!$H$11 + C555*10^-3, NA())","v":-68.784314198475855},4942,8.5055253865485554,{"$f":" IF(Foglio1!$C$12 <> \"\", 8.314472*Foglio1!$C$12*Foglio2!F555, NA())","v":{"$error":"#N/A"}},{"$f":"IF(Foglio1!$H$12 <> \"\", Foglio1!$H$12 + G555*10^-3, NA())","v":{"$error":"#N/A"}},4942,8.5055253865485554,{"$f":" IF(Foglio1!$C$13 <> \"\", 8.314472*Foglio1!$C$13*Foglio2!J555, NA())","v":{"$error":"#N/A"}},{"$f":"IF(Foglio1!$H$13 <> \"\", Foglio1!$H$13 + K555*10^-3, NA())","v":{"$error":"#N/A"}},4942,8.5055253865485554,{"$f":" IF(Foglio1!$C$14 <> \"\", 8.314472*Foglio1!$C$14*Foglio2!N555, NA())","v":{"$error":"#N/A"}},{"$f":"IF(Foglio1!$H$14 <> \"\", Foglio1!$H$14 + O555*10^-3, NA())","v":{"$error":"#N/A"}},4942,8.5055253865485554,{"$f":" IF(Foglio1!$C$15 <> \"\", 8.314472*Foglio1!$C$15*Foglio2!R555, NA())","v":{"$error":"#N/A"}},{"$f":"IF(Foglio1!$H$15 <> \"\", Foglio1!$H$15 + S555*10^-3, NA())","v":{"$error":"#N/A"}}]
[4951,8.5073448553614224,{"$f":" IF(Foglio1!$C$11 <> \"\", 8.314472*Foglio1!$C$11*Foglio2!B556, NA())","v":21220.22417827398},{"$f":"IF(Foglio1!$H$11 <> \"\", Foglio1!$H$11 + C556*10^-3, NA())","v":-68.77977582172602},4951,8.5073448553614224,{"$f":" IF(Foglio1!$C$12 <> \"\", 8.314472*Foglio1!$C$12*Foglio2!F556, NA())","v":{"$error":"#N/A"}},{"$f":"IF(Foglio1!$H$12 <> \"\", Foglio1!$H$12 + G556*10^-3, NA())","v":{"$error":"#N/A"}},4951,8.5073448553614224,{"$f":" IF(Foglio1!$C$13 <> \"\", 8.314472*Foglio1!$C$13*Foglio2!J556, NA())","v":{"$error":"#N/A"}},{"$f":"IF(Foglio1!$H$13 <> \"\", Foglio1!$H$13 + K556*10^-3, NA())","v":{"$error":"#N/A"}},4951,8.5073448553614224,{"$f":" IF(Foglio1!$C$14 <> \"\", 8.314472*Foglio1!$C$14*Foglio2!N556, NA())","v":{"$error":"#N/A"}},{"$f":"IF(Foglio1!$H$14 <> \"\", Foglio1!$H$14 + O556*10^-3, NA())","v":{"$error":"#N/A"}},4951,8.5073448553614224,{"$f":" IF(Foglio1!$C$15 <> \"\", 8.314472*Foglio1!$C$15*Foglio2!R556, NA())","v":{"$error":"#N/A"}},{"$f":"IF(Foglio1!$H$15 <> \"\", Foglio1!$H$15 + S556*10^-3, NA())","v":{"$error":"#N/A"}}]
[4960,8.5091610197189738,{"$f":" IF(Foglio1!$C$11 <> \"\", 8.314472*Foglio1!$C$11*Foglio2!B557, NA())","v":21224.75431258346},{"$f":"IF(Foglio1!$H$11 <> \"\", Foglio1!$H$11 + C557*10^-3, NA())","v":-68.775245687416543},4960,8.5091610197189738,{"$f":" IF(Foglio1!$C$12 <> \"\", 8.314472*Foglio1!$C$12*Foglio2!F557, NA())","v":{"$error":"#N/A"}},{"$f":"IF(Foglio1!$H$12 <> \"\", Foglio1!$H$12 + G557*10^-3, NA())","v":{"$error":"#N/A"}},4960,8.5091610197189738,{"$f":" IF(Foglio1!$C$13 <> \"\", 8.314472*Foglio1!$C$13*Foglio2!J557, NA())","v":{"$error":"#N/A"}},{"$f":"IF(Foglio1!$H$13 <> \"\", Foglio1!$H$13 + K557*10^-3, NA())","v":{"$error":"#N/A"}},4960,8.5091610197189738,{"$f":" IF(Foglio1!$C$14 <> \"\", 8.314472*Foglio1!$C$14*Foglio2!N557, NA())","v":{"$error":"#N/A"}},{"$f":"IF(Foglio1!$H$14 <> \"\", Foglio1!$H$14 + O557*10^-3, NA())","v":{"$error":"#N/A"}},4960,8.5091610197189738,{"$f":" IF(Foglio1!$C$15 <> \"\", 8.314472*Foglio1!$C$15*Foglio2!R557, NA())","v":{"$error":"#N/A"}},{"$f":"IF(Foglio1!$H$15 <> \"\", Foglio1!$H$15 + S557*10^-3, NA())","v":{"$error":"#N/A"}}]
[4969,8.5109738916023208,{"$f":" IF(Foglio1!$C$11 <> \"\", 8.314472*Foglio1!$C$11*Foglio2!B558, NA())","v":21229.276234337562},{"$f":"IF(Foglio1!$H$11 <> \"\", Foglio1!$H$11 + C558*10^-3, NA())","v":-68.770723765662439},4969,8.5109738916023208,{"$f":" IF(Foglio1!$C$12 <> \"\", 8.314472*Foglio1!$C$12*Foglio2!F558, NA())","v":{"$error":"#N/A"}},{"$f":"IF(Foglio1!$H$12 <> \"\", Foglio1!$H$12 + G558*10^-3, NA())","v":{"$error":"#N/A"}},4969,8.5109738916023208,{"$f":" IF(Foglio1!$C$13 <> \"\", 8.314472*Foglio1!$C$13*Foglio2!J558, NA())","v":{"$error":"#N/A"}},{"$f":"IF(Foglio1!$H$13 <> \"\", Foglio1!$H$13 + K558*10^-3, NA())","v":{"$error":"#N/A"}},4969,8.5109738916023208,{"$f":" IF(Foglio1!$C$14 <> \"\", 8.314472*Foglio1!$C$14*Foglio2!N558, NA())","v":{"$error":"#N/A"}},{"$f":"IF(Foglio1!$H$14 <> \"\", Foglio1!$H$14 + O558*10^-3, NA())","v":{"$error":"#N/A"}},4969,8.5109738916023208,{"$f":" IF(Foglio1!$C$15 <> \"\", 8.314472*Foglio1!$C$15*Foglio2!R558, NA())","v":{"$error":"#N/A"}},{"$f":"IF(Foglio1!$H$15 <> \"\", Foglio1!$H$15 + S558*10^-3, NA())","v":{"$error":"#N/A"}}]
[4978,8.5127834829275368,{"$f":" IF(Foglio1!$C$11 <> \"\", 8.314472*Foglio1!$C$11*Foglio2!B559, NA())","v":21233.789973259045},{"$f":"IF(Foglio1!$H$11 <> \"\", Foglio1!$H$11 + C559*10^-3, NA())","v":-68.76621002674095},4978,8.5127834829275368,{"$f":" IF(Foglio1!$C$12 <> \"\", 8.314472*Foglio1!$C$12*Foglio2!F559, NA())","v":{"$error":"#N/A"}},{"$f":"IF(Foglio1!$H$12 <> \"\", Foglio1!$H$12 + G559*10^-3, NA())","v":{"$error":"#N/A"}},4978,8.5127834829275368,{"$f":" IF(Foglio1!$C$13 <> \"\", 8.314472*Foglio1!$C$13*Foglio2!J559, NA())","v":{"$error":"#N/A"}},{"$f":"IF(Foglio1!$H$13 <> \"\", Foglio1!$H$13 + K559*10^-3, NA())","v":{"$error":"#N/A"}},4978,8.5127834829275368,{"$f":" IF(Foglio1!$C$14 <> \"\", 8.314472*Foglio1!$C$14*Foglio2!N559, NA())","v":{"$error":"#N/A"}},{"$f":"IF(Foglio1!$H$14 <> \"\", Foglio1!$H$14 + O559*10^-3, NA())","v":{"$error":"#N/A"}},4978,8.5127834829275368,{"$f":" IF(Foglio1!$C$15 <> \"\", 8.314472*Foglio1!$C$15*Foglio2!R559, NA())","v":{"$error":"#N/A"}},{"$f":"IF(Foglio1!$H$15 <> \"\", Foglio1!$H$15 + S559*10^-3, NA())","v":{"$error":"#N/A"}}]
[4987,8.5145898055461231,{"$f":" IF(Foglio1!$C$11 <> \"\", 8.314472*Foglio1!$C$11*Foglio2!B560, NA())","v":21238.295558909605},{"$f":"IF(Foglio1!$H$11 <> \"\", Foglio1!$H$11 + C560*10^-3, NA())","v":-68.761704441090387},4987,8.5145898055461231,{"$f":" IF(Foglio1!$C$12 <> \"\", 8.314472*Foglio1!$C$12*Foglio2!F560, NA())","v":{"$error":"#N/A"}},{"$f":"IF(Foglio1!$H$12 <> \"\", Foglio1!$H$12 + G560*10^-3, NA())","v":{"$error":"#N/A"}},4987,8.5145898055461231,{"$f":" IF(Foglio1!$C$13 <> \"\", 8.314472*Foglio1!$C$13*Foglio2!J560, NA())","v":{"$error":"#N/A"}},{"$f":"IF(Foglio1!$H$13 <> \"\", Foglio1!$H$13 + K560*10^-3, NA())","v":{"$error":"#N/A"}},4987,8.5145898055461231,{"$f":" IF(Foglio1!$C$14 <> \"\", 8.314472*Foglio1!$C$14*Foglio2!N560, NA())","v":{"$error":"#N/A"}},{"$f":"IF(Foglio1!$H$14 <> \"\", Foglio1!$H$14 + O560*10^-3, NA())","v":{"$error":"#N/A"}},4987,8.5145898055461231,{"$f":" IF(Foglio1!$C$15 <> \"\", 8.314472*Foglio1!$C$15*Foglio2!R560, NA())","v":{"$error":"#N/A"}},{"$f":"IF(Foglio1!$H$15 <> \"\", Foglio1!$H$15 + S560*10^-3, NA())","v":{"$error":"#N/A"}}]
[4996,8.5163928712454684,{"$f":" IF(Foglio1!$C$11 <> \"\", 8.314472*Foglio1!$C$11*Foglio2!B561, NA())","v":21242.793020691017},{"$f":"IF(Foglio1!$H$11 <> \"\", Foglio1!$H$11 + C561*10^-3, NA())","v":-68.75720697930899},4996,8.5163928712454684,{"$f":" IF(Foglio1!$C$12 <> \"\", 8.314472*Foglio1!$C$12*Foglio2!F561, NA())","v":{"$error":"#N/A"}},{"$f":"IF(Foglio1!$H$12 <> \"\", Foglio1!$H$12 + G561*10^-3, NA())","v":{"$error":"#N/A"}},4996,8.5163928712454684,{"$f":" IF(Foglio1!$C$13 <> \"\", 8.314472*Foglio1!$C$13*Foglio2!J561, NA())","v":{"$error":"#N/A"}},{"$f":"IF(Foglio1!$H$13 <> \"\", Foglio1!$H$13 + K561*10^-3, NA())","v":{"$error":"#N/A"}},4996,8.5163928712454684,{"$f":" IF(Foglio1!$C$14 <> \"\", 8.314472*Foglio1!$C$14*Foglio2!N561, NA())","v":{"$error":"#N/A"}},{"$f":"IF(Foglio1!$H$14 <> \"\", Foglio1!$H$14 + O561*10^-3, NA())","v":{"$error":"#N/A"}},4996,8.5163928712454684,{"$f":" IF(Foglio1!$C$15 <> \"\", 8.314472*Foglio1!$C$15*Foglio2!R561, NA())","v":{"$error":"#N/A"}},{"$f":"IF(Foglio1!$H$15 <> \"\", Foglio1!$H$15 + S561*10^-3, NA())","v":{"$error":"#N/A"}}]
[5005,8.5181926917493218,{"$f":" IF(Foglio1!$C$11 <> \"\", 8.314472*Foglio1!$C$11*Foglio2!B562, NA())","v":21247.282387846313},{"$f":"IF(Foglio1!$H$11 <> \"\", Foglio1!$H$11 + C562*10^-3, NA())","v":-68.752717612153688},5005,8.5181926917493218,{"$f":" IF(Foglio1!$C$12 <> \"\", 8.314472*Foglio1!$C$12*Foglio2!F562, NA())","v":{"$error":"#N/A"}},{"$f":"IF(Foglio1!$H$12 <> \"\", Foglio1!$H$12 + G562*10^-3, NA())","v":{"$error":"#N/A"}},5005,8.5181926917493218,{"$f":" IF(Foglio1!$C$13 <> \"\", 8.314472*Foglio1!$C$13*Foglio2!J562, NA())","v":{"$error":"#N/A"}},{"$f":"IF(Foglio1!$H$13 <> \"\", Foglio1!$H$13 + K562*10^-3, NA())","v":{"$error":"#N/A"}},5005,8.5181926917493218,{"$f":" IF(Foglio1!$C$14 <> \"\", 8.314472*Foglio1!$C$14*Foglio2!N562, NA())","v":{"$error":"#N/A"}},{"$f":"IF(Foglio1!$H$14 <> \"\", Foglio1!$H$14 + O562*10^-3, NA())","v":{"$error":"#N/A"}},5005,8.5181926917493218,{"$f":" IF(Foglio1!$C$15 <> \"\", 8.314472*Foglio1!$C$15*Foglio2!R562, NA())","v":{"$error":"#N/A"}},{"$f":"IF(Foglio1!$H$15 <> \"\", Foglio1!$H$15 + S562*10^-3, NA())","v":{"$error":"#N/A"}}]
[5014,8.5199892787182385,{"$f":" IF(Foglio1!$C$11 <> \"\", 8.314472*Foglio1!$C$11*Foglio2!B563, NA())","v":21251.763689460899},{"$f":"IF(Foglio1!$H$11 <> \"\", Foglio1!$H$11 + C563*10^-3, NA())","v":-68.748236310539099},5014,8.5199892787182385,{"$f":" IF(Foglio1!$C$12 <> \"\", 8.314472*Foglio1!$C$12*Foglio2!F563, NA())","v":{"$error":"#N/A"}},{"$f":"IF(Foglio1!$H$12 <> \"\", Foglio1!$H$12 + G563*10^-3, NA())","v":{"$error":"#N/A"}},5014,8.5199892787182385,{"$f":" IF(Foglio1!$C$13 <> \"\", 8.314472*Foglio1!$C$13*Foglio2!J563, NA())","v":{"$error":"#N/A"}},{"$f":"IF(Foglio1!$H$13 <> \"\", Foglio1!$H$13 + K563*10^-3, NA())","v":{"$error":"#N/A"}},5014,8.5199892787182385,{"$f":" IF(Foglio1!$C$14 <> \"\", 8.314472*Foglio1!$C$14*Foglio2!N563, NA())","v":{"$error":"#N/A"}},{"$f":"IF(Foglio1!$H$14 <> \"\", Foglio1!$H$14 + O563*10^-3, NA())","v":{"$error":"#N/A"}},5014,8.5199892787182385,{"$f":" IF(Foglio1!$C$15 <> \"\", 8.314472*Foglio1!$C$15*Foglio2!R563, NA())","v":{"$error":"#N/A"}},{"$f":"IF(Foglio1!$H$15 <> \"\", Foglio1!$H$15 + S563*10^-3, NA())","v":{"$error":"#N/A"}}]
[5023,8.5217826437500452,{"$f":" IF(Foglio1!$C$11 <> \"\", 8.314472*Foglio1!$C$11*Foglio2!B564, NA())","v":21256.236954463719},{"$f":"IF(Foglio1!$H$11 <> \"\", Foglio1!$H$11 + C564*10^-3, NA())","v":-68.743763045536284},5023,8.5217826437500452,{"$f":" IF(Foglio1!$C$12 <> \"\", 8.314472*Foglio1!$C$12*Foglio2!F564, NA())","v":{"$error":"#N/A"}},{"$f":"IF(Foglio1!$H$12 <> \"\", Foglio1!$H$12 + G564*10^-3, NA())","v":{"$error":"#N/A"}},5023,8.5217826437500452,{"$f":" IF(Foglio1!$C$13 <> \"\", 8.314472*Foglio1!$C$13*Foglio2!J564, NA())","v":{"$error":"#N/A"}},{"$f":"IF(Foglio1!$H$13 <> \"\", Foglio1!$H$13 + K564*10^-3, NA())","v":{"$error":"#N/A"}},5023,8.5217826437500452,{"$f":" IF(Foglio1!$C$14 <> \"\", 8.314472*Foglio1!$C$14*Foglio2!N564, NA())","v":{"$error":"#N/A"}},{"$f":"IF(Foglio1!$H$14 <> \"\", Foglio1!$H$14 + O564*10^-3, NA())","v":{"$error":"#N/A"}},5023,8.5217826437500452,{"$f":" IF(Foglio1!$C$15 <> \"\", 8.314472*Foglio1!$C$15*Foglio2!R564, NA())","v":{"$error":"#N/A"}},{"$f":"IF(Foglio1!$H$15 <> \"\", Foglio1!$H$15 + S564*10^-3, NA())","v":{"$error":"#N/A"}}]
[5032,8.5235727983802771,{"$f":" IF(Foglio1!$C$11 <> \"\", 8.314472*Foglio1!$C$11*Foglio2!B565, NA())","v":21260.702211628341},{"$f":"IF(Foglio1!$H$11 <> \"\", Foglio1!$H$11 + C565*10^-3, NA())","v":-68.739297788371658},5032,8.5235727983802771,{"$f":" IF(Foglio1!$C$12 <> \"\", 8.314472*Foglio1!$C$12*Foglio2!F565, NA())","v":{"$error":"#N/A"}},{"$f":"IF(Foglio1!$H$12 <> \"\", Foglio1!$H$12 + G565*10^-3, NA())","v":{"$error":"#N/A"}},5032,8.5235727983802771,{"$f":" IF(Foglio1!$C$13 <> \"\", 8.314472*Foglio1!$C$13*Foglio2!J565, NA())","v":{"$error":"#N/A"}},{"$f":"IF(Foglio1!$H$13 <> \"\", Foglio1!$H$13 + K565*10^-3, NA())","v":{"$error":"#N/A"}},5032,8.5235727983802771,{"$f":" IF(Foglio1!$C$14 <> \"\", 8.314472*Foglio1!$C$14*Foglio2!N565, NA())","v":{"$error":"#N/A"}},{"$f":"IF(Foglio1!$H$14 <> \"\", Foglio1!$H$14 + O565*10^-3, NA())","v":{"$error":"#N/A"}},5032,8.5235727983802771,{"$f":" IF(Foglio1!$C$15 <> \"\", 8.314472*Foglio1!$C$15*Foglio2!R565, NA())","v":{"$error":"#N/A"}},{"$f":"IF(Foglio1!$H$15 <> \"\", Foglio1!$H$15 + S565*10^-3, NA())","v":{"$error":"#N/A"}}]
[5041,8.5253597540826309,{"$f":" IF(Foglio1!$C$11 <> \"\", 8.314472*Foglio1!$C$11*Foglio2!B566, NA())","v":21265.159489574078},{"$f":"IF(Foglio1!$H$11 <> \"\", Foglio1!$H$11 + C566*10^-3, NA())","v":-68.734840510425926},5041,8.5253597540826309,{"$f":" IF(Foglio1!$C$12 <> \"\", 8.314472*Foglio1!$C$12*Foglio2!F566, NA())","v":{"$error":"#N/A"}},{"$f":"IF(Foglio1!$H$12 <> \"\", Foglio1!$H$12 + G566*10^-3, NA())","v":{"$error":"#N/A"}},5041,8.5253597540826309,{"$f":" IF(Foglio1!$C$13 <> \"\", 8.314472*Foglio1!$C$13*Foglio2!J566, NA())","v":{"$error":"#N/A"}},{"$f":"IF(Foglio1!$H$13 <> \"\", Foglio1!$H$13 + K566*10^-3, NA())","v":{"$error":"#N/A"}},5041,8.5253597540826309,{"$f":" IF(Foglio1!$C$14 <> \"\", 8.314472*Foglio1!$C$14*Foglio2!N566, NA())","v":{"$error":"#N/A"}},{"$f":"IF(Foglio1!$H$14 <> \"\", Foglio1!$H$14 + O566*10^-3, NA())","v":{"$error":"#N/A"}},5041,8.5253597540826309,{"$f":" IF(Foglio1!$C$15 <> \"\", 8.314472*Foglio1!$C$15*Foglio2!R566, NA())","v":{"$error":"#N/A"}},{"$f":"IF(Foglio1!$H$15 <> \"\", Foglio1!$H$15 + S566*10^-3, NA())","v":{"$error":"#N/A"}}]
[5050,8.5271435222694052,{"$f":" IF(Foglio1!$C$11 <> \"\", 8.314472*Foglio1!$C$11*Foglio2!B567, NA())","v":21269.608816767104},{"$f":"IF(Foglio1!$H$11 <> \"\", Foglio1!$H$11 + C567*10^-3, NA())","v":-68.730391183232896},5050,8.5271435222694052,{"$f":" IF(Foglio1!$C$12 <> \"\", 8.314472*Foglio1!$C$12*Foglio2!F567, NA())","v":{"$error":"#N/A"}},{"$f":"IF(Foglio1!$H$12 <> \"\", Foglio1!$H$12 + G567*10^-3, NA())","v":{"$error":"#N/A"}},5050,8.5271435222694052,{"$f":" IF(Foglio1!$C$13 <> \"\", 8.314472*Foglio1!$C$13*Foglio2!J567, NA())","v":{"$error":"#N/A"}},{"$f":"IF(Foglio1!$H$13 <> \"\", Foglio1!$H$13 + K567*10^-3, NA())","v":{"$error":"#N/A"}},5050,8.5271435222694052,{"$f":" IF(Foglio1!$C$14 <> \"\", 8.314472*Foglio1!$C$14*Foglio2!N567, NA())","v":{"$error":"#N/A"}},{"$f":"IF(Foglio1!$H$14 <> \"\", Foglio1!$H$14 + O567*10^-3, NA())","v":{"$error":"#N/A"}},5050,8.5271435222694052,{"$f":" IF(Foglio1!$C$15 <> \"\", 8.314472*Foglio1!$C$15*Foglio2!R567, NA())","v":{"$error":"#N/A"}},{"$f":"IF(Foglio1!$H$15 <> \"\", Foglio1!$H$15 + S567*10^-3, NA())","v":{"$error":"#N/A"}}]
[5059,8.5289241142919359,{"$f":" IF(Foglio1!$C$11 <> \"\", 8.314472*Foglio1!$C$11*Foglio2!B568, NA())","v":21274.050221521531},{"$f":"IF(Foglio1!$H$11 <> \"\", Foglio1!$H$11 + C568*10^-3, NA())","v":-68.725949778478466},5059,8.5289241142919359,{"$f":" IF(Foglio1!$C$12 <> \"\", 8.314472*Foglio1!$C$12*Foglio2!F568, NA())","v":{"$error":"#N/A"}},{"$f":"IF(Foglio1!$H$12 <> \"\", Foglio1!$H$12 + G568*10^-3, NA())","v":{"$error":"#N/A"}},5059,8.5289241142919359,{"$f":" IF(Foglio1!$C$13 <> \"\", 8.314472*Foglio1!$C$13*Foglio2!J568, NA())","v":{"$error":"#N/A"}},{"$f":"IF(Foglio1!$H$13 <> \"\", Foglio1!$H$13 + K568*10^-3, NA())","v":{"$error":"#N/A"}},5059,8.5289241142919359,{"$f":" IF(Foglio1!$C$14 <> \"\", 8.314472*Foglio1!$C$14*Foglio2!N568, NA())","v":{"$error":"#N/A"}},{"$f":"IF(Foglio1!$H$14 <> \"\", Foglio1!$H$14 + O568*10^-3, NA())","v":{"$error":"#N/A"}},5059,8.5289241142919359,{"$f":" IF(Foglio1!$C$15 <> \"\", 8.314472*Foglio1!$C$15*Foglio2!R568, NA())","v":{"$error":"#N/A"}},{"$f":"IF(Foglio1!$H$15 <> \"\", Foglio1!$H$15 + S568*10^-3, NA())","v":{"$error":"#N/A"}}]
[5068,8.5307015414410294,{"$f":" IF(Foglio1!$C$11 <> \"\", 8.314472*Foglio1!$C$11*Foglio2!B569, NA())","v":21278.483732000484},{"$f":"IF(Foglio1!$H$11 <> \"\", Foglio1!$H$11 + C569*10^-3, NA())","v":-68.721516267999519},5068,8.5307015414410294,{"$f":" IF(Foglio1!$C$12 <> \"\", 8.314472*Foglio1!$C$12*Foglio2!F569, NA())","v":{"$error":"#N/A"}},{"$f":"IF(Foglio1!$H$12 <> \"\", Foglio1!$H$12 + G569*10^-3, NA())","v":{"$error":"#N/A"}},5068,8.5307015414410294,{"$f":" IF(Foglio1!$C$13 <> \"\", 8.314472*Foglio1!$C$13*Foglio2!J569, NA())","v":{"$error":"#N/A"}},{"$f":"IF(Foglio1!$H$13 <> \"\", Foglio1!$H$13 + K569*10^-3, NA())","v":{"$error":"#N/A"}},5068,8.5307015414410294,{"$f":" IF(Foglio1!$C$14 <> \"\", 8.314472*Foglio1!$C$14*Foglio2!N569, NA())","v":{"$error":"#N/A"}},{"$f":"IF(Foglio1!$H$14 <> \"\", Foglio1!$H$14 + O569*10^-3, NA())","v":{"$error":"#N/A"}},5068,8.5307015414410294,{"$f":" IF(Foglio1!$C$15 <> \"\", 8.314472*Foglio1!$C$15*Foglio2!R569, NA())","v":{"$error":"#N/A"}},{"$f":"IF(Foglio1!$H$15 <> \"\", Foglio1!$H$15 + S569*10^-3, NA())","v":{"$error":"#N/A"}}]
[5077,8.5324758149473947,{"$f":" IF(Foglio1!$C$11 <> \"\", 8.314472*Foglio1!$C$11*Foglio2!B570, NA())","v":21282.909376217191},{"$f":"IF(Foglio1!$H$11 <> \"\", Foglio1!$H$11 + C570*10^-3, NA())","v":-68.717090623782809},5077,8.5324758149473947,{"$f":" IF(Foglio1!$C$12 <> \"\", 8.314472*Foglio1!$C$12*Foglio2!F570, NA())","v":{"$error":"#N/A"}},{"$f":"IF(Foglio1!$H$12 <> \"\", Foglio1!$H$12 + G570*10^-3, NA())","v":{"$error":"#N/A"}},5077,8.5324758149473947,{"$f":" IF(Foglio1!$C$13 <> \"\", 8.314472*Foglio1!$C$13*Foglio2!J570, NA())","v":{"$error":"#N/A"}},{"$f":"IF(Foglio1!$H$13 <> \"\", Foglio1!$H$13 + K570*10^-3, NA())","v":{"$error":"#N/A"}},5077,8.5324758149473947,{"$f":" IF(Foglio1!$C$14 <> \"\", 8.314472*Foglio1!$C$14*Foglio2!N570, NA())","v":{"$error":"#N/A"}},{"$f":"IF(Foglio1!$H$14 <> \"\", Foglio1!$H$14 + O570*10^-3, NA())","v":{"$error":"#N/A"}},5077,8.5324758149473947,{"$f":" IF(Foglio1!$C$15 <> \"\", 8.314472*Foglio1!$C$15*Foglio2!R570, NA())","v":{"$error":"#N/A"}},{"$f":"IF(Foglio1!$H$15 <> \"\", Foglio1!$H$15 + S570*10^-3, NA())","v":{"$error":"#N/A"}}]
[5086,8.5342469459820656,{"$f":" IF(Foglio1!$C$11 <> \"\", 8.314472*Foglio1!$C$11*Foglio2!B571, NA())","v":21287.327182036021},{"$f":"IF(Foglio1!$H$11 <> \"\", Foglio1!$H$11 + C571*10^-3, NA())","v":-68.712672817963977},5086,8.5342469459820656,{"$f":" IF(Foglio1!$C$12 <> \"\", 8.314472*Foglio1!$C$12*Foglio2!F571, NA())","v":{"$error":"#N/A"}},{"$f":"IF(Foglio1!$H$12 <> \"\", Foglio1!$H$12 + G571*10^-3, NA())","v":{"$error":"#N/A"}},5086,8.5342469459820656,{"$f":" IF(Foglio1!$C$13 <> \"\", 8.314472*Foglio1!$C$13*Foglio2!J571, NA())","v":{"$error":"#N/A"}},{"$f":"IF(Foglio1!$H$13 <> \"\", Foglio1!$H$13 + K571*10^-3, NA())","v":{"$error":"#N/A"}},5086,8.5342469459820656,{"$f":" IF(Foglio1!$C$14 <> \"\", 8.314472*Foglio1!$C$14*Foglio2!N571, NA())","v":{"$error":"#N/A"}},{"$f":"IF(Foglio1!$H$14 <> \"\", Foglio1!$H$14 + O571*10^-3, NA())","v":{"$error":"#N/A"}},5086,8.5342469459820656,{"$f":" IF(Foglio1!$C$15 <> \"\", 8.314472*Foglio1!$C$15*Foglio2!R571, NA())","v":{"$error":"#N/A"}},{"$f":"IF(Foglio1!$H$15 <> \"\", Foglio1!$H$15 + S571*10^-3, NA())","v":{"$error":"#N/A"}}]
[5095,8.5360149456568255,{"$f":" IF(Foglio1!$C$11 <> \"\", 8.314472*Foglio1!$C$11*Foglio2!B572, NA())","v":21291.73717717356},{"$f":"IF(Foglio1!$H$11 <> \"\", Foglio1!$H$11 + C572*10^-3, NA())","v":-68.708262822826441},5095,8.5360149456568255,{"$f":" IF(Foglio1!$C$12 <> \"\", 8.314472*Foglio1!$C$12*Foglio2!F572, NA())","v":{"$error":"#N/A"}},{"$f":"IF(Foglio1!$H$12 <> \"\", Foglio1!$H$12 + G572*10^-3, NA())","v":{"$error":"#N/A"}},5095,8.5360149456568255,{"$f":" IF(Foglio1!$C$13 <> \"\", 8.314472*Foglio1!$C$13*Foglio2!J572, NA())","v":{"$error":"#N/A"}},{"$f":"IF(Foglio1!$H$13 <> \"\", Foglio1!$H$13 + K572*10^-3, NA())","v":{"$error":"#N/A"}},5095,8.5360149456568255,{"$f":" IF(Foglio1!$C$14 <> \"\", 8.314472*Foglio1!$C$14*Foglio2!N572, NA())","v":{"$error":"#N/A"}},{"$f":"IF(Foglio1!$H$14 <> \"\", Foglio1!$H$14 + O572*10^-3, NA())","v":{"$error":"#N/A"}},5095,8.5360149456568255,{"$f":" IF(Foglio1!$C$15 <> \"\", 8.314472*Foglio1!$C$15*Foglio2!R572, NA())","v":{"$error":"#N/A"}},{"$f":"IF(Foglio1!$H$15 <> \"\", Foglio1!$H$15 + S572*10^-3, NA())","v":{"$error":"#N/A"}}]
[5104,8.5377798250246251,{"$f":" IF(Foglio1!$C$11 <> \"\", 8.314472*Foglio1!$C$11*Foglio2!B573, NA())","v":21296.139389199645},{"$f":"IF(Foglio1!$H$11 <> \"\", Foglio1!$H$11 + C573*10^-3, NA())","v":-68.703860610800348},5104,8.5377798250246251,{"$f":" IF(Foglio1!$C$12 <> \"\", 8.314472*Foglio1!$C$12*Foglio2!F573, NA())","v":{"$error":"#N/A"}},{"$f":"IF(Foglio1!$H$12 <> \"\", Foglio1!$H$12 + G573*10^-3, NA())","v":{"$error":"#N/A"}},5104,8.5377798250246251,{"$f":" IF(Foglio1!$C$13 <> \"\", 8.314472*Foglio1!$C$13*Foglio2!J573, NA())","v":{"$error":"#N/A"}},{"$f":"IF(Foglio1!$H$13 <> \"\", Foglio1!$H$13 + K573*10^-3, NA())","v":{"$error":"#N/A"}},5104,8.5377798250246251,{"$f":" IF(Foglio1!$C$14 <> \"\", 8.314472*Foglio1!$C$14*Foglio2!N573, NA())","v":{"$error":"#N/A"}},{"$f":"IF(Foglio1!$H$14 <> \"\", Foglio1!$H$14 + O573*10^-3, NA())","v":{"$error":"#N/A"}},5104,8.5377798250246251,{"$f":" IF(Foglio1!$C$15 <> \"\", 8.314472*Foglio1!$C$15*Foglio2!R573, NA())","v":{"$error":"#N/A"}},{"$f":"IF(Foglio1!$H$15 <> \"\", Foglio1!$H$15 + S573*10^-3, NA())","v":{"$error":"#N/A"}}]
[5113,8.5395415950799993,{"$f":" IF(Foglio1!$C$11 <> \"\", 8.314472*Foglio1!$C$11*Foglio2!B574, NA())","v":21300.533845538401},{"$f":"IF(Foglio1!$H$11 <> \"\", Foglio1!$H$11 + C574*10^-3, NA())","v":-68.699466154461604},5113,8.5395415950799993,{"$f":" IF(Foglio1!$C$12 <> \"\", 8.314472*Foglio1!$C$12*Foglio2!F574, NA())","v":{"$error":"#N/A"}},{"$f":"IF(Foglio1!$H$12 <> \"\", Foglio1!$H$12 + G574*10^-3, NA())","v":{"$error":"#N/A"}},5113,8.5395415950799993,{"$f":" IF(Foglio1!$C$13 <> \"\", 8.314472*Foglio1!$C$13*Foglio2!J574, NA())","v":{"$error":"#N/A"}},{"$f":"IF(Foglio1!$H$13 <> \"\", Foglio1!$H$13 + K574*10^-3, NA())","v":{"$error":"#N/A"}},5113,8.5395415950799993,{"$f":" IF(Foglio1!$C$14 <> \"\", 8.314472*Foglio1!$C$14*Foglio2!N574, NA())","v":{"$error":"#N/A"}},{"$f":"IF(Foglio1!$H$14 <> \"\", Foglio1!$H$14 + O574*10^-3, NA())","v":{"$error":"#N/A"}},5113,8.5395415950799993,{"$f":" IF(Foglio1!$C$15 <> \"\", 8.314472*Foglio1!$C$15*Foglio2!R574, NA())","v":{"$error":"#N/A"}},{"$f":"IF(Foglio1!$H$15 <> \"\", Foglio1!$H$15 + S574*10^-3, NA())","v":{"$error":"#N/A"}}]
[5122,8.5413002667594711,{"$f":" IF(Foglio1!$C$11 <> \"\", 8.314472*Foglio1!$C$11*Foglio2!B575, NA())","v":21304.920573469248},{"$f":"IF(Foglio1!$H$11 <> \"\", Foglio1!$H$11 + C575*10^-3, NA())","v":-68.695079426530754},5122,8.5413002667594711,{"$f":" IF(Foglio1!$C$12 <> \"\", 8.314472*Foglio1!$C$12*Foglio2!F575, NA())","v":{"$error":"#N/A"}},{"$f":"IF(Foglio1!$H$12 <> \"\", Foglio1!$H$12 + G575*10^-3, NA())","v":{"$error":"#N/A"}},5122,8.5413002667594711,{"$f":" IF(Foglio1!$C$13 <> \"\", 8.314472*Foglio1!$C$13*Foglio2!J575, NA())","v":{"$error":"#N/A"}},{"$f":"IF(Foglio1!$H$13 <> \"\", Foglio1!$H$13 + K575*10^-3, NA())","v":{"$error":"#N/A"}},5122,8.5413002667594711,{"$f":" IF(Foglio1!$C$14 <> \"\", 8.314472*Foglio1!$C$14*Foglio2!N575, NA())","v":{"$error":"#N/A"}},{"$f":"IF(Foglio1!$H$14 <> \"\", Foglio1!$H$14 + O575*10^-3, NA())","v":{"$error":"#N/A"}},5122,8.5413002667594711,{"$f":" IF(Foglio1!$C$15 <> \"\", 8.314472*Foglio1!$C$15*Foglio2!R575, NA())","v":{"$error":"#N/A"}},{"$f":"IF(Foglio1!$H$15 <> \"\", Foglio1!$H$15 + S575*10^-3, NA())","v":{"$error":"#N/A"}}]
[5131,8.5430558509419647,{"$f":" IF(Foglio1!$C$11 <> \"\", 8.314472*Foglio1!$C$11*Foglio2!B576, NA())","v":21309.299600127943},{"$f":"IF(Foglio1!$H$11 <> \"\", Foglio1!$H$11 + C576*10^-3, NA())","v":-68.690700399872057},5131,8.5430558509419647,{"$f":" IF(Foglio1!$C$12 <> \"\", 8.314472*Foglio1!$C$12*Foglio2!F576, NA())","v":{"$error":"#N/A"}},{"$f":"IF(Foglio1!$H$12 <> \"\", Foglio1!$H$12 + G576*10^-3, NA())","v":{"$error":"#N/A"}},5131,8.5430558509419647,{"$f":" IF(Foglio1!$C$13 <> \"\", 8.314472*Foglio1!$C$13*Foglio2!J576, NA())","v":{"$error":"#N/A"}},{"$f":"IF(Foglio1!$H$13 <> \"\", Foglio1!$H$13 + K576*10^-3, NA())","v":{"$error":"#N/A"}},5131,8.5430558509419647,{"$f":" IF(Foglio1!$C$14 <> \"\", 8.314472*Foglio1!$C$14*Foglio2!N576, NA())","v":{"$error":"#N/A"}},{"$f":"IF(Foglio1!$H$14 <> \"\", Foglio1!$H$14 + O576*10^-3, NA())","v":{"$error":"#N/A"}},5131,8.5430558509419647,{"$f":" IF(Foglio1!$C$15 <> \"\", 8.314472*Foglio1!$C$15*Foglio2!R576, NA())","v":{"$error":"#N/A"}},{"$f":"IF(Foglio1!$H$15 <> \"\", Foglio1!$H$15 + S576*10^-3, NA())","v":{"$error":"#N/A"}}]
[5140,8.5448083584492114,{"$f":" IF(Foglio1!$C$11 <> \"\", 8.314472*Foglio1!$C$11*Foglio2!B577, NA())","v":21313.670952507582},{"$f":"IF(Foglio1!$H$11 <> \"\", Foglio1!$H$11 + C577*10^-3, NA())","v":-68.686329047492421},5140,8.5448083584492114,{"$f":" IF(Foglio1!$C$12 <> \"\", 8.314472*Foglio1!$C$12*Foglio2!F577, NA())","v":{"$error":"#N/A"}},{"$f":"IF(Foglio1!$H$12 <> \"\", Foglio1!$H$12 + G577*10^-3, NA())","v":{"$error":"#N/A"}},5140,8.5448083584492114,{"$f":" IF(Foglio1!$C$13 <> \"\", 8.314472*Foglio1!$C$13*Foglio2!J577, NA())","v":{"$error":"#N/A"}},{"$f":"IF(Foglio1!$H$13 <> \"\", Foglio1!$H$13 + K577*10^-3, NA())","v":{"$error":"#N/A"}},5140,8.5448083584492114,{"$f":" IF(Foglio1!$C$14 <> \"\", 8.314472*Foglio1!$C$14*Foglio2!N577, NA())","v":{"$error":"#N/A"}},{"$f":"IF(Foglio1!$H$14 <> \"\", Foglio1!$H$14 + O577*10^-3, NA())","v":{"$error":"#N/A"}},5140,8.5448083584492114,{"$f":" IF(Foglio1!$C$15 <> \"\", 8.314472*Foglio1!$C$15*Foglio2!R577, NA())","v":{"$error":"#N/A"}},{"$f":"IF(Foglio1!$H$15 <> \"\", Foglio1!$H$15 + S577*10^-3, NA())","v":{"$error":"#N/A"}}]
[5149,8.5465578000461413,{"$f":" IF(Foglio1!$C$11 <> \"\", 8.314472*Foglio1!$C$11*Foglio2!B578, NA())","v":21318.034657459575},{"$f":"IF(Foglio1!$H$11 <> \"\", Foglio1!$H$11 + C578*10^-3, NA())","v":-68.681965342540423},5149,8.5465578000461413,{"$f":" IF(Foglio1!$C$12 <> \"\", 8.314472*Foglio1!$C$12*Foglio2!F578, NA())","v":{"$error":"#N/A"}},{"$f":"IF(Foglio1!$H$12 <> \"\", Foglio1!$H$12 + G578*10^-3, NA())","v":{"$error":"#N/A"}},5149,8.5465578000461413,{"$f":" IF(Foglio1!$C$13 <> \"\", 8.314472*Foglio1!$C$13*Foglio2!J578, NA())","v":{"$error":"#N/A"}},{"$f":"IF(Foglio1!$H$13 <> \"\", Foglio1!$H$13 + K578*10^-3, NA())","v":{"$error":"#N/A"}},5149,8.5465578000461413,{"$f":" IF(Foglio1!$C$14 <> \"\", 8.314472*Foglio1!$C$14*Foglio2!N578, NA())","v":{"$error":"#N/A"}},{"$f":"IF(Foglio1!$H$14 <> \"\", Foglio1!$H$14 + O578*10^-3, NA())","v":{"$error":"#N/A"}},5149,8.5465578000461413,{"$f":" IF(Foglio1!$C$15 <> \"\", 8.314472*Foglio1!$C$15*Foglio2!R578, NA())","v":{"$error":"#N/A"}},{"$f":"IF(Foglio1!$H$15 <> \"\", Foglio1!$H$15 + S578*10^-3, NA())","v":{"$error":"#N/A"}}]
[5158,{"$f":"LN(A579)","v":8.5483041864412908},{"$f":" IF(Foglio1!$C$11 <> \"\", 8.314472*Foglio1!$C$11*Foglio2!B579, NA())","v":21322.390741694668},{"$f":"IF(Foglio1!$H$11 <> \"\", Foglio1!$H$11 + C579*10^-3, NA())","v":-68.677609258305324},5158,{"$f":"LN(E579)","v":8.5483041864412908},{"$f":" IF(Foglio1!$C$12 <> \"\", 8.314472*Foglio1!$C$12*Foglio2!F579, NA())","v":{"$error":"#N/A"}},{"$f":"IF(Foglio1!$H$12 <> \"\", Foglio1!$H$12 + G579*10^-3, NA())","v":{"$error":"#N/A"}},5158,{"$f":"LN(I579)","v":8.5483041864412908},{"$f":" IF(Foglio1!$C$13 <> \"\", 8.314472*Foglio1!$C$13*Foglio2!J579, NA())","v":{"$error":"#N/A"}},{"$f":"IF(Foglio1!$H$13 <> \"\", Foglio1!$H$13 + K579*10^-3, NA())","v":{"$error":"#N/A"}},5158,{"$f":"LN(M579)","v":8.5483041864412908},{"$f":" IF(Foglio1!$C$14 <> \"\", 8.314472*Foglio1!$C$14*Foglio2!N579, NA())","v":{"$error":"#N/A"}},{"$f":"IF(Foglio1!$H$14 <> \"\", Foglio1!$H$14 + O579*10^-3, NA())","v":{"$error":"#N/A"}},5158,{"$f":"LN(Q579)","v":8.5483041864412908},{"$f":" IF(Foglio1!$C$15 <> \"\", 8.314472*Foglio1!$C$15*Foglio2!R579, NA())","v":{"$error":"#N/A"}},{"$f":"IF(Foglio1!$H$15 <> \"\", Foglio1!$H$15 + S579*10^-3, NA())","v":{"$error":"#N/A"}}]
[5167,8.550047528287184,{"$f":" IF(Foglio1!$C$11 <> \"\", 8.314472*Foglio1!$C$11*Foglio2!B580, NA())","v":21326.7392317839},{"$f":"IF(Foglio1!$H$11 <> \"\", Foglio1!$H$11 + C580*10^-3, NA())","v":-68.673260768216096},5167,8.550047528287184,{"$f":" IF(Foglio1!$C$12 <> \"\", 8.314472*Foglio1!$C$12*Foglio2!F580, NA())","v":{"$error":"#N/A"}},{"$f":"IF(Foglio1!$H$12 <> \"\", Foglio1!$H$12 + G580*10^-3, NA())","v":{"$error":"#N/A"}},5167,8.550047528287184,{"$f":" IF(Foglio1!$C$13 <> \"\", 8.314472*Foglio1!$C$13*Foglio2!J580, NA())","v":{"$error":"#N/A"}},{"$f":"IF(Foglio1!$H$13 <> \"\", Foglio1!$H$13 + K580*10^-3, NA())","v":{"$error":"#N/A"}},5167,8.550047528287184,{"$f":" IF(Foglio1!$C$14 <> \"\", 8.314472*Foglio1!$C$14*Foglio2!N580, NA())","v":{"$error":"#N/A"}},{"$f":"IF(Foglio1!$H$14 <> \"\", Foglio1!$H$14 + O580*10^-3, NA())","v":{"$error":"#N/A"}},5167,8.550047528287184,{"$f":" IF(Foglio1!$C$15 <> \"\", 8.314472*Foglio1!$C$15*Foglio2!R580, NA())","v":{"$error":"#N/A"}},{"$f":"IF(Foglio1!$H$15 <> \"\", Foglio1!$H$15 + S580*10^-3, NA())","v":{"$error":"#N/A"}}]
[5176,8.5517878361807362,{"$f":" IF(Foglio1!$C$11 <> \"\", 8.314472*Foglio1!$C$11*Foglio2!B581, NA())","v":21331.080154159597},{"$f":"IF(Foglio1!$H$11 <> \"\", Foglio1!$H$11 + C581*10^-3, NA())","v":-68.668919845840406},5176,8.5517878361807362,{"$f":" IF(Foglio1!$C$12 <> \"\", 8.314472*Foglio1!$C$12*Foglio2!F581, NA())","v":{"$error":"#N/A"}},{"$f":"IF(Foglio1!$H$12 <> \"\", Foglio1!$H$12 + G581*10^-3, NA())","v":{"$error":"#N/A"}},5176,8.5517878361807362,{"$f":" IF(Foglio1!$C$13 <> \"\", 8.314472*Foglio1!$C$13*Foglio2!J581, NA())","v":{"$error":"#N/A"}},{"$f":"IF(Foglio1!$H$13 <> \"\", Foglio1!$H$13 + K581*10^-3, NA())","v":{"$error":"#N/A"}},5176,8.5517878361807362,{"$f":" IF(Foglio1!$C$14 <> \"\", 8.314472*Foglio1!$C$14*Foglio2!N581, NA())","v":{"$error":"#N/A"}},{"$f":"IF(Foglio1!$H$14 <> \"\", Foglio1!$H$14 + O581*10^-3, NA())","v":{"$error":"#N/A"}},5176,8.5517878361807362,{"$f":" IF(Foglio1!$C$15 <> \"\", 8.314472*Foglio1!$C$15*Foglio2!R581, NA())","v":{"$error":"#N/A"}},{"$f":"IF(Foglio1!$H$15 <> \"\", Foglio1!$H$15 + S581*10^-3, NA())","v":{"$error":"#N/A"}}]
[5185,8.5535251206636271,{"$f":" IF(Foglio1!$C$11 <> \"\", 8.314472*Foglio1!$C$11*Foglio2!B582, NA())","v":21335.413535116306},{"$f":"IF(Foglio1!$H$11 <> \"\", Foglio1!$H$11 + C582*10^-3, NA())","v":-68.664586464883698},5185,8.5535251206636271,{"$f":" IF(Foglio1!$C$12 <> \"\", 8.314472*Foglio1!$C$12*Foglio2!F582, NA())","v":{"$error":"#N/A"}},{"$f":"IF(Foglio1!$H$12 <> \"\", Foglio1!$H$12 + G582*10^-3, NA())","v":{"$error":"#N/A"}},5185,8.5535251206636271,{"$f":" IF(Foglio1!$C$13 <> \"\", 8.314472*Foglio1!$C$13*Foglio2!J582, NA())","v":{"$error":"#N/A"}},{"$f":"IF(Foglio1!$H$13 <> \"\", Foglio1!$H$13 + K582*10^-3, NA())","v":{"$error":"#N/A"}},5185,8.5535251206636271,{"$f":" IF(Foglio1!$C$14 <> \"\", 8.314472*Foglio1!$C$14*Foglio2!N582, NA())","v":{"$error":"#N/A"}},{"$f":"IF(Foglio1!$H$14 <> \"\", Foglio1!$H$14 + O582*10^-3, NA())","v":{"$error":"#N/A"}},5185,8.5535251206636271,{"$f":" IF(Foglio1!$C$15 <> \"\", 8.314472*Foglio1!$C$15*Foglio2!R582, NA())","v":{"$error":"#N/A"}},{"$f":"IF(Foglio1!$H$15 <> \"\", Foglio1!$H$15 + S582*10^-3, NA())","v":{"$error":"#N/A"}}]
[5194,8.5552593922226929,{"$f":" IF(Foglio1!$C$11 <> \"\", 8.314472*Foglio1!$C$11*Foglio2!B583, NA())","v":21339.739400811781},{"$f":"IF(Foglio1!$H$11 <> \"\", Foglio1!$H$11 + C583*10^-3, NA())","v":-68.66026059918822},5194,8.5552593922226929,{"$f":" IF(Foglio1!$C$12 <> \"\", 8.314472*Foglio1!$C$12*Foglio2!F583, NA())","v":{"$error":"#N/A"}},{"$f":"IF(Foglio1!$H$12 <> \"\", Foglio1!$H$12 + G583*10^-3, NA())","v":{"$error":"#N/A"}},5194,8.5552593922226929,{"$f":" IF(Foglio1!$C$13 <> \"\", 8.314472*Foglio1!$C$13*Foglio2!J583, NA())","v":{"$error":"#N/A"}},{"$f":"IF(Foglio1!$H$13 <> \"\", Foglio1!$H$13 + K583*10^-3, NA())","v":{"$error":"#N/A"}},5194,8.5552593922226929,{"$f":" IF(Foglio1!$C$14 <> \"\", 8.314472*Foglio1!$C$14*Foglio2!N583, NA())","v":{"$error":"#N/A"}},{"$f":"IF(Foglio1!$H$14 <> \"\", Foglio1!$H$14 + O583*10^-3, NA())","v":{"$error":"#N/A"}},5194,8.5552593922226929,{"$f":" IF(Foglio1!$C$15 <> \"\", 8.314472*Foglio1!$C$15*Foglio2!R583, NA())","v":{"$error":"#N/A"}},{"$f":"IF(Foglio1!$H$15 <> \"\", Foglio1!$H$15 + S583*10^-3, NA())","v":{"$error":"#N/A"}}]
[5203,8.5569906612903033,{"$f":" IF(Foglio1!$C$11 <> \"\", 8.314472*Foglio1!$C$11*Foglio2!B584, NA())","v":21344.057777267913},{"$f":"IF(Foglio1!$H$11 <> \"\", Foglio1!$H$11 + C584*10^-3, NA())","v":-68.655942222732079},5203,8.5569906612903033,{"$f":" IF(Foglio1!$C$12 <> \"\", 8.314472*Foglio1!$C$12*Foglio2!F584, NA())","v":{"$error":"#N/A"}},{"$f":"IF(Foglio1!$H$12 <> \"\", Foglio1!$H$12 + G584*10^-3, NA())","v":{"$error":"#N/A"}},5203,8.5569906612903033,{"$f":" IF(Foglio1!$C$13 <> \"\", 8.314472*Foglio1!$C$13*Foglio2!J584, NA())","v":{"$error":"#N/A"}},{"$f":"IF(Foglio1!$H$13 <> \"\", Foglio1!$H$13 + K584*10^-3, NA())","v":{"$error":"#N/A"}},5203,8.5569906612903033,{"$f":" IF(Foglio1!$C$14 <> \"\", 8.314472*Foglio1!$C$14*Foglio2!N584, NA())","v":{"$error":"#N/A"}},{"$f":"IF(Foglio1!$H$14 <> \"\", Foglio1!$H$14 + O584*10^-3, NA())","v":{"$error":"#N/A"}},5203,8.5569906612903033,{"$f":" IF(Foglio1!$C$15 <> \"\", 8.314472*Foglio1!$C$15*Foglio2!R584, NA())","v":{"$error":"#N/A"}},{"$f":"IF(Foglio1!$H$15 <> \"\", Foglio1!$H$15 + S584*10^-3, NA())","v":{"$error":"#N/A"}}]
[5212,8.558718938244736,{"$f":" IF(Foglio1!$C$11 <> \"\", 8.314472*Foglio1!$C$11*Foglio2!B585, NA())","v":21348.368690371677},{"$f":"IF(Foglio1!$H$11 <> \"\", Foglio1!$H$11 + C585*10^-3, NA())","v":-68.651631309628328},5212,8.558718938244736,{"$f":" IF(Foglio1!$C$12 <> \"\", 8.314472*Foglio1!$C$12*Foglio2!F585, NA())","v":{"$error":"#N/A"}},{"$f":"IF(Foglio1!$H$12 <> \"\", Foglio1!$H$12 + G585*10^-3, NA())","v":{"$error":"#N/A"}},5212,8.558718938244736,{"$f":" IF(Foglio1!$C$13 <> \"\", 8.314472*Foglio1!$C$13*Foglio2!J585, NA())","v":{"$error":"#N/A"}},{"$f":"IF(Foglio1!$H$13 <> \"\", Foglio1!$H$13 + K585*10^-3, NA())","v":{"$error":"#N/A"}},5212,8.558718938244736,{"$f":" IF(Foglio1!$C$14 <> \"\", 8.314472*Foglio1!$C$14*Foglio2!N585, NA())","v":{"$error":"#N/A"}},{"$f":"IF(Foglio1!$H$14 <> \"\", Foglio1!$H$14 + O585*10^-3, NA())","v":{"$error":"#N/A"}},5212,8.558718938244736,{"$f":" IF(Foglio1!$C$15 <> \"\", 8.314472*Foglio1!$C$15*Foglio2!R585, NA())","v":{"$error":"#N/A"}},{"$f":"IF(Foglio1!$H$15 <> \"\", Foglio1!$H$15 + S585*10^-3, NA())","v":{"$error":"#N/A"}}]
[5221,8.5604442334105517,{"$f":" IF(Foglio1!$C$11 <> \"\", 8.314472*Foglio1!$C$11*Foglio2!B586, NA())","v":21352.672165876051},{"$f":"IF(Foglio1!$H$11 <> \"\", Foglio1!$H$11 + C586*10^-3, NA())","v":-68.647327834123956},5221,8.5604442334105517,{"$f":" IF(Foglio1!$C$12 <> \"\", 8.314472*Foglio1!$C$12*Foglio2!F586, NA())","v":{"$error":"#N/A"}},{"$f":"IF(Foglio1!$H$12 <> \"\", Foglio1!$H$12 + G586*10^-3, NA())","v":{"$error":"#N/A"}},5221,8.5604442334105517,{"$f":" IF(Foglio1!$C$13 <> \"\", 8.314472*Foglio1!$C$13*Foglio2!J586, NA())","v":{"$error":"#N/A"}},{"$f":"IF(Foglio1!$H$13 <> \"\", Foglio1!$H$13 + K586*10^-3, NA())","v":{"$error":"#N/A"}},5221,8.5604442334105517,{"$f":" IF(Foglio1!$C$14 <> \"\", 8.314472*Foglio1!$C$14*Foglio2!N586, NA())","v":{"$error":"#N/A"}},{"$f":"IF(Foglio1!$H$14 <> \"\", Foglio1!$H$14 + O586*10^-3, NA())","v":{"$error":"#N/A"}},5221,8.5604442334105517,{"$f":" IF(Foglio1!$C$15 <> \"\", 8.314472*Foglio1!$C$15*Foglio2!R586, NA())","v":{"$error":"#N/A"}},{"$f":"IF(Foglio1!$H$15 <> \"\", Foglio1!$H$15 + S586*10^-3, NA())","v":{"$error":"#N/A"}}]
[5230,8.5621665570589691,{"$f":" IF(Foglio1!$C$11 <> \"\", 8.314472*Foglio1!$C$11*Foglio2!B587, NA())","v":21356.968229400962},{"$f":"IF(Foglio1!$H$11 <> \"\", Foglio1!$H$11 + C587*10^-3, NA())","v":-68.643031770599038},5230,8.5621665570589691,{"$f":" IF(Foglio1!$C$12 <> \"\", 8.314472*Foglio1!$C$12*Foglio2!F587, NA())","v":{"$error":"#N/A"}},{"$f":"IF(Foglio1!$H$12 <> \"\", Foglio1!$H$12 + G587*10^-3, NA())","v":{"$error":"#N/A"}},5230,8.5621665570589691,{"$f":" IF(Foglio1!$C$13 <> \"\", 8.314472*Foglio1!$C$13*Foglio2!J587, NA())","v":{"$error":"#N/A"}},{"$f":"IF(Foglio1!$H$13 <> \"\", Foglio1!$H$13 + K587*10^-3, NA())","v":{"$error":"#N/A"}},5230,8.5621665570589691,{"$f":" IF(Foglio1!$C$14 <> \"\", 8.314472*Foglio1!$C$14*Foglio2!N587, NA())","v":{"$error":"#N/A"}},{"$f":"IF(Foglio1!$H$14 <> \"\", Foglio1!$H$14 + O587*10^-3, NA())","v":{"$error":"#N/A"}},5230,8.5621665570589691,{"$f":" IF(Foglio1!$C$15 <> \"\", 8.314472*Foglio1!$C$15*Foglio2!R587, NA())","v":{"$error":"#N/A"}},{"$f":"IF(Foglio1!$H$15 <> \"\", Foglio1!$H$15 + S587*10^-3, NA())","v":{"$error":"#N/A"}}]
[5239,8.5638859194082197,{"$f":" IF(Foglio1!$C$11 <> \"\", 8.314472*Foglio1!$C$11*Foglio2!B588, NA())","v":21361.256906434173},{"$f":"IF(Foglio1!$H$11 <> \"\", Foglio1!$H$11 + C588*10^-3, NA())","v":-68.638743093565822},5239,8.5638859194082197,{"$f":" IF(Foglio1!$C$12 <> \"\", 8.314472*Foglio1!$C$12*Foglio2!F588, NA())","v":{"$error":"#N/A"}},{"$f":"IF(Foglio1!$H$12 <> \"\", Foglio1!$H$12 + G588*10^-3, NA())","v":{"$error":"#N/A"}},5239,8.5638859194082197,{"$f":" IF(Foglio1!$C$13 <> \"\", 8.314472*Foglio1!$C$13*Foglio2!J588, NA())","v":{"$error":"#N/A"}},{"$f":"IF(Foglio1!$H$13 <> \"\", Foglio1!$H$13 + K588*10^-3, NA())","v":{"$error":"#N/A"}},5239,8.5638859194082197,{"$f":" IF(Foglio1!$C$14 <> \"\", 8.314472*Foglio1!$C$14*Foglio2!N588, NA())","v":{"$error":"#N/A"}},{"$f":"IF(Foglio1!$H$14 <> \"\", Foglio1!$H$14 + O588*10^-3, NA())","v":{"$error":"#N/A"}},5239,8.5638859194082197,{"$f":" IF(Foglio1!$C$15 <> \"\", 8.314472*Foglio1!$C$15*Foglio2!R588, NA())","v":{"$error":"#N/A"}},{"$f":"IF(Foglio1!$H$15 <> \"\", Foglio1!$H$15 + S588*10^-3, NA())","v":{"$error":"#N/A"}}]
[5248,8.5656023306239248,{"$f":" IF(Foglio1!$C$11 <> \"\", 8.314472*Foglio1!$C$11*Foglio2!B589, NA())","v":21365.538222332212},{"$f":"IF(Foglio1!$H$11 <> \"\", Foglio1!$H$11 + C589*10^-3, NA())","v":-68.634461777667781},5248,8.5656023306239248,{"$f":" IF(Foglio1!$C$12 <> \"\", 8.314472*Foglio1!$C$12*Foglio2!F589, NA())","v":{"$error":"#N/A"}},{"$f":"IF(Foglio1!$H$12 <> \"\", Foglio1!$H$12 + G589*10^-3, NA())","v":{"$error":"#N/A"}},5248,8.5656023306239248,{"$f":" IF(Foglio1!$C$13 <> \"\", 8.314472*Foglio1!$C$13*Foglio2!J589, NA())","v":{"$error":"#N/A"}},{"$f":"IF(Foglio1!$H$13 <> \"\", Foglio1!$H$13 + K589*10^-3, NA())","v":{"$error":"#N/A"}},5248,8.5656023306239248,{"$f":" IF(Foglio1!$C$14 <> \"\", 8.314472*Foglio1!$C$14*Foglio2!N589, NA())","v":{"$error":"#N/A"}},{"$f":"IF(Foglio1!$H$14 <> \"\", Foglio1!$H$14 + O589*10^-3, NA())","v":{"$error":"#N/A"}},5248,8.5656023306239248,{"$f":" IF(Foglio1!$C$15 <> \"\", 8.314472*Foglio1!$C$15*Foglio2!R589, NA())","v":{"$error":"#N/A"}},{"$f":"IF(Foglio1!$H$15 <> \"\", Foglio1!$H$15 + S589*10^-3, NA())","v":{"$error":"#N/A"}}]
[5257,8.5673158008194488,{"$f":" IF(Foglio1!$C$11 <> \"\", 8.314472*Foglio1!$C$11*Foglio2!B590, NA())","v":21369.812202321267},{"$f":"IF(Foglio1!$H$11 <> \"\", Foglio1!$H$11 + C590*10^-3, NA())","v":-68.63018779767873},5257,8.5673158008194488,{"$f":" IF(Foglio1!$C$12 <> \"\", 8.314472*Foglio1!$C$12*Foglio2!F590, NA())","v":{"$error":"#N/A"}},{"$f":"IF(Foglio1!$H$12 <> \"\", Foglio1!$H$12 + G590*10^-3, NA())","v":{"$error":"#N/A"}},5257,8.5673158008194488,{"$f":" IF(Foglio1!$C$13 <> \"\", 8.314472*Foglio1!$C$13*Foglio2!J590, NA())","v":{"$error":"#N/A"}},{"$f":"IF(Foglio1!$H$13 <> \"\", Foglio1!$H$13 + K590*10^-3, NA())","v":{"$error":"#N/A"}},5257,8.5673158008194488,{"$f":" IF(Foglio1!$C$14 <> \"\", 8.314472*Foglio1!$C$14*Foglio2!N590, NA())","v":{"$error":"#N/A"}},{"$f":"IF(Foglio1!$H$14 <> \"\", Foglio1!$H$14 + O590*10^-3, NA())","v":{"$error":"#N/A"}},5257,8.5673158008194488,{"$f":" IF(Foglio1!$C$15 <> \"\", 8.314472*Foglio1!$C$15*Foglio2!R590, NA())","v":{"$error":"#N/A"}},{"$f":"IF(Foglio1!$H$15 <> \"\", Foglio1!$H$15 + S590*10^-3, NA())","v":{"$error":"#N/A"}}]
[5266,8.5690263400562543,{"$f":" IF(Foglio1!$C$11 <> \"\", 8.314472*Foglio1!$C$11*Foglio2!B591, NA())","v":21374.078871498063},{"$f":"IF(Foglio1!$H$11 <> \"\", Foglio1!$H$11 + C591*10^-3, NA())","v":-68.625921128501943},5266,8.5690263400562543,{"$f":" IF(Foglio1!$C$12 <> \"\", 8.314472*Foglio1!$C$12*Foglio2!F591, NA())","v":{"$error":"#N/A"}},{"$f":"IF(Foglio1!$H$12 <> \"\", Foglio1!$H$12 + G591*10^-3, NA())","v":{"$error":"#N/A"}},5266,8.5690263400562543,{"$f":" IF(Foglio1!$C$13 <> \"\", 8.314472*Foglio1!$C$13*Foglio2!J591, NA())","v":{"$error":"#N/A"}},{"$f":"IF(Foglio1!$H$13 <> \"\", Foglio1!$H$13 + K591*10^-3, NA())","v":{"$error":"#N/A"}},5266,8.5690263400562543,{"$f":" IF(Foglio1!$C$14 <> \"\", 8.314472*Foglio1!$C$14*Foglio2!N591, NA())","v":{"$error":"#N/A"}},{"$f":"IF(Foglio1!$H$14 <> \"\", Foglio1!$H$14 + O591*10^-3, NA())","v":{"$error":"#N/A"}},5266,8.5690263400562543,{"$f":" IF(Foglio1!$C$15 <> \"\", 8.314472*Foglio1!$C$15*Foglio2!R591, NA())","v":{"$error":"#N/A"}},{"$f":"IF(Foglio1!$H$15 <> \"\", Foglio1!$H$15 + S591*10^-3, NA())","v":{"$error":"#N/A"}}]
[5275,8.5707339583442668,{"$f":" IF(Foglio1!$C$11 <> \"\", 8.314472*Foglio1!$C$11*Foglio2!B592, NA())","v":21378.338254830775},{"$f":"IF(Foglio1!$H$11 <> \"\", Foglio1!$H$11 + C592*10^-3, NA())","v":-68.62166174516922},5275,8.5707339583442668,{"$f":" IF(Foglio1!$C$12 <> \"\", 8.314472*Foglio1!$C$12*Foglio2!F592, NA())","v":{"$error":"#N/A"}},{"$f":"IF(Foglio1!$H$12 <> \"\", Foglio1!$H$12 + G592*10^-3, NA())","v":{"$error":"#N/A"}},5275,8.5707339583442668,{"$f":" IF(Foglio1!$C$13 <> \"\", 8.314472*Foglio1!$C$13*Foglio2!J592, NA())","v":{"$error":"#N/A"}},{"$f":"IF(Foglio1!$H$13 <> \"\", Foglio1!$H$13 + K592*10^-3, NA())","v":{"$error":"#N/A"}},5275,8.5707339583442668,{"$f":" IF(Foglio1!$C$14 <> \"\", 8.314472*Foglio1!$C$14*Foglio2!N592, NA())","v":{"$error":"#N/A"}},{"$f":"IF(Foglio1!$H$14 <> \"\", Foglio1!$H$14 + O592*10^-3, NA())","v":{"$error":"#N/A"}},5275,8.5707339583442668,{"$f":" IF(Foglio1!$C$15 <> \"\", 8.314472*Foglio1!$C$15*Foglio2!R592, NA())","v":{"$error":"#N/A"}},{"$f":"IF(Foglio1!$H$15 <> \"\", Foglio1!$H$15 + S592*10^-3, NA())","v":{"$error":"#N/A"}}]
[5284,8.5724386656422151,{"$f":" IF(Foglio1!$C$11 <> \"\", 8.314472*Foglio1!$C$11*Foglio2!B593, NA())","v":21382.590377159871},{"$f":"IF(Foglio1!$H$11 <> \"\", Foglio1!$H$11 + C593*10^-3, NA())","v":-68.617409622840128},5284,8.5724386656422151,{"$f":" IF(Foglio1!$C$12 <> \"\", 8.314472*Foglio1!$C$12*Foglio2!F593, NA())","v":{"$error":"#N/A"}},{"$f":"IF(Foglio1!$H$12 <> \"\", Foglio1!$H$12 + G593*10^-3, NA())","v":{"$error":"#N/A"}},5284,8.5724386656422151,{"$f":" IF(Foglio1!$C$13 <> \"\", 8.314472*Foglio1!$C$13*Foglio2!J593, NA())","v":{"$error":"#N/A"}},{"$f":"IF(Foglio1!$H$13 <> \"\", Foglio1!$H$13 + K593*10^-3, NA())","v":{"$error":"#N/A"}},5284,8.5724386656422151,{"$f":" IF(Foglio1!$C$14 <> \"\", 8.314472*Foglio1!$C$14*Foglio2!N593, NA())","v":{"$error":"#N/A"}},{"$f":"IF(Foglio1!$H$14 <> \"\", Foglio1!$H$14 + O593*10^-3, NA())","v":{"$error":"#N/A"}},5284,8.5724386656422151,{"$f":" IF(Foglio1!$C$15 <> \"\", 8.314472*Foglio1!$C$15*Foglio2!R593, NA())","v":{"$error":"#N/A"}},{"$f":"IF(Foglio1!$H$15 <> \"\", Foglio1!$H$15 + S593*10^-3, NA())","v":{"$error":"#N/A"}}]
[5293,8.5741404718579872,{"$f":" IF(Foglio1!$C$11 <> \"\", 8.314472*Foglio1!$C$11*Foglio2!B594, NA())","v":21386.835263199009},{"$f":"IF(Foglio1!$H$11 <> \"\", Foglio1!$H$11 + C594*10^-3, NA())","v":-68.613164736800996},5293,8.5741404718579872,{"$f":" IF(Foglio1!$C$12 <> \"\", 8.314472*Foglio1!$C$12*Foglio2!F594, NA())","v":{"$error":"#N/A"}},{"$f":"IF(Foglio1!$H$12 <> \"\", Foglio1!$H$12 + G594*10^-3, NA())","v":{"$error":"#N/A"}},5293,8.5741404718579872,{"$f":" IF(Foglio1!$C$13 <> \"\", 8.314472*Foglio1!$C$13*Foglio2!J594, NA())","v":{"$error":"#N/A"}},{"$f":"IF(Foglio1!$H$13 <> \"\", Foglio1!$H$13 + K594*10^-3, NA())","v":{"$error":"#N/A"}},5293,8.5741404718579872,{"$f":" IF(Foglio1!$C$14 <> \"\", 8.314472*Foglio1!$C$14*Foglio2!N594, NA())","v":{"$error":"#N/A"}},{"$f":"IF(Foglio1!$H$14 <> \"\", Foglio1!$H$14 + O594*10^-3, NA())","v":{"$error":"#N/A"}},5293,8.5741404718579872,{"$f":" IF(Foglio1!$C$15 <> \"\", 8.314472*Foglio1!$C$15*Foglio2!R594, NA())","v":{"$error":"#N/A"}},{"$f":"IF(Foglio1!$H$15 <> \"\", Foglio1!$H$15 + S594*10^-3, NA())","v":{"$error":"#N/A"}}]
[5302,8.5758393868489708,{"$f":" IF(Foglio1!$C$11 <> \"\", 8.314472*Foglio1!$C$11*Foglio2!B595, NA())","v":21391.072937535882},{"$f":"IF(Foglio1!$H$11 <> \"\", Foglio1!$H$11 + C595*10^-3, NA())","v":-68.608927062464119},5302,8.5758393868489708,{"$f":" IF(Foglio1!$C$12 <> \"\", 8.314472*Foglio1!$C$12*Foglio2!F595, NA())","v":{"$error":"#N/A"}},{"$f":"IF(Foglio1!$H$12 <> \"\", Foglio1!$H$12 + G595*10^-3, NA())","v":{"$error":"#N/A"}},5302,8.5758393868489708,{"$f":" IF(Foglio1!$C$13 <> \"\", 8.314472*Foglio1!$C$13*Foglio2!J595, NA())","v":{"$error":"#N/A"}},{"$f":"IF(Foglio1!$H$13 <> \"\", Foglio1!$H$13 + K595*10^-3, NA())","v":{"$error":"#N/A"}},5302,8.5758393868489708,{"$f":" IF(Foglio1!$C$14 <> \"\", 8.314472*Foglio1!$C$14*Foglio2!N595, NA())","v":{"$error":"#N/A"}},{"$f":"IF(Foglio1!$H$14 <> \"\", Foglio1!$H$14 + O595*10^-3, NA())","v":{"$error":"#N/A"}},5302,8.5758393868489708,{"$f":" IF(Foglio1!$C$15 <> \"\", 8.314472*Foglio1!$C$15*Foglio2!R595, NA())","v":{"$error":"#N/A"}},{"$f":"IF(Foglio1!$H$15 <> \"\", Foglio1!$H$15 + S595*10^-3, NA())","v":{"$error":"#N/A"}}]
[5311,8.5775354204223984,{"$f":" IF(Foglio1!$C$11 <> \"\", 8.314472*Foglio1!$C$11*Foglio2!B596, NA())","v":21395.303424633079},{"$f":"IF(Foglio1!$H$11 <> \"\", Foglio1!$H$11 + C596*10^-3, NA())","v":-68.604696575366916},5311,8.5775354204223984,{"$f":" IF(Foglio1!$C$12 <> \"\", 8.314472*Foglio1!$C$12*Foglio2!F596, NA())","v":{"$error":"#N/A"}},{"$f":"IF(Foglio1!$H$12 <> \"\", Foglio1!$H$12 + G596*10^-3, NA())","v":{"$error":"#N/A"}},5311,8.5775354204223984,{"$f":" IF(Foglio1!$C$13 <> \"\", 8.314472*Foglio1!$C$13*Foglio2!J596, NA())","v":{"$error":"#N/A"}},{"$f":"IF(Foglio1!$H$13 <> \"\", Foglio1!$H$13 + K596*10^-3, NA())","v":{"$error":"#N/A"}},5311,8.5775354204223984,{"$f":" IF(Foglio1!$C$14 <> \"\", 8.314472*Foglio1!$C$14*Foglio2!N596, NA())","v":{"$error":"#N/A"}},{"$f":"IF(Foglio1!$H$14 <> \"\", Foglio1!$H$14 + O596*10^-3, NA())","v":{"$error":"#N/A"}},5311,8.5775354204223984,{"$f":" IF(Foglio1!$C$15 <> \"\", 8.314472*Foglio1!$C$15*Foglio2!R596, NA())","v":{"$error":"#N/A"}},{"$f":"IF(Foglio1!$H$15 <> \"\", Foglio1!$H$15 + S596*10^-3, NA())","v":{"$error":"#N/A"}}]
[5320,8.5792285823356895,{"$f":" IF(Foglio1!$C$11 <> \"\", 8.314472*Foglio1!$C$11*Foglio2!B597, NA())","v":21399.526748828936},{"$f":"IF(Foglio1!$H$11 <> \"\", Foglio1!$H$11 + C597*10^-3, NA())","v":-68.600473251171067},5320,8.5792285823356895,{"$f":" IF(Foglio1!$C$12 <> \"\", 8.314472*Foglio1!$C$12*Foglio2!F597, NA())","v":{"$error":"#N/A"}},{"$f":"IF(Foglio1!$H$12 <> \"\", Foglio1!$H$12 + G597*10^-3, NA())","v":{"$error":"#N/A"}},5320,8.5792285823356895,{"$f":" IF(Foglio1!$C$13 <> \"\", 8.314472*Foglio1!$C$13*Foglio2!J597, NA())","v":{"$error":"#N/A"}},{"$f":"IF(Foglio1!$H$13 <> \"\", Foglio1!$H$13 + K597*10^-3, NA())","v":{"$error":"#N/A"}},5320,8.5792285823356895,{"$f":" IF(Foglio1!$C$14 <> \"\", 8.314472*Foglio1!$C$14*Foglio2!N597, NA())","v":{"$error":"#N/A"}},{"$f":"IF(Foglio1!$H$14 <> \"\", Foglio1!$H$14 + O597*10^-3, NA())","v":{"$error":"#N/A"}},5320,8.5792285823356895,{"$f":" IF(Foglio1!$C$15 <> \"\", 8.314472*Foglio1!$C$15*Foglio2!R597, NA())","v":{"$error":"#N/A"}},{"$f":"IF(Foglio1!$H$15 <> \"\", Foglio1!$H$15 + S597*10^-3, NA())","v":{"$error":"#N/A"}}]
[5329,8.5809188822967819,{"$f":" IF(Foglio1!$C$11 <> \"\", 8.314472*Foglio1!$C$11*Foglio2!B598, NA())","v":21403.74293433837},{"$f":"IF(Foglio1!$H$11 <> \"\", Foglio1!$H$11 + C598*10^-3, NA())","v":-68.596257065661632},5329,8.5809188822967819,{"$f":" IF(Foglio1!$C$12 <> \"\", 8.314472*Foglio1!$C$12*Foglio2!F598, NA())","v":{"$error":"#N/A"}},{"$f":"IF(Foglio1!$H$12 <> \"\", Foglio1!$H$12 + G598*10^-3, NA())","v":{"$error":"#N/A"}},5329,8.5809188822967819,{"$f":" IF(Foglio1!$C$13 <> \"\", 8.314472*Foglio1!$C$13*Foglio2!J598, NA())","v":{"$error":"#N/A"}},{"$f":"IF(Foglio1!$H$13 <> \"\", Foglio1!$H$13 + K598*10^-3, NA())","v":{"$error":"#N/A"}},5329,8.5809188822967819,{"$f":" IF(Foglio1!$C$14 <> \"\", 8.314472*Foglio1!$C$14*Foglio2!N598, NA())","v":{"$error":"#N/A"}},{"$f":"IF(Foglio1!$H$14 <> \"\", Foglio1!$H$14 + O598*10^-3, NA())","v":{"$error":"#N/A"}},5329,8.5809188822967819,{"$f":" IF(Foglio1!$C$15 <> \"\", 8.314472*Foglio1!$C$15*Foglio2!R598, NA())","v":{"$error":"#N/A"}},{"$f":"IF(Foglio1!$H$15 <> \"\", Foglio1!$H$15 + S598*10^-3, NA())","v":{"$error":"#N/A"}}]
[5338,8.5826063299644701,{"$f":" IF(Foglio1!$C$11 <> \"\", 8.314472*Foglio1!$C$11*Foglio2!B599, NA())","v":21407.952005253705},{"$f":"IF(Foglio1!$H$11 <> \"\", Foglio1!$H$11 + C599*10^-3, NA())","v":-68.592047994746295},5338,8.5826063299644701,{"$f":" IF(Foglio1!$C$12 <> \"\", 8.314472*Foglio1!$C$12*Foglio2!F599, NA())","v":{"$error":"#N/A"}},{"$f":"IF(Foglio1!$H$12 <> \"\", Foglio1!$H$12 + G599*10^-3, NA())","v":{"$error":"#N/A"}},5338,8.5826063299644701,{"$f":" IF(Foglio1!$C$13 <> \"\", 8.314472*Foglio1!$C$13*Foglio2!J599, NA())","v":{"$error":"#N/A"}},{"$f":"IF(Foglio1!$H$13 <> \"\", Foglio1!$H$13 + K599*10^-3, NA())","v":{"$error":"#N/A"}},5338,8.5826063299644701,{"$f":" IF(Foglio1!$C$14 <> \"\", 8.314472*Foglio1!$C$14*Foglio2!N599, NA())","v":{"$error":"#N/A"}},{"$f":"IF(Foglio1!$H$14 <> \"\", Foglio1!$H$14 + O599*10^-3, NA())","v":{"$error":"#N/A"}},5338,8.5826063299644701,{"$f":" IF(Foglio1!$C$15 <> \"\", 8.314472*Foglio1!$C$15*Foglio2!R599, NA())","v":{"$error":"#N/A"}},{"$f":"IF(Foglio1!$H$15 <> \"\", Foglio1!$H$15 + S599*10^-3, NA())","v":{"$error":"#N/A"}}]
[5347,8.5842909349487311,{"$f":" IF(Foglio1!$C$11 <> \"\", 8.314472*Foglio1!$C$11*Foglio2!B600, NA())","v":21412.153985545516},{"$f":"IF(Foglio1!$H$11 <> \"\", Foglio1!$H$11 + C600*10^-3, NA())","v":-68.587846014454485},5347,8.5842909349487311,{"$f":" IF(Foglio1!$C$12 <> \"\", 8.314472*Foglio1!$C$12*Foglio2!F600, NA())","v":{"$error":"#N/A"}},{"$f":"IF(Foglio1!$H$12 <> \"\", Foglio1!$H$12 + G600*10^-3, NA())","v":{"$error":"#N/A"}},5347,8.5842909349487311,{"$f":" IF(Foglio1!$C$13 <> \"\", 8.314472*Foglio1!$C$13*Foglio2!J600, NA())","v":{"$error":"#N/A"}},{"$f":"IF(Foglio1!$H$13 <> \"\", Foglio1!$H$13 + K600*10^-3, NA())","v":{"$error":"#N/A"}},5347,8.5842909349487311,{"$f":" IF(Foglio1!$C$14 <> \"\", 8.314472*Foglio1!$C$14*Foglio2!N600, NA())","v":{"$error":"#N/A"}},{"$f":"IF(Foglio1!$H$14 <> \"\", Foglio1!$H$14 + O600*10^-3, NA())","v":{"$error":"#N/A"}},5347,8.5842909349487311,{"$f":" IF(Foglio1!$C$15 <> \"\", 8.314472*Foglio1!$C$15*Foglio2!R600, NA())","v":{"$error":"#N/A"}},{"$f":"IF(Foglio1!$H$15 <> \"\", Foglio1!$H$15 + S600*10^-3, NA())","v":{"$error":"#N/A"}}]
[5356,8.5859727068110629,{"$f":" IF(Foglio1!$C$11 <> \"\", 8.314472*Foglio1!$C$11*Foglio2!B601, NA())","v":21416.34889906344},{"$f":"IF(Foglio1!$H$11 <> \"\", Foglio1!$H$11 + C601*10^-3, NA())","v":-68.583651100936564},5356,8.5859727068110629,{"$f":" IF(Foglio1!$C$12 <> \"\", 8.314472*Foglio1!$C$12*Foglio2!F601, NA())","v":{"$error":"#N/A"}},{"$f":"IF(Foglio1!$H$12 <> \"\", Foglio1!$H$12 + G601*10^-3, NA())","v":{"$error":"#N/A"}},5356,8.5859727068110629,{"$f":" IF(Foglio1!$C$13 <> \"\", 8.314472*Foglio1!$C$13*Foglio2!J601, NA())","v":{"$error":"#N/A"}},{"$f":"IF(Foglio1!$H$13 <> \"\", Foglio1!$H$13 + K601*10^-3, NA())","v":{"$error":"#N/A"}},5356,8.5859727068110629,{"$f":" IF(Foglio1!$C$14 <> \"\", 8.314472*Foglio1!$C$14*Foglio2!N601, NA())","v":{"$error":"#N/A"}},{"$f":"IF(Foglio1!$H$14 <> \"\", Foglio1!$H$14 + O601*10^-3, NA())","v":{"$error":"#N/A"}},5356,8.5859727068110629,{"$f":" IF(Foglio1!$C$15 <> \"\", 8.314472*Foglio1!$C$15*Foglio2!R601, NA())","v":{"$error":"#N/A"}},{"$f":"IF(Foglio1!$H$15 <> \"\", Foglio1!$H$15 + S601*10^-3, NA())","v":{"$error":"#N/A"}}]
[5365,8.5876516550647981,{"$f":" IF(Foglio1!$C$11 <> \"\", 8.314472*Foglio1!$C$11*Foglio2!B602, NA())","v":21420.536769536979},{"$f":"IF(Foglio1!$H$11 <> \"\", Foglio1!$H$11 + C602*10^-3, NA())","v":-68.57946323046302},5365,8.5876516550647981,{"$f":" IF(Foglio1!$C$12 <> \"\", 8.314472*Foglio1!$C$12*Foglio2!F602, NA())","v":{"$error":"#N/A"}},{"$f":"IF(Foglio1!$H$12 <> \"\", Foglio1!$H$12 + G602*10^-3, NA())","v":{"$error":"#N/A"}},5365,8.5876516550647981,{"$f":" IF(Foglio1!$C$13 <> \"\", 8.314472*Foglio1!$C$13*Foglio2!J602, NA())","v":{"$error":"#N/A"}},{"$f":"IF(Foglio1!$H$13 <> \"\", Foglio1!$H$13 + K602*10^-3, NA())","v":{"$error":"#N/A"}},5365,8.5876516550647981,{"$f":" IF(Foglio1!$C$14 <> \"\", 8.314472*Foglio1!$C$14*Foglio2!N602, NA())","v":{"$error":"#N/A"}},{"$f":"IF(Foglio1!$H$14 <> \"\", Foglio1!$H$14 + O602*10^-3, NA())","v":{"$error":"#N/A"}},5365,8.5876516550647981,{"$f":" IF(Foglio1!$C$15 <> \"\", 8.314472*Foglio1!$C$15*Foglio2!R602, NA())","v":{"$error":"#N/A"}},{"$f":"IF(Foglio1!$H$15 <> \"\", Foglio1!$H$15 + S602*10^-3, NA())","v":{"$error":"#N/A"}}]
[5374,8.5893277891754369,{"$f":" IF(Foglio1!$C$11 <> \"\", 8.314472*Foglio1!$C$11*Foglio2!B603, NA())","v":21424.717620576324},{"$f":"IF(Foglio1!$H$11 <> \"\", Foglio1!$H$11 + C603*10^-3, NA())","v":-68.575282379423669},5374,8.5893277891754369,{"$f":" IF(Foglio1!$C$12 <> \"\", 8.314472*Foglio1!$C$12*Foglio2!F603, NA())","v":{"$error":"#N/A"}},{"$f":"IF(Foglio1!$H$12 <> \"\", Foglio1!$H$12 + G603*10^-3, NA())","v":{"$error":"#N/A"}},5374,8.5893277891754369,{"$f":" IF(Foglio1!$C$13 <> \"\", 8.314472*Foglio1!$C$13*Foglio2!J603, NA())","v":{"$error":"#N/A"}},{"$f":"IF(Foglio1!$H$13 <> \"\", Foglio1!$H$13 + K603*10^-3, NA())","v":{"$error":"#N/A"}},5374,8.5893277891754369,{"$f":" IF(Foglio1!$C$14 <> \"\", 8.314472*Foglio1!$C$14*Foglio2!N603, NA())","v":{"$error":"#N/A"}},{"$f":"IF(Foglio1!$H$14 <> \"\", Foglio1!$H$14 + O603*10^-3, NA())","v":{"$error":"#N/A"}},5374,8.5893277891754369,{"$f":" IF(Foglio1!$C$15 <> \"\", 8.314472*Foglio1!$C$15*Foglio2!R603, NA())","v":{"$error":"#N/A"}},{"$f":"IF(Foglio1!$H$15 <> \"\", Foglio1!$H$15 + S603*10^-3, NA())","v":{"$error":"#N/A"}}]
[5383,8.5910011185609569,{"$f":" IF(Foglio1!$C$11 <> \"\", 8.314472*Foglio1!$C$11*Foglio2!B604, NA())","v":21428.891475673128},{"$f":"IF(Foglio1!$H$11 <> \"\", Foglio1!$H$11 + C604*10^-3, NA())","v":-68.571108524326874},5383,8.5910011185609569,{"$f":" IF(Foglio1!$C$12 <> \"\", 8.314472*Foglio1!$C$12*Foglio2!F604, NA())","v":{"$error":"#N/A"}},{"$f":"IF(Foglio1!$H$12 <> \"\", Foglio1!$H$12 + G604*10^-3, NA())","v":{"$error":"#N/A"}},5383,8.5910011185609569,{"$f":" IF(Foglio1!$C$13 <> \"\", 8.314472*Foglio1!$C$13*Foglio2!J604, NA())","v":{"$error":"#N/A"}},{"$f":"IF(Foglio1!$H$13 <> \"\", Foglio1!$H$13 + K604*10^-3, NA())","v":{"$error":"#N/A"}},5383,8.5910011185609569,{"$f":" IF(Foglio1!$C$14 <> \"\", 8.314472*Foglio1!$C$14*Foglio2!N604, NA())","v":{"$error":"#N/A"}},{"$f":"IF(Foglio1!$H$14 <> \"\", Foglio1!$H$14 + O604*10^-3, NA())","v":{"$error":"#N/A"}},5383,8.5910011185609569,{"$f":" IF(Foglio1!$C$15 <> \"\", 8.314472*Foglio1!$C$15*Foglio2!R604, NA())","v":{"$error":"#N/A"}},{"$f":"IF(Foglio1!$H$15 <> \"\", Foglio1!$H$15 + S604*10^-3, NA())","v":{"$error":"#N/A"}}]
[5392,8.5926716525921432,{"$f":" IF(Foglio1!$C$11 <> \"\", 8.314472*Foglio1!$C$11*Foglio2!B605, NA())","v":21433.058358201331},{"$f":"IF(Foglio1!$H$11 <> \"\", Foglio1!$H$11 + C605*10^-3, NA())","v":-68.566941641798664},5392,8.5926716525921432,{"$f":" IF(Foglio1!$C$12 <> \"\", 8.314472*Foglio1!$C$12*Foglio2!F605, NA())","v":{"$error":"#N/A"}},{"$f":"IF(Foglio1!$H$12 <> \"\", Foglio1!$H$12 + G605*10^-3, NA())","v":{"$error":"#N/A"}},5392,8.5926716525921432,{"$f":" IF(Foglio1!$C$13 <> \"\", 8.314472*Foglio1!$C$13*Foglio2!J605, NA())","v":{"$error":"#N/A"}},{"$f":"IF(Foglio1!$H$13 <> \"\", Foglio1!$H$13 + K605*10^-3, NA())","v":{"$error":"#N/A"}},5392,8.5926716525921432,{"$f":" IF(Foglio1!$C$14 <> \"\", 8.314472*Foglio1!$C$14*Foglio2!N605, NA())","v":{"$error":"#N/A"}},{"$f":"IF(Foglio1!$H$14 <> \"\", Foglio1!$H$14 + O605*10^-3, NA())","v":{"$error":"#N/A"}},5392,8.5926716525921432,{"$f":" IF(Foglio1!$C$15 <> \"\", 8.314472*Foglio1!$C$15*Foglio2!R605, NA())","v":{"$error":"#N/A"}},{"$f":"IF(Foglio1!$H$15 <> \"\", Foglio1!$H$15 + S605*10^-3, NA())","v":{"$error":"#N/A"}}]
[5401,8.5943394005928919,{"$f":" IF(Foglio1!$C$11 <> \"\", 8.314472*Foglio1!$C$11*Foglio2!B606, NA())","v":21437.218291417917},{"$f":"IF(Foglio1!$H$11 <> \"\", Foglio1!$H$11 + C606*10^-3, NA())","v":-68.562781708582079},5401,8.5943394005928919,{"$f":" IF(Foglio1!$C$12 <> \"\", 8.314472*Foglio1!$C$12*Foglio2!F606, NA())","v":{"$error":"#N/A"}},{"$f":"IF(Foglio1!$H$12 <> \"\", Foglio1!$H$12 + G606*10^-3, NA())","v":{"$error":"#N/A"}},5401,8.5943394005928919,{"$f":" IF(Foglio1!$C$13 <> \"\", 8.314472*Foglio1!$C$13*Foglio2!J606, NA())","v":{"$error":"#N/A"}},{"$f":"IF(Foglio1!$H$13 <> \"\", Foglio1!$H$13 + K606*10^-3, NA())","v":{"$error":"#N/A"}},5401,8.5943394005928919,{"$f":" IF(Foglio1!$C$14 <> \"\", 8.314472*Foglio1!$C$14*Foglio2!N606, NA())","v":{"$error":"#N/A"}},{"$f":"IF(Foglio1!$H$14 <> \"\", Foglio1!$H$14 + O606*10^-3, NA())","v":{"$error":"#N/A"}},5401,8.5943394005928919,{"$f":" IF(Foglio1!$C$15 <> \"\", 8.314472*Foglio1!$C$15*Foglio2!R606, NA())","v":{"$error":"#N/A"}},{"$f":"IF(Foglio1!$H$15 <> \"\", Foglio1!$H$15 + S606*10^-3, NA())","v":{"$error":"#N/A"}}]
[5410,8.596004371840527,{"$f":" IF(Foglio1!$C$11 <> \"\", 8.314472*Foglio1!$C$11*Foglio2!B607, NA())","v":21441.371298463699},{"$f":"IF(Foglio1!$H$11 <> \"\", Foglio1!$H$11 + C607*10^-3, NA())","v":-68.558628701536293},5410,8.596004371840527,{"$f":" IF(Foglio1!$C$12 <> \"\", 8.314472*Foglio1!$C$12*Foglio2!F607, NA())","v":{"$error":"#N/A"}},{"$f":"IF(Foglio1!$H$12 <> \"\", Foglio1!$H$12 + G607*10^-3, NA())","v":{"$error":"#N/A"}},5410,8.596004371840527,{"$f":" IF(Foglio1!$C$13 <> \"\", 8.314472*Foglio1!$C$13*Foglio2!J607, NA())","v":{"$error":"#N/A"}},{"$f":"IF(Foglio1!$H$13 <> \"\", Foglio1!$H$13 + K607*10^-3, NA())","v":{"$error":"#N/A"}},5410,8.596004371840527,{"$f":" IF(Foglio1!$C$14 <> \"\", 8.314472*Foglio1!$C$14*Foglio2!N607, NA())","v":{"$error":"#N/A"}},{"$f":"IF(Foglio1!$H$14 <> \"\", Foglio1!$H$14 + O607*10^-3, NA())","v":{"$error":"#N/A"}},5410,8.596004371840527,{"$f":" IF(Foglio1!$C$15 <> \"\", 8.314472*Foglio1!$C$15*Foglio2!R607, NA())","v":{"$error":"#N/A"}},{"$f":"IF(Foglio1!$H$15 <> \"\", Foglio1!$H$15 + S607*10^-3, NA())","v":{"$error":"#N/A"}}]
[5419,8.5976665755661141,{"$f":" IF(Foglio1!$C$11 <> \"\", 8.314472*Foglio1!$C$11*Foglio2!B608, NA())","v":21445.517402364105},{"$f":"IF(Foglio1!$H$11 <> \"\", Foglio1!$H$11 + C608*10^-3, NA())","v":-68.554482597635896},5419,8.5976665755661141,{"$f":" IF(Foglio1!$C$12 <> \"\", 8.314472*Foglio1!$C$12*Foglio2!F608, NA())","v":{"$error":"#N/A"}},{"$f":"IF(Foglio1!$H$12 <> \"\", Foglio1!$H$12 + G608*10^-3, NA())","v":{"$error":"#N/A"}},5419,8.5976665755661141,{"$f":" IF(Foglio1!$C$13 <> \"\", 8.314472*Foglio1!$C$13*Foglio2!J608, NA())","v":{"$error":"#N/A"}},{"$f":"IF(Foglio1!$H$13 <> \"\", Foglio1!$H$13 + K608*10^-3, NA())","v":{"$error":"#N/A"}},5419,8.5976665755661141,{"$f":" IF(Foglio1!$C$14 <> \"\", 8.314472*Foglio1!$C$14*Foglio2!N608, NA())","v":{"$error":"#N/A"}},{"$f":"IF(Foglio1!$H$14 <> \"\", Foglio1!$H$14 + O608*10^-3, NA())","v":{"$error":"#N/A"}},5419,8.5976665755661141,{"$f":" IF(Foglio1!$C$15 <> \"\", 8.314472*Foglio1!$C$15*Foglio2!R608, NA())","v":{"$error":"#N/A"}},{"$f":"IF(Foglio1!$H$15 <> \"\", Foglio1!$H$15 + S608*10^-3, NA())","v":{"$error":"#N/A"}}]
[5428,8.5993260209547593,{"$f":" IF(Foglio1!$C$11 <> \"\", 8.314472*Foglio1!$C$11*Foglio2!B609, NA())","v":21449.65662602993},{"$f":"IF(Foglio1!$H$11 <> \"\", Foglio1!$H$11 + C609*10^-3, NA())","v":-68.550343373970065},5428,8.5993260209547593,{"$f":" IF(Foglio1!$C$12 <> \"\", 8.314472*Foglio1!$C$12*Foglio2!F609, NA())","v":{"$error":"#N/A"}},{"$f":"IF(Foglio1!$H$12 <> \"\", Foglio1!$H$12 + G609*10^-3, NA())","v":{"$error":"#N/A"}},5428,8.5993260209547593,{"$f":" IF(Foglio1!$C$13 <> \"\", 8.314472*Foglio1!$C$13*Foglio2!J609, NA())","v":{"$error":"#N/A"}},{"$f":"IF(Foglio1!$H$13 <> \"\", Foglio1!$H$13 + K609*10^-3, NA())","v":{"$error":"#N/A"}},5428,8.5993260209547593,{"$f":" IF(Foglio1!$C$14 <> \"\", 8.314472*Foglio1!$C$14*Foglio2!N609, NA())","v":{"$error":"#N/A"}},{"$f":"IF(Foglio1!$H$14 <> \"\", Foglio1!$H$14 + O609*10^-3, NA())","v":{"$error":"#N/A"}},5428,8.5993260209547593,{"$f":" IF(Foglio1!$C$15 <> \"\", 8.314472*Foglio1!$C$15*Foglio2!R609, NA())","v":{"$error":"#N/A"}},{"$f":"IF(Foglio1!$H$15 <> \"\", Foglio1!$H$15 + S609*10^-3, NA())","v":{"$error":"#N/A"}}]
[5437,8.6009827171459214,{"$f":" IF(Foglio1!$C$11 <> \"\", 8.314472*Foglio1!$C$11*Foglio2!B610, NA())","v":21453.788992258105},{"$f":"IF(Foglio1!$H$11 <> \"\", Foglio1!$H$11 + C610*10^-3, NA())","v":-68.546211007741903},5437,8.6009827171459214,{"$f":" IF(Foglio1!$C$12 <> \"\", 8.314472*Foglio1!$C$12*Foglio2!F610, NA())","v":{"$error":"#N/A"}},{"$f":"IF(Foglio1!$H$12 <> \"\", Foglio1!$H$12 + G610*10^-3, NA())","v":{"$error":"#N/A"}},5437,8.6009827171459214,{"$f":" IF(Foglio1!$C$13 <> \"\", 8.314472*Foglio1!$C$13*Foglio2!J610, NA())","v":{"$error":"#N/A"}},{"$f":"IF(Foglio1!$H$13 <> \"\", Foglio1!$H$13 + K610*10^-3, NA())","v":{"$error":"#N/A"}},5437,8.6009827171459214,{"$f":" IF(Foglio1!$C$14 <> \"\", 8.314472*Foglio1!$C$14*Foglio2!N610, NA())","v":{"$error":"#N/A"}},{"$f":"IF(Foglio1!$H$14 <> \"\", Foglio1!$H$14 + O610*10^-3, NA())","v":{"$error":"#N/A"}},5437,8.6009827171459214,{"$f":" IF(Foglio1!$C$15 <> \"\", 8.314472*Foglio1!$C$15*Foglio2!R610, NA())","v":{"$error":"#N/A"}},{"$f":"IF(Foglio1!$H$15 <> \"\", Foglio1!$H$15 + S610*10^-3, NA())","v":{"$error":"#N/A"}}]
[5446,8.6026366732337056,{"$f":" IF(Foglio1!$C$11 <> \"\", 8.314472*Foglio1!$C$11*Foglio2!B611, NA())","v":21457.914523732441},{"$f":"IF(Foglio1!$H$11 <> \"\", Foglio1!$H$11 + C611*10^-3, NA())","v":-68.542085476267559},5446,8.6026366732337056,{"$f":" IF(Foglio1!$C$12 <> \"\", 8.314472*Foglio1!$C$12*Foglio2!F611, NA())","v":{"$error":"#N/A"}},{"$f":"IF(Foglio1!$H$12 <> \"\", Foglio1!$H$12 + G611*10^-3, NA())","v":{"$error":"#N/A"}},5446,8.6026366732337056,{"$f":" IF(Foglio1!$C$13 <> \"\", 8.314472*Foglio1!$C$13*Foglio2!J611, NA())","v":{"$error":"#N/A"}},{"$f":"IF(Foglio1!$H$13 <> \"\", Foglio1!$H$13 + K611*10^-3, NA())","v":{"$error":"#N/A"}},5446,8.6026366732337056,{"$f":" IF(Foglio1!$C$14 <> \"\", 8.314472*Foglio1!$C$14*Foglio2!N611, NA())","v":{"$error":"#N/A"}},{"$f":"IF(Foglio1!$H$14 <> \"\", Foglio1!$H$14 + O611*10^-3, NA())","v":{"$error":"#N/A"}},5446,8.6026366732337056,{"$f":" IF(Foglio1!$C$15 <> \"\", 8.314472*Foglio1!$C$15*Foglio2!R611, NA())","v":{"$error":"#N/A"}},{"$f":"IF(Foglio1!$H$15 <> \"\", Foglio1!$H$15 + S611*10^-3, NA())","v":{"$error":"#N/A"}}]
[5455,8.604287898267172,{"$f":" IF(Foglio1!$C$11 <> \"\", 8.314472*Foglio1!$C$11*Foglio2!B612, NA())","v":21462.033243024376},{"$f":"IF(Foglio1!$H$11 <> \"\", Foglio1!$H$11 + C612*10^-3, NA())","v":-68.537966756975621},5455,8.604287898267172,{"$f":" IF(Foglio1!$C$12 <> \"\", 8.314472*Foglio1!$C$12*Foglio2!F612, NA())","v":{"$error":"#N/A"}},{"$f":"IF(Foglio1!$H$12 <> \"\", Foglio1!$H$12 + G612*10^-3, NA())","v":{"$error":"#N/A"}},5455,8.604287898267172,{"$f":" IF(Foglio1!$C$13 <> \"\", 8.314472*Foglio1!$C$13*Foglio2!J612, NA())","v":{"$error":"#N/A"}},{"$f":"IF(Foglio1!$H$13 <> \"\", Foglio1!$H$13 + K612*10^-3, NA())","v":{"$error":"#N/A"}},5455,8.604287898267172,{"$f":" IF(Foglio1!$C$14 <> \"\", 8.314472*Foglio1!$C$14*Foglio2!N612, NA())","v":{"$error":"#N/A"}},{"$f":"IF(Foglio1!$H$14 <> \"\", Foglio1!$H$14 + O612*10^-3, NA())","v":{"$error":"#N/A"}},5455,8.604287898267172,{"$f":" IF(Foglio1!$C$15 <> \"\", 8.314472*Foglio1!$C$15*Foglio2!R612, NA())","v":{"$error":"#N/A"}},{"$f":"IF(Foglio1!$H$15 <> \"\", Foglio1!$H$15 + S612*10^-3, NA())","v":{"$error":"#N/A"}}]
[5464,8.6059364012506254,{"$f":" IF(Foglio1!$C$11 <> \"\", 8.314472*Foglio1!$C$11*Foglio2!B613, NA())","v":21466.14517259373},{"$f":"IF(Foglio1!$H$11 <> \"\", Foglio1!$H$11 + C613*10^-3, NA())","v":-68.533854827406273},5464,8.6059364012506254,{"$f":" IF(Foglio1!$C$12 <> \"\", 8.314472*Foglio1!$C$12*Foglio2!F613, NA())","v":{"$error":"#N/A"}},{"$f":"IF(Foglio1!$H$12 <> \"\", Foglio1!$H$12 + G613*10^-3, NA())","v":{"$error":"#N/A"}},5464,8.6059364012506254,{"$f":" IF(Foglio1!$C$13 <> \"\", 8.314472*Foglio1!$C$13*Foglio2!J613, NA())","v":{"$error":"#N/A"}},{"$f":"IF(Foglio1!$H$13 <> \"\", Foglio1!$H$13 + K613*10^-3, NA())","v":{"$error":"#N/A"}},5464,8.6059364012506254,{"$f":" IF(Foglio1!$C$14 <> \"\", 8.314472*Foglio1!$C$14*Foglio2!N613, NA())","v":{"$error":"#N/A"}},{"$f":"IF(Foglio1!$H$14 <> \"\", Foglio1!$H$14 + O613*10^-3, NA())","v":{"$error":"#N/A"}},5464,8.6059364012506254,{"$f":" IF(Foglio1!$C$15 <> \"\", 8.314472*Foglio1!$C$15*Foglio2!R613, NA())","v":{"$error":"#N/A"}},{"$f":"IF(Foglio1!$H$15 <> \"\", Foglio1!$H$15 + S613*10^-3, NA())","v":{"$error":"#N/A"}}]
[5473,8.6075821911439174,{"$f":" IF(Foglio1!$C$11 <> \"\", 8.314472*Foglio1!$C$11*Foglio2!B614, NA())","v":21470.250334789427},{"$f":"IF(Foglio1!$H$11 <> \"\", Foglio1!$H$11 + C614*10^-3, NA())","v":-68.529749665210574},5473,8.6075821911439174,{"$f":" IF(Foglio1!$C$12 <> \"\", 8.314472*Foglio1!$C$12*Foglio2!F614, NA())","v":{"$error":"#N/A"}},{"$f":"IF(Foglio1!$H$12 <> \"\", Foglio1!$H$12 + G614*10^-3, NA())","v":{"$error":"#N/A"}},5473,8.6075821911439174,{"$f":" IF(Foglio1!$C$13 <> \"\", 8.314472*Foglio1!$C$13*Foglio2!J614, NA())","v":{"$error":"#N/A"}},{"$f":"IF(Foglio1!$H$13 <> \"\", Foglio1!$H$13 + K614*10^-3, NA())","v":{"$error":"#N/A"}},5473,8.6075821911439174,{"$f":" IF(Foglio1!$C$14 <> \"\", 8.314472*Foglio1!$C$14*Foglio2!N614, NA())","v":{"$error":"#N/A"}},{"$f":"IF(Foglio1!$H$14 <> \"\", Foglio1!$H$14 + O614*10^-3, NA())","v":{"$error":"#N/A"}},5473,8.6075821911439174,{"$f":" IF(Foglio1!$C$15 <> \"\", 8.314472*Foglio1!$C$15*Foglio2!R614, NA())","v":{"$error":"#N/A"}},{"$f":"IF(Foglio1!$H$15 <> \"\", Foglio1!$H$15 + S614*10^-3, NA())","v":{"$error":"#N/A"}}]
[5482,8.6092252768627304,{"$f":" IF(Foglio1!$C$11 <> \"\", 8.314472*Foglio1!$C$11*Foglio2!B615, NA())","v":21474.348751850226},{"$f":"IF(Foglio1!$H$11 <> \"\", Foglio1!$H$11 + C615*10^-3, NA())","v":-68.525651248149771},5482,8.6092252768627304,{"$f":" IF(Foglio1!$C$12 <> \"\", 8.314472*Foglio1!$C$12*Foglio2!F615, NA())","v":{"$error":"#N/A"}},{"$f":"IF(Foglio1!$H$12 <> \"\", Foglio1!$H$12 + G615*10^-3, NA())","v":{"$error":"#N/A"}},5482,8.6092252768627304,{"$f":" IF(Foglio1!$C$13 <> \"\", 8.314472*Foglio1!$C$13*Foglio2!J615, NA())","v":{"$error":"#N/A"}},{"$f":"IF(Foglio1!$H$13 <> \"\", Foglio1!$H$13 + K615*10^-3, NA())","v":{"$error":"#N/A"}},5482,8.6092252768627304,{"$f":" IF(Foglio1!$C$14 <> \"\", 8.314472*Foglio1!$C$14*Foglio2!N615, NA())","v":{"$error":"#N/A"}},{"$f":"IF(Foglio1!$H$14 <> \"\", Foglio1!$H$14 + O615*10^-3, NA())","v":{"$error":"#N/A"}},5482,8.6092252768627304,{"$f":" IF(Foglio1!$C$15 <> \"\", 8.314472*Foglio1!$C$15*Foglio2!R615, NA())","v":{"$error":"#N/A"}},{"$f":"IF(Foglio1!$H$15 <> \"\", Foglio1!$H$15 + S615*10^-3, NA())","v":{"$error":"#N/A"}}]
[5491,8.6108656672788726,{"$f":" IF(Foglio1!$C$11 <> \"\", 8.314472*Foglio1!$C$11*Foglio2!B616, NA())","v":21478.440445905453},{"$f":"IF(Foglio1!$H$11 <> \"\", Foglio1!$H$11 + C616*10^-3, NA())","v":-68.521559554094551},5491,8.6108656672788726,{"$f":" IF(Foglio1!$C$12 <> \"\", 8.314472*Foglio1!$C$12*Foglio2!F616, NA())","v":{"$error":"#N/A"}},{"$f":"IF(Foglio1!$H$12 <> \"\", Foglio1!$H$12 + G616*10^-3, NA())","v":{"$error":"#N/A"}},5491,8.6108656672788726,{"$f":" IF(Foglio1!$C$13 <> \"\", 8.314472*Foglio1!$C$13*Foglio2!J616, NA())","v":{"$error":"#N/A"}},{"$f":"IF(Foglio1!$H$13 <> \"\", Foglio1!$H$13 + K616*10^-3, NA())","v":{"$error":"#N/A"}},5491,8.6108656672788726,{"$f":" IF(Foglio1!$C$14 <> \"\", 8.314472*Foglio1!$C$14*Foglio2!N616, NA())","v":{"$error":"#N/A"}},{"$f":"IF(Foglio1!$H$14 <> \"\", Foglio1!$H$14 + O616*10^-3, NA())","v":{"$error":"#N/A"}},5491,8.6108656672788726,{"$f":" IF(Foglio1!$C$15 <> \"\", 8.314472*Foglio1!$C$15*Foglio2!R616, NA())","v":{"$error":"#N/A"}},{"$f":"IF(Foglio1!$H$15 <> \"\", Foglio1!$H$15 + S616*10^-3, NA())","v":{"$error":"#N/A"}}]
[5500,8.6125033712205621,{"$f":" IF(Foglio1!$C$11 <> \"\", 8.314472*Foglio1!$C$11*Foglio2!B617, NA())","v":21482.525438975692},{"$f":"IF(Foglio1!$H$11 <> \"\", Foglio1!$H$11 + C617*10^-3, NA())","v":-68.517474561024301},5500,8.6125033712205621,{"$f":" IF(Foglio1!$C$12 <> \"\", 8.314472*Foglio1!$C$12*Foglio2!F617, NA())","v":{"$error":"#N/A"}},{"$f":"IF(Foglio1!$H$12 <> \"\", Foglio1!$H$12 + G617*10^-3, NA())","v":{"$error":"#N/A"}},5500,8.6125033712205621,{"$f":" IF(Foglio1!$C$13 <> \"\", 8.314472*Foglio1!$C$13*Foglio2!J617, NA())","v":{"$error":"#N/A"}},{"$f":"IF(Foglio1!$H$13 <> \"\", Foglio1!$H$13 + K617*10^-3, NA())","v":{"$error":"#N/A"}},5500,8.6125033712205621,{"$f":" IF(Foglio1!$C$14 <> \"\", 8.314472*Foglio1!$C$14*Foglio2!N617, NA())","v":{"$error":"#N/A"}},{"$f":"IF(Foglio1!$H$14 <> \"\", Foglio1!$H$14 + O617*10^-3, NA())","v":{"$error":"#N/A"}},5500,8.6125033712205621,{"$f":" IF(Foglio1!$C$15 <> \"\", 8.314472*Foglio1!$C$15*Foglio2!R617, NA())","v":{"$error":"#N/A"}},{"$f":"IF(Foglio1!$H$15 <> \"\", Foglio1!$H$15 + S617*10^-3, NA())","v":{"$error":"#N/A"}}]
[5509,8.6141383974727166,{"$f":" IF(Foglio1!$C$11 <> \"\", 8.314472*Foglio1!$C$11*Foglio2!B618, NA())","v":21486.603752973533},{"$f":"IF(Foglio1!$H$11 <> \"\", Foglio1!$H$11 + C618*10^-3, NA())","v":-68.513396247026463},5509,8.6141383974727166,{"$f":" IF(Foglio1!$C$12 <> \"\", 8.314472*Foglio1!$C$12*Foglio2!F618, NA())","v":{"$error":"#N/A"}},{"$f":"IF(Foglio1!$H$12 <> \"\", Foglio1!$H$12 + G618*10^-3, NA())","v":{"$error":"#N/A"}},5509,8.6141383974727166,{"$f":" IF(Foglio1!$C$13 <> \"\", 8.314472*Foglio1!$C$13*Foglio2!J618, NA())","v":{"$error":"#N/A"}},{"$f":"IF(Foglio1!$H$13 <> \"\", Foglio1!$H$13 + K618*10^-3, NA())","v":{"$error":"#N/A"}},5509,8.6141383974727166,{"$f":" IF(Foglio1!$C$14 <> \"\", 8.314472*Foglio1!$C$14*Foglio2!N618, NA())","v":{"$error":"#N/A"}},{"$f":"IF(Foglio1!$H$14 <> \"\", Foglio1!$H$14 + O618*10^-3, NA())","v":{"$error":"#N/A"}},5509,8.6141383974727166,{"$f":" IF(Foglio1!$C$15 <> \"\", 8.314472*Foglio1!$C$15*Foglio2!R618, NA())","v":{"$error":"#N/A"}},{"$f":"IF(Foglio1!$H$15 <> \"\", Foglio1!$H$15 + S618*10^-3, NA())","v":{"$error":"#N/A"}}]
[5518,8.6157707547772322,{"$f":" IF(Foglio1!$C$11 <> \"\", 8.314472*Foglio1!$C$11*Foglio2!B619, NA())","v":21490.67540970425},{"$f":"IF(Foglio1!$H$11 <> \"\", Foglio1!$H$11 + C619*10^-3, NA())","v":-68.509324590295748},5518,8.6157707547772322,{"$f":" IF(Foglio1!$C$12 <> \"\", 8.314472*Foglio1!$C$12*Foglio2!F619, NA())","v":{"$error":"#N/A"}},{"$f":"IF(Foglio1!$H$12 <> \"\", Foglio1!$H$12 + G619*10^-3, NA())","v":{"$error":"#N/A"}},5518,8.6157707547772322,{"$f":" IF(Foglio1!$C$13 <> \"\", 8.314472*Foglio1!$C$13*Foglio2!J619, NA())","v":{"$error":"#N/A"}},{"$f":"IF(Foglio1!$H$13 <> \"\", Foglio1!$H$13 + K619*10^-3, NA())","v":{"$error":"#N/A"}},5518,8.6157707547772322,{"$f":" IF(Foglio1!$C$14 <> \"\", 8.314472*Foglio1!$C$14*Foglio2!N619, NA())","v":{"$error":"#N/A"}},{"$f":"IF(Foglio1!$H$14 <> \"\", Foglio1!$H$14 + O619*10^-3, NA())","v":{"$error":"#N/A"}},5518,8.6157707547772322,{"$f":" IF(Foglio1!$C$15 <> \"\", 8.314472*Foglio1!$C$15*Foglio2!R619, NA())","v":{"$error":"#N/A"}},{"$f":"IF(Foglio1!$H$15 <> \"\", Foglio1!$H$15 + S619*10^-3, NA())","v":{"$error":"#N/A"}}]
[5527,8.6174004518332623,{"$f":" IF(Foglio1!$C$11 <> \"\", 8.314472*Foglio1!$C$11*Foglio2!B620, NA())","v":21494.740430866503},{"$f":"IF(Foglio1!$H$11 <> \"\", Foglio1!$H$11 + C620*10^-3, NA())","v":-68.5052595691335},5527,8.6174004518332623,{"$f":" IF(Foglio1!$C$12 <> \"\", 8.314472*Foglio1!$C$12*Foglio2!F620, NA())","v":{"$error":"#N/A"}},{"$f":"IF(Foglio1!$H$12 <> \"\", Foglio1!$H$12 + G620*10^-3, NA())","v":{"$error":"#N/A"}},5527,8.6174004518332623,{"$f":" IF(Foglio1!$C$13 <> \"\", 8.314472*Foglio1!$C$13*Foglio2!J620, NA())","v":{"$error":"#N/A"}},{"$f":"IF(Foglio1!$H$13 <> \"\", Foglio1!$H$13 + K620*10^-3, NA())","v":{"$error":"#N/A"}},5527,8.6174004518332623,{"$f":" IF(Foglio1!$C$14 <> \"\", 8.314472*Foglio1!$C$14*Foglio2!N620, NA())","v":{"$error":"#N/A"}},{"$f":"IF(Foglio1!$H$14 <> \"\", Foglio1!$H$14 + O620*10^-3, NA())","v":{"$error":"#N/A"}},5527,8.6174004518332623,{"$f":" IF(Foglio1!$C$15 <> \"\", 8.314472*Foglio1!$C$15*Foglio2!R620, NA())","v":{"$error":"#N/A"}},{"$f":"IF(Foglio1!$H$15 <> \"\", Foglio1!$H$15 + S620*10^-3, NA())","v":{"$error":"#N/A"}}]
[5536,8.6190274972975054,{"$f":" IF(Foglio1!$C$11 <> \"\", 8.314472*Foglio1!$C$11*Foglio2!B621, NA())","v":21498.798838053059},{"$f":"IF(Foglio1!$H$11 <> \"\", Foglio1!$H$11 + C621*10^-3, NA())","v":-68.501201161946938},5536,8.6190274972975054,{"$f":" IF(Foglio1!$C$12 <> \"\", 8.314472*Foglio1!$C$12*Foglio2!F621, NA())","v":{"$error":"#N/A"}},{"$f":"IF(Foglio1!$H$12 <> \"\", Foglio1!$H$12 + G621*10^-3, NA())","v":{"$error":"#N/A"}},5536,8.6190274972975054,{"$f":" IF(Foglio1!$C$13 <> \"\", 8.314472*Foglio1!$C$13*Foglio2!J621, NA())","v":{"$error":"#N/A"}},{"$f":"IF(Foglio1!$H$13 <> \"\", Foglio1!$H$13 + K621*10^-3, NA())","v":{"$error":"#N/A"}},5536,8.6190274972975054,{"$f":" IF(Foglio1!$C$14 <> \"\", 8.314472*Foglio1!$C$14*Foglio2!N621, NA())","v":{"$error":"#N/A"}},{"$f":"IF(Foglio1!$H$14 <> \"\", Foglio1!$H$14 + O621*10^-3, NA())","v":{"$error":"#N/A"}},5536,8.6190274972975054,{"$f":" IF(Foglio1!$C$15 <> \"\", 8.314472*Foglio1!$C$15*Foglio2!R621, NA())","v":{"$error":"#N/A"}},{"$f":"IF(Foglio1!$H$15 <> \"\", Foglio1!$H$15 + S621*10^-3, NA())","v":{"$error":"#N/A"}}]
[5545,8.6206518997844679,{"$f":" IF(Foglio1!$C$11 <> \"\", 8.314472*Foglio1!$C$11*Foglio2!B622, NA())","v":21502.850652751433},{"$f":"IF(Foglio1!$H$11 <> \"\", Foglio1!$H$11 + C622*10^-3, NA())","v":-68.497149347248566},5545,8.6206518997844679,{"$f":" IF(Foglio1!$C$12 <> \"\", 8.314472*Foglio1!$C$12*Foglio2!F622, NA())","v":{"$error":"#N/A"}},{"$f":"IF(Foglio1!$H$12 <> \"\", Foglio1!$H$12 + G622*10^-3, NA())","v":{"$error":"#N/A"}},5545,8.6206518997844679,{"$f":" IF(Foglio1!$C$13 <> \"\", 8.314472*Foglio1!$C$13*Foglio2!J622, NA())","v":{"$error":"#N/A"}},{"$f":"IF(Foglio1!$H$13 <> \"\", Foglio1!$H$13 + K622*10^-3, NA())","v":{"$error":"#N/A"}},5545,8.6206518997844679,{"$f":" IF(Foglio1!$C$14 <> \"\", 8.314472*Foglio1!$C$14*Foglio2!N622, NA())","v":{"$error":"#N/A"}},{"$f":"IF(Foglio1!$H$14 <> \"\", Foglio1!$H$14 + O622*10^-3, NA())","v":{"$error":"#N/A"}},5545,8.6206518997844679,{"$f":" IF(Foglio1!$C$15 <> \"\", 8.314472*Foglio1!$C$15*Foglio2!R622, NA())","v":{"$error":"#N/A"}},{"$f":"IF(Foglio1!$H$15 <> \"\", Foglio1!$H$15 + S622*10^-3, NA())","v":{"$error":"#N/A"}}]
[5554,8.6222736678667449,{"$f":" IF(Foglio1!$C$11 <> \"\", 8.314472*Foglio1!$C$11*Foglio2!B623, NA())","v":21506.895896344606},{"$f":"IF(Foglio1!$H$11 <> \"\", Foglio1!$H$11 + C623*10^-3, NA())","v":-68.493104103655398},5554,8.6222736678667449,{"$f":" IF(Foglio1!$C$12 <> \"\", 8.314472*Foglio1!$C$12*Foglio2!F623, NA())","v":{"$error":"#N/A"}},{"$f":"IF(Foglio1!$H$12 <> \"\", Foglio1!$H$12 + G623*10^-3, NA())","v":{"$error":"#N/A"}},5554,8.6222736678667449,{"$f":" IF(Foglio1!$C$13 <> \"\", 8.314472*Foglio1!$C$13*Foglio2!J623, NA())","v":{"$error":"#N/A"}},{"$f":"IF(Foglio1!$H$13 <> \"\", Foglio1!$H$13 + K623*10^-3, NA())","v":{"$error":"#N/A"}},5554,8.6222736678667449,{"$f":" IF(Foglio1!$C$14 <> \"\", 8.314472*Foglio1!$C$14*Foglio2!N623, NA())","v":{"$error":"#N/A"}},{"$f":"IF(Foglio1!$H$14 <> \"\", Foglio1!$H$14 + O623*10^-3, NA())","v":{"$error":"#N/A"}},5554,8.6222736678667449,{"$f":" IF(Foglio1!$C$15 <> \"\", 8.314472*Foglio1!$C$15*Foglio2!R623, NA())","v":{"$error":"#N/A"}},{"$f":"IF(Foglio1!$H$15 <> \"\", Foglio1!$H$15 + S623*10^-3, NA())","v":{"$error":"#N/A"}}]
[5563,8.6238928100752936,{"$f":" IF(Foglio1!$C$11 <> \"\", 8.314472*Foglio1!$C$11*Foglio2!B624, NA())","v":21510.934590111705},{"$f":"IF(Foglio1!$H$11 <> \"\", Foglio1!$H$11 + C624*10^-3, NA())","v":-68.489065409888298},5563,8.6238928100752936,{"$f":" IF(Foglio1!$C$12 <> \"\", 8.314472*Foglio1!$C$12*Foglio2!F624, NA())","v":{"$error":"#N/A"}},{"$f":"IF(Foglio1!$H$12 <> \"\", Foglio1!$H$12 + G624*10^-3, NA())","v":{"$error":"#N/A"}},5563,8.6238928100752936,{"$f":" IF(Foglio1!$C$13 <> \"\", 8.314472*Foglio1!$C$13*Foglio2!J624, NA())","v":{"$error":"#N/A"}},{"$f":"IF(Foglio1!$H$13 <> \"\", Foglio1!$H$13 + K624*10^-3, NA())","v":{"$error":"#N/A"}},5563,8.6238928100752936,{"$f":" IF(Foglio1!$C$14 <> \"\", 8.314472*Foglio1!$C$14*Foglio2!N624, NA())","v":{"$error":"#N/A"}},{"$f":"IF(Foglio1!$H$14 <> \"\", Foglio1!$H$14 + O624*10^-3, NA())","v":{"$error":"#N/A"}},5563,8.6238928100752936,{"$f":" IF(Foglio1!$C$15 <> \"\", 8.314472*Foglio1!$C$15*Foglio2!R624, NA())","v":{"$error":"#N/A"}},{"$f":"IF(Foglio1!$H$15 <> \"\", Foglio1!$H$15 + S624*10^-3, NA())","v":{"$error":"#N/A"}}]
[5572,8.6255093348996965,{"$f":" IF(Foglio1!$C$11 <> \"\", 8.314472*Foglio1!$C$11*Foglio2!B625, NA())","v":21514.966755228648},{"$f":"IF(Foglio1!$H$11 <> \"\", Foglio1!$H$11 + C625*10^-3, NA())","v":-68.485033244771358},5572,8.6255093348996965,{"$f":" IF(Foglio1!$C$12 <> \"\", 8.314472*Foglio1!$C$12*Foglio2!F625, NA())","v":{"$error":"#N/A"}},{"$f":"IF(Foglio1!$H$12 <> \"\", Foglio1!$H$12 + G625*10^-3, NA())","v":{"$error":"#N/A"}},5572,8.6255093348996965,{"$f":" IF(Foglio1!$C$13 <> \"\", 8.314472*Foglio1!$C$13*Foglio2!J625, NA())","v":{"$error":"#N/A"}},{"$f":"IF(Foglio1!$H$13 <> \"\", Foglio1!$H$13 + K625*10^-3, NA())","v":{"$error":"#N/A"}},5572,8.6255093348996965,{"$f":" IF(Foglio1!$C$14 <> \"\", 8.314472*Foglio1!$C$14*Foglio2!N625, NA())","v":{"$error":"#N/A"}},{"$f":"IF(Foglio1!$H$14 <> \"\", Foglio1!$H$14 + O625*10^-3, NA())","v":{"$error":"#N/A"}},5572,8.6255093348996965,{"$f":" IF(Foglio1!$C$15 <> \"\", 8.314472*Foglio1!$C$15*Foglio2!R625, NA())","v":{"$error":"#N/A"}},{"$f":"IF(Foglio1!$H$15 <> \"\", Foglio1!$H$15 + S625*10^-3, NA())","v":{"$error":"#N/A"}}]
[5581,8.6271232507884328,{"$f":" IF(Foglio1!$C$11 <> \"\", 8.314472*Foglio1!$C$11*Foglio2!B626, NA())","v":21518.992412768821},{"$f":"IF(Foglio1!$H$11 <> \"\", Foglio1!$H$11 + C626*10^-3, NA())","v":-68.481007587231176},5581,8.6271232507884328,{"$f":" IF(Foglio1!$C$12 <> \"\", 8.314472*Foglio1!$C$12*Foglio2!F626, NA())","v":{"$error":"#N/A"}},{"$f":"IF(Foglio1!$H$12 <> \"\", Foglio1!$H$12 + G626*10^-3, NA())","v":{"$error":"#N/A"}},5581,8.6271232507884328,{"$f":" IF(Foglio1!$C$13 <> \"\", 8.314472*Foglio1!$C$13*Foglio2!J626, NA())","v":{"$error":"#N/A"}},{"$f":"IF(Foglio1!$H$13 <> \"\", Foglio1!$H$13 + K626*10^-3, NA())","v":{"$error":"#N/A"}},5581,8.6271232507884328,{"$f":" IF(Foglio1!$C$14 <> \"\", 8.314472*Foglio1!$C$14*Foglio2!N626, NA())","v":{"$error":"#N/A"}},{"$f":"IF(Foglio1!$H$14 <> \"\", Foglio1!$H$14 + O626*10^-3, NA())","v":{"$error":"#N/A"}},5581,8.6271232507884328,{"$f":" IF(Foglio1!$C$15 <> \"\", 8.314472*Foglio1!$C$15*Foglio2!R626, NA())","v":{"$error":"#N/A"}},{"$f":"IF(Foglio1!$H$15 <> \"\", Foglio1!$H$15 + S626*10^-3, NA())","v":{"$error":"#N/A"}}]
[5590,8.628734566149145,{"$f":" IF(Foglio1!$C$11 <> \"\", 8.314472*Foglio1!$C$11*Foglio2!B627, NA())","v":21523.011583703767},{"$f":"IF(Foglio1!$H$11 <> \"\", Foglio1!$H$11 + C627*10^-3, NA())","v":-68.476988416296237},5590,8.628734566149145,{"$f":" IF(Foglio1!$C$12 <> \"\", 8.314472*Foglio1!$C$12*Foglio2!F627, NA())","v":{"$error":"#N/A"}},{"$f":"IF(Foglio1!$H$12 <> \"\", Foglio1!$H$12 + G627*10^-3, NA())","v":{"$error":"#N/A"}},5590,8.628734566149145,{"$f":" IF(Foglio1!$C$13 <> \"\", 8.314472*Foglio1!$C$13*Foglio2!J627, NA())","v":{"$error":"#N/A"}},{"$f":"IF(Foglio1!$H$13 <> \"\", Foglio1!$H$13 + K627*10^-3, NA())","v":{"$error":"#N/A"}},5590,8.628734566149145,{"$f":" IF(Foglio1!$C$14 <> \"\", 8.314472*Foglio1!$C$14*Foglio2!N627, NA())","v":{"$error":"#N/A"}},{"$f":"IF(Foglio1!$H$14 <> \"\", Foglio1!$H$14 + O627*10^-3, NA())","v":{"$error":"#N/A"}},5590,8.628734566149145,{"$f":" IF(Foglio1!$C$15 <> \"\", 8.314472*Foglio1!$C$15*Foglio2!R627, NA())","v":{"$error":"#N/A"}},{"$f":"IF(Foglio1!$H$15 <> \"\", Foglio1!$H$15 + S627*10^-3, NA())","v":{"$error":"#N/A"}}]
[5599,8.6303432893488932,{"$f":" IF(Foglio1!$C$11 <> \"\", 8.314472*Foglio1!$C$11*Foglio2!B628, NA())","v":21527.024288903784},{"$f":"IF(Foglio1!$H$11 <> \"\", Foglio1!$H$11 + C628*10^-3, NA())","v":-68.472975711096211},5599,8.6303432893488932,{"$f":" IF(Foglio1!$C$12 <> \"\", 8.314472*Foglio1!$C$12*Foglio2!F628, NA())","v":{"$error":"#N/A"}},{"$f":"IF(Foglio1!$H$12 <> \"\", Foglio1!$H$12 + G628*10^-3, NA())","v":{"$error":"#N/A"}},5599,8.6303432893488932,{"$f":" IF(Foglio1!$C$13 <> \"\", 8.314472*Foglio1!$C$13*Foglio2!J628, NA())","v":{"$error":"#N/A"}},{"$f":"IF(Foglio1!$H$13 <> \"\", Foglio1!$H$13 + K628*10^-3, NA())","v":{"$error":"#N/A"}},5599,8.6303432893488932,{"$f":" IF(Foglio1!$C$14 <> \"\", 8.314472*Foglio1!$C$14*Foglio2!N628, NA())","v":{"$error":"#N/A"}},{"$f":"IF(Foglio1!$H$14 <> \"\", Foglio1!$H$14 + O628*10^-3, NA())","v":{"$error":"#N/A"}},5599,8.6303432893488932,{"$f":" IF(Foglio1!$C$15 <> \"\", 8.314472*Foglio1!$C$15*Foglio2!R628, NA())","v":{"$error":"#N/A"}},{"$f":"IF(Foglio1!$H$15 <> \"\", Foglio1!$H$15 + S628*10^-3, NA())","v":{"$error":"#N/A"}}]
[5608,8.6319494287144263,{"$f":" IF(Foglio1!$C$11 <> \"\", 8.314472*Foglio1!$C$11*Foglio2!B629, NA())","v":21531.030549138628},{"$f":"IF(Foglio1!$H$11 <> \"\", Foglio1!$H$11 + C629*10^-3, NA())","v":-68.46896945086138},5608,8.6319494287144263,{"$f":" IF(Foglio1!$C$12 <> \"\", 8.314472*Foglio1!$C$12*Foglio2!F629, NA())","v":{"$error":"#N/A"}},{"$f":"IF(Foglio1!$H$12 <> \"\", Foglio1!$H$12 + G629*10^-3, NA())","v":{"$error":"#N/A"}},5608,8.6319494287144263,{"$f":" IF(Foglio1!$C$13 <> \"\", 8.314472*Foglio1!$C$13*Foglio2!J629, NA())","v":{"$error":"#N/A"}},{"$f":"IF(Foglio1!$H$13 <> \"\", Foglio1!$H$13 + K629*10^-3, NA())","v":{"$error":"#N/A"}},5608,8.6319494287144263,{"$f":" IF(Foglio1!$C$14 <> \"\", 8.314472*Foglio1!$C$14*Foglio2!N629, NA())","v":{"$error":"#N/A"}},{"$f":"IF(Foglio1!$H$14 <> \"\", Foglio1!$H$14 + O629*10^-3, NA())","v":{"$error":"#N/A"}},5608,8.6319494287144263,{"$f":" IF(Foglio1!$C$15 <> \"\", 8.314472*Foglio1!$C$15*Foglio2!R629, NA())","v":{"$error":"#N/A"}},{"$f":"IF(Foglio1!$H$15 <> \"\", Foglio1!$H$15 + S629*10^-3, NA())","v":{"$error":"#N/A"}}]
[5617,8.633552992532433,{"$f":" IF(Foglio1!$C$11 <> \"\", 8.314472*Foglio1!$C$11*Foglio2!B630, NA())","v":21535.030385078138},{"$f":"IF(Foglio1!$H$11 <> \"\", Foglio1!$H$11 + C630*10^-3, NA())","v":-68.46496961492187},5617,8.633552992532433,{"$f":" IF(Foglio1!$C$12 <> \"\", 8.314472*Foglio1!$C$12*Foglio2!F630, NA())","v":{"$error":"#N/A"}},{"$f":"IF(Foglio1!$H$12 <> \"\", Foglio1!$H$12 + G630*10^-3, NA())","v":{"$error":"#N/A"}},5617,8.633552992532433,{"$f":" IF(Foglio1!$C$13 <> \"\", 8.314472*Foglio1!$C$13*Foglio2!J630, NA())","v":{"$error":"#N/A"}},{"$f":"IF(Foglio1!$H$13 <> \"\", Foglio1!$H$13 + K630*10^-3, NA())","v":{"$error":"#N/A"}},5617,8.633552992532433,{"$f":" IF(Foglio1!$C$14 <> \"\", 8.314472*Foglio1!$C$14*Foglio2!N630, NA())","v":{"$error":"#N/A"}},{"$f":"IF(Foglio1!$H$14 <> \"\", Foglio1!$H$14 + O630*10^-3, NA())","v":{"$error":"#N/A"}},5617,8.633552992532433,{"$f":" IF(Foglio1!$C$15 <> \"\", 8.314472*Foglio1!$C$15*Foglio2!R630, NA())","v":{"$error":"#N/A"}},{"$f":"IF(Foglio1!$H$15 <> \"\", Foglio1!$H$15 + S630*10^-3, NA())","v":{"$error":"#N/A"}}]
[5626,8.6351539890498028,{"$f":" IF(Foglio1!$C$11 <> \"\", 8.314472*Foglio1!$C$11*Foglio2!B631, NA())","v":21539.023817292869},{"$f":"IF(Foglio1!$H$11 <> \"\", Foglio1!$H$11 + C631*10^-3, NA())","v":-68.460976182707128},5626,8.6351539890498028,{"$f":" IF(Foglio1!$C$12 <> \"\", 8.314472*Foglio1!$C$12*Foglio2!F631, NA())","v":{"$error":"#N/A"}},{"$f":"IF(Foglio1!$H$12 <> \"\", Foglio1!$H$12 + G631*10^-3, NA())","v":{"$error":"#N/A"}},5626,8.6351539890498028,{"$f":" IF(Foglio1!$C$13 <> \"\", 8.314472*Foglio1!$C$13*Foglio2!J631, NA())","v":{"$error":"#N/A"}},{"$f":"IF(Foglio1!$H$13 <> \"\", Foglio1!$H$13 + K631*10^-3, NA())","v":{"$error":"#N/A"}},5626,8.6351539890498028,{"$f":" IF(Foglio1!$C$14 <> \"\", 8.314472*Foglio1!$C$14*Foglio2!N631, NA())","v":{"$error":"#N/A"}},{"$f":"IF(Foglio1!$H$14 <> \"\", Foglio1!$H$14 + O631*10^-3, NA())","v":{"$error":"#N/A"}},5626,8.6351539890498028,{"$f":" IF(Foglio1!$C$15 <> \"\", 8.314472*Foglio1!$C$15*Foglio2!R631, NA())","v":{"$error":"#N/A"}},{"$f":"IF(Foglio1!$H$15 <> \"\", Foglio1!$H$15 + S631*10^-3, NA())","v":{"$error":"#N/A"}}]
[5635,8.6367524264738762,{"$f":" IF(Foglio1!$C$11 <> \"\", 8.314472*Foglio1!$C$11*Foglio2!B632, NA())","v":21543.010866254732},{"$f":"IF(Foglio1!$H$11 <> \"\", Foglio1!$H$11 + C632*10^-3, NA())","v":-68.456989133745267},5635,8.6367524264738762,{"$f":" IF(Foglio1!$C$12 <> \"\", 8.314472*Foglio1!$C$12*Foglio2!F632, NA())","v":{"$error":"#N/A"}},{"$f":"IF(Foglio1!$H$12 <> \"\", Foglio1!$H$12 + G632*10^-3, NA())","v":{"$error":"#N/A"}},5635,8.6367524264738762,{"$f":" IF(Foglio1!$C$13 <> \"\", 8.314472*Foglio1!$C$13*Foglio2!J632, NA())","v":{"$error":"#N/A"}},{"$f":"IF(Foglio1!$H$13 <> \"\", Foglio1!$H$13 + K632*10^-3, NA())","v":{"$error":"#N/A"}},5635,8.6367524264738762,{"$f":" IF(Foglio1!$C$14 <> \"\", 8.314472*Foglio1!$C$14*Foglio2!N632, NA())","v":{"$error":"#N/A"}},{"$f":"IF(Foglio1!$H$14 <> \"\", Foglio1!$H$14 + O632*10^-3, NA())","v":{"$error":"#N/A"}},5635,8.6367524264738762,{"$f":" IF(Foglio1!$C$15 <> \"\", 8.314472*Foglio1!$C$15*Foglio2!R632, NA())","v":{"$error":"#N/A"}},{"$f":"IF(Foglio1!$H$15 <> \"\", Foglio1!$H$15 + S632*10^-3, NA())","v":{"$error":"#N/A"}}]
[5644,8.6383483129727043,{"$f":" IF(Foglio1!$C$11 <> \"\", 8.314472*Foglio1!$C$11*Foglio2!B633, NA())","v":21546.991552337637},{"$f":"IF(Foglio1!$H$11 <> \"\", Foglio1!$H$11 + C633*10^-3, NA())","v":-68.45300844766237},5644,8.6383483129727043,{"$f":" IF(Foglio1!$C$12 <> \"\", 8.314472*Foglio1!$C$12*Foglio2!F633, NA())","v":{"$error":"#N/A"}},{"$f":"IF(Foglio1!$H$12 <> \"\", Foglio1!$H$12 + G633*10^-3, NA())","v":{"$error":"#N/A"}},5644,8.6383483129727043,{"$f":" IF(Foglio1!$C$13 <> \"\", 8.314472*Foglio1!$C$13*Foglio2!J633, NA())","v":{"$error":"#N/A"}},{"$f":"IF(Foglio1!$H$13 <> \"\", Foglio1!$H$13 + K633*10^-3, NA())","v":{"$error":"#N/A"}},5644,8.6383483129727043,{"$f":" IF(Foglio1!$C$14 <> \"\", 8.314472*Foglio1!$C$14*Foglio2!N633, NA())","v":{"$error":"#N/A"}},{"$f":"IF(Foglio1!$H$14 <> \"\", Foglio1!$H$14 + O633*10^-3, NA())","v":{"$error":"#N/A"}},5644,8.6383483129727043,{"$f":" IF(Foglio1!$C$15 <> \"\", 8.314472*Foglio1!$C$15*Foglio2!R633, NA())","v":{"$error":"#N/A"}},{"$f":"IF(Foglio1!$H$15 <> \"\", Foglio1!$H$15 + S633*10^-3, NA())","v":{"$error":"#N/A"}}]
[5653,8.6399416566752905,{"$f":" IF(Foglio1!$C$11 <> \"\", 8.314472*Foglio1!$C$11*Foglio2!B634, NA())","v":21550.965895818095},{"$f":"IF(Foglio1!$H$11 <> \"\", Foglio1!$H$11 + C634*10^-3, NA())","v":-68.449034104181905},5653,8.6399416566752905,{"$f":" IF(Foglio1!$C$12 <> \"\", 8.314472*Foglio1!$C$12*Foglio2!F634, NA())","v":{"$error":"#N/A"}},{"$f":"IF(Foglio1!$H$12 <> \"\", Foglio1!$H$12 + G634*10^-3, NA())","v":{"$error":"#N/A"}},5653,8.6399416566752905,{"$f":" IF(Foglio1!$C$13 <> \"\", 8.314472*Foglio1!$C$13*Foglio2!J634, NA())","v":{"$error":"#N/A"}},{"$f":"IF(Foglio1!$H$13 <> \"\", Foglio1!$H$13 + K634*10^-3, NA())","v":{"$error":"#N/A"}},5653,8.6399416566752905,{"$f":" IF(Foglio1!$C$14 <> \"\", 8.314472*Foglio1!$C$14*Foglio2!N634, NA())","v":{"$error":"#N/A"}},{"$f":"IF(Foglio1!$H$14 <> \"\", Foglio1!$H$14 + O634*10^-3, NA())","v":{"$error":"#N/A"}},5653,8.6399416566752905,{"$f":" IF(Foglio1!$C$15 <> \"\", 8.314472*Foglio1!$C$15*Foglio2!R634, NA())","v":{"$error":"#N/A"}},{"$f":"IF(Foglio1!$H$15 <> \"\", Foglio1!$H$15 + S634*10^-3, NA())","v":{"$error":"#N/A"}}]
[5662,8.6415324656718457,{"$f":" IF(Foglio1!$C$11 <> \"\", 8.314472*Foglio1!$C$11*Foglio2!B635, NA())","v":21554.93391687586},{"$f":"IF(Foglio1!$H$11 <> \"\", Foglio1!$H$11 + C635*10^-3, NA())","v":-68.445066083124146},5662,8.6415324656718457,{"$f":" IF(Foglio1!$C$12 <> \"\", 8.314472*Foglio1!$C$12*Foglio2!F635, NA())","v":{"$error":"#N/A"}},{"$f":"IF(Foglio1!$H$12 <> \"\", Foglio1!$H$12 + G635*10^-3, NA())","v":{"$error":"#N/A"}},5662,8.6415324656718457,{"$f":" IF(Foglio1!$C$13 <> \"\", 8.314472*Foglio1!$C$13*Foglio2!J635, NA())","v":{"$error":"#N/A"}},{"$f":"IF(Foglio1!$H$13 <> \"\", Foglio1!$H$13 + K635*10^-3, NA())","v":{"$error":"#N/A"}},5662,8.6415324656718457,{"$f":" IF(Foglio1!$C$14 <> \"\", 8.314472*Foglio1!$C$14*Foglio2!N635, NA())","v":{"$error":"#N/A"}},{"$f":"IF(Foglio1!$H$14 <> \"\", Foglio1!$H$14 + O635*10^-3, NA())","v":{"$error":"#N/A"}},5662,8.6415324656718457,{"$f":" IF(Foglio1!$C$15 <> \"\", 8.314472*Foglio1!$C$15*Foglio2!R635, NA())","v":{"$error":"#N/A"}},{"$f":"IF(Foglio1!$H$15 <> \"\", Foglio1!$H$15 + S635*10^-3, NA())","v":{"$error":"#N/A"}}]
[5671,8.6431207480140273,{"$f":" IF(Foglio1!$C$11 <> \"\", 8.314472*Foglio1!$C$11*Foglio2!B636, NA())","v":21558.895635594508},{"$f":"IF(Foglio1!$H$11 <> \"\", Foglio1!$H$11 + C636*10^-3, NA())","v":-68.44110436440549},5671,8.6431207480140273,{"$f":" IF(Foglio1!$C$12 <> \"\", 8.314472*Foglio1!$C$12*Foglio2!F636, NA())","v":{"$error":"#N/A"}},{"$f":"IF(Foglio1!$H$12 <> \"\", Foglio1!$H$12 + G636*10^-3, NA())","v":{"$error":"#N/A"}},5671,8.6431207480140273,{"$f":" IF(Foglio1!$C$13 <> \"\", 8.314472*Foglio1!$C$13*Foglio2!J636, NA())","v":{"$error":"#N/A"}},{"$f":"IF(Foglio1!$H$13 <> \"\", Foglio1!$H$13 + K636*10^-3, NA())","v":{"$error":"#N/A"}},5671,8.6431207480140273,{"$f":" IF(Foglio1!$C$14 <> \"\", 8.314472*Foglio1!$C$14*Foglio2!N636, NA())","v":{"$error":"#N/A"}},{"$f":"IF(Foglio1!$H$14 <> \"\", Foglio1!$H$14 + O636*10^-3, NA())","v":{"$error":"#N/A"}},5671,8.6431207480140273,{"$f":" IF(Foglio1!$C$15 <> \"\", 8.314472*Foglio1!$C$15*Foglio2!R636, NA())","v":{"$error":"#N/A"}},{"$f":"IF(Foglio1!$H$15 <> \"\", Foglio1!$H$15 + S636*10^-3, NA())","v":{"$error":"#N/A"}}]
[5680,8.6447065117151975,{"$f":" IF(Foglio1!$C$11 <> \"\", 8.314472*Foglio1!$C$11*Foglio2!B637, NA())","v":21562.851071962108},{"$f":"IF(Foglio1!$H$11 <> \"\", Foglio1!$H$11 + C637*10^-3, NA())","v":-68.437148928037885},5680,8.6447065117151975,{"$f":" IF(Foglio1!$C$12 <> \"\", 8.314472*Foglio1!$C$12*Foglio2!F637, NA())","v":{"$error":"#N/A"}},{"$f":"IF(Foglio1!$H$12 <> \"\", Foglio1!$H$12 + G637*10^-3, NA())","v":{"$error":"#N/A"}},5680,8.6447065117151975,{"$f":" IF(Foglio1!$C$13 <> \"\", 8.314472*Foglio1!$C$13*Foglio2!J637, NA())","v":{"$error":"#N/A"}},{"$f":"IF(Foglio1!$H$13 <> \"\", Foglio1!$H$13 + K637*10^-3, NA())","v":{"$error":"#N/A"}},5680,8.6447065117151975,{"$f":" IF(Foglio1!$C$14 <> \"\", 8.314472*Foglio1!$C$14*Foglio2!N637, NA())","v":{"$error":"#N/A"}},{"$f":"IF(Foglio1!$H$14 <> \"\", Foglio1!$H$14 + O637*10^-3, NA())","v":{"$error":"#N/A"}},5680,8.6447065117151975,{"$f":" IF(Foglio1!$C$15 <> \"\", 8.314472*Foglio1!$C$15*Foglio2!R637, NA())","v":{"$error":"#N/A"}},{"$f":"IF(Foglio1!$H$15 <> \"\", Foglio1!$H$15 + S637*10^-3, NA())","v":{"$error":"#N/A"}}]
[5689,8.646289764750648,{"$f":" IF(Foglio1!$C$11 <> \"\", 8.314472*Foglio1!$C$11*Foglio2!B638, NA())","v":21566.800245871756},{"$f":"IF(Foglio1!$H$11 <> \"\", Foglio1!$H$11 + C638*10^-3, NA())","v":-68.433199754128239},5689,8.646289764750648,{"$f":" IF(Foglio1!$C$12 <> \"\", 8.314472*Foglio1!$C$12*Foglio2!F638, NA())","v":{"$error":"#N/A"}},{"$f":"IF(Foglio1!$H$12 <> \"\", Foglio1!$H$12 + G638*10^-3, NA())","v":{"$error":"#N/A"}},5689,8.646289764750648,{"$f":" IF(Foglio1!$C$13 <> \"\", 8.314472*Foglio1!$C$13*Foglio2!J638, NA())","v":{"$error":"#N/A"}},{"$f":"IF(Foglio1!$H$13 <> \"\", Foglio1!$H$13 + K638*10^-3, NA())","v":{"$error":"#N/A"}},5689,8.646289764750648,{"$f":" IF(Foglio1!$C$14 <> \"\", 8.314472*Foglio1!$C$14*Foglio2!N638, NA())","v":{"$error":"#N/A"}},{"$f":"IF(Foglio1!$H$14 <> \"\", Foglio1!$H$14 + O638*10^-3, NA())","v":{"$error":"#N/A"}},5689,8.646289764750648,{"$f":" IF(Foglio1!$C$15 <> \"\", 8.314472*Foglio1!$C$15*Foglio2!R638, NA())","v":{"$error":"#N/A"}},{"$f":"IF(Foglio1!$H$15 <> \"\", Foglio1!$H$15 + S638*10^-3, NA())","v":{"$error":"#N/A"}}]
[5698,8.6478705150578534,{"$f":" IF(Foglio1!$C$11 <> \"\", 8.314472*Foglio1!$C$11*Foglio2!B639, NA())","v":21570.743177122233},{"$f":"IF(Foglio1!$H$11 <> \"\", Foglio1!$H$11 + C639*10^-3, NA())","v":-68.429256822877761},5698,8.6478705150578534,{"$f":" IF(Foglio1!$C$12 <> \"\", 8.314472*Foglio1!$C$12*Foglio2!F639, NA())","v":{"$error":"#N/A"}},{"$f":"IF(Foglio1!$H$12 <> \"\", Foglio1!$H$12 + G639*10^-3, NA())","v":{"$error":"#N/A"}},5698,8.6478705150578534,{"$f":" IF(Foglio1!$C$13 <> \"\", 8.314472*Foglio1!$C$13*Foglio2!J639, NA())","v":{"$error":"#N/A"}},{"$f":"IF(Foglio1!$H$13 <> \"\", Foglio1!$H$13 + K639*10^-3, NA())","v":{"$error":"#N/A"}},5698,8.6478705150578534,{"$f":" IF(Foglio1!$C$14 <> \"\", 8.314472*Foglio1!$C$14*Foglio2!N639, NA())","v":{"$error":"#N/A"}},{"$f":"IF(Foglio1!$H$14 <> \"\", Foglio1!$H$14 + O639*10^-3, NA())","v":{"$error":"#N/A"}},5698,8.6478705150578534,{"$f":" IF(Foglio1!$C$15 <> \"\", 8.314472*Foglio1!$C$15*Foglio2!R639, NA())","v":{"$error":"#N/A"}},{"$f":"IF(Foglio1!$H$15 <> \"\", Foglio1!$H$15 + S639*10^-3, NA())","v":{"$error":"#N/A"}}]
[5707,8.6494487705367078,{"$f":" IF(Foglio1!$C$11 <> \"\", 8.314472*Foglio1!$C$11*Foglio2!B640, NA())","v":21574.679885418565},{"$f":"IF(Foglio1!$H$11 <> \"\", Foglio1!$H$11 + C640*10^-3, NA())","v":-68.425320114581439},5707,8.6494487705367078,{"$f":" IF(Foglio1!$C$12 <> \"\", 8.314472*Foglio1!$C$12*Foglio2!F640, NA())","v":{"$error":"#N/A"}},{"$f":"IF(Foglio1!$H$12 <> \"\", Foglio1!$H$12 + G640*10^-3, NA())","v":{"$error":"#N/A"}},5707,8.6494487705367078,{"$f":" IF(Foglio1!$C$13 <> \"\", 8.314472*Foglio1!$C$13*Foglio2!J640, NA())","v":{"$error":"#N/A"}},{"$f":"IF(Foglio1!$H$13 <> \"\", Foglio1!$H$13 + K640*10^-3, NA())","v":{"$error":"#N/A"}},5707,8.6494487705367078,{"$f":" IF(Foglio1!$C$14 <> \"\", 8.314472*Foglio1!$C$14*Foglio2!N640, NA())","v":{"$error":"#N/A"}},{"$f":"IF(Foglio1!$H$14 <> \"\", Foglio1!$H$14 + O640*10^-3, NA())","v":{"$error":"#N/A"}},5707,8.6494487705367078,{"$f":" IF(Foglio1!$C$15 <> \"\", 8.314472*Foglio1!$C$15*Foglio2!R640, NA())","v":{"$error":"#N/A"}},{"$f":"IF(Foglio1!$H$15 <> \"\", Foglio1!$H$15 + S640*10^-3, NA())","v":{"$error":"#N/A"}}]
[5716,8.6510245390497573,{"$f":" IF(Foglio1!$C$11 <> \"\", 8.314472*Foglio1!$C$11*Foglio2!B641, NA())","v":21578.610390372636},{"$f":"IF(Foglio1!$H$11 <> \"\", Foglio1!$H$11 + C641*10^-3, NA())","v":-68.421389609627369},5716,8.6510245390497573,{"$f":" IF(Foglio1!$C$12 <> \"\", 8.314472*Foglio1!$C$12*Foglio2!F641, NA())","v":{"$error":"#N/A"}},{"$f":"IF(Foglio1!$H$12 <> \"\", Foglio1!$H$12 + G641*10^-3, NA())","v":{"$error":"#N/A"}},5716,8.6510245390497573,{"$f":" IF(Foglio1!$C$13 <> \"\", 8.314472*Foglio1!$C$13*Foglio2!J641, NA())","v":{"$error":"#N/A"}},{"$f":"IF(Foglio1!$H$13 <> \"\", Foglio1!$H$13 + K641*10^-3, NA())","v":{"$error":"#N/A"}},5716,8.6510245390497573,{"$f":" IF(Foglio1!$C$14 <> \"\", 8.314472*Foglio1!$C$14*Foglio2!N641, NA())","v":{"$error":"#N/A"}},{"$f":"IF(Foglio1!$H$14 <> \"\", Foglio1!$H$14 + O641*10^-3, NA())","v":{"$error":"#N/A"}},5716,8.6510245390497573,{"$f":" IF(Foglio1!$C$15 <> \"\", 8.314472*Foglio1!$C$15*Foglio2!R641, NA())","v":{"$error":"#N/A"}},{"$f":"IF(Foglio1!$H$15 <> \"\", Foglio1!$H$15 + S641*10^-3, NA())","v":{"$error":"#N/A"}}]
[5725,8.6525978284224401,{"$f":" IF(Foglio1!$C$11 <> \"\", 8.314472*Foglio1!$C$11*Foglio2!B642, NA())","v":21582.534711503755},{"$f":"IF(Foglio1!$H$11 <> \"\", Foglio1!$H$11 + C642*10^-3, NA())","v":-68.417465288496246},5725,8.6525978284224401,{"$f":" IF(Foglio1!$C$12 <> \"\", 8.314472*Foglio1!$C$12*Foglio2!F642, NA())","v":{"$error":"#N/A"}},{"$f":"IF(Foglio1!$H$12 <> \"\", Foglio1!$H$12 + G642*10^-3, NA())","v":{"$error":"#N/A"}},5725,8.6525978284224401,{"$f":" IF(Foglio1!$C$13 <> \"\", 8.314472*Foglio1!$C$13*Foglio2!J642, NA())","v":{"$error":"#N/A"}},{"$f":"IF(Foglio1!$H$13 <> \"\", Foglio1!$H$13 + K642*10^-3, NA())","v":{"$error":"#N/A"}},5725,8.6525978284224401,{"$f":" IF(Foglio1!$C$14 <> \"\", 8.314472*Foglio1!$C$14*Foglio2!N642, NA())","v":{"$error":"#N/A"}},{"$f":"IF(Foglio1!$H$14 <> \"\", Foglio1!$H$14 + O642*10^-3, NA())","v":{"$error":"#N/A"}},5725,8.6525978284224401,{"$f":" IF(Foglio1!$C$15 <> \"\", 8.314472*Foglio1!$C$15*Foglio2!R642, NA())","v":{"$error":"#N/A"}},{"$f":"IF(Foglio1!$H$15 <> \"\", Foglio1!$H$15 + S642*10^-3, NA())","v":{"$error":"#N/A"}}]
[5734,{"$f":"LN(A643)","v":8.6541686464433152},{"$f":" IF(Foglio1!$C$11 <> \"\", 8.314472*Foglio1!$C$11*Foglio2!B643, NA())","v":21586.452868239256},{"$f":"IF(Foglio1!$H$11 <> \"\", Foglio1!$H$11 + C643*10^-3, NA())","v":-68.413547131760737},5734,{"$f":"LN(E643)","v":8.6541686464433152},{"$f":" IF(Foglio1!$C$12 <> \"\", 8.314472*Foglio1!$C$12*Foglio2!F643, NA())","v":{"$error":"#N/A"}},{"$f":"IF(Foglio1!$H$12 <> \"\", Foglio1!$H$12 + G643*10^-3, NA())","v":{"$error":"#N/A"}},5734,{"$f":"LN(I643)","v":8.6541686464433152},{"$f":" IF(Foglio1!$C$13 <> \"\", 8.314472*Foglio1!$C$13*Foglio2!J643, NA())","v":{"$error":"#N/A"}},{"$f":"IF(Foglio1!$H$13 <> \"\", Foglio1!$H$13 + K643*10^-3, NA())","v":{"$error":"#N/A"}},5734,{"$f":"LN(M643)","v":8.6541686464433152},{"$f":" IF(Foglio1!$C$14 <> \"\", 8.314472*Foglio1!$C$14*Foglio2!N643, NA())","v":{"$error":"#N/A"}},{"$f":"IF(Foglio1!$H$14 <> \"\", Foglio1!$H$14 + O643*10^-3, NA())","v":{"$error":"#N/A"}},5734,{"$f":"LN(Q643)","v":8.6541686464433152},{"$f":" IF(Foglio1!$C$15 <> \"\", 8.314472*Foglio1!$C$15*Foglio2!R643, NA())","v":{"$error":"#N/A"}},{"$f":"IF(Foglio1!$H$15 <> \"\", Foglio1!$H$15 + S643*10^-3, NA())","v":{"$error":"#N/A"}}]
[5743,8.6557370008642973,{"$f":" IF(Foglio1!$C$11 <> \"\", 8.314472*Foglio1!$C$11*Foglio2!B644, NA())","v":21590.364879915054},{"$f":"IF(Foglio1!$H$11 <> \"\", Foglio1!$H$11 + C644*10^-3, NA())","v":-68.409635120084943},5743,8.6557370008642973,{"$f":" IF(Foglio1!$C$12 <> \"\", 8.314472*Foglio1!$C$12*Foglio2!F644, NA())","v":{"$error":"#N/A"}},{"$f":"IF(Foglio1!$H$12 <> \"\", Foglio1!$H$12 + G644*10^-3, NA())","v":{"$error":"#N/A"}},5743,8.6557370008642973,{"$f":" IF(Foglio1!$C$13 <> \"\", 8.314472*Foglio1!$C$13*Foglio2!J644, NA())","v":{"$error":"#N/A"}},{"$f":"IF(Foglio1!$H$13 <> \"\", Foglio1!$H$13 + K644*10^-3, NA())","v":{"$error":"#N/A"}},5743,8.6557370008642973,{"$f":" IF(Foglio1!$C$14 <> \"\", 8.314472*Foglio1!$C$14*Foglio2!N644, NA())","v":{"$error":"#N/A"}},{"$f":"IF(Foglio1!$H$14 <> \"\", Foglio1!$H$14 + O644*10^-3, NA())","v":{"$error":"#N/A"}},5743,8.6557370008642973,{"$f":" IF(Foglio1!$C$15 <> \"\", 8.314472*Foglio1!$C$15*Foglio2!R644, NA())","v":{"$error":"#N/A"}},{"$f":"IF(Foglio1!$H$15 <> \"\", Foglio1!$H$15 + S644*10^-3, NA())","v":{"$error":"#N/A"}}]
[5752,8.6573028994008823,{"$f":" IF(Foglio1!$C$11 <> \"\", 8.314472*Foglio1!$C$11*Foglio2!B645, NA())","v":21594.270765776237},{"$f":"IF(Foglio1!$H$11 <> \"\", Foglio1!$H$11 + C645*10^-3, NA())","v":-68.40572923422377},5752,8.6573028994008823,{"$f":" IF(Foglio1!$C$12 <> \"\", 8.314472*Foglio1!$C$12*Foglio2!F645, NA())","v":{"$error":"#N/A"}},{"$f":"IF(Foglio1!$H$12 <> \"\", Foglio1!$H$12 + G645*10^-3, NA())","v":{"$error":"#N/A"}},5752,8.6573028994008823,{"$f":" IF(Foglio1!$C$13 <> \"\", 8.314472*Foglio1!$C$13*Foglio2!J645, NA())","v":{"$error":"#N/A"}},{"$f":"IF(Foglio1!$H$13 <> \"\", Foglio1!$H$13 + K645*10^-3, NA())","v":{"$error":"#N/A"}},5752,8.6573028994008823,{"$f":" IF(Foglio1!$C$14 <> \"\", 8.314472*Foglio1!$C$14*Foglio2!N645, NA())","v":{"$error":"#N/A"}},{"$f":"IF(Foglio1!$H$14 <> \"\", Foglio1!$H$14 + O645*10^-3, NA())","v":{"$error":"#N/A"}},5752,8.6573028994008823,{"$f":" IF(Foglio1!$C$15 <> \"\", 8.314472*Foglio1!$C$15*Foglio2!R645, NA())","v":{"$error":"#N/A"}},{"$f":"IF(Foglio1!$H$15 <> \"\", Foglio1!$H$15 + S645*10^-3, NA())","v":{"$error":"#N/A"}}]
[5761,8.6588663497323832,{"$f":" IF(Foglio1!$C$11 <> \"\", 8.314472*Foglio1!$C$11*Foglio2!B646, NA())","v":21598.170544977635},{"$f":"IF(Foglio1!$H$11 <> \"\", Foglio1!$H$11 + C646*10^-3, NA())","v":-68.401829455022366},5761,8.6588663497323832,{"$f":" IF(Foglio1!$C$12 <> \"\", 8.314472*Foglio1!$C$12*Foglio2!F646, NA())","v":{"$error":"#N/A"}},{"$f":"IF(Foglio1!$H$12 <> \"\", Foglio1!$H$12 + G646*10^-3, NA())","v":{"$error":"#N/A"}},5761,8.6588663497323832,{"$f":" IF(Foglio1!$C$13 <> \"\", 8.314472*Foglio1!$C$13*Foglio2!J646, NA())","v":{"$error":"#N/A"}},{"$f":"IF(Foglio1!$H$13 <> \"\", Foglio1!$H$13 + K646*10^-3, NA())","v":{"$error":"#N/A"}},5761,8.6588663497323832,{"$f":" IF(Foglio1!$C$14 <> \"\", 8.314472*Foglio1!$C$14*Foglio2!N646, NA())","v":{"$error":"#N/A"}},{"$f":"IF(Foglio1!$H$14 <> \"\", Foglio1!$H$14 + O646*10^-3, NA())","v":{"$error":"#N/A"}},5761,8.6588663497323832,{"$f":" IF(Foglio1!$C$15 <> \"\", 8.314472*Foglio1!$C$15*Foglio2!R646, NA())","v":{"$error":"#N/A"}},{"$f":"IF(Foglio1!$H$15 <> \"\", Foglio1!$H$15 + S646*10^-3, NA())","v":{"$error":"#N/A"}}]
[5770,8.6604273595021457,{"$f":" IF(Foglio1!$C$11 <> \"\", 8.314472*Foglio1!$C$11*Foglio2!B647, NA())","v":21602.06423658436},{"$f":"IF(Foglio1!$H$11 <> \"\", Foglio1!$H$11 + C647*10^-3, NA())","v":-68.397935763415632},5770,8.6604273595021457,{"$f":" IF(Foglio1!$C$12 <> \"\", 8.314472*Foglio1!$C$12*Foglio2!F647, NA())","v":{"$error":"#N/A"}},{"$f":"IF(Foglio1!$H$12 <> \"\", Foglio1!$H$12 + G647*10^-3, NA())","v":{"$error":"#N/A"}},5770,8.6604273595021457,{"$f":" IF(Foglio1!$C$13 <> \"\", 8.314472*Foglio1!$C$13*Foglio2!J647, NA())","v":{"$error":"#N/A"}},{"$f":"IF(Foglio1!$H$13 <> \"\", Foglio1!$H$13 + K647*10^-3, NA())","v":{"$error":"#N/A"}},5770,8.6604273595021457,{"$f":" IF(Foglio1!$C$14 <> \"\", 8.314472*Foglio1!$C$14*Foglio2!N647, NA())","v":{"$error":"#N/A"}},{"$f":"IF(Foglio1!$H$14 <> \"\", Foglio1!$H$14 + O647*10^-3, NA())","v":{"$error":"#N/A"}},5770,8.6604273595021457,{"$f":" IF(Foglio1!$C$15 <> \"\", 8.314472*Foglio1!$C$15*Foglio2!R647, NA())","v":{"$error":"#N/A"}},{"$f":"IF(Foglio1!$H$15 <> \"\", Foglio1!$H$15 + S647*10^-3, NA())","v":{"$error":"#N/A"}}]
[5779,8.6619859363177785,{"$f":" IF(Foglio1!$C$11 <> \"\", 8.314472*Foglio1!$C$11*Foglio2!B648, NA())","v":21605.951859572386},{"$f":"IF(Foglio1!$H$11 <> \"\", Foglio1!$H$11 + C648*10^-3, NA())","v":-68.394048140427614},5779,8.6619859363177785,{"$f":" IF(Foglio1!$C$12 <> \"\", 8.314472*Foglio1!$C$12*Foglio2!F648, NA())","v":{"$error":"#N/A"}},{"$f":"IF(Foglio1!$H$12 <> \"\", Foglio1!$H$12 + G648*10^-3, NA())","v":{"$error":"#N/A"}},5779,8.6619859363177785,{"$f":" IF(Foglio1!$C$13 <> \"\", 8.314472*Foglio1!$C$13*Foglio2!J648, NA())","v":{"$error":"#N/A"}},{"$f":"IF(Foglio1!$H$13 <> \"\", Foglio1!$H$13 + K648*10^-3, NA())","v":{"$error":"#N/A"}},5779,8.6619859363177785,{"$f":" IF(Foglio1!$C$14 <> \"\", 8.314472*Foglio1!$C$14*Foglio2!N648, NA())","v":{"$error":"#N/A"}},{"$f":"IF(Foglio1!$H$14 <> \"\", Foglio1!$H$14 + O648*10^-3, NA())","v":{"$error":"#N/A"}},5779,8.6619859363177785,{"$f":" IF(Foglio1!$C$15 <> \"\", 8.314472*Foglio1!$C$15*Foglio2!R648, NA())","v":{"$error":"#N/A"}},{"$f":"IF(Foglio1!$H$15 <> \"\", Foglio1!$H$15 + S648*10^-3, NA())","v":{"$error":"#N/A"}}]
[5788,8.6635420877513738,{"$f":" IF(Foglio1!$C$11 <> \"\", 8.314472*Foglio1!$C$11*Foglio2!B649, NA())","v":21609.833432829102},{"$f":"IF(Foglio1!$H$11 <> \"\", Foglio1!$H$11 + C649*10^-3, NA())","v":-68.390166567170894},5788,8.6635420877513738,{"$f":" IF(Foglio1!$C$12 <> \"\", 8.314472*Foglio1!$C$12*Foglio2!F649, NA())","v":{"$error":"#N/A"}},{"$f":"IF(Foglio1!$H$12 <> \"\", Foglio1!$H$12 + G649*10^-3, NA())","v":{"$error":"#N/A"}},5788,8.6635420877513738,{"$f":" IF(Foglio1!$C$13 <> \"\", 8.314472*Foglio1!$C$13*Foglio2!J649, NA())","v":{"$error":"#N/A"}},{"$f":"IF(Foglio1!$H$13 <> \"\", Foglio1!$H$13 + K649*10^-3, NA())","v":{"$error":"#N/A"}},5788,8.6635420877513738,{"$f":" IF(Foglio1!$C$14 <> \"\", 8.314472*Foglio1!$C$14*Foglio2!N649, NA())","v":{"$error":"#N/A"}},{"$f":"IF(Foglio1!$H$14 <> \"\", Foglio1!$H$14 + O649*10^-3, NA())","v":{"$error":"#N/A"}},5788,8.6635420877513738,{"$f":" IF(Foglio1!$C$15 <> \"\", 8.314472*Foglio1!$C$15*Foglio2!R649, NA())","v":{"$error":"#N/A"}},{"$f":"IF(Foglio1!$H$15 <> \"\", Foglio1!$H$15 + S649*10^-3, NA())","v":{"$error":"#N/A"}}]
[5797,8.6650958213397331,{"$f":" IF(Foglio1!$C$11 <> \"\", 8.314472*Foglio1!$C$11*Foglio2!B650, NA())","v":21613.708975153866},{"$f":"IF(Foglio1!$H$11 <> \"\", Foglio1!$H$11 + C650*10^-3, NA())","v":-68.38629102484613},5797,8.6650958213397331,{"$f":" IF(Foglio1!$C$12 <> \"\", 8.314472*Foglio1!$C$12*Foglio2!F650, NA())","v":{"$error":"#N/A"}},{"$f":"IF(Foglio1!$H$12 <> \"\", Foglio1!$H$12 + G650*10^-3, NA())","v":{"$error":"#N/A"}},5797,8.6650958213397331,{"$f":" IF(Foglio1!$C$13 <> \"\", 8.314472*Foglio1!$C$13*Foglio2!J650, NA())","v":{"$error":"#N/A"}},{"$f":"IF(Foglio1!$H$13 <> \"\", Foglio1!$H$13 + K650*10^-3, NA())","v":{"$error":"#N/A"}},5797,8.6650958213397331,{"$f":" IF(Foglio1!$C$14 <> \"\", 8.314472*Foglio1!$C$14*Foglio2!N650, NA())","v":{"$error":"#N/A"}},{"$f":"IF(Foglio1!$H$14 <> \"\", Foglio1!$H$14 + O650*10^-3, NA())","v":{"$error":"#N/A"}},5797,8.6650958213397331,{"$f":" IF(Foglio1!$C$15 <> \"\", 8.314472*Foglio1!$C$15*Foglio2!R650, NA())","v":{"$error":"#N/A"}},{"$f":"IF(Foglio1!$H$15 <> \"\", Foglio1!$H$15 + S650*10^-3, NA())","v":{"$error":"#N/A"}}]
[5806,8.6666471445845747,{"$f":" IF(Foglio1!$C$11 <> \"\", 8.314472*Foglio1!$C$11*Foglio2!B651, NA())","v":21617.57850525852},{"$f":"IF(Foglio1!$H$11 <> \"\", Foglio1!$H$11 + C651*10^-3, NA())","v":-68.382421494741479},5806,8.6666471445845747,{"$f":" IF(Foglio1!$C$12 <> \"\", 8.314472*Foglio1!$C$12*Foglio2!F651, NA())","v":{"$error":"#N/A"}},{"$f":"IF(Foglio1!$H$12 <> \"\", Foglio1!$H$12 + G651*10^-3, NA())","v":{"$error":"#N/A"}},5806,8.6666471445845747,{"$f":" IF(Foglio1!$C$13 <> \"\", 8.314472*Foglio1!$C$13*Foglio2!J651, NA())","v":{"$error":"#N/A"}},{"$f":"IF(Foglio1!$H$13 <> \"\", Foglio1!$H$13 + K651*10^-3, NA())","v":{"$error":"#N/A"}},5806,8.6666471445845747,{"$f":" IF(Foglio1!$C$14 <> \"\", 8.314472*Foglio1!$C$14*Foglio2!N651, NA())","v":{"$error":"#N/A"}},{"$f":"IF(Foglio1!$H$14 <> \"\", Foglio1!$H$14 + O651*10^-3, NA())","v":{"$error":"#N/A"}},5806,8.6666471445845747,{"$f":" IF(Foglio1!$C$15 <> \"\", 8.314472*Foglio1!$C$15*Foglio2!R651, NA())","v":{"$error":"#N/A"}},{"$f":"IF(Foglio1!$H$15 <> \"\", Foglio1!$H$15 + S651*10^-3, NA())","v":{"$error":"#N/A"}}]
[5815,8.668196064952765,{"$f":" IF(Foglio1!$C$11 <> \"\", 8.314472*Foglio1!$C$11*Foglio2!B652, NA())","v":21621.442041767987},{"$f":"IF(Foglio1!$H$11 <> \"\", Foglio1!$H$11 + C652*10^-3, NA())","v":-68.378557958232008},5815,8.668196064952765,{"$f":" IF(Foglio1!$C$12 <> \"\", 8.314472*Foglio1!$C$12*Foglio2!F652, NA())","v":{"$error":"#N/A"}},{"$f":"IF(Foglio1!$H$12 <> \"\", Foglio1!$H$12 + G652*10^-3, NA())","v":{"$error":"#N/A"}},5815,8.668196064952765,{"$f":" IF(Foglio1!$C$13 <> \"\", 8.314472*Foglio1!$C$13*Foglio2!J652, NA())","v":{"$error":"#N/A"}},{"$f":"IF(Foglio1!$H$13 <> \"\", Foglio1!$H$13 + K652*10^-3, NA())","v":{"$error":"#N/A"}},5815,8.668196064952765,{"$f":" IF(Foglio1!$C$14 <> \"\", 8.314472*Foglio1!$C$14*Foglio2!N652, NA())","v":{"$error":"#N/A"}},{"$f":"IF(Foglio1!$H$14 <> \"\", Foglio1!$H$14 + O652*10^-3, NA())","v":{"$error":"#N/A"}},5815,8.668196064952765,{"$f":" IF(Foglio1!$C$15 <> \"\", 8.314472*Foglio1!$C$15*Foglio2!R652, NA())","v":{"$error":"#N/A"}},{"$f":"IF(Foglio1!$H$15 <> \"\", Foglio1!$H$15 + S652*10^-3, NA())","v":{"$error":"#N/A"}}]
[5824,8.6697425898765221,{"$f":" IF(Foglio1!$C$11 <> \"\", 8.314472*Foglio1!$C$11*Foglio2!B653, NA())","v":21625.299603220748},{"$f":"IF(Foglio1!$H$11 <> \"\", Foglio1!$H$11 + C653*10^-3, NA())","v":-68.374700396779247},5824,8.6697425898765221,{"$f":" IF(Foglio1!$C$12 <> \"\", 8.314472*Foglio1!$C$12*Foglio2!F653, NA())","v":{"$error":"#N/A"}},{"$f":"IF(Foglio1!$H$12 <> \"\", Foglio1!$H$12 + G653*10^-3, NA())","v":{"$error":"#N/A"}},5824,8.6697425898765221,{"$f":" IF(Foglio1!$C$13 <> \"\", 8.314472*Foglio1!$C$13*Foglio2!J653, NA())","v":{"$error":"#N/A"}},{"$f":"IF(Foglio1!$H$13 <> \"\", Foglio1!$H$13 + K653*10^-3, NA())","v":{"$error":"#N/A"}},5824,8.6697425898765221,{"$f":" IF(Foglio1!$C$14 <> \"\", 8.314472*Foglio1!$C$14*Foglio2!N653, NA())","v":{"$error":"#N/A"}},{"$f":"IF(Foglio1!$H$14 <> \"\", Foglio1!$H$14 + O653*10^-3, NA())","v":{"$error":"#N/A"}},5824,8.6697425898765221,{"$f":" IF(Foglio1!$C$15 <> \"\", 8.314472*Foglio1!$C$15*Foglio2!R653, NA())","v":{"$error":"#N/A"}},{"$f":"IF(Foglio1!$H$15 <> \"\", Foglio1!$H$15 + S653*10^-3, NA())","v":{"$error":"#N/A"}}]
[5833,8.6712867267536371,{"$f":" IF(Foglio1!$C$11 <> \"\", 8.314472*Foglio1!$C$11*Foglio2!B654, NA())","v":21629.15120806943},{"$f":"IF(Foglio1!$H$11 <> \"\", Foglio1!$H$11 + C654*10^-3, NA())","v":-68.37084879193057},5833,8.6712867267536371,{"$f":" IF(Foglio1!$C$12 <> \"\", 8.314472*Foglio1!$C$12*Foglio2!F654, NA())","v":{"$error":"#N/A"}},{"$f":"IF(Foglio1!$H$12 <> \"\", Foglio1!$H$12 + G654*10^-3, NA())","v":{"$error":"#N/A"}},5833,8.6712867267536371,{"$f":" IF(Foglio1!$C$13 <> \"\", 8.314472*Foglio1!$C$13*Foglio2!J654, NA())","v":{"$error":"#N/A"}},{"$f":"IF(Foglio1!$H$13 <> \"\", Foglio1!$H$13 + K654*10^-3, NA())","v":{"$error":"#N/A"}},5833,8.6712867267536371,{"$f":" IF(Foglio1!$C$14 <> \"\", 8.314472*Foglio1!$C$14*Foglio2!N654, NA())","v":{"$error":"#N/A"}},{"$f":"IF(Foglio1!$H$14 <> \"\", Foglio1!$H$14 + O654*10^-3, NA())","v":{"$error":"#N/A"}},5833,8.6712867267536371,{"$f":" IF(Foglio1!$C$15 <> \"\", 8.314472*Foglio1!$C$15*Foglio2!R654, NA())","v":{"$error":"#N/A"}},{"$f":"IF(Foglio1!$H$15 <> \"\", Foglio1!$H$15 + S654*10^-3, NA())","v":{"$error":"#N/A"}}]
[5842,8.6728284829476863,{"$f":" IF(Foglio1!$C$11 <> \"\", 8.314472*Foglio1!$C$11*Foglio2!B655, NA())","v":21632.996874681307},{"$f":"IF(Foglio1!$H$11 <> \"\", Foglio1!$H$11 + C655*10^-3, NA())","v":-68.367003125318689},5842,8.6728284829476863,{"$f":" IF(Foglio1!$C$12 <> \"\", 8.314472*Foglio1!$C$12*Foglio2!F655, NA())","v":{"$error":"#N/A"}},{"$f":"IF(Foglio1!$H$12 <> \"\", Foglio1!$H$12 + G655*10^-3, NA())","v":{"$error":"#N/A"}},5842,8.6728284829476863,{"$f":" IF(Foglio1!$C$13 <> \"\", 8.314472*Foglio1!$C$13*Foglio2!J655, NA())","v":{"$error":"#N/A"}},{"$f":"IF(Foglio1!$H$13 <> \"\", Foglio1!$H$13 + K655*10^-3, NA())","v":{"$error":"#N/A"}},5842,8.6728284829476863,{"$f":" IF(Foglio1!$C$14 <> \"\", 8.314472*Foglio1!$C$14*Foglio2!N655, NA())","v":{"$error":"#N/A"}},{"$f":"IF(Foglio1!$H$14 <> \"\", Foglio1!$H$14 + O655*10^-3, NA())","v":{"$error":"#N/A"}},5842,8.6728284829476863,{"$f":" IF(Foglio1!$C$15 <> \"\", 8.314472*Foglio1!$C$15*Foglio2!R655, NA())","v":{"$error":"#N/A"}},{"$f":"IF(Foglio1!$H$15 <> \"\", Foglio1!$H$15 + S655*10^-3, NA())","v":{"$error":"#N/A"}}]
[5851,8.6743678657882359,{"$f":" IF(Foglio1!$C$11 <> \"\", 8.314472*Foglio1!$C$11*Foglio2!B656, NA())","v":21636.836621338814},{"$f":"IF(Foglio1!$H$11 <> \"\", Foglio1!$H$11 + C656*10^-3, NA())","v":-68.363163378661184},5851,8.6743678657882359,{"$f":" IF(Foglio1!$C$12 <> \"\", 8.314472*Foglio1!$C$12*Foglio2!F656, NA())","v":{"$error":"#N/A"}},{"$f":"IF(Foglio1!$H$12 <> \"\", Foglio1!$H$12 + G656*10^-3, NA())","v":{"$error":"#N/A"}},5851,8.6743678657882359,{"$f":" IF(Foglio1!$C$13 <> \"\", 8.314472*Foglio1!$C$13*Foglio2!J656, NA())","v":{"$error":"#N/A"}},{"$f":"IF(Foglio1!$H$13 <> \"\", Foglio1!$H$13 + K656*10^-3, NA())","v":{"$error":"#N/A"}},5851,8.6743678657882359,{"$f":" IF(Foglio1!$C$14 <> \"\", 8.314472*Foglio1!$C$14*Foglio2!N656, NA())","v":{"$error":"#N/A"}},{"$f":"IF(Foglio1!$H$14 <> \"\", Foglio1!$H$14 + O656*10^-3, NA())","v":{"$error":"#N/A"}},5851,8.6743678657882359,{"$f":" IF(Foglio1!$C$15 <> \"\", 8.314472*Foglio1!$C$15*Foglio2!R656, NA())","v":{"$error":"#N/A"}},{"$f":"IF(Foglio1!$H$15 <> \"\", Foglio1!$H$15 + S656*10^-3, NA())","v":{"$error":"#N/A"}}]
[5860,8.675904882571059,{"$f":" IF(Foglio1!$C$11 <> \"\", 8.314472*Foglio1!$C$11*Foglio2!B657, NA())","v":21640.67046624011},{"$f":"IF(Foglio1!$H$11 <> \"\", Foglio1!$H$11 + C657*10^-3, NA())","v":-68.35932953375989},5860,8.675904882571059,{"$f":" IF(Foglio1!$C$12 <> \"\", 8.314472*Foglio1!$C$12*Foglio2!F657, NA())","v":{"$error":"#N/A"}},{"$f":"IF(Foglio1!$H$12 <> \"\", Foglio1!$H$12 + G657*10^-3, NA())","v":{"$error":"#N/A"}},5860,8.675904882571059,{"$f":" IF(Foglio1!$C$13 <> \"\", 8.314472*Foglio1!$C$13*Foglio2!J657, NA())","v":{"$error":"#N/A"}},{"$f":"IF(Foglio1!$H$13 <> \"\", Foglio1!$H$13 + K657*10^-3, NA())","v":{"$error":"#N/A"}},5860,8.675904882571059,{"$f":" IF(Foglio1!$C$14 <> \"\", 8.314472*Foglio1!$C$14*Foglio2!N657, NA())","v":{"$error":"#N/A"}},{"$f":"IF(Foglio1!$H$14 <> \"\", Foglio1!$H$14 + O657*10^-3, NA())","v":{"$error":"#N/A"}},5860,8.675904882571059,{"$f":" IF(Foglio1!$C$15 <> \"\", 8.314472*Foglio1!$C$15*Foglio2!R657, NA())","v":{"$error":"#N/A"}},{"$f":"IF(Foglio1!$H$15 <> \"\", Foglio1!$H$15 + S657*10^-3, NA())","v":{"$error":"#N/A"}}]
[5869,8.6774395405583338,{"$f":" IF(Foglio1!$C$11 <> \"\", 8.314472*Foglio1!$C$11*Foglio2!B658, NA())","v":21644.49842749954},{"$f":"IF(Foglio1!$H$11 <> \"\", Foglio1!$H$11 + C658*10^-3, NA())","v":-68.355501572500458},5869,8.6774395405583338,{"$f":" IF(Foglio1!$C$12 <> \"\", 8.314472*Foglio1!$C$12*Foglio2!F658, NA())","v":{"$error":"#N/A"}},{"$f":"IF(Foglio1!$H$12 <> \"\", Foglio1!$H$12 + G658*10^-3, NA())","v":{"$error":"#N/A"}},5869,8.6774395405583338,{"$f":" IF(Foglio1!$C$13 <> \"\", 8.314472*Foglio1!$C$13*Foglio2!J658, NA())","v":{"$error":"#N/A"}},{"$f":"IF(Foglio1!$H$13 <> \"\", Foglio1!$H$13 + K658*10^-3, NA())","v":{"$error":"#N/A"}},5869,8.6774395405583338,{"$f":" IF(Foglio1!$C$14 <> \"\", 8.314472*Foglio1!$C$14*Foglio2!N658, NA())","v":{"$error":"#N/A"}},{"$f":"IF(Foglio1!$H$14 <> \"\", Foglio1!$H$14 + O658*10^-3, NA())","v":{"$error":"#N/A"}},5869,8.6774395405583338,{"$f":" IF(Foglio1!$C$15 <> \"\", 8.314472*Foglio1!$C$15*Foglio2!R658, NA())","v":{"$error":"#N/A"}},{"$f":"IF(Foglio1!$H$15 <> \"\", Foglio1!$H$15 + S658*10^-3, NA())","v":{"$error":"#N/A"}}]
[5878,8.6789718469788628,{"$f":" IF(Foglio1!$C$11 <> \"\", 8.314472*Foglio1!$C$11*Foglio2!B659, NA())","v":21648.320523148213},{"$f":"IF(Foglio1!$H$11 <> \"\", Foglio1!$H$11 + C659*10^-3, NA())","v":-68.351679476851785},5878,8.6789718469788628,{"$f":" IF(Foglio1!$C$12 <> \"\", 8.314472*Foglio1!$C$12*Foglio2!F659, NA())","v":{"$error":"#N/A"}},{"$f":"IF(Foglio1!$H$12 <> \"\", Foglio1!$H$12 + G659*10^-3, NA())","v":{"$error":"#N/A"}},5878,8.6789718469788628,{"$f":" IF(Foglio1!$C$13 <> \"\", 8.314472*Foglio1!$C$13*Foglio2!J659, NA())","v":{"$error":"#N/A"}},{"$f":"IF(Foglio1!$H$13 <> \"\", Foglio1!$H$13 + K659*10^-3, NA())","v":{"$error":"#N/A"}},5878,8.6789718469788628,{"$f":" IF(Foglio1!$C$14 <> \"\", 8.314472*Foglio1!$C$14*Foglio2!N659, NA())","v":{"$error":"#N/A"}},{"$f":"IF(Foglio1!$H$14 <> \"\", Foglio1!$H$14 + O659*10^-3, NA())","v":{"$error":"#N/A"}},5878,8.6789718469788628,{"$f":" IF(Foglio1!$C$15 <> \"\", 8.314472*Foglio1!$C$15*Foglio2!R659, NA())","v":{"$error":"#N/A"}},{"$f":"IF(Foglio1!$H$15 <> \"\", Foglio1!$H$15 + S659*10^-3, NA())","v":{"$error":"#N/A"}}]
[5887,8.6805018090282609,{"$f":" IF(Foglio1!$C$11 <> \"\", 8.314472*Foglio1!$C$11*Foglio2!B660, NA())","v":21652.13677113445},{"$f":"IF(Foglio1!$H$11 <> \"\", Foglio1!$H$11 + C660*10^-3, NA())","v":-68.347863228865549},5887,8.6805018090282609,{"$f":" IF(Foglio1!$C$12 <> \"\", 8.314472*Foglio1!$C$12*Foglio2!F660, NA())","v":{"$error":"#N/A"}},{"$f":"IF(Foglio1!$H$12 <> \"\", Foglio1!$H$12 + G660*10^-3, NA())","v":{"$error":"#N/A"}},5887,8.6805018090282609,{"$f":" IF(Foglio1!$C$13 <> \"\", 8.314472*Foglio1!$C$13*Foglio2!J660, NA())","v":{"$error":"#N/A"}},{"$f":"IF(Foglio1!$H$13 <> \"\", Foglio1!$H$13 + K660*10^-3, NA())","v":{"$error":"#N/A"}},5887,8.6805018090282609,{"$f":" IF(Foglio1!$C$14 <> \"\", 8.314472*Foglio1!$C$14*Foglio2!N660, NA())","v":{"$error":"#N/A"}},{"$f":"IF(Foglio1!$H$14 <> \"\", Foglio1!$H$14 + O660*10^-3, NA())","v":{"$error":"#N/A"}},5887,8.6805018090282609,{"$f":" IF(Foglio1!$C$15 <> \"\", 8.314472*Foglio1!$C$15*Foglio2!R660, NA())","v":{"$error":"#N/A"}},{"$f":"IF(Foglio1!$H$15 <> \"\", Foglio1!$H$15 + S660*10^-3, NA())","v":{"$error":"#N/A"}}]
[5896,8.6820294338691717,{"$f":" IF(Foglio1!$C$11 <> \"\", 8.314472*Foglio1!$C$11*Foglio2!B661, NA())","v":21655.947189324324},{"$f":"IF(Foglio1!$H$11 <> \"\", Foglio1!$H$11 + C661*10^-3, NA())","v":-68.344052810675677},5896,8.6820294338691717,{"$f":" IF(Foglio1!$C$12 <> \"\", 8.314472*Foglio1!$C$12*Foglio2!F661, NA())","v":{"$error":"#N/A"}},{"$f":"IF(Foglio1!$H$12 <> \"\", Foglio1!$H$12 + G661*10^-3, NA())","v":{"$error":"#N/A"}},5896,8.6820294338691717,{"$f":" IF(Foglio1!$C$13 <> \"\", 8.314472*Foglio1!$C$13*Foglio2!J661, NA())","v":{"$error":"#N/A"}},{"$f":"IF(Foglio1!$H$13 <> \"\", Foglio1!$H$13 + K661*10^-3, NA())","v":{"$error":"#N/A"}},5896,8.6820294338691717,{"$f":" IF(Foglio1!$C$14 <> \"\", 8.314472*Foglio1!$C$14*Foglio2!N661, NA())","v":{"$error":"#N/A"}},{"$f":"IF(Foglio1!$H$14 <> \"\", Foglio1!$H$14 + O661*10^-3, NA())","v":{"$error":"#N/A"}},5896,8.6820294338691717,{"$f":" IF(Foglio1!$C$15 <> \"\", 8.314472*Foglio1!$C$15*Foglio2!R661, NA())","v":{"$error":"#N/A"}},{"$f":"IF(Foglio1!$H$15 <> \"\", Foglio1!$H$15 + S661*10^-3, NA())","v":{"$error":"#N/A"}}]
[5905,8.6835547286314618,{"$f":" IF(Foglio1!$C$11 <> \"\", 8.314472*Foglio1!$C$11*Foglio2!B662, NA())","v":21659.751795502169},{"$f":"IF(Foglio1!$H$11 <> \"\", Foglio1!$H$11 + C662*10^-3, NA())","v":-68.34024820449784},5905,8.6835547286314618,{"$f":" IF(Foglio1!$C$12 <> \"\", 8.314472*Foglio1!$C$12*Foglio2!F662, NA())","v":{"$error":"#N/A"}},{"$f":"IF(Foglio1!$H$12 <> \"\", Foglio1!$H$12 + G662*10^-3, NA())","v":{"$error":"#N/A"}},5905,8.6835547286314618,{"$f":" IF(Foglio1!$C$13 <> \"\", 8.314472*Foglio1!$C$13*Foglio2!J662, NA())","v":{"$error":"#N/A"}},{"$f":"IF(Foglio1!$H$13 <> \"\", Foglio1!$H$13 + K662*10^-3, NA())","v":{"$error":"#N/A"}},5905,8.6835547286314618,{"$f":" IF(Foglio1!$C$14 <> \"\", 8.314472*Foglio1!$C$14*Foglio2!N662, NA())","v":{"$error":"#N/A"}},{"$f":"IF(Foglio1!$H$14 <> \"\", Foglio1!$H$14 + O662*10^-3, NA())","v":{"$error":"#N/A"}},5905,8.6835547286314618,{"$f":" IF(Foglio1!$C$15 <> \"\", 8.314472*Foglio1!$C$15*Foglio2!R662, NA())","v":{"$error":"#N/A"}},{"$f":"IF(Foglio1!$H$15 <> \"\", Foglio1!$H$15 + S662*10^-3, NA())","v":{"$error":"#N/A"}}]
[5914,8.6850777004124229,{"$f":" IF(Foglio1!$C$11 <> \"\", 8.314472*Foglio1!$C$11*Foglio2!B663, NA())","v":21663.550607371046},{"$f":"IF(Foglio1!$H$11 <> \"\", Foglio1!$H$11 + C663*10^-3, NA())","v":-68.33644939262895},5914,8.6850777004124229,{"$f":" IF(Foglio1!$C$12 <> \"\", 8.314472*Foglio1!$C$12*Foglio2!F663, NA())","v":{"$error":"#N/A"}},{"$f":"IF(Foglio1!$H$12 <> \"\", Foglio1!$H$12 + G663*10^-3, NA())","v":{"$error":"#N/A"}},5914,8.6850777004124229,{"$f":" IF(Foglio1!$C$13 <> \"\", 8.314472*Foglio1!$C$13*Foglio2!J663, NA())","v":{"$error":"#N/A"}},{"$f":"IF(Foglio1!$H$13 <> \"\", Foglio1!$H$13 + K663*10^-3, NA())","v":{"$error":"#N/A"}},5914,8.6850777004124229,{"$f":" IF(Foglio1!$C$14 <> \"\", 8.314472*Foglio1!$C$14*Foglio2!N663, NA())","v":{"$error":"#N/A"}},{"$f":"IF(Foglio1!$H$14 <> \"\", Foglio1!$H$14 + O663*10^-3, NA())","v":{"$error":"#N/A"}},5914,8.6850777004124229,{"$f":" IF(Foglio1!$C$15 <> \"\", 8.314472*Foglio1!$C$15*Foglio2!R663, NA())","v":{"$error":"#N/A"}},{"$f":"IF(Foglio1!$H$15 <> \"\", Foglio1!$H$15 + S663*10^-3, NA())","v":{"$error":"#N/A"}}]
[5923,8.6865983562769653,{"$f":" IF(Foglio1!$C$11 <> \"\", 8.314472*Foglio1!$C$11*Foglio2!B664, NA())","v":21667.343642553256},{"$f":"IF(Foglio1!$H$11 <> \"\", Foglio1!$H$11 + C664*10^-3, NA())","v":-68.332656357446751},5923,8.6865983562769653,{"$f":" IF(Foglio1!$C$12 <> \"\", 8.314472*Foglio1!$C$12*Foglio2!F664, NA())","v":{"$error":"#N/A"}},{"$f":"IF(Foglio1!$H$12 <> \"\", Foglio1!$H$12 + G664*10^-3, NA())","v":{"$error":"#N/A"}},5923,8.6865983562769653,{"$f":" IF(Foglio1!$C$13 <> \"\", 8.314472*Foglio1!$C$13*Foglio2!J664, NA())","v":{"$error":"#N/A"}},{"$f":"IF(Foglio1!$H$13 <> \"\", Foglio1!$H$13 + K664*10^-3, NA())","v":{"$error":"#N/A"}},5923,8.6865983562769653,{"$f":" IF(Foglio1!$C$14 <> \"\", 8.314472*Foglio1!$C$14*Foglio2!N664, NA())","v":{"$error":"#N/A"}},{"$f":"IF(Foglio1!$H$14 <> \"\", Foglio1!$H$14 + O664*10^-3, NA())","v":{"$error":"#N/A"}},5923,8.6865983562769653,{"$f":" IF(Foglio1!$C$15 <> \"\", 8.314472*Foglio1!$C$15*Foglio2!R664, NA())","v":{"$error":"#N/A"}},{"$f":"IF(Foglio1!$H$15 <> \"\", Foglio1!$H$15 + S664*10^-3, NA())","v":{"$error":"#N/A"}}]
[5932,8.6881167032578226,{"$f":" IF(Foglio1!$C$11 <> \"\", 8.314472*Foglio1!$C$11*Foglio2!B665, NA())","v":21671.130918590843},{"$f":"IF(Foglio1!$H$11 <> \"\", Foglio1!$H$11 + C665*10^-3, NA())","v":-68.328869081409152},5932,8.6881167032578226,{"$f":" IF(Foglio1!$C$12 <> \"\", 8.314472*Foglio1!$C$12*Foglio2!F665, NA())","v":{"$error":"#N/A"}},{"$f":"IF(Foglio1!$H$12 <> \"\", Foglio1!$H$12 + G665*10^-3, NA())","v":{"$error":"#N/A"}},5932,8.6881167032578226,{"$f":" IF(Foglio1!$C$13 <> \"\", 8.314472*Foglio1!$C$13*Foglio2!J665, NA())","v":{"$error":"#N/A"}},{"$f":"IF(Foglio1!$H$13 <> \"\", Foglio1!$H$13 + K665*10^-3, NA())","v":{"$error":"#N/A"}},5932,8.6881167032578226,{"$f":" IF(Foglio1!$C$14 <> \"\", 8.314472*Foglio1!$C$14*Foglio2!N665, NA())","v":{"$error":"#N/A"}},{"$f":"IF(Foglio1!$H$14 <> \"\", Foglio1!$H$14 + O665*10^-3, NA())","v":{"$error":"#N/A"}},5932,8.6881167032578226,{"$f":" IF(Foglio1!$C$15 <> \"\", 8.314472*Foglio1!$C$15*Foglio2!R665, NA())","v":{"$error":"#N/A"}},{"$f":"IF(Foglio1!$H$15 <> \"\", Foglio1!$H$15 + S665*10^-3, NA())","v":{"$error":"#N/A"}}]
[5941,8.6896327483557414,{"$f":" IF(Foglio1!$C$11 <> \"\", 8.314472*Foglio1!$C$11*Foglio2!B666, NA())","v":21674.912452946061},{"$f":"IF(Foglio1!$H$11 <> \"\", Foglio1!$H$11 + C666*10^-3, NA())","v":-68.32508754705394},5941,8.6896327483557414,{"$f":" IF(Foglio1!$C$12 <> \"\", 8.314472*Foglio1!$C$12*Foglio2!F666, NA())","v":{"$error":"#N/A"}},{"$f":"IF(Foglio1!$H$12 <> \"\", Foglio1!$H$12 + G666*10^-3, NA())","v":{"$error":"#N/A"}},5941,8.6896327483557414,{"$f":" IF(Foglio1!$C$13 <> \"\", 8.314472*Foglio1!$C$13*Foglio2!J666, NA())","v":{"$error":"#N/A"}},{"$f":"IF(Foglio1!$H$13 <> \"\", Foglio1!$H$13 + K666*10^-3, NA())","v":{"$error":"#N/A"}},5941,8.6896327483557414,{"$f":" IF(Foglio1!$C$14 <> \"\", 8.314472*Foglio1!$C$14*Foglio2!N666, NA())","v":{"$error":"#N/A"}},{"$f":"IF(Foglio1!$H$14 <> \"\", Foglio1!$H$14 + O666*10^-3, NA())","v":{"$error":"#N/A"}},5941,8.6896327483557414,{"$f":" IF(Foglio1!$C$15 <> \"\", 8.314472*Foglio1!$C$15*Foglio2!R666, NA())","v":{"$error":"#N/A"}},{"$f":"IF(Foglio1!$H$15 <> \"\", Foglio1!$H$15 + S666*10^-3, NA())","v":{"$error":"#N/A"}}]
[5950,8.6911464985396751,{"$f":" IF(Foglio1!$C$11 <> \"\", 8.314472*Foglio1!$C$11*Foglio2!B667, NA())","v":21678.688263001852},{"$f":"IF(Foglio1!$H$11 <> \"\", Foglio1!$H$11 + C667*10^-3, NA())","v":-68.321311736998155},5950,8.6911464985396751,{"$f":" IF(Foglio1!$C$12 <> \"\", 8.314472*Foglio1!$C$12*Foglio2!F667, NA())","v":{"$error":"#N/A"}},{"$f":"IF(Foglio1!$H$12 <> \"\", Foglio1!$H$12 + G667*10^-3, NA())","v":{"$error":"#N/A"}},5950,8.6911464985396751,{"$f":" IF(Foglio1!$C$13 <> \"\", 8.314472*Foglio1!$C$13*Foglio2!J667, NA())","v":{"$error":"#N/A"}},{"$f":"IF(Foglio1!$H$13 <> \"\", Foglio1!$H$13 + K667*10^-3, NA())","v":{"$error":"#N/A"}},5950,8.6911464985396751,{"$f":" IF(Foglio1!$C$14 <> \"\", 8.314472*Foglio1!$C$14*Foglio2!N667, NA())","v":{"$error":"#N/A"}},{"$f":"IF(Foglio1!$H$14 <> \"\", Foglio1!$H$14 + O667*10^-3, NA())","v":{"$error":"#N/A"}},5950,8.6911464985396751,{"$f":" IF(Foglio1!$C$15 <> \"\", 8.314472*Foglio1!$C$15*Foglio2!R667, NA())","v":{"$error":"#N/A"}},{"$f":"IF(Foglio1!$H$15 <> \"\", Foglio1!$H$15 + S667*10^-3, NA())","v":{"$error":"#N/A"}}]
[5959,8.6926579607469794,{"$f":" IF(Foglio1!$C$11 <> \"\", 8.314472*Foglio1!$C$11*Foglio2!B668, NA())","v":21682.458366062361},{"$f":"IF(Foglio1!$H$11 <> \"\", Foglio1!$H$11 + C668*10^-3, NA())","v":-68.317541633937637},5959,8.6926579607469794,{"$f":" IF(Foglio1!$C$12 <> \"\", 8.314472*Foglio1!$C$12*Foglio2!F668, NA())","v":{"$error":"#N/A"}},{"$f":"IF(Foglio1!$H$12 <> \"\", Foglio1!$H$12 + G668*10^-3, NA())","v":{"$error":"#N/A"}},5959,8.6926579607469794,{"$f":" IF(Foglio1!$C$13 <> \"\", 8.314472*Foglio1!$C$13*Foglio2!J668, NA())","v":{"$error":"#N/A"}},{"$f":"IF(Foglio1!$H$13 <> \"\", Foglio1!$H$13 + K668*10^-3, NA())","v":{"$error":"#N/A"}},5959,8.6926579607469794,{"$f":" IF(Foglio1!$C$14 <> \"\", 8.314472*Foglio1!$C$14*Foglio2!N668, NA())","v":{"$error":"#N/A"}},{"$f":"IF(Foglio1!$H$14 <> \"\", Foglio1!$H$14 + O668*10^-3, NA())","v":{"$error":"#N/A"}},5959,8.6926579607469794,{"$f":" IF(Foglio1!$C$15 <> \"\", 8.314472*Foglio1!$C$15*Foglio2!R668, NA())","v":{"$error":"#N/A"}},{"$f":"IF(Foglio1!$H$15 <> \"\", Foglio1!$H$15 + S668*10^-3, NA())","v":{"$error":"#N/A"}}]
[5968,8.6941671418835966,{"$f":" IF(Foglio1!$C$11 <> \"\", 8.314472*Foglio1!$C$11*Foglio2!B669, NA())","v":21686.22277935336},{"$f":"IF(Foglio1!$H$11 <> \"\", Foglio1!$H$11 + C669*10^-3, NA())","v":-68.313777220646642},5968,8.6941671418835966,{"$f":" IF(Foglio1!$C$12 <> \"\", 8.314472*Foglio1!$C$12*Foglio2!F669, NA())","v":{"$error":"#N/A"}},{"$f":"IF(Foglio1!$H$12 <> \"\", Foglio1!$H$12 + G669*10^-3, NA())","v":{"$error":"#N/A"}},5968,8.6941671418835966,{"$f":" IF(Foglio1!$C$13 <> \"\", 8.314472*Foglio1!$C$13*Foglio2!J669, NA())","v":{"$error":"#N/A"}},{"$f":"IF(Foglio1!$H$13 <> \"\", Foglio1!$H$13 + K669*10^-3, NA())","v":{"$error":"#N/A"}},5968,8.6941671418835966,{"$f":" IF(Foglio1!$C$14 <> \"\", 8.314472*Foglio1!$C$14*Foglio2!N669, NA())","v":{"$error":"#N/A"}},{"$f":"IF(Foglio1!$H$14 <> \"\", Foglio1!$H$14 + O669*10^-3, NA())","v":{"$error":"#N/A"}},5968,8.6941671418835966,{"$f":" IF(Foglio1!$C$15 <> \"\", 8.314472*Foglio1!$C$15*Foglio2!R669, NA())","v":{"$error":"#N/A"}},{"$f":"IF(Foglio1!$H$15 <> \"\", Foglio1!$H$15 + S669*10^-3, NA())","v":{"$error":"#N/A"}}]
[5977,8.6956740488242534,{"$f":" IF(Foglio1!$C$11 <> \"\", 8.314472*Foglio1!$C$11*Foglio2!B670, NA())","v":21689.981520022768},{"$f":"IF(Foglio1!$H$11 <> \"\", Foglio1!$H$11 + C670*10^-3, NA())","v":-68.310018479977231},5977,8.6956740488242534,{"$f":" IF(Foglio1!$C$12 <> \"\", 8.314472*Foglio1!$C$12*Foglio2!F670, NA())","v":{"$error":"#N/A"}},{"$f":"IF(Foglio1!$H$12 <> \"\", Foglio1!$H$12 + G670*10^-3, NA())","v":{"$error":"#N/A"}},5977,8.6956740488242534,{"$f":" IF(Foglio1!$C$13 <> \"\", 8.314472*Foglio1!$C$13*Foglio2!J670, NA())","v":{"$error":"#N/A"}},{"$f":"IF(Foglio1!$H$13 <> \"\", Foglio1!$H$13 + K670*10^-3, NA())","v":{"$error":"#N/A"}},5977,8.6956740488242534,{"$f":" IF(Foglio1!$C$14 <> \"\", 8.314472*Foglio1!$C$14*Foglio2!N670, NA())","v":{"$error":"#N/A"}},{"$f":"IF(Foglio1!$H$14 <> \"\", Foglio1!$H$14 + O670*10^-3, NA())","v":{"$error":"#N/A"}},5977,8.6956740488242534,{"$f":" IF(Foglio1!$C$15 <> \"\", 8.314472*Foglio1!$C$15*Foglio2!R670, NA())","v":{"$error":"#N/A"}},{"$f":"IF(Foglio1!$H$15 <> \"\", Foglio1!$H$15 + S670*10^-3, NA())","v":{"$error":"#N/A"}}]
[5986,8.6971786884126434,{"$f":" IF(Foglio1!$C$11 <> \"\", 8.314472*Foglio1!$C$11*Foglio2!B671, NA())","v":21693.734605141097},{"$f":"IF(Foglio1!$H$11 <> \"\", Foglio1!$H$11 + C671*10^-3, NA())","v":-68.306265394858912},5986,8.6971786884126434,{"$f":" IF(Foglio1!$C$12 <> \"\", 8.314472*Foglio1!$C$12*Foglio2!F671, NA())","v":{"$error":"#N/A"}},{"$f":"IF(Foglio1!$H$12 <> \"\", Foglio1!$H$12 + G671*10^-3, NA())","v":{"$error":"#N/A"}},5986,8.6971786884126434,{"$f":" IF(Foglio1!$C$13 <> \"\", 8.314472*Foglio1!$C$13*Foglio2!J671, NA())","v":{"$error":"#N/A"}},{"$f":"IF(Foglio1!$H$13 <> \"\", Foglio1!$H$13 + K671*10^-3, NA())","v":{"$error":"#N/A"}},5986,8.6971786884126434,{"$f":" IF(Foglio1!$C$14 <> \"\", 8.314472*Foglio1!$C$14*Foglio2!N671, NA())","v":{"$error":"#N/A"}},{"$f":"IF(Foglio1!$H$14 <> \"\", Foglio1!$H$14 + O671*10^-3, NA())","v":{"$error":"#N/A"}},5986,8.6971786884126434,{"$f":" IF(Foglio1!$C$15 <> \"\", 8.314472*Foglio1!$C$15*Foglio2!R671, NA())","v":{"$error":"#N/A"}},{"$f":"IF(Foglio1!$H$15 <> \"\", Foglio1!$H$15 + S671*10^-3, NA())","v":{"$error":"#N/A"}}]
[5995,8.6986810674616137,{"$f":" IF(Foglio1!$C$11 <> \"\", 8.314472*Foglio1!$C$11*Foglio2!B672, NA())","v":21697.482051701911},{"$f":"IF(Foglio1!$H$11 <> \"\", Foglio1!$H$11 + C672*10^-3, NA())","v":-68.302517948298089},5995,8.6986810674616137,{"$f":" IF(Foglio1!$C$12 <> \"\", 8.314472*Foglio1!$C$12*Foglio2!F672, NA())","v":{"$error":"#N/A"}},{"$f":"IF(Foglio1!$H$12 <> \"\", Foglio1!$H$12 + G672*10^-3, NA())","v":{"$error":"#N/A"}},5995,8.6986810674616137,{"$f":" IF(Foglio1!$C$13 <> \"\", 8.314472*Foglio1!$C$13*Foglio2!J672, NA())","v":{"$error":"#N/A"}},{"$f":"IF(Foglio1!$H$13 <> \"\", Foglio1!$H$13 + K672*10^-3, NA())","v":{"$error":"#N/A"}},5995,8.6986810674616137,{"$f":" IF(Foglio1!$C$14 <> \"\", 8.314472*Foglio1!$C$14*Foglio2!N672, NA())","v":{"$error":"#N/A"}},{"$f":"IF(Foglio1!$H$14 <> \"\", Foglio1!$H$14 + O672*10^-3, NA())","v":{"$error":"#N/A"}},5995,8.6986810674616137,{"$f":" IF(Foglio1!$C$15 <> \"\", 8.314472*Foglio1!$C$15*Foglio2!R672, NA())","v":{"$error":"#N/A"}},{"$f":"IF(Foglio1!$H$15 <> \"\", Foglio1!$H$15 + S672*10^-3, NA())","v":{"$error":"#N/A"}}]
[6004,8.7001811927533534,{"$f":" IF(Foglio1!$C$11 <> \"\", 8.314472*Foglio1!$C$11*Foglio2!B673, NA())","v":21701.223876622309},{"$f":"IF(Foglio1!$H$11 <> \"\", Foglio1!$H$11 + C673*10^-3, NA())","v":-68.298776123377692},6004,8.7001811927533534,{"$f":" IF(Foglio1!$C$12 <> \"\", 8.314472*Foglio1!$C$12*Foglio2!F673, NA())","v":{"$error":"#N/A"}},{"$f":"IF(Foglio1!$H$12 <> \"\", Foglio1!$H$12 + G673*10^-3, NA())","v":{"$error":"#N/A"}},6004,8.7001811927533534,{"$f":" IF(Foglio1!$C$13 <> \"\", 8.314472*Foglio1!$C$13*Foglio2!J673, NA())","v":{"$error":"#N/A"}},{"$f":"IF(Foglio1!$H$13 <> \"\", Foglio1!$H$13 + K673*10^-3, NA())","v":{"$error":"#N/A"}},6004,8.7001811927533534,{"$f":" IF(Foglio1!$C$14 <> \"\", 8.314472*Foglio1!$C$14*Foglio2!N673, NA())","v":{"$error":"#N/A"}},{"$f":"IF(Foglio1!$H$14 <> \"\", Foglio1!$H$14 + O673*10^-3, NA())","v":{"$error":"#N/A"}},6004,8.7001811927533534,{"$f":" IF(Foglio1!$C$15 <> \"\", 8.314472*Foglio1!$C$15*Foglio2!R673, NA())","v":{"$error":"#N/A"}},{"$f":"IF(Foglio1!$H$15 <> \"\", Foglio1!$H$15 + S673*10^-3, NA())","v":{"$error":"#N/A"}}]
[6013,8.7016790710395693,{"$f":" IF(Foglio1!$C$11 <> \"\", 8.314472*Foglio1!$C$11*Foglio2!B674, NA())","v":21704.960096743354},{"$f":"IF(Foglio1!$H$11 <> \"\", Foglio1!$H$11 + C674*10^-3, NA())","v":-68.295039903256651},6013,8.7016790710395693,{"$f":" IF(Foglio1!$C$12 <> \"\", 8.314472*Foglio1!$C$12*Foglio2!F674, NA())","v":{"$error":"#N/A"}},{"$f":"IF(Foglio1!$H$12 <> \"\", Foglio1!$H$12 + G674*10^-3, NA())","v":{"$error":"#N/A"}},6013,8.7016790710395693,{"$f":" IF(Foglio1!$C$13 <> \"\", 8.314472*Foglio1!$C$13*Foglio2!J674, NA())","v":{"$error":"#N/A"}},{"$f":"IF(Foglio1!$H$13 <> \"\", Foglio1!$H$13 + K674*10^-3, NA())","v":{"$error":"#N/A"}},6013,8.7016790710395693,{"$f":" IF(Foglio1!$C$14 <> \"\", 8.314472*Foglio1!$C$14*Foglio2!N674, NA())","v":{"$error":"#N/A"}},{"$f":"IF(Foglio1!$H$14 <> \"\", Foglio1!$H$14 + O674*10^-3, NA())","v":{"$error":"#N/A"}},6013,8.7016790710395693,{"$f":" IF(Foglio1!$C$15 <> \"\", 8.314472*Foglio1!$C$15*Foglio2!R674, NA())","v":{"$error":"#N/A"}},{"$f":"IF(Foglio1!$H$15 <> \"\", Foglio1!$H$15 + S674*10^-3, NA())","v":{"$error":"#N/A"}}]
[6022,8.7031747090416793,{"$f":" IF(Foglio1!$C$11 <> \"\", 8.314472*Foglio1!$C$11*Foglio2!B675, NA())","v":21708.690728830559},{"$f":"IF(Foglio1!$H$11 <> \"\", Foglio1!$H$11 + C675*10^-3, NA())","v":-68.291309271169439},6022,8.7031747090416793,{"$f":" IF(Foglio1!$C$12 <> \"\", 8.314472*Foglio1!$C$12*Foglio2!F675, NA())","v":{"$error":"#N/A"}},{"$f":"IF(Foglio1!$H$12 <> \"\", Foglio1!$H$12 + G675*10^-3, NA())","v":{"$error":"#N/A"}},6022,8.7031747090416793,{"$f":" IF(Foglio1!$C$13 <> \"\", 8.314472*Foglio1!$C$13*Foglio2!J675, NA())","v":{"$error":"#N/A"}},{"$f":"IF(Foglio1!$H$13 <> \"\", Foglio1!$H$13 + K675*10^-3, NA())","v":{"$error":"#N/A"}},6022,8.7031747090416793,{"$f":" IF(Foglio1!$C$14 <> \"\", 8.314472*Foglio1!$C$14*Foglio2!N675, NA())","v":{"$error":"#N/A"}},{"$f":"IF(Foglio1!$H$14 <> \"\", Foglio1!$H$14 + O675*10^-3, NA())","v":{"$error":"#N/A"}},6022,8.7031747090416793,{"$f":" IF(Foglio1!$C$15 <> \"\", 8.314472*Foglio1!$C$15*Foglio2!R675, NA())","v":{"$error":"#N/A"}},{"$f":"IF(Foglio1!$H$15 <> \"\", Foglio1!$H$15 + S675*10^-3, NA())","v":{"$error":"#N/A"}}]
[6031,8.7046681134509871,{"$f":" IF(Foglio1!$C$11 <> \"\", 8.314472*Foglio1!$C$11*Foglio2!B676, NA())","v":21712.415789574319},{"$f":"IF(Foglio1!$H$11 <> \"\", Foglio1!$H$11 + C676*10^-3, NA())","v":-68.287584210425678},6031,8.7046681134509871,{"$f":" IF(Foglio1!$C$12 <> \"\", 8.314472*Foglio1!$C$12*Foglio2!F676, NA())","v":{"$error":"#N/A"}},{"$f":"IF(Foglio1!$H$12 <> \"\", Foglio1!$H$12 + G676*10^-3, NA())","v":{"$error":"#N/A"}},6031,8.7046681134509871,{"$f":" IF(Foglio1!$C$13 <> \"\", 8.314472*Foglio1!$C$13*Foglio2!J676, NA())","v":{"$error":"#N/A"}},{"$f":"IF(Foglio1!$H$13 <> \"\", Foglio1!$H$13 + K676*10^-3, NA())","v":{"$error":"#N/A"}},6031,8.7046681134509871,{"$f":" IF(Foglio1!$C$14 <> \"\", 8.314472*Foglio1!$C$14*Foglio2!N676, NA())","v":{"$error":"#N/A"}},{"$f":"IF(Foglio1!$H$14 <> \"\", Foglio1!$H$14 + O676*10^-3, NA())","v":{"$error":"#N/A"}},6031,8.7046681134509871,{"$f":" IF(Foglio1!$C$15 <> \"\", 8.314472*Foglio1!$C$15*Foglio2!R676, NA())","v":{"$error":"#N/A"}},{"$f":"IF(Foglio1!$H$15 <> \"\", Foglio1!$H$15 + S676*10^-3, NA())","v":{"$error":"#N/A"}}]
[6040,8.706159290928861,{"$f":" IF(Foglio1!$C$11 <> \"\", 8.314472*Foglio1!$C$11*Foglio2!B677, NA())","v":21716.135295590364},{"$f":"IF(Foglio1!$H$11 <> \"\", Foglio1!$H$11 + C677*10^-3, NA())","v":-68.283864704409638},6040,8.706159290928861,{"$f":" IF(Foglio1!$C$12 <> \"\", 8.314472*Foglio1!$C$12*Foglio2!F677, NA())","v":{"$error":"#N/A"}},{"$f":"IF(Foglio1!$H$12 <> \"\", Foglio1!$H$12 + G677*10^-3, NA())","v":{"$error":"#N/A"}},6040,8.706159290928861,{"$f":" IF(Foglio1!$C$13 <> \"\", 8.314472*Foglio1!$C$13*Foglio2!J677, NA())","v":{"$error":"#N/A"}},{"$f":"IF(Foglio1!$H$13 <> \"\", Foglio1!$H$13 + K677*10^-3, NA())","v":{"$error":"#N/A"}},6040,8.706159290928861,{"$f":" IF(Foglio1!$C$14 <> \"\", 8.314472*Foglio1!$C$14*Foglio2!N677, NA())","v":{"$error":"#N/A"}},{"$f":"IF(Foglio1!$H$14 <> \"\", Foglio1!$H$14 + O677*10^-3, NA())","v":{"$error":"#N/A"}},6040,8.706159290928861,{"$f":" IF(Foglio1!$C$15 <> \"\", 8.314472*Foglio1!$C$15*Foglio2!R677, NA())","v":{"$error":"#N/A"}},{"$f":"IF(Foglio1!$H$15 <> \"\", Foglio1!$H$15 + S677*10^-3, NA())","v":{"$error":"#N/A"}}]
[6049,8.7076482481069135,{"$f":" IF(Foglio1!$C$11 <> \"\", 8.314472*Foglio1!$C$11*Foglio2!B678, NA())","v":21719.849263420198},{"$f":"IF(Foglio1!$H$11 <> \"\", Foglio1!$H$11 + C678*10^-3, NA())","v":-68.280150736579799},6049,8.7076482481069135,{"$f":" IF(Foglio1!$C$12 <> \"\", 8.314472*Foglio1!$C$12*Foglio2!F678, NA())","v":{"$error":"#N/A"}},{"$f":"IF(Foglio1!$H$12 <> \"\", Foglio1!$H$12 + G678*10^-3, NA())","v":{"$error":"#N/A"}},6049,8.7076482481069135,{"$f":" IF(Foglio1!$C$13 <> \"\", 8.314472*Foglio1!$C$13*Foglio2!J678, NA())","v":{"$error":"#N/A"}},{"$f":"IF(Foglio1!$H$13 <> \"\", Foglio1!$H$13 + K678*10^-3, NA())","v":{"$error":"#N/A"}},6049,8.7076482481069135,{"$f":" IF(Foglio1!$C$14 <> \"\", 8.314472*Foglio1!$C$14*Foglio2!N678, NA())","v":{"$error":"#N/A"}},{"$f":"IF(Foglio1!$H$14 <> \"\", Foglio1!$H$14 + O678*10^-3, NA())","v":{"$error":"#N/A"}},6049,8.7076482481069135,{"$f":" IF(Foglio1!$C$15 <> \"\", 8.314472*Foglio1!$C$15*Foglio2!R678, NA())","v":{"$error":"#N/A"}},{"$f":"IF(Foglio1!$H$15 <> \"\", Foglio1!$H$15 + S678*10^-3, NA())","v":{"$error":"#N/A"}}]
[6058,8.7091349915871827,{"$f":" IF(Foglio1!$C$11 <> \"\", 8.314472*Foglio1!$C$11*Foglio2!B679, NA())","v":21723.55770953156},{"$f":"IF(Foglio1!$H$11 <> \"\", Foglio1!$H$11 + C679*10^-3, NA())","v":-68.276442290468438},6058,8.7091349915871827,{"$f":" IF(Foglio1!$C$12 <> \"\", 8.314472*Foglio1!$C$12*Foglio2!F679, NA())","v":{"$error":"#N/A"}},{"$f":"IF(Foglio1!$H$12 <> \"\", Foglio1!$H$12 + G679*10^-3, NA())","v":{"$error":"#N/A"}},6058,8.7091349915871827,{"$f":" IF(Foglio1!$C$13 <> \"\", 8.314472*Foglio1!$C$13*Foglio2!J679, NA())","v":{"$error":"#N/A"}},{"$f":"IF(Foglio1!$H$13 <> \"\", Foglio1!$H$13 + K679*10^-3, NA())","v":{"$error":"#N/A"}},6058,8.7091349915871827,{"$f":" IF(Foglio1!$C$14 <> \"\", 8.314472*Foglio1!$C$14*Foglio2!N679, NA())","v":{"$error":"#N/A"}},{"$f":"IF(Foglio1!$H$14 <> \"\", Foglio1!$H$14 + O679*10^-3, NA())","v":{"$error":"#N/A"}},6058,8.7091349915871827,{"$f":" IF(Foglio1!$C$15 <> \"\", 8.314472*Foglio1!$C$15*Foglio2!R679, NA())","v":{"$error":"#N/A"}},{"$f":"IF(Foglio1!$H$15 <> \"\", Foglio1!$H$15 + S679*10^-3, NA())","v":{"$error":"#N/A"}}]
[6067,8.7106195279422973,{"$f":" IF(Foglio1!$C$11 <> \"\", 8.314472*Foglio1!$C$11*Foglio2!B680, NA())","v":21727.260650318836},{"$f":"IF(Foglio1!$H$11 <> \"\", Foglio1!$H$11 + C680*10^-3, NA())","v":-68.27273934968116},6067,8.7106195279422973,{"$f":" IF(Foglio1!$C$12 <> \"\", 8.314472*Foglio1!$C$12*Foglio2!F680, NA())","v":{"$error":"#N/A"}},{"$f":"IF(Foglio1!$H$12 <> \"\", Foglio1!$H$12 + G680*10^-3, NA())","v":{"$error":"#N/A"}},6067,8.7106195279422973,{"$f":" IF(Foglio1!$C$13 <> \"\", 8.314472*Foglio1!$C$13*Foglio2!J680, NA())","v":{"$error":"#N/A"}},{"$f":"IF(Foglio1!$H$13 <> \"\", Foglio1!$H$13 + K680*10^-3, NA())","v":{"$error":"#N/A"}},6067,8.7106195279422973,{"$f":" IF(Foglio1!$C$14 <> \"\", 8.314472*Foglio1!$C$14*Foglio2!N680, NA())","v":{"$error":"#N/A"}},{"$f":"IF(Foglio1!$H$14 <> \"\", Foglio1!$H$14 + O680*10^-3, NA())","v":{"$error":"#N/A"}},6067,8.7106195279422973,{"$f":" IF(Foglio1!$C$15 <> \"\", 8.314472*Foglio1!$C$15*Foglio2!R680, NA())","v":{"$error":"#N/A"}},{"$f":"IF(Foglio1!$H$15 <> \"\", Foglio1!$H$15 + S680*10^-3, NA())","v":{"$error":"#N/A"}}]
[6076,8.7121018637156631,{"$f":" IF(Foglio1!$C$11 <> \"\", 8.314472*Foglio1!$C$11*Foglio2!B681, NA())","v":21730.958102103512},{"$f":"IF(Foglio1!$H$11 <> \"\", Foglio1!$H$11 + C681*10^-3, NA())","v":-68.269041897896486},6076,8.7121018637156631,{"$f":" IF(Foglio1!$C$12 <> \"\", 8.314472*Foglio1!$C$12*Foglio2!F681, NA())","v":{"$error":"#N/A"}},{"$f":"IF(Foglio1!$H$12 <> \"\", Foglio1!$H$12 + G681*10^-3, NA())","v":{"$error":"#N/A"}},6076,8.7121018637156631,{"$f":" IF(Foglio1!$C$13 <> \"\", 8.314472*Foglio1!$C$13*Foglio2!J681, NA())","v":{"$error":"#N/A"}},{"$f":"IF(Foglio1!$H$13 <> \"\", Foglio1!$H$13 + K681*10^-3, NA())","v":{"$error":"#N/A"}},6076,8.7121018637156631,{"$f":" IF(Foglio1!$C$14 <> \"\", 8.314472*Foglio1!$C$14*Foglio2!N681, NA())","v":{"$error":"#N/A"}},{"$f":"IF(Foglio1!$H$14 <> \"\", Foglio1!$H$14 + O681*10^-3, NA())","v":{"$error":"#N/A"}},6076,8.7121018637156631,{"$f":" IF(Foglio1!$C$15 <> \"\", 8.314472*Foglio1!$C$15*Foglio2!R681, NA())","v":{"$error":"#N/A"}},{"$f":"IF(Foglio1!$H$15 <> \"\", Foglio1!$H$15 + S681*10^-3, NA())","v":{"$error":"#N/A"}}]
[6085,8.7135820054216282,{"$f":" IF(Foglio1!$C$11 <> \"\", 8.314472*Foglio1!$C$11*Foglio2!B682, NA())","v":21734.650081134594},{"$f":"IF(Foglio1!$H$11 <> \"\", Foglio1!$H$11 + C682*10^-3, NA())","v":-68.265349918865411},6085,8.7135820054216282,{"$f":" IF(Foglio1!$C$12 <> \"\", 8.314472*Foglio1!$C$12*Foglio2!F682, NA())","v":{"$error":"#N/A"}},{"$f":"IF(Foglio1!$H$12 <> \"\", Foglio1!$H$12 + G682*10^-3, NA())","v":{"$error":"#N/A"}},6085,8.7135820054216282,{"$f":" IF(Foglio1!$C$13 <> \"\", 8.314472*Foglio1!$C$13*Foglio2!J682, NA())","v":{"$error":"#N/A"}},{"$f":"IF(Foglio1!$H$13 <> \"\", Foglio1!$H$13 + K682*10^-3, NA())","v":{"$error":"#N/A"}},6085,8.7135820054216282,{"$f":" IF(Foglio1!$C$14 <> \"\", 8.314472*Foglio1!$C$14*Foglio2!N682, NA())","v":{"$error":"#N/A"}},{"$f":"IF(Foglio1!$H$14 <> \"\", Foglio1!$H$14 + O682*10^-3, NA())","v":{"$error":"#N/A"}},6085,8.7135820054216282,{"$f":" IF(Foglio1!$C$15 <> \"\", 8.314472*Foglio1!$C$15*Foglio2!R682, NA())","v":{"$error":"#N/A"}},{"$f":"IF(Foglio1!$H$15 <> \"\", Foglio1!$H$15 + S682*10^-3, NA())","v":{"$error":"#N/A"}}]
[6094,8.7150599595456537,{"$f":" IF(Foglio1!$C$11 <> \"\", 8.314472*Foglio1!$C$11*Foglio2!B683, NA())","v":21738.336603589043},{"$f":"IF(Foglio1!$H$11 <> \"\", Foglio1!$H$11 + C683*10^-3, NA())","v":-68.261663396410952},6094,8.7150599595456537,{"$f":" IF(Foglio1!$C$12 <> \"\", 8.314472*Foglio1!$C$12*Foglio2!F683, NA())","v":{"$error":"#N/A"}},{"$f":"IF(Foglio1!$H$12 <> \"\", Foglio1!$H$12 + G683*10^-3, NA())","v":{"$error":"#N/A"}},6094,8.7150599595456537,{"$f":" IF(Foglio1!$C$13 <> \"\", 8.314472*Foglio1!$C$13*Foglio2!J683, NA())","v":{"$error":"#N/A"}},{"$f":"IF(Foglio1!$H$13 <> \"\", Foglio1!$H$13 + K683*10^-3, NA())","v":{"$error":"#N/A"}},6094,8.7150599595456537,{"$f":" IF(Foglio1!$C$14 <> \"\", 8.314472*Foglio1!$C$14*Foglio2!N683, NA())","v":{"$error":"#N/A"}},{"$f":"IF(Foglio1!$H$14 <> \"\", Foglio1!$H$14 + O683*10^-3, NA())","v":{"$error":"#N/A"}},6094,8.7150599595456537,{"$f":" IF(Foglio1!$C$15 <> \"\", 8.314472*Foglio1!$C$15*Foglio2!R683, NA())","v":{"$error":"#N/A"}},{"$f":"IF(Foglio1!$H$15 <> \"\", Foglio1!$H$15 + S683*10^-3, NA())","v":{"$error":"#N/A"}}]
[6103,8.7165357325444948,{"$f":" IF(Foglio1!$C$11 <> \"\", 8.314472*Foglio1!$C$11*Foglio2!B684, NA())","v":21742.017685572209},{"$f":"IF(Foglio1!$H$11 <> \"\", Foglio1!$H$11 + C684*10^-3, NA())","v":-68.257982314427792},6103,8.7165357325444948,{"$f":" IF(Foglio1!$C$12 <> \"\", 8.314472*Foglio1!$C$12*Foglio2!F684, NA())","v":{"$error":"#N/A"}},{"$f":"IF(Foglio1!$H$12 <> \"\", Foglio1!$H$12 + G684*10^-3, NA())","v":{"$error":"#N/A"}},6103,8.7165357325444948,{"$f":" IF(Foglio1!$C$13 <> \"\", 8.314472*Foglio1!$C$13*Foglio2!J684, NA())","v":{"$error":"#N/A"}},{"$f":"IF(Foglio1!$H$13 <> \"\", Foglio1!$H$13 + K684*10^-3, NA())","v":{"$error":"#N/A"}},6103,8.7165357325444948,{"$f":" IF(Foglio1!$C$14 <> \"\", 8.314472*Foglio1!$C$14*Foglio2!N684, NA())","v":{"$error":"#N/A"}},{"$f":"IF(Foglio1!$H$14 <> \"\", Foglio1!$H$14 + O684*10^-3, NA())","v":{"$error":"#N/A"}},6103,8.7165357325444948,{"$f":" IF(Foglio1!$C$15 <> \"\", 8.314472*Foglio1!$C$15*Foglio2!R684, NA())","v":{"$error":"#N/A"}},{"$f":"IF(Foglio1!$H$15 <> \"\", Foglio1!$H$15 + S684*10^-3, NA())","v":{"$error":"#N/A"}}]
[6112,8.7180093308463569,{"$f":" IF(Foglio1!$C$11 <> \"\", 8.314472*Foglio1!$C$11*Foglio2!B685, NA())","v":21745.693343118233},{"$f":"IF(Foglio1!$H$11 <> \"\", Foglio1!$H$11 + C685*10^-3, NA())","v":-68.254306656881766},6112,8.7180093308463569,{"$f":" IF(Foglio1!$C$12 <> \"\", 8.314472*Foglio1!$C$12*Foglio2!F685, NA())","v":{"$error":"#N/A"}},{"$f":"IF(Foglio1!$H$12 <> \"\", Foglio1!$H$12 + G685*10^-3, NA())","v":{"$error":"#N/A"}},6112,8.7180093308463569,{"$f":" IF(Foglio1!$C$13 <> \"\", 8.314472*Foglio1!$C$13*Foglio2!J685, NA())","v":{"$error":"#N/A"}},{"$f":"IF(Foglio1!$H$13 <> \"\", Foglio1!$H$13 + K685*10^-3, NA())","v":{"$error":"#N/A"}},6112,8.7180093308463569,{"$f":" IF(Foglio1!$C$14 <> \"\", 8.314472*Foglio1!$C$14*Foglio2!N685, NA())","v":{"$error":"#N/A"}},{"$f":"IF(Foglio1!$H$14 <> \"\", Foglio1!$H$14 + O685*10^-3, NA())","v":{"$error":"#N/A"}},6112,8.7180093308463569,{"$f":" IF(Foglio1!$C$15 <> \"\", 8.314472*Foglio1!$C$15*Foglio2!R685, NA())","v":{"$error":"#N/A"}},{"$f":"IF(Foglio1!$H$15 <> \"\", Foglio1!$H$15 + S685*10^-3, NA())","v":{"$error":"#N/A"}}]
[6121,8.71948076085107,{"$f":" IF(Foglio1!$C$11 <> \"\", 8.314472*Foglio1!$C$11*Foglio2!B686, NA())","v":21749.363592190479},{"$f":"IF(Foglio1!$H$11 <> \"\", Foglio1!$H$11 + C686*10^-3, NA())","v":-68.250636407809523},6121,8.71948076085107,{"$f":" IF(Foglio1!$C$12 <> \"\", 8.314472*Foglio1!$C$12*Foglio2!F686, NA())","v":{"$error":"#N/A"}},{"$f":"IF(Foglio1!$H$12 <> \"\", Foglio1!$H$12 + G686*10^-3, NA())","v":{"$error":"#N/A"}},6121,8.71948076085107,{"$f":" IF(Foglio1!$C$13 <> \"\", 8.314472*Foglio1!$C$13*Foglio2!J686, NA())","v":{"$error":"#N/A"}},{"$f":"IF(Foglio1!$H$13 <> \"\", Foglio1!$H$13 + K686*10^-3, NA())","v":{"$error":"#N/A"}},6121,8.71948076085107,{"$f":" IF(Foglio1!$C$14 <> \"\", 8.314472*Foglio1!$C$14*Foglio2!N686, NA())","v":{"$error":"#N/A"}},{"$f":"IF(Foglio1!$H$14 <> \"\", Foglio1!$H$14 + O686*10^-3, NA())","v":{"$error":"#N/A"}},6121,8.71948076085107,{"$f":" IF(Foglio1!$C$15 <> \"\", 8.314472*Foglio1!$C$15*Foglio2!R686, NA())","v":{"$error":"#N/A"}},{"$f":"IF(Foglio1!$H$15 <> \"\", Foglio1!$H$15 + S686*10^-3, NA())","v":{"$error":"#N/A"}}]
[6130,8.7209500289302575,{"$f":" IF(Foglio1!$C$11 <> \"\", 8.314472*Foglio1!$C$11*Foglio2!B687, NA())","v":21753.028448681947},{"$f":"IF(Foglio1!$H$11 <> \"\", Foglio1!$H$11 + C687*10^-3, NA())","v":-68.246971551318055},6130,8.7209500289302575,{"$f":" IF(Foglio1!$C$12 <> \"\", 8.314472*Foglio1!$C$12*Foglio2!F687, NA())","v":{"$error":"#N/A"}},{"$f":"IF(Foglio1!$H$12 <> \"\", Foglio1!$H$12 + G687*10^-3, NA())","v":{"$error":"#N/A"}},6130,8.7209500289302575,{"$f":" IF(Foglio1!$C$13 <> \"\", 8.314472*Foglio1!$C$13*Foglio2!J687, NA())","v":{"$error":"#N/A"}},{"$f":"IF(Foglio1!$H$13 <> \"\", Foglio1!$H$13 + K687*10^-3, NA())","v":{"$error":"#N/A"}},6130,8.7209500289302575,{"$f":" IF(Foglio1!$C$14 <> \"\", 8.314472*Foglio1!$C$14*Foglio2!N687, NA())","v":{"$error":"#N/A"}},{"$f":"IF(Foglio1!$H$14 <> \"\", Foglio1!$H$14 + O687*10^-3, NA())","v":{"$error":"#N/A"}},6130,8.7209500289302575,{"$f":" IF(Foglio1!$C$15 <> \"\", 8.314472*Foglio1!$C$15*Foglio2!R687, NA())","v":{"$error":"#N/A"}},{"$f":"IF(Foglio1!$H$15 <> \"\", Foglio1!$H$15 + S687*10^-3, NA())","v":{"$error":"#N/A"}}]
[6139,8.7224171414274956,{"$f":" IF(Foglio1!$C$11 <> \"\", 8.314472*Foglio1!$C$11*Foglio2!B688, NA())","v":21756.687928415686},{"$f":"IF(Foglio1!$H$11 <> \"\", Foglio1!$H$11 + C688*10^-3, NA())","v":-68.243312071584313},6139,8.7224171414274956,{"$f":" IF(Foglio1!$C$12 <> \"\", 8.314472*Foglio1!$C$12*Foglio2!F688, NA())","v":{"$error":"#N/A"}},{"$f":"IF(Foglio1!$H$12 <> \"\", Foglio1!$H$12 + G688*10^-3, NA())","v":{"$error":"#N/A"}},6139,8.7224171414274956,{"$f":" IF(Foglio1!$C$13 <> \"\", 8.314472*Foglio1!$C$13*Foglio2!J688, NA())","v":{"$error":"#N/A"}},{"$f":"IF(Foglio1!$H$13 <> \"\", Foglio1!$H$13 + K688*10^-3, NA())","v":{"$error":"#N/A"}},6139,8.7224171414274956,{"$f":" IF(Foglio1!$C$14 <> \"\", 8.314472*Foglio1!$C$14*Foglio2!N688, NA())","v":{"$error":"#N/A"}},{"$f":"IF(Foglio1!$H$14 <> \"\", Foglio1!$H$14 + O688*10^-3, NA())","v":{"$error":"#N/A"}},6139,8.7224171414274956,{"$f":" IF(Foglio1!$C$15 <> \"\", 8.314472*Foglio1!$C$15*Foglio2!R688, NA())","v":{"$error":"#N/A"}},{"$f":"IF(Foglio1!$H$15 <> \"\", Foglio1!$H$15 + S688*10^-3, NA())","v":{"$error":"#N/A"}}]
[6148,8.723882104658486,{"$f":" IF(Foglio1!$C$11 <> \"\", 8.314472*Foglio1!$C$11*Foglio2!B689, NA())","v":21760.342047145215},{"$f":"IF(Foglio1!$H$11 <> \"\", Foglio1!$H$11 + C689*10^-3, NA())","v":-68.239657952854785},6148,8.723882104658486,{"$f":" IF(Foglio1!$C$12 <> \"\", 8.314472*Foglio1!$C$12*Foglio2!F689, NA())","v":{"$error":"#N/A"}},{"$f":"IF(Foglio1!$H$12 <> \"\", Foglio1!$H$12 + G689*10^-3, NA())","v":{"$error":"#N/A"}},6148,8.723882104658486,{"$f":" IF(Foglio1!$C$13 <> \"\", 8.314472*Foglio1!$C$13*Foglio2!J689, NA())","v":{"$error":"#N/A"}},{"$f":"IF(Foglio1!$H$13 <> \"\", Foglio1!$H$13 + K689*10^-3, NA())","v":{"$error":"#N/A"}},6148,8.723882104658486,{"$f":" IF(Foglio1!$C$14 <> \"\", 8.314472*Foglio1!$C$14*Foglio2!N689, NA())","v":{"$error":"#N/A"}},{"$f":"IF(Foglio1!$H$14 <> \"\", Foglio1!$H$14 + O689*10^-3, NA())","v":{"$error":"#N/A"}},6148,8.723882104658486,{"$f":" IF(Foglio1!$C$15 <> \"\", 8.314472*Foglio1!$C$15*Foglio2!R689, NA())","v":{"$error":"#N/A"}},{"$f":"IF(Foglio1!$H$15 <> \"\", Foglio1!$H$15 + S689*10^-3, NA())","v":{"$error":"#N/A"}}]
[6157,8.7253449249112105,{"$f":" IF(Foglio1!$C$11 <> \"\", 8.314472*Foglio1!$C$11*Foglio2!B690, NA())","v":21763.990820554911},{"$f":"IF(Foglio1!$H$11 <> \"\", Foglio1!$H$11 + C690*10^-3, NA())","v":-68.236009179445091},6157,8.7253449249112105,{"$f":" IF(Foglio1!$C$12 <> \"\", 8.314472*Foglio1!$C$12*Foglio2!F690, NA())","v":{"$error":"#N/A"}},{"$f":"IF(Foglio1!$H$12 <> \"\", Foglio1!$H$12 + G690*10^-3, NA())","v":{"$error":"#N/A"}},6157,8.7253449249112105,{"$f":" IF(Foglio1!$C$13 <> \"\", 8.314472*Foglio1!$C$13*Foglio2!J690, NA())","v":{"$error":"#N/A"}},{"$f":"IF(Foglio1!$H$13 <> \"\", Foglio1!$H$13 + K690*10^-3, NA())","v":{"$error":"#N/A"}},6157,8.7253449249112105,{"$f":" IF(Foglio1!$C$14 <> \"\", 8.314472*Foglio1!$C$14*Foglio2!N690, NA())","v":{"$error":"#N/A"}},{"$f":"IF(Foglio1!$H$14 <> \"\", Foglio1!$H$14 + O690*10^-3, NA())","v":{"$error":"#N/A"}},6157,8.7253449249112105,{"$f":" IF(Foglio1!$C$15 <> \"\", 8.314472*Foglio1!$C$15*Foglio2!R690, NA())","v":{"$error":"#N/A"}},{"$f":"IF(Foglio1!$H$15 <> \"\", Foglio1!$H$15 + S690*10^-3, NA())","v":{"$error":"#N/A"}}]
[6166,8.7268056084460959,{"$f":" IF(Foglio1!$C$11 <> \"\", 8.314472*Foglio1!$C$11*Foglio2!B691, NA())","v":21767.63426426041},{"$f":"IF(Foglio1!$H$11 <> \"\", Foglio1!$H$11 + C691*10^-3, NA())","v":-68.232365735739592},6166,8.7268056084460959,{"$f":" IF(Foglio1!$C$12 <> \"\", 8.314472*Foglio1!$C$12*Foglio2!F691, NA())","v":{"$error":"#N/A"}},{"$f":"IF(Foglio1!$H$12 <> \"\", Foglio1!$H$12 + G691*10^-3, NA())","v":{"$error":"#N/A"}},6166,8.7268056084460959,{"$f":" IF(Foglio1!$C$13 <> \"\", 8.314472*Foglio1!$C$13*Foglio2!J691, NA())","v":{"$error":"#N/A"}},{"$f":"IF(Foglio1!$H$13 <> \"\", Foglio1!$H$13 + K691*10^-3, NA())","v":{"$error":"#N/A"}},6166,8.7268056084460959,{"$f":" IF(Foglio1!$C$14 <> \"\", 8.314472*Foglio1!$C$14*Foglio2!N691, NA())","v":{"$error":"#N/A"}},{"$f":"IF(Foglio1!$H$14 <> \"\", Foglio1!$H$14 + O691*10^-3, NA())","v":{"$error":"#N/A"}},6166,8.7268056084460959,{"$f":" IF(Foglio1!$C$15 <> \"\", 8.314472*Foglio1!$C$15*Foglio2!R691, NA())","v":{"$error":"#N/A"}},{"$f":"IF(Foglio1!$H$15 <> \"\", Foglio1!$H$15 + S691*10^-3, NA())","v":{"$error":"#N/A"}}]
[6175,8.7282641614961776,{"$f":" IF(Foglio1!$C$11 <> \"\", 8.314472*Foglio1!$C$11*Foglio2!B692, NA())","v":21771.272393809035},{"$f":"IF(Foglio1!$H$11 <> \"\", Foglio1!$H$11 + C692*10^-3, NA())","v":-68.228727606190972},6175,8.7282641614961776,{"$f":" IF(Foglio1!$C$12 <> \"\", 8.314472*Foglio1!$C$12*Foglio2!F692, NA())","v":{"$error":"#N/A"}},{"$f":"IF(Foglio1!$H$12 <> \"\", Foglio1!$H$12 + G692*10^-3, NA())","v":{"$error":"#N/A"}},6175,8.7282641614961776,{"$f":" IF(Foglio1!$C$13 <> \"\", 8.314472*Foglio1!$C$13*Foglio2!J692, NA())","v":{"$error":"#N/A"}},{"$f":"IF(Foglio1!$H$13 <> \"\", Foglio1!$H$13 + K692*10^-3, NA())","v":{"$error":"#N/A"}},6175,8.7282641614961776,{"$f":" IF(Foglio1!$C$14 <> \"\", 8.314472*Foglio1!$C$14*Foglio2!N692, NA())","v":{"$error":"#N/A"}},{"$f":"IF(Foglio1!$H$14 <> \"\", Foglio1!$H$14 + O692*10^-3, NA())","v":{"$error":"#N/A"}},6175,8.7282641614961776,{"$f":" IF(Foglio1!$C$15 <> \"\", 8.314472*Foglio1!$C$15*Foglio2!R692, NA())","v":{"$error":"#N/A"}},{"$f":"IF(Foglio1!$H$15 <> \"\", Foglio1!$H$15 + S692*10^-3, NA())","v":{"$error":"#N/A"}}]
[6184,8.7297205902672577,{"$f":" IF(Foglio1!$C$11 <> \"\", 8.314472*Foglio1!$C$11*Foglio2!B693, NA())","v":21774.905224680177},{"$f":"IF(Foglio1!$H$11 <> \"\", Foglio1!$H$11 + C693*10^-3, NA())","v":-68.225094775319832},6184,8.7297205902672577,{"$f":" IF(Foglio1!$C$12 <> \"\", 8.314472*Foglio1!$C$12*Foglio2!F693, NA())","v":{"$error":"#N/A"}},{"$f":"IF(Foglio1!$H$12 <> \"\", Foglio1!$H$12 + G693*10^-3, NA())","v":{"$error":"#N/A"}},6184,8.7297205902672577,{"$f":" IF(Foglio1!$C$13 <> \"\", 8.314472*Foglio1!$C$13*Foglio2!J693, NA())","v":{"$error":"#N/A"}},{"$f":"IF(Foglio1!$H$13 <> \"\", Foglio1!$H$13 + K693*10^-3, NA())","v":{"$error":"#N/A"}},6184,8.7297205902672577,{"$f":" IF(Foglio1!$C$14 <> \"\", 8.314472*Foglio1!$C$14*Foglio2!N693, NA())","v":{"$error":"#N/A"}},{"$f":"IF(Foglio1!$H$14 <> \"\", Foglio1!$H$14 + O693*10^-3, NA())","v":{"$error":"#N/A"}},6184,8.7297205902672577,{"$f":" IF(Foglio1!$C$15 <> \"\", 8.314472*Foglio1!$C$15*Foglio2!R693, NA())","v":{"$error":"#N/A"}},{"$f":"IF(Foglio1!$H$15 <> \"\", Foglio1!$H$15 + S693*10^-3, NA())","v":{"$error":"#N/A"}}]
[6193,8.7311749009380613,{"$f":" IF(Foglio1!$C$11 <> \"\", 8.314472*Foglio1!$C$11*Foglio2!B694, NA())","v":21778.532772285685},{"$f":"IF(Foglio1!$H$11 <> \"\", Foglio1!$H$11 + C694*10^-3, NA())","v":-68.221467227714314},6193,8.7311749009380613,{"$f":" IF(Foglio1!$C$12 <> \"\", 8.314472*Foglio1!$C$12*Foglio2!F694, NA())","v":{"$error":"#N/A"}},{"$f":"IF(Foglio1!$H$12 <> \"\", Foglio1!$H$12 + G694*10^-3, NA())","v":{"$error":"#N/A"}},6193,8.7311749009380613,{"$f":" IF(Foglio1!$C$13 <> \"\", 8.314472*Foglio1!$C$13*Foglio2!J694, NA())","v":{"$error":"#N/A"}},{"$f":"IF(Foglio1!$H$13 <> \"\", Foglio1!$H$13 + K694*10^-3, NA())","v":{"$error":"#N/A"}},6193,8.7311749009380613,{"$f":" IF(Foglio1!$C$14 <> \"\", 8.314472*Foglio1!$C$14*Foglio2!N694, NA())","v":{"$error":"#N/A"}},{"$f":"IF(Foglio1!$H$14 <> \"\", Foglio1!$H$14 + O694*10^-3, NA())","v":{"$error":"#N/A"}},6193,8.7311749009380613,{"$f":" IF(Foglio1!$C$15 <> \"\", 8.314472*Foglio1!$C$15*Foglio2!R694, NA())","v":{"$error":"#N/A"}},{"$f":"IF(Foglio1!$H$15 <> \"\", Foglio1!$H$15 + S694*10^-3, NA())","v":{"$error":"#N/A"}}]
[6202,8.7326270996603945,{"$f":" IF(Foglio1!$C$11 <> \"\", 8.314472*Foglio1!$C$11*Foglio2!B695, NA())","v":21782.155051970269},{"$f":"IF(Foglio1!$H$11 <> \"\", Foglio1!$H$11 + C695*10^-3, NA())","v":-68.217844948029736},6202,8.7326270996603945,{"$f":" IF(Foglio1!$C$12 <> \"\", 8.314472*Foglio1!$C$12*Foglio2!F695, NA())","v":{"$error":"#N/A"}},{"$f":"IF(Foglio1!$H$12 <> \"\", Foglio1!$H$12 + G695*10^-3, NA())","v":{"$error":"#N/A"}},6202,8.7326270996603945,{"$f":" IF(Foglio1!$C$13 <> \"\", 8.314472*Foglio1!$C$13*Foglio2!J695, NA())","v":{"$error":"#N/A"}},{"$f":"IF(Foglio1!$H$13 <> \"\", Foglio1!$H$13 + K695*10^-3, NA())","v":{"$error":"#N/A"}},6202,8.7326270996603945,{"$f":" IF(Foglio1!$C$14 <> \"\", 8.314472*Foglio1!$C$14*Foglio2!N695, NA())","v":{"$error":"#N/A"}},{"$f":"IF(Foglio1!$H$14 <> \"\", Foglio1!$H$14 + O695*10^-3, NA())","v":{"$error":"#N/A"}},6202,8.7326270996603945,{"$f":" IF(Foglio1!$C$15 <> \"\", 8.314472*Foglio1!$C$15*Foglio2!R695, NA())","v":{"$error":"#N/A"}},{"$f":"IF(Foglio1!$H$15 <> \"\", Foglio1!$H$15 + S695*10^-3, NA())","v":{"$error":"#N/A"}}]
[6211,8.7340771925593028,{"$f":" IF(Foglio1!$C$11 <> \"\", 8.314472*Foglio1!$C$11*Foglio2!B696, NA())","v":21785.77207901188},{"$f":"IF(Foglio1!$H$11 <> \"\", Foglio1!$H$11 + C696*10^-3, NA())","v":-68.214227920988122},6211,8.7340771925593028,{"$f":" IF(Foglio1!$C$12 <> \"\", 8.314472*Foglio1!$C$12*Foglio2!F696, NA())","v":{"$error":"#N/A"}},{"$f":"IF(Foglio1!$H$12 <> \"\", Foglio1!$H$12 + G696*10^-3, NA())","v":{"$error":"#N/A"}},6211,8.7340771925593028,{"$f":" IF(Foglio1!$C$13 <> \"\", 8.314472*Foglio1!$C$13*Foglio2!J696, NA())","v":{"$error":"#N/A"}},{"$f":"IF(Foglio1!$H$13 <> \"\", Foglio1!$H$13 + K696*10^-3, NA())","v":{"$error":"#N/A"}},6211,8.7340771925593028,{"$f":" IF(Foglio1!$C$14 <> \"\", 8.314472*Foglio1!$C$14*Foglio2!N696, NA())","v":{"$error":"#N/A"}},{"$f":"IF(Foglio1!$H$14 <> \"\", Foglio1!$H$14 + O696*10^-3, NA())","v":{"$error":"#N/A"}},6211,8.7340771925593028,{"$f":" IF(Foglio1!$C$15 <> \"\", 8.314472*Foglio1!$C$15*Foglio2!R696, NA())","v":{"$error":"#N/A"}},{"$f":"IF(Foglio1!$H$15 <> \"\", Foglio1!$H$15 + S696*10^-3, NA())","v":{"$error":"#N/A"}}]
[6220,8.7355251857332252,{"$f":" IF(Foglio1!$C$11 <> \"\", 8.314472*Foglio1!$C$11*Foglio2!B697, NA())","v":21789.383868622113},{"$f":"IF(Foglio1!$H$11 <> \"\", Foglio1!$H$11 + C697*10^-3, NA())","v":-68.21061613137789},6220,8.7355251857332252,{"$f":" IF(Foglio1!$C$12 <> \"\", 8.314472*Foglio1!$C$12*Foglio2!F697, NA())","v":{"$error":"#N/A"}},{"$f":"IF(Foglio1!$H$12 <> \"\", Foglio1!$H$12 + G697*10^-3, NA())","v":{"$error":"#N/A"}},6220,8.7355251857332252,{"$f":" IF(Foglio1!$C$13 <> \"\", 8.314472*Foglio1!$C$13*Foglio2!J697, NA())","v":{"$error":"#N/A"}},{"$f":"IF(Foglio1!$H$13 <> \"\", Foglio1!$H$13 + K697*10^-3, NA())","v":{"$error":"#N/A"}},6220,8.7355251857332252,{"$f":" IF(Foglio1!$C$14 <> \"\", 8.314472*Foglio1!$C$14*Foglio2!N697, NA())","v":{"$error":"#N/A"}},{"$f":"IF(Foglio1!$H$14 <> \"\", Foglio1!$H$14 + O697*10^-3, NA())","v":{"$error":"#N/A"}},6220,8.7355251857332252,{"$f":" IF(Foglio1!$C$15 <> \"\", 8.314472*Foglio1!$C$15*Foglio2!R697, NA())","v":{"$error":"#N/A"}},{"$f":"IF(Foglio1!$H$15 <> \"\", Foglio1!$H$15 + S697*10^-3, NA())","v":{"$error":"#N/A"}}]
[6229,8.7369710852541456,{"$f":" IF(Foglio1!$C$11 <> \"\", 8.314472*Foglio1!$C$11*Foglio2!B698, NA())","v":21792.990435946562},{"$f":"IF(Foglio1!$H$11 <> \"\", Foglio1!$H$11 + C698*10^-3, NA())","v":-68.207009564053436},6229,8.7369710852541456,{"$f":" IF(Foglio1!$C$12 <> \"\", 8.314472*Foglio1!$C$12*Foglio2!F698, NA())","v":{"$error":"#N/A"}},{"$f":"IF(Foglio1!$H$12 <> \"\", Foglio1!$H$12 + G698*10^-3, NA())","v":{"$error":"#N/A"}},6229,8.7369710852541456,{"$f":" IF(Foglio1!$C$13 <> \"\", 8.314472*Foglio1!$C$13*Foglio2!J698, NA())","v":{"$error":"#N/A"}},{"$f":"IF(Foglio1!$H$13 <> \"\", Foglio1!$H$13 + K698*10^-3, NA())","v":{"$error":"#N/A"}},6229,8.7369710852541456,{"$f":" IF(Foglio1!$C$14 <> \"\", 8.314472*Foglio1!$C$14*Foglio2!N698, NA())","v":{"$error":"#N/A"}},{"$f":"IF(Foglio1!$H$14 <> \"\", Foglio1!$H$14 + O698*10^-3, NA())","v":{"$error":"#N/A"}},6229,8.7369710852541456,{"$f":" IF(Foglio1!$C$15 <> \"\", 8.314472*Foglio1!$C$15*Foglio2!R698, NA())","v":{"$error":"#N/A"}},{"$f":"IF(Foglio1!$H$15 <> \"\", Foglio1!$H$15 + S698*10^-3, NA())","v":{"$error":"#N/A"}}]
[6238,8.7384148971677487,{"$f":" IF(Foglio1!$C$11 <> \"\", 8.314472*Foglio1!$C$11*Foglio2!B699, NA())","v":21796.59179606524},{"$f":"IF(Foglio1!$H$11 <> \"\", Foglio1!$H$11 + C699*10^-3, NA())","v":-68.203408203934757},6238,8.7384148971677487,{"$f":" IF(Foglio1!$C$12 <> \"\", 8.314472*Foglio1!$C$12*Foglio2!F699, NA())","v":{"$error":"#N/A"}},{"$f":"IF(Foglio1!$H$12 <> \"\", Foglio1!$H$12 + G699*10^-3, NA())","v":{"$error":"#N/A"}},6238,8.7384148971677487,{"$f":" IF(Foglio1!$C$13 <> \"\", 8.314472*Foglio1!$C$13*Foglio2!J699, NA())","v":{"$error":"#N/A"}},{"$f":"IF(Foglio1!$H$13 <> \"\", Foglio1!$H$13 + K699*10^-3, NA())","v":{"$error":"#N/A"}},6238,8.7384148971677487,{"$f":" IF(Foglio1!$C$14 <> \"\", 8.314472*Foglio1!$C$14*Foglio2!N699, NA())","v":{"$error":"#N/A"}},{"$f":"IF(Foglio1!$H$14 <> \"\", Foglio1!$H$14 + O699*10^-3, NA())","v":{"$error":"#N/A"}},6238,8.7384148971677487,{"$f":" IF(Foglio1!$C$15 <> \"\", 8.314472*Foglio1!$C$15*Foglio2!R699, NA())","v":{"$error":"#N/A"}},{"$f":"IF(Foglio1!$H$15 <> \"\", Foglio1!$H$15 + S699*10^-3, NA())","v":{"$error":"#N/A"}}]
[6247,8.7398566274935696,{"$f":" IF(Foglio1!$C$11 <> \"\", 8.314472*Foglio1!$C$11*Foglio2!B700, NA())","v":21800.187963992918},{"$f":"IF(Foglio1!$H$11 <> \"\", Foglio1!$H$11 + C700*10^-3, NA())","v":-68.199812036007074},6247,8.7398566274935696,{"$f":" IF(Foglio1!$C$12 <> \"\", 8.314472*Foglio1!$C$12*Foglio2!F700, NA())","v":{"$error":"#N/A"}},{"$f":"IF(Foglio1!$H$12 <> \"\", Foglio1!$H$12 + G700*10^-3, NA())","v":{"$error":"#N/A"}},6247,8.7398566274935696,{"$f":" IF(Foglio1!$C$13 <> \"\", 8.314472*Foglio1!$C$13*Foglio2!J700, NA())","v":{"$error":"#N/A"}},{"$f":"IF(Foglio1!$H$13 <> \"\", Foglio1!$H$13 + K700*10^-3, NA())","v":{"$error":"#N/A"}},6247,8.7398566274935696,{"$f":" IF(Foglio1!$C$14 <> \"\", 8.314472*Foglio1!$C$14*Foglio2!N700, NA())","v":{"$error":"#N/A"}},{"$f":"IF(Foglio1!$H$14 <> \"\", Foglio1!$H$14 + O700*10^-3, NA())","v":{"$error":"#N/A"}},6247,8.7398566274935696,{"$f":" IF(Foglio1!$C$15 <> \"\", 8.314472*Foglio1!$C$15*Foglio2!R700, NA())","v":{"$error":"#N/A"}},{"$f":"IF(Foglio1!$H$15 <> \"\", Foglio1!$H$15 + S700*10^-3, NA())","v":{"$error":"#N/A"}}]
[6256,8.7412962822251465,{"$f":" IF(Foglio1!$C$11 <> \"\", 8.314472*Foglio1!$C$11*Foglio2!B701, NA())","v":21803.778954679525},{"$f":"IF(Foglio1!$H$11 <> \"\", Foglio1!$H$11 + C701*10^-3, NA())","v":-68.19622104532047},6256,8.7412962822251465,{"$f":" IF(Foglio1!$C$12 <> \"\", 8.314472*Foglio1!$C$12*Foglio2!F701, NA())","v":{"$error":"#N/A"}},{"$f":"IF(Foglio1!$H$12 <> \"\", Foglio1!$H$12 + G701*10^-3, NA())","v":{"$error":"#N/A"}},6256,8.7412962822251465,{"$f":" IF(Foglio1!$C$13 <> \"\", 8.314472*Foglio1!$C$13*Foglio2!J701, NA())","v":{"$error":"#N/A"}},{"$f":"IF(Foglio1!$H$13 <> \"\", Foglio1!$H$13 + K701*10^-3, NA())","v":{"$error":"#N/A"}},6256,8.7412962822251465,{"$f":" IF(Foglio1!$C$14 <> \"\", 8.314472*Foglio1!$C$14*Foglio2!N701, NA())","v":{"$error":"#N/A"}},{"$f":"IF(Foglio1!$H$14 <> \"\", Foglio1!$H$14 + O701*10^-3, NA())","v":{"$error":"#N/A"}},6256,8.7412962822251465,{"$f":" IF(Foglio1!$C$15 <> \"\", 8.314472*Foglio1!$C$15*Foglio2!R701, NA())","v":{"$error":"#N/A"}},{"$f":"IF(Foglio1!$H$15 <> \"\", Foglio1!$H$15 + S701*10^-3, NA())","v":{"$error":"#N/A"}}]
[6265,8.742733867330168,{"$f":" IF(Foglio1!$C$11 <> \"\", 8.314472*Foglio1!$C$11*Foglio2!B702, NA())","v":21807.364783010522},{"$f":"IF(Foglio1!$H$11 <> \"\", Foglio1!$H$11 + C702*10^-3, NA())","v":-68.192635216989473},6265,8.742733867330168,{"$f":" IF(Foglio1!$C$12 <> \"\", 8.314472*Foglio1!$C$12*Foglio2!F702, NA())","v":{"$error":"#N/A"}},{"$f":"IF(Foglio1!$H$12 <> \"\", Foglio1!$H$12 + G702*10^-3, NA())","v":{"$error":"#N/A"}},6265,8.742733867330168,{"$f":" IF(Foglio1!$C$13 <> \"\", 8.314472*Foglio1!$C$13*Foglio2!J702, NA())","v":{"$error":"#N/A"}},{"$f":"IF(Foglio1!$H$13 <> \"\", Foglio1!$H$13 + K702*10^-3, NA())","v":{"$error":"#N/A"}},6265,8.742733867330168,{"$f":" IF(Foglio1!$C$14 <> \"\", 8.314472*Foglio1!$C$14*Foglio2!N702, NA())","v":{"$error":"#N/A"}},{"$f":"IF(Foglio1!$H$14 <> \"\", Foglio1!$H$14 + O702*10^-3, NA())","v":{"$error":"#N/A"}},6265,8.742733867330168,{"$f":" IF(Foglio1!$C$15 <> \"\", 8.314472*Foglio1!$C$15*Foglio2!R702, NA())","v":{"$error":"#N/A"}},{"$f":"IF(Foglio1!$H$15 <> \"\", Foglio1!$H$15 + S702*10^-3, NA())","v":{"$error":"#N/A"}}]
[6274,8.744169388750624,{"$f":" IF(Foglio1!$C$11 <> \"\", 8.314472*Foglio1!$C$11*Foglio2!B703, NA())","v":21810.945463807257},{"$f":"IF(Foglio1!$H$11 <> \"\", Foglio1!$H$11 + C703*10^-3, NA())","v":-68.189054536192742},6274,8.744169388750624,{"$f":" IF(Foglio1!$C$12 <> \"\", 8.314472*Foglio1!$C$12*Foglio2!F703, NA())","v":{"$error":"#N/A"}},{"$f":"IF(Foglio1!$H$12 <> \"\", Foglio1!$H$12 + G703*10^-3, NA())","v":{"$error":"#N/A"}},6274,8.744169388750624,{"$f":" IF(Foglio1!$C$13 <> \"\", 8.314472*Foglio1!$C$13*Foglio2!J703, NA())","v":{"$error":"#N/A"}},{"$f":"IF(Foglio1!$H$13 <> \"\", Foglio1!$H$13 + K703*10^-3, NA())","v":{"$error":"#N/A"}},6274,8.744169388750624,{"$f":" IF(Foglio1!$C$14 <> \"\", 8.314472*Foglio1!$C$14*Foglio2!N703, NA())","v":{"$error":"#N/A"}},{"$f":"IF(Foglio1!$H$14 <> \"\", Foglio1!$H$14 + O703*10^-3, NA())","v":{"$error":"#N/A"}},6274,8.744169388750624,{"$f":" IF(Foglio1!$C$15 <> \"\", 8.314472*Foglio1!$C$15*Foglio2!R703, NA())","v":{"$error":"#N/A"}},{"$f":"IF(Foglio1!$H$15 <> \"\", Foglio1!$H$15 + S703*10^-3, NA())","v":{"$error":"#N/A"}}]
[6283,8.7456028524029463,{"$f":" IF(Foglio1!$C$11 <> \"\", 8.314472*Foglio1!$C$11*Foglio2!B704, NA())","v":21814.521011827332},{"$f":"IF(Foglio1!$H$11 <> \"\", Foglio1!$H$11 + C704*10^-3, NA())","v":-68.185478988172662},6283,8.7456028524029463,{"$f":" IF(Foglio1!$C$12 <> \"\", 8.314472*Foglio1!$C$12*Foglio2!F704, NA())","v":{"$error":"#N/A"}},{"$f":"IF(Foglio1!$H$12 <> \"\", Foglio1!$H$12 + G704*10^-3, NA())","v":{"$error":"#N/A"}},6283,8.7456028524029463,{"$f":" IF(Foglio1!$C$13 <> \"\", 8.314472*Foglio1!$C$13*Foglio2!J704, NA())","v":{"$error":"#N/A"}},{"$f":"IF(Foglio1!$H$13 <> \"\", Foglio1!$H$13 + K704*10^-3, NA())","v":{"$error":"#N/A"}},6283,8.7456028524029463,{"$f":" IF(Foglio1!$C$14 <> \"\", 8.314472*Foglio1!$C$14*Foglio2!N704, NA())","v":{"$error":"#N/A"}},{"$f":"IF(Foglio1!$H$14 <> \"\", Foglio1!$H$14 + O704*10^-3, NA())","v":{"$error":"#N/A"}},6283,8.7456028524029463,{"$f":" IF(Foglio1!$C$15 <> \"\", 8.314472*Foglio1!$C$15*Foglio2!R704, NA())","v":{"$error":"#N/A"}},{"$f":"IF(Foglio1!$H$15 <> \"\", Foglio1!$H$15 + S704*10^-3, NA())","v":{"$error":"#N/A"}}]
[6292,8.7470342641781684,{"$f":" IF(Foglio1!$C$11 <> \"\", 8.314472*Foglio1!$C$11*Foglio2!B705, NA())","v":21818.091441764998},{"$f":"IF(Foglio1!$H$11 <> \"\", Foglio1!$H$11 + C705*10^-3, NA())","v":-68.181908558234994},6292,8.7470342641781684,{"$f":" IF(Foglio1!$C$12 <> \"\", 8.314472*Foglio1!$C$12*Foglio2!F705, NA())","v":{"$error":"#N/A"}},{"$f":"IF(Foglio1!$H$12 <> \"\", Foglio1!$H$12 + G705*10^-3, NA())","v":{"$error":"#N/A"}},6292,8.7470342641781684,{"$f":" IF(Foglio1!$C$13 <> \"\", 8.314472*Foglio1!$C$13*Foglio2!J705, NA())","v":{"$error":"#N/A"}},{"$f":"IF(Foglio1!$H$13 <> \"\", Foglio1!$H$13 + K705*10^-3, NA())","v":{"$error":"#N/A"}},6292,8.7470342641781684,{"$f":" IF(Foglio1!$C$14 <> \"\", 8.314472*Foglio1!$C$14*Foglio2!N705, NA())","v":{"$error":"#N/A"}},{"$f":"IF(Foglio1!$H$14 <> \"\", Foglio1!$H$14 + O705*10^-3, NA())","v":{"$error":"#N/A"}},6292,8.7470342641781684,{"$f":" IF(Foglio1!$C$15 <> \"\", 8.314472*Foglio1!$C$15*Foglio2!R705, NA())","v":{"$error":"#N/A"}},{"$f":"IF(Foglio1!$H$15 <> \"\", Foglio1!$H$15 + S705*10^-3, NA())","v":{"$error":"#N/A"}}]
[6301,8.7484636299420551,{"$f":" IF(Foglio1!$C$11 <> \"\", 8.314472*Foglio1!$C$11*Foglio2!B706, NA())","v":21821.656768251476},{"$f":"IF(Foglio1!$H$11 <> \"\", Foglio1!$H$11 + C706*10^-3, NA())","v":-68.178343231748528},6301,8.7484636299420551,{"$f":" IF(Foglio1!$C$12 <> \"\", 8.314472*Foglio1!$C$12*Foglio2!F706, NA())","v":{"$error":"#N/A"}},{"$f":"IF(Foglio1!$H$12 <> \"\", Foglio1!$H$12 + G706*10^-3, NA())","v":{"$error":"#N/A"}},6301,8.7484636299420551,{"$f":" IF(Foglio1!$C$13 <> \"\", 8.314472*Foglio1!$C$13*Foglio2!J706, NA())","v":{"$error":"#N/A"}},{"$f":"IF(Foglio1!$H$13 <> \"\", Foglio1!$H$13 + K706*10^-3, NA())","v":{"$error":"#N/A"}},6301,8.7484636299420551,{"$f":" IF(Foglio1!$C$14 <> \"\", 8.314472*Foglio1!$C$14*Foglio2!N706, NA())","v":{"$error":"#N/A"}},{"$f":"IF(Foglio1!$H$14 <> \"\", Foglio1!$H$14 + O706*10^-3, NA())","v":{"$error":"#N/A"}},6301,8.7484636299420551,{"$f":" IF(Foglio1!$C$15 <> \"\", 8.314472*Foglio1!$C$15*Foglio2!R706, NA())","v":{"$error":"#N/A"}},{"$f":"IF(Foglio1!$H$15 <> \"\", Foglio1!$H$15 + S706*10^-3, NA())","v":{"$error":"#N/A"}}]
[6310,{"$f":"LN(A707)","v":8.7498909555352586},{"$f":" IF(Foglio1!$C$11 <> \"\", 8.314472*Foglio1!$C$11*Foglio2!B707, NA())","v":21825.217005855349},{"$f":"IF(Foglio1!$H$11 <> \"\", Foglio1!$H$11 + C707*10^-3, NA())","v":-68.17478299414465},6310,{"$f":"LN(E707)","v":8.7498909555352586},{"$f":" IF(Foglio1!$C$12 <> \"\", 8.314472*Foglio1!$C$12*Foglio2!F707, NA())","v":{"$error":"#N/A"}},{"$f":"IF(Foglio1!$H$12 <> \"\", Foglio1!$H$12 + G707*10^-3, NA())","v":{"$error":"#N/A"}},6310,{"$f":"LN(I707)","v":8.7498909555352586},{"$f":" IF(Foglio1!$C$13 <> \"\", 8.314472*Foglio1!$C$13*Foglio2!J707, NA())","v":{"$error":"#N/A"}},{"$f":"IF(Foglio1!$H$13 <> \"\", Foglio1!$H$13 + K707*10^-3, NA())","v":{"$error":"#N/A"}},6310,{"$f":"LN(M707)","v":8.7498909555352586},{"$f":" IF(Foglio1!$C$14 <> \"\", 8.314472*Foglio1!$C$14*Foglio2!N707, NA())","v":{"$error":"#N/A"}},{"$f":"IF(Foglio1!$H$14 <> \"\", Foglio1!$H$14 + O707*10^-3, NA())","v":{"$error":"#N/A"}},6310,{"$f":"LN(Q707)","v":8.7498909555352586},{"$f":" IF(Foglio1!$C$15 <> \"\", 8.314472*Foglio1!$C$15*Foglio2!R707, NA())","v":{"$error":"#N/A"}},{"$f":"IF(Foglio1!$H$15 <> \"\", Foglio1!$H$15 + S707*10^-3, NA())","v":{"$error":"#N/A"}}]
[6319,8.751316246773456,{"$f":" IF(Foglio1!$C$11 <> \"\", 8.314472*Foglio1!$C$11*Foglio2!B708, NA())","v":21828.772169082898},{"$f":"IF(Foglio1!$H$11 <> \"\", Foglio1!$H$11 + C708*10^-3, NA())","v":-68.171227830917104},6319,8.751316246773456,{"$f":" IF(Foglio1!$C$12 <> \"\", 8.314472*Foglio1!$C$12*Foglio2!F708, NA())","v":{"$error":"#N/A"}},{"$f":"IF(Foglio1!$H$12 <> \"\", Foglio1!$H$12 + G708*10^-3, NA())","v":{"$error":"#N/A"}},6319,8.751316246773456,{"$f":" IF(Foglio1!$C$13 <> \"\", 8.314472*Foglio1!$C$13*Foglio2!J708, NA())","v":{"$error":"#N/A"}},{"$f":"IF(Foglio1!$H$13 <> \"\", Foglio1!$H$13 + K708*10^-3, NA())","v":{"$error":"#N/A"}},6319,8.751316246773456,{"$f":" IF(Foglio1!$C$14 <> \"\", 8.314472*Foglio1!$C$14*Foglio2!N708, NA())","v":{"$error":"#N/A"}},{"$f":"IF(Foglio1!$H$14 <> \"\", Foglio1!$H$14 + O708*10^-3, NA())","v":{"$error":"#N/A"}},6319,8.751316246773456,{"$f":" IF(Foglio1!$C$15 <> \"\", 8.314472*Foglio1!$C$15*Foglio2!R708, NA())","v":{"$error":"#N/A"}},{"$f":"IF(Foglio1!$H$15 <> \"\", Foglio1!$H$15 + S708*10^-3, NA())","v":{"$error":"#N/A"}}]
[6328,8.7527395094474905,{"$f":" IF(Foglio1!$C$11 <> \"\", 8.314472*Foglio1!$C$11*Foglio2!B709, NA())","v":21832.322272378471},{"$f":"IF(Foglio1!$H$11 <> \"\", Foglio1!$H$11 + C709*10^-3, NA())","v":-68.167677727621523},6328,8.7527395094474905,{"$f":" IF(Foglio1!$C$12 <> \"\", 8.314472*Foglio1!$C$12*Foglio2!F709, NA())","v":{"$error":"#N/A"}},{"$f":"IF(Foglio1!$H$12 <> \"\", Foglio1!$H$12 + G709*10^-3, NA())","v":{"$error":"#N/A"}},6328,8.7527395094474905,{"$f":" IF(Foglio1!$C$13 <> \"\", 8.314472*Foglio1!$C$13*Foglio2!J709, NA())","v":{"$error":"#N/A"}},{"$f":"IF(Foglio1!$H$13 <> \"\", Foglio1!$H$13 + K709*10^-3, NA())","v":{"$error":"#N/A"}},6328,8.7527395094474905,{"$f":" IF(Foglio1!$C$14 <> \"\", 8.314472*Foglio1!$C$14*Foglio2!N709, NA())","v":{"$error":"#N/A"}},{"$f":"IF(Foglio1!$H$14 <> \"\", Foglio1!$H$14 + O709*10^-3, NA())","v":{"$error":"#N/A"}},6328,8.7527395094474905,{"$f":" IF(Foglio1!$C$15 <> \"\", 8.314472*Foglio1!$C$15*Foglio2!R709, NA())","v":{"$error":"#N/A"}},{"$f":"IF(Foglio1!$H$15 <> \"\", Foglio1!$H$15 + S709*10^-3, NA())","v":{"$error":"#N/A"}}]
[6337,8.7541607493235176,{"$f":" IF(Foglio1!$C$11 <> \"\", 8.314472*Foglio1!$C$11*Foglio2!B710, NA())","v":21835.867330124824},{"$f":"IF(Foglio1!$H$11 <> \"\", Foglio1!$H$11 + C710*10^-3, NA())","v":-68.164132669875173},6337,8.7541607493235176,{"$f":" IF(Foglio1!$C$12 <> \"\", 8.314472*Foglio1!$C$12*Foglio2!F710, NA())","v":{"$error":"#N/A"}},{"$f":"IF(Foglio1!$H$12 <> \"\", Foglio1!$H$12 + G710*10^-3, NA())","v":{"$error":"#N/A"}},6337,8.7541607493235176,{"$f":" IF(Foglio1!$C$13 <> \"\", 8.314472*Foglio1!$C$13*Foglio2!J710, NA())","v":{"$error":"#N/A"}},{"$f":"IF(Foglio1!$H$13 <> \"\", Foglio1!$H$13 + K710*10^-3, NA())","v":{"$error":"#N/A"}},6337,8.7541607493235176,{"$f":" IF(Foglio1!$C$14 <> \"\", 8.314472*Foglio1!$C$14*Foglio2!N710, NA())","v":{"$error":"#N/A"}},{"$f":"IF(Foglio1!$H$14 <> \"\", Foglio1!$H$14 + O710*10^-3, NA())","v":{"$error":"#N/A"}},6337,8.7541607493235176,{"$f":" IF(Foglio1!$C$15 <> \"\", 8.314472*Foglio1!$C$15*Foglio2!R710, NA())","v":{"$error":"#N/A"}},{"$f":"IF(Foglio1!$H$15 <> \"\", Foglio1!$H$15 + S710*10^-3, NA())","v":{"$error":"#N/A"}}]
[6346,8.7555799721431402,{"$f":" IF(Foglio1!$C$11 <> \"\", 8.314472*Foglio1!$C$11*Foglio2!B711, NA())","v":21839.407356643478},{"$f":"IF(Foglio1!$H$11 <> \"\", Foglio1!$H$11 + C711*10^-3, NA())","v":-68.160592643356523},6346,8.7555799721431402,{"$f":" IF(Foglio1!$C$12 <> \"\", 8.314472*Foglio1!$C$12*Foglio2!F711, NA())","v":{"$error":"#N/A"}},{"$f":"IF(Foglio1!$H$12 <> \"\", Foglio1!$H$12 + G711*10^-3, NA())","v":{"$error":"#N/A"}},6346,8.7555799721431402,{"$f":" IF(Foglio1!$C$13 <> \"\", 8.314472*Foglio1!$C$13*Foglio2!J711, NA())","v":{"$error":"#N/A"}},{"$f":"IF(Foglio1!$H$13 <> \"\", Foglio1!$H$13 + K711*10^-3, NA())","v":{"$error":"#N/A"}},6346,8.7555799721431402,{"$f":" IF(Foglio1!$C$14 <> \"\", 8.314472*Foglio1!$C$14*Foglio2!N711, NA())","v":{"$error":"#N/A"}},{"$f":"IF(Foglio1!$H$14 <> \"\", Foglio1!$H$14 + O711*10^-3, NA())","v":{"$error":"#N/A"}},6346,8.7555799721431402,{"$f":" IF(Foglio1!$C$15 <> \"\", 8.314472*Foglio1!$C$15*Foglio2!R711, NA())","v":{"$error":"#N/A"}},{"$f":"IF(Foglio1!$H$15 <> \"\", Foglio1!$H$15 + S711*10^-3, NA())","v":{"$error":"#N/A"}}]
[6355,8.7569971836235538,{"$f":" IF(Foglio1!$C$11 <> \"\", 8.314472*Foglio1!$C$11*Foglio2!B712, NA())","v":21842.942366195071},{"$f":"IF(Foglio1!$H$11 <> \"\", Foglio1!$H$11 + C712*10^-3, NA())","v":-68.157057633804925},6355,8.7569971836235538,{"$f":" IF(Foglio1!$C$12 <> \"\", 8.314472*Foglio1!$C$12*Foglio2!F712, NA())","v":{"$error":"#N/A"}},{"$f":"IF(Foglio1!$H$12 <> \"\", Foglio1!$H$12 + G712*10^-3, NA())","v":{"$error":"#N/A"}},6355,8.7569971836235538,{"$f":" IF(Foglio1!$C$13 <> \"\", 8.314472*Foglio1!$C$13*Foglio2!J712, NA())","v":{"$error":"#N/A"}},{"$f":"IF(Foglio1!$H$13 <> \"\", Foglio1!$H$13 + K712*10^-3, NA())","v":{"$error":"#N/A"}},6355,8.7569971836235538,{"$f":" IF(Foglio1!$C$14 <> \"\", 8.314472*Foglio1!$C$14*Foglio2!N712, NA())","v":{"$error":"#N/A"}},{"$f":"IF(Foglio1!$H$14 <> \"\", Foglio1!$H$14 + O712*10^-3, NA())","v":{"$error":"#N/A"}},6355,8.7569971836235538,{"$f":" IF(Foglio1!$C$15 <> \"\", 8.314472*Foglio1!$C$15*Foglio2!R712, NA())","v":{"$error":"#N/A"}},{"$f":"IF(Foglio1!$H$15 <> \"\", Foglio1!$H$15 + S712*10^-3, NA())","v":{"$error":"#N/A"}}]
[6364,8.7584123894576766,{"$f":" IF(Foglio1!$C$11 <> \"\", 8.314472*Foglio1!$C$11*Foglio2!B713, NA())","v":21846.472372979686},{"$f":"IF(Foglio1!$H$11 <> \"\", Foglio1!$H$11 + C713*10^-3, NA())","v":-68.15352762702031},6364,8.7584123894576766,{"$f":" IF(Foglio1!$C$12 <> \"\", 8.314472*Foglio1!$C$12*Foglio2!F713, NA())","v":{"$error":"#N/A"}},{"$f":"IF(Foglio1!$H$12 <> \"\", Foglio1!$H$12 + G713*10^-3, NA())","v":{"$error":"#N/A"}},6364,8.7584123894576766,{"$f":" IF(Foglio1!$C$13 <> \"\", 8.314472*Foglio1!$C$13*Foglio2!J713, NA())","v":{"$error":"#N/A"}},{"$f":"IF(Foglio1!$H$13 <> \"\", Foglio1!$H$13 + K713*10^-3, NA())","v":{"$error":"#N/A"}},6364,8.7584123894576766,{"$f":" IF(Foglio1!$C$14 <> \"\", 8.314472*Foglio1!$C$14*Foglio2!N713, NA())","v":{"$error":"#N/A"}},{"$f":"IF(Foglio1!$H$14 <> \"\", Foglio1!$H$14 + O713*10^-3, NA())","v":{"$error":"#N/A"}},6364,8.7584123894576766,{"$f":" IF(Foglio1!$C$15 <> \"\", 8.314472*Foglio1!$C$15*Foglio2!R713, NA())","v":{"$error":"#N/A"}},{"$f":"IF(Foglio1!$H$15 <> \"\", Foglio1!$H$15 + S713*10^-3, NA())","v":{"$error":"#N/A"}}]
[6373,8.7598255953142949,{"$f":" IF(Foglio1!$C$11 <> \"\", 8.314472*Foglio1!$C$11*Foglio2!B714, NA())","v":21849.997391137214},{"$f":"IF(Foglio1!$H$11 <> \"\", Foglio1!$H$11 + C714*10^-3, NA())","v":-68.150002608862792},6373,8.7598255953142949,{"$f":" IF(Foglio1!$C$12 <> \"\", 8.314472*Foglio1!$C$12*Foglio2!F714, NA())","v":{"$error":"#N/A"}},{"$f":"IF(Foglio1!$H$12 <> \"\", Foglio1!$H$12 + G714*10^-3, NA())","v":{"$error":"#N/A"}},6373,8.7598255953142949,{"$f":" IF(Foglio1!$C$13 <> \"\", 8.314472*Foglio1!$C$13*Foglio2!J714, NA())","v":{"$error":"#N/A"}},{"$f":"IF(Foglio1!$H$13 <> \"\", Foglio1!$H$13 + K714*10^-3, NA())","v":{"$error":"#N/A"}},6373,8.7598255953142949,{"$f":" IF(Foglio1!$C$14 <> \"\", 8.314472*Foglio1!$C$14*Foglio2!N714, NA())","v":{"$error":"#N/A"}},{"$f":"IF(Foglio1!$H$14 <> \"\", Foglio1!$H$14 + O714*10^-3, NA())","v":{"$error":"#N/A"}},6373,8.7598255953142949,{"$f":" IF(Foglio1!$C$15 <> \"\", 8.314472*Foglio1!$C$15*Foglio2!R714, NA())","v":{"$error":"#N/A"}},{"$f":"IF(Foglio1!$H$15 <> \"\", Foglio1!$H$15 + S714*10^-3, NA())","v":{"$error":"#N/A"}}]
[6382,8.7612368068381894,{"$f":" IF(Foglio1!$C$11 <> \"\", 8.314472*Foglio1!$C$11*Foglio2!B715, NA())","v":21853.51743474766},{"$f":"IF(Foglio1!$H$11 <> \"\", Foglio1!$H$11 + C715*10^-3, NA())","v":-68.146482565252342},6382,8.7612368068381894,{"$f":" IF(Foglio1!$C$12 <> \"\", 8.314472*Foglio1!$C$12*Foglio2!F715, NA())","v":{"$error":"#N/A"}},{"$f":"IF(Foglio1!$H$12 <> \"\", Foglio1!$H$12 + G715*10^-3, NA())","v":{"$error":"#N/A"}},6382,8.7612368068381894,{"$f":" IF(Foglio1!$C$13 <> \"\", 8.314472*Foglio1!$C$13*Foglio2!J715, NA())","v":{"$error":"#N/A"}},{"$f":"IF(Foglio1!$H$13 <> \"\", Foglio1!$H$13 + K715*10^-3, NA())","v":{"$error":"#N/A"}},6382,8.7612368068381894,{"$f":" IF(Foglio1!$C$14 <> \"\", 8.314472*Foglio1!$C$14*Foglio2!N715, NA())","v":{"$error":"#N/A"}},{"$f":"IF(Foglio1!$H$14 <> \"\", Foglio1!$H$14 + O715*10^-3, NA())","v":{"$error":"#N/A"}},6382,8.7612368068381894,{"$f":" IF(Foglio1!$C$15 <> \"\", 8.314472*Foglio1!$C$15*Foglio2!R715, NA())","v":{"$error":"#N/A"}},{"$f":"IF(Foglio1!$H$15 <> \"\", Foglio1!$H$15 + S715*10^-3, NA())","v":{"$error":"#N/A"}}]
[6391,8.7626460296502824,{"$f":" IF(Foglio1!$C$11 <> \"\", 8.314472*Foglio1!$C$11*Foglio2!B716, NA())","v":21857.032517831536},{"$f":"IF(Foglio1!$H$11 <> \"\", Foglio1!$H$11 + C716*10^-3, NA())","v":-68.142967482168459},6391,8.7626460296502824,{"$f":" IF(Foglio1!$C$12 <> \"\", 8.314472*Foglio1!$C$12*Foglio2!F716, NA())","v":{"$error":"#N/A"}},{"$f":"IF(Foglio1!$H$12 <> \"\", Foglio1!$H$12 + G716*10^-3, NA())","v":{"$error":"#N/A"}},6391,8.7626460296502824,{"$f":" IF(Foglio1!$C$13 <> \"\", 8.314472*Foglio1!$C$13*Foglio2!J716, NA())","v":{"$error":"#N/A"}},{"$f":"IF(Foglio1!$H$13 <> \"\", Foglio1!$H$13 + K716*10^-3, NA())","v":{"$error":"#N/A"}},6391,8.7626460296502824,{"$f":" IF(Foglio1!$C$14 <> \"\", 8.314472*Foglio1!$C$14*Foglio2!N716, NA())","v":{"$error":"#N/A"}},{"$f":"IF(Foglio1!$H$14 <> \"\", Foglio1!$H$14 + O716*10^-3, NA())","v":{"$error":"#N/A"}},6391,8.7626460296502824,{"$f":" IF(Foglio1!$C$15 <> \"\", 8.314472*Foglio1!$C$15*Foglio2!R716, NA())","v":{"$error":"#N/A"}},{"$f":"IF(Foglio1!$H$15 <> \"\", Foglio1!$H$15 + S716*10^-3, NA())","v":{"$error":"#N/A"}}]
[6400,8.7640532693477624,{"$f":" IF(Foglio1!$C$11 <> \"\", 8.314472*Foglio1!$C$11*Foglio2!B717, NA())","v":21860.542654350131},{"$f":"IF(Foglio1!$H$11 <> \"\", Foglio1!$H$11 + C717*10^-3, NA())","v":-68.139457345649873},6400,8.7640532693477624,{"$f":" IF(Foglio1!$C$12 <> \"\", 8.314472*Foglio1!$C$12*Foglio2!F717, NA())","v":{"$error":"#N/A"}},{"$f":"IF(Foglio1!$H$12 <> \"\", Foglio1!$H$12 + G717*10^-3, NA())","v":{"$error":"#N/A"}},6400,8.7640532693477624,{"$f":" IF(Foglio1!$C$13 <> \"\", 8.314472*Foglio1!$C$13*Foglio2!J717, NA())","v":{"$error":"#N/A"}},{"$f":"IF(Foglio1!$H$13 <> \"\", Foglio1!$H$13 + K717*10^-3, NA())","v":{"$error":"#N/A"}},6400,8.7640532693477624,{"$f":" IF(Foglio1!$C$14 <> \"\", 8.314472*Foglio1!$C$14*Foglio2!N717, NA())","v":{"$error":"#N/A"}},{"$f":"IF(Foglio1!$H$14 <> \"\", Foglio1!$H$14 + O717*10^-3, NA())","v":{"$error":"#N/A"}},6400,8.7640532693477624,{"$f":" IF(Foglio1!$C$15 <> \"\", 8.314472*Foglio1!$C$15*Foglio2!R717, NA())","v":{"$error":"#N/A"}},{"$f":"IF(Foglio1!$H$15 <> \"\", Foglio1!$H$15 + S717*10^-3, NA())","v":{"$error":"#N/A"}}]
[6409,8.7654585315042262,{"$f":" IF(Foglio1!$C$11 <> \"\", 8.314472*Foglio1!$C$11*Foglio2!B718, NA())","v":21864.047858205904},{"$f":"IF(Foglio1!$H$11 <> \"\", Foglio1!$H$11 + C718*10^-3, NA())","v":-68.135952141794093},6409,8.7654585315042262,{"$f":" IF(Foglio1!$C$12 <> \"\", 8.314472*Foglio1!$C$12*Foglio2!F718, NA())","v":{"$error":"#N/A"}},{"$f":"IF(Foglio1!$H$12 <> \"\", Foglio1!$H$12 + G718*10^-3, NA())","v":{"$error":"#N/A"}},6409,8.7654585315042262,{"$f":" IF(Foglio1!$C$13 <> \"\", 8.314472*Foglio1!$C$13*Foglio2!J718, NA())","v":{"$error":"#N/A"}},{"$f":"IF(Foglio1!$H$13 <> \"\", Foglio1!$H$13 + K718*10^-3, NA())","v":{"$error":"#N/A"}},6409,8.7654585315042262,{"$f":" IF(Foglio1!$C$14 <> \"\", 8.314472*Foglio1!$C$14*Foglio2!N718, NA())","v":{"$error":"#N/A"}},{"$f":"IF(Foglio1!$H$14 <> \"\", Foglio1!$H$14 + O718*10^-3, NA())","v":{"$error":"#N/A"}},6409,8.7654585315042262,{"$f":" IF(Foglio1!$C$15 <> \"\", 8.314472*Foglio1!$C$15*Foglio2!R718, NA())","v":{"$error":"#N/A"}},{"$f":"IF(Foglio1!$H$15 <> \"\", Foglio1!$H$15 + S718*10^-3, NA())","v":{"$error":"#N/A"}}]
[6418,8.7668618216698029,{"$f":" IF(Foglio1!$C$11 <> \"\", 8.314472*Foglio1!$C$11*Foglio2!B719, NA())","v":21867.548143242773},{"$f":"IF(Foglio1!$H$11 <> \"\", Foglio1!$H$11 + C719*10^-3, NA())","v":-68.132451856757228},6418,8.7668618216698029,{"$f":" IF(Foglio1!$C$12 <> \"\", 8.314472*Foglio1!$C$12*Foglio2!F719, NA())","v":{"$error":"#N/A"}},{"$f":"IF(Foglio1!$H$12 <> \"\", Foglio1!$H$12 + G719*10^-3, NA())","v":{"$error":"#N/A"}},6418,8.7668618216698029,{"$f":" IF(Foglio1!$C$13 <> \"\", 8.314472*Foglio1!$C$13*Foglio2!J719, NA())","v":{"$error":"#N/A"}},{"$f":"IF(Foglio1!$H$13 <> \"\", Foglio1!$H$13 + K719*10^-3, NA())","v":{"$error":"#N/A"}},6418,8.7668618216698029,{"$f":" IF(Foglio1!$C$14 <> \"\", 8.314472*Foglio1!$C$14*Foglio2!N719, NA())","v":{"$error":"#N/A"}},{"$f":"IF(Foglio1!$H$14 <> \"\", Foglio1!$H$14 + O719*10^-3, NA())","v":{"$error":"#N/A"}},6418,8.7668618216698029,{"$f":" IF(Foglio1!$C$15 <> \"\", 8.314472*Foglio1!$C$15*Foglio2!R719, NA())","v":{"$error":"#N/A"}},{"$f":"IF(Foglio1!$H$15 <> \"\", Foglio1!$H$15 + S719*10^-3, NA())","v":{"$error":"#N/A"}}]
[6427,8.7682631453712858,{"$f":" IF(Foglio1!$C$11 <> \"\", 8.314472*Foglio1!$C$11*Foglio2!B720, NA())","v":21871.043523246448},{"$f":"IF(Foglio1!$H$11 <> \"\", Foglio1!$H$11 + C720*10^-3, NA())","v":-68.128956476753558},6427,8.7682631453712858,{"$f":" IF(Foglio1!$C$12 <> \"\", 8.314472*Foglio1!$C$12*Foglio2!F720, NA())","v":{"$error":"#N/A"}},{"$f":"IF(Foglio1!$H$12 <> \"\", Foglio1!$H$12 + G720*10^-3, NA())","v":{"$error":"#N/A"}},6427,8.7682631453712858,{"$f":" IF(Foglio1!$C$13 <> \"\", 8.314472*Foglio1!$C$13*Foglio2!J720, NA())","v":{"$error":"#N/A"}},{"$f":"IF(Foglio1!$H$13 <> \"\", Foglio1!$H$13 + K720*10^-3, NA())","v":{"$error":"#N/A"}},6427,8.7682631453712858,{"$f":" IF(Foglio1!$C$14 <> \"\", 8.314472*Foglio1!$C$14*Foglio2!N720, NA())","v":{"$error":"#N/A"}},{"$f":"IF(Foglio1!$H$14 <> \"\", Foglio1!$H$14 + O720*10^-3, NA())","v":{"$error":"#N/A"}},6427,8.7682631453712858,{"$f":" IF(Foglio1!$C$15 <> \"\", 8.314472*Foglio1!$C$15*Foglio2!R720, NA())","v":{"$error":"#N/A"}},{"$f":"IF(Foglio1!$H$15 <> \"\", Foglio1!$H$15 + S720*10^-3, NA())","v":{"$error":"#N/A"}}]
[6436,8.7696625081122743,{"$f":" IF(Foglio1!$C$11 <> \"\", 8.314472*Foglio1!$C$11*Foglio2!B721, NA())","v":21874.534011944786},{"$f":"IF(Foglio1!$H$11 <> \"\", Foglio1!$H$11 + C721*10^-3, NA())","v":-68.125465988055211},6436,8.7696625081122743,{"$f":" IF(Foglio1!$C$12 <> \"\", 8.314472*Foglio1!$C$12*Foglio2!F721, NA())","v":{"$error":"#N/A"}},{"$f":"IF(Foglio1!$H$12 <> \"\", Foglio1!$H$12 + G721*10^-3, NA())","v":{"$error":"#N/A"}},6436,8.7696625081122743,{"$f":" IF(Foglio1!$C$13 <> \"\", 8.314472*Foglio1!$C$13*Foglio2!J721, NA())","v":{"$error":"#N/A"}},{"$f":"IF(Foglio1!$H$13 <> \"\", Foglio1!$H$13 + K721*10^-3, NA())","v":{"$error":"#N/A"}},6436,8.7696625081122743,{"$f":" IF(Foglio1!$C$14 <> \"\", 8.314472*Foglio1!$C$14*Foglio2!N721, NA())","v":{"$error":"#N/A"}},{"$f":"IF(Foglio1!$H$14 <> \"\", Foglio1!$H$14 + O721*10^-3, NA())","v":{"$error":"#N/A"}},6436,8.7696625081122743,{"$f":" IF(Foglio1!$C$15 <> \"\", 8.314472*Foglio1!$C$15*Foglio2!R721, NA())","v":{"$error":"#N/A"}},{"$f":"IF(Foglio1!$H$15 <> \"\", Foglio1!$H$15 + S721*10^-3, NA())","v":{"$error":"#N/A"}}]
[6445,8.7710599153732876,{"$f":" IF(Foglio1!$C$11 <> \"\", 8.314472*Foglio1!$C$11*Foglio2!B722, NA())","v":21878.019623008073},{"$f":"IF(Foglio1!$H$11 <> \"\", Foglio1!$H$11 + C722*10^-3, NA())","v":-68.121980376991928},6445,8.7710599153732876,{"$f":" IF(Foglio1!$C$12 <> \"\", 8.314472*Foglio1!$C$12*Foglio2!F722, NA())","v":{"$error":"#N/A"}},{"$f":"IF(Foglio1!$H$12 <> \"\", Foglio1!$H$12 + G722*10^-3, NA())","v":{"$error":"#N/A"}},6445,8.7710599153732876,{"$f":" IF(Foglio1!$C$13 <> \"\", 8.314472*Foglio1!$C$13*Foglio2!J722, NA())","v":{"$error":"#N/A"}},{"$f":"IF(Foglio1!$H$13 <> \"\", Foglio1!$H$13 + K722*10^-3, NA())","v":{"$error":"#N/A"}},6445,8.7710599153732876,{"$f":" IF(Foglio1!$C$14 <> \"\", 8.314472*Foglio1!$C$14*Foglio2!N722, NA())","v":{"$error":"#N/A"}},{"$f":"IF(Foglio1!$H$14 <> \"\", Foglio1!$H$14 + O722*10^-3, NA())","v":{"$error":"#N/A"}},6445,8.7710599153732876,{"$f":" IF(Foglio1!$C$15 <> \"\", 8.314472*Foglio1!$C$15*Foglio2!R722, NA())","v":{"$error":"#N/A"}},{"$f":"IF(Foglio1!$H$15 <> \"\", Foglio1!$H$15 + S722*10^-3, NA())","v":{"$error":"#N/A"}}]
[6454,8.7724553726119066,{"$f":" IF(Foglio1!$C$11 <> \"\", 8.314472*Foglio1!$C$11*Foglio2!B723, NA())","v":21881.50037004938},{"$f":"IF(Foglio1!$H$11 <> \"\", Foglio1!$H$11 + C723*10^-3, NA())","v":-68.11849962995062},6454,8.7724553726119066,{"$f":" IF(Foglio1!$C$12 <> \"\", 8.314472*Foglio1!$C$12*Foglio2!F723, NA())","v":{"$error":"#N/A"}},{"$f":"IF(Foglio1!$H$12 <> \"\", Foglio1!$H$12 + G723*10^-3, NA())","v":{"$error":"#N/A"}},6454,8.7724553726119066,{"$f":" IF(Foglio1!$C$13 <> \"\", 8.314472*Foglio1!$C$13*Foglio2!J723, NA())","v":{"$error":"#N/A"}},{"$f":"IF(Foglio1!$H$13 <> \"\", Foglio1!$H$13 + K723*10^-3, NA())","v":{"$error":"#N/A"}},6454,8.7724553726119066,{"$f":" IF(Foglio1!$C$14 <> \"\", 8.314472*Foglio1!$C$14*Foglio2!N723, NA())","v":{"$error":"#N/A"}},{"$f":"IF(Foglio1!$H$14 <> \"\", Foglio1!$H$14 + O723*10^-3, NA())","v":{"$error":"#N/A"}},6454,8.7724553726119066,{"$f":" IF(Foglio1!$C$15 <> \"\", 8.314472*Foglio1!$C$15*Foglio2!R723, NA())","v":{"$error":"#N/A"}},{"$f":"IF(Foglio1!$H$15 <> \"\", Foglio1!$H$15 + S723*10^-3, NA())","v":{"$error":"#N/A"}}]
[6463,8.7738488852628951,{"$f":" IF(Foglio1!$C$11 <> \"\", 8.314472*Foglio1!$C$11*Foglio2!B724, NA())","v":21884.976266624868},{"$f":"IF(Foglio1!$H$11 <> \"\", Foglio1!$H$11 + C724*10^-3, NA())","v":-68.115023733375125},6463,8.7738488852628951,{"$f":" IF(Foglio1!$C$12 <> \"\", 8.314472*Foglio1!$C$12*Foglio2!F724, NA())","v":{"$error":"#N/A"}},{"$f":"IF(Foglio1!$H$12 <> \"\", Foglio1!$H$12 + G724*10^-3, NA())","v":{"$error":"#N/A"}},6463,8.7738488852628951,{"$f":" IF(Foglio1!$C$13 <> \"\", 8.314472*Foglio1!$C$13*Foglio2!J724, NA())","v":{"$error":"#N/A"}},{"$f":"IF(Foglio1!$H$13 <> \"\", Foglio1!$H$13 + K724*10^-3, NA())","v":{"$error":"#N/A"}},6463,8.7738488852628951,{"$f":" IF(Foglio1!$C$14 <> \"\", 8.314472*Foglio1!$C$14*Foglio2!N724, NA())","v":{"$error":"#N/A"}},{"$f":"IF(Foglio1!$H$14 <> \"\", Foglio1!$H$14 + O724*10^-3, NA())","v":{"$error":"#N/A"}},6463,8.7738488852628951,{"$f":" IF(Foglio1!$C$15 <> \"\", 8.314472*Foglio1!$C$15*Foglio2!R724, NA())","v":{"$error":"#N/A"}},{"$f":"IF(Foglio1!$H$15 <> \"\", Foglio1!$H$15 + S724*10^-3, NA())","v":{"$error":"#N/A"}}]
[6472,8.7752404587383275,{"$f":" IF(Foglio1!$C$11 <> \"\", 8.314472*Foglio1!$C$11*Foglio2!B725, NA())","v":21888.447326234094},{"$f":"IF(Foglio1!$H$11 <> \"\", Foglio1!$H$11 + C725*10^-3, NA())","v":-68.111552673765914},6472,8.7752404587383275,{"$f":" IF(Foglio1!$C$12 <> \"\", 8.314472*Foglio1!$C$12*Foglio2!F725, NA())","v":{"$error":"#N/A"}},{"$f":"IF(Foglio1!$H$12 <> \"\", Foglio1!$H$12 + G725*10^-3, NA())","v":{"$error":"#N/A"}},6472,8.7752404587383275,{"$f":" IF(Foglio1!$C$13 <> \"\", 8.314472*Foglio1!$C$13*Foglio2!J725, NA())","v":{"$error":"#N/A"}},{"$f":"IF(Foglio1!$H$13 <> \"\", Foglio1!$H$13 + K725*10^-3, NA())","v":{"$error":"#N/A"}},6472,8.7752404587383275,{"$f":" IF(Foglio1!$C$14 <> \"\", 8.314472*Foglio1!$C$14*Foglio2!N725, NA())","v":{"$error":"#N/A"}},{"$f":"IF(Foglio1!$H$14 <> \"\", Foglio1!$H$14 + O725*10^-3, NA())","v":{"$error":"#N/A"}},6472,8.7752404587383275,{"$f":" IF(Foglio1!$C$15 <> \"\", 8.314472*Foglio1!$C$15*Foglio2!R725, NA())","v":{"$error":"#N/A"}},{"$f":"IF(Foglio1!$H$15 <> \"\", Foglio1!$H$15 + S725*10^-3, NA())","v":{"$error":"#N/A"}}]
[6481,8.7766300984277166,{"$f":" IF(Foglio1!$C$11 <> \"\", 8.314472*Foglio1!$C$11*Foglio2!B726, NA())","v":21891.913562320351},{"$f":"IF(Foglio1!$H$11 <> \"\", Foglio1!$H$11 + C726*10^-3, NA())","v":-68.108086437679646},6481,8.7766300984277166,{"$f":" IF(Foglio1!$C$12 <> \"\", 8.314472*Foglio1!$C$12*Foglio2!F726, NA())","v":{"$error":"#N/A"}},{"$f":"IF(Foglio1!$H$12 <> \"\", Foglio1!$H$12 + G726*10^-3, NA())","v":{"$error":"#N/A"}},6481,8.7766300984277166,{"$f":" IF(Foglio1!$C$13 <> \"\", 8.314472*Foglio1!$C$13*Foglio2!J726, NA())","v":{"$error":"#N/A"}},{"$f":"IF(Foglio1!$H$13 <> \"\", Foglio1!$H$13 + K726*10^-3, NA())","v":{"$error":"#N/A"}},6481,8.7766300984277166,{"$f":" IF(Foglio1!$C$14 <> \"\", 8.314472*Foglio1!$C$14*Foglio2!N726, NA())","v":{"$error":"#N/A"}},{"$f":"IF(Foglio1!$H$14 <> \"\", Foglio1!$H$14 + O726*10^-3, NA())","v":{"$error":"#N/A"}},6481,8.7766300984277166,{"$f":" IF(Foglio1!$C$15 <> \"\", 8.314472*Foglio1!$C$15*Foglio2!R726, NA())","v":{"$error":"#N/A"}},{"$f":"IF(Foglio1!$H$15 <> \"\", Foglio1!$H$15 + S726*10^-3, NA())","v":{"$error":"#N/A"}}]
[6490,8.7780178096981363,{"$f":" IF(Foglio1!$C$11 <> \"\", 8.314472*Foglio1!$C$11*Foglio2!B727, NA())","v":21895.374988270945},{"$f":"IF(Foglio1!$H$11 <> \"\", Foglio1!$H$11 + C727*10^-3, NA())","v":-68.104625011729055},6490,8.7780178096981363,{"$f":" IF(Foglio1!$C$12 <> \"\", 8.314472*Foglio1!$C$12*Foglio2!F727, NA())","v":{"$error":"#N/A"}},{"$f":"IF(Foglio1!$H$12 <> \"\", Foglio1!$H$12 + G727*10^-3, NA())","v":{"$error":"#N/A"}},6490,8.7780178096981363,{"$f":" IF(Foglio1!$C$13 <> \"\", 8.314472*Foglio1!$C$13*Foglio2!J727, NA())","v":{"$error":"#N/A"}},{"$f":"IF(Foglio1!$H$13 <> \"\", Foglio1!$H$13 + K727*10^-3, NA())","v":{"$error":"#N/A"}},6490,8.7780178096981363,{"$f":" IF(Foglio1!$C$14 <> \"\", 8.314472*Foglio1!$C$14*Foglio2!N727, NA())","v":{"$error":"#N/A"}},{"$f":"IF(Foglio1!$H$14 <> \"\", Foglio1!$H$14 + O727*10^-3, NA())","v":{"$error":"#N/A"}},6490,8.7780178096981363,{"$f":" IF(Foglio1!$C$15 <> \"\", 8.314472*Foglio1!$C$15*Foglio2!R727, NA())","v":{"$error":"#N/A"}},{"$f":"IF(Foglio1!$H$15 <> \"\", Foglio1!$H$15 + S727*10^-3, NA())","v":{"$error":"#N/A"}}]
[6499,8.7794035978943494,{"$f":" IF(Foglio1!$C$11 <> \"\", 8.314472*Foglio1!$C$11*Foglio2!B728, NA())","v":21898.831617417549},{"$f":"IF(Foglio1!$H$11 <> \"\", Foglio1!$H$11 + C728*10^-3, NA())","v":-68.101168382582443},6499,8.7794035978943494,{"$f":" IF(Foglio1!$C$12 <> \"\", 8.314472*Foglio1!$C$12*Foglio2!F728, NA())","v":{"$error":"#N/A"}},{"$f":"IF(Foglio1!$H$12 <> \"\", Foglio1!$H$12 + G728*10^-3, NA())","v":{"$error":"#N/A"}},6499,8.7794035978943494,{"$f":" IF(Foglio1!$C$13 <> \"\", 8.314472*Foglio1!$C$13*Foglio2!J728, NA())","v":{"$error":"#N/A"}},{"$f":"IF(Foglio1!$H$13 <> \"\", Foglio1!$H$13 + K728*10^-3, NA())","v":{"$error":"#N/A"}},6499,8.7794035978943494,{"$f":" IF(Foglio1!$C$14 <> \"\", 8.314472*Foglio1!$C$14*Foglio2!N728, NA())","v":{"$error":"#N/A"}},{"$f":"IF(Foglio1!$H$14 <> \"\", Foglio1!$H$14 + O728*10^-3, NA())","v":{"$error":"#N/A"}},6499,8.7794035978943494,{"$f":" IF(Foglio1!$C$15 <> \"\", 8.314472*Foglio1!$C$15*Foglio2!R728, NA())","v":{"$error":"#N/A"}},{"$f":"IF(Foglio1!$H$15 <> \"\", Foglio1!$H$15 + S728*10^-3, NA())","v":{"$error":"#N/A"}}]
[6508,8.7807874683389286,{"$f":" IF(Foglio1!$C$11 <> \"\", 8.314472*Foglio1!$C$11*Foglio2!B729, NA())","v":21902.283463036474},{"$f":"IF(Foglio1!$H$11 <> \"\", Foglio1!$H$11 + C729*10^-3, NA())","v":-68.097716536963532},6508,8.7807874683389286,{"$f":" IF(Foglio1!$C$12 <> \"\", 8.314472*Foglio1!$C$12*Foglio2!F729, NA())","v":{"$error":"#N/A"}},{"$f":"IF(Foglio1!$H$12 <> \"\", Foglio1!$H$12 + G729*10^-3, NA())","v":{"$error":"#N/A"}},6508,8.7807874683389286,{"$f":" IF(Foglio1!$C$13 <> \"\", 8.314472*Foglio1!$C$13*Foglio2!J729, NA())","v":{"$error":"#N/A"}},{"$f":"IF(Foglio1!$H$13 <> \"\", Foglio1!$H$13 + K729*10^-3, NA())","v":{"$error":"#N/A"}},6508,8.7807874683389286,{"$f":" IF(Foglio1!$C$14 <> \"\", 8.314472*Foglio1!$C$14*Foglio2!N729, NA())","v":{"$error":"#N/A"}},{"$f":"IF(Foglio1!$H$14 <> \"\", Foglio1!$H$14 + O729*10^-3, NA())","v":{"$error":"#N/A"}},6508,8.7807874683389286,{"$f":" IF(Foglio1!$C$15 <> \"\", 8.314472*Foglio1!$C$15*Foglio2!R729, NA())","v":{"$error":"#N/A"}},{"$f":"IF(Foglio1!$H$15 <> \"\", Foglio1!$H$15 + S729*10^-3, NA())","v":{"$error":"#N/A"}}]
[6517,8.7821694263323806,{"$f":" IF(Foglio1!$C$11 <> \"\", 8.314472*Foglio1!$C$11*Foglio2!B730, NA())","v":21905.730538348995},{"$f":"IF(Foglio1!$H$11 <> \"\", Foglio1!$H$11 + C730*10^-3, NA())","v":-68.09426946165101},6517,8.7821694263323806,{"$f":" IF(Foglio1!$C$12 <> \"\", 8.314472*Foglio1!$C$12*Foglio2!F730, NA())","v":{"$error":"#N/A"}},{"$f":"IF(Foglio1!$H$12 <> \"\", Foglio1!$H$12 + G730*10^-3, NA())","v":{"$error":"#N/A"}},6517,8.7821694263323806,{"$f":" IF(Foglio1!$C$13 <> \"\", 8.314472*Foglio1!$C$13*Foglio2!J730, NA())","v":{"$error":"#N/A"}},{"$f":"IF(Foglio1!$H$13 <> \"\", Foglio1!$H$13 + K730*10^-3, NA())","v":{"$error":"#N/A"}},6517,8.7821694263323806,{"$f":" IF(Foglio1!$C$14 <> \"\", 8.314472*Foglio1!$C$14*Foglio2!N730, NA())","v":{"$error":"#N/A"}},{"$f":"IF(Foglio1!$H$14 <> \"\", Foglio1!$H$14 + O730*10^-3, NA())","v":{"$error":"#N/A"}},6517,8.7821694263323806,{"$f":" IF(Foglio1!$C$15 <> \"\", 8.314472*Foglio1!$C$15*Foglio2!R730, NA())","v":{"$error":"#N/A"}},{"$f":"IF(Foglio1!$H$15 <> \"\", Foglio1!$H$15 + S730*10^-3, NA())","v":{"$error":"#N/A"}}]
[6526,8.7835494771532652,{"$f":" IF(Foglio1!$C$11 <> \"\", 8.314472*Foglio1!$C$11*Foglio2!B731, NA())","v":21909.17285652164},{"$f":"IF(Foglio1!$H$11 <> \"\", Foglio1!$H$11 + C731*10^-3, NA())","v":-68.090827143478364},6526,8.7835494771532652,{"$f":" IF(Foglio1!$C$12 <> \"\", 8.314472*Foglio1!$C$12*Foglio2!F731, NA())","v":{"$error":"#N/A"}},{"$f":"IF(Foglio1!$H$12 <> \"\", Foglio1!$H$12 + G731*10^-3, NA())","v":{"$error":"#N/A"}},6526,8.7835494771532652,{"$f":" IF(Foglio1!$C$13 <> \"\", 8.314472*Foglio1!$C$13*Foglio2!J731, NA())","v":{"$error":"#N/A"}},{"$f":"IF(Foglio1!$H$13 <> \"\", Foglio1!$H$13 + K731*10^-3, NA())","v":{"$error":"#N/A"}},6526,8.7835494771532652,{"$f":" IF(Foglio1!$C$14 <> \"\", 8.314472*Foglio1!$C$14*Foglio2!N731, NA())","v":{"$error":"#N/A"}},{"$f":"IF(Foglio1!$H$14 <> \"\", Foglio1!$H$14 + O731*10^-3, NA())","v":{"$error":"#N/A"}},6526,8.7835494771532652,{"$f":" IF(Foglio1!$C$15 <> \"\", 8.314472*Foglio1!$C$15*Foglio2!R731, NA())","v":{"$error":"#N/A"}},{"$f":"IF(Foglio1!$H$15 <> \"\", Foglio1!$H$15 + S731*10^-3, NA())","v":{"$error":"#N/A"}}]
[6535,8.7849276260583231,{"$f":" IF(Foglio1!$C$11 <> \"\", 8.314472*Foglio1!$C$11*Foglio2!B732, NA())","v":21912.610430666522},{"$f":"IF(Foglio1!$H$11 <> \"\", Foglio1!$H$11 + C732*10^-3, NA())","v":-68.087389569333482},6535,8.7849276260583231,{"$f":" IF(Foglio1!$C$12 <> \"\", 8.314472*Foglio1!$C$12*Foglio2!F732, NA())","v":{"$error":"#N/A"}},{"$f":"IF(Foglio1!$H$12 <> \"\", Foglio1!$H$12 + G732*10^-3, NA())","v":{"$error":"#N/A"}},6535,8.7849276260583231,{"$f":" IF(Foglio1!$C$13 <> \"\", 8.314472*Foglio1!$C$13*Foglio2!J732, NA())","v":{"$error":"#N/A"}},{"$f":"IF(Foglio1!$H$13 <> \"\", Foglio1!$H$13 + K732*10^-3, NA())","v":{"$error":"#N/A"}},6535,8.7849276260583231,{"$f":" IF(Foglio1!$C$14 <> \"\", 8.314472*Foglio1!$C$14*Foglio2!N732, NA())","v":{"$error":"#N/A"}},{"$f":"IF(Foglio1!$H$14 <> \"\", Foglio1!$H$14 + O732*10^-3, NA())","v":{"$error":"#N/A"}},6535,8.7849276260583231,{"$f":" IF(Foglio1!$C$15 <> \"\", 8.314472*Foglio1!$C$15*Foglio2!R732, NA())","v":{"$error":"#N/A"}},{"$f":"IF(Foglio1!$H$15 <> \"\", Foglio1!$H$15 + S732*10^-3, NA())","v":{"$error":"#N/A"}}]
[6544,8.7863038782825829,{"$f":" IF(Foglio1!$C$11 <> \"\", 8.314472*Foglio1!$C$11*Foglio2!B733, NA())","v":21916.043273841584},{"$f":"IF(Foglio1!$H$11 <> \"\", Foglio1!$H$11 + C733*10^-3, NA())","v":-68.083956726158419},6544,8.7863038782825829,{"$f":" IF(Foglio1!$C$12 <> \"\", 8.314472*Foglio1!$C$12*Foglio2!F733, NA())","v":{"$error":"#N/A"}},{"$f":"IF(Foglio1!$H$12 <> \"\", Foglio1!$H$12 + G733*10^-3, NA())","v":{"$error":"#N/A"}},6544,8.7863038782825829,{"$f":" IF(Foglio1!$C$13 <> \"\", 8.314472*Foglio1!$C$13*Foglio2!J733, NA())","v":{"$error":"#N/A"}},{"$f":"IF(Foglio1!$H$13 <> \"\", Foglio1!$H$13 + K733*10^-3, NA())","v":{"$error":"#N/A"}},6544,8.7863038782825829,{"$f":" IF(Foglio1!$C$14 <> \"\", 8.314472*Foglio1!$C$14*Foglio2!N733, NA())","v":{"$error":"#N/A"}},{"$f":"IF(Foglio1!$H$14 <> \"\", Foglio1!$H$14 + O733*10^-3, NA())","v":{"$error":"#N/A"}},6544,8.7863038782825829,{"$f":" IF(Foglio1!$C$15 <> \"\", 8.314472*Foglio1!$C$15*Foglio2!R733, NA())","v":{"$error":"#N/A"}},{"$f":"IF(Foglio1!$H$15 <> \"\", Foglio1!$H$15 + S733*10^-3, NA())","v":{"$error":"#N/A"}}]
[6553,8.7876782390394972,{"$f":" IF(Foglio1!$C$11 <> \"\", 8.314472*Foglio1!$C$11*Foglio2!B734, NA())","v":21919.471399050963},{"$f":"IF(Foglio1!$H$11 <> \"\", Foglio1!$H$11 + C734*10^-3, NA())","v":-68.080528600949037},6553,8.7876782390394972,{"$f":" IF(Foglio1!$C$12 <> \"\", 8.314472*Foglio1!$C$12*Foglio2!F734, NA())","v":{"$error":"#N/A"}},{"$f":"IF(Foglio1!$H$12 <> \"\", Foglio1!$H$12 + G734*10^-3, NA())","v":{"$error":"#N/A"}},6553,8.7876782390394972,{"$f":" IF(Foglio1!$C$13 <> \"\", 8.314472*Foglio1!$C$13*Foglio2!J734, NA())","v":{"$error":"#N/A"}},{"$f":"IF(Foglio1!$H$13 <> \"\", Foglio1!$H$13 + K734*10^-3, NA())","v":{"$error":"#N/A"}},6553,8.7876782390394972,{"$f":" IF(Foglio1!$C$14 <> \"\", 8.314472*Foglio1!$C$14*Foglio2!N734, NA())","v":{"$error":"#N/A"}},{"$f":"IF(Foglio1!$H$14 <> \"\", Foglio1!$H$14 + O734*10^-3, NA())","v":{"$error":"#N/A"}},6553,8.7876782390394972,{"$f":" IF(Foglio1!$C$15 <> \"\", 8.314472*Foglio1!$C$15*Foglio2!R734, NA())","v":{"$error":"#N/A"}},{"$f":"IF(Foglio1!$H$15 <> \"\", Foglio1!$H$15 + S734*10^-3, NA())","v":{"$error":"#N/A"}}]
[6562,8.7890507135210463,{"$f":" IF(Foglio1!$C$11 <> \"\", 8.314472*Foglio1!$C$11*Foglio2!B735, NA())","v":21922.89481924523},{"$f":"IF(Foglio1!$H$11 <> \"\", Foglio1!$H$11 + C735*10^-3, NA())","v":-68.077105180754771},6562,8.7890507135210463,{"$f":" IF(Foglio1!$C$12 <> \"\", 8.314472*Foglio1!$C$12*Foglio2!F735, NA())","v":{"$error":"#N/A"}},{"$f":"IF(Foglio1!$H$12 <> \"\", Foglio1!$H$12 + G735*10^-3, NA())","v":{"$error":"#N/A"}},6562,8.7890507135210463,{"$f":" IF(Foglio1!$C$13 <> \"\", 8.314472*Foglio1!$C$13*Foglio2!J735, NA())","v":{"$error":"#N/A"}},{"$f":"IF(Foglio1!$H$13 <> \"\", Foglio1!$H$13 + K735*10^-3, NA())","v":{"$error":"#N/A"}},6562,8.7890507135210463,{"$f":" IF(Foglio1!$C$14 <> \"\", 8.314472*Foglio1!$C$14*Foglio2!N735, NA())","v":{"$error":"#N/A"}},{"$f":"IF(Foglio1!$H$14 <> \"\", Foglio1!$H$14 + O735*10^-3, NA())","v":{"$error":"#N/A"}},6562,8.7890507135210463,{"$f":" IF(Foglio1!$C$15 <> \"\", 8.314472*Foglio1!$C$15*Foglio2!R735, NA())","v":{"$error":"#N/A"}},{"$f":"IF(Foglio1!$H$15 <> \"\", Foglio1!$H$15 + S735*10^-3, NA())","v":{"$error":"#N/A"}}]
[6571,8.7904213068978674,{"$f":" IF(Foglio1!$C$11 <> \"\", 8.314472*Foglio1!$C$11*Foglio2!B736, NA())","v":21926.313547321719},{"$f":"IF(Foglio1!$H$11 <> \"\", Foglio1!$H$11 + C736*10^-3, NA())","v":-68.073686452678288},6571,8.7904213068978674,{"$f":" IF(Foglio1!$C$12 <> \"\", 8.314472*Foglio1!$C$12*Foglio2!F736, NA())","v":{"$error":"#N/A"}},{"$f":"IF(Foglio1!$H$12 <> \"\", Foglio1!$H$12 + G736*10^-3, NA())","v":{"$error":"#N/A"}},6571,8.7904213068978674,{"$f":" IF(Foglio1!$C$13 <> \"\", 8.314472*Foglio1!$C$13*Foglio2!J736, NA())","v":{"$error":"#N/A"}},{"$f":"IF(Foglio1!$H$13 <> \"\", Foglio1!$H$13 + K736*10^-3, NA())","v":{"$error":"#N/A"}},6571,8.7904213068978674,{"$f":" IF(Foglio1!$C$14 <> \"\", 8.314472*Foglio1!$C$14*Foglio2!N736, NA())","v":{"$error":"#N/A"}},{"$f":"IF(Foglio1!$H$14 <> \"\", Foglio1!$H$14 + O736*10^-3, NA())","v":{"$error":"#N/A"}},6571,8.7904213068978674,{"$f":" IF(Foglio1!$C$15 <> \"\", 8.314472*Foglio1!$C$15*Foglio2!R736, NA())","v":{"$error":"#N/A"}},{"$f":"IF(Foglio1!$H$15 <> \"\", Foglio1!$H$15 + S736*10^-3, NA())","v":{"$error":"#N/A"}}]
[6580,8.7917900243193632,{"$f":" IF(Foglio1!$C$11 <> \"\", 8.314472*Foglio1!$C$11*Foglio2!B737, NA())","v":21929.727596124801},{"$f":"IF(Foglio1!$H$11 <> \"\", Foglio1!$H$11 + C737*10^-3, NA())","v":-68.070272403875194},6580,8.7917900243193632,{"$f":" IF(Foglio1!$C$12 <> \"\", 8.314472*Foglio1!$C$12*Foglio2!F737, NA())","v":{"$error":"#N/A"}},{"$f":"IF(Foglio1!$H$12 <> \"\", Foglio1!$H$12 + G737*10^-3, NA())","v":{"$error":"#N/A"}},6580,8.7917900243193632,{"$f":" IF(Foglio1!$C$13 <> \"\", 8.314472*Foglio1!$C$13*Foglio2!J737, NA())","v":{"$error":"#N/A"}},{"$f":"IF(Foglio1!$H$13 <> \"\", Foglio1!$H$13 + K737*10^-3, NA())","v":{"$error":"#N/A"}},6580,8.7917900243193632,{"$f":" IF(Foglio1!$C$14 <> \"\", 8.314472*Foglio1!$C$14*Foglio2!N737, NA())","v":{"$error":"#N/A"}},{"$f":"IF(Foglio1!$H$14 <> \"\", Foglio1!$H$14 + O737*10^-3, NA())","v":{"$error":"#N/A"}},6580,8.7917900243193632,{"$f":" IF(Foglio1!$C$15 <> \"\", 8.314472*Foglio1!$C$15*Foglio2!R737, NA())","v":{"$error":"#N/A"}},{"$f":"IF(Foglio1!$H$15 <> \"\", Foglio1!$H$15 + S737*10^-3, NA())","v":{"$error":"#N/A"}}]
[6589,8.793156870913819,{"$f":" IF(Foglio1!$C$11 <> \"\", 8.314472*Foglio1!$C$11*Foglio2!B738, NA())","v":21933.136978446171},{"$f":"IF(Foglio1!$H$11 <> \"\", Foglio1!$H$11 + C738*10^-3, NA())","v":-68.066863021553829},6589,8.793156870913819,{"$f":" IF(Foglio1!$C$12 <> \"\", 8.314472*Foglio1!$C$12*Foglio2!F738, NA())","v":{"$error":"#N/A"}},{"$f":"IF(Foglio1!$H$12 <> \"\", Foglio1!$H$12 + G738*10^-3, NA())","v":{"$error":"#N/A"}},6589,8.793156870913819,{"$f":" IF(Foglio1!$C$13 <> \"\", 8.314472*Foglio1!$C$13*Foglio2!J738, NA())","v":{"$error":"#N/A"}},{"$f":"IF(Foglio1!$H$13 <> \"\", Foglio1!$H$13 + K738*10^-3, NA())","v":{"$error":"#N/A"}},6589,8.793156870913819,{"$f":" IF(Foglio1!$C$14 <> \"\", 8.314472*Foglio1!$C$14*Foglio2!N738, NA())","v":{"$error":"#N/A"}},{"$f":"IF(Foglio1!$H$14 <> \"\", Foglio1!$H$14 + O738*10^-3, NA())","v":{"$error":"#N/A"}},6589,8.793156870913819,{"$f":" IF(Foglio1!$C$15 <> \"\", 8.314472*Foglio1!$C$15*Foglio2!R738, NA())","v":{"$error":"#N/A"}},{"$f":"IF(Foglio1!$H$15 <> \"\", Foglio1!$H$15 + S738*10^-3, NA())","v":{"$error":"#N/A"}}]
[6598,8.7945218517885273,{"$f":" IF(Foglio1!$C$11 <> \"\", 8.314472*Foglio1!$C$11*Foglio2!B739, NA())","v":21936.541707025161},{"$f":"IF(Foglio1!$H$11 <> \"\", Foglio1!$H$11 + C739*10^-3, NA())","v":-68.063458292974843},6598,8.7945218517885273,{"$f":" IF(Foglio1!$C$12 <> \"\", 8.314472*Foglio1!$C$12*Foglio2!F739, NA())","v":{"$error":"#N/A"}},{"$f":"IF(Foglio1!$H$12 <> \"\", Foglio1!$H$12 + G739*10^-3, NA())","v":{"$error":"#N/A"}},6598,8.7945218517885273,{"$f":" IF(Foglio1!$C$13 <> \"\", 8.314472*Foglio1!$C$13*Foglio2!J739, NA())","v":{"$error":"#N/A"}},{"$f":"IF(Foglio1!$H$13 <> \"\", Foglio1!$H$13 + K739*10^-3, NA())","v":{"$error":"#N/A"}},6598,8.7945218517885273,{"$f":" IF(Foglio1!$C$14 <> \"\", 8.314472*Foglio1!$C$14*Foglio2!N739, NA())","v":{"$error":"#N/A"}},{"$f":"IF(Foglio1!$H$14 <> \"\", Foglio1!$H$14 + O739*10^-3, NA())","v":{"$error":"#N/A"}},6598,8.7945218517885273,{"$f":" IF(Foglio1!$C$15 <> \"\", 8.314472*Foglio1!$C$15*Foglio2!R739, NA())","v":{"$error":"#N/A"}},{"$f":"IF(Foglio1!$H$15 <> \"\", Foglio1!$H$15 + S739*10^-3, NA())","v":{"$error":"#N/A"}}]
[6607,8.7958849720298851,{"$f":" IF(Foglio1!$C$11 <> \"\", 8.314472*Foglio1!$C$11*Foglio2!B740, NA())","v":21939.94179454898},{"$f":"IF(Foglio1!$H$11 <> \"\", Foglio1!$H$11 + C740*10^-3, NA())","v":-68.060058205451014},6607,8.7958849720298851,{"$f":" IF(Foglio1!$C$12 <> \"\", 8.314472*Foglio1!$C$12*Foglio2!F740, NA())","v":{"$error":"#N/A"}},{"$f":"IF(Foglio1!$H$12 <> \"\", Foglio1!$H$12 + G740*10^-3, NA())","v":{"$error":"#N/A"}},6607,8.7958849720298851,{"$f":" IF(Foglio1!$C$13 <> \"\", 8.314472*Foglio1!$C$13*Foglio2!J740, NA())","v":{"$error":"#N/A"}},{"$f":"IF(Foglio1!$H$13 <> \"\", Foglio1!$H$13 + K740*10^-3, NA())","v":{"$error":"#N/A"}},6607,8.7958849720298851,{"$f":" IF(Foglio1!$C$14 <> \"\", 8.314472*Foglio1!$C$14*Foglio2!N740, NA())","v":{"$error":"#N/A"}},{"$f":"IF(Foglio1!$H$14 <> \"\", Foglio1!$H$14 + O740*10^-3, NA())","v":{"$error":"#N/A"}},6607,8.7958849720298851,{"$f":" IF(Foglio1!$C$15 <> \"\", 8.314472*Foglio1!$C$15*Foglio2!R740, NA())","v":{"$error":"#N/A"}},{"$f":"IF(Foglio1!$H$15 <> \"\", Foglio1!$H$15 + S740*10^-3, NA())","v":{"$error":"#N/A"}}]
[6616,8.7972462367035273,{"$f":" IF(Foglio1!$C$11 <> \"\", 8.314472*Foglio1!$C$11*Foglio2!B741, NA())","v":21943.337253653055},{"$f":"IF(Foglio1!$H$11 <> \"\", Foglio1!$H$11 + C741*10^-3, NA())","v":-68.056662746346944},6616,8.7972462367035273,{"$f":" IF(Foglio1!$C$12 <> \"\", 8.314472*Foglio1!$C$12*Foglio2!F741, NA())","v":{"$error":"#N/A"}},{"$f":"IF(Foglio1!$H$12 <> \"\", Foglio1!$H$12 + G741*10^-3, NA())","v":{"$error":"#N/A"}},6616,8.7972462367035273,{"$f":" IF(Foglio1!$C$13 <> \"\", 8.314472*Foglio1!$C$13*Foglio2!J741, NA())","v":{"$error":"#N/A"}},{"$f":"IF(Foglio1!$H$13 <> \"\", Foglio1!$H$13 + K741*10^-3, NA())","v":{"$error":"#N/A"}},6616,8.7972462367035273,{"$f":" IF(Foglio1!$C$14 <> \"\", 8.314472*Foglio1!$C$14*Foglio2!N741, NA())","v":{"$error":"#N/A"}},{"$f":"IF(Foglio1!$H$14 <> \"\", Foglio1!$H$14 + O741*10^-3, NA())","v":{"$error":"#N/A"}},6616,8.7972462367035273,{"$f":" IF(Foglio1!$C$15 <> \"\", 8.314472*Foglio1!$C$15*Foglio2!R741, NA())","v":{"$error":"#N/A"}},{"$f":"IF(Foglio1!$H$15 <> \"\", Foglio1!$H$15 + S741*10^-3, NA())","v":{"$error":"#N/A"}}]
[6625,8.798605650854423,{"$f":" IF(Foglio1!$C$11 <> \"\", 8.314472*Foglio1!$C$11*Foglio2!B742, NA())","v":21946.728096921266},{"$f":"IF(Foglio1!$H$11 <> \"\", Foglio1!$H$11 + C742*10^-3, NA())","v":-68.053271903078738},6625,8.798605650854423,{"$f":" IF(Foglio1!$C$12 <> \"\", 8.314472*Foglio1!$C$12*Foglio2!F742, NA())","v":{"$error":"#N/A"}},{"$f":"IF(Foglio1!$H$12 <> \"\", Foglio1!$H$12 + G742*10^-3, NA())","v":{"$error":"#N/A"}},6625,8.798605650854423,{"$f":" IF(Foglio1!$C$13 <> \"\", 8.314472*Foglio1!$C$13*Foglio2!J742, NA())","v":{"$error":"#N/A"}},{"$f":"IF(Foglio1!$H$13 <> \"\", Foglio1!$H$13 + K742*10^-3, NA())","v":{"$error":"#N/A"}},6625,8.798605650854423,{"$f":" IF(Foglio1!$C$14 <> \"\", 8.314472*Foglio1!$C$14*Foglio2!N742, NA())","v":{"$error":"#N/A"}},{"$f":"IF(Foglio1!$H$14 <> \"\", Foglio1!$H$14 + O742*10^-3, NA())","v":{"$error":"#N/A"}},6625,8.798605650854423,{"$f":" IF(Foglio1!$C$15 <> \"\", 8.314472*Foglio1!$C$15*Foglio2!R742, NA())","v":{"$error":"#N/A"}},{"$f":"IF(Foglio1!$H$15 <> \"\", Foglio1!$H$15 + S742*10^-3, NA())","v":{"$error":"#N/A"}}]
[6634,8.7999632195069974,{"$f":" IF(Foglio1!$C$11 <> \"\", 8.314472*Foglio1!$C$11*Foglio2!B743, NA())","v":21950.114336886236},{"$f":"IF(Foglio1!$H$11 <> \"\", Foglio1!$H$11 + C743*10^-3, NA())","v":-68.04988566311377},6634,8.7999632195069974,{"$f":" IF(Foglio1!$C$12 <> \"\", 8.314472*Foglio1!$C$12*Foglio2!F743, NA())","v":{"$error":"#N/A"}},{"$f":"IF(Foglio1!$H$12 <> \"\", Foglio1!$H$12 + G743*10^-3, NA())","v":{"$error":"#N/A"}},6634,8.7999632195069974,{"$f":" IF(Foglio1!$C$13 <> \"\", 8.314472*Foglio1!$C$13*Foglio2!J743, NA())","v":{"$error":"#N/A"}},{"$f":"IF(Foglio1!$H$13 <> \"\", Foglio1!$H$13 + K743*10^-3, NA())","v":{"$error":"#N/A"}},6634,8.7999632195069974,{"$f":" IF(Foglio1!$C$14 <> \"\", 8.314472*Foglio1!$C$14*Foglio2!N743, NA())","v":{"$error":"#N/A"}},{"$f":"IF(Foglio1!$H$14 <> \"\", Foglio1!$H$14 + O743*10^-3, NA())","v":{"$error":"#N/A"}},6634,8.7999632195069974,{"$f":" IF(Foglio1!$C$15 <> \"\", 8.314472*Foglio1!$C$15*Foglio2!R743, NA())","v":{"$error":"#N/A"}},{"$f":"IF(Foglio1!$H$15 <> \"\", Foglio1!$H$15 + S743*10^-3, NA())","v":{"$error":"#N/A"}}]
[6643,8.8013189476652407,{"$f":" IF(Foglio1!$C$11 <> \"\", 8.314472*Foglio1!$C$11*Foglio2!B744, NA())","v":21953.495986029633},{"$f":"IF(Foglio1!$H$11 <> \"\", Foglio1!$H$11 + C744*10^-3, NA())","v":-68.046504013970363},6643,8.8013189476652407,{"$f":" IF(Foglio1!$C$12 <> \"\", 8.314472*Foglio1!$C$12*Foglio2!F744, NA())","v":{"$error":"#N/A"}},{"$f":"IF(Foglio1!$H$12 <> \"\", Foglio1!$H$12 + G744*10^-3, NA())","v":{"$error":"#N/A"}},6643,8.8013189476652407,{"$f":" IF(Foglio1!$C$13 <> \"\", 8.314472*Foglio1!$C$13*Foglio2!J744, NA())","v":{"$error":"#N/A"}},{"$f":"IF(Foglio1!$H$13 <> \"\", Foglio1!$H$13 + K744*10^-3, NA())","v":{"$error":"#N/A"}},6643,8.8013189476652407,{"$f":" IF(Foglio1!$C$14 <> \"\", 8.314472*Foglio1!$C$14*Foglio2!N744, NA())","v":{"$error":"#N/A"}},{"$f":"IF(Foglio1!$H$14 <> \"\", Foglio1!$H$14 + O744*10^-3, NA())","v":{"$error":"#N/A"}},6643,8.8013189476652407,{"$f":" IF(Foglio1!$C$15 <> \"\", 8.314472*Foglio1!$C$15*Foglio2!R744, NA())","v":{"$error":"#N/A"}},{"$f":"IF(Foglio1!$H$15 <> \"\", Foglio1!$H$15 + S744*10^-3, NA())","v":{"$error":"#N/A"}}]
[6652,8.8026728403128178,{"$f":" IF(Foglio1!$C$11 <> \"\", 8.314472*Foglio1!$C$11*Foglio2!B745, NA())","v":21956.87305678242},{"$f":"IF(Foglio1!$H$11 <> \"\", Foglio1!$H$11 + C745*10^-3, NA())","v":-68.043126943217572},6652,8.8026728403128178,{"$f":" IF(Foglio1!$C$12 <> \"\", 8.314472*Foglio1!$C$12*Foglio2!F745, NA())","v":{"$error":"#N/A"}},{"$f":"IF(Foglio1!$H$12 <> \"\", Foglio1!$H$12 + G745*10^-3, NA())","v":{"$error":"#N/A"}},6652,8.8026728403128178,{"$f":" IF(Foglio1!$C$13 <> \"\", 8.314472*Foglio1!$C$13*Foglio2!J745, NA())","v":{"$error":"#N/A"}},{"$f":"IF(Foglio1!$H$13 <> \"\", Foglio1!$H$13 + K745*10^-3, NA())","v":{"$error":"#N/A"}},6652,8.8026728403128178,{"$f":" IF(Foglio1!$C$14 <> \"\", 8.314472*Foglio1!$C$14*Foglio2!N745, NA())","v":{"$error":"#N/A"}},{"$f":"IF(Foglio1!$H$14 <> \"\", Foglio1!$H$14 + O745*10^-3, NA())","v":{"$error":"#N/A"}},6652,8.8026728403128178,{"$f":" IF(Foglio1!$C$15 <> \"\", 8.314472*Foglio1!$C$15*Foglio2!R745, NA())","v":{"$error":"#N/A"}},{"$f":"IF(Foglio1!$H$15 <> \"\", Foglio1!$H$15 + S745*10^-3, NA())","v":{"$error":"#N/A"}}]
[6661,8.8040249024131789,{"$f":" IF(Foglio1!$C$11 <> \"\", 8.314472*Foglio1!$C$11*Foglio2!B746, NA())","v":21960.245561525135},{"$f":"IF(Foglio1!$H$11 <> \"\", Foglio1!$H$11 + C746*10^-3, NA())","v":-68.039754438474858},6661,8.8040249024131789,{"$f":" IF(Foglio1!$C$12 <> \"\", 8.314472*Foglio1!$C$12*Foglio2!F746, NA())","v":{"$error":"#N/A"}},{"$f":"IF(Foglio1!$H$12 <> \"\", Foglio1!$H$12 + G746*10^-3, NA())","v":{"$error":"#N/A"}},6661,8.8040249024131789,{"$f":" IF(Foglio1!$C$13 <> \"\", 8.314472*Foglio1!$C$13*Foglio2!J746, NA())","v":{"$error":"#N/A"}},{"$f":"IF(Foglio1!$H$13 <> \"\", Foglio1!$H$13 + K746*10^-3, NA())","v":{"$error":"#N/A"}},6661,8.8040249024131789,{"$f":" IF(Foglio1!$C$14 <> \"\", 8.314472*Foglio1!$C$14*Foglio2!N746, NA())","v":{"$error":"#N/A"}},{"$f":"IF(Foglio1!$H$14 <> \"\", Foglio1!$H$14 + O746*10^-3, NA())","v":{"$error":"#N/A"}},6661,8.8040249024131789,{"$f":" IF(Foglio1!$C$15 <> \"\", 8.314472*Foglio1!$C$15*Foglio2!R746, NA())","v":{"$error":"#N/A"}},{"$f":"IF(Foglio1!$H$15 <> \"\", Foglio1!$H$15 + S746*10^-3, NA())","v":{"$error":"#N/A"}}]
[6670,8.8053751389096693,{"$f":" IF(Foglio1!$C$11 <> \"\", 8.314472*Foglio1!$C$11*Foglio2!B747, NA())","v":21963.61351258817},{"$f":"IF(Foglio1!$H$11 <> \"\", Foglio1!$H$11 + C747*10^-3, NA())","v":-68.036386487411832},6670,8.8053751389096693,{"$f":" IF(Foglio1!$C$12 <> \"\", 8.314472*Foglio1!$C$12*Foglio2!F747, NA())","v":{"$error":"#N/A"}},{"$f":"IF(Foglio1!$H$12 <> \"\", Foglio1!$H$12 + G747*10^-3, NA())","v":{"$error":"#N/A"}},6670,8.8053751389096693,{"$f":" IF(Foglio1!$C$13 <> \"\", 8.314472*Foglio1!$C$13*Foglio2!J747, NA())","v":{"$error":"#N/A"}},{"$f":"IF(Foglio1!$H$13 <> \"\", Foglio1!$H$13 + K747*10^-3, NA())","v":{"$error":"#N/A"}},6670,8.8053751389096693,{"$f":" IF(Foglio1!$C$14 <> \"\", 8.314472*Foglio1!$C$14*Foglio2!N747, NA())","v":{"$error":"#N/A"}},{"$f":"IF(Foglio1!$H$14 <> \"\", Foglio1!$H$14 + O747*10^-3, NA())","v":{"$error":"#N/A"}},6670,8.8053751389096693,{"$f":" IF(Foglio1!$C$15 <> \"\", 8.314472*Foglio1!$C$15*Foglio2!R747, NA())","v":{"$error":"#N/A"}},{"$f":"IF(Foglio1!$H$15 <> \"\", Foglio1!$H$15 + S747*10^-3, NA())","v":{"$error":"#N/A"}}]
[6679,8.8067235547256359,{"$f":" IF(Foglio1!$C$11 <> \"\", 8.314472*Foglio1!$C$11*Foglio2!B748, NA())","v":21966.976922252034},{"$f":"IF(Foglio1!$H$11 <> \"\", Foglio1!$H$11 + C748*10^-3, NA())","v":-68.03302307774797},6679,8.8067235547256359,{"$f":" IF(Foglio1!$C$12 <> \"\", 8.314472*Foglio1!$C$12*Foglio2!F748, NA())","v":{"$error":"#N/A"}},{"$f":"IF(Foglio1!$H$12 <> \"\", Foglio1!$H$12 + G748*10^-3, NA())","v":{"$error":"#N/A"}},6679,8.8067235547256359,{"$f":" IF(Foglio1!$C$13 <> \"\", 8.314472*Foglio1!$C$13*Foglio2!J748, NA())","v":{"$error":"#N/A"}},{"$f":"IF(Foglio1!$H$13 <> \"\", Foglio1!$H$13 + K748*10^-3, NA())","v":{"$error":"#N/A"}},6679,8.8067235547256359,{"$f":" IF(Foglio1!$C$14 <> \"\", 8.314472*Foglio1!$C$14*Foglio2!N748, NA())","v":{"$error":"#N/A"}},{"$f":"IF(Foglio1!$H$14 <> \"\", Foglio1!$H$14 + O748*10^-3, NA())","v":{"$error":"#N/A"}},6679,8.8067235547256359,{"$f":" IF(Foglio1!$C$15 <> \"\", 8.314472*Foglio1!$C$15*Foglio2!R748, NA())","v":{"$error":"#N/A"}},{"$f":"IF(Foglio1!$H$15 <> \"\", Foglio1!$H$15 + S748*10^-3, NA())","v":{"$error":"#N/A"}}]
[6688,8.8080701547645379,{"$f":" IF(Foglio1!$C$11 <> \"\", 8.314472*Foglio1!$C$11*Foglio2!B749, NA())","v":21970.335802747628},{"$f":"IF(Foglio1!$H$11 <> \"\", Foglio1!$H$11 + C749*10^-3, NA())","v":-68.029664197252373},6688,8.8080701547645379,{"$f":" IF(Foglio1!$C$12 <> \"\", 8.314472*Foglio1!$C$12*Foglio2!F749, NA())","v":{"$error":"#N/A"}},{"$f":"IF(Foglio1!$H$12 <> \"\", Foglio1!$H$12 + G749*10^-3, NA())","v":{"$error":"#N/A"}},6688,8.8080701547645379,{"$f":" IF(Foglio1!$C$13 <> \"\", 8.314472*Foglio1!$C$13*Foglio2!J749, NA())","v":{"$error":"#N/A"}},{"$f":"IF(Foglio1!$H$13 <> \"\", Foglio1!$H$13 + K749*10^-3, NA())","v":{"$error":"#N/A"}},6688,8.8080701547645379,{"$f":" IF(Foglio1!$C$14 <> \"\", 8.314472*Foglio1!$C$14*Foglio2!N749, NA())","v":{"$error":"#N/A"}},{"$f":"IF(Foglio1!$H$14 <> \"\", Foglio1!$H$14 + O749*10^-3, NA())","v":{"$error":"#N/A"}},6688,8.8080701547645379,{"$f":" IF(Foglio1!$C$15 <> \"\", 8.314472*Foglio1!$C$15*Foglio2!R749, NA())","v":{"$error":"#N/A"}},{"$f":"IF(Foglio1!$H$15 <> \"\", Foglio1!$H$15 + S749*10^-3, NA())","v":{"$error":"#N/A"}}]
[6697,8.8094149439100509,{"$f":" IF(Foglio1!$C$11 <> \"\", 8.314472*Foglio1!$C$11*Foglio2!B750, NA())","v":21973.690166256507},{"$f":"IF(Foglio1!$H$11 <> \"\", Foglio1!$H$11 + C750*10^-3, NA())","v":-68.026309833743497},6697,8.8094149439100509,{"$f":" IF(Foglio1!$C$12 <> \"\", 8.314472*Foglio1!$C$12*Foglio2!F750, NA())","v":{"$error":"#N/A"}},{"$f":"IF(Foglio1!$H$12 <> \"\", Foglio1!$H$12 + G750*10^-3, NA())","v":{"$error":"#N/A"}},6697,8.8094149439100509,{"$f":" IF(Foglio1!$C$13 <> \"\", 8.314472*Foglio1!$C$13*Foglio2!J750, NA())","v":{"$error":"#N/A"}},{"$f":"IF(Foglio1!$H$13 <> \"\", Foglio1!$H$13 + K750*10^-3, NA())","v":{"$error":"#N/A"}},6697,8.8094149439100509,{"$f":" IF(Foglio1!$C$14 <> \"\", 8.314472*Foglio1!$C$14*Foglio2!N750, NA())","v":{"$error":"#N/A"}},{"$f":"IF(Foglio1!$H$14 <> \"\", Foglio1!$H$14 + O750*10^-3, NA())","v":{"$error":"#N/A"}},6697,8.8094149439100509,{"$f":" IF(Foglio1!$C$15 <> \"\", 8.314472*Foglio1!$C$15*Foglio2!R750, NA())","v":{"$error":"#N/A"}},{"$f":"IF(Foglio1!$H$15 <> \"\", Foglio1!$H$15 + S750*10^-3, NA())","v":{"$error":"#N/A"}}]
[6706,8.8107579270261738,{"$f":" IF(Foglio1!$C$11 <> \"\", 8.314472*Foglio1!$C$11*Foglio2!B751, NA())","v":21977.040024911152},{"$f":"IF(Foglio1!$H$11 <> \"\", Foglio1!$H$11 + C751*10^-3, NA())","v":-68.022959975088853},6706,8.8107579270261738,{"$f":" IF(Foglio1!$C$12 <> \"\", 8.314472*Foglio1!$C$12*Foglio2!F751, NA())","v":{"$error":"#N/A"}},{"$f":"IF(Foglio1!$H$12 <> \"\", Foglio1!$H$12 + G751*10^-3, NA())","v":{"$error":"#N/A"}},6706,8.8107579270261738,{"$f":" IF(Foglio1!$C$13 <> \"\", 8.314472*Foglio1!$C$13*Foglio2!J751, NA())","v":{"$error":"#N/A"}},{"$f":"IF(Foglio1!$H$13 <> \"\", Foglio1!$H$13 + K751*10^-3, NA())","v":{"$error":"#N/A"}},6706,8.8107579270261738,{"$f":" IF(Foglio1!$C$14 <> \"\", 8.314472*Foglio1!$C$14*Foglio2!N751, NA())","v":{"$error":"#N/A"}},{"$f":"IF(Foglio1!$H$14 <> \"\", Foglio1!$H$14 + O751*10^-3, NA())","v":{"$error":"#N/A"}},6706,8.8107579270261738,{"$f":" IF(Foglio1!$C$15 <> \"\", 8.314472*Foglio1!$C$15*Foglio2!R751, NA())","v":{"$error":"#N/A"}},{"$f":"IF(Foglio1!$H$15 <> \"\", Foglio1!$H$15 + S751*10^-3, NA())","v":{"$error":"#N/A"}}]
[6715,8.8120991089573373,{"$f":" IF(Foglio1!$C$11 <> \"\", 8.314472*Foglio1!$C$11*Foglio2!B752, NA())","v":21980.385390795222},{"$f":"IF(Foglio1!$H$11 <> \"\", Foglio1!$H$11 + C752*10^-3, NA())","v":-68.01961460920478},6715,8.8120991089573373,{"$f":" IF(Foglio1!$C$12 <> \"\", 8.314472*Foglio1!$C$12*Foglio2!F752, NA())","v":{"$error":"#N/A"}},{"$f":"IF(Foglio1!$H$12 <> \"\", Foglio1!$H$12 + G752*10^-3, NA())","v":{"$error":"#N/A"}},6715,8.8120991089573373,{"$f":" IF(Foglio1!$C$13 <> \"\", 8.314472*Foglio1!$C$13*Foglio2!J752, NA())","v":{"$error":"#N/A"}},{"$f":"IF(Foglio1!$H$13 <> \"\", Foglio1!$H$13 + K752*10^-3, NA())","v":{"$error":"#N/A"}},6715,8.8120991089573373,{"$f":" IF(Foglio1!$C$14 <> \"\", 8.314472*Foglio1!$C$14*Foglio2!N752, NA())","v":{"$error":"#N/A"}},{"$f":"IF(Foglio1!$H$14 <> \"\", Foglio1!$H$14 + O752*10^-3, NA())","v":{"$error":"#N/A"}},6715,8.8120991089573373,{"$f":" IF(Foglio1!$C$15 <> \"\", 8.314472*Foglio1!$C$15*Foglio2!R752, NA())","v":{"$error":"#N/A"}},{"$f":"IF(Foglio1!$H$15 <> \"\", Foglio1!$H$15 + S752*10^-3, NA())","v":{"$error":"#N/A"}}]
[6724,8.8134384945285067,{"$f":" IF(Foglio1!$C$11 <> \"\", 8.314472*Foglio1!$C$11*Foglio2!B753, NA())","v":21983.726275943827},{"$f":"IF(Foglio1!$H$11 <> \"\", Foglio1!$H$11 + C753*10^-3, NA())","v":-68.016273724056177},6724,8.8134384945285067,{"$f":" IF(Foglio1!$C$12 <> \"\", 8.314472*Foglio1!$C$12*Foglio2!F753, NA())","v":{"$error":"#N/A"}},{"$f":"IF(Foglio1!$H$12 <> \"\", Foglio1!$H$12 + G753*10^-3, NA())","v":{"$error":"#N/A"}},6724,8.8134384945285067,{"$f":" IF(Foglio1!$C$13 <> \"\", 8.314472*Foglio1!$C$13*Foglio2!J753, NA())","v":{"$error":"#N/A"}},{"$f":"IF(Foglio1!$H$13 <> \"\", Foglio1!$H$13 + K753*10^-3, NA())","v":{"$error":"#N/A"}},6724,8.8134384945285067,{"$f":" IF(Foglio1!$C$14 <> \"\", 8.314472*Foglio1!$C$14*Foglio2!N753, NA())","v":{"$error":"#N/A"}},{"$f":"IF(Foglio1!$H$14 <> \"\", Foglio1!$H$14 + O753*10^-3, NA())","v":{"$error":"#N/A"}},6724,8.8134384945285067,{"$f":" IF(Foglio1!$C$15 <> \"\", 8.314472*Foglio1!$C$15*Foglio2!R753, NA())","v":{"$error":"#N/A"}},{"$f":"IF(Foglio1!$H$15 <> \"\", Foglio1!$H$15 + S753*10^-3, NA())","v":{"$error":"#N/A"}}]
[6733,8.8147760885452815,{"$f":" IF(Foglio1!$C$11 <> \"\", 8.314472*Foglio1!$C$11*Foglio2!B754, NA())","v":21987.062692343781},{"$f":"IF(Foglio1!$H$11 <> \"\", Foglio1!$H$11 + C754*10^-3, NA())","v":-68.012937307656216},6733,8.8147760885452815,{"$f":" IF(Foglio1!$C$12 <> \"\", 8.314472*Foglio1!$C$12*Foglio2!F754, NA())","v":{"$error":"#N/A"}},{"$f":"IF(Foglio1!$H$12 <> \"\", Foglio1!$H$12 + G754*10^-3, NA())","v":{"$error":"#N/A"}},6733,8.8147760885452815,{"$f":" IF(Foglio1!$C$13 <> \"\", 8.314472*Foglio1!$C$13*Foglio2!J754, NA())","v":{"$error":"#N/A"}},{"$f":"IF(Foglio1!$H$13 <> \"\", Foglio1!$H$13 + K754*10^-3, NA())","v":{"$error":"#N/A"}},6733,8.8147760885452815,{"$f":" IF(Foglio1!$C$14 <> \"\", 8.314472*Foglio1!$C$14*Foglio2!N754, NA())","v":{"$error":"#N/A"}},{"$f":"IF(Foglio1!$H$14 <> \"\", Foglio1!$H$14 + O754*10^-3, NA())","v":{"$error":"#N/A"}},6733,8.8147760885452815,{"$f":" IF(Foglio1!$C$15 <> \"\", 8.314472*Foglio1!$C$15*Foglio2!R754, NA())","v":{"$error":"#N/A"}},{"$f":"IF(Foglio1!$H$15 <> \"\", Foglio1!$H$15 + S754*10^-3, NA())","v":{"$error":"#N/A"}}]
[6742,8.8161118957940054,{"$f":" IF(Foglio1!$C$11 <> \"\", 8.314472*Foglio1!$C$11*Foglio2!B755, NA())","v":21990.394651933853},{"$f":"IF(Foglio1!$H$11 <> \"\", Foglio1!$H$11 + C755*10^-3, NA())","v":-68.009605348066145},6742,8.8161118957940054,{"$f":" IF(Foglio1!$C$12 <> \"\", 8.314472*Foglio1!$C$12*Foglio2!F755, NA())","v":{"$error":"#N/A"}},{"$f":"IF(Foglio1!$H$12 <> \"\", Foglio1!$H$12 + G755*10^-3, NA())","v":{"$error":"#N/A"}},6742,8.8161118957940054,{"$f":" IF(Foglio1!$C$13 <> \"\", 8.314472*Foglio1!$C$13*Foglio2!J755, NA())","v":{"$error":"#N/A"}},{"$f":"IF(Foglio1!$H$13 <> \"\", Foglio1!$H$13 + K755*10^-3, NA())","v":{"$error":"#N/A"}},6742,8.8161118957940054,{"$f":" IF(Foglio1!$C$14 <> \"\", 8.314472*Foglio1!$C$14*Foglio2!N755, NA())","v":{"$error":"#N/A"}},{"$f":"IF(Foglio1!$H$14 <> \"\", Foglio1!$H$14 + O755*10^-3, NA())","v":{"$error":"#N/A"}},6742,8.8161118957940054,{"$f":" IF(Foglio1!$C$15 <> \"\", 8.314472*Foglio1!$C$15*Foglio2!R755, NA())","v":{"$error":"#N/A"}},{"$f":"IF(Foglio1!$H$15 <> \"\", Foglio1!$H$15 + S755*10^-3, NA())","v":{"$error":"#N/A"}}]
[6751,8.8174459210418696,{"$f":" IF(Foglio1!$C$11 <> \"\", 8.314472*Foglio1!$C$11*Foglio2!B756, NA())","v":21993.722166605054},{"$f":"IF(Foglio1!$H$11 <> \"\", Foglio1!$H$11 + C756*10^-3, NA())","v":-68.006277833394947},6751,8.8174459210418696,{"$f":" IF(Foglio1!$C$12 <> \"\", 8.314472*Foglio1!$C$12*Foglio2!F756, NA())","v":{"$error":"#N/A"}},{"$f":"IF(Foglio1!$H$12 <> \"\", Foglio1!$H$12 + G756*10^-3, NA())","v":{"$error":"#N/A"}},6751,8.8174459210418696,{"$f":" IF(Foglio1!$C$13 <> \"\", 8.314472*Foglio1!$C$13*Foglio2!J756, NA())","v":{"$error":"#N/A"}},{"$f":"IF(Foglio1!$H$13 <> \"\", Foglio1!$H$13 + K756*10^-3, NA())","v":{"$error":"#N/A"}},6751,8.8174459210418696,{"$f":" IF(Foglio1!$C$14 <> \"\", 8.314472*Foglio1!$C$14*Foglio2!N756, NA())","v":{"$error":"#N/A"}},{"$f":"IF(Foglio1!$H$14 <> \"\", Foglio1!$H$14 + O756*10^-3, NA())","v":{"$error":"#N/A"}},6751,8.8174459210418696,{"$f":" IF(Foglio1!$C$15 <> \"\", 8.314472*Foglio1!$C$15*Foglio2!R756, NA())","v":{"$error":"#N/A"}},{"$f":"IF(Foglio1!$H$15 <> \"\", Foglio1!$H$15 + S756*10^-3, NA())","v":{"$error":"#N/A"}}]
[6760,8.8187781690370102,{"$f":" IF(Foglio1!$C$11 <> \"\", 8.314472*Foglio1!$C$11*Foglio2!B757, NA())","v":21997.045248200848},{"$f":"IF(Foglio1!$H$11 <> \"\", Foglio1!$H$11 + C757*10^-3, NA())","v":-68.002954751799152},6760,8.8187781690370102,{"$f":" IF(Foglio1!$C$12 <> \"\", 8.314472*Foglio1!$C$12*Foglio2!F757, NA())","v":{"$error":"#N/A"}},{"$f":"IF(Foglio1!$H$12 <> \"\", Foglio1!$H$12 + G757*10^-3, NA())","v":{"$error":"#N/A"}},6760,8.8187781690370102,{"$f":" IF(Foglio1!$C$13 <> \"\", 8.314472*Foglio1!$C$13*Foglio2!J757, NA())","v":{"$error":"#N/A"}},{"$f":"IF(Foglio1!$H$13 <> \"\", Foglio1!$H$13 + K757*10^-3, NA())","v":{"$error":"#N/A"}},6760,8.8187781690370102,{"$f":" IF(Foglio1!$C$14 <> \"\", 8.314472*Foglio1!$C$14*Foglio2!N757, NA())","v":{"$error":"#N/A"}},{"$f":"IF(Foglio1!$H$14 <> \"\", Foglio1!$H$14 + O757*10^-3, NA())","v":{"$error":"#N/A"}},6760,8.8187781690370102,{"$f":" IF(Foglio1!$C$15 <> \"\", 8.314472*Foglio1!$C$15*Foglio2!R757, NA())","v":{"$error":"#N/A"}},{"$f":"IF(Foglio1!$H$15 <> \"\", Foglio1!$H$15 + S757*10^-3, NA())","v":{"$error":"#N/A"}}]
[6769,8.8201086445086077,{"$f":" IF(Foglio1!$C$11 <> \"\", 8.314472*Foglio1!$C$11*Foglio2!B758, NA())","v":22000.363908517433},{"$f":"IF(Foglio1!$H$11 <> \"\", Foglio1!$H$11 + C758*10^-3, NA())","v":-67.999636091482571},6769,8.8201086445086077,{"$f":" IF(Foglio1!$C$12 <> \"\", 8.314472*Foglio1!$C$12*Foglio2!F758, NA())","v":{"$error":"#N/A"}},{"$f":"IF(Foglio1!$H$12 <> \"\", Foglio1!$H$12 + G758*10^-3, NA())","v":{"$error":"#N/A"}},6769,8.8201086445086077,{"$f":" IF(Foglio1!$C$13 <> \"\", 8.314472*Foglio1!$C$13*Foglio2!J758, NA())","v":{"$error":"#N/A"}},{"$f":"IF(Foglio1!$H$13 <> \"\", Foglio1!$H$13 + K758*10^-3, NA())","v":{"$error":"#N/A"}},6769,8.8201086445086077,{"$f":" IF(Foglio1!$C$14 <> \"\", 8.314472*Foglio1!$C$14*Foglio2!N758, NA())","v":{"$error":"#N/A"}},{"$f":"IF(Foglio1!$H$14 <> \"\", Foglio1!$H$14 + O758*10^-3, NA())","v":{"$error":"#N/A"}},6769,8.8201086445086077,{"$f":" IF(Foglio1!$C$15 <> \"\", 8.314472*Foglio1!$C$15*Foglio2!R758, NA())","v":{"$error":"#N/A"}},{"$f":"IF(Foglio1!$H$15 <> \"\", Foglio1!$H$15 + S758*10^-3, NA())","v":{"$error":"#N/A"}}]
[6778,8.8214373521669973,{"$f":" IF(Foglio1!$C$11 <> \"\", 8.314472*Foglio1!$C$11*Foglio2!B759, NA())","v":22003.678159303992},{"$f":"IF(Foglio1!$H$11 <> \"\", Foglio1!$H$11 + C759*10^-3, NA())","v":-67.996321840696012},6778,8.8214373521669973,{"$f":" IF(Foglio1!$C$12 <> \"\", 8.314472*Foglio1!$C$12*Foglio2!F759, NA())","v":{"$error":"#N/A"}},{"$f":"IF(Foglio1!$H$12 <> \"\", Foglio1!$H$12 + G759*10^-3, NA())","v":{"$error":"#N/A"}},6778,8.8214373521669973,{"$f":" IF(Foglio1!$C$13 <> \"\", 8.314472*Foglio1!$C$13*Foglio2!J759, NA())","v":{"$error":"#N/A"}},{"$f":"IF(Foglio1!$H$13 <> \"\", Foglio1!$H$13 + K759*10^-3, NA())","v":{"$error":"#N/A"}},6778,8.8214373521669973,{"$f":" IF(Foglio1!$C$14 <> \"\", 8.314472*Foglio1!$C$14*Foglio2!N759, NA())","v":{"$error":"#N/A"}},{"$f":"IF(Foglio1!$H$14 <> \"\", Foglio1!$H$14 + O759*10^-3, NA())","v":{"$error":"#N/A"}},6778,8.8214373521669973,{"$f":" IF(Foglio1!$C$15 <> \"\", 8.314472*Foglio1!$C$15*Foglio2!R759, NA())","v":{"$error":"#N/A"}},{"$f":"IF(Foglio1!$H$15 <> \"\", Foglio1!$H$15 + S759*10^-3, NA())","v":{"$error":"#N/A"}}]
[6787,8.8227642967037578,{"$f":" IF(Foglio1!$C$11 <> \"\", 8.314472*Foglio1!$C$11*Foglio2!B760, NA())","v":22006.988012262929},{"$f":"IF(Foglio1!$H$11 <> \"\", Foglio1!$H$11 + C760*10^-3, NA())","v":-67.993011987737077},6787,8.8227642967037578,{"$f":" IF(Foglio1!$C$12 <> \"\", 8.314472*Foglio1!$C$12*Foglio2!F760, NA())","v":{"$error":"#N/A"}},{"$f":"IF(Foglio1!$H$12 <> \"\", Foglio1!$H$12 + G760*10^-3, NA())","v":{"$error":"#N/A"}},6787,8.8227642967037578,{"$f":" IF(Foglio1!$C$13 <> \"\", 8.314472*Foglio1!$C$13*Foglio2!J760, NA())","v":{"$error":"#N/A"}},{"$f":"IF(Foglio1!$H$13 <> \"\", Foglio1!$H$13 + K760*10^-3, NA())","v":{"$error":"#N/A"}},6787,8.8227642967037578,{"$f":" IF(Foglio1!$C$14 <> \"\", 8.314472*Foglio1!$C$14*Foglio2!N760, NA())","v":{"$error":"#N/A"}},{"$f":"IF(Foglio1!$H$14 <> \"\", Foglio1!$H$14 + O760*10^-3, NA())","v":{"$error":"#N/A"}},6787,8.8227642967037578,{"$f":" IF(Foglio1!$C$15 <> \"\", 8.314472*Foglio1!$C$15*Foglio2!R760, NA())","v":{"$error":"#N/A"}},{"$f":"IF(Foglio1!$H$15 <> \"\", Foglio1!$H$15 + S760*10^-3, NA())","v":{"$error":"#N/A"}}]
[6796,8.8240894827918233,{"$f":" IF(Foglio1!$C$11 <> \"\", 8.314472*Foglio1!$C$11*Foglio2!B761, NA())","v":22010.293479050131},{"$f":"IF(Foglio1!$H$11 <> \"\", Foglio1!$H$11 + C761*10^-3, NA())","v":-67.989706520949866},6796,8.8240894827918233,{"$f":" IF(Foglio1!$C$12 <> \"\", 8.314472*Foglio1!$C$12*Foglio2!F761, NA())","v":{"$error":"#N/A"}},{"$f":"IF(Foglio1!$H$12 <> \"\", Foglio1!$H$12 + G761*10^-3, NA())","v":{"$error":"#N/A"}},6796,8.8240894827918233,{"$f":" IF(Foglio1!$C$13 <> \"\", 8.314472*Foglio1!$C$13*Foglio2!J761, NA())","v":{"$error":"#N/A"}},{"$f":"IF(Foglio1!$H$13 <> \"\", Foglio1!$H$13 + K761*10^-3, NA())","v":{"$error":"#N/A"}},6796,8.8240894827918233,{"$f":" IF(Foglio1!$C$14 <> \"\", 8.314472*Foglio1!$C$14*Foglio2!N761, NA())","v":{"$error":"#N/A"}},{"$f":"IF(Foglio1!$H$14 <> \"\", Foglio1!$H$14 + O761*10^-3, NA())","v":{"$error":"#N/A"}},6796,8.8240894827918233,{"$f":" IF(Foglio1!$C$15 <> \"\", 8.314472*Foglio1!$C$15*Foglio2!R761, NA())","v":{"$error":"#N/A"}},{"$f":"IF(Foglio1!$H$15 <> \"\", Foglio1!$H$15 + S761*10^-3, NA())","v":{"$error":"#N/A"}}]
[6805,8.8254129150855665,{"$f":" IF(Foglio1!$C$11 <> \"\", 8.314472*Foglio1!$C$11*Foglio2!B762, NA())","v":22013.594571275196},{"$f":"IF(Foglio1!$H$11 <> \"\", Foglio1!$H$11 + C762*10^-3, NA())","v":-67.986405428724808},6805,8.8254129150855665,{"$f":" IF(Foglio1!$C$12 <> \"\", 8.314472*Foglio1!$C$12*Foglio2!F762, NA())","v":{"$error":"#N/A"}},{"$f":"IF(Foglio1!$H$12 <> \"\", Foglio1!$H$12 + G762*10^-3, NA())","v":{"$error":"#N/A"}},6805,8.8254129150855665,{"$f":" IF(Foglio1!$C$13 <> \"\", 8.314472*Foglio1!$C$13*Foglio2!J762, NA())","v":{"$error":"#N/A"}},{"$f":"IF(Foglio1!$H$13 <> \"\", Foglio1!$H$13 + K762*10^-3, NA())","v":{"$error":"#N/A"}},6805,8.8254129150855665,{"$f":" IF(Foglio1!$C$14 <> \"\", 8.314472*Foglio1!$C$14*Foglio2!N762, NA())","v":{"$error":"#N/A"}},{"$f":"IF(Foglio1!$H$14 <> \"\", Foglio1!$H$14 + O762*10^-3, NA())","v":{"$error":"#N/A"}},6805,8.8254129150855665,{"$f":" IF(Foglio1!$C$15 <> \"\", 8.314472*Foglio1!$C$15*Foglio2!R762, NA())","v":{"$error":"#N/A"}},{"$f":"IF(Foglio1!$H$15 <> \"\", Foglio1!$H$15 + S762*10^-3, NA())","v":{"$error":"#N/A"}}]
[6814,8.8267345982209111,{"$f":" IF(Foglio1!$C$11 <> \"\", 8.314472*Foglio1!$C$11*Foglio2!B763, NA())","v":22016.891300501706},{"$f":"IF(Foglio1!$H$11 <> \"\", Foglio1!$H$11 + C763*10^-3, NA())","v":-67.983108699498302},6814,8.8267345982209111,{"$f":" IF(Foglio1!$C$12 <> \"\", 8.314472*Foglio1!$C$12*Foglio2!F763, NA())","v":{"$error":"#N/A"}},{"$f":"IF(Foglio1!$H$12 <> \"\", Foglio1!$H$12 + G763*10^-3, NA())","v":{"$error":"#N/A"}},6814,8.8267345982209111,{"$f":" IF(Foglio1!$C$13 <> \"\", 8.314472*Foglio1!$C$13*Foglio2!J763, NA())","v":{"$error":"#N/A"}},{"$f":"IF(Foglio1!$H$13 <> \"\", Foglio1!$H$13 + K763*10^-3, NA())","v":{"$error":"#N/A"}},6814,8.8267345982209111,{"$f":" IF(Foglio1!$C$14 <> \"\", 8.314472*Foglio1!$C$14*Foglio2!N763, NA())","v":{"$error":"#N/A"}},{"$f":"IF(Foglio1!$H$14 <> \"\", Foglio1!$H$14 + O763*10^-3, NA())","v":{"$error":"#N/A"}},6814,8.8267345982209111,{"$f":" IF(Foglio1!$C$15 <> \"\", 8.314472*Foglio1!$C$15*Foglio2!R763, NA())","v":{"$error":"#N/A"}},{"$f":"IF(Foglio1!$H$15 <> \"\", Foglio1!$H$15 + S763*10^-3, NA())","v":{"$error":"#N/A"}}]
[6823,8.828054536815424,{"$f":" IF(Foglio1!$C$11 <> \"\", 8.314472*Foglio1!$C$11*Foglio2!B764, NA())","v":22020.183678247446},{"$f":"IF(Foglio1!$H$11 <> \"\", Foglio1!$H$11 + C764*10^-3, NA())","v":-67.979816321752551},6823,8.828054536815424,{"$f":" IF(Foglio1!$C$12 <> \"\", 8.314472*Foglio1!$C$12*Foglio2!F764, NA())","v":{"$error":"#N/A"}},{"$f":"IF(Foglio1!$H$12 <> \"\", Foglio1!$H$12 + G764*10^-3, NA())","v":{"$error":"#N/A"}},6823,8.828054536815424,{"$f":" IF(Foglio1!$C$13 <> \"\", 8.314472*Foglio1!$C$13*Foglio2!J764, NA())","v":{"$error":"#N/A"}},{"$f":"IF(Foglio1!$H$13 <> \"\", Foglio1!$H$13 + K764*10^-3, NA())","v":{"$error":"#N/A"}},6823,8.828054536815424,{"$f":" IF(Foglio1!$C$14 <> \"\", 8.314472*Foglio1!$C$14*Foglio2!N764, NA())","v":{"$error":"#N/A"}},{"$f":"IF(Foglio1!$H$14 <> \"\", Foglio1!$H$14 + O764*10^-3, NA())","v":{"$error":"#N/A"}},6823,8.828054536815424,{"$f":" IF(Foglio1!$C$15 <> \"\", 8.314472*Foglio1!$C$15*Foglio2!R764, NA())","v":{"$error":"#N/A"}},{"$f":"IF(Foglio1!$H$15 <> \"\", Foglio1!$H$15 + S764*10^-3, NA())","v":{"$error":"#N/A"}}]
[6832,8.8293727354684055,{"$f":" IF(Foglio1!$C$11 <> \"\", 8.314472*Foglio1!$C$11*Foglio2!B765, NA())","v":22023.47171598464},{"$f":"IF(Foglio1!$H$11 <> \"\", Foglio1!$H$11 + C765*10^-3, NA())","v":-67.976528284015359},6832,8.8293727354684055,{"$f":" IF(Foglio1!$C$12 <> \"\", 8.314472*Foglio1!$C$12*Foglio2!F765, NA())","v":{"$error":"#N/A"}},{"$f":"IF(Foglio1!$H$12 <> \"\", Foglio1!$H$12 + G765*10^-3, NA())","v":{"$error":"#N/A"}},6832,8.8293727354684055,{"$f":" IF(Foglio1!$C$13 <> \"\", 8.314472*Foglio1!$C$13*Foglio2!J765, NA())","v":{"$error":"#N/A"}},{"$f":"IF(Foglio1!$H$13 <> \"\", Foglio1!$H$13 + K765*10^-3, NA())","v":{"$error":"#N/A"}},6832,8.8293727354684055,{"$f":" IF(Foglio1!$C$14 <> \"\", 8.314472*Foglio1!$C$14*Foglio2!N765, NA())","v":{"$error":"#N/A"}},{"$f":"IF(Foglio1!$H$14 <> \"\", Foglio1!$H$14 + O765*10^-3, NA())","v":{"$error":"#N/A"}},6832,8.8293727354684055,{"$f":" IF(Foglio1!$C$15 <> \"\", 8.314472*Foglio1!$C$15*Foglio2!R765, NA())","v":{"$error":"#N/A"}},{"$f":"IF(Foglio1!$H$15 <> \"\", Foglio1!$H$15 + S765*10^-3, NA())","v":{"$error":"#N/A"}}]
[6841,8.8306891987609983,{"$f":" IF(Foglio1!$C$11 <> \"\", 8.314472*Foglio1!$C$11*Foglio2!B766, NA())","v":22026.755425140229},{"$f":"IF(Foglio1!$H$11 <> \"\", Foglio1!$H$11 + C766*10^-3, NA())","v":-67.973244574859763},6841,8.8306891987609983,{"$f":" IF(Foglio1!$C$12 <> \"\", 8.314472*Foglio1!$C$12*Foglio2!F766, NA())","v":{"$error":"#N/A"}},{"$f":"IF(Foglio1!$H$12 <> \"\", Foglio1!$H$12 + G766*10^-3, NA())","v":{"$error":"#N/A"}},6841,8.8306891987609983,{"$f":" IF(Foglio1!$C$13 <> \"\", 8.314472*Foglio1!$C$13*Foglio2!J766, NA())","v":{"$error":"#N/A"}},{"$f":"IF(Foglio1!$H$13 <> \"\", Foglio1!$H$13 + K766*10^-3, NA())","v":{"$error":"#N/A"}},6841,8.8306891987609983,{"$f":" IF(Foglio1!$C$14 <> \"\", 8.314472*Foglio1!$C$14*Foglio2!N766, NA())","v":{"$error":"#N/A"}},{"$f":"IF(Foglio1!$H$14 <> \"\", Foglio1!$H$14 + O766*10^-3, NA())","v":{"$error":"#N/A"}},6841,8.8306891987609983,{"$f":" IF(Foglio1!$C$15 <> \"\", 8.314472*Foglio1!$C$15*Foglio2!R766, NA())","v":{"$error":"#N/A"}},{"$f":"IF(Foglio1!$H$15 <> \"\", Foglio1!$H$15 + S766*10^-3, NA())","v":{"$error":"#N/A"}}]
[6850,8.8320039312562706,{"$f":" IF(Foglio1!$C$11 <> \"\", 8.314472*Foglio1!$C$11*Foglio2!B767, NA())","v":22030.034817096057},{"$f":"IF(Foglio1!$H$11 <> \"\", Foglio1!$H$11 + C767*10^-3, NA())","v":-67.969965182903934},6850,8.8320039312562706,{"$f":" IF(Foglio1!$C$12 <> \"\", 8.314472*Foglio1!$C$12*Foglio2!F767, NA())","v":{"$error":"#N/A"}},{"$f":"IF(Foglio1!$H$12 <> \"\", Foglio1!$H$12 + G767*10^-3, NA())","v":{"$error":"#N/A"}},6850,8.8320039312562706,{"$f":" IF(Foglio1!$C$13 <> \"\", 8.314472*Foglio1!$C$13*Foglio2!J767, NA())","v":{"$error":"#N/A"}},{"$f":"IF(Foglio1!$H$13 <> \"\", Foglio1!$H$13 + K767*10^-3, NA())","v":{"$error":"#N/A"}},6850,8.8320039312562706,{"$f":" IF(Foglio1!$C$14 <> \"\", 8.314472*Foglio1!$C$14*Foglio2!N767, NA())","v":{"$error":"#N/A"}},{"$f":"IF(Foglio1!$H$14 <> \"\", Foglio1!$H$14 + O767*10^-3, NA())","v":{"$error":"#N/A"}},6850,8.8320039312562706,{"$f":" IF(Foglio1!$C$15 <> \"\", 8.314472*Foglio1!$C$15*Foglio2!R767, NA())","v":{"$error":"#N/A"}},{"$f":"IF(Foglio1!$H$15 <> \"\", Foglio1!$H$15 + S767*10^-3, NA())","v":{"$error":"#N/A"}}]
[6859,8.8333169374993208,{"$f":" IF(Foglio1!$C$11 <> \"\", 8.314472*Foglio1!$C$11*Foglio2!B768, NA())","v":22033.309903189158},{"$f":"IF(Foglio1!$H$11 <> \"\", Foglio1!$H$11 + C768*10^-3, NA())","v":-67.966690096810837},6859,8.8333169374993208,{"$f":" IF(Foglio1!$C$12 <> \"\", 8.314472*Foglio1!$C$12*Foglio2!F768, NA())","v":{"$error":"#N/A"}},{"$f":"IF(Foglio1!$H$12 <> \"\", Foglio1!$H$12 + G768*10^-3, NA())","v":{"$error":"#N/A"}},6859,8.8333169374993208,{"$f":" IF(Foglio1!$C$13 <> \"\", 8.314472*Foglio1!$C$13*Foglio2!J768, NA())","v":{"$error":"#N/A"}},{"$f":"IF(Foglio1!$H$13 <> \"\", Foglio1!$H$13 + K768*10^-3, NA())","v":{"$error":"#N/A"}},6859,8.8333169374993208,{"$f":" IF(Foglio1!$C$14 <> \"\", 8.314472*Foglio1!$C$14*Foglio2!N768, NA())","v":{"$error":"#N/A"}},{"$f":"IF(Foglio1!$H$14 <> \"\", Foglio1!$H$14 + O768*10^-3, NA())","v":{"$error":"#N/A"}},6859,8.8333169374993208,{"$f":" IF(Foglio1!$C$15 <> \"\", 8.314472*Foglio1!$C$15*Foglio2!R768, NA())","v":{"$error":"#N/A"}},{"$f":"IF(Foglio1!$H$15 <> \"\", Foglio1!$H$15 + S768*10^-3, NA())","v":{"$error":"#N/A"}}]
[6868,8.8346282220173666,{"$f":" IF(Foglio1!$C$11 <> \"\", 8.314472*Foglio1!$C$11*Foglio2!B769, NA())","v":22036.580694711956},{"$f":"IF(Foglio1!$H$11 <> \"\", Foglio1!$H$11 + C769*10^-3, NA())","v":-67.963419305288042},6868,8.8346282220173666,{"$f":" IF(Foglio1!$C$12 <> \"\", 8.314472*Foglio1!$C$12*Foglio2!F769, NA())","v":{"$error":"#N/A"}},{"$f":"IF(Foglio1!$H$12 <> \"\", Foglio1!$H$12 + G769*10^-3, NA())","v":{"$error":"#N/A"}},6868,8.8346282220173666,{"$f":" IF(Foglio1!$C$13 <> \"\", 8.314472*Foglio1!$C$13*Foglio2!J769, NA())","v":{"$error":"#N/A"}},{"$f":"IF(Foglio1!$H$13 <> \"\", Foglio1!$H$13 + K769*10^-3, NA())","v":{"$error":"#N/A"}},6868,8.8346282220173666,{"$f":" IF(Foglio1!$C$14 <> \"\", 8.314472*Foglio1!$C$14*Foglio2!N769, NA())","v":{"$error":"#N/A"}},{"$f":"IF(Foglio1!$H$14 <> \"\", Foglio1!$H$14 + O769*10^-3, NA())","v":{"$error":"#N/A"}},6868,8.8346282220173666,{"$f":" IF(Foglio1!$C$15 <> \"\", 8.314472*Foglio1!$C$15*Foglio2!R769, NA())","v":{"$error":"#N/A"}},{"$f":"IF(Foglio1!$H$15 <> \"\", Foglio1!$H$15 + S769*10^-3, NA())","v":{"$error":"#N/A"}}]
[6877,8.8359377893198356,{"$f":" IF(Foglio1!$C$11 <> \"\", 8.314472*Foglio1!$C$11*Foglio2!B770, NA())","v":22039.847202912504},{"$f":"IF(Foglio1!$H$11 <> \"\", Foglio1!$H$11 + C770*10^-3, NA())","v":-67.960152797087488},6877,8.8359377893198356,{"$f":" IF(Foglio1!$C$12 <> \"\", 8.314472*Foglio1!$C$12*Foglio2!F770, NA())","v":{"$error":"#N/A"}},{"$f":"IF(Foglio1!$H$12 <> \"\", Foglio1!$H$12 + G770*10^-3, NA())","v":{"$error":"#N/A"}},6877,8.8359377893198356,{"$f":" IF(Foglio1!$C$13 <> \"\", 8.314472*Foglio1!$C$13*Foglio2!J770, NA())","v":{"$error":"#N/A"}},{"$f":"IF(Foglio1!$H$13 <> \"\", Foglio1!$H$13 + K770*10^-3, NA())","v":{"$error":"#N/A"}},6877,8.8359377893198356,{"$f":" IF(Foglio1!$C$14 <> \"\", 8.314472*Foglio1!$C$14*Foglio2!N770, NA())","v":{"$error":"#N/A"}},{"$f":"IF(Foglio1!$H$14 <> \"\", Foglio1!$H$14 + O770*10^-3, NA())","v":{"$error":"#N/A"}},6877,8.8359377893198356,{"$f":" IF(Foglio1!$C$15 <> \"\", 8.314472*Foglio1!$C$15*Foglio2!R770, NA())","v":{"$error":"#N/A"}},{"$f":"IF(Foglio1!$H$15 <> \"\", Foglio1!$H$15 + S770*10^-3, NA())","v":{"$error":"#N/A"}}]
[6886,{"$f":"LN(A771)","v":8.8372456438984699},{"$f":" IF(Foglio1!$C$11 <> \"\", 8.314472*Foglio1!$C$11*Foglio2!B771, NA())","v":22043.109438994743},{"$f":"IF(Foglio1!$H$11 <> \"\", Foglio1!$H$11 + C771*10^-3, NA())","v":-67.956890561005252},6886,{"$f":"LN(E771)","v":8.8372456438984699},{"$f":" IF(Foglio1!$C$12 <> \"\", 8.314472*Foglio1!$C$12*Foglio2!F771, NA())","v":{"$error":"#N/A"}},{"$f":"IF(Foglio1!$H$12 <> \"\", Foglio1!$H$12 + G771*10^-3, NA())","v":{"$error":"#N/A"}},6886,{"$f":"LN(I771)","v":8.8372456438984699},{"$f":" IF(Foglio1!$C$13 <> \"\", 8.314472*Foglio1!$C$13*Foglio2!J771, NA())","v":{"$error":"#N/A"}},{"$f":"IF(Foglio1!$H$13 <> \"\", Foglio1!$H$13 + K771*10^-3, NA())","v":{"$error":"#N/A"}},6886,{"$f":"LN(M771)","v":8.8372456438984699},{"$f":" IF(Foglio1!$C$14 <> \"\", 8.314472*Foglio1!$C$14*Foglio2!N771, NA())","v":{"$error":"#N/A"}},{"$f":"IF(Foglio1!$H$14 <> \"\", Foglio1!$H$14 + O771*10^-3, NA())","v":{"$error":"#N/A"}},6886,{"$f":"LN(Q771)","v":8.8372456438984699},{"$f":" IF(Foglio1!$C$15 <> \"\", 8.314472*Foglio1!$C$15*Foglio2!R771, NA())","v":{"$error":"#N/A"}},{"$f":"IF(Foglio1!$H$15 <> \"\", Foglio1!$H$15 + S771*10^-3, NA())","v":{"$error":"#N/A"}}]
[6895,8.8385517902274024,{"$f":" IF(Foglio1!$C$11 <> \"\", 8.314472*Foglio1!$C$11*Foglio2!B772, NA())","v":22046.367414118686},{"$f":"IF(Foglio1!$H$11 <> \"\", Foglio1!$H$11 + C772*10^-3, NA())","v":-67.953632585881309},6895,8.8385517902274024,{"$f":" IF(Foglio1!$C$12 <> \"\", 8.314472*Foglio1!$C$12*Foglio2!F772, NA())","v":{"$error":"#N/A"}},{"$f":"IF(Foglio1!$H$12 <> \"\", Foglio1!$H$12 + G772*10^-3, NA())","v":{"$error":"#N/A"}},6895,8.8385517902274024,{"$f":" IF(Foglio1!$C$13 <> \"\", 8.314472*Foglio1!$C$13*Foglio2!J772, NA())","v":{"$error":"#N/A"}},{"$f":"IF(Foglio1!$H$13 <> \"\", Foglio1!$H$13 + K772*10^-3, NA())","v":{"$error":"#N/A"}},6895,8.8385517902274024,{"$f":" IF(Foglio1!$C$14 <> \"\", 8.314472*Foglio1!$C$14*Foglio2!N772, NA())","v":{"$error":"#N/A"}},{"$f":"IF(Foglio1!$H$14 <> \"\", Foglio1!$H$14 + O772*10^-3, NA())","v":{"$error":"#N/A"}},6895,8.8385517902274024,{"$f":" IF(Foglio1!$C$15 <> \"\", 8.314472*Foglio1!$C$15*Foglio2!R772, NA())","v":{"$error":"#N/A"}},{"$f":"IF(Foglio1!$H$15 <> \"\", Foglio1!$H$15 + S772*10^-3, NA())","v":{"$error":"#N/A"}}]
[6904,8.8398562327632639,{"$f":" IF(Foglio1!$C$11 <> \"\", 8.314472*Foglio1!$C$11*Foglio2!B773, NA())","v":22049.621139400693},{"$f":"IF(Foglio1!$H$11 <> \"\", Foglio1!$H$11 + C773*10^-3, NA())","v":-67.950378860599301},6904,8.8398562327632639,{"$f":" IF(Foglio1!$C$12 <> \"\", 8.314472*Foglio1!$C$12*Foglio2!F773, NA())","v":{"$error":"#N/A"}},{"$f":"IF(Foglio1!$H$12 <> \"\", Foglio1!$H$12 + G773*10^-3, NA())","v":{"$error":"#N/A"}},6904,8.8398562327632639,{"$f":" IF(Foglio1!$C$13 <> \"\", 8.314472*Foglio1!$C$13*Foglio2!J773, NA())","v":{"$error":"#N/A"}},{"$f":"IF(Foglio1!$H$13 <> \"\", Foglio1!$H$13 + K773*10^-3, NA())","v":{"$error":"#N/A"}},6904,8.8398562327632639,{"$f":" IF(Foglio1!$C$14 <> \"\", 8.314472*Foglio1!$C$14*Foglio2!N773, NA())","v":{"$error":"#N/A"}},{"$f":"IF(Foglio1!$H$14 <> \"\", Foglio1!$H$14 + O773*10^-3, NA())","v":{"$error":"#N/A"}},6904,8.8398562327632639,{"$f":" IF(Foglio1!$C$15 <> \"\", 8.314472*Foglio1!$C$15*Foglio2!R773, NA())","v":{"$error":"#N/A"}},{"$f":"IF(Foglio1!$H$15 <> \"\", Foglio1!$H$15 + S773*10^-3, NA())","v":{"$error":"#N/A"}}]
[6913,8.8411589759452642,{"$f":" IF(Foglio1!$C$11 <> \"\", 8.314472*Foglio1!$C$11*Foglio2!B774, NA())","v":22052.870625913674},{"$f":"IF(Foglio1!$H$11 <> \"\", Foglio1!$H$11 + C774*10^-3, NA())","v":-67.94712937408633},6913,8.8411589759452642,{"$f":" IF(Foglio1!$C$12 <> \"\", 8.314472*Foglio1!$C$12*Foglio2!F774, NA())","v":{"$error":"#N/A"}},{"$f":"IF(Foglio1!$H$12 <> \"\", Foglio1!$H$12 + G774*10^-3, NA())","v":{"$error":"#N/A"}},6913,8.8411589759452642,{"$f":" IF(Foglio1!$C$13 <> \"\", 8.314472*Foglio1!$C$13*Foglio2!J774, NA())","v":{"$error":"#N/A"}},{"$f":"IF(Foglio1!$H$13 <> \"\", Foglio1!$H$13 + K774*10^-3, NA())","v":{"$error":"#N/A"}},6913,8.8411589759452642,{"$f":" IF(Foglio1!$C$14 <> \"\", 8.314472*Foglio1!$C$14*Foglio2!N774, NA())","v":{"$error":"#N/A"}},{"$f":"IF(Foglio1!$H$14 <> \"\", Foglio1!$H$14 + O774*10^-3, NA())","v":{"$error":"#N/A"}},6913,8.8411589759452642,{"$f":" IF(Foglio1!$C$15 <> \"\", 8.314472*Foglio1!$C$15*Foglio2!R774, NA())","v":{"$error":"#N/A"}},{"$f":"IF(Foglio1!$H$15 <> \"\", Foglio1!$H$15 + S774*10^-3, NA())","v":{"$error":"#N/A"}}]
[6922,8.8424600241952902,{"$f":" IF(Foglio1!$C$11 <> \"\", 8.314472*Foglio1!$C$11*Foglio2!B775, NA())","v":22056.115884687322},{"$f":"IF(Foglio1!$H$11 <> \"\", Foglio1!$H$11 + C775*10^-3, NA())","v":-67.94388411531267},6922,8.8424600241952902,{"$f":" IF(Foglio1!$C$12 <> \"\", 8.314472*Foglio1!$C$12*Foglio2!F775, NA())","v":{"$error":"#N/A"}},{"$f":"IF(Foglio1!$H$12 <> \"\", Foglio1!$H$12 + G775*10^-3, NA())","v":{"$error":"#N/A"}},6922,8.8424600241952902,{"$f":" IF(Foglio1!$C$13 <> \"\", 8.314472*Foglio1!$C$13*Foglio2!J775, NA())","v":{"$error":"#N/A"}},{"$f":"IF(Foglio1!$H$13 <> \"\", Foglio1!$H$13 + K775*10^-3, NA())","v":{"$error":"#N/A"}},6922,8.8424600241952902,{"$f":" IF(Foglio1!$C$14 <> \"\", 8.314472*Foglio1!$C$14*Foglio2!N775, NA())","v":{"$error":"#N/A"}},{"$f":"IF(Foglio1!$H$14 <> \"\", Foglio1!$H$14 + O775*10^-3, NA())","v":{"$error":"#N/A"}},6922,8.8424600241952902,{"$f":" IF(Foglio1!$C$15 <> \"\", 8.314472*Foglio1!$C$15*Foglio2!R775, NA())","v":{"$error":"#N/A"}},{"$f":"IF(Foglio1!$H$15 <> \"\", Foglio1!$H$15 + S775*10^-3, NA())","v":{"$error":"#N/A"}}]
[6931,8.8437593819179838,{"$f":" IF(Foglio1!$C$11 <> \"\", 8.314472*Foglio1!$C$11*Foglio2!B776, NA())","v":22059.356926708315},{"$f":"IF(Foglio1!$H$11 <> \"\", Foglio1!$H$11 + C776*10^-3, NA())","v":-67.940643073291682},6931,8.8437593819179838,{"$f":" IF(Foglio1!$C$12 <> \"\", 8.314472*Foglio1!$C$12*Foglio2!F776, NA())","v":{"$error":"#N/A"}},{"$f":"IF(Foglio1!$H$12 <> \"\", Foglio1!$H$12 + G776*10^-3, NA())","v":{"$error":"#N/A"}},6931,8.8437593819179838,{"$f":" IF(Foglio1!$C$13 <> \"\", 8.314472*Foglio1!$C$13*Foglio2!J776, NA())","v":{"$error":"#N/A"}},{"$f":"IF(Foglio1!$H$13 <> \"\", Foglio1!$H$13 + K776*10^-3, NA())","v":{"$error":"#N/A"}},6931,8.8437593819179838,{"$f":" IF(Foglio1!$C$14 <> \"\", 8.314472*Foglio1!$C$14*Foglio2!N776, NA())","v":{"$error":"#N/A"}},{"$f":"IF(Foglio1!$H$14 <> \"\", Foglio1!$H$14 + O776*10^-3, NA())","v":{"$error":"#N/A"}},6931,8.8437593819179838,{"$f":" IF(Foglio1!$C$15 <> \"\", 8.314472*Foglio1!$C$15*Foglio2!R776, NA())","v":{"$error":"#N/A"}},{"$f":"IF(Foglio1!$H$15 <> \"\", Foglio1!$H$15 + S776*10^-3, NA())","v":{"$error":"#N/A"}}]
[6940,8.8450570535008506,{"$f":" IF(Foglio1!$C$11 <> \"\", 8.314472*Foglio1!$C$11*Foglio2!B777, NA())","v":22062.593762920598},{"$f":"IF(Foglio1!$H$11 <> \"\", Foglio1!$H$11 + C777*10^-3, NA())","v":-67.937406237079401},6940,8.8450570535008506,{"$f":" IF(Foglio1!$C$12 <> \"\", 8.314472*Foglio1!$C$12*Foglio2!F777, NA())","v":{"$error":"#N/A"}},{"$f":"IF(Foglio1!$H$12 <> \"\", Foglio1!$H$12 + G777*10^-3, NA())","v":{"$error":"#N/A"}},6940,8.8450570535008506,{"$f":" IF(Foglio1!$C$13 <> \"\", 8.314472*Foglio1!$C$13*Foglio2!J777, NA())","v":{"$error":"#N/A"}},{"$f":"IF(Foglio1!$H$13 <> \"\", Foglio1!$H$13 + K777*10^-3, NA())","v":{"$error":"#N/A"}},6940,8.8450570535008506,{"$f":" IF(Foglio1!$C$14 <> \"\", 8.314472*Foglio1!$C$14*Foglio2!N777, NA())","v":{"$error":"#N/A"}},{"$f":"IF(Foglio1!$H$14 <> \"\", Foglio1!$H$14 + O777*10^-3, NA())","v":{"$error":"#N/A"}},6940,8.8450570535008506,{"$f":" IF(Foglio1!$C$15 <> \"\", 8.314472*Foglio1!$C$15*Foglio2!R777, NA())","v":{"$error":"#N/A"}},{"$f":"IF(Foglio1!$H$15 <> \"\", Foglio1!$H$15 + S777*10^-3, NA())","v":{"$error":"#N/A"}}]
[6949,8.8463530433143269,{"$f":" IF(Foglio1!$C$11 <> \"\", 8.314472*Foglio1!$C$11*Foglio2!B778, NA())","v":22065.826404225529},{"$f":"IF(Foglio1!$H$11 <> \"\", Foglio1!$H$11 + C778*10^-3, NA())","v":-67.934173595774467},6949,8.8463530433143269,{"$f":" IF(Foglio1!$C$12 <> \"\", 8.314472*Foglio1!$C$12*Foglio2!F778, NA())","v":{"$error":"#N/A"}},{"$f":"IF(Foglio1!$H$12 <> \"\", Foglio1!$H$12 + G778*10^-3, NA())","v":{"$error":"#N/A"}},6949,8.8463530433143269,{"$f":" IF(Foglio1!$C$13 <> \"\", 8.314472*Foglio1!$C$13*Foglio2!J778, NA())","v":{"$error":"#N/A"}},{"$f":"IF(Foglio1!$H$13 <> \"\", Foglio1!$H$13 + K778*10^-3, NA())","v":{"$error":"#N/A"}},6949,8.8463530433143269,{"$f":" IF(Foglio1!$C$14 <> \"\", 8.314472*Foglio1!$C$14*Foglio2!N778, NA())","v":{"$error":"#N/A"}},{"$f":"IF(Foglio1!$H$14 <> \"\", Foglio1!$H$14 + O778*10^-3, NA())","v":{"$error":"#N/A"}},6949,8.8463530433143269,{"$f":" IF(Foglio1!$C$15 <> \"\", 8.314472*Foglio1!$C$15*Foglio2!R778, NA())","v":{"$error":"#N/A"}},{"$f":"IF(Foglio1!$H$15 <> \"\", Foglio1!$H$15 + S778*10^-3, NA())","v":{"$error":"#N/A"}}]
[6958,8.8476473557118869,{"$f":" IF(Foglio1!$C$11 <> \"\", 8.314472*Foglio1!$C$11*Foglio2!B779, NA())","v":22069.05486148216},{"$f":"IF(Foglio1!$H$11 <> \"\", Foglio1!$H$11 + C779*10^-3, NA())","v":-67.930945138517842},6958,8.8476473557118869,{"$f":" IF(Foglio1!$C$12 <> \"\", 8.314472*Foglio1!$C$12*Foglio2!F779, NA())","v":{"$error":"#N/A"}},{"$f":"IF(Foglio1!$H$12 <> \"\", Foglio1!$H$12 + G779*10^-3, NA())","v":{"$error":"#N/A"}},6958,8.8476473557118869,{"$f":" IF(Foglio1!$C$13 <> \"\", 8.314472*Foglio1!$C$13*Foglio2!J779, NA())","v":{"$error":"#N/A"}},{"$f":"IF(Foglio1!$H$13 <> \"\", Foglio1!$H$13 + K779*10^-3, NA())","v":{"$error":"#N/A"}},6958,8.8476473557118869,{"$f":" IF(Foglio1!$C$14 <> \"\", 8.314472*Foglio1!$C$14*Foglio2!N779, NA())","v":{"$error":"#N/A"}},{"$f":"IF(Foglio1!$H$14 <> \"\", Foglio1!$H$14 + O779*10^-3, NA())","v":{"$error":"#N/A"}},6958,8.8476473557118869,{"$f":" IF(Foglio1!$C$15 <> \"\", 8.314472*Foglio1!$C$15*Foglio2!R779, NA())","v":{"$error":"#N/A"}},{"$f":"IF(Foglio1!$H$15 <> \"\", Foglio1!$H$15 + S779*10^-3, NA())","v":{"$error":"#N/A"}}]
[6967,8.8489399950301184,{"$f":" IF(Foglio1!$C$11 <> \"\", 8.314472*Foglio1!$C$11*Foglio2!B780, NA())","v":22072.279145507418},{"$f":"IF(Foglio1!$H$11 <> \"\", Foglio1!$H$11 + C780*10^-3, NA())","v":-67.927720854492577},6967,8.8489399950301184,{"$f":" IF(Foglio1!$C$12 <> \"\", 8.314472*Foglio1!$C$12*Foglio2!F780, NA())","v":{"$error":"#N/A"}},{"$f":"IF(Foglio1!$H$12 <> \"\", Foglio1!$H$12 + G780*10^-3, NA())","v":{"$error":"#N/A"}},6967,8.8489399950301184,{"$f":" IF(Foglio1!$C$13 <> \"\", 8.314472*Foglio1!$C$13*Foglio2!J780, NA())","v":{"$error":"#N/A"}},{"$f":"IF(Foglio1!$H$13 <> \"\", Foglio1!$H$13 + K780*10^-3, NA())","v":{"$error":"#N/A"}},6967,8.8489399950301184,{"$f":" IF(Foglio1!$C$14 <> \"\", 8.314472*Foglio1!$C$14*Foglio2!N780, NA())","v":{"$error":"#N/A"}},{"$f":"IF(Foglio1!$H$14 <> \"\", Foglio1!$H$14 + O780*10^-3, NA())","v":{"$error":"#N/A"}},6967,8.8489399950301184,{"$f":" IF(Foglio1!$C$15 <> \"\", 8.314472*Foglio1!$C$15*Foglio2!R780, NA())","v":{"$error":"#N/A"}},{"$f":"IF(Foglio1!$H$15 <> \"\", Foglio1!$H$15 + S780*10^-3, NA())","v":{"$error":"#N/A"}}]
[6976,8.8502309655888158,{"$f":" IF(Foglio1!$C$11 <> \"\", 8.314472*Foglio1!$C$11*Foglio2!B781, NA())","v":22075.499267076353},{"$f":"IF(Foglio1!$H$11 <> \"\", Foglio1!$H$11 + C781*10^-3, NA())","v":-67.924500732923647},6976,8.8502309655888158,{"$f":" IF(Foglio1!$C$12 <> \"\", 8.314472*Foglio1!$C$12*Foglio2!F781, NA())","v":{"$error":"#N/A"}},{"$f":"IF(Foglio1!$H$12 <> \"\", Foglio1!$H$12 + G781*10^-3, NA())","v":{"$error":"#N/A"}},6976,8.8502309655888158,{"$f":" IF(Foglio1!$C$13 <> \"\", 8.314472*Foglio1!$C$13*Foglio2!J781, NA())","v":{"$error":"#N/A"}},{"$f":"IF(Foglio1!$H$13 <> \"\", Foglio1!$H$13 + K781*10^-3, NA())","v":{"$error":"#N/A"}},6976,8.8502309655888158,{"$f":" IF(Foglio1!$C$14 <> \"\", 8.314472*Foglio1!$C$14*Foglio2!N781, NA())","v":{"$error":"#N/A"}},{"$f":"IF(Foglio1!$H$14 <> \"\", Foglio1!$H$14 + O781*10^-3, NA())","v":{"$error":"#N/A"}},6976,8.8502309655888158,{"$f":" IF(Foglio1!$C$15 <> \"\", 8.314472*Foglio1!$C$15*Foglio2!R781, NA())","v":{"$error":"#N/A"}},{"$f":"IF(Foglio1!$H$15 <> \"\", Foglio1!$H$15 + S781*10^-3, NA())","v":{"$error":"#N/A"}}]
[6985,8.8515202716910615,{"$f":" IF(Foglio1!$C$11 <> \"\", 8.314472*Foglio1!$C$11*Foglio2!B782, NA())","v":22078.715236922319},{"$f":"IF(Foglio1!$H$11 <> \"\", Foglio1!$H$11 + C782*10^-3, NA())","v":-67.921284763077679},6985,8.8515202716910615,{"$f":" IF(Foglio1!$C$12 <> \"\", 8.314472*Foglio1!$C$12*Foglio2!F782, NA())","v":{"$error":"#N/A"}},{"$f":"IF(Foglio1!$H$12 <> \"\", Foglio1!$H$12 + G782*10^-3, NA())","v":{"$error":"#N/A"}},6985,8.8515202716910615,{"$f":" IF(Foglio1!$C$13 <> \"\", 8.314472*Foglio1!$C$13*Foglio2!J782, NA())","v":{"$error":"#N/A"}},{"$f":"IF(Foglio1!$H$13 <> \"\", Foglio1!$H$13 + K782*10^-3, NA())","v":{"$error":"#N/A"}},6985,8.8515202716910615,{"$f":" IF(Foglio1!$C$14 <> \"\", 8.314472*Foglio1!$C$14*Foglio2!N782, NA())","v":{"$error":"#N/A"}},{"$f":"IF(Foglio1!$H$14 <> \"\", Foglio1!$H$14 + O782*10^-3, NA())","v":{"$error":"#N/A"}},6985,8.8515202716910615,{"$f":" IF(Foglio1!$C$15 <> \"\", 8.314472*Foglio1!$C$15*Foglio2!R782, NA())","v":{"$error":"#N/A"}},{"$f":"IF(Foglio1!$H$15 <> \"\", Foglio1!$H$15 + S782*10^-3, NA())","v":{"$error":"#N/A"}}]
[6994,8.8528079176233216,{"$f":" IF(Foglio1!$C$11 <> \"\", 8.314472*Foglio1!$C$11*Foglio2!B783, NA())","v":22081.927065737225},{"$f":"IF(Foglio1!$H$11 <> \"\", Foglio1!$H$11 + C783*10^-3, NA())","v":-67.918072934262767},6994,8.8528079176233216,{"$f":" IF(Foglio1!$C$12 <> \"\", 8.314472*Foglio1!$C$12*Foglio2!F783, NA())","v":{"$error":"#N/A"}},{"$f":"IF(Foglio1!$H$12 <> \"\", Foglio1!$H$12 + G783*10^-3, NA())","v":{"$error":"#N/A"}},6994,8.8528079176233216,{"$f":" IF(Foglio1!$C$13 <> \"\", 8.314472*Foglio1!$C$13*Foglio2!J783, NA())","v":{"$error":"#N/A"}},{"$f":"IF(Foglio1!$H$13 <> \"\", Foglio1!$H$13 + K783*10^-3, NA())","v":{"$error":"#N/A"}},6994,8.8528079176233216,{"$f":" IF(Foglio1!$C$14 <> \"\", 8.314472*Foglio1!$C$14*Foglio2!N783, NA())","v":{"$error":"#N/A"}},{"$f":"IF(Foglio1!$H$14 <> \"\", Foglio1!$H$14 + O783*10^-3, NA())","v":{"$error":"#N/A"}},6994,8.8528079176233216,{"$f":" IF(Foglio1!$C$15 <> \"\", 8.314472*Foglio1!$C$15*Foglio2!R783, NA())","v":{"$error":"#N/A"}},{"$f":"IF(Foglio1!$H$15 <> \"\", Foglio1!$H$15 + S783*10^-3, NA())","v":{"$error":"#N/A"}}]
[7003,8.8540939076555176,{"$f":" IF(Foglio1!$C$11 <> \"\", 8.314472*Foglio1!$C$11*Foglio2!B784, NA())","v":22085.134764171718},{"$f":"IF(Foglio1!$H$11 <> \"\", Foglio1!$H$11 + C784*10^-3, NA())","v":-67.914865235828273},7003,8.8540939076555176,{"$f":" IF(Foglio1!$C$12 <> \"\", 8.314472*Foglio1!$C$12*Foglio2!F784, NA())","v":{"$error":"#N/A"}},{"$f":"IF(Foglio1!$H$12 <> \"\", Foglio1!$H$12 + G784*10^-3, NA())","v":{"$error":"#N/A"}},7003,8.8540939076555176,{"$f":" IF(Foglio1!$C$13 <> \"\", 8.314472*Foglio1!$C$13*Foglio2!J784, NA())","v":{"$error":"#N/A"}},{"$f":"IF(Foglio1!$H$13 <> \"\", Foglio1!$H$13 + K784*10^-3, NA())","v":{"$error":"#N/A"}},7003,8.8540939076555176,{"$f":" IF(Foglio1!$C$14 <> \"\", 8.314472*Foglio1!$C$14*Foglio2!N784, NA())","v":{"$error":"#N/A"}},{"$f":"IF(Foglio1!$H$14 <> \"\", Foglio1!$H$14 + O784*10^-3, NA())","v":{"$error":"#N/A"}},7003,8.8540939076555176,{"$f":" IF(Foglio1!$C$15 <> \"\", 8.314472*Foglio1!$C$15*Foglio2!R784, NA())","v":{"$error":"#N/A"}},{"$f":"IF(Foglio1!$H$15 <> \"\", Foglio1!$H$15 + S784*10^-3, NA())","v":{"$error":"#N/A"}}]
[7012,8.8553782460411252,{"$f":" IF(Foglio1!$C$11 <> \"\", 8.314472*Foglio1!$C$11*Foglio2!B785, NA())","v":22088.338342835417},{"$f":"IF(Foglio1!$H$11 <> \"\", Foglio1!$H$11 + C785*10^-3, NA())","v":-67.911661657164586},7012,8.8553782460411252,{"$f":" IF(Foglio1!$C$12 <> \"\", 8.314472*Foglio1!$C$12*Foglio2!F785, NA())","v":{"$error":"#N/A"}},{"$f":"IF(Foglio1!$H$12 <> \"\", Foglio1!$H$12 + G785*10^-3, NA())","v":{"$error":"#N/A"}},7012,8.8553782460411252,{"$f":" IF(Foglio1!$C$13 <> \"\", 8.314472*Foglio1!$C$13*Foglio2!J785, NA())","v":{"$error":"#N/A"}},{"$f":"IF(Foglio1!$H$13 <> \"\", Foglio1!$H$13 + K785*10^-3, NA())","v":{"$error":"#N/A"}},7012,8.8553782460411252,{"$f":" IF(Foglio1!$C$14 <> \"\", 8.314472*Foglio1!$C$14*Foglio2!N785, NA())","v":{"$error":"#N/A"}},{"$f":"IF(Foglio1!$H$14 <> \"\", Foglio1!$H$14 + O785*10^-3, NA())","v":{"$error":"#N/A"}},7012,8.8553782460411252,{"$f":" IF(Foglio1!$C$15 <> \"\", 8.314472*Foglio1!$C$15*Foglio2!R785, NA())","v":{"$error":"#N/A"}},{"$f":"IF(Foglio1!$H$15 <> \"\", Foglio1!$H$15 + S785*10^-3, NA())","v":{"$error":"#N/A"}}]
[7021,8.8566609370172493,{"$f":" IF(Foglio1!$C$11 <> \"\", 8.314472*Foglio1!$C$11*Foglio2!B786, NA())","v":22091.537812297105},{"$f":"IF(Foglio1!$H$11 <> \"\", Foglio1!$H$11 + C786*10^-3, NA())","v":-67.908462187702895},7021,8.8566609370172493,{"$f":" IF(Foglio1!$C$12 <> \"\", 8.314472*Foglio1!$C$12*Foglio2!F786, NA())","v":{"$error":"#N/A"}},{"$f":"IF(Foglio1!$H$12 <> \"\", Foglio1!$H$12 + G786*10^-3, NA())","v":{"$error":"#N/A"}},7021,8.8566609370172493,{"$f":" IF(Foglio1!$C$13 <> \"\", 8.314472*Foglio1!$C$13*Foglio2!J786, NA())","v":{"$error":"#N/A"}},{"$f":"IF(Foglio1!$H$13 <> \"\", Foglio1!$H$13 + K786*10^-3, NA())","v":{"$error":"#N/A"}},7021,8.8566609370172493,{"$f":" IF(Foglio1!$C$14 <> \"\", 8.314472*Foglio1!$C$14*Foglio2!N786, NA())","v":{"$error":"#N/A"}},{"$f":"IF(Foglio1!$H$14 <> \"\", Foglio1!$H$14 + O786*10^-3, NA())","v":{"$error":"#N/A"}},7021,8.8566609370172493,{"$f":" IF(Foglio1!$C$15 <> \"\", 8.314472*Foglio1!$C$15*Foglio2!R786, NA())","v":{"$error":"#N/A"}},{"$f":"IF(Foglio1!$H$15 <> \"\", Foglio1!$H$15 + S786*10^-3, NA())","v":{"$error":"#N/A"}}]
[7030,8.857941984804711,{"$f":" IF(Foglio1!$C$11 <> \"\", 8.314472*Foglio1!$C$11*Foglio2!B787, NA())","v":22094.733183084962},{"$f":"IF(Foglio1!$H$11 <> \"\", Foglio1!$H$11 + C787*10^-3, NA())","v":-67.905266816915031},7030,8.857941984804711,{"$f":" IF(Foglio1!$C$12 <> \"\", 8.314472*Foglio1!$C$12*Foglio2!F787, NA())","v":{"$error":"#N/A"}},{"$f":"IF(Foglio1!$H$12 <> \"\", Foglio1!$H$12 + G787*10^-3, NA())","v":{"$error":"#N/A"}},7030,8.857941984804711,{"$f":" IF(Foglio1!$C$13 <> \"\", 8.314472*Foglio1!$C$13*Foglio2!J787, NA())","v":{"$error":"#N/A"}},{"$f":"IF(Foglio1!$H$13 <> \"\", Foglio1!$H$13 + K787*10^-3, NA())","v":{"$error":"#N/A"}},7030,8.857941984804711,{"$f":" IF(Foglio1!$C$14 <> \"\", 8.314472*Foglio1!$C$14*Foglio2!N787, NA())","v":{"$error":"#N/A"}},{"$f":"IF(Foglio1!$H$14 <> \"\", Foglio1!$H$14 + O787*10^-3, NA())","v":{"$error":"#N/A"}},7030,8.857941984804711,{"$f":" IF(Foglio1!$C$15 <> \"\", 8.314472*Foglio1!$C$15*Foglio2!R787, NA())","v":{"$error":"#N/A"}},{"$f":"IF(Foglio1!$H$15 <> \"\", Foglio1!$H$15 + S787*10^-3, NA())","v":{"$error":"#N/A"}}]
[7039,8.8592213936081308,{"$f":" IF(Foglio1!$C$11 <> \"\", 8.314472*Foglio1!$C$11*Foglio2!B788, NA())","v":22097.924465686738},{"$f":"IF(Foglio1!$H$11 <> \"\", Foglio1!$H$11 + C788*10^-3, NA())","v":-67.902075534313269},7039,8.8592213936081308,{"$f":" IF(Foglio1!$C$12 <> \"\", 8.314472*Foglio1!$C$12*Foglio2!F788, NA())","v":{"$error":"#N/A"}},{"$f":"IF(Foglio1!$H$12 <> \"\", Foglio1!$H$12 + G788*10^-3, NA())","v":{"$error":"#N/A"}},7039,8.8592213936081308,{"$f":" IF(Foglio1!$C$13 <> \"\", 8.314472*Foglio1!$C$13*Foglio2!J788, NA())","v":{"$error":"#N/A"}},{"$f":"IF(Foglio1!$H$13 <> \"\", Foglio1!$H$13 + K788*10^-3, NA())","v":{"$error":"#N/A"}},7039,8.8592213936081308,{"$f":" IF(Foglio1!$C$14 <> \"\", 8.314472*Foglio1!$C$14*Foglio2!N788, NA())","v":{"$error":"#N/A"}},{"$f":"IF(Foglio1!$H$14 <> \"\", Foglio1!$H$14 + O788*10^-3, NA())","v":{"$error":"#N/A"}},7039,8.8592213936081308,{"$f":" IF(Foglio1!$C$15 <> \"\", 8.314472*Foglio1!$C$15*Foglio2!R788, NA())","v":{"$error":"#N/A"}},{"$f":"IF(Foglio1!$H$15 <> \"\", Foglio1!$H$15 + S788*10^-3, NA())","v":{"$error":"#N/A"}}]
[7048,8.8604991676160161,{"$f":" IF(Foglio1!$C$11 <> \"\", 8.314472*Foglio1!$C$11*Foglio2!B789, NA())","v":22101.111670550003},{"$f":"IF(Foglio1!$H$11 <> \"\", Foglio1!$H$11 + C789*10^-3, NA())","v":-67.898888329449989},7048,8.8604991676160161,{"$f":" IF(Foglio1!$C$12 <> \"\", 8.314472*Foglio1!$C$12*Foglio2!F789, NA())","v":{"$error":"#N/A"}},{"$f":"IF(Foglio1!$H$12 <> \"\", Foglio1!$H$12 + G789*10^-3, NA())","v":{"$error":"#N/A"}},7048,8.8604991676160161,{"$f":" IF(Foglio1!$C$13 <> \"\", 8.314472*Foglio1!$C$13*Foglio2!J789, NA())","v":{"$error":"#N/A"}},{"$f":"IF(Foglio1!$H$13 <> \"\", Foglio1!$H$13 + K789*10^-3, NA())","v":{"$error":"#N/A"}},7048,8.8604991676160161,{"$f":" IF(Foglio1!$C$14 <> \"\", 8.314472*Foglio1!$C$14*Foglio2!N789, NA())","v":{"$error":"#N/A"}},{"$f":"IF(Foglio1!$H$14 <> \"\", Foglio1!$H$14 + O789*10^-3, NA())","v":{"$error":"#N/A"}},7048,8.8604991676160161,{"$f":" IF(Foglio1!$C$15 <> \"\", 8.314472*Foglio1!$C$15*Foglio2!R789, NA())","v":{"$error":"#N/A"}},{"$f":"IF(Foglio1!$H$15 <> \"\", Foglio1!$H$15 + S789*10^-3, NA())","v":{"$error":"#N/A"}}]
[7057,8.8617753110008302,{"$f":" IF(Foglio1!$C$11 <> \"\", 8.314472*Foglio1!$C$11*Foglio2!B790, NA())","v":22104.294808082312},{"$f":"IF(Foglio1!$H$11 <> \"\", Foglio1!$H$11 + C790*10^-3, NA())","v":-67.895705191917685},7057,8.8617753110008302,{"$f":" IF(Foglio1!$C$12 <> \"\", 8.314472*Foglio1!$C$12*Foglio2!F790, NA())","v":{"$error":"#N/A"}},{"$f":"IF(Foglio1!$H$12 <> \"\", Foglio1!$H$12 + G790*10^-3, NA())","v":{"$error":"#N/A"}},7057,8.8617753110008302,{"$f":" IF(Foglio1!$C$13 <> \"\", 8.314472*Foglio1!$C$13*Foglio2!J790, NA())","v":{"$error":"#N/A"}},{"$f":"IF(Foglio1!$H$13 <> \"\", Foglio1!$H$13 + K790*10^-3, NA())","v":{"$error":"#N/A"}},7057,8.8617753110008302,{"$f":" IF(Foglio1!$C$14 <> \"\", 8.314472*Foglio1!$C$14*Foglio2!N790, NA())","v":{"$error":"#N/A"}},{"$f":"IF(Foglio1!$H$14 <> \"\", Foglio1!$H$14 + O790*10^-3, NA())","v":{"$error":"#N/A"}},7057,8.8617753110008302,{"$f":" IF(Foglio1!$C$15 <> \"\", 8.314472*Foglio1!$C$15*Foglio2!R790, NA())","v":{"$error":"#N/A"}},{"$f":"IF(Foglio1!$H$15 <> \"\", Foglio1!$H$15 + S790*10^-3, NA())","v":{"$error":"#N/A"}}]
[7066,8.8630498279190899,{"$f":" IF(Foglio1!$C$11 <> \"\", 8.314472*Foglio1!$C$11*Foglio2!B791, NA())","v":22107.473888651428},{"$f":"IF(Foglio1!$H$11 <> \"\", Foglio1!$H$11 + C791*10^-3, NA())","v":-67.892526111348573},7066,8.8630498279190899,{"$f":" IF(Foglio1!$C$12 <> \"\", 8.314472*Foglio1!$C$12*Foglio2!F791, NA())","v":{"$error":"#N/A"}},{"$f":"IF(Foglio1!$H$12 <> \"\", Foglio1!$H$12 + G791*10^-3, NA())","v":{"$error":"#N/A"}},7066,8.8630498279190899,{"$f":" IF(Foglio1!$C$13 <> \"\", 8.314472*Foglio1!$C$13*Foglio2!J791, NA())","v":{"$error":"#N/A"}},{"$f":"IF(Foglio1!$H$13 <> \"\", Foglio1!$H$13 + K791*10^-3, NA())","v":{"$error":"#N/A"}},7066,8.8630498279190899,{"$f":" IF(Foglio1!$C$14 <> \"\", 8.314472*Foglio1!$C$14*Foglio2!N791, NA())","v":{"$error":"#N/A"}},{"$f":"IF(Foglio1!$H$14 <> \"\", Foglio1!$H$14 + O791*10^-3, NA())","v":{"$error":"#N/A"}},7066,8.8630498279190899,{"$f":" IF(Foglio1!$C$15 <> \"\", 8.314472*Foglio1!$C$15*Foglio2!R791, NA())","v":{"$error":"#N/A"}},{"$f":"IF(Foglio1!$H$15 <> \"\", Foglio1!$H$15 + S791*10^-3, NA())","v":{"$error":"#N/A"}}]
[7075,8.8643227225114387,{"$f":" IF(Foglio1!$C$11 <> \"\", 8.314472*Foglio1!$C$11*Foglio2!B792, NA())","v":22110.64892258554},{"$f":"IF(Foglio1!$H$11 <> \"\", Foglio1!$H$11 + C792*10^-3, NA())","v":-67.88935107741446},7075,8.8643227225114387,{"$f":" IF(Foglio1!$C$12 <> \"\", 8.314472*Foglio1!$C$12*Foglio2!F792, NA())","v":{"$error":"#N/A"}},{"$f":"IF(Foglio1!$H$12 <> \"\", Foglio1!$H$12 + G792*10^-3, NA())","v":{"$error":"#N/A"}},7075,8.8643227225114387,{"$f":" IF(Foglio1!$C$13 <> \"\", 8.314472*Foglio1!$C$13*Foglio2!J792, NA())","v":{"$error":"#N/A"}},{"$f":"IF(Foglio1!$H$13 <> \"\", Foglio1!$H$13 + K792*10^-3, NA())","v":{"$error":"#N/A"}},7075,8.8643227225114387,{"$f":" IF(Foglio1!$C$14 <> \"\", 8.314472*Foglio1!$C$14*Foglio2!N792, NA())","v":{"$error":"#N/A"}},{"$f":"IF(Foglio1!$H$14 <> \"\", Foglio1!$H$14 + O792*10^-3, NA())","v":{"$error":"#N/A"}},7075,8.8643227225114387,{"$f":" IF(Foglio1!$C$15 <> \"\", 8.314472*Foglio1!$C$15*Foglio2!R792, NA())","v":{"$error":"#N/A"}},{"$f":"IF(Foglio1!$H$15 <> \"\", Foglio1!$H$15 + S792*10^-3, NA())","v":{"$error":"#N/A"}}]
[7084,8.8655939989027246,{"$f":" IF(Foglio1!$C$11 <> \"\", 8.314472*Foglio1!$C$11*Foglio2!B793, NA())","v":22113.819920173421},{"$f":"IF(Foglio1!$H$11 <> \"\", Foglio1!$H$11 + C793*10^-3, NA())","v":-67.886180079826573},7084,8.8655939989027246,{"$f":" IF(Foglio1!$C$12 <> \"\", 8.314472*Foglio1!$C$12*Foglio2!F793, NA())","v":{"$error":"#N/A"}},{"$f":"IF(Foglio1!$H$12 <> \"\", Foglio1!$H$12 + G793*10^-3, NA())","v":{"$error":"#N/A"}},7084,8.8655939989027246,{"$f":" IF(Foglio1!$C$13 <> \"\", 8.314472*Foglio1!$C$13*Foglio2!J793, NA())","v":{"$error":"#N/A"}},{"$f":"IF(Foglio1!$H$13 <> \"\", Foglio1!$H$13 + K793*10^-3, NA())","v":{"$error":"#N/A"}},7084,8.8655939989027246,{"$f":" IF(Foglio1!$C$14 <> \"\", 8.314472*Foglio1!$C$14*Foglio2!N793, NA())","v":{"$error":"#N/A"}},{"$f":"IF(Foglio1!$H$14 <> \"\", Foglio1!$H$14 + O793*10^-3, NA())","v":{"$error":"#N/A"}},7084,8.8655939989027246,{"$f":" IF(Foglio1!$C$15 <> \"\", 8.314472*Foglio1!$C$15*Foglio2!R793, NA())","v":{"$error":"#N/A"}},{"$f":"IF(Foglio1!$H$15 <> \"\", Foglio1!$H$15 + S793*10^-3, NA())","v":{"$error":"#N/A"}}]
[7093,8.8668636612020872,{"$f":" IF(Foglio1!$C$11 <> \"\", 8.314472*Foglio1!$C$11*Foglio2!B794, NA())","v":22116.986891664674},{"$f":"IF(Foglio1!$H$11 <> \"\", Foglio1!$H$11 + C794*10^-3, NA())","v":-67.883013108335319},7093,8.8668636612020872,{"$f":" IF(Foglio1!$C$12 <> \"\", 8.314472*Foglio1!$C$12*Foglio2!F794, NA())","v":{"$error":"#N/A"}},{"$f":"IF(Foglio1!$H$12 <> \"\", Foglio1!$H$12 + G794*10^-3, NA())","v":{"$error":"#N/A"}},7093,8.8668636612020872,{"$f":" IF(Foglio1!$C$13 <> \"\", 8.314472*Foglio1!$C$13*Foglio2!J794, NA())","v":{"$error":"#N/A"}},{"$f":"IF(Foglio1!$H$13 <> \"\", Foglio1!$H$13 + K794*10^-3, NA())","v":{"$error":"#N/A"}},7093,8.8668636612020872,{"$f":" IF(Foglio1!$C$14 <> \"\", 8.314472*Foglio1!$C$14*Foglio2!N794, NA())","v":{"$error":"#N/A"}},{"$f":"IF(Foglio1!$H$14 <> \"\", Foglio1!$H$14 + O794*10^-3, NA())","v":{"$error":"#N/A"}},7093,8.8668636612020872,{"$f":" IF(Foglio1!$C$15 <> \"\", 8.314472*Foglio1!$C$15*Foglio2!R794, NA())","v":{"$error":"#N/A"}},{"$f":"IF(Foglio1!$H$15 <> \"\", Foglio1!$H$15 + S794*10^-3, NA())","v":{"$error":"#N/A"}}]
[7102,8.8681317135030326,{"$f":" IF(Foglio1!$C$11 <> \"\", 8.314472*Foglio1!$C$11*Foglio2!B795, NA())","v":22120.149847269899},{"$f":"IF(Foglio1!$H$11 <> \"\", Foglio1!$H$11 + C795*10^-3, NA())","v":-67.8798501527301},7102,8.8681317135030326,{"$f":" IF(Foglio1!$C$12 <> \"\", 8.314472*Foglio1!$C$12*Foglio2!F795, NA())","v":{"$error":"#N/A"}},{"$f":"IF(Foglio1!$H$12 <> \"\", Foglio1!$H$12 + G795*10^-3, NA())","v":{"$error":"#N/A"}},7102,8.8681317135030326,{"$f":" IF(Foglio1!$C$13 <> \"\", 8.314472*Foglio1!$C$13*Foglio2!J795, NA())","v":{"$error":"#N/A"}},{"$f":"IF(Foglio1!$H$13 <> \"\", Foglio1!$H$13 + K795*10^-3, NA())","v":{"$error":"#N/A"}},7102,8.8681317135030326,{"$f":" IF(Foglio1!$C$14 <> \"\", 8.314472*Foglio1!$C$14*Foglio2!N795, NA())","v":{"$error":"#N/A"}},{"$f":"IF(Foglio1!$H$14 <> \"\", Foglio1!$H$14 + O795*10^-3, NA())","v":{"$error":"#N/A"}},7102,8.8681317135030326,{"$f":" IF(Foglio1!$C$15 <> \"\", 8.314472*Foglio1!$C$15*Foglio2!R795, NA())","v":{"$error":"#N/A"}},{"$f":"IF(Foglio1!$H$15 <> \"\", Foglio1!$H$15 + S795*10^-3, NA())","v":{"$error":"#N/A"}}]
[7111,8.8693981598835183,{"$f":" IF(Foglio1!$C$11 <> \"\", 8.314472*Foglio1!$C$11*Foglio2!B796, NA())","v":22123.308797160913},{"$f":"IF(Foglio1!$H$11 <> \"\", Foglio1!$H$11 + C796*10^-3, NA())","v":-67.876691202839083},7111,8.8693981598835183,{"$f":" IF(Foglio1!$C$12 <> \"\", 8.314472*Foglio1!$C$12*Foglio2!F796, NA())","v":{"$error":"#N/A"}},{"$f":"IF(Foglio1!$H$12 <> \"\", Foglio1!$H$12 + G796*10^-3, NA())","v":{"$error":"#N/A"}},7111,8.8693981598835183,{"$f":" IF(Foglio1!$C$13 <> \"\", 8.314472*Foglio1!$C$13*Foglio2!J796, NA())","v":{"$error":"#N/A"}},{"$f":"IF(Foglio1!$H$13 <> \"\", Foglio1!$H$13 + K796*10^-3, NA())","v":{"$error":"#N/A"}},7111,8.8693981598835183,{"$f":" IF(Foglio1!$C$14 <> \"\", 8.314472*Foglio1!$C$14*Foglio2!N796, NA())","v":{"$error":"#N/A"}},{"$f":"IF(Foglio1!$H$14 <> \"\", Foglio1!$H$14 + O796*10^-3, NA())","v":{"$error":"#N/A"}},7111,8.8693981598835183,{"$f":" IF(Foglio1!$C$15 <> \"\", 8.314472*Foglio1!$C$15*Foglio2!R796, NA())","v":{"$error":"#N/A"}},{"$f":"IF(Foglio1!$H$15 <> \"\", Foglio1!$H$15 + S796*10^-3, NA())","v":{"$error":"#N/A"}}]
[7120,8.8706630044060208,{"$f":" IF(Foglio1!$C$11 <> \"\", 8.314472*Foglio1!$C$11*Foglio2!B797, NA())","v":22126.463751470921},{"$f":"IF(Foglio1!$H$11 <> \"\", Foglio1!$H$11 + C797*10^-3, NA())","v":-67.873536248529078},7120,8.8706630044060208,{"$f":" IF(Foglio1!$C$12 <> \"\", 8.314472*Foglio1!$C$12*Foglio2!F797, NA())","v":{"$error":"#N/A"}},{"$f":"IF(Foglio1!$H$12 <> \"\", Foglio1!$H$12 + G797*10^-3, NA())","v":{"$error":"#N/A"}},7120,8.8706630044060208,{"$f":" IF(Foglio1!$C$13 <> \"\", 8.314472*Foglio1!$C$13*Foglio2!J797, NA())","v":{"$error":"#N/A"}},{"$f":"IF(Foglio1!$H$13 <> \"\", Foglio1!$H$13 + K797*10^-3, NA())","v":{"$error":"#N/A"}},7120,8.8706630044060208,{"$f":" IF(Foglio1!$C$14 <> \"\", 8.314472*Foglio1!$C$14*Foglio2!N797, NA())","v":{"$error":"#N/A"}},{"$f":"IF(Foglio1!$H$14 <> \"\", Foglio1!$H$14 + O797*10^-3, NA())","v":{"$error":"#N/A"}},7120,8.8706630044060208,{"$f":" IF(Foglio1!$C$15 <> \"\", 8.314472*Foglio1!$C$15*Foglio2!R797, NA())","v":{"$error":"#N/A"}},{"$f":"IF(Foglio1!$H$15 <> \"\", Foglio1!$H$15 + S797*10^-3, NA())","v":{"$error":"#N/A"}}]
[7129,8.8719262511176282,{"$f":" IF(Foglio1!$C$11 <> \"\", 8.314472*Foglio1!$C$11*Foglio2!B798, NA())","v":22129.614720294747},{"$f":"IF(Foglio1!$H$11 <> \"\", Foglio1!$H$11 + C798*10^-3, NA())","v":-67.87038527970526},7129,8.8719262511176282,{"$f":" IF(Foglio1!$C$12 <> \"\", 8.314472*Foglio1!$C$12*Foglio2!F798, NA())","v":{"$error":"#N/A"}},{"$f":"IF(Foglio1!$H$12 <> \"\", Foglio1!$H$12 + G798*10^-3, NA())","v":{"$error":"#N/A"}},7129,8.8719262511176282,{"$f":" IF(Foglio1!$C$13 <> \"\", 8.314472*Foglio1!$C$13*Foglio2!J798, NA())","v":{"$error":"#N/A"}},{"$f":"IF(Foglio1!$H$13 <> \"\", Foglio1!$H$13 + K798*10^-3, NA())","v":{"$error":"#N/A"}},7129,8.8719262511176282,{"$f":" IF(Foglio1!$C$14 <> \"\", 8.314472*Foglio1!$C$14*Foglio2!N798, NA())","v":{"$error":"#N/A"}},{"$f":"IF(Foglio1!$H$14 <> \"\", Foglio1!$H$14 + O798*10^-3, NA())","v":{"$error":"#N/A"}},7129,8.8719262511176282,{"$f":" IF(Foglio1!$C$15 <> \"\", 8.314472*Foglio1!$C$15*Foglio2!R798, NA())","v":{"$error":"#N/A"}},{"$f":"IF(Foglio1!$H$15 <> \"\", Foglio1!$H$15 + S798*10^-3, NA())","v":{"$error":"#N/A"}}]
[7138,8.8731879040501056,{"$f":" IF(Foglio1!$C$11 <> \"\", 8.314472*Foglio1!$C$11*Foglio2!B799, NA())","v":22132.761713688989},{"$f":"IF(Foglio1!$H$11 <> \"\", Foglio1!$H$11 + C799*10^-3, NA())","v":-67.867238286311007},7138,8.8731879040501056,{"$f":" IF(Foglio1!$C$12 <> \"\", 8.314472*Foglio1!$C$12*Foglio2!F799, NA())","v":{"$error":"#N/A"}},{"$f":"IF(Foglio1!$H$12 <> \"\", Foglio1!$H$12 + G799*10^-3, NA())","v":{"$error":"#N/A"}},7138,8.8731879040501056,{"$f":" IF(Foglio1!$C$13 <> \"\", 8.314472*Foglio1!$C$13*Foglio2!J799, NA())","v":{"$error":"#N/A"}},{"$f":"IF(Foglio1!$H$13 <> \"\", Foglio1!$H$13 + K799*10^-3, NA())","v":{"$error":"#N/A"}},7138,8.8731879040501056,{"$f":" IF(Foglio1!$C$14 <> \"\", 8.314472*Foglio1!$C$14*Foglio2!N799, NA())","v":{"$error":"#N/A"}},{"$f":"IF(Foglio1!$H$14 <> \"\", Foglio1!$H$14 + O799*10^-3, NA())","v":{"$error":"#N/A"}},7138,8.8731879040501056,{"$f":" IF(Foglio1!$C$15 <> \"\", 8.314472*Foglio1!$C$15*Foglio2!R799, NA())","v":{"$error":"#N/A"}},{"$f":"IF(Foglio1!$H$15 <> \"\", Foglio1!$H$15 + S799*10^-3, NA())","v":{"$error":"#N/A"}}]
[7147,8.8744479672199788,{"$f":" IF(Foglio1!$C$11 <> \"\", 8.314472*Foglio1!$C$11*Foglio2!B800, NA())","v":22135.904741672231},{"$f":"IF(Foglio1!$H$11 <> \"\", Foglio1!$H$11 + C800*10^-3, NA())","v":-67.864095258327765},7147,8.8744479672199788,{"$f":" IF(Foglio1!$C$12 <> \"\", 8.314472*Foglio1!$C$12*Foglio2!F800, NA())","v":{"$error":"#N/A"}},{"$f":"IF(Foglio1!$H$12 <> \"\", Foglio1!$H$12 + G800*10^-3, NA())","v":{"$error":"#N/A"}},7147,8.8744479672199788,{"$f":" IF(Foglio1!$C$13 <> \"\", 8.314472*Foglio1!$C$13*Foglio2!J800, NA())","v":{"$error":"#N/A"}},{"$f":"IF(Foglio1!$H$13 <> \"\", Foglio1!$H$13 + K800*10^-3, NA())","v":{"$error":"#N/A"}},7147,8.8744479672199788,{"$f":" IF(Foglio1!$C$14 <> \"\", 8.314472*Foglio1!$C$14*Foglio2!N800, NA())","v":{"$error":"#N/A"}},{"$f":"IF(Foglio1!$H$14 <> \"\", Foglio1!$H$14 + O800*10^-3, NA())","v":{"$error":"#N/A"}},7147,8.8744479672199788,{"$f":" IF(Foglio1!$C$15 <> \"\", 8.314472*Foglio1!$C$15*Foglio2!R800, NA())","v":{"$error":"#N/A"}},{"$f":"IF(Foglio1!$H$15 <> \"\", Foglio1!$H$15 + S800*10^-3, NA())","v":{"$error":"#N/A"}}]
[7156,8.8757064446286105,{"$f":" IF(Foglio1!$C$11 <> \"\", 8.314472*Foglio1!$C$11*Foglio2!B801, NA())","v":22139.043814225242},{"$f":"IF(Foglio1!$H$11 <> \"\", Foglio1!$H$11 + C801*10^-3, NA())","v":-67.860956185774754},7156,8.8757064446286105,{"$f":" IF(Foglio1!$C$12 <> \"\", 8.314472*Foglio1!$C$12*Foglio2!F801, NA())","v":{"$error":"#N/A"}},{"$f":"IF(Foglio1!$H$12 <> \"\", Foglio1!$H$12 + G801*10^-3, NA())","v":{"$error":"#N/A"}},7156,8.8757064446286105,{"$f":" IF(Foglio1!$C$13 <> \"\", 8.314472*Foglio1!$C$13*Foglio2!J801, NA())","v":{"$error":"#N/A"}},{"$f":"IF(Foglio1!$H$13 <> \"\", Foglio1!$H$13 + K801*10^-3, NA())","v":{"$error":"#N/A"}},7156,8.8757064446286105,{"$f":" IF(Foglio1!$C$14 <> \"\", 8.314472*Foglio1!$C$14*Foglio2!N801, NA())","v":{"$error":"#N/A"}},{"$f":"IF(Foglio1!$H$14 <> \"\", Foglio1!$H$14 + O801*10^-3, NA())","v":{"$error":"#N/A"}},7156,8.8757064446286105,{"$f":" IF(Foglio1!$C$15 <> \"\", 8.314472*Foglio1!$C$15*Foglio2!R801, NA())","v":{"$error":"#N/A"}},{"$f":"IF(Foglio1!$H$15 <> \"\", Foglio1!$H$15 + S801*10^-3, NA())","v":{"$error":"#N/A"}}]
[7165,8.8769633402622716,{"$f":" IF(Foglio1!$C$11 <> \"\", 8.314472*Foglio1!$C$11*Foglio2!B802, NA())","v":22142.178941291142},{"$f":"IF(Foglio1!$H$11 <> \"\", Foglio1!$H$11 + C802*10^-3, NA())","v":-67.857821058708851},7165,8.8769633402622716,{"$f":" IF(Foglio1!$C$12 <> \"\", 8.314472*Foglio1!$C$12*Foglio2!F802, NA())","v":{"$error":"#N/A"}},{"$f":"IF(Foglio1!$H$12 <> \"\", Foglio1!$H$12 + G802*10^-3, NA())","v":{"$error":"#N/A"}},7165,8.8769633402622716,{"$f":" IF(Foglio1!$C$13 <> \"\", 8.314472*Foglio1!$C$13*Foglio2!J802, NA())","v":{"$error":"#N/A"}},{"$f":"IF(Foglio1!$H$13 <> \"\", Foglio1!$H$13 + K802*10^-3, NA())","v":{"$error":"#N/A"}},7165,8.8769633402622716,{"$f":" IF(Foglio1!$C$14 <> \"\", 8.314472*Foglio1!$C$14*Foglio2!N802, NA())","v":{"$error":"#N/A"}},{"$f":"IF(Foglio1!$H$14 <> \"\", Foglio1!$H$14 + O802*10^-3, NA())","v":{"$error":"#N/A"}},7165,8.8769633402622716,{"$f":" IF(Foglio1!$C$15 <> \"\", 8.314472*Foglio1!$C$15*Foglio2!R802, NA())","v":{"$error":"#N/A"}},{"$f":"IF(Foglio1!$H$15 <> \"\", Foglio1!$H$15 + S802*10^-3, NA())","v":{"$error":"#N/A"}}]
[7174,8.8782186580922282,{"$f":" IF(Foglio1!$C$11 <> \"\", 8.314472*Foglio1!$C$11*Foglio2!B803, NA())","v":22145.310132775623},{"$f":"IF(Foglio1!$H$11 <> \"\", Foglio1!$H$11 + C803*10^-3, NA())","v":-67.85468986722438},7174,8.8782186580922282,{"$f":" IF(Foglio1!$C$12 <> \"\", 8.314472*Foglio1!$C$12*Foglio2!F803, NA())","v":{"$error":"#N/A"}},{"$f":"IF(Foglio1!$H$12 <> \"\", Foglio1!$H$12 + G803*10^-3, NA())","v":{"$error":"#N/A"}},7174,8.8782186580922282,{"$f":" IF(Foglio1!$C$13 <> \"\", 8.314472*Foglio1!$C$13*Foglio2!J803, NA())","v":{"$error":"#N/A"}},{"$f":"IF(Foglio1!$H$13 <> \"\", Foglio1!$H$13 + K803*10^-3, NA())","v":{"$error":"#N/A"}},7174,8.8782186580922282,{"$f":" IF(Foglio1!$C$14 <> \"\", 8.314472*Foglio1!$C$14*Foglio2!N803, NA())","v":{"$error":"#N/A"}},{"$f":"IF(Foglio1!$H$14 <> \"\", Foglio1!$H$14 + O803*10^-3, NA())","v":{"$error":"#N/A"}},7174,8.8782186580922282,{"$f":" IF(Foglio1!$C$15 <> \"\", 8.314472*Foglio1!$C$15*Foglio2!R803, NA())","v":{"$error":"#N/A"}},{"$f":"IF(Foglio1!$H$15 <> \"\", Foglio1!$H$15 + S803*10^-3, NA())","v":{"$error":"#N/A"}}]
[7183,8.8794724020748017,{"$f":" IF(Foglio1!$C$11 <> \"\", 8.314472*Foglio1!$C$11*Foglio2!B804, NA())","v":22148.437398547107},{"$f":"IF(Foglio1!$H$11 <> \"\", Foglio1!$H$11 + C804*10^-3, NA())","v":-67.851562601452898},7183,8.8794724020748017,{"$f":" IF(Foglio1!$C$12 <> \"\", 8.314472*Foglio1!$C$12*Foglio2!F804, NA())","v":{"$error":"#N/A"}},{"$f":"IF(Foglio1!$H$12 <> \"\", Foglio1!$H$12 + G804*10^-3, NA())","v":{"$error":"#N/A"}},7183,8.8794724020748017,{"$f":" IF(Foglio1!$C$13 <> \"\", 8.314472*Foglio1!$C$13*Foglio2!J804, NA())","v":{"$error":"#N/A"}},{"$f":"IF(Foglio1!$H$13 <> \"\", Foglio1!$H$13 + K804*10^-3, NA())","v":{"$error":"#N/A"}},7183,8.8794724020748017,{"$f":" IF(Foglio1!$C$14 <> \"\", 8.314472*Foglio1!$C$14*Foglio2!N804, NA())","v":{"$error":"#N/A"}},{"$f":"IF(Foglio1!$H$14 <> \"\", Foglio1!$H$14 + O804*10^-3, NA())","v":{"$error":"#N/A"}},7183,8.8794724020748017,{"$f":" IF(Foglio1!$C$15 <> \"\", 8.314472*Foglio1!$C$15*Foglio2!R804, NA())","v":{"$error":"#N/A"}},{"$f":"IF(Foglio1!$H$15 <> \"\", Foglio1!$H$15 + S804*10^-3, NA())","v":{"$error":"#N/A"}}]
[7192,8.8807245761514562,{"$f":" IF(Foglio1!$C$11 <> \"\", 8.314472*Foglio1!$C$11*Foglio2!B805, NA())","v":22151.560748436947},{"$f":"IF(Foglio1!$H$11 <> \"\", Foglio1!$H$11 + C805*10^-3, NA())","v":-67.84843925156305},7192,8.8807245761514562,{"$f":" IF(Foglio1!$C$12 <> \"\", 8.314472*Foglio1!$C$12*Foglio2!F805, NA())","v":{"$error":"#N/A"}},{"$f":"IF(Foglio1!$H$12 <> \"\", Foglio1!$H$12 + G805*10^-3, NA())","v":{"$error":"#N/A"}},7192,8.8807245761514562,{"$f":" IF(Foglio1!$C$13 <> \"\", 8.314472*Foglio1!$C$13*Foglio2!J805, NA())","v":{"$error":"#N/A"}},{"$f":"IF(Foglio1!$H$13 <> \"\", Foglio1!$H$13 + K805*10^-3, NA())","v":{"$error":"#N/A"}},7192,8.8807245761514562,{"$f":" IF(Foglio1!$C$14 <> \"\", 8.314472*Foglio1!$C$14*Foglio2!N805, NA())","v":{"$error":"#N/A"}},{"$f":"IF(Foglio1!$H$14 <> \"\", Foglio1!$H$14 + O805*10^-3, NA())","v":{"$error":"#N/A"}},7192,8.8807245761514562,{"$f":" IF(Foglio1!$C$15 <> \"\", 8.314472*Foglio1!$C$15*Foglio2!R805, NA())","v":{"$error":"#N/A"}},{"$f":"IF(Foglio1!$H$15 <> \"\", Foglio1!$H$15 + S805*10^-3, NA())","v":{"$error":"#N/A"}}]
[7201,8.8819751842488674,{"$f":" IF(Foglio1!$C$11 <> \"\", 8.314472*Foglio1!$C$11*Foglio2!B806, NA())","v":22154.680192239615},{"$f":"IF(Foglio1!$H$11 <> \"\", Foglio1!$H$11 + C806*10^-3, NA())","v":-67.845319807760376},7201,8.8819751842488674,{"$f":" IF(Foglio1!$C$12 <> \"\", 8.314472*Foglio1!$C$12*Foglio2!F806, NA())","v":{"$error":"#N/A"}},{"$f":"IF(Foglio1!$H$12 <> \"\", Foglio1!$H$12 + G806*10^-3, NA())","v":{"$error":"#N/A"}},7201,8.8819751842488674,{"$f":" IF(Foglio1!$C$13 <> \"\", 8.314472*Foglio1!$C$13*Foglio2!J806, NA())","v":{"$error":"#N/A"}},{"$f":"IF(Foglio1!$H$13 <> \"\", Foglio1!$H$13 + K806*10^-3, NA())","v":{"$error":"#N/A"}},7201,8.8819751842488674,{"$f":" IF(Foglio1!$C$14 <> \"\", 8.314472*Foglio1!$C$14*Foglio2!N806, NA())","v":{"$error":"#N/A"}},{"$f":"IF(Foglio1!$H$14 <> \"\", Foglio1!$H$14 + O806*10^-3, NA())","v":{"$error":"#N/A"}},7201,8.8819751842488674,{"$f":" IF(Foglio1!$C$15 <> \"\", 8.314472*Foglio1!$C$15*Foglio2!R806, NA())","v":{"$error":"#N/A"}},{"$f":"IF(Foglio1!$H$15 <> \"\", Foglio1!$H$15 + S806*10^-3, NA())","v":{"$error":"#N/A"}}]
[7210,8.8832242302789943,{"$f":" IF(Foglio1!$C$11 <> \"\", 8.314472*Foglio1!$C$11*Foglio2!B807, NA())","v":22157.795739712878},{"$f":"IF(Foglio1!$H$11 <> \"\", Foglio1!$H$11 + C807*10^-3, NA())","v":-67.842204260287119},7210,8.8832242302789943,{"$f":" IF(Foglio1!$C$12 <> \"\", 8.314472*Foglio1!$C$12*Foglio2!F807, NA())","v":{"$error":"#N/A"}},{"$f":"IF(Foglio1!$H$12 <> \"\", Foglio1!$H$12 + G807*10^-3, NA())","v":{"$error":"#N/A"}},7210,8.8832242302789943,{"$f":" IF(Foglio1!$C$13 <> \"\", 8.314472*Foglio1!$C$13*Foglio2!J807, NA())","v":{"$error":"#N/A"}},{"$f":"IF(Foglio1!$H$13 <> \"\", Foglio1!$H$13 + K807*10^-3, NA())","v":{"$error":"#N/A"}},7210,8.8832242302789943,{"$f":" IF(Foglio1!$C$14 <> \"\", 8.314472*Foglio1!$C$14*Foglio2!N807, NA())","v":{"$error":"#N/A"}},{"$f":"IF(Foglio1!$H$14 <> \"\", Foglio1!$H$14 + O807*10^-3, NA())","v":{"$error":"#N/A"}},7210,8.8832242302789943,{"$f":" IF(Foglio1!$C$15 <> \"\", 8.314472*Foglio1!$C$15*Foglio2!R807, NA())","v":{"$error":"#N/A"}},{"$f":"IF(Foglio1!$H$15 <> \"\", Foglio1!$H$15 + S807*10^-3, NA())","v":{"$error":"#N/A"}}]
[7219,8.8844717181391601,{"$f":" IF(Foglio1!$C$11 <> \"\", 8.314472*Foglio1!$C$11*Foglio2!B808, NA())","v":22160.907400577984},{"$f":"IF(Foglio1!$H$11 <> \"\", Foglio1!$H$11 + C808*10^-3, NA())","v":-67.839092599422017},7219,8.8844717181391601,{"$f":" IF(Foglio1!$C$12 <> \"\", 8.314472*Foglio1!$C$12*Foglio2!F808, NA())","v":{"$error":"#N/A"}},{"$f":"IF(Foglio1!$H$12 <> \"\", Foglio1!$H$12 + G808*10^-3, NA())","v":{"$error":"#N/A"}},7219,8.8844717181391601,{"$f":" IF(Foglio1!$C$13 <> \"\", 8.314472*Foglio1!$C$13*Foglio2!J808, NA())","v":{"$error":"#N/A"}},{"$f":"IF(Foglio1!$H$13 <> \"\", Foglio1!$H$13 + K808*10^-3, NA())","v":{"$error":"#N/A"}},7219,8.8844717181391601,{"$f":" IF(Foglio1!$C$14 <> \"\", 8.314472*Foglio1!$C$14*Foglio2!N808, NA())","v":{"$error":"#N/A"}},{"$f":"IF(Foglio1!$H$14 <> \"\", Foglio1!$H$14 + O808*10^-3, NA())","v":{"$error":"#N/A"}},7219,8.8844717181391601,{"$f":" IF(Foglio1!$C$15 <> \"\", 8.314472*Foglio1!$C$15*Foglio2!R808, NA())","v":{"$error":"#N/A"}},{"$f":"IF(Foglio1!$H$15 <> \"\", Foglio1!$H$15 + S808*10^-3, NA())","v":{"$error":"#N/A"}}]
[7228,8.8857176517121186,{"$f":" IF(Foglio1!$C$11 <> \"\", 8.314472*Foglio1!$C$11*Foglio2!B809, NA())","v":22164.015184519849},{"$f":"IF(Foglio1!$H$11 <> \"\", Foglio1!$H$11 + C809*10^-3, NA())","v":-67.835984815480145},7228,8.8857176517121186,{"$f":" IF(Foglio1!$C$12 <> \"\", 8.314472*Foglio1!$C$12*Foglio2!F809, NA())","v":{"$error":"#N/A"}},{"$f":"IF(Foglio1!$H$12 <> \"\", Foglio1!$H$12 + G809*10^-3, NA())","v":{"$error":"#N/A"}},7228,8.8857176517121186,{"$f":" IF(Foglio1!$C$13 <> \"\", 8.314472*Foglio1!$C$13*Foglio2!J809, NA())","v":{"$error":"#N/A"}},{"$f":"IF(Foglio1!$H$13 <> \"\", Foglio1!$H$13 + K809*10^-3, NA())","v":{"$error":"#N/A"}},7228,8.8857176517121186,{"$f":" IF(Foglio1!$C$14 <> \"\", 8.314472*Foglio1!$C$14*Foglio2!N809, NA())","v":{"$error":"#N/A"}},{"$f":"IF(Foglio1!$H$14 <> \"\", Foglio1!$H$14 + O809*10^-3, NA())","v":{"$error":"#N/A"}},7228,8.8857176517121186,{"$f":" IF(Foglio1!$C$15 <> \"\", 8.314472*Foglio1!$C$15*Foglio2!R809, NA())","v":{"$error":"#N/A"}},{"$f":"IF(Foglio1!$H$15 <> \"\", Foglio1!$H$15 + S809*10^-3, NA())","v":{"$error":"#N/A"}}]
[7237,8.8869620348661282,{"$f":" IF(Foglio1!$C$11 <> \"\", 8.314472*Foglio1!$C$11*Foglio2!B810, NA())","v":22167.119101187236},{"$f":"IF(Foglio1!$H$11 <> \"\", Foglio1!$H$11 + C810*10^-3, NA())","v":-67.832880898812761},7237,8.8869620348661282,{"$f":" IF(Foglio1!$C$12 <> \"\", 8.314472*Foglio1!$C$12*Foglio2!F810, NA())","v":{"$error":"#N/A"}},{"$f":"IF(Foglio1!$H$12 <> \"\", Foglio1!$H$12 + G810*10^-3, NA())","v":{"$error":"#N/A"}},7237,8.8869620348661282,{"$f":" IF(Foglio1!$C$13 <> \"\", 8.314472*Foglio1!$C$13*Foglio2!J810, NA())","v":{"$error":"#N/A"}},{"$f":"IF(Foglio1!$H$13 <> \"\", Foglio1!$H$13 + K810*10^-3, NA())","v":{"$error":"#N/A"}},7237,8.8869620348661282,{"$f":" IF(Foglio1!$C$14 <> \"\", 8.314472*Foglio1!$C$14*Foglio2!N810, NA())","v":{"$error":"#N/A"}},{"$f":"IF(Foglio1!$H$14 <> \"\", Foglio1!$H$14 + O810*10^-3, NA())","v":{"$error":"#N/A"}},7237,8.8869620348661282,{"$f":" IF(Foglio1!$C$15 <> \"\", 8.314472*Foglio1!$C$15*Foglio2!R810, NA())","v":{"$error":"#N/A"}},{"$f":"IF(Foglio1!$H$15 <> \"\", Foglio1!$H$15 + S810*10^-3, NA())","v":{"$error":"#N/A"}}]
[7246,8.8882048714550219,{"$f":" IF(Foglio1!$C$11 <> \"\", 8.314472*Foglio1!$C$11*Foglio2!B811, NA())","v":22170.219160192915},{"$f":"IF(Foglio1!$H$11 <> \"\", Foglio1!$H$11 + C811*10^-3, NA())","v":-67.829780839807086},7246,8.8882048714550219,{"$f":" IF(Foglio1!$C$12 <> \"\", 8.314472*Foglio1!$C$12*Foglio2!F811, NA())","v":{"$error":"#N/A"}},{"$f":"IF(Foglio1!$H$12 <> \"\", Foglio1!$H$12 + G811*10^-3, NA())","v":{"$error":"#N/A"}},7246,8.8882048714550219,{"$f":" IF(Foglio1!$C$13 <> \"\", 8.314472*Foglio1!$C$13*Foglio2!J811, NA())","v":{"$error":"#N/A"}},{"$f":"IF(Foglio1!$H$13 <> \"\", Foglio1!$H$13 + K811*10^-3, NA())","v":{"$error":"#N/A"}},7246,8.8882048714550219,{"$f":" IF(Foglio1!$C$14 <> \"\", 8.314472*Foglio1!$C$14*Foglio2!N811, NA())","v":{"$error":"#N/A"}},{"$f":"IF(Foglio1!$H$14 <> \"\", Foglio1!$H$14 + O811*10^-3, NA())","v":{"$error":"#N/A"}},7246,8.8882048714550219,{"$f":" IF(Foglio1!$C$15 <> \"\", 8.314472*Foglio1!$C$15*Foglio2!R811, NA())","v":{"$error":"#N/A"}},{"$f":"IF(Foglio1!$H$15 <> \"\", Foglio1!$H$15 + S811*10^-3, NA())","v":{"$error":"#N/A"}}]
[7255,8.8894461653182884,{"$f":" IF(Foglio1!$C$11 <> \"\", 8.314472*Foglio1!$C$11*Foglio2!B812, NA())","v":22173.315371113884},{"$f":"IF(Foglio1!$H$11 <> \"\", Foglio1!$H$11 + C812*10^-3, NA())","v":-67.826684628886113},7255,8.8894461653182884,{"$f":" IF(Foglio1!$C$12 <> \"\", 8.314472*Foglio1!$C$12*Foglio2!F812, NA())","v":{"$error":"#N/A"}},{"$f":"IF(Foglio1!$H$12 <> \"\", Foglio1!$H$12 + G812*10^-3, NA())","v":{"$error":"#N/A"}},7255,8.8894461653182884,{"$f":" IF(Foglio1!$C$13 <> \"\", 8.314472*Foglio1!$C$13*Foglio2!J812, NA())","v":{"$error":"#N/A"}},{"$f":"IF(Foglio1!$H$13 <> \"\", Foglio1!$H$13 + K812*10^-3, NA())","v":{"$error":"#N/A"}},7255,8.8894461653182884,{"$f":" IF(Foglio1!$C$14 <> \"\", 8.314472*Foglio1!$C$14*Foglio2!N812, NA())","v":{"$error":"#N/A"}},{"$f":"IF(Foglio1!$H$14 <> \"\", Foglio1!$H$14 + O812*10^-3, NA())","v":{"$error":"#N/A"}},7255,8.8894461653182884,{"$f":" IF(Foglio1!$C$15 <> \"\", 8.314472*Foglio1!$C$15*Foglio2!R812, NA())","v":{"$error":"#N/A"}},{"$f":"IF(Foglio1!$H$15 <> \"\", Foglio1!$H$15 + S812*10^-3, NA())","v":{"$error":"#N/A"}}]
[7264,8.890685920281129,{"$f":" IF(Foglio1!$C$11 <> \"\", 8.314472*Foglio1!$C$11*Foglio2!B813, NA())","v":22176.407743491505},{"$f":"IF(Foglio1!$H$11 <> \"\", Foglio1!$H$11 + C813*10^-3, NA())","v":-67.823592256508491},7264,8.890685920281129,{"$f":" IF(Foglio1!$C$12 <> \"\", 8.314472*Foglio1!$C$12*Foglio2!F813, NA())","v":{"$error":"#N/A"}},{"$f":"IF(Foglio1!$H$12 <> \"\", Foglio1!$H$12 + G813*10^-3, NA())","v":{"$error":"#N/A"}},7264,8.890685920281129,{"$f":" IF(Foglio1!$C$13 <> \"\", 8.314472*Foglio1!$C$13*Foglio2!J813, NA())","v":{"$error":"#N/A"}},{"$f":"IF(Foglio1!$H$13 <> \"\", Foglio1!$H$13 + K813*10^-3, NA())","v":{"$error":"#N/A"}},7264,8.890685920281129,{"$f":" IF(Foglio1!$C$14 <> \"\", 8.314472*Foglio1!$C$14*Foglio2!N813, NA())","v":{"$error":"#N/A"}},{"$f":"IF(Foglio1!$H$14 <> \"\", Foglio1!$H$14 + O813*10^-3, NA())","v":{"$error":"#N/A"}},7264,8.890685920281129,{"$f":" IF(Foglio1!$C$15 <> \"\", 8.314472*Foglio1!$C$15*Foglio2!R813, NA())","v":{"$error":"#N/A"}},{"$f":"IF(Foglio1!$H$15 <> \"\", Foglio1!$H$15 + S813*10^-3, NA())","v":{"$error":"#N/A"}}]
[7273,8.8919241401545399,{"$f":" IF(Foglio1!$C$11 <> \"\", 8.314472*Foglio1!$C$11*Foglio2!B814, NA())","v":22179.496286831702},{"$f":"IF(Foglio1!$H$11 <> \"\", Foglio1!$H$11 + C814*10^-3, NA())","v":-67.820503713168293},7273,8.8919241401545399,{"$f":" IF(Foglio1!$C$12 <> \"\", 8.314472*Foglio1!$C$12*Foglio2!F814, NA())","v":{"$error":"#N/A"}},{"$f":"IF(Foglio1!$H$12 <> \"\", Foglio1!$H$12 + G814*10^-3, NA())","v":{"$error":"#N/A"}},7273,8.8919241401545399,{"$f":" IF(Foglio1!$C$13 <> \"\", 8.314472*Foglio1!$C$13*Foglio2!J814, NA())","v":{"$error":"#N/A"}},{"$f":"IF(Foglio1!$H$13 <> \"\", Foglio1!$H$13 + K814*10^-3, NA())","v":{"$error":"#N/A"}},7273,8.8919241401545399,{"$f":" IF(Foglio1!$C$14 <> \"\", 8.314472*Foglio1!$C$14*Foglio2!N814, NA())","v":{"$error":"#N/A"}},{"$f":"IF(Foglio1!$H$14 <> \"\", Foglio1!$H$14 + O814*10^-3, NA())","v":{"$error":"#N/A"}},7273,8.8919241401545399,{"$f":" IF(Foglio1!$C$15 <> \"\", 8.314472*Foglio1!$C$15*Foglio2!R814, NA())","v":{"$error":"#N/A"}},{"$f":"IF(Foglio1!$H$15 <> \"\", Foglio1!$H$15 + S814*10^-3, NA())","v":{"$error":"#N/A"}}]
[7282,8.8931608287353789,{"$f":" IF(Foglio1!$C$11 <> \"\", 8.314472*Foglio1!$C$11*Foglio2!B815, NA())","v":22182.581010605132},{"$f":"IF(Foglio1!$H$11 <> \"\", Foglio1!$H$11 + C815*10^-3, NA())","v":-67.817418989394866},7282,8.8931608287353789,{"$f":" IF(Foglio1!$C$12 <> \"\", 8.314472*Foglio1!$C$12*Foglio2!F815, NA())","v":{"$error":"#N/A"}},{"$f":"IF(Foglio1!$H$12 <> \"\", Foglio1!$H$12 + G815*10^-3, NA())","v":{"$error":"#N/A"}},7282,8.8931608287353789,{"$f":" IF(Foglio1!$C$13 <> \"\", 8.314472*Foglio1!$C$13*Foglio2!J815, NA())","v":{"$error":"#N/A"}},{"$f":"IF(Foglio1!$H$13 <> \"\", Foglio1!$H$13 + K815*10^-3, NA())","v":{"$error":"#N/A"}},7282,8.8931608287353789,{"$f":" IF(Foglio1!$C$14 <> \"\", 8.314472*Foglio1!$C$14*Foglio2!N815, NA())","v":{"$error":"#N/A"}},{"$f":"IF(Foglio1!$H$14 <> \"\", Foglio1!$H$14 + O815*10^-3, NA())","v":{"$error":"#N/A"}},7282,8.8931608287353789,{"$f":" IF(Foglio1!$C$15 <> \"\", 8.314472*Foglio1!$C$15*Foglio2!R815, NA())","v":{"$error":"#N/A"}},{"$f":"IF(Foglio1!$H$15 <> \"\", Foglio1!$H$15 + S815*10^-3, NA())","v":{"$error":"#N/A"}}]
[7291,8.89439598980643,{"$f":" IF(Foglio1!$C$11 <> \"\", 8.314472*Foglio1!$C$11*Foglio2!B816, NA())","v":22185.661924247357},{"$f":"IF(Foglio1!$H$11 <> \"\", Foglio1!$H$11 + C816*10^-3, NA())","v":-67.814338075752644},7291,8.89439598980643,{"$f":" IF(Foglio1!$C$12 <> \"\", 8.314472*Foglio1!$C$12*Foglio2!F816, NA())","v":{"$error":"#N/A"}},{"$f":"IF(Foglio1!$H$12 <> \"\", Foglio1!$H$12 + G816*10^-3, NA())","v":{"$error":"#N/A"}},7291,8.89439598980643,{"$f":" IF(Foglio1!$C$13 <> \"\", 8.314472*Foglio1!$C$13*Foglio2!J816, NA())","v":{"$error":"#N/A"}},{"$f":"IF(Foglio1!$H$13 <> \"\", Foglio1!$H$13 + K816*10^-3, NA())","v":{"$error":"#N/A"}},7291,8.89439598980643,{"$f":" IF(Foglio1!$C$14 <> \"\", 8.314472*Foglio1!$C$14*Foglio2!N816, NA())","v":{"$error":"#N/A"}},{"$f":"IF(Foglio1!$H$14 <> \"\", Foglio1!$H$14 + O816*10^-3, NA())","v":{"$error":"#N/A"}},7291,8.89439598980643,{"$f":" IF(Foglio1!$C$15 <> \"\", 8.314472*Foglio1!$C$15*Foglio2!R816, NA())","v":{"$error":"#N/A"}},{"$f":"IF(Foglio1!$H$15 <> \"\", Foglio1!$H$15 + S816*10^-3, NA())","v":{"$error":"#N/A"}}]
[7300,8.8956296271364828,{"$f":" IF(Foglio1!$C$11 <> \"\", 8.314472*Foglio1!$C$11*Foglio2!B817, NA())","v":22188.739037159019},{"$f":"IF(Foglio1!$H$11 <> \"\", Foglio1!$H$11 + C817*10^-3, NA())","v":-67.811260962840976},7300,8.8956296271364828,{"$f":" IF(Foglio1!$C$12 <> \"\", 8.314472*Foglio1!$C$12*Foglio2!F817, NA())","v":{"$error":"#N/A"}},{"$f":"IF(Foglio1!$H$12 <> \"\", Foglio1!$H$12 + G817*10^-3, NA())","v":{"$error":"#N/A"}},7300,8.8956296271364828,{"$f":" IF(Foglio1!$C$13 <> \"\", 8.314472*Foglio1!$C$13*Foglio2!J817, NA())","v":{"$error":"#N/A"}},{"$f":"IF(Foglio1!$H$13 <> \"\", Foglio1!$H$13 + K817*10^-3, NA())","v":{"$error":"#N/A"}},7300,8.8956296271364828,{"$f":" IF(Foglio1!$C$14 <> \"\", 8.314472*Foglio1!$C$14*Foglio2!N817, NA())","v":{"$error":"#N/A"}},{"$f":"IF(Foglio1!$H$14 <> \"\", Foglio1!$H$14 + O817*10^-3, NA())","v":{"$error":"#N/A"}},7300,8.8956296271364828,{"$f":" IF(Foglio1!$C$15 <> \"\", 8.314472*Foglio1!$C$15*Foglio2!R817, NA())","v":{"$error":"#N/A"}},{"$f":"IF(Foglio1!$H$15 <> \"\", Foglio1!$H$15 + S817*10^-3, NA())","v":{"$error":"#N/A"}}]
[7309,8.8968617444803915,{"$f":" IF(Foglio1!$C$11 <> \"\", 8.314472*Foglio1!$C$11*Foglio2!B818, NA())","v":22191.812358706011},{"$f":"IF(Foglio1!$H$11 <> \"\", Foglio1!$H$11 + C818*10^-3, NA())","v":-67.808187641293983},7309,8.8968617444803915,{"$f":" IF(Foglio1!$C$12 <> \"\", 8.314472*Foglio1!$C$12*Foglio2!F818, NA())","v":{"$error":"#N/A"}},{"$f":"IF(Foglio1!$H$12 <> \"\", Foglio1!$H$12 + G818*10^-3, NA())","v":{"$error":"#N/A"}},7309,8.8968617444803915,{"$f":" IF(Foglio1!$C$13 <> \"\", 8.314472*Foglio1!$C$13*Foglio2!J818, NA())","v":{"$error":"#N/A"}},{"$f":"IF(Foglio1!$H$13 <> \"\", Foglio1!$H$13 + K818*10^-3, NA())","v":{"$error":"#N/A"}},7309,8.8968617444803915,{"$f":" IF(Foglio1!$C$14 <> \"\", 8.314472*Foglio1!$C$14*Foglio2!N818, NA())","v":{"$error":"#N/A"}},{"$f":"IF(Foglio1!$H$14 <> \"\", Foglio1!$H$14 + O818*10^-3, NA())","v":{"$error":"#N/A"}},7309,8.8968617444803915,{"$f":" IF(Foglio1!$C$15 <> \"\", 8.314472*Foglio1!$C$15*Foglio2!R818, NA())","v":{"$error":"#N/A"}},{"$f":"IF(Foglio1!$H$15 <> \"\", Foglio1!$H$15 + S818*10^-3, NA())","v":{"$error":"#N/A"}}]
[7318,8.898092345579153,{"$f":" IF(Foglio1!$C$11 <> \"\", 8.314472*Foglio1!$C$11*Foglio2!B819, NA())","v":22194.881898219661},{"$f":"IF(Foglio1!$H$11 <> \"\", Foglio1!$H$11 + C819*10^-3, NA())","v":-67.805118101780337},7318,8.898092345579153,{"$f":" IF(Foglio1!$C$12 <> \"\", 8.314472*Foglio1!$C$12*Foglio2!F819, NA())","v":{"$error":"#N/A"}},{"$f":"IF(Foglio1!$H$12 <> \"\", Foglio1!$H$12 + G819*10^-3, NA())","v":{"$error":"#N/A"}},7318,8.898092345579153,{"$f":" IF(Foglio1!$C$13 <> \"\", 8.314472*Foglio1!$C$13*Foglio2!J819, NA())","v":{"$error":"#N/A"}},{"$f":"IF(Foglio1!$H$13 <> \"\", Foglio1!$H$13 + K819*10^-3, NA())","v":{"$error":"#N/A"}},7318,8.898092345579153,{"$f":" IF(Foglio1!$C$14 <> \"\", 8.314472*Foglio1!$C$14*Foglio2!N819, NA())","v":{"$error":"#N/A"}},{"$f":"IF(Foglio1!$H$14 <> \"\", Foglio1!$H$14 + O819*10^-3, NA())","v":{"$error":"#N/A"}},7318,8.898092345579153,{"$f":" IF(Foglio1!$C$15 <> \"\", 8.314472*Foglio1!$C$15*Foglio2!R819, NA())","v":{"$error":"#N/A"}},{"$f":"IF(Foglio1!$H$15 <> \"\", Foglio1!$H$15 + S819*10^-3, NA())","v":{"$error":"#N/A"}}]
[7327,8.8993214341599636,{"$f":" IF(Foglio1!$C$11 <> \"\", 8.314472*Foglio1!$C$11*Foglio2!B820, NA())","v":22197.94766499686},{"$f":"IF(Foglio1!$H$11 <> \"\", Foglio1!$H$11 + C820*10^-3, NA())","v":-67.80205233500314},7327,8.8993214341599636,{"$f":" IF(Foglio1!$C$12 <> \"\", 8.314472*Foglio1!$C$12*Foglio2!F820, NA())","v":{"$error":"#N/A"}},{"$f":"IF(Foglio1!$H$12 <> \"\", Foglio1!$H$12 + G820*10^-3, NA())","v":{"$error":"#N/A"}},7327,8.8993214341599636,{"$f":" IF(Foglio1!$C$13 <> \"\", 8.314472*Foglio1!$C$13*Foglio2!J820, NA())","v":{"$error":"#N/A"}},{"$f":"IF(Foglio1!$H$13 <> \"\", Foglio1!$H$13 + K820*10^-3, NA())","v":{"$error":"#N/A"}},7327,8.8993214341599636,{"$f":" IF(Foglio1!$C$14 <> \"\", 8.314472*Foglio1!$C$14*Foglio2!N820, NA())","v":{"$error":"#N/A"}},{"$f":"IF(Foglio1!$H$14 <> \"\", Foglio1!$H$14 + O820*10^-3, NA())","v":{"$error":"#N/A"}},7327,8.8993214341599636,{"$f":" IF(Foglio1!$C$15 <> \"\", 8.314472*Foglio1!$C$15*Foglio2!R820, NA())","v":{"$error":"#N/A"}},{"$f":"IF(Foglio1!$H$15 <> \"\", Foglio1!$H$15 + S820*10^-3, NA())","v":{"$error":"#N/A"}}]
[7336,8.9005490139363008,{"$f":" IF(Foglio1!$C$11 <> \"\", 8.314472*Foglio1!$C$11*Foglio2!B821, NA())","v":22201.009668300296},{"$f":"IF(Foglio1!$H$11 <> \"\", Foglio1!$H$11 + C821*10^-3, NA())","v":-67.798990331699699},7336,8.9005490139363008,{"$f":" IF(Foglio1!$C$12 <> \"\", 8.314472*Foglio1!$C$12*Foglio2!F821, NA())","v":{"$error":"#N/A"}},{"$f":"IF(Foglio1!$H$12 <> \"\", Foglio1!$H$12 + G821*10^-3, NA())","v":{"$error":"#N/A"}},7336,8.9005490139363008,{"$f":" IF(Foglio1!$C$13 <> \"\", 8.314472*Foglio1!$C$13*Foglio2!J821, NA())","v":{"$error":"#N/A"}},{"$f":"IF(Foglio1!$H$13 <> \"\", Foglio1!$H$13 + K821*10^-3, NA())","v":{"$error":"#N/A"}},7336,8.9005490139363008,{"$f":" IF(Foglio1!$C$14 <> \"\", 8.314472*Foglio1!$C$14*Foglio2!N821, NA())","v":{"$error":"#N/A"}},{"$f":"IF(Foglio1!$H$14 <> \"\", Foglio1!$H$14 + O821*10^-3, NA())","v":{"$error":"#N/A"}},7336,8.9005490139363008,{"$f":" IF(Foglio1!$C$15 <> \"\", 8.314472*Foglio1!$C$15*Foglio2!R821, NA())","v":{"$error":"#N/A"}},{"$f":"IF(Foglio1!$H$15 <> \"\", Foglio1!$H$15 + S821*10^-3, NA())","v":{"$error":"#N/A"}}]
[7345,8.9017750886079785,{"$f":" IF(Foglio1!$C$11 <> \"\", 8.314472*Foglio1!$C$11*Foglio2!B822, NA())","v":22204.06791735857},{"$f":"IF(Foglio1!$H$11 <> \"\", Foglio1!$H$11 + C822*10^-3, NA())","v":-67.795932082641428},7345,8.9017750886079785,{"$f":" IF(Foglio1!$C$12 <> \"\", 8.314472*Foglio1!$C$12*Foglio2!F822, NA())","v":{"$error":"#N/A"}},{"$f":"IF(Foglio1!$H$12 <> \"\", Foglio1!$H$12 + G822*10^-3, NA())","v":{"$error":"#N/A"}},7345,8.9017750886079785,{"$f":" IF(Foglio1!$C$13 <> \"\", 8.314472*Foglio1!$C$13*Foglio2!J822, NA())","v":{"$error":"#N/A"}},{"$f":"IF(Foglio1!$H$13 <> \"\", Foglio1!$H$13 + K822*10^-3, NA())","v":{"$error":"#N/A"}},7345,8.9017750886079785,{"$f":" IF(Foglio1!$C$14 <> \"\", 8.314472*Foglio1!$C$14*Foglio2!N822, NA())","v":{"$error":"#N/A"}},{"$f":"IF(Foglio1!$H$14 <> \"\", Foglio1!$H$14 + O822*10^-3, NA())","v":{"$error":"#N/A"}},7345,8.9017750886079785,{"$f":" IF(Foglio1!$C$15 <> \"\", 8.314472*Foglio1!$C$15*Foglio2!R822, NA())","v":{"$error":"#N/A"}},{"$f":"IF(Foglio1!$H$15 <> \"\", Foglio1!$H$15 + S822*10^-3, NA())","v":{"$error":"#N/A"}}]
[7354,8.9029996618612177,{"$f":" IF(Foglio1!$C$11 <> \"\", 8.314472*Foglio1!$C$11*Foglio2!B823, NA())","v":22207.12242136637},{"$f":"IF(Foglio1!$H$11 <> \"\", Foglio1!$H$11 + C823*10^-3, NA())","v":-67.792877578633636},7354,8.9029996618612177,{"$f":" IF(Foglio1!$C$12 <> \"\", 8.314472*Foglio1!$C$12*Foglio2!F823, NA())","v":{"$error":"#N/A"}},{"$f":"IF(Foglio1!$H$12 <> \"\", Foglio1!$H$12 + G823*10^-3, NA())","v":{"$error":"#N/A"}},7354,8.9029996618612177,{"$f":" IF(Foglio1!$C$13 <> \"\", 8.314472*Foglio1!$C$13*Foglio2!J823, NA())","v":{"$error":"#N/A"}},{"$f":"IF(Foglio1!$H$13 <> \"\", Foglio1!$H$13 + K823*10^-3, NA())","v":{"$error":"#N/A"}},7354,8.9029996618612177,{"$f":" IF(Foglio1!$C$14 <> \"\", 8.314472*Foglio1!$C$14*Foglio2!N823, NA())","v":{"$error":"#N/A"}},{"$f":"IF(Foglio1!$H$14 <> \"\", Foglio1!$H$14 + O823*10^-3, NA())","v":{"$error":"#N/A"}},7354,8.9029996618612177,{"$f":" IF(Foglio1!$C$15 <> \"\", 8.314472*Foglio1!$C$15*Foglio2!R823, NA())","v":{"$error":"#N/A"}},{"$f":"IF(Foglio1!$H$15 <> \"\", Foglio1!$H$15 + S823*10^-3, NA())","v":{"$error":"#N/A"}}]
[7363,8.9042227373687162,{"$f":" IF(Foglio1!$C$11 <> \"\", 8.314472*Foglio1!$C$11*Foglio2!B824, NA())","v":22210.173189484663},{"$f":"IF(Foglio1!$H$11 <> \"\", Foglio1!$H$11 + C824*10^-3, NA())","v":-67.789826810515336},7363,8.9042227373687162,{"$f":" IF(Foglio1!$C$12 <> \"\", 8.314472*Foglio1!$C$12*Foglio2!F824, NA())","v":{"$error":"#N/A"}},{"$f":"IF(Foglio1!$H$12 <> \"\", Foglio1!$H$12 + G824*10^-3, NA())","v":{"$error":"#N/A"}},7363,8.9042227373687162,{"$f":" IF(Foglio1!$C$13 <> \"\", 8.314472*Foglio1!$C$13*Foglio2!J824, NA())","v":{"$error":"#N/A"}},{"$f":"IF(Foglio1!$H$13 <> \"\", Foglio1!$H$13 + K824*10^-3, NA())","v":{"$error":"#N/A"}},7363,8.9042227373687162,{"$f":" IF(Foglio1!$C$14 <> \"\", 8.314472*Foglio1!$C$14*Foglio2!N824, NA())","v":{"$error":"#N/A"}},{"$f":"IF(Foglio1!$H$14 <> \"\", Foglio1!$H$14 + O824*10^-3, NA())","v":{"$error":"#N/A"}},7363,8.9042227373687162,{"$f":" IF(Foglio1!$C$15 <> \"\", 8.314472*Foglio1!$C$15*Foglio2!R824, NA())","v":{"$error":"#N/A"}},{"$f":"IF(Foglio1!$H$15 <> \"\", Foglio1!$H$15 + S824*10^-3, NA())","v":{"$error":"#N/A"}}]
[7372,8.9054443187897139,{"$f":" IF(Foglio1!$C$11 <> \"\", 8.314472*Foglio1!$C$11*Foglio2!B825, NA())","v":22213.220230840845},{"$f":"IF(Foglio1!$H$11 <> \"\", Foglio1!$H$11 + C825*10^-3, NA())","v":-67.786779769159153},7372,8.9054443187897139,{"$f":" IF(Foglio1!$C$12 <> \"\", 8.314472*Foglio1!$C$12*Foglio2!F825, NA())","v":{"$error":"#N/A"}},{"$f":"IF(Foglio1!$H$12 <> \"\", Foglio1!$H$12 + G825*10^-3, NA())","v":{"$error":"#N/A"}},7372,8.9054443187897139,{"$f":" IF(Foglio1!$C$13 <> \"\", 8.314472*Foglio1!$C$13*Foglio2!J825, NA())","v":{"$error":"#N/A"}},{"$f":"IF(Foglio1!$H$13 <> \"\", Foglio1!$H$13 + K825*10^-3, NA())","v":{"$error":"#N/A"}},7372,8.9054443187897139,{"$f":" IF(Foglio1!$C$14 <> \"\", 8.314472*Foglio1!$C$14*Foglio2!N825, NA())","v":{"$error":"#N/A"}},{"$f":"IF(Foglio1!$H$14 <> \"\", Foglio1!$H$14 + O825*10^-3, NA())","v":{"$error":"#N/A"}},7372,8.9054443187897139,{"$f":" IF(Foglio1!$C$15 <> \"\", 8.314472*Foglio1!$C$15*Foglio2!R825, NA())","v":{"$error":"#N/A"}},{"$f":"IF(Foglio1!$H$15 <> \"\", Foglio1!$H$15 + S825*10^-3, NA())","v":{"$error":"#N/A"}}]
[7381,8.9066644097700518,{"$f":" IF(Foglio1!$C$11 <> \"\", 8.314472*Foglio1!$C$11*Foglio2!B826, NA())","v":22216.263554528887},{"$f":"IF(Foglio1!$H$11 <> \"\", Foglio1!$H$11 + C826*10^-3, NA())","v":-67.783736445471106},7381,8.9066644097700518,{"$f":" IF(Foglio1!$C$12 <> \"\", 8.314472*Foglio1!$C$12*Foglio2!F826, NA())","v":{"$error":"#N/A"}},{"$f":"IF(Foglio1!$H$12 <> \"\", Foglio1!$H$12 + G826*10^-3, NA())","v":{"$error":"#N/A"}},7381,8.9066644097700518,{"$f":" IF(Foglio1!$C$13 <> \"\", 8.314472*Foglio1!$C$13*Foglio2!J826, NA())","v":{"$error":"#N/A"}},{"$f":"IF(Foglio1!$H$13 <> \"\", Foglio1!$H$13 + K826*10^-3, NA())","v":{"$error":"#N/A"}},7381,8.9066644097700518,{"$f":" IF(Foglio1!$C$14 <> \"\", 8.314472*Foglio1!$C$14*Foglio2!N826, NA())","v":{"$error":"#N/A"}},{"$f":"IF(Foglio1!$H$14 <> \"\", Foglio1!$H$14 + O826*10^-3, NA())","v":{"$error":"#N/A"}},7381,8.9066644097700518,{"$f":" IF(Foglio1!$C$15 <> \"\", 8.314472*Foglio1!$C$15*Foglio2!R826, NA())","v":{"$error":"#N/A"}},{"$f":"IF(Foglio1!$H$15 <> \"\", Foglio1!$H$15 + S826*10^-3, NA())","v":{"$error":"#N/A"}}]
[7390,8.9078830139422482,{"$f":" IF(Foglio1!$C$11 <> \"\", 8.314472*Foglio1!$C$11*Foglio2!B827, NA())","v":22219.303169609531},{"$f":"IF(Foglio1!$H$11 <> \"\", Foglio1!$H$11 + C827*10^-3, NA())","v":-67.780696830390468},7390,8.9078830139422482,{"$f":" IF(Foglio1!$C$12 <> \"\", 8.314472*Foglio1!$C$12*Foglio2!F827, NA())","v":{"$error":"#N/A"}},{"$f":"IF(Foglio1!$H$12 <> \"\", Foglio1!$H$12 + G827*10^-3, NA())","v":{"$error":"#N/A"}},7390,8.9078830139422482,{"$f":" IF(Foglio1!$C$13 <> \"\", 8.314472*Foglio1!$C$13*Foglio2!J827, NA())","v":{"$error":"#N/A"}},{"$f":"IF(Foglio1!$H$13 <> \"\", Foglio1!$H$13 + K827*10^-3, NA())","v":{"$error":"#N/A"}},7390,8.9078830139422482,{"$f":" IF(Foglio1!$C$14 <> \"\", 8.314472*Foglio1!$C$14*Foglio2!N827, NA())","v":{"$error":"#N/A"}},{"$f":"IF(Foglio1!$H$14 <> \"\", Foglio1!$H$14 + O827*10^-3, NA())","v":{"$error":"#N/A"}},7390,8.9078830139422482,{"$f":" IF(Foglio1!$C$15 <> \"\", 8.314472*Foglio1!$C$15*Foglio2!R827, NA())","v":{"$error":"#N/A"}},{"$f":"IF(Foglio1!$H$15 <> \"\", Foglio1!$H$15 + S827*10^-3, NA())","v":{"$error":"#N/A"}}]
[7399,8.9091001349255503,{"$f":" IF(Foglio1!$C$11 <> \"\", 8.314472*Foglio1!$C$11*Foglio2!B828, NA())","v":22222.339085110416},{"$f":"IF(Foglio1!$H$11 <> \"\", Foglio1!$H$11 + C828*10^-3, NA())","v":-67.77766091488958},7399,8.9091001349255503,{"$f":" IF(Foglio1!$C$12 <> \"\", 8.314472*Foglio1!$C$12*Foglio2!F828, NA())","v":{"$error":"#N/A"}},{"$f":"IF(Foglio1!$H$12 <> \"\", Foglio1!$H$12 + G828*10^-3, NA())","v":{"$error":"#N/A"}},7399,8.9091001349255503,{"$f":" IF(Foglio1!$C$13 <> \"\", 8.314472*Foglio1!$C$13*Foglio2!J828, NA())","v":{"$error":"#N/A"}},{"$f":"IF(Foglio1!$H$13 <> \"\", Foglio1!$H$13 + K828*10^-3, NA())","v":{"$error":"#N/A"}},7399,8.9091001349255503,{"$f":" IF(Foglio1!$C$14 <> \"\", 8.314472*Foglio1!$C$14*Foglio2!N828, NA())","v":{"$error":"#N/A"}},{"$f":"IF(Foglio1!$H$14 <> \"\", Foglio1!$H$14 + O828*10^-3, NA())","v":{"$error":"#N/A"}},7399,8.9091001349255503,{"$f":" IF(Foglio1!$C$15 <> \"\", 8.314472*Foglio1!$C$15*Foglio2!R828, NA())","v":{"$error":"#N/A"}},{"$f":"IF(Foglio1!$H$15 <> \"\", Foglio1!$H$15 + S828*10^-3, NA())","v":{"$error":"#N/A"}}]
[7408,8.9103157763260157,{"$f":" IF(Foglio1!$C$11 <> \"\", 8.314472*Foglio1!$C$11*Foglio2!B829, NA())","v":22225.371310026279},{"$f":"IF(Foglio1!$H$11 <> \"\", Foglio1!$H$11 + C829*10^-3, NA())","v":-67.774628689973724},7408,8.9103157763260157,{"$f":" IF(Foglio1!$C$12 <> \"\", 8.314472*Foglio1!$C$12*Foglio2!F829, NA())","v":{"$error":"#N/A"}},{"$f":"IF(Foglio1!$H$12 <> \"\", Foglio1!$H$12 + G829*10^-3, NA())","v":{"$error":"#N/A"}},7408,8.9103157763260157,{"$f":" IF(Foglio1!$C$13 <> \"\", 8.314472*Foglio1!$C$13*Foglio2!J829, NA())","v":{"$error":"#N/A"}},{"$f":"IF(Foglio1!$H$13 <> \"\", Foglio1!$H$13 + K829*10^-3, NA())","v":{"$error":"#N/A"}},7408,8.9103157763260157,{"$f":" IF(Foglio1!$C$14 <> \"\", 8.314472*Foglio1!$C$14*Foglio2!N829, NA())","v":{"$error":"#N/A"}},{"$f":"IF(Foglio1!$H$14 <> \"\", Foglio1!$H$14 + O829*10^-3, NA())","v":{"$error":"#N/A"}},7408,8.9103157763260157,{"$f":" IF(Foglio1!$C$15 <> \"\", 8.314472*Foglio1!$C$15*Foglio2!R829, NA())","v":{"$error":"#N/A"}},{"$f":"IF(Foglio1!$H$15 <> \"\", Foglio1!$H$15 + S829*10^-3, NA())","v":{"$error":"#N/A"}}]
[7417,8.9115299417365588,{"$f":" IF(Foglio1!$C$11 <> \"\", 8.314472*Foglio1!$C$11*Foglio2!B830, NA())","v":22228.399853319075},{"$f":"IF(Foglio1!$H$11 <> \"\", Foglio1!$H$11 + C830*10^-3, NA())","v":-67.771600146680925},7417,8.9115299417365588,{"$f":" IF(Foglio1!$C$12 <> \"\", 8.314472*Foglio1!$C$12*Foglio2!F830, NA())","v":{"$error":"#N/A"}},{"$f":"IF(Foglio1!$H$12 <> \"\", Foglio1!$H$12 + G830*10^-3, NA())","v":{"$error":"#N/A"}},7417,8.9115299417365588,{"$f":" IF(Foglio1!$C$13 <> \"\", 8.314472*Foglio1!$C$13*Foglio2!J830, NA())","v":{"$error":"#N/A"}},{"$f":"IF(Foglio1!$H$13 <> \"\", Foglio1!$H$13 + K830*10^-3, NA())","v":{"$error":"#N/A"}},7417,8.9115299417365588,{"$f":" IF(Foglio1!$C$14 <> \"\", 8.314472*Foglio1!$C$14*Foglio2!N830, NA())","v":{"$error":"#N/A"}},{"$f":"IF(Foglio1!$H$14 <> \"\", Foglio1!$H$14 + O830*10^-3, NA())","v":{"$error":"#N/A"}},7417,8.9115299417365588,{"$f":" IF(Foglio1!$C$15 <> \"\", 8.314472*Foglio1!$C$15*Foglio2!R830, NA())","v":{"$error":"#N/A"}},{"$f":"IF(Foglio1!$H$15 <> \"\", Foglio1!$H$15 + S830*10^-3, NA())","v":{"$error":"#N/A"}}]
[7426,8.9127426347370253,{"$f":" IF(Foglio1!$C$11 <> \"\", 8.314472*Foglio1!$C$11*Foglio2!B831, NA())","v":22231.424723918168},{"$f":"IF(Foglio1!$H$11 <> \"\", Foglio1!$H$11 + C831*10^-3, NA())","v":-67.768575276081833},7426,8.9127426347370253,{"$f":" IF(Foglio1!$C$12 <> \"\", 8.314472*Foglio1!$C$12*Foglio2!F831, NA())","v":{"$error":"#N/A"}},{"$f":"IF(Foglio1!$H$12 <> \"\", Foglio1!$H$12 + G831*10^-3, NA())","v":{"$error":"#N/A"}},7426,8.9127426347370253,{"$f":" IF(Foglio1!$C$13 <> \"\", 8.314472*Foglio1!$C$13*Foglio2!J831, NA())","v":{"$error":"#N/A"}},{"$f":"IF(Foglio1!$H$13 <> \"\", Foglio1!$H$13 + K831*10^-3, NA())","v":{"$error":"#N/A"}},7426,8.9127426347370253,{"$f":" IF(Foglio1!$C$14 <> \"\", 8.314472*Foglio1!$C$14*Foglio2!N831, NA())","v":{"$error":"#N/A"}},{"$f":"IF(Foglio1!$H$14 <> \"\", Foglio1!$H$14 + O831*10^-3, NA())","v":{"$error":"#N/A"}},7426,8.9127426347370253,{"$f":" IF(Foglio1!$C$15 <> \"\", 8.314472*Foglio1!$C$15*Foglio2!R831, NA())","v":{"$error":"#N/A"}},{"$f":"IF(Foglio1!$H$15 <> \"\", Foglio1!$H$15 + S831*10^-3, NA())","v":{"$error":"#N/A"}}]
[7435,8.9139538588942546,{"$f":" IF(Foglio1!$C$11 <> \"\", 8.314472*Foglio1!$C$11*Foglio2!B832, NA())","v":22234.445930720471},{"$f":"IF(Foglio1!$H$11 <> \"\", Foglio1!$H$11 + C832*10^-3, NA())","v":-67.765554069279531},7435,8.9139538588942546,{"$f":" IF(Foglio1!$C$12 <> \"\", 8.314472*Foglio1!$C$12*Foglio2!F832, NA())","v":{"$error":"#N/A"}},{"$f":"IF(Foglio1!$H$12 <> \"\", Foglio1!$H$12 + G832*10^-3, NA())","v":{"$error":"#N/A"}},7435,8.9139538588942546,{"$f":" IF(Foglio1!$C$13 <> \"\", 8.314472*Foglio1!$C$13*Foglio2!J832, NA())","v":{"$error":"#N/A"}},{"$f":"IF(Foglio1!$H$13 <> \"\", Foglio1!$H$13 + K832*10^-3, NA())","v":{"$error":"#N/A"}},7435,8.9139538588942546,{"$f":" IF(Foglio1!$C$14 <> \"\", 8.314472*Foglio1!$C$14*Foglio2!N832, NA())","v":{"$error":"#N/A"}},{"$f":"IF(Foglio1!$H$14 <> \"\", Foglio1!$H$14 + O832*10^-3, NA())","v":{"$error":"#N/A"}},7435,8.9139538588942546,{"$f":" IF(Foglio1!$C$15 <> \"\", 8.314472*Foglio1!$C$15*Foglio2!R832, NA())","v":{"$error":"#N/A"}},{"$f":"IF(Foglio1!$H$15 <> \"\", Foglio1!$H$15 + S832*10^-3, NA())","v":{"$error":"#N/A"}}]
[7444,8.9151636177621416,{"$f":" IF(Foglio1!$C$11 <> \"\", 8.314472*Foglio1!$C$11*Foglio2!B833, NA())","v":22237.463482590611},{"$f":"IF(Foglio1!$H$11 <> \"\", Foglio1!$H$11 + C833*10^-3, NA())","v":-67.762536517409387},7444,8.9151636177621416,{"$f":" IF(Foglio1!$C$12 <> \"\", 8.314472*Foglio1!$C$12*Foglio2!F833, NA())","v":{"$error":"#N/A"}},{"$f":"IF(Foglio1!$H$12 <> \"\", Foglio1!$H$12 + G833*10^-3, NA())","v":{"$error":"#N/A"}},7444,8.9151636177621416,{"$f":" IF(Foglio1!$C$13 <> \"\", 8.314472*Foglio1!$C$13*Foglio2!J833, NA())","v":{"$error":"#N/A"}},{"$f":"IF(Foglio1!$H$13 <> \"\", Foglio1!$H$13 + K833*10^-3, NA())","v":{"$error":"#N/A"}},7444,8.9151636177621416,{"$f":" IF(Foglio1!$C$14 <> \"\", 8.314472*Foglio1!$C$14*Foglio2!N833, NA())","v":{"$error":"#N/A"}},{"$f":"IF(Foglio1!$H$14 <> \"\", Foglio1!$H$14 + O833*10^-3, NA())","v":{"$error":"#N/A"}},7444,8.9151636177621416,{"$f":" IF(Foglio1!$C$15 <> \"\", 8.314472*Foglio1!$C$15*Foglio2!R833, NA())","v":{"$error":"#N/A"}},{"$f":"IF(Foglio1!$H$15 <> \"\", Foglio1!$H$15 + S833*10^-3, NA())","v":{"$error":"#N/A"}}]
[7453,8.9163719148816938,{"$f":" IF(Foglio1!$C$11 <> \"\", 8.314472*Foglio1!$C$11*Foglio2!B834, NA())","v":22240.477388361069},{"$f":"IF(Foglio1!$H$11 <> \"\", Foglio1!$H$11 + C834*10^-3, NA())","v":-67.759522611638928},7453,8.9163719148816938,{"$f":" IF(Foglio1!$C$12 <> \"\", 8.314472*Foglio1!$C$12*Foglio2!F834, NA())","v":{"$error":"#N/A"}},{"$f":"IF(Foglio1!$H$12 <> \"\", Foglio1!$H$12 + G834*10^-3, NA())","v":{"$error":"#N/A"}},7453,8.9163719148816938,{"$f":" IF(Foglio1!$C$13 <> \"\", 8.314472*Foglio1!$C$13*Foglio2!J834, NA())","v":{"$error":"#N/A"}},{"$f":"IF(Foglio1!$H$13 <> \"\", Foglio1!$H$13 + K834*10^-3, NA())","v":{"$error":"#N/A"}},7453,8.9163719148816938,{"$f":" IF(Foglio1!$C$14 <> \"\", 8.314472*Foglio1!$C$14*Foglio2!N834, NA())","v":{"$error":"#N/A"}},{"$f":"IF(Foglio1!$H$14 <> \"\", Foglio1!$H$14 + O834*10^-3, NA())","v":{"$error":"#N/A"}},7453,8.9163719148816938,{"$f":" IF(Foglio1!$C$15 <> \"\", 8.314472*Foglio1!$C$15*Foglio2!R834, NA())","v":{"$error":"#N/A"}},{"$f":"IF(Foglio1!$H$15 <> \"\", Foglio1!$H$15 + S834*10^-3, NA())","v":{"$error":"#N/A"}}]
[7462,{"$f":"LN(A835)","v":8.917578753781104},{"$f":" IF(Foglio1!$C$11 <> \"\", 8.314472*Foglio1!$C$11*Foglio2!B835, NA())","v":22243.487656832367},{"$f":"IF(Foglio1!$H$11 <> \"\", Foglio1!$H$11 + C835*10^-3, NA())","v":-67.756512343167628},7462,{"$f":"LN(E835)","v":8.917578753781104},{"$f":" IF(Foglio1!$C$12 <> \"\", 8.314472*Foglio1!$C$12*Foglio2!F835, NA())","v":{"$error":"#N/A"}},{"$f":"IF(Foglio1!$H$12 <> \"\", Foglio1!$H$12 + G835*10^-3, NA())","v":{"$error":"#N/A"}},7462,{"$f":"LN(I835)","v":8.917578753781104},{"$f":" IF(Foglio1!$C$13 <> \"\", 8.314472*Foglio1!$C$13*Foglio2!J835, NA())","v":{"$error":"#N/A"}},{"$f":"IF(Foglio1!$H$13 <> \"\", Foglio1!$H$13 + K835*10^-3, NA())","v":{"$error":"#N/A"}},7462,{"$f":"LN(M835)","v":8.917578753781104},{"$f":" IF(Foglio1!$C$14 <> \"\", 8.314472*Foglio1!$C$14*Foglio2!N835, NA())","v":{"$error":"#N/A"}},{"$f":"IF(Foglio1!$H$14 <> \"\", Foglio1!$H$14 + O835*10^-3, NA())","v":{"$error":"#N/A"}},7462,{"$f":"LN(Q835)","v":8.917578753781104},{"$f":" IF(Foglio1!$C$15 <> \"\", 8.314472*Foglio1!$C$15*Foglio2!R835, NA())","v":{"$error":"#N/A"}},{"$f":"IF(Foglio1!$H$15 <> \"\", Foglio1!$H$15 + S835*10^-3, NA())","v":{"$error":"#N/A"}}]
[7471,8.9187841379758019,{"$f":" IF(Foglio1!$C$11 <> \"\", 8.314472*Foglio1!$C$11*Foglio2!B836, NA())","v":22246.494296773184},{"$f":"IF(Foglio1!$H$11 <> \"\", Foglio1!$H$11 + C836*10^-3, NA())","v":-67.753505703226807},7471,8.9187841379758019,{"$f":" IF(Foglio1!$C$12 <> \"\", 8.314472*Foglio1!$C$12*Foglio2!F836, NA())","v":{"$error":"#N/A"}},{"$f":"IF(Foglio1!$H$12 <> \"\", Foglio1!$H$12 + G836*10^-3, NA())","v":{"$error":"#N/A"}},7471,8.9187841379758019,{"$f":" IF(Foglio1!$C$13 <> \"\", 8.314472*Foglio1!$C$13*Foglio2!J836, NA())","v":{"$error":"#N/A"}},{"$f":"IF(Foglio1!$H$13 <> \"\", Foglio1!$H$13 + K836*10^-3, NA())","v":{"$error":"#N/A"}},7471,8.9187841379758019,{"$f":" IF(Foglio1!$C$14 <> \"\", 8.314472*Foglio1!$C$14*Foglio2!N836, NA())","v":{"$error":"#N/A"}},{"$f":"IF(Foglio1!$H$14 <> \"\", Foglio1!$H$14 + O836*10^-3, NA())","v":{"$error":"#N/A"}},7471,8.9187841379758019,{"$f":" IF(Foglio1!$C$15 <> \"\", 8.314472*Foglio1!$C$15*Foglio2!R836, NA())","v":{"$error":"#N/A"}},{"$f":"IF(Foglio1!$H$15 <> \"\", Foglio1!$H$15 + S836*10^-3, NA())","v":{"$error":"#N/A"}}]
[7480,8.9199880709685235,{"$f":" IF(Foglio1!$C$11 <> \"\", 8.314472*Foglio1!$C$11*Foglio2!B837, NA())","v":22249.497316920544},{"$f":"IF(Foglio1!$H$11 <> \"\", Foglio1!$H$11 + C837*10^-3, NA())","v":-67.750502683079461},7480,8.9199880709685235,{"$f":" IF(Foglio1!$C$12 <> \"\", 8.314472*Foglio1!$C$12*Foglio2!F837, NA())","v":{"$error":"#N/A"}},{"$f":"IF(Foglio1!$H$12 <> \"\", Foglio1!$H$12 + G837*10^-3, NA())","v":{"$error":"#N/A"}},7480,8.9199880709685235,{"$f":" IF(Foglio1!$C$13 <> \"\", 8.314472*Foglio1!$C$13*Foglio2!J837, NA())","v":{"$error":"#N/A"}},{"$f":"IF(Foglio1!$H$13 <> \"\", Foglio1!$H$13 + K837*10^-3, NA())","v":{"$error":"#N/A"}},7480,8.9199880709685235,{"$f":" IF(Foglio1!$C$14 <> \"\", 8.314472*Foglio1!$C$14*Foglio2!N837, NA())","v":{"$error":"#N/A"}},{"$f":"IF(Foglio1!$H$14 <> \"\", Foglio1!$H$14 + O837*10^-3, NA())","v":{"$error":"#N/A"}},7480,8.9199880709685235,{"$f":" IF(Foglio1!$C$15 <> \"\", 8.314472*Foglio1!$C$15*Foglio2!R837, NA())","v":{"$error":"#N/A"}},{"$f":"IF(Foglio1!$H$15 <> \"\", Foglio1!$H$15 + S837*10^-3, NA())","v":{"$error":"#N/A"}}]
[7489,8.9211905562493676,{"$f":" IF(Foglio1!$C$11 <> \"\", 8.314472*Foglio1!$C$11*Foglio2!B838, NA())","v":22252.496725979938},{"$f":"IF(Foglio1!$H$11 <> \"\", Foglio1!$H$11 + C838*10^-3, NA())","v":-67.747503274020062},7489,8.9211905562493676,{"$f":" IF(Foglio1!$C$12 <> \"\", 8.314472*Foglio1!$C$12*Foglio2!F838, NA())","v":{"$error":"#N/A"}},{"$f":"IF(Foglio1!$H$12 <> \"\", Foglio1!$H$12 + G838*10^-3, NA())","v":{"$error":"#N/A"}},7489,8.9211905562493676,{"$f":" IF(Foglio1!$C$13 <> \"\", 8.314472*Foglio1!$C$13*Foglio2!J838, NA())","v":{"$error":"#N/A"}},{"$f":"IF(Foglio1!$H$13 <> \"\", Foglio1!$H$13 + K838*10^-3, NA())","v":{"$error":"#N/A"}},7489,8.9211905562493676,{"$f":" IF(Foglio1!$C$14 <> \"\", 8.314472*Foglio1!$C$14*Foglio2!N838, NA())","v":{"$error":"#N/A"}},{"$f":"IF(Foglio1!$H$14 <> \"\", Foglio1!$H$14 + O838*10^-3, NA())","v":{"$error":"#N/A"}},7489,8.9211905562493676,{"$f":" IF(Foglio1!$C$15 <> \"\", 8.314472*Foglio1!$C$15*Foglio2!R838, NA())","v":{"$error":"#N/A"}},{"$f":"IF(Foglio1!$H$15 <> \"\", Foglio1!$H$15 + S838*10^-3, NA())","v":{"$error":"#N/A"}}]
[7498,8.9223915972958565,{"$f":" IF(Foglio1!$C$11 <> \"\", 8.314472*Foglio1!$C$11*Foglio2!B839, NA())","v":22255.492532625503},{"$f":"IF(Foglio1!$H$11 <> \"\", Foglio1!$H$11 + C839*10^-3, NA())","v":-67.74450746737449},7498,8.9223915972958565,{"$f":" IF(Foglio1!$C$12 <> \"\", 8.314472*Foglio1!$C$12*Foglio2!F839, NA())","v":{"$error":"#N/A"}},{"$f":"IF(Foglio1!$H$12 <> \"\", Foglio1!$H$12 + G839*10^-3, NA())","v":{"$error":"#N/A"}},7498,8.9223915972958565,{"$f":" IF(Foglio1!$C$13 <> \"\", 8.314472*Foglio1!$C$13*Foglio2!J839, NA())","v":{"$error":"#N/A"}},{"$f":"IF(Foglio1!$H$13 <> \"\", Foglio1!$H$13 + K839*10^-3, NA())","v":{"$error":"#N/A"}},7498,8.9223915972958565,{"$f":" IF(Foglio1!$C$14 <> \"\", 8.314472*Foglio1!$C$14*Foglio2!N839, NA())","v":{"$error":"#N/A"}},{"$f":"IF(Foglio1!$H$14 <> \"\", Foglio1!$H$14 + O839*10^-3, NA())","v":{"$error":"#N/A"}},7498,8.9223915972958565,{"$f":" IF(Foglio1!$C$15 <> \"\", 8.314472*Foglio1!$C$15*Foglio2!R839, NA())","v":{"$error":"#N/A"}},{"$f":"IF(Foglio1!$H$15 <> \"\", Foglio1!$H$15 + S839*10^-3, NA())","v":{"$error":"#N/A"}}]
[7507,8.9235911975730016,{"$f":" IF(Foglio1!$C$11 <> \"\", 8.314472*Foglio1!$C$11*Foglio2!B840, NA())","v":22258.484745500158},{"$f":"IF(Foglio1!$H$11 <> \"\", Foglio1!$H$11 + C840*10^-3, NA())","v":-67.741515254499845},7507,8.9235911975730016,{"$f":" IF(Foglio1!$C$12 <> \"\", 8.314472*Foglio1!$C$12*Foglio2!F840, NA())","v":{"$error":"#N/A"}},{"$f":"IF(Foglio1!$H$12 <> \"\", Foglio1!$H$12 + G840*10^-3, NA())","v":{"$error":"#N/A"}},7507,8.9235911975730016,{"$f":" IF(Foglio1!$C$13 <> \"\", 8.314472*Foglio1!$C$13*Foglio2!J840, NA())","v":{"$error":"#N/A"}},{"$f":"IF(Foglio1!$H$13 <> \"\", Foglio1!$H$13 + K840*10^-3, NA())","v":{"$error":"#N/A"}},7507,8.9235911975730016,{"$f":" IF(Foglio1!$C$14 <> \"\", 8.314472*Foglio1!$C$14*Foglio2!N840, NA())","v":{"$error":"#N/A"}},{"$f":"IF(Foglio1!$H$14 <> \"\", Foglio1!$H$14 + O840*10^-3, NA())","v":{"$error":"#N/A"}},7507,8.9235911975730016,{"$f":" IF(Foglio1!$C$15 <> \"\", 8.314472*Foglio1!$C$15*Foglio2!R840, NA())","v":{"$error":"#N/A"}},{"$f":"IF(Foglio1!$H$15 <> \"\", Foglio1!$H$15 + S840*10^-3, NA())","v":{"$error":"#N/A"}}]
[7516,8.9247893605333566,{"$f":" IF(Foglio1!$C$11 <> \"\", 8.314472*Foglio1!$C$11*Foglio2!B841, NA())","v":22261.473373215751},{"$f":"IF(Foglio1!$H$11 <> \"\", Foglio1!$H$11 + C841*10^-3, NA())","v":-67.73852662678425},7516,8.9247893605333566,{"$f":" IF(Foglio1!$C$12 <> \"\", 8.314472*Foglio1!$C$12*Foglio2!F841, NA())","v":{"$error":"#N/A"}},{"$f":"IF(Foglio1!$H$12 <> \"\", Foglio1!$H$12 + G841*10^-3, NA())","v":{"$error":"#N/A"}},7516,8.9247893605333566,{"$f":" IF(Foglio1!$C$13 <> \"\", 8.314472*Foglio1!$C$13*Foglio2!J841, NA())","v":{"$error":"#N/A"}},{"$f":"IF(Foglio1!$H$13 <> \"\", Foglio1!$H$13 + K841*10^-3, NA())","v":{"$error":"#N/A"}},7516,8.9247893605333566,{"$f":" IF(Foglio1!$C$14 <> \"\", 8.314472*Foglio1!$C$14*Foglio2!N841, NA())","v":{"$error":"#N/A"}},{"$f":"IF(Foglio1!$H$14 <> \"\", Foglio1!$H$14 + O841*10^-3, NA())","v":{"$error":"#N/A"}},7516,8.9247893605333566,{"$f":" IF(Foglio1!$C$15 <> \"\", 8.314472*Foglio1!$C$15*Foglio2!R841, NA())","v":{"$error":"#N/A"}},{"$f":"IF(Foglio1!$H$15 <> \"\", Foglio1!$H$15 + S841*10^-3, NA())","v":{"$error":"#N/A"}}]
[7525,8.9259860896170764,{"$f":" IF(Foglio1!$C$11 <> \"\", 8.314472*Foglio1!$C$11*Foglio2!B842, NA())","v":22264.458424353204},{"$f":"IF(Foglio1!$H$11 <> \"\", Foglio1!$H$11 + C842*10^-3, NA())","v":-67.735541575646792},7525,8.9259860896170764,{"$f":" IF(Foglio1!$C$12 <> \"\", 8.314472*Foglio1!$C$12*Foglio2!F842, NA())","v":{"$error":"#N/A"}},{"$f":"IF(Foglio1!$H$12 <> \"\", Foglio1!$H$12 + G842*10^-3, NA())","v":{"$error":"#N/A"}},7525,8.9259860896170764,{"$f":" IF(Foglio1!$C$13 <> \"\", 8.314472*Foglio1!$C$13*Foglio2!J842, NA())","v":{"$error":"#N/A"}},{"$f":"IF(Foglio1!$H$13 <> \"\", Foglio1!$H$13 + K842*10^-3, NA())","v":{"$error":"#N/A"}},7525,8.9259860896170764,{"$f":" IF(Foglio1!$C$14 <> \"\", 8.314472*Foglio1!$C$14*Foglio2!N842, NA())","v":{"$error":"#N/A"}},{"$f":"IF(Foglio1!$H$14 <> \"\", Foglio1!$H$14 + O842*10^-3, NA())","v":{"$error":"#N/A"}},7525,8.9259860896170764,{"$f":" IF(Foglio1!$C$15 <> \"\", 8.314472*Foglio1!$C$15*Foglio2!R842, NA())","v":{"$error":"#N/A"}},{"$f":"IF(Foglio1!$H$15 <> \"\", Foglio1!$H$15 + S842*10^-3, NA())","v":{"$error":"#N/A"}}]
[7534,8.9271813882519861,{"$f":" IF(Foglio1!$C$11 <> \"\", 8.314472*Foglio1!$C$11*Foglio2!B843, NA())","v":22267.439907462682},{"$f":"IF(Foglio1!$H$11 <> \"\", Foglio1!$H$11 + C843*10^-3, NA())","v":-67.732560092537312},7534,8.9271813882519861,{"$f":" IF(Foglio1!$C$12 <> \"\", 8.314472*Foglio1!$C$12*Foglio2!F843, NA())","v":{"$error":"#N/A"}},{"$f":"IF(Foglio1!$H$12 <> \"\", Foglio1!$H$12 + G843*10^-3, NA())","v":{"$error":"#N/A"}},7534,8.9271813882519861,{"$f":" IF(Foglio1!$C$13 <> \"\", 8.314472*Foglio1!$C$13*Foglio2!J843, NA())","v":{"$error":"#N/A"}},{"$f":"IF(Foglio1!$H$13 <> \"\", Foglio1!$H$13 + K843*10^-3, NA())","v":{"$error":"#N/A"}},7534,8.9271813882519861,{"$f":" IF(Foglio1!$C$14 <> \"\", 8.314472*Foglio1!$C$14*Foglio2!N843, NA())","v":{"$error":"#N/A"}},{"$f":"IF(Foglio1!$H$14 <> \"\", Foglio1!$H$14 + O843*10^-3, NA())","v":{"$error":"#N/A"}},7534,8.9271813882519861,{"$f":" IF(Foglio1!$C$15 <> \"\", 8.314472*Foglio1!$C$15*Foglio2!R843, NA())","v":{"$error":"#N/A"}},{"$f":"IF(Foglio1!$H$15 <> \"\", Foglio1!$H$15 + S843*10^-3, NA())","v":{"$error":"#N/A"}}]
[7543,8.928375259853631,{"$f":" IF(Foglio1!$C$11 <> \"\", 8.314472*Foglio1!$C$11*Foglio2!B844, NA())","v":22270.417831063725},{"$f":"IF(Foglio1!$H$11 <> \"\", Foglio1!$H$11 + C844*10^-3, NA())","v":-67.729582168936275},7543,8.928375259853631,{"$f":" IF(Foglio1!$C$12 <> \"\", 8.314472*Foglio1!$C$12*Foglio2!F844, NA())","v":{"$error":"#N/A"}},{"$f":"IF(Foglio1!$H$12 <> \"\", Foglio1!$H$12 + G844*10^-3, NA())","v":{"$error":"#N/A"}},7543,8.928375259853631,{"$f":" IF(Foglio1!$C$13 <> \"\", 8.314472*Foglio1!$C$13*Foglio2!J844, NA())","v":{"$error":"#N/A"}},{"$f":"IF(Foglio1!$H$13 <> \"\", Foglio1!$H$13 + K844*10^-3, NA())","v":{"$error":"#N/A"}},7543,8.928375259853631,{"$f":" IF(Foglio1!$C$14 <> \"\", 8.314472*Foglio1!$C$14*Foglio2!N844, NA())","v":{"$error":"#N/A"}},{"$f":"IF(Foglio1!$H$14 <> \"\", Foglio1!$H$14 + O844*10^-3, NA())","v":{"$error":"#N/A"}},7543,8.928375259853631,{"$f":" IF(Foglio1!$C$15 <> \"\", 8.314472*Foglio1!$C$15*Foglio2!R844, NA())","v":{"$error":"#N/A"}},{"$f":"IF(Foglio1!$H$15 <> \"\", Foglio1!$H$15 + S844*10^-3, NA())","v":{"$error":"#N/A"}}]
[7552,8.9295677078253366,{"$f":" IF(Foglio1!$C$11 <> \"\", 8.314472*Foglio1!$C$11*Foglio2!B845, NA())","v":22273.392203645384},{"$f":"IF(Foglio1!$H$11 <> \"\", Foglio1!$H$11 + C845*10^-3, NA())","v":-67.726607796354614},7552,8.9295677078253366,{"$f":" IF(Foglio1!$C$12 <> \"\", 8.314472*Foglio1!$C$12*Foglio2!F845, NA())","v":{"$error":"#N/A"}},{"$f":"IF(Foglio1!$H$12 <> \"\", Foglio1!$H$12 + G845*10^-3, NA())","v":{"$error":"#N/A"}},7552,8.9295677078253366,{"$f":" IF(Foglio1!$C$13 <> \"\", 8.314472*Foglio1!$C$13*Foglio2!J845, NA())","v":{"$error":"#N/A"}},{"$f":"IF(Foglio1!$H$13 <> \"\", Foglio1!$H$13 + K845*10^-3, NA())","v":{"$error":"#N/A"}},7552,8.9295677078253366,{"$f":" IF(Foglio1!$C$14 <> \"\", 8.314472*Foglio1!$C$14*Foglio2!N845, NA())","v":{"$error":"#N/A"}},{"$f":"IF(Foglio1!$H$14 <> \"\", Foglio1!$H$14 + O845*10^-3, NA())","v":{"$error":"#N/A"}},7552,8.9295677078253366,{"$f":" IF(Foglio1!$C$15 <> \"\", 8.314472*Foglio1!$C$15*Foglio2!R845, NA())","v":{"$error":"#N/A"}},{"$f":"IF(Foglio1!$H$15 <> \"\", Foglio1!$H$15 + S845*10^-3, NA())","v":{"$error":"#N/A"}}]
[7561,8.9307587355582694,{"$f":" IF(Foglio1!$C$11 <> \"\", 8.314472*Foglio1!$C$11*Foglio2!B846, NA())","v":22276.363033666392},{"$f":"IF(Foglio1!$H$11 <> \"\", Foglio1!$H$11 + C846*10^-3, NA())","v":-67.723636966333601},7561,8.9307587355582694,{"$f":" IF(Foglio1!$C$12 <> \"\", 8.314472*Foglio1!$C$12*Foglio2!F846, NA())","v":{"$error":"#N/A"}},{"$f":"IF(Foglio1!$H$12 <> \"\", Foglio1!$H$12 + G846*10^-3, NA())","v":{"$error":"#N/A"}},7561,8.9307587355582694,{"$f":" IF(Foglio1!$C$13 <> \"\", 8.314472*Foglio1!$C$13*Foglio2!J846, NA())","v":{"$error":"#N/A"}},{"$f":"IF(Foglio1!$H$13 <> \"\", Foglio1!$H$13 + K846*10^-3, NA())","v":{"$error":"#N/A"}},7561,8.9307587355582694,{"$f":" IF(Foglio1!$C$14 <> \"\", 8.314472*Foglio1!$C$14*Foglio2!N846, NA())","v":{"$error":"#N/A"}},{"$f":"IF(Foglio1!$H$14 <> \"\", Foglio1!$H$14 + O846*10^-3, NA())","v":{"$error":"#N/A"}},7561,8.9307587355582694,{"$f":" IF(Foglio1!$C$15 <> \"\", 8.314472*Foglio1!$C$15*Foglio2!R846, NA())","v":{"$error":"#N/A"}},{"$f":"IF(Foglio1!$H$15 <> \"\", Foglio1!$H$15 + S846*10^-3, NA())","v":{"$error":"#N/A"}}]
[7570,8.9319483464314953,{"$f":" IF(Foglio1!$C$11 <> \"\", 8.314472*Foglio1!$C$11*Foglio2!B847, NA())","v":22279.330329555291},{"$f":"IF(Foglio1!$H$11 <> \"\", Foglio1!$H$11 + C847*10^-3, NA())","v":-67.720669670444707},7570,8.9319483464314953,{"$f":" IF(Foglio1!$C$12 <> \"\", 8.314472*Foglio1!$C$12*Foglio2!F847, NA())","v":{"$error":"#N/A"}},{"$f":"IF(Foglio1!$H$12 <> \"\", Foglio1!$H$12 + G847*10^-3, NA())","v":{"$error":"#N/A"}},7570,8.9319483464314953,{"$f":" IF(Foglio1!$C$13 <> \"\", 8.314472*Foglio1!$C$13*Foglio2!J847, NA())","v":{"$error":"#N/A"}},{"$f":"IF(Foglio1!$H$13 <> \"\", Foglio1!$H$13 + K847*10^-3, NA())","v":{"$error":"#N/A"}},7570,8.9319483464314953,{"$f":" IF(Foglio1!$C$14 <> \"\", 8.314472*Foglio1!$C$14*Foglio2!N847, NA())","v":{"$error":"#N/A"}},{"$f":"IF(Foglio1!$H$14 <> \"\", Foglio1!$H$14 + O847*10^-3, NA())","v":{"$error":"#N/A"}},7570,8.9319483464314953,{"$f":" IF(Foglio1!$C$15 <> \"\", 8.314472*Foglio1!$C$15*Foglio2!R847, NA())","v":{"$error":"#N/A"}},{"$f":"IF(Foglio1!$H$15 <> \"\", Foglio1!$H$15 + S847*10^-3, NA())","v":{"$error":"#N/A"}}]
[7579,8.9331365438120294,{"$f":" IF(Foglio1!$C$11 <> \"\", 8.314472*Foglio1!$C$11*Foglio2!B848, NA())","v":22282.294099710569},{"$f":"IF(Foglio1!$H$11 <> \"\", Foglio1!$H$11 + C848*10^-3, NA())","v":-67.717705900289431},7579,8.9331365438120294,{"$f":" IF(Foglio1!$C$12 <> \"\", 8.314472*Foglio1!$C$12*Foglio2!F848, NA())","v":{"$error":"#N/A"}},{"$f":"IF(Foglio1!$H$12 <> \"\", Foglio1!$H$12 + G848*10^-3, NA())","v":{"$error":"#N/A"}},7579,8.9331365438120294,{"$f":" IF(Foglio1!$C$13 <> \"\", 8.314472*Foglio1!$C$13*Foglio2!J848, NA())","v":{"$error":"#N/A"}},{"$f":"IF(Foglio1!$H$13 <> \"\", Foglio1!$H$13 + K848*10^-3, NA())","v":{"$error":"#N/A"}},7579,8.9331365438120294,{"$f":" IF(Foglio1!$C$14 <> \"\", 8.314472*Foglio1!$C$14*Foglio2!N848, NA())","v":{"$error":"#N/A"}},{"$f":"IF(Foglio1!$H$14 <> \"\", Foglio1!$H$14 + O848*10^-3, NA())","v":{"$error":"#N/A"}},7579,8.9331365438120294,{"$f":" IF(Foglio1!$C$15 <> \"\", 8.314472*Foglio1!$C$15*Foglio2!R848, NA())","v":{"$error":"#N/A"}},{"$f":"IF(Foglio1!$H$15 <> \"\", Foglio1!$H$15 + S848*10^-3, NA())","v":{"$error":"#N/A"}}]
[7588,8.9343233310549053,{"$f":" IF(Foglio1!$C$11 <> \"\", 8.314472*Foglio1!$C$11*Foglio2!B849, NA())","v":22285.254352500822},{"$f":"IF(Foglio1!$H$11 <> \"\", Foglio1!$H$11 + C849*10^-3, NA())","v":-67.714745647499171},7588,8.9343233310549053,{"$f":" IF(Foglio1!$C$12 <> \"\", 8.314472*Foglio1!$C$12*Foglio2!F849, NA())","v":{"$error":"#N/A"}},{"$f":"IF(Foglio1!$H$12 <> \"\", Foglio1!$H$12 + G849*10^-3, NA())","v":{"$error":"#N/A"}},7588,8.9343233310549053,{"$f":" IF(Foglio1!$C$13 <> \"\", 8.314472*Foglio1!$C$13*Foglio2!J849, NA())","v":{"$error":"#N/A"}},{"$f":"IF(Foglio1!$H$13 <> \"\", Foglio1!$H$13 + K849*10^-3, NA())","v":{"$error":"#N/A"}},7588,8.9343233310549053,{"$f":" IF(Foglio1!$C$14 <> \"\", 8.314472*Foglio1!$C$14*Foglio2!N849, NA())","v":{"$error":"#N/A"}},{"$f":"IF(Foglio1!$H$14 <> \"\", Foglio1!$H$14 + O849*10^-3, NA())","v":{"$error":"#N/A"}},7588,8.9343233310549053,{"$f":" IF(Foglio1!$C$15 <> \"\", 8.314472*Foglio1!$C$15*Foglio2!R849, NA())","v":{"$error":"#N/A"}},{"$f":"IF(Foglio1!$H$15 <> \"\", Foglio1!$H$15 + S849*10^-3, NA())","v":{"$error":"#N/A"}}]
[7597,8.9355087115032212,{"$f":" IF(Foglio1!$C$11 <> \"\", 8.314472*Foglio1!$C$11*Foglio2!B850, NA())","v":22288.211096264884},{"$f":"IF(Foglio1!$H$11 <> \"\", Foglio1!$H$11 + C850*10^-3, NA())","v":-67.711788903735112},7597,8.9355087115032212,{"$f":" IF(Foglio1!$C$12 <> \"\", 8.314472*Foglio1!$C$12*Foglio2!F850, NA())","v":{"$error":"#N/A"}},{"$f":"IF(Foglio1!$H$12 <> \"\", Foglio1!$H$12 + G850*10^-3, NA())","v":{"$error":"#N/A"}},7597,8.9355087115032212,{"$f":" IF(Foglio1!$C$13 <> \"\", 8.314472*Foglio1!$C$13*Foglio2!J850, NA())","v":{"$error":"#N/A"}},{"$f":"IF(Foglio1!$H$13 <> \"\", Foglio1!$H$13 + K850*10^-3, NA())","v":{"$error":"#N/A"}},7597,8.9355087115032212,{"$f":" IF(Foglio1!$C$14 <> \"\", 8.314472*Foglio1!$C$14*Foglio2!N850, NA())","v":{"$error":"#N/A"}},{"$f":"IF(Foglio1!$H$14 <> \"\", Foglio1!$H$14 + O850*10^-3, NA())","v":{"$error":"#N/A"}},7597,8.9355087115032212,{"$f":" IF(Foglio1!$C$15 <> \"\", 8.314472*Foglio1!$C$15*Foglio2!R850, NA())","v":{"$error":"#N/A"}},{"$f":"IF(Foglio1!$H$15 <> \"\", Foglio1!$H$15 + S850*10^-3, NA())","v":{"$error":"#N/A"}}]
[7606,8.9366926884882041,{"$f":" IF(Foglio1!$C$11 <> \"\", 8.314472*Foglio1!$C$11*Foglio2!B851, NA())","v":22291.16433931197},{"$f":"IF(Foglio1!$H$11 <> \"\", Foglio1!$H$11 + C851*10^-3, NA())","v":-67.708835660688038},7606,8.9366926884882041,{"$f":" IF(Foglio1!$C$12 <> \"\", 8.314472*Foglio1!$C$12*Foglio2!F851, NA())","v":{"$error":"#N/A"}},{"$f":"IF(Foglio1!$H$12 <> \"\", Foglio1!$H$12 + G851*10^-3, NA())","v":{"$error":"#N/A"}},7606,8.9366926884882041,{"$f":" IF(Foglio1!$C$13 <> \"\", 8.314472*Foglio1!$C$13*Foglio2!J851, NA())","v":{"$error":"#N/A"}},{"$f":"IF(Foglio1!$H$13 <> \"\", Foglio1!$H$13 + K851*10^-3, NA())","v":{"$error":"#N/A"}},7606,8.9366926884882041,{"$f":" IF(Foglio1!$C$14 <> \"\", 8.314472*Foglio1!$C$14*Foglio2!N851, NA())","v":{"$error":"#N/A"}},{"$f":"IF(Foglio1!$H$14 <> \"\", Foglio1!$H$14 + O851*10^-3, NA())","v":{"$error":"#N/A"}},7606,8.9366926884882041,{"$f":" IF(Foglio1!$C$15 <> \"\", 8.314472*Foglio1!$C$15*Foglio2!R851, NA())","v":{"$error":"#N/A"}},{"$f":"IF(Foglio1!$H$15 <> \"\", Foglio1!$H$15 + S851*10^-3, NA())","v":{"$error":"#N/A"}}]
[7615,8.9378752653292626,{"$f":" IF(Foglio1!$C$11 <> \"\", 8.314472*Foglio1!$C$11*Foglio2!B852, NA())","v":22294.114089921819},{"$f":"IF(Foglio1!$H$11 <> \"\", Foglio1!$H$11 + C852*10^-3, NA())","v":-67.70588591007818},7615,8.9378752653292626,{"$f":" IF(Foglio1!$C$12 <> \"\", 8.314472*Foglio1!$C$12*Foglio2!F852, NA())","v":{"$error":"#N/A"}},{"$f":"IF(Foglio1!$H$12 <> \"\", Foglio1!$H$12 + G852*10^-3, NA())","v":{"$error":"#N/A"}},7615,8.9378752653292626,{"$f":" IF(Foglio1!$C$13 <> \"\", 8.314472*Foglio1!$C$13*Foglio2!J852, NA())","v":{"$error":"#N/A"}},{"$f":"IF(Foglio1!$H$13 <> \"\", Foglio1!$H$13 + K852*10^-3, NA())","v":{"$error":"#N/A"}},7615,8.9378752653292626,{"$f":" IF(Foglio1!$C$14 <> \"\", 8.314472*Foglio1!$C$14*Foglio2!N852, NA())","v":{"$error":"#N/A"}},{"$f":"IF(Foglio1!$H$14 <> \"\", Foglio1!$H$14 + O852*10^-3, NA())","v":{"$error":"#N/A"}},7615,8.9378752653292626,{"$f":" IF(Foglio1!$C$15 <> \"\", 8.314472*Foglio1!$C$15*Foglio2!R852, NA())","v":{"$error":"#N/A"}},{"$f":"IF(Foglio1!$H$15 <> \"\", Foglio1!$H$15 + S852*10^-3, NA())","v":{"$error":"#N/A"}}]
[7624,8.9390564453340389,{"$f":" IF(Foglio1!$C$11 <> \"\", 8.314472*Foglio1!$C$11*Foglio2!B853, NA())","v":22297.06035634482},{"$f":"IF(Foglio1!$H$11 <> \"\", Foglio1!$H$11 + C853*10^-3, NA())","v":-67.702939643655185},7624,8.9390564453340389,{"$f":" IF(Foglio1!$C$12 <> \"\", 8.314472*Foglio1!$C$12*Foglio2!F853, NA())","v":{"$error":"#N/A"}},{"$f":"IF(Foglio1!$H$12 <> \"\", Foglio1!$H$12 + G853*10^-3, NA())","v":{"$error":"#N/A"}},7624,8.9390564453340389,{"$f":" IF(Foglio1!$C$13 <> \"\", 8.314472*Foglio1!$C$13*Foglio2!J853, NA())","v":{"$error":"#N/A"}},{"$f":"IF(Foglio1!$H$13 <> \"\", Foglio1!$H$13 + K853*10^-3, NA())","v":{"$error":"#N/A"}},7624,8.9390564453340389,{"$f":" IF(Foglio1!$C$14 <> \"\", 8.314472*Foglio1!$C$14*Foglio2!N853, NA())","v":{"$error":"#N/A"}},{"$f":"IF(Foglio1!$H$14 <> \"\", Foglio1!$H$14 + O853*10^-3, NA())","v":{"$error":"#N/A"}},7624,8.9390564453340389,{"$f":" IF(Foglio1!$C$15 <> \"\", 8.314472*Foglio1!$C$15*Foglio2!R853, NA())","v":{"$error":"#N/A"}},{"$f":"IF(Foglio1!$H$15 <> \"\", Foglio1!$H$15 + S853*10^-3, NA())","v":{"$error":"#N/A"}}]
[7633,8.9402362317984707,{"$f":" IF(Foglio1!$C$11 <> \"\", 8.314472*Foglio1!$C$11*Foglio2!B854, NA())","v":22300.00314680217},{"$f":"IF(Foglio1!$H$11 <> \"\", Foglio1!$H$11 + C854*10^-3, NA())","v":-67.699996853197831},7633,8.9402362317984707,{"$f":" IF(Foglio1!$C$12 <> \"\", 8.314472*Foglio1!$C$12*Foglio2!F854, NA())","v":{"$error":"#N/A"}},{"$f":"IF(Foglio1!$H$12 <> \"\", Foglio1!$H$12 + G854*10^-3, NA())","v":{"$error":"#N/A"}},7633,8.9402362317984707,{"$f":" IF(Foglio1!$C$13 <> \"\", 8.314472*Foglio1!$C$13*Foglio2!J854, NA())","v":{"$error":"#N/A"}},{"$f":"IF(Foglio1!$H$13 <> \"\", Foglio1!$H$13 + K854*10^-3, NA())","v":{"$error":"#N/A"}},7633,8.9402362317984707,{"$f":" IF(Foglio1!$C$14 <> \"\", 8.314472*Foglio1!$C$14*Foglio2!N854, NA())","v":{"$error":"#N/A"}},{"$f":"IF(Foglio1!$H$14 <> \"\", Foglio1!$H$14 + O854*10^-3, NA())","v":{"$error":"#N/A"}},7633,8.9402362317984707,{"$f":" IF(Foglio1!$C$15 <> \"\", 8.314472*Foglio1!$C$15*Foglio2!R854, NA())","v":{"$error":"#N/A"}},{"$f":"IF(Foglio1!$H$15 <> \"\", Foglio1!$H$15 + S854*10^-3, NA())","v":{"$error":"#N/A"}}]
[7642,8.9414146280068447,{"$f":" IF(Foglio1!$C$11 <> \"\", 8.314472*Foglio1!$C$11*Foglio2!B855, NA())","v":22302.942469485999},{"$f":"IF(Foglio1!$H$11 <> \"\", Foglio1!$H$11 + C855*10^-3, NA())","v":-67.697057530514002},7642,8.9414146280068447,{"$f":" IF(Foglio1!$C$12 <> \"\", 8.314472*Foglio1!$C$12*Foglio2!F855, NA())","v":{"$error":"#N/A"}},{"$f":"IF(Foglio1!$H$12 <> \"\", Foglio1!$H$12 + G855*10^-3, NA())","v":{"$error":"#N/A"}},7642,8.9414146280068447,{"$f":" IF(Foglio1!$C$13 <> \"\", 8.314472*Foglio1!$C$13*Foglio2!J855, NA())","v":{"$error":"#N/A"}},{"$f":"IF(Foglio1!$H$13 <> \"\", Foglio1!$H$13 + K855*10^-3, NA())","v":{"$error":"#N/A"}},7642,8.9414146280068447,{"$f":" IF(Foglio1!$C$14 <> \"\", 8.314472*Foglio1!$C$14*Foglio2!N855, NA())","v":{"$error":"#N/A"}},{"$f":"IF(Foglio1!$H$14 <> \"\", Foglio1!$H$14 + O855*10^-3, NA())","v":{"$error":"#N/A"}},7642,8.9414146280068447,{"$f":" IF(Foglio1!$C$15 <> \"\", 8.314472*Foglio1!$C$15*Foglio2!R855, NA())","v":{"$error":"#N/A"}},{"$f":"IF(Foglio1!$H$15 <> \"\", Foglio1!$H$15 + S855*10^-3, NA())","v":{"$error":"#N/A"}}]
[7651,8.9425916372318515,{"$f":" IF(Foglio1!$C$11 <> \"\", 8.314472*Foglio1!$C$11*Foglio2!B856, NA())","v":22305.878332559518},{"$f":"IF(Foglio1!$H$11 <> \"\", Foglio1!$H$11 + C856*10^-3, NA())","v":-67.694121667440484},7651,8.9425916372318515,{"$f":" IF(Foglio1!$C$12 <> \"\", 8.314472*Foglio1!$C$12*Foglio2!F856, NA())","v":{"$error":"#N/A"}},{"$f":"IF(Foglio1!$H$12 <> \"\", Foglio1!$H$12 + G856*10^-3, NA())","v":{"$error":"#N/A"}},7651,8.9425916372318515,{"$f":" IF(Foglio1!$C$13 <> \"\", 8.314472*Foglio1!$C$13*Foglio2!J856, NA())","v":{"$error":"#N/A"}},{"$f":"IF(Foglio1!$H$13 <> \"\", Foglio1!$H$13 + K856*10^-3, NA())","v":{"$error":"#N/A"}},7651,8.9425916372318515,{"$f":" IF(Foglio1!$C$14 <> \"\", 8.314472*Foglio1!$C$14*Foglio2!N856, NA())","v":{"$error":"#N/A"}},{"$f":"IF(Foglio1!$H$14 <> \"\", Foglio1!$H$14 + O856*10^-3, NA())","v":{"$error":"#N/A"}},7651,8.9425916372318515,{"$f":" IF(Foglio1!$C$15 <> \"\", 8.314472*Foglio1!$C$15*Foglio2!R856, NA())","v":{"$error":"#N/A"}},{"$f":"IF(Foglio1!$H$15 <> \"\", Foglio1!$H$15 + S856*10^-3, NA())","v":{"$error":"#N/A"}}]
[7660,8.943767262734637,{"$f":" IF(Foglio1!$C$11 <> \"\", 8.314472*Foglio1!$C$11*Foglio2!B857, NA())","v":22308.810744157137},{"$f":"IF(Foglio1!$H$11 <> \"\", Foglio1!$H$11 + C857*10^-3, NA())","v":-67.691189255842858},7660,8.943767262734637,{"$f":" IF(Foglio1!$C$12 <> \"\", 8.314472*Foglio1!$C$12*Foglio2!F857, NA())","v":{"$error":"#N/A"}},{"$f":"IF(Foglio1!$H$12 <> \"\", Foglio1!$H$12 + G857*10^-3, NA())","v":{"$error":"#N/A"}},7660,8.943767262734637,{"$f":" IF(Foglio1!$C$13 <> \"\", 8.314472*Foglio1!$C$13*Foglio2!J857, NA())","v":{"$error":"#N/A"}},{"$f":"IF(Foglio1!$H$13 <> \"\", Foglio1!$H$13 + K857*10^-3, NA())","v":{"$error":"#N/A"}},7660,8.943767262734637,{"$f":" IF(Foglio1!$C$14 <> \"\", 8.314472*Foglio1!$C$14*Foglio2!N857, NA())","v":{"$error":"#N/A"}},{"$f":"IF(Foglio1!$H$14 <> \"\", Foglio1!$H$14 + O857*10^-3, NA())","v":{"$error":"#N/A"}},7660,8.943767262734637,{"$f":" IF(Foglio1!$C$15 <> \"\", 8.314472*Foglio1!$C$15*Foglio2!R857, NA())","v":{"$error":"#N/A"}},{"$f":"IF(Foglio1!$H$15 <> \"\", Foglio1!$H$15 + S857*10^-3, NA())","v":{"$error":"#N/A"}}]
[7669,8.9449415077648595,{"$f":" IF(Foglio1!$C$11 <> \"\", 8.314472*Foglio1!$C$11*Foglio2!B858, NA())","v":22311.739712384613},{"$f":"IF(Foglio1!$H$11 <> \"\", Foglio1!$H$11 + C858*10^-3, NA())","v":-67.688260287615378},7669,8.9449415077648595,{"$f":" IF(Foglio1!$C$12 <> \"\", 8.314472*Foglio1!$C$12*Foglio2!F858, NA())","v":{"$error":"#N/A"}},{"$f":"IF(Foglio1!$H$12 <> \"\", Foglio1!$H$12 + G858*10^-3, NA())","v":{"$error":"#N/A"}},7669,8.9449415077648595,{"$f":" IF(Foglio1!$C$13 <> \"\", 8.314472*Foglio1!$C$13*Foglio2!J858, NA())","v":{"$error":"#N/A"}},{"$f":"IF(Foglio1!$H$13 <> \"\", Foglio1!$H$13 + K858*10^-3, NA())","v":{"$error":"#N/A"}},7669,8.9449415077648595,{"$f":" IF(Foglio1!$C$14 <> \"\", 8.314472*Foglio1!$C$14*Foglio2!N858, NA())","v":{"$error":"#N/A"}},{"$f":"IF(Foglio1!$H$14 <> \"\", Foglio1!$H$14 + O858*10^-3, NA())","v":{"$error":"#N/A"}},7669,8.9449415077648595,{"$f":" IF(Foglio1!$C$15 <> \"\", 8.314472*Foglio1!$C$15*Foglio2!R858, NA())","v":{"$error":"#N/A"}},{"$f":"IF(Foglio1!$H$15 <> \"\", Foglio1!$H$15 + S858*10^-3, NA())","v":{"$error":"#N/A"}}]
[7678,8.9461143755607431,{"$f":" IF(Foglio1!$C$11 <> \"\", 8.314472*Foglio1!$C$11*Foglio2!B859, NA())","v":22314.665245319185},{"$f":"IF(Foglio1!$H$11 <> \"\", Foglio1!$H$11 + C859*10^-3, NA())","v":-67.68533475468081},7678,8.9461143755607431,{"$f":" IF(Foglio1!$C$12 <> \"\", 8.314472*Foglio1!$C$12*Foglio2!F859, NA())","v":{"$error":"#N/A"}},{"$f":"IF(Foglio1!$H$12 <> \"\", Foglio1!$H$12 + G859*10^-3, NA())","v":{"$error":"#N/A"}},7678,8.9461143755607431,{"$f":" IF(Foglio1!$C$13 <> \"\", 8.314472*Foglio1!$C$13*Foglio2!J859, NA())","v":{"$error":"#N/A"}},{"$f":"IF(Foglio1!$H$13 <> \"\", Foglio1!$H$13 + K859*10^-3, NA())","v":{"$error":"#N/A"}},7678,8.9461143755607431,{"$f":" IF(Foglio1!$C$14 <> \"\", 8.314472*Foglio1!$C$14*Foglio2!N859, NA())","v":{"$error":"#N/A"}},{"$f":"IF(Foglio1!$H$14 <> \"\", Foglio1!$H$14 + O859*10^-3, NA())","v":{"$error":"#N/A"}},7678,8.9461143755607431,{"$f":" IF(Foglio1!$C$15 <> \"\", 8.314472*Foglio1!$C$15*Foglio2!R859, NA())","v":{"$error":"#N/A"}},{"$f":"IF(Foglio1!$H$15 <> \"\", Foglio1!$H$15 + S859*10^-3, NA())","v":{"$error":"#N/A"}}]
[7687,8.9472858693491322,{"$f":" IF(Foglio1!$C$11 <> \"\", 8.314472*Foglio1!$C$11*Foglio2!B860, NA())","v":22317.587351009708},{"$f":"IF(Foglio1!$H$11 <> \"\", Foglio1!$H$11 + C860*10^-3, NA())","v":-67.682412648990294},7687,8.9472858693491322,{"$f":" IF(Foglio1!$C$12 <> \"\", 8.314472*Foglio1!$C$12*Foglio2!F860, NA())","v":{"$error":"#N/A"}},{"$f":"IF(Foglio1!$H$12 <> \"\", Foglio1!$H$12 + G860*10^-3, NA())","v":{"$error":"#N/A"}},7687,8.9472858693491322,{"$f":" IF(Foglio1!$C$13 <> \"\", 8.314472*Foglio1!$C$13*Foglio2!J860, NA())","v":{"$error":"#N/A"}},{"$f":"IF(Foglio1!$H$13 <> \"\", Foglio1!$H$13 + K860*10^-3, NA())","v":{"$error":"#N/A"}},7687,8.9472858693491322,{"$f":" IF(Foglio1!$C$14 <> \"\", 8.314472*Foglio1!$C$14*Foglio2!N860, NA())","v":{"$error":"#N/A"}},{"$f":"IF(Foglio1!$H$14 <> \"\", Foglio1!$H$14 + O860*10^-3, NA())","v":{"$error":"#N/A"}},7687,8.9472858693491322,{"$f":" IF(Foglio1!$C$15 <> \"\", 8.314472*Foglio1!$C$15*Foglio2!R860, NA())","v":{"$error":"#N/A"}},{"$f":"IF(Foglio1!$H$15 <> \"\", Foglio1!$H$15 + S860*10^-3, NA())","v":{"$error":"#N/A"}}]
[7696,8.9484559923455418,{"$f":" IF(Foglio1!$C$11 <> \"\", 8.314472*Foglio1!$C$11*Foglio2!B861, NA())","v":22320.506037476767},{"$f":"IF(Foglio1!$H$11 <> \"\", Foglio1!$H$11 + C861*10^-3, NA())","v":-67.679493962523225},7696,8.9484559923455418,{"$f":" IF(Foglio1!$C$12 <> \"\", 8.314472*Foglio1!$C$12*Foglio2!F861, NA())","v":{"$error":"#N/A"}},{"$f":"IF(Foglio1!$H$12 <> \"\", Foglio1!$H$12 + G861*10^-3, NA())","v":{"$error":"#N/A"}},7696,8.9484559923455418,{"$f":" IF(Foglio1!$C$13 <> \"\", 8.314472*Foglio1!$C$13*Foglio2!J861, NA())","v":{"$error":"#N/A"}},{"$f":"IF(Foglio1!$H$13 <> \"\", Foglio1!$H$13 + K861*10^-3, NA())","v":{"$error":"#N/A"}},7696,8.9484559923455418,{"$f":" IF(Foglio1!$C$14 <> \"\", 8.314472*Foglio1!$C$14*Foglio2!N861, NA())","v":{"$error":"#N/A"}},{"$f":"IF(Foglio1!$H$14 <> \"\", Foglio1!$H$14 + O861*10^-3, NA())","v":{"$error":"#N/A"}},7696,8.9484559923455418,{"$f":" IF(Foglio1!$C$15 <> \"\", 8.314472*Foglio1!$C$15*Foglio2!R861, NA())","v":{"$error":"#N/A"}},{"$f":"IF(Foglio1!$H$15 <> \"\", Foglio1!$H$15 + S861*10^-3, NA())","v":{"$error":"#N/A"}}]
[7705,8.9496247477542159,{"$f":" IF(Foglio1!$C$11 <> \"\", 8.314472*Foglio1!$C$11*Foglio2!B862, NA())","v":22323.42131271285},{"$f":"IF(Foglio1!$H$11 <> \"\", Foglio1!$H$11 + C862*10^-3, NA())","v":-67.676578687287147},7705,8.9496247477542159,{"$f":" IF(Foglio1!$C$12 <> \"\", 8.314472*Foglio1!$C$12*Foglio2!F862, NA())","v":{"$error":"#N/A"}},{"$f":"IF(Foglio1!$H$12 <> \"\", Foglio1!$H$12 + G862*10^-3, NA())","v":{"$error":"#N/A"}},7705,8.9496247477542159,{"$f":" IF(Foglio1!$C$13 <> \"\", 8.314472*Foglio1!$C$13*Foglio2!J862, NA())","v":{"$error":"#N/A"}},{"$f":"IF(Foglio1!$H$13 <> \"\", Foglio1!$H$13 + K862*10^-3, NA())","v":{"$error":"#N/A"}},7705,8.9496247477542159,{"$f":" IF(Foglio1!$C$14 <> \"\", 8.314472*Foglio1!$C$14*Foglio2!N862, NA())","v":{"$error":"#N/A"}},{"$f":"IF(Foglio1!$H$14 <> \"\", Foglio1!$H$14 + O862*10^-3, NA())","v":{"$error":"#N/A"}},7705,8.9496247477542159,{"$f":" IF(Foglio1!$C$15 <> \"\", 8.314472*Foglio1!$C$15*Foglio2!R862, NA())","v":{"$error":"#N/A"}},{"$f":"IF(Foglio1!$H$15 <> \"\", Foglio1!$H$15 + S862*10^-3, NA())","v":{"$error":"#N/A"}}]
[7714,8.9507921387681737,{"$f":" IF(Foglio1!$C$11 <> \"\", 8.314472*Foglio1!$C$11*Foglio2!B863, NA())","v":22326.333184682429},{"$f":"IF(Foglio1!$H$11 <> \"\", Foglio1!$H$11 + C863*10^-3, NA())","v":-67.673666815317574},7714,8.9507921387681737,{"$f":" IF(Foglio1!$C$12 <> \"\", 8.314472*Foglio1!$C$12*Foglio2!F863, NA())","v":{"$error":"#N/A"}},{"$f":"IF(Foglio1!$H$12 <> \"\", Foglio1!$H$12 + G863*10^-3, NA())","v":{"$error":"#N/A"}},7714,8.9507921387681737,{"$f":" IF(Foglio1!$C$13 <> \"\", 8.314472*Foglio1!$C$13*Foglio2!J863, NA())","v":{"$error":"#N/A"}},{"$f":"IF(Foglio1!$H$13 <> \"\", Foglio1!$H$13 + K863*10^-3, NA())","v":{"$error":"#N/A"}},7714,8.9507921387681737,{"$f":" IF(Foglio1!$C$14 <> \"\", 8.314472*Foglio1!$C$14*Foglio2!N863, NA())","v":{"$error":"#N/A"}},{"$f":"IF(Foglio1!$H$14 <> \"\", Foglio1!$H$14 + O863*10^-3, NA())","v":{"$error":"#N/A"}},7714,8.9507921387681737,{"$f":" IF(Foglio1!$C$15 <> \"\", 8.314472*Foglio1!$C$15*Foglio2!R863, NA())","v":{"$error":"#N/A"}},{"$f":"IF(Foglio1!$H$15 <> \"\", Foglio1!$H$15 + S863*10^-3, NA())","v":{"$error":"#N/A"}}]
[7723,8.9519581685692646,{"$f":" IF(Foglio1!$C$11 <> \"\", 8.314472*Foglio1!$C$11*Foglio2!B864, NA())","v":22329.241661322132},{"$f":"IF(Foglio1!$H$11 <> \"\", Foglio1!$H$11 + C864*10^-3, NA())","v":-67.670758338677871},7723,8.9519581685692646,{"$f":" IF(Foglio1!$C$12 <> \"\", 8.314472*Foglio1!$C$12*Foglio2!F864, NA())","v":{"$error":"#N/A"}},{"$f":"IF(Foglio1!$H$12 <> \"\", Foglio1!$H$12 + G864*10^-3, NA())","v":{"$error":"#N/A"}},7723,8.9519581685692646,{"$f":" IF(Foglio1!$C$13 <> \"\", 8.314472*Foglio1!$C$13*Foglio2!J864, NA())","v":{"$error":"#N/A"}},{"$f":"IF(Foglio1!$H$13 <> \"\", Foglio1!$H$13 + K864*10^-3, NA())","v":{"$error":"#N/A"}},7723,8.9519581685692646,{"$f":" IF(Foglio1!$C$14 <> \"\", 8.314472*Foglio1!$C$14*Foglio2!N864, NA())","v":{"$error":"#N/A"}},{"$f":"IF(Foglio1!$H$14 <> \"\", Foglio1!$H$14 + O864*10^-3, NA())","v":{"$error":"#N/A"}},7723,8.9519581685692646,{"$f":" IF(Foglio1!$C$15 <> \"\", 8.314472*Foglio1!$C$15*Foglio2!R864, NA())","v":{"$error":"#N/A"}},{"$f":"IF(Foglio1!$H$15 <> \"\", Foglio1!$H$15 + S864*10^-3, NA())","v":{"$error":"#N/A"}}]
[7732,8.9531228403282217,{"$f":" IF(Foglio1!$C$11 <> \"\", 8.314472*Foglio1!$C$11*Foglio2!B865, NA())","v":22332.146750540844},{"$f":"IF(Foglio1!$H$11 <> \"\", Foglio1!$H$11 + C865*10^-3, NA())","v":-67.667853249459156},7732,8.9531228403282217,{"$f":" IF(Foglio1!$C$12 <> \"\", 8.314472*Foglio1!$C$12*Foglio2!F865, NA())","v":{"$error":"#N/A"}},{"$f":"IF(Foglio1!$H$12 <> \"\", Foglio1!$H$12 + G865*10^-3, NA())","v":{"$error":"#N/A"}},7732,8.9531228403282217,{"$f":" IF(Foglio1!$C$13 <> \"\", 8.314472*Foglio1!$C$13*Foglio2!J865, NA())","v":{"$error":"#N/A"}},{"$f":"IF(Foglio1!$H$13 <> \"\", Foglio1!$H$13 + K865*10^-3, NA())","v":{"$error":"#N/A"}},7732,8.9531228403282217,{"$f":" IF(Foglio1!$C$14 <> \"\", 8.314472*Foglio1!$C$14*Foglio2!N865, NA())","v":{"$error":"#N/A"}},{"$f":"IF(Foglio1!$H$14 <> \"\", Foglio1!$H$14 + O865*10^-3, NA())","v":{"$error":"#N/A"}},7732,8.9531228403282217,{"$f":" IF(Foglio1!$C$15 <> \"\", 8.314472*Foglio1!$C$15*Foglio2!R865, NA())","v":{"$error":"#N/A"}},{"$f":"IF(Foglio1!$H$15 <> \"\", Foglio1!$H$15 + S865*10^-3, NA())","v":{"$error":"#N/A"}}]
[7741,8.954286157204713,{"$f":" IF(Foglio1!$C$11 <> \"\", 8.314472*Foglio1!$C$11*Foglio2!B866, NA())","v":22335.048460219856},{"$f":"IF(Foglio1!$H$11 <> \"\", Foglio1!$H$11 + C866*10^-3, NA())","v":-67.664951539780148},7741,8.954286157204713,{"$f":" IF(Foglio1!$C$12 <> \"\", 8.314472*Foglio1!$C$12*Foglio2!F866, NA())","v":{"$error":"#N/A"}},{"$f":"IF(Foglio1!$H$12 <> \"\", Foglio1!$H$12 + G866*10^-3, NA())","v":{"$error":"#N/A"}},7741,8.954286157204713,{"$f":" IF(Foglio1!$C$13 <> \"\", 8.314472*Foglio1!$C$13*Foglio2!J866, NA())","v":{"$error":"#N/A"}},{"$f":"IF(Foglio1!$H$13 <> \"\", Foglio1!$H$13 + K866*10^-3, NA())","v":{"$error":"#N/A"}},7741,8.954286157204713,{"$f":" IF(Foglio1!$C$14 <> \"\", 8.314472*Foglio1!$C$14*Foglio2!N866, NA())","v":{"$error":"#N/A"}},{"$f":"IF(Foglio1!$H$14 <> \"\", Foglio1!$H$14 + O866*10^-3, NA())","v":{"$error":"#N/A"}},7741,8.954286157204713,{"$f":" IF(Foglio1!$C$15 <> \"\", 8.314472*Foglio1!$C$15*Foglio2!R866, NA())","v":{"$error":"#N/A"}},{"$f":"IF(Foglio1!$H$15 <> \"\", Foglio1!$H$15 + S866*10^-3, NA())","v":{"$error":"#N/A"}}]
[7750,8.9554481223473932,{"$f":" IF(Foglio1!$C$11 <> \"\", 8.314472*Foglio1!$C$11*Foglio2!B867, NA())","v":22337.946798212994},{"$f":"IF(Foglio1!$H$11 <> \"\", Foglio1!$H$11 + C867*10^-3, NA())","v":-67.662053201787003},7750,8.9554481223473932,{"$f":" IF(Foglio1!$C$12 <> \"\", 8.314472*Foglio1!$C$12*Foglio2!F867, NA())","v":{"$error":"#N/A"}},{"$f":"IF(Foglio1!$H$12 <> \"\", Foglio1!$H$12 + G867*10^-3, NA())","v":{"$error":"#N/A"}},7750,8.9554481223473932,{"$f":" IF(Foglio1!$C$13 <> \"\", 8.314472*Foglio1!$C$13*Foglio2!J867, NA())","v":{"$error":"#N/A"}},{"$f":"IF(Foglio1!$H$13 <> \"\", Foglio1!$H$13 + K867*10^-3, NA())","v":{"$error":"#N/A"}},7750,8.9554481223473932,{"$f":" IF(Foglio1!$C$14 <> \"\", 8.314472*Foglio1!$C$14*Foglio2!N867, NA())","v":{"$error":"#N/A"}},{"$f":"IF(Foglio1!$H$14 <> \"\", Foglio1!$H$14 + O867*10^-3, NA())","v":{"$error":"#N/A"}},7750,8.9554481223473932,{"$f":" IF(Foglio1!$C$15 <> \"\", 8.314472*Foglio1!$C$15*Foglio2!R867, NA())","v":{"$error":"#N/A"}},{"$f":"IF(Foglio1!$H$15 <> \"\", Foglio1!$H$15 + S867*10^-3, NA())","v":{"$error":"#N/A"}}]
[7759,8.9566087388939497,{"$f":" IF(Foglio1!$C$11 <> \"\", 8.314472*Foglio1!$C$11*Foglio2!B868, NA())","v":22340.841772346717},{"$f":"IF(Foglio1!$H$11 <> \"\", Foglio1!$H$11 + C868*10^-3, NA())","v":-67.659158227653279},7759,8.9566087388939497,{"$f":" IF(Foglio1!$C$12 <> \"\", 8.314472*Foglio1!$C$12*Foglio2!F868, NA())","v":{"$error":"#N/A"}},{"$f":"IF(Foglio1!$H$12 <> \"\", Foglio1!$H$12 + G868*10^-3, NA())","v":{"$error":"#N/A"}},7759,8.9566087388939497,{"$f":" IF(Foglio1!$C$13 <> \"\", 8.314472*Foglio1!$C$13*Foglio2!J868, NA())","v":{"$error":"#N/A"}},{"$f":"IF(Foglio1!$H$13 <> \"\", Foglio1!$H$13 + K868*10^-3, NA())","v":{"$error":"#N/A"}},7759,8.9566087388939497,{"$f":" IF(Foglio1!$C$14 <> \"\", 8.314472*Foglio1!$C$14*Foglio2!N868, NA())","v":{"$error":"#N/A"}},{"$f":"IF(Foglio1!$H$14 <> \"\", Foglio1!$H$14 + O868*10^-3, NA())","v":{"$error":"#N/A"}},7759,8.9566087388939497,{"$f":" IF(Foglio1!$C$15 <> \"\", 8.314472*Foglio1!$C$15*Foglio2!R868, NA())","v":{"$error":"#N/A"}},{"$f":"IF(Foglio1!$H$15 <> \"\", Foglio1!$H$15 + S868*10^-3, NA())","v":{"$error":"#N/A"}}]
[7768,8.9577680099711614,{"$f":" IF(Foglio1!$C$11 <> \"\", 8.314472*Foglio1!$C$11*Foglio2!B869, NA())","v":22343.733390420286},{"$f":"IF(Foglio1!$H$11 <> \"\", Foglio1!$H$11 + C869*10^-3, NA())","v":-67.656266609579717},7768,8.9577680099711614,{"$f":" IF(Foglio1!$C$12 <> \"\", 8.314472*Foglio1!$C$12*Foglio2!F869, NA())","v":{"$error":"#N/A"}},{"$f":"IF(Foglio1!$H$12 <> \"\", Foglio1!$H$12 + G869*10^-3, NA())","v":{"$error":"#N/A"}},7768,8.9577680099711614,{"$f":" IF(Foglio1!$C$13 <> \"\", 8.314472*Foglio1!$C$13*Foglio2!J869, NA())","v":{"$error":"#N/A"}},{"$f":"IF(Foglio1!$H$13 <> \"\", Foglio1!$H$13 + K869*10^-3, NA())","v":{"$error":"#N/A"}},7768,8.9577680099711614,{"$f":" IF(Foglio1!$C$14 <> \"\", 8.314472*Foglio1!$C$14*Foglio2!N869, NA())","v":{"$error":"#N/A"}},{"$f":"IF(Foglio1!$H$14 <> \"\", Foglio1!$H$14 + O869*10^-3, NA())","v":{"$error":"#N/A"}},7768,8.9577680099711614,{"$f":" IF(Foglio1!$C$15 <> \"\", 8.314472*Foglio1!$C$15*Foglio2!R869, NA())","v":{"$error":"#N/A"}},{"$f":"IF(Foglio1!$H$15 <> \"\", Foglio1!$H$15 + S869*10^-3, NA())","v":{"$error":"#N/A"}}]
[7777,8.9589259386949429,{"$f":" IF(Foglio1!$C$11 <> \"\", 8.314472*Foglio1!$C$11*Foglio2!B870, NA())","v":22346.621660205848},{"$f":"IF(Foglio1!$H$11 <> \"\", Foglio1!$H$11 + C870*10^-3, NA())","v":-67.653378339794159},7777,8.9589259386949429,{"$f":" IF(Foglio1!$C$12 <> \"\", 8.314472*Foglio1!$C$12*Foglio2!F870, NA())","v":{"$error":"#N/A"}},{"$f":"IF(Foglio1!$H$12 <> \"\", Foglio1!$H$12 + G870*10^-3, NA())","v":{"$error":"#N/A"}},7777,8.9589259386949429,{"$f":" IF(Foglio1!$C$13 <> \"\", 8.314472*Foglio1!$C$13*Foglio2!J870, NA())","v":{"$error":"#N/A"}},{"$f":"IF(Foglio1!$H$13 <> \"\", Foglio1!$H$13 + K870*10^-3, NA())","v":{"$error":"#N/A"}},7777,8.9589259386949429,{"$f":" IF(Foglio1!$C$14 <> \"\", 8.314472*Foglio1!$C$14*Foglio2!N870, NA())","v":{"$error":"#N/A"}},{"$f":"IF(Foglio1!$H$14 <> \"\", Foglio1!$H$14 + O870*10^-3, NA())","v":{"$error":"#N/A"}},7777,8.9589259386949429,{"$f":" IF(Foglio1!$C$15 <> \"\", 8.314472*Foglio1!$C$15*Foglio2!R870, NA())","v":{"$error":"#N/A"}},{"$f":"IF(Foglio1!$H$15 <> \"\", Foglio1!$H$15 + S870*10^-3, NA())","v":{"$error":"#N/A"}}]
[7786,8.9600825281704015,{"$f":" IF(Foglio1!$C$11 <> \"\", 8.314472*Foglio1!$C$11*Foglio2!B871, NA())","v":22349.506589448607},{"$f":"IF(Foglio1!$H$11 <> \"\", Foglio1!$H$11 + C871*10^-3, NA())","v":-67.650493410551391},7786,8.9600825281704015,{"$f":" IF(Foglio1!$C$12 <> \"\", 8.314472*Foglio1!$C$12*Foglio2!F871, NA())","v":{"$error":"#N/A"}},{"$f":"IF(Foglio1!$H$12 <> \"\", Foglio1!$H$12 + G871*10^-3, NA())","v":{"$error":"#N/A"}},7786,8.9600825281704015,{"$f":" IF(Foglio1!$C$13 <> \"\", 8.314472*Foglio1!$C$13*Foglio2!J871, NA())","v":{"$error":"#N/A"}},{"$f":"IF(Foglio1!$H$13 <> \"\", Foglio1!$H$13 + K871*10^-3, NA())","v":{"$error":"#N/A"}},7786,8.9600825281704015,{"$f":" IF(Foglio1!$C$14 <> \"\", 8.314472*Foglio1!$C$14*Foglio2!N871, NA())","v":{"$error":"#N/A"}},{"$f":"IF(Foglio1!$H$14 <> \"\", Foglio1!$H$14 + O871*10^-3, NA())","v":{"$error":"#N/A"}},7786,8.9600825281704015,{"$f":" IF(Foglio1!$C$15 <> \"\", 8.314472*Foglio1!$C$15*Foglio2!R871, NA())","v":{"$error":"#N/A"}},{"$f":"IF(Foglio1!$H$15 <> \"\", Foglio1!$H$15 + S871*10^-3, NA())","v":{"$error":"#N/A"}}]
[7795,8.9612377814918762,{"$f":" IF(Foglio1!$C$11 <> \"\", 8.314472*Foglio1!$C$11*Foglio2!B872, NA())","v":22352.388185866897},{"$f":"IF(Foglio1!$H$11 <> \"\", Foglio1!$H$11 + C872*10^-3, NA())","v":-67.6476118141331},7795,8.9612377814918762,{"$f":" IF(Foglio1!$C$12 <> \"\", 8.314472*Foglio1!$C$12*Foglio2!F872, NA())","v":{"$error":"#N/A"}},{"$f":"IF(Foglio1!$H$12 <> \"\", Foglio1!$H$12 + G872*10^-3, NA())","v":{"$error":"#N/A"}},7795,8.9612377814918762,{"$f":" IF(Foglio1!$C$13 <> \"\", 8.314472*Foglio1!$C$13*Foglio2!J872, NA())","v":{"$error":"#N/A"}},{"$f":"IF(Foglio1!$H$13 <> \"\", Foglio1!$H$13 + K872*10^-3, NA())","v":{"$error":"#N/A"}},7795,8.9612377814918762,{"$f":" IF(Foglio1!$C$14 <> \"\", 8.314472*Foglio1!$C$14*Foglio2!N872, NA())","v":{"$error":"#N/A"}},{"$f":"IF(Foglio1!$H$14 <> \"\", Foglio1!$H$14 + O872*10^-3, NA())","v":{"$error":"#N/A"}},7795,8.9612377814918762,{"$f":" IF(Foglio1!$C$15 <> \"\", 8.314472*Foglio1!$C$15*Foglio2!R872, NA())","v":{"$error":"#N/A"}},{"$f":"IF(Foglio1!$H$15 <> \"\", Foglio1!$H$15 + S872*10^-3, NA())","v":{"$error":"#N/A"}}]
[7804,8.9623917017430017,{"$f":" IF(Foglio1!$C$11 <> \"\", 8.314472*Foglio1!$C$11*Foglio2!B873, NA())","v":22355.266457152364},{"$f":"IF(Foglio1!$H$11 <> \"\", Foglio1!$H$11 + C873*10^-3, NA())","v":-67.644733542847632},7804,8.9623917017430017,{"$f":" IF(Foglio1!$C$12 <> \"\", 8.314472*Foglio1!$C$12*Foglio2!F873, NA())","v":{"$error":"#N/A"}},{"$f":"IF(Foglio1!$H$12 <> \"\", Foglio1!$H$12 + G873*10^-3, NA())","v":{"$error":"#N/A"}},7804,8.9623917017430017,{"$f":" IF(Foglio1!$C$13 <> \"\", 8.314472*Foglio1!$C$13*Foglio2!J873, NA())","v":{"$error":"#N/A"}},{"$f":"IF(Foglio1!$H$13 <> \"\", Foglio1!$H$13 + K873*10^-3, NA())","v":{"$error":"#N/A"}},7804,8.9623917017430017,{"$f":" IF(Foglio1!$C$14 <> \"\", 8.314472*Foglio1!$C$14*Foglio2!N873, NA())","v":{"$error":"#N/A"}},{"$f":"IF(Foglio1!$H$14 <> \"\", Foglio1!$H$14 + O873*10^-3, NA())","v":{"$error":"#N/A"}},7804,8.9623917017430017,{"$f":" IF(Foglio1!$C$15 <> \"\", 8.314472*Foglio1!$C$15*Foglio2!R873, NA())","v":{"$error":"#N/A"}},{"$f":"IF(Foglio1!$H$15 <> \"\", Foglio1!$H$15 + S873*10^-3, NA())","v":{"$error":"#N/A"}}]
[7813,8.9635442919967439,{"$f":" IF(Foglio1!$C$11 <> \"\", 8.314472*Foglio1!$C$11*Foglio2!B874, NA())","v":22358.141410970027},{"$f":"IF(Foglio1!$H$11 <> \"\", Foglio1!$H$11 + C874*10^-3, NA())","v":-67.641858589029965},7813,8.9635442919967439,{"$f":" IF(Foglio1!$C$12 <> \"\", 8.314472*Foglio1!$C$12*Foglio2!F874, NA())","v":{"$error":"#N/A"}},{"$f":"IF(Foglio1!$H$12 <> \"\", Foglio1!$H$12 + G874*10^-3, NA())","v":{"$error":"#N/A"}},7813,8.9635442919967439,{"$f":" IF(Foglio1!$C$13 <> \"\", 8.314472*Foglio1!$C$13*Foglio2!J874, NA())","v":{"$error":"#N/A"}},{"$f":"IF(Foglio1!$H$13 <> \"\", Foglio1!$H$13 + K874*10^-3, NA())","v":{"$error":"#N/A"}},7813,8.9635442919967439,{"$f":" IF(Foglio1!$C$14 <> \"\", 8.314472*Foglio1!$C$14*Foglio2!N874, NA())","v":{"$error":"#N/A"}},{"$f":"IF(Foglio1!$H$14 <> \"\", Foglio1!$H$14 + O874*10^-3, NA())","v":{"$error":"#N/A"}},7813,8.9635442919967439,{"$f":" IF(Foglio1!$C$15 <> \"\", 8.314472*Foglio1!$C$15*Foglio2!R874, NA())","v":{"$error":"#N/A"}},{"$f":"IF(Foglio1!$H$15 <> \"\", Foglio1!$H$15 + S874*10^-3, NA())","v":{"$error":"#N/A"}}]
[7822,8.9646955553154601,{"$f":" IF(Foglio1!$C$11 <> \"\", 8.314472*Foglio1!$C$11*Foglio2!B875, NA())","v":22361.013054958454},{"$f":"IF(Foglio1!$H$11 <> \"\", Foglio1!$H$11 + C875*10^-3, NA())","v":-67.638986945041552},7822,8.9646955553154601,{"$f":" IF(Foglio1!$C$12 <> \"\", 8.314472*Foglio1!$C$12*Foglio2!F875, NA())","v":{"$error":"#N/A"}},{"$f":"IF(Foglio1!$H$12 <> \"\", Foglio1!$H$12 + G875*10^-3, NA())","v":{"$error":"#N/A"}},7822,8.9646955553154601,{"$f":" IF(Foglio1!$C$13 <> \"\", 8.314472*Foglio1!$C$13*Foglio2!J875, NA())","v":{"$error":"#N/A"}},{"$f":"IF(Foglio1!$H$13 <> \"\", Foglio1!$H$13 + K875*10^-3, NA())","v":{"$error":"#N/A"}},7822,8.9646955553154601,{"$f":" IF(Foglio1!$C$14 <> \"\", 8.314472*Foglio1!$C$14*Foglio2!N875, NA())","v":{"$error":"#N/A"}},{"$f":"IF(Foglio1!$H$14 <> \"\", Foglio1!$H$14 + O875*10^-3, NA())","v":{"$error":"#N/A"}},7822,8.9646955553154601,{"$f":" IF(Foglio1!$C$15 <> \"\", 8.314472*Foglio1!$C$15*Foglio2!R875, NA())","v":{"$error":"#N/A"}},{"$f":"IF(Foglio1!$H$15 <> \"\", Foglio1!$H$15 + S875*10^-3, NA())","v":{"$error":"#N/A"}}]
[7831,8.965845494750937,{"$f":" IF(Foglio1!$C$11 <> \"\", 8.314472*Foglio1!$C$11*Foglio2!B876, NA())","v":22363.881396729845},{"$f":"IF(Foglio1!$H$11 <> \"\", Foglio1!$H$11 + C876*10^-3, NA())","v":-67.636118603270148},7831,8.965845494750937,{"$f":" IF(Foglio1!$C$12 <> \"\", 8.314472*Foglio1!$C$12*Foglio2!F876, NA())","v":{"$error":"#N/A"}},{"$f":"IF(Foglio1!$H$12 <> \"\", Foglio1!$H$12 + G876*10^-3, NA())","v":{"$error":"#N/A"}},7831,8.965845494750937,{"$f":" IF(Foglio1!$C$13 <> \"\", 8.314472*Foglio1!$C$13*Foglio2!J876, NA())","v":{"$error":"#N/A"}},{"$f":"IF(Foglio1!$H$13 <> \"\", Foglio1!$H$13 + K876*10^-3, NA())","v":{"$error":"#N/A"}},7831,8.965845494750937,{"$f":" IF(Foglio1!$C$14 <> \"\", 8.314472*Foglio1!$C$14*Foglio2!N876, NA())","v":{"$error":"#N/A"}},{"$f":"IF(Foglio1!$H$14 <> \"\", Foglio1!$H$14 + O876*10^-3, NA())","v":{"$error":"#N/A"}},7831,8.965845494750937,{"$f":" IF(Foglio1!$C$15 <> \"\", 8.314472*Foglio1!$C$15*Foglio2!R876, NA())","v":{"$error":"#N/A"}},{"$f":"IF(Foglio1!$H$15 <> \"\", Foglio1!$H$15 + S876*10^-3, NA())","v":{"$error":"#N/A"}}]
[7840,8.9669941133444535,{"$f":" IF(Foglio1!$C$11 <> \"\", 8.314472*Foglio1!$C$11*Foglio2!B877, NA())","v":22366.746443870186},{"$f":"IF(Foglio1!$H$11 <> \"\", Foglio1!$H$11 + C877*10^-3, NA())","v":-67.633253556129816},7840,8.9669941133444535,{"$f":" IF(Foglio1!$C$12 <> \"\", 8.314472*Foglio1!$C$12*Foglio2!F877, NA())","v":{"$error":"#N/A"}},{"$f":"IF(Foglio1!$H$12 <> \"\", Foglio1!$H$12 + G877*10^-3, NA())","v":{"$error":"#N/A"}},7840,8.9669941133444535,{"$f":" IF(Foglio1!$C$13 <> \"\", 8.314472*Foglio1!$C$13*Foglio2!J877, NA())","v":{"$error":"#N/A"}},{"$f":"IF(Foglio1!$H$13 <> \"\", Foglio1!$H$13 + K877*10^-3, NA())","v":{"$error":"#N/A"}},7840,8.9669941133444535,{"$f":" IF(Foglio1!$C$14 <> \"\", 8.314472*Foglio1!$C$14*Foglio2!N877, NA())","v":{"$error":"#N/A"}},{"$f":"IF(Foglio1!$H$14 <> \"\", Foglio1!$H$14 + O877*10^-3, NA())","v":{"$error":"#N/A"}},7840,8.9669941133444535,{"$f":" IF(Foglio1!$C$15 <> \"\", 8.314472*Foglio1!$C$15*Foglio2!R877, NA())","v":{"$error":"#N/A"}},{"$f":"IF(Foglio1!$H$15 <> \"\", Foglio1!$H$15 + S877*10^-3, NA())","v":{"$error":"#N/A"}}]
[7849,8.9681414141268139,{"$f":" IF(Foglio1!$C$11 <> \"\", 8.314472*Foglio1!$C$11*Foglio2!B878, NA())","v":22369.60820393934},{"$f":"IF(Foglio1!$H$11 <> \"\", Foglio1!$H$11 + C878*10^-3, NA())","v":-67.630391796060664},7849,8.9681414141268139,{"$f":" IF(Foglio1!$C$12 <> \"\", 8.314472*Foglio1!$C$12*Foglio2!F878, NA())","v":{"$error":"#N/A"}},{"$f":"IF(Foglio1!$H$12 <> \"\", Foglio1!$H$12 + G878*10^-3, NA())","v":{"$error":"#N/A"}},7849,8.9681414141268139,{"$f":" IF(Foglio1!$C$13 <> \"\", 8.314472*Foglio1!$C$13*Foglio2!J878, NA())","v":{"$error":"#N/A"}},{"$f":"IF(Foglio1!$H$13 <> \"\", Foglio1!$H$13 + K878*10^-3, NA())","v":{"$error":"#N/A"}},7849,8.9681414141268139,{"$f":" IF(Foglio1!$C$14 <> \"\", 8.314472*Foglio1!$C$14*Foglio2!N878, NA())","v":{"$error":"#N/A"}},{"$f":"IF(Foglio1!$H$14 <> \"\", Foglio1!$H$14 + O878*10^-3, NA())","v":{"$error":"#N/A"}},7849,8.9681414141268139,{"$f":" IF(Foglio1!$C$15 <> \"\", 8.314472*Foglio1!$C$15*Foglio2!R878, NA())","v":{"$error":"#N/A"}},{"$f":"IF(Foglio1!$H$15 <> \"\", Foglio1!$H$15 + S878*10^-3, NA())","v":{"$error":"#N/A"}}]
[7858,8.9692874001184055,{"$f":" IF(Foglio1!$C$11 <> \"\", 8.314472*Foglio1!$C$11*Foglio2!B879, NA())","v":22372.466684471186},{"$f":"IF(Foglio1!$H$11 <> \"\", Foglio1!$H$11 + C879*10^-3, NA())","v":-67.627533315528808},7858,8.9692874001184055,{"$f":" IF(Foglio1!$C$12 <> \"\", 8.314472*Foglio1!$C$12*Foglio2!F879, NA())","v":{"$error":"#N/A"}},{"$f":"IF(Foglio1!$H$12 <> \"\", Foglio1!$H$12 + G879*10^-3, NA())","v":{"$error":"#N/A"}},7858,8.9692874001184055,{"$f":" IF(Foglio1!$C$13 <> \"\", 8.314472*Foglio1!$C$13*Foglio2!J879, NA())","v":{"$error":"#N/A"}},{"$f":"IF(Foglio1!$H$13 <> \"\", Foglio1!$H$13 + K879*10^-3, NA())","v":{"$error":"#N/A"}},7858,8.9692874001184055,{"$f":" IF(Foglio1!$C$14 <> \"\", 8.314472*Foglio1!$C$14*Foglio2!N879, NA())","v":{"$error":"#N/A"}},{"$f":"IF(Foglio1!$H$14 <> \"\", Foglio1!$H$14 + O879*10^-3, NA())","v":{"$error":"#N/A"}},7858,8.9692874001184055,{"$f":" IF(Foglio1!$C$15 <> \"\", 8.314472*Foglio1!$C$15*Foglio2!R879, NA())","v":{"$error":"#N/A"}},{"$f":"IF(Foglio1!$H$15 <> \"\", Foglio1!$H$15 + S879*10^-3, NA())","v":{"$error":"#N/A"}}]
[7867,8.9704320743292421,{"$f":" IF(Foglio1!$C$11 <> \"\", 8.314472*Foglio1!$C$11*Foglio2!B880, NA())","v":22375.321892973723},{"$f":"IF(Foglio1!$H$11 <> \"\", Foglio1!$H$11 + C880*10^-3, NA())","v":-67.624678107026284},7867,8.9704320743292421,{"$f":" IF(Foglio1!$C$12 <> \"\", 8.314472*Foglio1!$C$12*Foglio2!F880, NA())","v":{"$error":"#N/A"}},{"$f":"IF(Foglio1!$H$12 <> \"\", Foglio1!$H$12 + G880*10^-3, NA())","v":{"$error":"#N/A"}},7867,8.9704320743292421,{"$f":" IF(Foglio1!$C$13 <> \"\", 8.314472*Foglio1!$C$13*Foglio2!J880, NA())","v":{"$error":"#N/A"}},{"$f":"IF(Foglio1!$H$13 <> \"\", Foglio1!$H$13 + K880*10^-3, NA())","v":{"$error":"#N/A"}},7867,8.9704320743292421,{"$f":" IF(Foglio1!$C$14 <> \"\", 8.314472*Foglio1!$C$14*Foglio2!N880, NA())","v":{"$error":"#N/A"}},{"$f":"IF(Foglio1!$H$14 <> \"\", Foglio1!$H$14 + O880*10^-3, NA())","v":{"$error":"#N/A"}},7867,8.9704320743292421,{"$f":" IF(Foglio1!$C$15 <> \"\", 8.314472*Foglio1!$C$15*Foglio2!R880, NA())","v":{"$error":"#N/A"}},{"$f":"IF(Foglio1!$H$15 <> \"\", Foglio1!$H$15 + S880*10^-3, NA())","v":{"$error":"#N/A"}}]
[7876,8.9715754397590164,{"$f":" IF(Foglio1!$C$11 <> \"\", 8.314472*Foglio1!$C$11*Foglio2!B881, NA())","v":22378.173836929211},{"$f":"IF(Foglio1!$H$11 <> \"\", Foglio1!$H$11 + C881*10^-3, NA())","v":-67.621826163070793},7876,8.9715754397590164,{"$f":" IF(Foglio1!$C$12 <> \"\", 8.314472*Foglio1!$C$12*Foglio2!F881, NA())","v":{"$error":"#N/A"}},{"$f":"IF(Foglio1!$H$12 <> \"\", Foglio1!$H$12 + G881*10^-3, NA())","v":{"$error":"#N/A"}},7876,8.9715754397590164,{"$f":" IF(Foglio1!$C$13 <> \"\", 8.314472*Foglio1!$C$13*Foglio2!J881, NA())","v":{"$error":"#N/A"}},{"$f":"IF(Foglio1!$H$13 <> \"\", Foglio1!$H$13 + K881*10^-3, NA())","v":{"$error":"#N/A"}},7876,8.9715754397590164,{"$f":" IF(Foglio1!$C$14 <> \"\", 8.314472*Foglio1!$C$14*Foglio2!N881, NA())","v":{"$error":"#N/A"}},{"$f":"IF(Foglio1!$H$14 <> \"\", Foglio1!$H$14 + O881*10^-3, NA())","v":{"$error":"#N/A"}},7876,8.9715754397590164,{"$f":" IF(Foglio1!$C$15 <> \"\", 8.314472*Foglio1!$C$15*Foglio2!R881, NA())","v":{"$error":"#N/A"}},{"$f":"IF(Foglio1!$H$15 <> \"\", Foglio1!$H$15 + S881*10^-3, NA())","v":{"$error":"#N/A"}}]
[7885,8.9727174993971381,{"$f":" IF(Foglio1!$C$11 <> \"\", 8.314472*Foglio1!$C$11*Foglio2!B882, NA())","v":22381.022523794258},{"$f":"IF(Foglio1!$H$11 <> \"\", Foglio1!$H$11 + C882*10^-3, NA())","v":-67.618977476205743},7885,8.9727174993971381,{"$f":" IF(Foglio1!$C$12 <> \"\", 8.314472*Foglio1!$C$12*Foglio2!F882, NA())","v":{"$error":"#N/A"}},{"$f":"IF(Foglio1!$H$12 <> \"\", Foglio1!$H$12 + G882*10^-3, NA())","v":{"$error":"#N/A"}},7885,8.9727174993971381,{"$f":" IF(Foglio1!$C$13 <> \"\", 8.314472*Foglio1!$C$13*Foglio2!J882, NA())","v":{"$error":"#N/A"}},{"$f":"IF(Foglio1!$H$13 <> \"\", Foglio1!$H$13 + K882*10^-3, NA())","v":{"$error":"#N/A"}},7885,8.9727174993971381,{"$f":" IF(Foglio1!$C$14 <> \"\", 8.314472*Foglio1!$C$14*Foglio2!N882, NA())","v":{"$error":"#N/A"}},{"$f":"IF(Foglio1!$H$14 <> \"\", Foglio1!$H$14 + O882*10^-3, NA())","v":{"$error":"#N/A"}},7885,8.9727174993971381,{"$f":" IF(Foglio1!$C$15 <> \"\", 8.314472*Foglio1!$C$15*Foglio2!R882, NA())","v":{"$error":"#N/A"}},{"$f":"IF(Foglio1!$H$15 <> \"\", Foglio1!$H$15 + S882*10^-3, NA())","v":{"$error":"#N/A"}}]
[7894,8.9738582562227922,{"$f":" IF(Foglio1!$C$11 <> \"\", 8.314472*Foglio1!$C$11*Foglio2!B883, NA())","v":22383.867960999971},{"$f":"IF(Foglio1!$H$11 <> \"\", Foglio1!$H$11 + C883*10^-3, NA())","v":-67.616132039000036},7894,8.9738582562227922,{"$f":" IF(Foglio1!$C$12 <> \"\", 8.314472*Foglio1!$C$12*Foglio2!F883, NA())","v":{"$error":"#N/A"}},{"$f":"IF(Foglio1!$H$12 <> \"\", Foglio1!$H$12 + G883*10^-3, NA())","v":{"$error":"#N/A"}},7894,8.9738582562227922,{"$f":" IF(Foglio1!$C$13 <> \"\", 8.314472*Foglio1!$C$13*Foglio2!J883, NA())","v":{"$error":"#N/A"}},{"$f":"IF(Foglio1!$H$13 <> \"\", Foglio1!$H$13 + K883*10^-3, NA())","v":{"$error":"#N/A"}},7894,8.9738582562227922,{"$f":" IF(Foglio1!$C$14 <> \"\", 8.314472*Foglio1!$C$14*Foglio2!N883, NA())","v":{"$error":"#N/A"}},{"$f":"IF(Foglio1!$H$14 <> \"\", Foglio1!$H$14 + O883*10^-3, NA())","v":{"$error":"#N/A"}},7894,8.9738582562227922,{"$f":" IF(Foglio1!$C$15 <> \"\", 8.314472*Foglio1!$C$15*Foglio2!R883, NA())","v":{"$error":"#N/A"}},{"$f":"IF(Foglio1!$H$15 <> \"\", Foglio1!$H$15 + S883*10^-3, NA())","v":{"$error":"#N/A"}}]
[7903,8.9749977132049761,{"$f":" IF(Foglio1!$C$11 <> \"\", 8.314472*Foglio1!$C$11*Foglio2!B884, NA())","v":22386.710155952042},{"$f":"IF(Foglio1!$H$11 <> \"\", Foglio1!$H$11 + C884*10^-3, NA())","v":-67.613289844047955},7903,8.9749977132049761,{"$f":" IF(Foglio1!$C$12 <> \"\", 8.314472*Foglio1!$C$12*Foglio2!F884, NA())","v":{"$error":"#N/A"}},{"$f":"IF(Foglio1!$H$12 <> \"\", Foglio1!$H$12 + G884*10^-3, NA())","v":{"$error":"#N/A"}},7903,8.9749977132049761,{"$f":" IF(Foglio1!$C$13 <> \"\", 8.314472*Foglio1!$C$13*Foglio2!J884, NA())","v":{"$error":"#N/A"}},{"$f":"IF(Foglio1!$H$13 <> \"\", Foglio1!$H$13 + K884*10^-3, NA())","v":{"$error":"#N/A"}},7903,8.9749977132049761,{"$f":" IF(Foglio1!$C$14 <> \"\", 8.314472*Foglio1!$C$14*Foglio2!N884, NA())","v":{"$error":"#N/A"}},{"$f":"IF(Foglio1!$H$14 <> \"\", Foglio1!$H$14 + O884*10^-3, NA())","v":{"$error":"#N/A"}},7903,8.9749977132049761,{"$f":" IF(Foglio1!$C$15 <> \"\", 8.314472*Foglio1!$C$15*Foglio2!R884, NA())","v":{"$error":"#N/A"}},{"$f":"IF(Foglio1!$H$15 <> \"\", Foglio1!$H$15 + S884*10^-3, NA())","v":{"$error":"#N/A"}}]
[7912,8.9761358733025478,{"$f":" IF(Foglio1!$C$11 <> \"\", 8.314472*Foglio1!$C$11*Foglio2!B885, NA())","v":22389.549116030877},{"$f":"IF(Foglio1!$H$11 <> \"\", Foglio1!$H$11 + C885*10^-3, NA())","v":-67.610450883969122},7912,8.9761358733025478,{"$f":" IF(Foglio1!$C$12 <> \"\", 8.314472*Foglio1!$C$12*Foglio2!F885, NA())","v":{"$error":"#N/A"}},{"$f":"IF(Foglio1!$H$12 <> \"\", Foglio1!$H$12 + G885*10^-3, NA())","v":{"$error":"#N/A"}},7912,8.9761358733025478,{"$f":" IF(Foglio1!$C$13 <> \"\", 8.314472*Foglio1!$C$13*Foglio2!J885, NA())","v":{"$error":"#N/A"}},{"$f":"IF(Foglio1!$H$13 <> \"\", Foglio1!$H$13 + K885*10^-3, NA())","v":{"$error":"#N/A"}},7912,8.9761358733025478,{"$f":" IF(Foglio1!$C$14 <> \"\", 8.314472*Foglio1!$C$14*Foglio2!N885, NA())","v":{"$error":"#N/A"}},{"$f":"IF(Foglio1!$H$14 <> \"\", Foglio1!$H$14 + O885*10^-3, NA())","v":{"$error":"#N/A"}},7912,8.9761358733025478,{"$f":" IF(Foglio1!$C$15 <> \"\", 8.314472*Foglio1!$C$15*Foglio2!R885, NA())","v":{"$error":"#N/A"}},{"$f":"IF(Foglio1!$H$15 <> \"\", Foglio1!$H$15 + S885*10^-3, NA())","v":{"$error":"#N/A"}}]
[7921,8.9772727394642793,{"$f":" IF(Foglio1!$C$11 <> \"\", 8.314472*Foglio1!$C$11*Foglio2!B886, NA())","v":22392.384848591715},{"$f":"IF(Foglio1!$H$11 <> \"\", Foglio1!$H$11 + C886*10^-3, NA())","v":-67.607615151408282},7921,8.9772727394642793,{"$f":" IF(Foglio1!$C$12 <> \"\", 8.314472*Foglio1!$C$12*Foglio2!F886, NA())","v":{"$error":"#N/A"}},{"$f":"IF(Foglio1!$H$12 <> \"\", Foglio1!$H$12 + G886*10^-3, NA())","v":{"$error":"#N/A"}},7921,8.9772727394642793,{"$f":" IF(Foglio1!$C$13 <> \"\", 8.314472*Foglio1!$C$13*Foglio2!J886, NA())","v":{"$error":"#N/A"}},{"$f":"IF(Foglio1!$H$13 <> \"\", Foglio1!$H$13 + K886*10^-3, NA())","v":{"$error":"#N/A"}},7921,8.9772727394642793,{"$f":" IF(Foglio1!$C$14 <> \"\", 8.314472*Foglio1!$C$14*Foglio2!N886, NA())","v":{"$error":"#N/A"}},{"$f":"IF(Foglio1!$H$14 <> \"\", Foglio1!$H$14 + O886*10^-3, NA())","v":{"$error":"#N/A"}},7921,8.9772727394642793,{"$f":" IF(Foglio1!$C$15 <> \"\", 8.314472*Foglio1!$C$15*Foglio2!R886, NA())","v":{"$error":"#N/A"}},{"$f":"IF(Foglio1!$H$15 <> \"\", Foglio1!$H$15 + S886*10^-3, NA())","v":{"$error":"#N/A"}}]
[7930,8.9784083146288935,{"$f":" IF(Foglio1!$C$11 <> \"\", 8.314472*Foglio1!$C$11*Foglio2!B887, NA())","v":22395.21736096474},{"$f":"IF(Foglio1!$H$11 <> \"\", Foglio1!$H$11 + C887*10^-3, NA())","v":-67.604782639035264},7930,8.9784083146288935,{"$f":" IF(Foglio1!$C$12 <> \"\", 8.314472*Foglio1!$C$12*Foglio2!F887, NA())","v":{"$error":"#N/A"}},{"$f":"IF(Foglio1!$H$12 <> \"\", Foglio1!$H$12 + G887*10^-3, NA())","v":{"$error":"#N/A"}},7930,8.9784083146288935,{"$f":" IF(Foglio1!$C$13 <> \"\", 8.314472*Foglio1!$C$13*Foglio2!J887, NA())","v":{"$error":"#N/A"}},{"$f":"IF(Foglio1!$H$13 <> \"\", Foglio1!$H$13 + K887*10^-3, NA())","v":{"$error":"#N/A"}},7930,8.9784083146288935,{"$f":" IF(Foglio1!$C$14 <> \"\", 8.314472*Foglio1!$C$14*Foglio2!N887, NA())","v":{"$error":"#N/A"}},{"$f":"IF(Foglio1!$H$14 <> \"\", Foglio1!$H$14 + O887*10^-3, NA())","v":{"$error":"#N/A"}},7930,8.9784083146288935,{"$f":" IF(Foglio1!$C$15 <> \"\", 8.314472*Foglio1!$C$15*Foglio2!R887, NA())","v":{"$error":"#N/A"}},{"$f":"IF(Foglio1!$H$15 <> \"\", Foglio1!$H$15 + S887*10^-3, NA())","v":{"$error":"#N/A"}}]
[7939,8.9795426017251128,{"$f":" IF(Foglio1!$C$11 <> \"\", 8.314472*Foglio1!$C$11*Foglio2!B888, NA())","v":22398.046660455184},{"$f":"IF(Foglio1!$H$11 <> \"\", Foglio1!$H$11 + C888*10^-3, NA())","v":-67.601953339544821},7939,8.9795426017251128,{"$f":" IF(Foglio1!$C$12 <> \"\", 8.314472*Foglio1!$C$12*Foglio2!F888, NA())","v":{"$error":"#N/A"}},{"$f":"IF(Foglio1!$H$12 <> \"\", Foglio1!$H$12 + G888*10^-3, NA())","v":{"$error":"#N/A"}},7939,8.9795426017251128,{"$f":" IF(Foglio1!$C$13 <> \"\", 8.314472*Foglio1!$C$13*Foglio2!J888, NA())","v":{"$error":"#N/A"}},{"$f":"IF(Foglio1!$H$13 <> \"\", Foglio1!$H$13 + K888*10^-3, NA())","v":{"$error":"#N/A"}},7939,8.9795426017251128,{"$f":" IF(Foglio1!$C$14 <> \"\", 8.314472*Foglio1!$C$14*Foglio2!N888, NA())","v":{"$error":"#N/A"}},{"$f":"IF(Foglio1!$H$14 <> \"\", Foglio1!$H$14 + O888*10^-3, NA())","v":{"$error":"#N/A"}},7939,8.9795426017251128,{"$f":" IF(Foglio1!$C$15 <> \"\", 8.314472*Foglio1!$C$15*Foglio2!R888, NA())","v":{"$error":"#N/A"}},{"$f":"IF(Foglio1!$H$15 <> \"\", Foglio1!$H$15 + S888*10^-3, NA())","v":{"$error":"#N/A"}}]
[7948,8.9806756036717079,{"$f":" IF(Foglio1!$C$11 <> \"\", 8.314472*Foglio1!$C$11*Foglio2!B889, NA())","v":22400.872754343454},{"$f":"IF(Foglio1!$H$11 <> \"\", Foglio1!$H$11 + C889*10^-3, NA())","v":-67.599127245656547},7948,8.9806756036717079,{"$f":" IF(Foglio1!$C$12 <> \"\", 8.314472*Foglio1!$C$12*Foglio2!F889, NA())","v":{"$error":"#N/A"}},{"$f":"IF(Foglio1!$H$12 <> \"\", Foglio1!$H$12 + G889*10^-3, NA())","v":{"$error":"#N/A"}},7948,8.9806756036717079,{"$f":" IF(Foglio1!$C$13 <> \"\", 8.314472*Foglio1!$C$13*Foglio2!J889, NA())","v":{"$error":"#N/A"}},{"$f":"IF(Foglio1!$H$13 <> \"\", Foglio1!$H$13 + K889*10^-3, NA())","v":{"$error":"#N/A"}},7948,8.9806756036717079,{"$f":" IF(Foglio1!$C$14 <> \"\", 8.314472*Foglio1!$C$14*Foglio2!N889, NA())","v":{"$error":"#N/A"}},{"$f":"IF(Foglio1!$H$14 <> \"\", Foglio1!$H$14 + O889*10^-3, NA())","v":{"$error":"#N/A"}},7948,8.9806756036717079,{"$f":" IF(Foglio1!$C$15 <> \"\", 8.314472*Foglio1!$C$15*Foglio2!R889, NA())","v":{"$error":"#N/A"}},{"$f":"IF(Foglio1!$H$15 <> \"\", Foglio1!$H$15 + S889*10^-3, NA())","v":{"$error":"#N/A"}}]
[7957,8.9818073233775344,{"$f":" IF(Foglio1!$C$11 <> \"\", 8.314472*Foglio1!$C$11*Foglio2!B890, NA())","v":22403.695649885238},{"$f":"IF(Foglio1!$H$11 <> \"\", Foglio1!$H$11 + C890*10^-3, NA())","v":-67.596304350114764},7957,8.9818073233775344,{"$f":" IF(Foglio1!$C$12 <> \"\", 8.314472*Foglio1!$C$12*Foglio2!F890, NA())","v":{"$error":"#N/A"}},{"$f":"IF(Foglio1!$H$12 <> \"\", Foglio1!$H$12 + G890*10^-3, NA())","v":{"$error":"#N/A"}},7957,8.9818073233775344,{"$f":" IF(Foglio1!$C$13 <> \"\", 8.314472*Foglio1!$C$13*Foglio2!J890, NA())","v":{"$error":"#N/A"}},{"$f":"IF(Foglio1!$H$13 <> \"\", Foglio1!$H$13 + K890*10^-3, NA())","v":{"$error":"#N/A"}},7957,8.9818073233775344,{"$f":" IF(Foglio1!$C$14 <> \"\", 8.314472*Foglio1!$C$14*Foglio2!N890, NA())","v":{"$error":"#N/A"}},{"$f":"IF(Foglio1!$H$14 <> \"\", Foglio1!$H$14 + O890*10^-3, NA())","v":{"$error":"#N/A"}},7957,8.9818073233775344,{"$f":" IF(Foglio1!$C$15 <> \"\", 8.314472*Foglio1!$C$15*Foglio2!R890, NA())","v":{"$error":"#N/A"}},{"$f":"IF(Foglio1!$H$15 <> \"\", Foglio1!$H$15 + S890*10^-3, NA())","v":{"$error":"#N/A"}}]
[7966,8.9829377637415888,{"$f":" IF(Foglio1!$C$11 <> \"\", 8.314472*Foglio1!$C$11*Foglio2!B891, NA())","v":22406.515354311618},{"$f":"IF(Foglio1!$H$11 <> \"\", Foglio1!$H$11 + C891*10^-3, NA())","v":-67.593484645688378},7966,8.9829377637415888,{"$f":" IF(Foglio1!$C$12 <> \"\", 8.314472*Foglio1!$C$12*Foglio2!F891, NA())","v":{"$error":"#N/A"}},{"$f":"IF(Foglio1!$H$12 <> \"\", Foglio1!$H$12 + G891*10^-3, NA())","v":{"$error":"#N/A"}},7966,8.9829377637415888,{"$f":" IF(Foglio1!$C$13 <> \"\", 8.314472*Foglio1!$C$13*Foglio2!J891, NA())","v":{"$error":"#N/A"}},{"$f":"IF(Foglio1!$H$13 <> \"\", Foglio1!$H$13 + K891*10^-3, NA())","v":{"$error":"#N/A"}},7966,8.9829377637415888,{"$f":" IF(Foglio1!$C$14 <> \"\", 8.314472*Foglio1!$C$14*Foglio2!N891, NA())","v":{"$error":"#N/A"}},{"$f":"IF(Foglio1!$H$14 <> \"\", Foglio1!$H$14 + O891*10^-3, NA())","v":{"$error":"#N/A"}},7966,8.9829377637415888,{"$f":" IF(Foglio1!$C$15 <> \"\", 8.314472*Foglio1!$C$15*Foglio2!R891, NA())","v":{"$error":"#N/A"}},{"$f":"IF(Foglio1!$H$15 <> \"\", Foglio1!$H$15 + S891*10^-3, NA())","v":{"$error":"#N/A"}}]
[7975,8.9840669276530445,{"$f":" IF(Foglio1!$C$11 <> \"\", 8.314472*Foglio1!$C$11*Foglio2!B892, NA())","v":22409.331874829182},{"$f":"IF(Foglio1!$H$11 <> \"\", Foglio1!$H$11 + C892*10^-3, NA())","v":-67.590668125170822},7975,8.9840669276530445,{"$f":" IF(Foglio1!$C$12 <> \"\", 8.314472*Foglio1!$C$12*Foglio2!F892, NA())","v":{"$error":"#N/A"}},{"$f":"IF(Foglio1!$H$12 <> \"\", Foglio1!$H$12 + G892*10^-3, NA())","v":{"$error":"#N/A"}},7975,8.9840669276530445,{"$f":" IF(Foglio1!$C$13 <> \"\", 8.314472*Foglio1!$C$13*Foglio2!J892, NA())","v":{"$error":"#N/A"}},{"$f":"IF(Foglio1!$H$13 <> \"\", Foglio1!$H$13 + K892*10^-3, NA())","v":{"$error":"#N/A"}},7975,8.9840669276530445,{"$f":" IF(Foglio1!$C$14 <> \"\", 8.314472*Foglio1!$C$14*Foglio2!N892, NA())","v":{"$error":"#N/A"}},{"$f":"IF(Foglio1!$H$14 <> \"\", Foglio1!$H$14 + O892*10^-3, NA())","v":{"$error":"#N/A"}},7975,8.9840669276530445,{"$f":" IF(Foglio1!$C$15 <> \"\", 8.314472*Foglio1!$C$15*Foglio2!R892, NA())","v":{"$error":"#N/A"}},{"$f":"IF(Foglio1!$H$15 <> \"\", Foglio1!$H$15 + S892*10^-3, NA())","v":{"$error":"#N/A"}}]
[7984,8.9851948179912995,{"$f":" IF(Foglio1!$C$11 <> \"\", 8.314472*Foglio1!$C$11*Foglio2!B893, NA())","v":22412.145218620128},{"$f":"IF(Foglio1!$H$11 <> \"\", Foglio1!$H$11 + C893*10^-3, NA())","v":-67.587854781379875},7984,8.9851948179912995,{"$f":" IF(Foglio1!$C$12 <> \"\", 8.314472*Foglio1!$C$12*Foglio2!F893, NA())","v":{"$error":"#N/A"}},{"$f":"IF(Foglio1!$H$12 <> \"\", Foglio1!$H$12 + G893*10^-3, NA())","v":{"$error":"#N/A"}},7984,8.9851948179912995,{"$f":" IF(Foglio1!$C$13 <> \"\", 8.314472*Foglio1!$C$13*Foglio2!J893, NA())","v":{"$error":"#N/A"}},{"$f":"IF(Foglio1!$H$13 <> \"\", Foglio1!$H$13 + K893*10^-3, NA())","v":{"$error":"#N/A"}},7984,8.9851948179912995,{"$f":" IF(Foglio1!$C$14 <> \"\", 8.314472*Foglio1!$C$14*Foglio2!N893, NA())","v":{"$error":"#N/A"}},{"$f":"IF(Foglio1!$H$14 <> \"\", Foglio1!$H$14 + O893*10^-3, NA())","v":{"$error":"#N/A"}},7984,8.9851948179912995,{"$f":" IF(Foglio1!$C$15 <> \"\", 8.314472*Foglio1!$C$15*Foglio2!R893, NA())","v":{"$error":"#N/A"}},{"$f":"IF(Foglio1!$H$15 <> \"\", Foglio1!$H$15 + S893*10^-3, NA())","v":{"$error":"#N/A"}}]
[7993,8.9863214376260192,{"$f":" IF(Foglio1!$C$11 <> \"\", 8.314472*Foglio1!$C$11*Foglio2!B894, NA())","v":22414.955392842388},{"$f":"IF(Foglio1!$H$11 <> \"\", Foglio1!$H$11 + C894*10^-3, NA())","v":-67.585044607157613},7993,8.9863214376260192,{"$f":" IF(Foglio1!$C$12 <> \"\", 8.314472*Foglio1!$C$12*Foglio2!F894, NA())","v":{"$error":"#N/A"}},{"$f":"IF(Foglio1!$H$12 <> \"\", Foglio1!$H$12 + G894*10^-3, NA())","v":{"$error":"#N/A"}},7993,8.9863214376260192,{"$f":" IF(Foglio1!$C$13 <> \"\", 8.314472*Foglio1!$C$13*Foglio2!J894, NA())","v":{"$error":"#N/A"}},{"$f":"IF(Foglio1!$H$13 <> \"\", Foglio1!$H$13 + K894*10^-3, NA())","v":{"$error":"#N/A"}},7993,8.9863214376260192,{"$f":" IF(Foglio1!$C$14 <> \"\", 8.314472*Foglio1!$C$14*Foglio2!N894, NA())","v":{"$error":"#N/A"}},{"$f":"IF(Foglio1!$H$14 <> \"\", Foglio1!$H$14 + O894*10^-3, NA())","v":{"$error":"#N/A"}},7993,8.9863214376260192,{"$f":" IF(Foglio1!$C$15 <> \"\", 8.314472*Foglio1!$C$15*Foglio2!R894, NA())","v":{"$error":"#N/A"}},{"$f":"IF(Foglio1!$H$15 <> \"\", Foglio1!$H$15 + S894*10^-3, NA())","v":{"$error":"#N/A"}}]
[8002,8.9874467894171808,{"$f":" IF(Foglio1!$C$11 <> \"\", 8.314472*Foglio1!$C$11*Foglio2!B895, NA())","v":22417.762404629717},{"$f":"IF(Foglio1!$H$11 <> \"\", Foglio1!$H$11 + C895*10^-3, NA())","v":-67.582237595370287},8002,8.9874467894171808,{"$f":" IF(Foglio1!$C$12 <> \"\", 8.314472*Foglio1!$C$12*Foglio2!F895, NA())","v":{"$error":"#N/A"}},{"$f":"IF(Foglio1!$H$12 <> \"\", Foglio1!$H$12 + G895*10^-3, NA())","v":{"$error":"#N/A"}},8002,8.9874467894171808,{"$f":" IF(Foglio1!$C$13 <> \"\", 8.314472*Foglio1!$C$13*Foglio2!J895, NA())","v":{"$error":"#N/A"}},{"$f":"IF(Foglio1!$H$13 <> \"\", Foglio1!$H$13 + K895*10^-3, NA())","v":{"$error":"#N/A"}},8002,8.9874467894171808,{"$f":" IF(Foglio1!$C$14 <> \"\", 8.314472*Foglio1!$C$14*Foglio2!N895, NA())","v":{"$error":"#N/A"}},{"$f":"IF(Foglio1!$H$14 <> \"\", Foglio1!$H$14 + O895*10^-3, NA())","v":{"$error":"#N/A"}},8002,8.9874467894171808,{"$f":" IF(Foglio1!$C$15 <> \"\", 8.314472*Foglio1!$C$15*Foglio2!R895, NA())","v":{"$error":"#N/A"}},{"$f":"IF(Foglio1!$H$15 <> \"\", Foglio1!$H$15 + S895*10^-3, NA())","v":{"$error":"#N/A"}}]
[8011,8.9885708762151175,{"$f":" IF(Foglio1!$C$11 <> \"\", 8.314472*Foglio1!$C$11*Foglio2!B896, NA())","v":22420.566261091819},{"$f":"IF(Foglio1!$H$11 <> \"\", Foglio1!$H$11 + C896*10^-3, NA())","v":-67.579433738908179},8011,8.9885708762151175,{"$f":" IF(Foglio1!$C$12 <> \"\", 8.314472*Foglio1!$C$12*Foglio2!F896, NA())","v":{"$error":"#N/A"}},{"$f":"IF(Foglio1!$H$12 <> \"\", Foglio1!$H$12 + G896*10^-3, NA())","v":{"$error":"#N/A"}},8011,8.9885708762151175,{"$f":" IF(Foglio1!$C$13 <> \"\", 8.314472*Foglio1!$C$13*Foglio2!J896, NA())","v":{"$error":"#N/A"}},{"$f":"IF(Foglio1!$H$13 <> \"\", Foglio1!$H$13 + K896*10^-3, NA())","v":{"$error":"#N/A"}},8011,8.9885708762151175,{"$f":" IF(Foglio1!$C$14 <> \"\", 8.314472*Foglio1!$C$14*Foglio2!N896, NA())","v":{"$error":"#N/A"}},{"$f":"IF(Foglio1!$H$14 <> \"\", Foglio1!$H$14 + O896*10^-3, NA())","v":{"$error":"#N/A"}},8011,8.9885708762151175,{"$f":" IF(Foglio1!$C$15 <> \"\", 8.314472*Foglio1!$C$15*Foglio2!R896, NA())","v":{"$error":"#N/A"}},{"$f":"IF(Foglio1!$H$15 <> \"\", Foglio1!$H$15 + S896*10^-3, NA())","v":{"$error":"#N/A"}}]
[8020,8.9896937008605597,{"$f":" IF(Foglio1!$C$11 <> \"\", 8.314472*Foglio1!$C$11*Foglio2!B897, NA())","v":22423.366969314451},{"$f":"IF(Foglio1!$H$11 <> \"\", Foglio1!$H$11 + C897*10^-3, NA())","v":-67.576633030685542},8020,8.9896937008605597,{"$f":" IF(Foglio1!$C$12 <> \"\", 8.314472*Foglio1!$C$12*Foglio2!F897, NA())","v":{"$error":"#N/A"}},{"$f":"IF(Foglio1!$H$12 <> \"\", Foglio1!$H$12 + G897*10^-3, NA())","v":{"$error":"#N/A"}},8020,8.9896937008605597,{"$f":" IF(Foglio1!$C$13 <> \"\", 8.314472*Foglio1!$C$13*Foglio2!J897, NA())","v":{"$error":"#N/A"}},{"$f":"IF(Foglio1!$H$13 <> \"\", Foglio1!$H$13 + K897*10^-3, NA())","v":{"$error":"#N/A"}},8020,8.9896937008605597,{"$f":" IF(Foglio1!$C$14 <> \"\", 8.314472*Foglio1!$C$14*Foglio2!N897, NA())","v":{"$error":"#N/A"}},{"$f":"IF(Foglio1!$H$14 <> \"\", Foglio1!$H$14 + O897*10^-3, NA())","v":{"$error":"#N/A"}},8020,8.9896937008605597,{"$f":" IF(Foglio1!$C$15 <> \"\", 8.314472*Foglio1!$C$15*Foglio2!R897, NA())","v":{"$error":"#N/A"}},{"$f":"IF(Foglio1!$H$15 <> \"\", Foglio1!$H$15 + S897*10^-3, NA())","v":{"$error":"#N/A"}}]
[8029,8.9908152661846845,{"$f":" IF(Foglio1!$C$11 <> \"\", 8.314472*Foglio1!$C$11*Foglio2!B898, NA())","v":22426.164536359534},{"$f":"IF(Foglio1!$H$11 <> \"\", Foglio1!$H$11 + C898*10^-3, NA())","v":-67.573835463640464},8029,8.9908152661846845,{"$f":" IF(Foglio1!$C$12 <> \"\", 8.314472*Foglio1!$C$12*Foglio2!F898, NA())","v":{"$error":"#N/A"}},{"$f":"IF(Foglio1!$H$12 <> \"\", Foglio1!$H$12 + G898*10^-3, NA())","v":{"$error":"#N/A"}},8029,8.9908152661846845,{"$f":" IF(Foglio1!$C$13 <> \"\", 8.314472*Foglio1!$C$13*Foglio2!J898, NA())","v":{"$error":"#N/A"}},{"$f":"IF(Foglio1!$H$13 <> \"\", Foglio1!$H$13 + K898*10^-3, NA())","v":{"$error":"#N/A"}},8029,8.9908152661846845,{"$f":" IF(Foglio1!$C$14 <> \"\", 8.314472*Foglio1!$C$14*Foglio2!N898, NA())","v":{"$error":"#N/A"}},{"$f":"IF(Foglio1!$H$14 <> \"\", Foglio1!$H$14 + O898*10^-3, NA())","v":{"$error":"#N/A"}},8029,8.9908152661846845,{"$f":" IF(Foglio1!$C$15 <> \"\", 8.314472*Foglio1!$C$15*Foglio2!R898, NA())","v":{"$error":"#N/A"}},{"$f":"IF(Foglio1!$H$15 <> \"\", Foglio1!$H$15 + S898*10^-3, NA())","v":{"$error":"#N/A"}}]
[8038,{"$f":"LN(A899)","v":8.9919355750091459},{"$f":" IF(Foglio1!$C$11 <> \"\", 8.314472*Foglio1!$C$11*Foglio2!B899, NA())","v":22428.958969265233},{"$f":"IF(Foglio1!$H$11 <> \"\", Foglio1!$H$11 + C899*10^-3, NA())","v":-67.571041030734762},8038,{"$f":"LN(E899)","v":8.9919355750091459},{"$f":" IF(Foglio1!$C$12 <> \"\", 8.314472*Foglio1!$C$12*Foglio2!F899, NA())","v":{"$error":"#N/A"}},{"$f":"IF(Foglio1!$H$12 <> \"\", Foglio1!$H$12 + G899*10^-3, NA())","v":{"$error":"#N/A"}},8038,{"$f":"LN(I899)","v":8.9919355750091459},{"$f":" IF(Foglio1!$C$13 <> \"\", 8.314472*Foglio1!$C$13*Foglio2!J899, NA())","v":{"$error":"#N/A"}},{"$f":"IF(Foglio1!$H$13 <> \"\", Foglio1!$H$13 + K899*10^-3, NA())","v":{"$error":"#N/A"}},8038,{"$f":"LN(M899)","v":8.9919355750091459},{"$f":" IF(Foglio1!$C$14 <> \"\", 8.314472*Foglio1!$C$14*Foglio2!N899, NA())","v":{"$error":"#N/A"}},{"$f":"IF(Foglio1!$H$14 <> \"\", Foglio1!$H$14 + O899*10^-3, NA())","v":{"$error":"#N/A"}},8038,{"$f":"LN(Q899)","v":8.9919355750091459},{"$f":" IF(Foglio1!$C$15 <> \"\", 8.314472*Foglio1!$C$15*Foglio2!R899, NA())","v":{"$error":"#N/A"}},{"$f":"IF(Foglio1!$H$15 <> \"\", Foglio1!$H$15 + S899*10^-3, NA())","v":{"$error":"#N/A"}}]
[8047,8.9930546301461334,{"$f":" IF(Foglio1!$C$11 <> \"\", 8.314472*Foglio1!$C$11*Foglio2!B900, NA())","v":22431.750275046117},{"$f":"IF(Foglio1!$H$11 <> \"\", Foglio1!$H$11 + C900*10^-3, NA())","v":-67.568249724953887},8047,8.9930546301461334,{"$f":" IF(Foglio1!$C$12 <> \"\", 8.314472*Foglio1!$C$12*Foglio2!F900, NA())","v":{"$error":"#N/A"}},{"$f":"IF(Foglio1!$H$12 <> \"\", Foglio1!$H$12 + G900*10^-3, NA())","v":{"$error":"#N/A"}},8047,8.9930546301461334,{"$f":" IF(Foglio1!$C$13 <> \"\", 8.314472*Foglio1!$C$13*Foglio2!J900, NA())","v":{"$error":"#N/A"}},{"$f":"IF(Foglio1!$H$13 <> \"\", Foglio1!$H$13 + K900*10^-3, NA())","v":{"$error":"#N/A"}},8047,8.9930546301461334,{"$f":" IF(Foglio1!$C$14 <> \"\", 8.314472*Foglio1!$C$14*Foglio2!N900, NA())","v":{"$error":"#N/A"}},{"$f":"IF(Foglio1!$H$14 <> \"\", Foglio1!$H$14 + O900*10^-3, NA())","v":{"$error":"#N/A"}},8047,8.9930546301461334,{"$f":" IF(Foglio1!$C$15 <> \"\", 8.314472*Foglio1!$C$15*Foglio2!R900, NA())","v":{"$error":"#N/A"}},{"$f":"IF(Foglio1!$H$15 <> \"\", Foglio1!$H$15 + S900*10^-3, NA())","v":{"$error":"#N/A"}}]
[8056,8.9941724343983989,{"$f":" IF(Foglio1!$C$11 <> \"\", 8.314472*Foglio1!$C$11*Foglio2!B901, NA())","v":22434.538460693198},{"$f":"IF(Foglio1!$H$11 <> \"\", Foglio1!$H$11 + C901*10^-3, NA())","v":-67.565461539306796},8056,8.9941724343983989,{"$f":" IF(Foglio1!$C$12 <> \"\", 8.314472*Foglio1!$C$12*Foglio2!F901, NA())","v":{"$error":"#N/A"}},{"$f":"IF(Foglio1!$H$12 <> \"\", Foglio1!$H$12 + G901*10^-3, NA())","v":{"$error":"#N/A"}},8056,8.9941724343983989,{"$f":" IF(Foglio1!$C$13 <> \"\", 8.314472*Foglio1!$C$13*Foglio2!J901, NA())","v":{"$error":"#N/A"}},{"$f":"IF(Foglio1!$H$13 <> \"\", Foglio1!$H$13 + K901*10^-3, NA())","v":{"$error":"#N/A"}},8056,8.9941724343983989,{"$f":" IF(Foglio1!$C$14 <> \"\", 8.314472*Foglio1!$C$14*Foglio2!N901, NA())","v":{"$error":"#N/A"}},{"$f":"IF(Foglio1!$H$14 <> \"\", Foglio1!$H$14 + O901*10^-3, NA())","v":{"$error":"#N/A"}},8056,8.9941724343983989,{"$f":" IF(Foglio1!$C$15 <> \"\", 8.314472*Foglio1!$C$15*Foglio2!R901, NA())","v":{"$error":"#N/A"}},{"$f":"IF(Foglio1!$H$15 <> \"\", Foglio1!$H$15 + S901*10^-3, NA())","v":{"$error":"#N/A"}}]
[8065,8.9952889905593096,{"$f":" IF(Foglio1!$C$11 <> \"\", 8.314472*Foglio1!$C$11*Foglio2!B902, NA())","v":22437.323533174094},{"$f":"IF(Foglio1!$H$11 <> \"\", Foglio1!$H$11 + C902*10^-3, NA())","v":-67.562676466825906},8065,8.9952889905593096,{"$f":" IF(Foglio1!$C$12 <> \"\", 8.314472*Foglio1!$C$12*Foglio2!F902, NA())","v":{"$error":"#N/A"}},{"$f":"IF(Foglio1!$H$12 <> \"\", Foglio1!$H$12 + G902*10^-3, NA())","v":{"$error":"#N/A"}},8065,8.9952889905593096,{"$f":" IF(Foglio1!$C$13 <> \"\", 8.314472*Foglio1!$C$13*Foglio2!J902, NA())","v":{"$error":"#N/A"}},{"$f":"IF(Foglio1!$H$13 <> \"\", Foglio1!$H$13 + K902*10^-3, NA())","v":{"$error":"#N/A"}},8065,8.9952889905593096,{"$f":" IF(Foglio1!$C$14 <> \"\", 8.314472*Foglio1!$C$14*Foglio2!N902, NA())","v":{"$error":"#N/A"}},{"$f":"IF(Foglio1!$H$14 <> \"\", Foglio1!$H$14 + O902*10^-3, NA())","v":{"$error":"#N/A"}},8065,8.9952889905593096,{"$f":" IF(Foglio1!$C$15 <> \"\", 8.314472*Foglio1!$C$15*Foglio2!R902, NA())","v":{"$error":"#N/A"}},{"$f":"IF(Foglio1!$H$15 <> \"\", Foglio1!$H$15 + S902*10^-3, NA())","v":{"$error":"#N/A"}}]
[8074,8.9964043014128858,{"$f":" IF(Foglio1!$C$11 <> \"\", 8.314472*Foglio1!$C$11*Foglio2!B903, NA())","v":22440.105499433103},{"$f":"IF(Foglio1!$H$11 <> \"\", Foglio1!$H$11 + C903*10^-3, NA())","v":-67.559894500566898},8074,8.9964043014128858,{"$f":" IF(Foglio1!$C$12 <> \"\", 8.314472*Foglio1!$C$12*Foglio2!F903, NA())","v":{"$error":"#N/A"}},{"$f":"IF(Foglio1!$H$12 <> \"\", Foglio1!$H$12 + G903*10^-3, NA())","v":{"$error":"#N/A"}},8074,8.9964043014128858,{"$f":" IF(Foglio1!$C$13 <> \"\", 8.314472*Foglio1!$C$13*Foglio2!J903, NA())","v":{"$error":"#N/A"}},{"$f":"IF(Foglio1!$H$13 <> \"\", Foglio1!$H$13 + K903*10^-3, NA())","v":{"$error":"#N/A"}},8074,8.9964043014128858,{"$f":" IF(Foglio1!$C$14 <> \"\", 8.314472*Foglio1!$C$14*Foglio2!N903, NA())","v":{"$error":"#N/A"}},{"$f":"IF(Foglio1!$H$14 <> \"\", Foglio1!$H$14 + O903*10^-3, NA())","v":{"$error":"#N/A"}},8074,8.9964043014128858,{"$f":" IF(Foglio1!$C$15 <> \"\", 8.314472*Foglio1!$C$15*Foglio2!R903, NA())","v":{"$error":"#N/A"}},{"$f":"IF(Foglio1!$H$15 <> \"\", Foglio1!$H$15 + S903*10^-3, NA())","v":{"$error":"#N/A"}}]
[8083,8.9975183697338448,{"$f":" IF(Foglio1!$C$11 <> \"\", 8.314472*Foglio1!$C$11*Foglio2!B904, NA())","v":22442.88436639131},{"$f":"IF(Foglio1!$H$11 <> \"\", Foglio1!$H$11 + C904*10^-3, NA())","v":-67.557115633608689},8083,8.9975183697338448,{"$f":" IF(Foglio1!$C$12 <> \"\", 8.314472*Foglio1!$C$12*Foglio2!F904, NA())","v":{"$error":"#N/A"}},{"$f":"IF(Foglio1!$H$12 <> \"\", Foglio1!$H$12 + G904*10^-3, NA())","v":{"$error":"#N/A"}},8083,8.9975183697338448,{"$f":" IF(Foglio1!$C$13 <> \"\", 8.314472*Foglio1!$C$13*Foglio2!J904, NA())","v":{"$error":"#N/A"}},{"$f":"IF(Foglio1!$H$13 <> \"\", Foglio1!$H$13 + K904*10^-3, NA())","v":{"$error":"#N/A"}},8083,8.9975183697338448,{"$f":" IF(Foglio1!$C$14 <> \"\", 8.314472*Foglio1!$C$14*Foglio2!N904, NA())","v":{"$error":"#N/A"}},{"$f":"IF(Foglio1!$H$14 <> \"\", Foglio1!$H$14 + O904*10^-3, NA())","v":{"$error":"#N/A"}},8083,8.9975183697338448,{"$f":" IF(Foglio1!$C$15 <> \"\", 8.314472*Foglio1!$C$15*Foglio2!R904, NA())","v":{"$error":"#N/A"}},{"$f":"IF(Foglio1!$H$15 <> \"\", Foglio1!$H$15 + S904*10^-3, NA())","v":{"$error":"#N/A"}}]
[8092,8.9986311982876366,{"$f":" IF(Foglio1!$C$11 <> \"\", 8.314472*Foglio1!$C$11*Foglio2!B905, NA())","v":22445.660140946704},{"$f":"IF(Foglio1!$H$11 <> \"\", Foglio1!$H$11 + C905*10^-3, NA())","v":-67.5543398590533},8092,8.9986311982876366,{"$f":" IF(Foglio1!$C$12 <> \"\", 8.314472*Foglio1!$C$12*Foglio2!F905, NA())","v":{"$error":"#N/A"}},{"$f":"IF(Foglio1!$H$12 <> \"\", Foglio1!$H$12 + G905*10^-3, NA())","v":{"$error":"#N/A"}},8092,8.9986311982876366,{"$f":" IF(Foglio1!$C$13 <> \"\", 8.314472*Foglio1!$C$13*Foglio2!J905, NA())","v":{"$error":"#N/A"}},{"$f":"IF(Foglio1!$H$13 <> \"\", Foglio1!$H$13 + K905*10^-3, NA())","v":{"$error":"#N/A"}},8092,8.9986311982876366,{"$f":" IF(Foglio1!$C$14 <> \"\", 8.314472*Foglio1!$C$14*Foglio2!N905, NA())","v":{"$error":"#N/A"}},{"$f":"IF(Foglio1!$H$14 <> \"\", Foglio1!$H$14 + O905*10^-3, NA())","v":{"$error":"#N/A"}},8092,8.9986311982876366,{"$f":" IF(Foglio1!$C$15 <> \"\", 8.314472*Foglio1!$C$15*Foglio2!R905, NA())","v":{"$error":"#N/A"}},{"$f":"IF(Foglio1!$H$15 <> \"\", Foglio1!$H$15 + S905*10^-3, NA())","v":{"$error":"#N/A"}}]
[8101,8.999742789830492,{"$f":" IF(Foglio1!$C$11 <> \"\", 8.314472*Foglio1!$C$11*Foglio2!B906, NA())","v":22448.432829974256},{"$f":"IF(Foglio1!$H$11 <> \"\", Foglio1!$H$11 + C906*10^-3, NA())","v":-67.551567170025749},8101,8.999742789830492,{"$f":" IF(Foglio1!$C$12 <> \"\", 8.314472*Foglio1!$C$12*Foglio2!F906, NA())","v":{"$error":"#N/A"}},{"$f":"IF(Foglio1!$H$12 <> \"\", Foglio1!$H$12 + G906*10^-3, NA())","v":{"$error":"#N/A"}},8101,8.999742789830492,{"$f":" IF(Foglio1!$C$13 <> \"\", 8.314472*Foglio1!$C$13*Foglio2!J906, NA())","v":{"$error":"#N/A"}},{"$f":"IF(Foglio1!$H$13 <> \"\", Foglio1!$H$13 + K906*10^-3, NA())","v":{"$error":"#N/A"}},8101,8.999742789830492,{"$f":" IF(Foglio1!$C$14 <> \"\", 8.314472*Foglio1!$C$14*Foglio2!N906, NA())","v":{"$error":"#N/A"}},{"$f":"IF(Foglio1!$H$14 <> \"\", Foglio1!$H$14 + O906*10^-3, NA())","v":{"$error":"#N/A"}},8101,8.999742789830492,{"$f":" IF(Foglio1!$C$15 <> \"\", 8.314472*Foglio1!$C$15*Foglio2!R906, NA())","v":{"$error":"#N/A"}},{"$f":"IF(Foglio1!$H$15 <> \"\", Foglio1!$H$15 + S906*10^-3, NA())","v":{"$error":"#N/A"}}]
[8110,9.0008531471094582,{"$f":" IF(Foglio1!$C$11 <> \"\", 8.314472*Foglio1!$C$11*Foglio2!B907, NA())","v":22451.202440326044},{"$f":"IF(Foglio1!$H$11 <> \"\", Foglio1!$H$11 + C907*10^-3, NA())","v":-67.548797559673957},8110,9.0008531471094582,{"$f":" IF(Foglio1!$C$12 <> \"\", 8.314472*Foglio1!$C$12*Foglio2!F907, NA())","v":{"$error":"#N/A"}},{"$f":"IF(Foglio1!$H$12 <> \"\", Foglio1!$H$12 + G907*10^-3, NA())","v":{"$error":"#N/A"}},8110,9.0008531471094582,{"$f":" IF(Foglio1!$C$13 <> \"\", 8.314472*Foglio1!$C$13*Foglio2!J907, NA())","v":{"$error":"#N/A"}},{"$f":"IF(Foglio1!$H$13 <> \"\", Foglio1!$H$13 + K907*10^-3, NA())","v":{"$error":"#N/A"}},8110,9.0008531471094582,{"$f":" IF(Foglio1!$C$14 <> \"\", 8.314472*Foglio1!$C$14*Foglio2!N907, NA())","v":{"$error":"#N/A"}},{"$f":"IF(Foglio1!$H$14 <> \"\", Foglio1!$H$14 + O907*10^-3, NA())","v":{"$error":"#N/A"}},8110,9.0008531471094582,{"$f":" IF(Foglio1!$C$15 <> \"\", 8.314472*Foglio1!$C$15*Foglio2!R907, NA())","v":{"$error":"#N/A"}},{"$f":"IF(Foglio1!$H$15 <> \"\", Foglio1!$H$15 + S907*10^-3, NA())","v":{"$error":"#N/A"}}]
[8119,9.0019622728624462,{"$f":" IF(Foglio1!$C$11 <> \"\", 8.314472*Foglio1!$C$11*Foglio2!B908, NA())","v":22453.968978831352},{"$f":"IF(Foglio1!$H$11 <> \"\", Foglio1!$H$11 + C908*10^-3, NA())","v":-67.546031021168645},8119,9.0019622728624462,{"$f":" IF(Foglio1!$C$12 <> \"\", 8.314472*Foglio1!$C$12*Foglio2!F908, NA())","v":{"$error":"#N/A"}},{"$f":"IF(Foglio1!$H$12 <> \"\", Foglio1!$H$12 + G908*10^-3, NA())","v":{"$error":"#N/A"}},8119,9.0019622728624462,{"$f":" IF(Foglio1!$C$13 <> \"\", 8.314472*Foglio1!$C$13*Foglio2!J908, NA())","v":{"$error":"#N/A"}},{"$f":"IF(Foglio1!$H$13 <> \"\", Foglio1!$H$13 + K908*10^-3, NA())","v":{"$error":"#N/A"}},8119,9.0019622728624462,{"$f":" IF(Foglio1!$C$14 <> \"\", 8.314472*Foglio1!$C$14*Foglio2!N908, NA())","v":{"$error":"#N/A"}},{"$f":"IF(Foglio1!$H$14 <> \"\", Foglio1!$H$14 + O908*10^-3, NA())","v":{"$error":"#N/A"}},8119,9.0019622728624462,{"$f":" IF(Foglio1!$C$15 <> \"\", 8.314472*Foglio1!$C$15*Foglio2!R908, NA())","v":{"$error":"#N/A"}},{"$f":"IF(Foglio1!$H$15 <> \"\", Foglio1!$H$15 + S908*10^-3, NA())","v":{"$error":"#N/A"}}]
[8128,9.0030701698182636,{"$f":" IF(Foglio1!$C$11 <> \"\", 8.314472*Foglio1!$C$11*Foglio2!B909, NA())","v":22456.732452296761},{"$f":"IF(Foglio1!$H$11 <> \"\", Foglio1!$H$11 + C909*10^-3, NA())","v":-67.543267547703238},8128,9.0030701698182636,{"$f":" IF(Foglio1!$C$12 <> \"\", 8.314472*Foglio1!$C$12*Foglio2!F909, NA())","v":{"$error":"#N/A"}},{"$f":"IF(Foglio1!$H$12 <> \"\", Foglio1!$H$12 + G909*10^-3, NA())","v":{"$error":"#N/A"}},8128,9.0030701698182636,{"$f":" IF(Foglio1!$C$13 <> \"\", 8.314472*Foglio1!$C$13*Foglio2!J909, NA())","v":{"$error":"#N/A"}},{"$f":"IF(Foglio1!$H$13 <> \"\", Foglio1!$H$13 + K909*10^-3, NA())","v":{"$error":"#N/A"}},8128,9.0030701698182636,{"$f":" IF(Foglio1!$C$14 <> \"\", 8.314472*Foglio1!$C$14*Foglio2!N909, NA())","v":{"$error":"#N/A"}},{"$f":"IF(Foglio1!$H$14 <> \"\", Foglio1!$H$14 + O909*10^-3, NA())","v":{"$error":"#N/A"}},8128,9.0030701698182636,{"$f":" IF(Foglio1!$C$15 <> \"\", 8.314472*Foglio1!$C$15*Foglio2!R909, NA())","v":{"$error":"#N/A"}},{"$f":"IF(Foglio1!$H$15 <> \"\", Foglio1!$H$15 + S909*10^-3, NA())","v":{"$error":"#N/A"}}]
[8137,9.0041768406966565,{"$f":" IF(Foglio1!$C$11 <> \"\", 8.314472*Foglio1!$C$11*Foglio2!B910, NA())","v":22459.492867506244},{"$f":"IF(Foglio1!$H$11 <> \"\", Foglio1!$H$11 + C910*10^-3, NA())","v":-67.540507132493758},8137,9.0041768406966565,{"$f":" IF(Foglio1!$C$12 <> \"\", 8.314472*Foglio1!$C$12*Foglio2!F910, NA())","v":{"$error":"#N/A"}},{"$f":"IF(Foglio1!$H$12 <> \"\", Foglio1!$H$12 + G910*10^-3, NA())","v":{"$error":"#N/A"}},8137,9.0041768406966565,{"$f":" IF(Foglio1!$C$13 <> \"\", 8.314472*Foglio1!$C$13*Foglio2!J910, NA())","v":{"$error":"#N/A"}},{"$f":"IF(Foglio1!$H$13 <> \"\", Foglio1!$H$13 + K910*10^-3, NA())","v":{"$error":"#N/A"}},8137,9.0041768406966565,{"$f":" IF(Foglio1!$C$14 <> \"\", 8.314472*Foglio1!$C$14*Foglio2!N910, NA())","v":{"$error":"#N/A"}},{"$f":"IF(Foglio1!$H$14 <> \"\", Foglio1!$H$14 + O910*10^-3, NA())","v":{"$error":"#N/A"}},8137,9.0041768406966565,{"$f":" IF(Foglio1!$C$15 <> \"\", 8.314472*Foglio1!$C$15*Foglio2!R910, NA())","v":{"$error":"#N/A"}},{"$f":"IF(Foglio1!$H$15 <> \"\", Foglio1!$H$15 + S910*10^-3, NA())","v":{"$error":"#N/A"}}]
[8146,9.0052822882083579,{"$f":" IF(Foglio1!$C$11 <> \"\", 8.314472*Foglio1!$C$11*Foglio2!B911, NA())","v":22462.2502312213},{"$f":"IF(Foglio1!$H$11 <> \"\", Foglio1!$H$11 + C911*10^-3, NA())","v":-67.537749768778696},8146,9.0052822882083579,{"$f":" IF(Foglio1!$C$12 <> \"\", 8.314472*Foglio1!$C$12*Foglio2!F911, NA())","v":{"$error":"#N/A"}},{"$f":"IF(Foglio1!$H$12 <> \"\", Foglio1!$H$12 + G911*10^-3, NA())","v":{"$error":"#N/A"}},8146,9.0052822882083579,{"$f":" IF(Foglio1!$C$13 <> \"\", 8.314472*Foglio1!$C$13*Foglio2!J911, NA())","v":{"$error":"#N/A"}},{"$f":"IF(Foglio1!$H$13 <> \"\", Foglio1!$H$13 + K911*10^-3, NA())","v":{"$error":"#N/A"}},8146,9.0052822882083579,{"$f":" IF(Foglio1!$C$14 <> \"\", 8.314472*Foglio1!$C$14*Foglio2!N911, NA())","v":{"$error":"#N/A"}},{"$f":"IF(Foglio1!$H$14 <> \"\", Foglio1!$H$14 + O911*10^-3, NA())","v":{"$error":"#N/A"}},8146,9.0052822882083579,{"$f":" IF(Foglio1!$C$15 <> \"\", 8.314472*Foglio1!$C$15*Foglio2!R911, NA())","v":{"$error":"#N/A"}},{"$f":"IF(Foglio1!$H$15 <> \"\", Foglio1!$H$15 + S911*10^-3, NA())","v":{"$error":"#N/A"}}]
[8155,9.0063865150551141,{"$f":" IF(Foglio1!$C$11 <> \"\", 8.314472*Foglio1!$C$11*Foglio2!B912, NA())","v":22465.004550180998},{"$f":"IF(Foglio1!$H$11 <> \"\", Foglio1!$H$11 + C912*10^-3, NA())","v":-67.534995449819007},8155,9.0063865150551141,{"$f":" IF(Foglio1!$C$12 <> \"\", 8.314472*Foglio1!$C$12*Foglio2!F912, NA())","v":{"$error":"#N/A"}},{"$f":"IF(Foglio1!$H$12 <> \"\", Foglio1!$H$12 + G912*10^-3, NA())","v":{"$error":"#N/A"}},8155,9.0063865150551141,{"$f":" IF(Foglio1!$C$13 <> \"\", 8.314472*Foglio1!$C$13*Foglio2!J912, NA())","v":{"$error":"#N/A"}},{"$f":"IF(Foglio1!$H$13 <> \"\", Foglio1!$H$13 + K912*10^-3, NA())","v":{"$error":"#N/A"}},8155,9.0063865150551141,{"$f":" IF(Foglio1!$C$14 <> \"\", 8.314472*Foglio1!$C$14*Foglio2!N912, NA())","v":{"$error":"#N/A"}},{"$f":"IF(Foglio1!$H$14 <> \"\", Foglio1!$H$14 + O912*10^-3, NA())","v":{"$error":"#N/A"}},8155,9.0063865150551141,{"$f":" IF(Foglio1!$C$15 <> \"\", 8.314472*Foglio1!$C$15*Foglio2!R912, NA())","v":{"$error":"#N/A"}},{"$f":"IF(Foglio1!$H$15 <> \"\", Foglio1!$H$15 + S912*10^-3, NA())","v":{"$error":"#N/A"}}]
[8164,9.0074895239297348,{"$f":" IF(Foglio1!$C$11 <> \"\", 8.314472*Foglio1!$C$11*Foglio2!B913, NA())","v":22467.755831102135},{"$f":"IF(Foglio1!$H$11 <> \"\", Foglio1!$H$11 + C913*10^-3, NA())","v":-67.532244168897861},8164,9.0074895239297348,{"$f":" IF(Foglio1!$C$12 <> \"\", 8.314472*Foglio1!$C$12*Foglio2!F913, NA())","v":{"$error":"#N/A"}},{"$f":"IF(Foglio1!$H$12 <> \"\", Foglio1!$H$12 + G913*10^-3, NA())","v":{"$error":"#N/A"}},8164,9.0074895239297348,{"$f":" IF(Foglio1!$C$13 <> \"\", 8.314472*Foglio1!$C$13*Foglio2!J913, NA())","v":{"$error":"#N/A"}},{"$f":"IF(Foglio1!$H$13 <> \"\", Foglio1!$H$13 + K913*10^-3, NA())","v":{"$error":"#N/A"}},8164,9.0074895239297348,{"$f":" IF(Foglio1!$C$14 <> \"\", 8.314472*Foglio1!$C$14*Foglio2!N913, NA())","v":{"$error":"#N/A"}},{"$f":"IF(Foglio1!$H$14 <> \"\", Foglio1!$H$14 + O913*10^-3, NA())","v":{"$error":"#N/A"}},8164,9.0074895239297348,{"$f":" IF(Foglio1!$C$15 <> \"\", 8.314472*Foglio1!$C$15*Foglio2!R913, NA())","v":{"$error":"#N/A"}},{"$f":"IF(Foglio1!$H$15 <> \"\", Foglio1!$H$15 + S913*10^-3, NA())","v":{"$error":"#N/A"}}]
[8173,9.0085913175161298,{"$f":" IF(Foglio1!$C$11 <> \"\", 8.314472*Foglio1!$C$11*Foglio2!B914, NA())","v":22470.504080679293},{"$f":"IF(Foglio1!$H$11 <> \"\", Foglio1!$H$11 + C914*10^-3, NA())","v":-67.529495919320709},8173,9.0085913175161298,{"$f":" IF(Foglio1!$C$12 <> \"\", 8.314472*Foglio1!$C$12*Foglio2!F914, NA())","v":{"$error":"#N/A"}},{"$f":"IF(Foglio1!$H$12 <> \"\", Foglio1!$H$12 + G914*10^-3, NA())","v":{"$error":"#N/A"}},8173,9.0085913175161298,{"$f":" IF(Foglio1!$C$13 <> \"\", 8.314472*Foglio1!$C$13*Foglio2!J914, NA())","v":{"$error":"#N/A"}},{"$f":"IF(Foglio1!$H$13 <> \"\", Foglio1!$H$13 + K914*10^-3, NA())","v":{"$error":"#N/A"}},8173,9.0085913175161298,{"$f":" IF(Foglio1!$C$14 <> \"\", 8.314472*Foglio1!$C$14*Foglio2!N914, NA())","v":{"$error":"#N/A"}},{"$f":"IF(Foglio1!$H$14 <> \"\", Foglio1!$H$14 + O914*10^-3, NA())","v":{"$error":"#N/A"}},8173,9.0085913175161298,{"$f":" IF(Foglio1!$C$15 <> \"\", 8.314472*Foglio1!$C$15*Foglio2!R914, NA())","v":{"$error":"#N/A"}},{"$f":"IF(Foglio1!$H$15 <> \"\", Foglio1!$H$15 + S914*10^-3, NA())","v":{"$error":"#N/A"}}]
[8182,9.0096918984893435,{"$f":" IF(Foglio1!$C$11 <> \"\", 8.314472*Foglio1!$C$11*Foglio2!B915, NA())","v":22473.249305584948},{"$f":"IF(Foglio1!$H$11 <> \"\", Foglio1!$H$11 + C915*10^-3, NA())","v":-67.526750694415057},8182,9.0096918984893435,{"$f":" IF(Foglio1!$C$12 <> \"\", 8.314472*Foglio1!$C$12*Foglio2!F915, NA())","v":{"$error":"#N/A"}},{"$f":"IF(Foglio1!$H$12 <> \"\", Foglio1!$H$12 + G915*10^-3, NA())","v":{"$error":"#N/A"}},8182,9.0096918984893435,{"$f":" IF(Foglio1!$C$13 <> \"\", 8.314472*Foglio1!$C$13*Foglio2!J915, NA())","v":{"$error":"#N/A"}},{"$f":"IF(Foglio1!$H$13 <> \"\", Foglio1!$H$13 + K915*10^-3, NA())","v":{"$error":"#N/A"}},8182,9.0096918984893435,{"$f":" IF(Foglio1!$C$14 <> \"\", 8.314472*Foglio1!$C$14*Foglio2!N915, NA())","v":{"$error":"#N/A"}},{"$f":"IF(Foglio1!$H$14 <> \"\", Foglio1!$H$14 + O915*10^-3, NA())","v":{"$error":"#N/A"}},8182,9.0096918984893435,{"$f":" IF(Foglio1!$C$15 <> \"\", 8.314472*Foglio1!$C$15*Foglio2!R915, NA())","v":{"$error":"#N/A"}},{"$f":"IF(Foglio1!$H$15 <> \"\", Foglio1!$H$15 + S915*10^-3, NA())","v":{"$error":"#N/A"}}]
[8191,9.0107912695156021,{"$f":" IF(Foglio1!$C$11 <> \"\", 8.314472*Foglio1!$C$11*Foglio2!B916, NA())","v":22475.99151246958},{"$f":"IF(Foglio1!$H$11 <> \"\", Foglio1!$H$11 + C916*10^-3, NA())","v":-67.524008487530423},8191,9.0107912695156021,{"$f":" IF(Foglio1!$C$12 <> \"\", 8.314472*Foglio1!$C$12*Foglio2!F916, NA())","v":{"$error":"#N/A"}},{"$f":"IF(Foglio1!$H$12 <> \"\", Foglio1!$H$12 + G916*10^-3, NA())","v":{"$error":"#N/A"}},8191,9.0107912695156021,{"$f":" IF(Foglio1!$C$13 <> \"\", 8.314472*Foglio1!$C$13*Foglio2!J916, NA())","v":{"$error":"#N/A"}},{"$f":"IF(Foglio1!$H$13 <> \"\", Foglio1!$H$13 + K916*10^-3, NA())","v":{"$error":"#N/A"}},8191,9.0107912695156021,{"$f":" IF(Foglio1!$C$14 <> \"\", 8.314472*Foglio1!$C$14*Foglio2!N916, NA())","v":{"$error":"#N/A"}},{"$f":"IF(Foglio1!$H$14 <> \"\", Foglio1!$H$14 + O916*10^-3, NA())","v":{"$error":"#N/A"}},8191,9.0107912695156021,{"$f":" IF(Foglio1!$C$15 <> \"\", 8.314472*Foglio1!$C$15*Foglio2!R916, NA())","v":{"$error":"#N/A"}},{"$f":"IF(Foglio1!$H$15 <> \"\", Foglio1!$H$15 + S916*10^-3, NA())","v":{"$error":"#N/A"}}]
[8200,9.0118894332523443,{"$f":" IF(Foglio1!$C$11 <> \"\", 8.314472*Foglio1!$C$11*Foglio2!B917, NA())","v":22478.730707961746},{"$f":"IF(Foglio1!$H$11 <> \"\", Foglio1!$H$11 + C917*10^-3, NA())","v":-67.521269292038255},8200,9.0118894332523443,{"$f":" IF(Foglio1!$C$12 <> \"\", 8.314472*Foglio1!$C$12*Foglio2!F917, NA())","v":{"$error":"#N/A"}},{"$f":"IF(Foglio1!$H$12 <> \"\", Foglio1!$H$12 + G917*10^-3, NA())","v":{"$error":"#N/A"}},8200,9.0118894332523443,{"$f":" IF(Foglio1!$C$13 <> \"\", 8.314472*Foglio1!$C$13*Foglio2!J917, NA())","v":{"$error":"#N/A"}},{"$f":"IF(Foglio1!$H$13 <> \"\", Foglio1!$H$13 + K917*10^-3, NA())","v":{"$error":"#N/A"}},8200,9.0118894332523443,{"$f":" IF(Foglio1!$C$14 <> \"\", 8.314472*Foglio1!$C$14*Foglio2!N917, NA())","v":{"$error":"#N/A"}},{"$f":"IF(Foglio1!$H$14 <> \"\", Foglio1!$H$14 + O917*10^-3, NA())","v":{"$error":"#N/A"}},8200,9.0118894332523443,{"$f":" IF(Foglio1!$C$15 <> \"\", 8.314472*Foglio1!$C$15*Foglio2!R917, NA())","v":{"$error":"#N/A"}},{"$f":"IF(Foglio1!$H$15 <> \"\", Foglio1!$H$15 + S917*10^-3, NA())","v":{"$error":"#N/A"}}]
[8209,9.0129863923482656,{"$f":" IF(Foglio1!$C$11 <> \"\", 8.314472*Foglio1!$C$11*Foglio2!B918, NA())","v":22481.466898668201},{"$f":"IF(Foglio1!$H$11 <> \"\", Foglio1!$H$11 + C918*10^-3, NA())","v":-67.518533101331798},8209,9.0129863923482656,{"$f":" IF(Foglio1!$C$12 <> \"\", 8.314472*Foglio1!$C$12*Foglio2!F918, NA())","v":{"$error":"#N/A"}},{"$f":"IF(Foglio1!$H$12 <> \"\", Foglio1!$H$12 + G918*10^-3, NA())","v":{"$error":"#N/A"}},8209,9.0129863923482656,{"$f":" IF(Foglio1!$C$13 <> \"\", 8.314472*Foglio1!$C$13*Foglio2!J918, NA())","v":{"$error":"#N/A"}},{"$f":"IF(Foglio1!$H$13 <> \"\", Foglio1!$H$13 + K918*10^-3, NA())","v":{"$error":"#N/A"}},8209,9.0129863923482656,{"$f":" IF(Foglio1!$C$14 <> \"\", 8.314472*Foglio1!$C$14*Foglio2!N918, NA())","v":{"$error":"#N/A"}},{"$f":"IF(Foglio1!$H$14 <> \"\", Foglio1!$H$14 + O918*10^-3, NA())","v":{"$error":"#N/A"}},8209,9.0129863923482656,{"$f":" IF(Foglio1!$C$15 <> \"\", 8.314472*Foglio1!$C$15*Foglio2!R918, NA())","v":{"$error":"#N/A"}},{"$f":"IF(Foglio1!$H$15 <> \"\", Foglio1!$H$15 + S918*10^-3, NA())","v":{"$error":"#N/A"}}]
[8218,9.0140821494433556,{"$f":" IF(Foglio1!$C$11 <> \"\", 8.314472*Foglio1!$C$11*Foglio2!B919, NA())","v":22484.200091173981},{"$f":"IF(Foglio1!$H$11 <> \"\", Foglio1!$H$11 + C919*10^-3, NA())","v":-67.515799908826011},8218,9.0140821494433556,{"$f":" IF(Foglio1!$C$12 <> \"\", 8.314472*Foglio1!$C$12*Foglio2!F919, NA())","v":{"$error":"#N/A"}},{"$f":"IF(Foglio1!$H$12 <> \"\", Foglio1!$H$12 + G919*10^-3, NA())","v":{"$error":"#N/A"}},8218,9.0140821494433556,{"$f":" IF(Foglio1!$C$13 <> \"\", 8.314472*Foglio1!$C$13*Foglio2!J919, NA())","v":{"$error":"#N/A"}},{"$f":"IF(Foglio1!$H$13 <> \"\", Foglio1!$H$13 + K919*10^-3, NA())","v":{"$error":"#N/A"}},8218,9.0140821494433556,{"$f":" IF(Foglio1!$C$14 <> \"\", 8.314472*Foglio1!$C$14*Foglio2!N919, NA())","v":{"$error":"#N/A"}},{"$f":"IF(Foglio1!$H$14 <> \"\", Foglio1!$H$14 + O919*10^-3, NA())","v":{"$error":"#N/A"}},8218,9.0140821494433556,{"$f":" IF(Foglio1!$C$15 <> \"\", 8.314472*Foglio1!$C$15*Foglio2!R919, NA())","v":{"$error":"#N/A"}},{"$f":"IF(Foglio1!$H$15 <> \"\", Foglio1!$H$15 + S919*10^-3, NA())","v":{"$error":"#N/A"}}]
[8227,9.0151767071689299,{"$f":" IF(Foglio1!$C$11 <> \"\", 8.314472*Foglio1!$C$11*Foglio2!B920, NA())","v":22486.930292042482},{"$f":"IF(Foglio1!$H$11 <> \"\", Foglio1!$H$11 + C920*10^-3, NA())","v":-67.513069707957513},8227,9.0151767071689299,{"$f":" IF(Foglio1!$C$12 <> \"\", 8.314472*Foglio1!$C$12*Foglio2!F920, NA())","v":{"$error":"#N/A"}},{"$f":"IF(Foglio1!$H$12 <> \"\", Foglio1!$H$12 + G920*10^-3, NA())","v":{"$error":"#N/A"}},8227,9.0151767071689299,{"$f":" IF(Foglio1!$C$13 <> \"\", 8.314472*Foglio1!$C$13*Foglio2!J920, NA())","v":{"$error":"#N/A"}},{"$f":"IF(Foglio1!$H$13 <> \"\", Foglio1!$H$13 + K920*10^-3, NA())","v":{"$error":"#N/A"}},8227,9.0151767071689299,{"$f":" IF(Foglio1!$C$14 <> \"\", 8.314472*Foglio1!$C$14*Foglio2!N920, NA())","v":{"$error":"#N/A"}},{"$f":"IF(Foglio1!$H$14 <> \"\", Foglio1!$H$14 + O920*10^-3, NA())","v":{"$error":"#N/A"}},8227,9.0151767071689299,{"$f":" IF(Foglio1!$C$15 <> \"\", 8.314472*Foglio1!$C$15*Foglio2!R920, NA())","v":{"$error":"#N/A"}},{"$f":"IF(Foglio1!$H$15 <> \"\", Foglio1!$H$15 + S920*10^-3, NA())","v":{"$error":"#N/A"}}]
[8236,9.01627006814768,{"$f":" IF(Foglio1!$C$11 <> \"\", 8.314472*Foglio1!$C$11*Foglio2!B921, NA())","v":22489.657507815595},{"$f":"IF(Foglio1!$H$11 <> \"\", Foglio1!$H$11 + C921*10^-3, NA())","v":-67.510342492184407},8236,9.01627006814768,{"$f":" IF(Foglio1!$C$12 <> \"\", 8.314472*Foglio1!$C$12*Foglio2!F921, NA())","v":{"$error":"#N/A"}},{"$f":"IF(Foglio1!$H$12 <> \"\", Foglio1!$H$12 + G921*10^-3, NA())","v":{"$error":"#N/A"}},8236,9.01627006814768,{"$f":" IF(Foglio1!$C$13 <> \"\", 8.314472*Foglio1!$C$13*Foglio2!J921, NA())","v":{"$error":"#N/A"}},{"$f":"IF(Foglio1!$H$13 <> \"\", Foglio1!$H$13 + K921*10^-3, NA())","v":{"$error":"#N/A"}},8236,9.01627006814768,{"$f":" IF(Foglio1!$C$14 <> \"\", 8.314472*Foglio1!$C$14*Foglio2!N921, NA())","v":{"$error":"#N/A"}},{"$f":"IF(Foglio1!$H$14 <> \"\", Foglio1!$H$14 + O921*10^-3, NA())","v":{"$error":"#N/A"}},8236,9.01627006814768,{"$f":" IF(Foglio1!$C$15 <> \"\", 8.314472*Foglio1!$C$15*Foglio2!R921, NA())","v":{"$error":"#N/A"}},{"$f":"IF(Foglio1!$H$15 <> \"\", Foglio1!$H$15 + S921*10^-3, NA())","v":{"$error":"#N/A"}}]
[8245,9.0173622349936995,{"$f":" IF(Foglio1!$C$11 <> \"\", 8.314472*Foglio1!$C$11*Foglio2!B922, NA())","v":22492.381745013761},{"$f":"IF(Foglio1!$H$11 <> \"\", Foglio1!$H$11 + C922*10^-3, NA())","v":-67.507618254986241},8245,9.0173622349936995,{"$f":" IF(Foglio1!$C$12 <> \"\", 8.314472*Foglio1!$C$12*Foglio2!F922, NA())","v":{"$error":"#N/A"}},{"$f":"IF(Foglio1!$H$12 <> \"\", Foglio1!$H$12 + G922*10^-3, NA())","v":{"$error":"#N/A"}},8245,9.0173622349936995,{"$f":" IF(Foglio1!$C$13 <> \"\", 8.314472*Foglio1!$C$13*Foglio2!J922, NA())","v":{"$error":"#N/A"}},{"$f":"IF(Foglio1!$H$13 <> \"\", Foglio1!$H$13 + K922*10^-3, NA())","v":{"$error":"#N/A"}},8245,9.0173622349936995,{"$f":" IF(Foglio1!$C$14 <> \"\", 8.314472*Foglio1!$C$14*Foglio2!N922, NA())","v":{"$error":"#N/A"}},{"$f":"IF(Foglio1!$H$14 <> \"\", Foglio1!$H$14 + O922*10^-3, NA())","v":{"$error":"#N/A"}},8245,9.0173622349936995,{"$f":" IF(Foglio1!$C$15 <> \"\", 8.314472*Foglio1!$C$15*Foglio2!R922, NA())","v":{"$error":"#N/A"}},{"$f":"IF(Foglio1!$H$15 <> \"\", Foglio1!$H$15 + S922*10^-3, NA())","v":{"$error":"#N/A"}}]
[8254,9.0184532103125274,{"$f":" IF(Foglio1!$C$11 <> \"\", 8.314472*Foglio1!$C$11*Foglio2!B923, NA())","v":22495.103010136088},{"$f":"IF(Foglio1!$H$11 <> \"\", Foglio1!$H$11 + C923*10^-3, NA())","v":-67.504896989863909},8254,9.0184532103125274,{"$f":" IF(Foglio1!$C$12 <> \"\", 8.314472*Foglio1!$C$12*Foglio2!F923, NA())","v":{"$error":"#N/A"}},{"$f":"IF(Foglio1!$H$12 <> \"\", Foglio1!$H$12 + G923*10^-3, NA())","v":{"$error":"#N/A"}},8254,9.0184532103125274,{"$f":" IF(Foglio1!$C$13 <> \"\", 8.314472*Foglio1!$C$13*Foglio2!J923, NA())","v":{"$error":"#N/A"}},{"$f":"IF(Foglio1!$H$13 <> \"\", Foglio1!$H$13 + K923*10^-3, NA())","v":{"$error":"#N/A"}},8254,9.0184532103125274,{"$f":" IF(Foglio1!$C$14 <> \"\", 8.314472*Foglio1!$C$14*Foglio2!N923, NA())","v":{"$error":"#N/A"}},{"$f":"IF(Foglio1!$H$14 <> \"\", Foglio1!$H$14 + O923*10^-3, NA())","v":{"$error":"#N/A"}},8254,9.0184532103125274,{"$f":" IF(Foglio1!$C$15 <> \"\", 8.314472*Foglio1!$C$15*Foglio2!R923, NA())","v":{"$error":"#N/A"}},{"$f":"IF(Foglio1!$H$15 <> \"\", Foglio1!$H$15 + S923*10^-3, NA())","v":{"$error":"#N/A"}}]
[8263,9.0195429967011851,{"$f":" IF(Foglio1!$C$11 <> \"\", 8.314472*Foglio1!$C$11*Foglio2!B924, NA())","v":22497.82130966043},{"$f":"IF(Foglio1!$H$11 <> \"\", Foglio1!$H$11 + C924*10^-3, NA())","v":-67.502178690339576},8263,9.0195429967011851,{"$f":" IF(Foglio1!$C$12 <> \"\", 8.314472*Foglio1!$C$12*Foglio2!F924, NA())","v":{"$error":"#N/A"}},{"$f":"IF(Foglio1!$H$12 <> \"\", Foglio1!$H$12 + G924*10^-3, NA())","v":{"$error":"#N/A"}},8263,9.0195429967011851,{"$f":" IF(Foglio1!$C$13 <> \"\", 8.314472*Foglio1!$C$13*Foglio2!J924, NA())","v":{"$error":"#N/A"}},{"$f":"IF(Foglio1!$H$13 <> \"\", Foglio1!$H$13 + K924*10^-3, NA())","v":{"$error":"#N/A"}},8263,9.0195429967011851,{"$f":" IF(Foglio1!$C$14 <> \"\", 8.314472*Foglio1!$C$14*Foglio2!N924, NA())","v":{"$error":"#N/A"}},{"$f":"IF(Foglio1!$H$14 <> \"\", Foglio1!$H$14 + O924*10^-3, NA())","v":{"$error":"#N/A"}},8263,9.0195429967011851,{"$f":" IF(Foglio1!$C$15 <> \"\", 8.314472*Foglio1!$C$15*Foglio2!R924, NA())","v":{"$error":"#N/A"}},{"$f":"IF(Foglio1!$H$15 <> \"\", Foglio1!$H$15 + S924*10^-3, NA())","v":{"$error":"#N/A"}}]
[8272,9.0206315967482098,{"$f":" IF(Foglio1!$C$11 <> \"\", 8.314472*Foglio1!$C$11*Foglio2!B925, NA())","v":22500.536650043487},{"$f":"IF(Foglio1!$H$11 <> \"\", Foglio1!$H$11 + C925*10^-3, NA())","v":-67.499463349956514},8272,9.0206315967482098,{"$f":" IF(Foglio1!$C$12 <> \"\", 8.314472*Foglio1!$C$12*Foglio2!F925, NA())","v":{"$error":"#N/A"}},{"$f":"IF(Foglio1!$H$12 <> \"\", Foglio1!$H$12 + G925*10^-3, NA())","v":{"$error":"#N/A"}},8272,9.0206315967482098,{"$f":" IF(Foglio1!$C$13 <> \"\", 8.314472*Foglio1!$C$13*Foglio2!J925, NA())","v":{"$error":"#N/A"}},{"$f":"IF(Foglio1!$H$13 <> \"\", Foglio1!$H$13 + K925*10^-3, NA())","v":{"$error":"#N/A"}},8272,9.0206315967482098,{"$f":" IF(Foglio1!$C$14 <> \"\", 8.314472*Foglio1!$C$14*Foglio2!N925, NA())","v":{"$error":"#N/A"}},{"$f":"IF(Foglio1!$H$14 <> \"\", Foglio1!$H$14 + O925*10^-3, NA())","v":{"$error":"#N/A"}},8272,9.0206315967482098,{"$f":" IF(Foglio1!$C$15 <> \"\", 8.314472*Foglio1!$C$15*Foglio2!R925, NA())","v":{"$error":"#N/A"}},{"$f":"IF(Foglio1!$H$15 <> \"\", Foglio1!$H$15 + S925*10^-3, NA())","v":{"$error":"#N/A"}}]
[8281,9.0217190130336995,{"$f":" IF(Foglio1!$C$11 <> \"\", 8.314472*Foglio1!$C$11*Foglio2!B926, NA())","v":22503.2490377209},{"$f":"IF(Foglio1!$H$11 <> \"\", Foglio1!$H$11 + C926*10^-3, NA())","v":-67.496750962279094},8281,9.0217190130336995,{"$f":" IF(Foglio1!$C$12 <> \"\", 8.314472*Foglio1!$C$12*Foglio2!F926, NA())","v":{"$error":"#N/A"}},{"$f":"IF(Foglio1!$H$12 <> \"\", Foglio1!$H$12 + G926*10^-3, NA())","v":{"$error":"#N/A"}},8281,9.0217190130336995,{"$f":" IF(Foglio1!$C$13 <> \"\", 8.314472*Foglio1!$C$13*Foglio2!J926, NA())","v":{"$error":"#N/A"}},{"$f":"IF(Foglio1!$H$13 <> \"\", Foglio1!$H$13 + K926*10^-3, NA())","v":{"$error":"#N/A"}},8281,9.0217190130336995,{"$f":" IF(Foglio1!$C$14 <> \"\", 8.314472*Foglio1!$C$14*Foglio2!N926, NA())","v":{"$error":"#N/A"}},{"$f":"IF(Foglio1!$H$14 <> \"\", Foglio1!$H$14 + O926*10^-3, NA())","v":{"$error":"#N/A"}},8281,9.0217190130336995,{"$f":" IF(Foglio1!$C$15 <> \"\", 8.314472*Foglio1!$C$15*Foglio2!R926, NA())","v":{"$error":"#N/A"}},{"$f":"IF(Foglio1!$H$15 <> \"\", Foglio1!$H$15 + S926*10^-3, NA())","v":{"$error":"#N/A"}}]
[8290,9.022805248129341,{"$f":" IF(Foglio1!$C$11 <> \"\", 8.314472*Foglio1!$C$11*Foglio2!B927, NA())","v":22505.958479107339},{"$f":"IF(Foglio1!$H$11 <> \"\", Foglio1!$H$11 + C927*10^-3, NA())","v":-67.494041520892665},8290,9.022805248129341,{"$f":" IF(Foglio1!$C$12 <> \"\", 8.314472*Foglio1!$C$12*Foglio2!F927, NA())","v":{"$error":"#N/A"}},{"$f":"IF(Foglio1!$H$12 <> \"\", Foglio1!$H$12 + G927*10^-3, NA())","v":{"$error":"#N/A"}},8290,9.022805248129341,{"$f":" IF(Foglio1!$C$13 <> \"\", 8.314472*Foglio1!$C$13*Foglio2!J927, NA())","v":{"$error":"#N/A"}},{"$f":"IF(Foglio1!$H$13 <> \"\", Foglio1!$H$13 + K927*10^-3, NA())","v":{"$error":"#N/A"}},8290,9.022805248129341,{"$f":" IF(Foglio1!$C$14 <> \"\", 8.314472*Foglio1!$C$14*Foglio2!N927, NA())","v":{"$error":"#N/A"}},{"$f":"IF(Foglio1!$H$14 <> \"\", Foglio1!$H$14 + O927*10^-3, NA())","v":{"$error":"#N/A"}},8290,9.022805248129341,{"$f":" IF(Foglio1!$C$15 <> \"\", 8.314472*Foglio1!$C$15*Foglio2!R927, NA())","v":{"$error":"#N/A"}},{"$f":"IF(Foglio1!$H$15 <> \"\", Foglio1!$H$15 + S927*10^-3, NA())","v":{"$error":"#N/A"}}]
[8299,9.0238903045984475,{"$f":" IF(Foglio1!$C$11 <> \"\", 8.314472*Foglio1!$C$11*Foglio2!B928, NA())","v":22508.664980596583},{"$f":"IF(Foglio1!$H$11 <> \"\", Foglio1!$H$11 + C928*10^-3, NA())","v":-67.491335019403408},8299,9.0238903045984475,{"$f":" IF(Foglio1!$C$12 <> \"\", 8.314472*Foglio1!$C$12*Foglio2!F928, NA())","v":{"$error":"#N/A"}},{"$f":"IF(Foglio1!$H$12 <> \"\", Foglio1!$H$12 + G928*10^-3, NA())","v":{"$error":"#N/A"}},8299,9.0238903045984475,{"$f":" IF(Foglio1!$C$13 <> \"\", 8.314472*Foglio1!$C$13*Foglio2!J928, NA())","v":{"$error":"#N/A"}},{"$f":"IF(Foglio1!$H$13 <> \"\", Foglio1!$H$13 + K928*10^-3, NA())","v":{"$error":"#N/A"}},8299,9.0238903045984475,{"$f":" IF(Foglio1!$C$14 <> \"\", 8.314472*Foglio1!$C$14*Foglio2!N928, NA())","v":{"$error":"#N/A"}},{"$f":"IF(Foglio1!$H$14 <> \"\", Foglio1!$H$14 + O928*10^-3, NA())","v":{"$error":"#N/A"}},8299,9.0238903045984475,{"$f":" IF(Foglio1!$C$15 <> \"\", 8.314472*Foglio1!$C$15*Foglio2!R928, NA())","v":{"$error":"#N/A"}},{"$f":"IF(Foglio1!$H$15 <> \"\", Foglio1!$H$15 + S928*10^-3, NA())","v":{"$error":"#N/A"}}]
[8308,9.0249741849960028,{"$f":" IF(Foglio1!$C$11 <> \"\", 8.314472*Foglio1!$C$11*Foglio2!B929, NA())","v":22511.368548561626},{"$f":"IF(Foglio1!$H$11 <> \"\", Foglio1!$H$11 + C929*10^-3, NA())","v":-67.48863145143838},8308,9.0249741849960028,{"$f":" IF(Foglio1!$C$12 <> \"\", 8.314472*Foglio1!$C$12*Foglio2!F929, NA())","v":{"$error":"#N/A"}},{"$f":"IF(Foglio1!$H$12 <> \"\", Foglio1!$H$12 + G929*10^-3, NA())","v":{"$error":"#N/A"}},8308,9.0249741849960028,{"$f":" IF(Foglio1!$C$13 <> \"\", 8.314472*Foglio1!$C$13*Foglio2!J929, NA())","v":{"$error":"#N/A"}},{"$f":"IF(Foglio1!$H$13 <> \"\", Foglio1!$H$13 + K929*10^-3, NA())","v":{"$error":"#N/A"}},8308,9.0249741849960028,{"$f":" IF(Foglio1!$C$14 <> \"\", 8.314472*Foglio1!$C$14*Foglio2!N929, NA())","v":{"$error":"#N/A"}},{"$f":"IF(Foglio1!$H$14 <> \"\", Foglio1!$H$14 + O929*10^-3, NA())","v":{"$error":"#N/A"}},8308,9.0249741849960028,{"$f":" IF(Foglio1!$C$15 <> \"\", 8.314472*Foglio1!$C$15*Foglio2!R929, NA())","v":{"$error":"#N/A"}},{"$f":"IF(Foglio1!$H$15 <> \"\", Foglio1!$H$15 + S929*10^-3, NA())","v":{"$error":"#N/A"}}]
[8317,9.0260568918686879,{"$f":" IF(Foglio1!$C$11 <> \"\", 8.314472*Foglio1!$C$11*Foglio2!B930, NA())","v":22514.06918935477},{"$f":"IF(Foglio1!$H$11 <> \"\", Foglio1!$H$11 + C930*10^-3, NA())","v":-67.485930810645229},8317,9.0260568918686879,{"$f":" IF(Foglio1!$C$12 <> \"\", 8.314472*Foglio1!$C$12*Foglio2!F930, NA())","v":{"$error":"#N/A"}},{"$f":"IF(Foglio1!$H$12 <> \"\", Foglio1!$H$12 + G930*10^-3, NA())","v":{"$error":"#N/A"}},8317,9.0260568918686879,{"$f":" IF(Foglio1!$C$13 <> \"\", 8.314472*Foglio1!$C$13*Foglio2!J930, NA())","v":{"$error":"#N/A"}},{"$f":"IF(Foglio1!$H$13 <> \"\", Foglio1!$H$13 + K930*10^-3, NA())","v":{"$error":"#N/A"}},8317,9.0260568918686879,{"$f":" IF(Foglio1!$C$14 <> \"\", 8.314472*Foglio1!$C$14*Foglio2!N930, NA())","v":{"$error":"#N/A"}},{"$f":"IF(Foglio1!$H$14 <> \"\", Foglio1!$H$14 + O930*10^-3, NA())","v":{"$error":"#N/A"}},8317,9.0260568918686879,{"$f":" IF(Foglio1!$C$15 <> \"\", 8.314472*Foglio1!$C$15*Foglio2!R930, NA())","v":{"$error":"#N/A"}},{"$f":"IF(Foglio1!$H$15 <> \"\", Foglio1!$H$15 + S930*10^-3, NA())","v":{"$error":"#N/A"}}]
[8326,9.0271384277549203,{"$f":" IF(Foglio1!$C$11 <> \"\", 8.314472*Foglio1!$C$11*Foglio2!B931, NA())","v":22516.766909307695},{"$f":"IF(Foglio1!$H$11 <> \"\", Foglio1!$H$11 + C931*10^-3, NA())","v":-67.483233090692309},8326,9.0271384277549203,{"$f":" IF(Foglio1!$C$12 <> \"\", 8.314472*Foglio1!$C$12*Foglio2!F931, NA())","v":{"$error":"#N/A"}},{"$f":"IF(Foglio1!$H$12 <> \"\", Foglio1!$H$12 + G931*10^-3, NA())","v":{"$error":"#N/A"}},8326,9.0271384277549203,{"$f":" IF(Foglio1!$C$13 <> \"\", 8.314472*Foglio1!$C$13*Foglio2!J931, NA())","v":{"$error":"#N/A"}},{"$f":"IF(Foglio1!$H$13 <> \"\", Foglio1!$H$13 + K931*10^-3, NA())","v":{"$error":"#N/A"}},8326,9.0271384277549203,{"$f":" IF(Foglio1!$C$14 <> \"\", 8.314472*Foglio1!$C$14*Foglio2!N931, NA())","v":{"$error":"#N/A"}},{"$f":"IF(Foglio1!$H$14 <> \"\", Foglio1!$H$14 + O931*10^-3, NA())","v":{"$error":"#N/A"}},8326,9.0271384277549203,{"$f":" IF(Foglio1!$C$15 <> \"\", 8.314472*Foglio1!$C$15*Foglio2!R931, NA())","v":{"$error":"#N/A"}},{"$f":"IF(Foglio1!$H$15 <> \"\", Foglio1!$H$15 + S931*10^-3, NA())","v":{"$error":"#N/A"}}]
[8335,9.0282187951848947,{"$f":" IF(Foglio1!$C$11 <> \"\", 8.314472*Foglio1!$C$11*Foglio2!B932, NA())","v":22519.461714731566},{"$f":"IF(Foglio1!$H$11 <> \"\", Foglio1!$H$11 + C932*10^-3, NA())","v":-67.480538285268437},8335,9.0282187951848947,{"$f":" IF(Foglio1!$C$12 <> \"\", 8.314472*Foglio1!$C$12*Foglio2!F932, NA())","v":{"$error":"#N/A"}},{"$f":"IF(Foglio1!$H$12 <> \"\", Foglio1!$H$12 + G932*10^-3, NA())","v":{"$error":"#N/A"}},8335,9.0282187951848947,{"$f":" IF(Foglio1!$C$13 <> \"\", 8.314472*Foglio1!$C$13*Foglio2!J932, NA())","v":{"$error":"#N/A"}},{"$f":"IF(Foglio1!$H$13 <> \"\", Foglio1!$H$13 + K932*10^-3, NA())","v":{"$error":"#N/A"}},8335,9.0282187951848947,{"$f":" IF(Foglio1!$C$14 <> \"\", 8.314472*Foglio1!$C$14*Foglio2!N932, NA())","v":{"$error":"#N/A"}},{"$f":"IF(Foglio1!$H$14 <> \"\", Foglio1!$H$14 + O932*10^-3, NA())","v":{"$error":"#N/A"}},8335,9.0282187951848947,{"$f":" IF(Foglio1!$C$15 <> \"\", 8.314472*Foglio1!$C$15*Foglio2!R932, NA())","v":{"$error":"#N/A"}},{"$f":"IF(Foglio1!$H$15 <> \"\", Foglio1!$H$15 + S932*10^-3, NA())","v":{"$error":"#N/A"}}]
[8344,9.029297996680608,{"$f":" IF(Foglio1!$C$11 <> \"\", 8.314472*Foglio1!$C$11*Foglio2!B933, NA())","v":22522.153611917103},{"$f":"IF(Foglio1!$H$11 <> \"\", Foglio1!$H$11 + C933*10^-3, NA())","v":-67.477846388082895},8344,9.029297996680608,{"$f":" IF(Foglio1!$C$12 <> \"\", 8.314472*Foglio1!$C$12*Foglio2!F933, NA())","v":{"$error":"#N/A"}},{"$f":"IF(Foglio1!$H$12 <> \"\", Foglio1!$H$12 + G933*10^-3, NA())","v":{"$error":"#N/A"}},8344,9.029297996680608,{"$f":" IF(Foglio1!$C$13 <> \"\", 8.314472*Foglio1!$C$13*Foglio2!J933, NA())","v":{"$error":"#N/A"}},{"$f":"IF(Foglio1!$H$13 <> \"\", Foglio1!$H$13 + K933*10^-3, NA())","v":{"$error":"#N/A"}},8344,9.029297996680608,{"$f":" IF(Foglio1!$C$14 <> \"\", 8.314472*Foglio1!$C$14*Foglio2!N933, NA())","v":{"$error":"#N/A"}},{"$f":"IF(Foglio1!$H$14 <> \"\", Foglio1!$H$14 + O933*10^-3, NA())","v":{"$error":"#N/A"}},8344,9.029297996680608,{"$f":" IF(Foglio1!$C$15 <> \"\", 8.314472*Foglio1!$C$15*Foglio2!R933, NA())","v":{"$error":"#N/A"}},{"$f":"IF(Foglio1!$H$15 <> \"\", Foglio1!$H$15 + S933*10^-3, NA())","v":{"$error":"#N/A"}}]
[8353,9.030376034755907,{"$f":" IF(Foglio1!$C$11 <> \"\", 8.314472*Foglio1!$C$11*Foglio2!B934, NA())","v":22524.842607134706},{"$f":"IF(Foglio1!$H$11 <> \"\", Foglio1!$H$11 + C934*10^-3, NA())","v":-67.475157392865299},8353,9.030376034755907,{"$f":" IF(Foglio1!$C$12 <> \"\", 8.314472*Foglio1!$C$12*Foglio2!F934, NA())","v":{"$error":"#N/A"}},{"$f":"IF(Foglio1!$H$12 <> \"\", Foglio1!$H$12 + G934*10^-3, NA())","v":{"$error":"#N/A"}},8353,9.030376034755907,{"$f":" IF(Foglio1!$C$13 <> \"\", 8.314472*Foglio1!$C$13*Foglio2!J934, NA())","v":{"$error":"#N/A"}},{"$f":"IF(Foglio1!$H$13 <> \"\", Foglio1!$H$13 + K934*10^-3, NA())","v":{"$error":"#N/A"}},8353,9.030376034755907,{"$f":" IF(Foglio1!$C$14 <> \"\", 8.314472*Foglio1!$C$14*Foglio2!N934, NA())","v":{"$error":"#N/A"}},{"$f":"IF(Foglio1!$H$14 <> \"\", Foglio1!$H$14 + O934*10^-3, NA())","v":{"$error":"#N/A"}},8353,9.030376034755907,{"$f":" IF(Foglio1!$C$15 <> \"\", 8.314472*Foglio1!$C$15*Foglio2!R934, NA())","v":{"$error":"#N/A"}},{"$f":"IF(Foglio1!$H$15 <> \"\", Foglio1!$H$15 + S934*10^-3, NA())","v":{"$error":"#N/A"}}]
[8362,9.0314529119165101,{"$f":" IF(Foglio1!$C$11 <> \"\", 8.314472*Foglio1!$C$11*Foglio2!B935, NA())","v":22527.52870663449},{"$f":"IF(Foglio1!$H$11 <> \"\", Foglio1!$H$11 + C935*10^-3, NA())","v":-67.472471293365516},8362,9.0314529119165101,{"$f":" IF(Foglio1!$C$12 <> \"\", 8.314472*Foglio1!$C$12*Foglio2!F935, NA())","v":{"$error":"#N/A"}},{"$f":"IF(Foglio1!$H$12 <> \"\", Foglio1!$H$12 + G935*10^-3, NA())","v":{"$error":"#N/A"}},8362,9.0314529119165101,{"$f":" IF(Foglio1!$C$13 <> \"\", 8.314472*Foglio1!$C$13*Foglio2!J935, NA())","v":{"$error":"#N/A"}},{"$f":"IF(Foglio1!$H$13 <> \"\", Foglio1!$H$13 + K935*10^-3, NA())","v":{"$error":"#N/A"}},8362,9.0314529119165101,{"$f":" IF(Foglio1!$C$14 <> \"\", 8.314472*Foglio1!$C$14*Foglio2!N935, NA())","v":{"$error":"#N/A"}},{"$f":"IF(Foglio1!$H$14 <> \"\", Foglio1!$H$14 + O935*10^-3, NA())","v":{"$error":"#N/A"}},8362,9.0314529119165101,{"$f":" IF(Foglio1!$C$15 <> \"\", 8.314472*Foglio1!$C$15*Foglio2!R935, NA())","v":{"$error":"#N/A"}},{"$f":"IF(Foglio1!$H$15 <> \"\", Foglio1!$H$15 + S935*10^-3, NA())","v":{"$error":"#N/A"}}]
[8371,9.0325286306600567,{"$f":" IF(Foglio1!$C$11 <> \"\", 8.314472*Foglio1!$C$11*Foglio2!B936, NA())","v":22530.211916646418},{"$f":"IF(Foglio1!$H$11 <> \"\", Foglio1!$H$11 + C936*10^-3, NA())","v":-67.469788083353578},8371,9.0325286306600567,{"$f":" IF(Foglio1!$C$12 <> \"\", 8.314472*Foglio1!$C$12*Foglio2!F936, NA())","v":{"$error":"#N/A"}},{"$f":"IF(Foglio1!$H$12 <> \"\", Foglio1!$H$12 + G936*10^-3, NA())","v":{"$error":"#N/A"}},8371,9.0325286306600567,{"$f":" IF(Foglio1!$C$13 <> \"\", 8.314472*Foglio1!$C$13*Foglio2!J936, NA())","v":{"$error":"#N/A"}},{"$f":"IF(Foglio1!$H$13 <> \"\", Foglio1!$H$13 + K936*10^-3, NA())","v":{"$error":"#N/A"}},8371,9.0325286306600567,{"$f":" IF(Foglio1!$C$14 <> \"\", 8.314472*Foglio1!$C$14*Foglio2!N936, NA())","v":{"$error":"#N/A"}},{"$f":"IF(Foglio1!$H$14 <> \"\", Foglio1!$H$14 + O936*10^-3, NA())","v":{"$error":"#N/A"}},8371,9.0325286306600567,{"$f":" IF(Foglio1!$C$15 <> \"\", 8.314472*Foglio1!$C$15*Foglio2!R936, NA())","v":{"$error":"#N/A"}},{"$f":"IF(Foglio1!$H$15 <> \"\", Foglio1!$H$15 + S936*10^-3, NA())","v":{"$error":"#N/A"}}]
[8380,9.0336031934761287,{"$f":" IF(Foglio1!$C$11 <> \"\", 8.314472*Foglio1!$C$11*Foglio2!B937, NA())","v":22532.89224338036},{"$f":"IF(Foglio1!$H$11 <> \"\", Foglio1!$H$11 + C937*10^-3, NA())","v":-67.46710775661964},8380,9.0336031934761287,{"$f":" IF(Foglio1!$C$12 <> \"\", 8.314472*Foglio1!$C$12*Foglio2!F937, NA())","v":{"$error":"#N/A"}},{"$f":"IF(Foglio1!$H$12 <> \"\", Foglio1!$H$12 + G937*10^-3, NA())","v":{"$error":"#N/A"}},8380,9.0336031934761287,{"$f":" IF(Foglio1!$C$13 <> \"\", 8.314472*Foglio1!$C$13*Foglio2!J937, NA())","v":{"$error":"#N/A"}},{"$f":"IF(Foglio1!$H$13 <> \"\", Foglio1!$H$13 + K937*10^-3, NA())","v":{"$error":"#N/A"}},8380,9.0336031934761287,{"$f":" IF(Foglio1!$C$14 <> \"\", 8.314472*Foglio1!$C$14*Foglio2!N937, NA())","v":{"$error":"#N/A"}},{"$f":"IF(Foglio1!$H$14 <> \"\", Foglio1!$H$14 + O937*10^-3, NA())","v":{"$error":"#N/A"}},8380,9.0336031934761287,{"$f":" IF(Foglio1!$C$15 <> \"\", 8.314472*Foglio1!$C$15*Foglio2!R937, NA())","v":{"$error":"#N/A"}},{"$f":"IF(Foglio1!$H$15 <> \"\", Foglio1!$H$15 + S937*10^-3, NA())","v":{"$error":"#N/A"}}]
[8389,9.0346766028462948,{"$f":" IF(Foglio1!$C$11 <> \"\", 8.314472*Foglio1!$C$11*Foglio2!B938, NA())","v":22535.569693026195},{"$f":"IF(Foglio1!$H$11 <> \"\", Foglio1!$H$11 + C938*10^-3, NA())","v":-67.46443030697381},8389,9.0346766028462948,{"$f":" IF(Foglio1!$C$12 <> \"\", 8.314472*Foglio1!$C$12*Foglio2!F938, NA())","v":{"$error":"#N/A"}},{"$f":"IF(Foglio1!$H$12 <> \"\", Foglio1!$H$12 + G938*10^-3, NA())","v":{"$error":"#N/A"}},8389,9.0346766028462948,{"$f":" IF(Foglio1!$C$13 <> \"\", 8.314472*Foglio1!$C$13*Foglio2!J938, NA())","v":{"$error":"#N/A"}},{"$f":"IF(Foglio1!$H$13 <> \"\", Foglio1!$H$13 + K938*10^-3, NA())","v":{"$error":"#N/A"}},8389,9.0346766028462948,{"$f":" IF(Foglio1!$C$14 <> \"\", 8.314472*Foglio1!$C$14*Foglio2!N938, NA())","v":{"$error":"#N/A"}},{"$f":"IF(Foglio1!$H$14 <> \"\", Foglio1!$H$14 + O938*10^-3, NA())","v":{"$error":"#N/A"}},8389,9.0346766028462948,{"$f":" IF(Foglio1!$C$15 <> \"\", 8.314472*Foglio1!$C$15*Foglio2!R938, NA())","v":{"$error":"#N/A"}},{"$f":"IF(Foglio1!$H$15 <> \"\", Foglio1!$H$15 + S938*10^-3, NA())","v":{"$error":"#N/A"}}]
[8398,9.035748861244139,{"$f":" IF(Foglio1!$C$11 <> \"\", 8.314472*Foglio1!$C$11*Foglio2!B939, NA())","v":22538.244271753887},{"$f":"IF(Foglio1!$H$11 <> \"\", Foglio1!$H$11 + C939*10^-3, NA())","v":-67.461755728246118},8398,9.035748861244139,{"$f":" IF(Foglio1!$C$12 <> \"\", 8.314472*Foglio1!$C$12*Foglio2!F939, NA())","v":{"$error":"#N/A"}},{"$f":"IF(Foglio1!$H$12 <> \"\", Foglio1!$H$12 + G939*10^-3, NA())","v":{"$error":"#N/A"}},8398,9.035748861244139,{"$f":" IF(Foglio1!$C$13 <> \"\", 8.314472*Foglio1!$C$13*Foglio2!J939, NA())","v":{"$error":"#N/A"}},{"$f":"IF(Foglio1!$H$13 <> \"\", Foglio1!$H$13 + K939*10^-3, NA())","v":{"$error":"#N/A"}},8398,9.035748861244139,{"$f":" IF(Foglio1!$C$14 <> \"\", 8.314472*Foglio1!$C$14*Foglio2!N939, NA())","v":{"$error":"#N/A"}},{"$f":"IF(Foglio1!$H$14 <> \"\", Foglio1!$H$14 + O939*10^-3, NA())","v":{"$error":"#N/A"}},8398,9.035748861244139,{"$f":" IF(Foglio1!$C$15 <> \"\", 8.314472*Foglio1!$C$15*Foglio2!R939, NA())","v":{"$error":"#N/A"}},{"$f":"IF(Foglio1!$H$15 <> \"\", Foglio1!$H$15 + S939*10^-3, NA())","v":{"$error":"#N/A"}}]
[8407,9.0368199711352961,{"$f":" IF(Foglio1!$C$11 <> \"\", 8.314472*Foglio1!$C$11*Foglio2!B940, NA())","v":22540.915985713571},{"$f":"IF(Foglio1!$H$11 <> \"\", Foglio1!$H$11 + C940*10^-3, NA())","v":-67.459084014286432},8407,9.0368199711352961,{"$f":" IF(Foglio1!$C$12 <> \"\", 8.314472*Foglio1!$C$12*Foglio2!F940, NA())","v":{"$error":"#N/A"}},{"$f":"IF(Foglio1!$H$12 <> \"\", Foglio1!$H$12 + G940*10^-3, NA())","v":{"$error":"#N/A"}},8407,9.0368199711352961,{"$f":" IF(Foglio1!$C$13 <> \"\", 8.314472*Foglio1!$C$13*Foglio2!J940, NA())","v":{"$error":"#N/A"}},{"$f":"IF(Foglio1!$H$13 <> \"\", Foglio1!$H$13 + K940*10^-3, NA())","v":{"$error":"#N/A"}},8407,9.0368199711352961,{"$f":" IF(Foglio1!$C$14 <> \"\", 8.314472*Foglio1!$C$14*Foglio2!N940, NA())","v":{"$error":"#N/A"}},{"$f":"IF(Foglio1!$H$14 <> \"\", Foglio1!$H$14 + O940*10^-3, NA())","v":{"$error":"#N/A"}},8407,9.0368199711352961,{"$f":" IF(Foglio1!$C$15 <> \"\", 8.314472*Foglio1!$C$15*Foglio2!R940, NA())","v":{"$error":"#N/A"}},{"$f":"IF(Foglio1!$H$15 <> \"\", Foglio1!$H$15 + S940*10^-3, NA())","v":{"$error":"#N/A"}}]
[8416,9.0378899349774908,{"$f":" IF(Foglio1!$C$11 <> \"\", 8.314472*Foglio1!$C$11*Foglio2!B941, NA())","v":22543.584841035652},{"$f":"IF(Foglio1!$H$11 <> \"\", Foglio1!$H$11 + C941*10^-3, NA())","v":-67.456415158964347},8416,9.0378899349774908,{"$f":" IF(Foglio1!$C$12 <> \"\", 8.314472*Foglio1!$C$12*Foglio2!F941, NA())","v":{"$error":"#N/A"}},{"$f":"IF(Foglio1!$H$12 <> \"\", Foglio1!$H$12 + G941*10^-3, NA())","v":{"$error":"#N/A"}},8416,9.0378899349774908,{"$f":" IF(Foglio1!$C$13 <> \"\", 8.314472*Foglio1!$C$13*Foglio2!J941, NA())","v":{"$error":"#N/A"}},{"$f":"IF(Foglio1!$H$13 <> \"\", Foglio1!$H$13 + K941*10^-3, NA())","v":{"$error":"#N/A"}},8416,9.0378899349774908,{"$f":" IF(Foglio1!$C$14 <> \"\", 8.314472*Foglio1!$C$14*Foglio2!N941, NA())","v":{"$error":"#N/A"}},{"$f":"IF(Foglio1!$H$14 <> \"\", Foglio1!$H$14 + O941*10^-3, NA())","v":{"$error":"#N/A"}},8416,9.0378899349774908,{"$f":" IF(Foglio1!$C$15 <> \"\", 8.314472*Foglio1!$C$15*Foglio2!R941, NA())","v":{"$error":"#N/A"}},{"$f":"IF(Foglio1!$H$15 <> \"\", Foglio1!$H$15 + S941*10^-3, NA())","v":{"$error":"#N/A"}}]
[8425,9.0389587552205626,{"$f":" IF(Foglio1!$C$11 <> \"\", 8.314472*Foglio1!$C$11*Foglio2!B942, NA())","v":22546.250843830869},{"$f":"IF(Foglio1!$H$11 <> \"\", Foglio1!$H$11 + C942*10^-3, NA())","v":-67.453749156169124},8425,9.0389587552205626,{"$f":" IF(Foglio1!$C$12 <> \"\", 8.314472*Foglio1!$C$12*Foglio2!F942, NA())","v":{"$error":"#N/A"}},{"$f":"IF(Foglio1!$H$12 <> \"\", Foglio1!$H$12 + G942*10^-3, NA())","v":{"$error":"#N/A"}},8425,9.0389587552205626,{"$f":" IF(Foglio1!$C$13 <> \"\", 8.314472*Foglio1!$C$13*Foglio2!J942, NA())","v":{"$error":"#N/A"}},{"$f":"IF(Foglio1!$H$13 <> \"\", Foglio1!$H$13 + K942*10^-3, NA())","v":{"$error":"#N/A"}},8425,9.0389587552205626,{"$f":" IF(Foglio1!$C$14 <> \"\", 8.314472*Foglio1!$C$14*Foglio2!N942, NA())","v":{"$error":"#N/A"}},{"$f":"IF(Foglio1!$H$14 <> \"\", Foglio1!$H$14 + O942*10^-3, NA())","v":{"$error":"#N/A"}},8425,9.0389587552205626,{"$f":" IF(Foglio1!$C$15 <> \"\", 8.314472*Foglio1!$C$15*Foglio2!R942, NA())","v":{"$error":"#N/A"}},{"$f":"IF(Foglio1!$H$15 <> \"\", Foglio1!$H$15 + S942*10^-3, NA())","v":{"$error":"#N/A"}}]
[8434,9.0400264343065047,{"$f":" IF(Foglio1!$C$11 <> \"\", 8.314472*Foglio1!$C$11*Foglio2!B943, NA())","v":22548.914000190383},{"$f":"IF(Foglio1!$H$11 <> \"\", Foglio1!$H$11 + C943*10^-3, NA())","v":-67.451085999809621},8434,9.0400264343065047,{"$f":" IF(Foglio1!$C$12 <> \"\", 8.314472*Foglio1!$C$12*Foglio2!F943, NA())","v":{"$error":"#N/A"}},{"$f":"IF(Foglio1!$H$12 <> \"\", Foglio1!$H$12 + G943*10^-3, NA())","v":{"$error":"#N/A"}},8434,9.0400264343065047,{"$f":" IF(Foglio1!$C$13 <> \"\", 8.314472*Foglio1!$C$13*Foglio2!J943, NA())","v":{"$error":"#N/A"}},{"$f":"IF(Foglio1!$H$13 <> \"\", Foglio1!$H$13 + K943*10^-3, NA())","v":{"$error":"#N/A"}},8434,9.0400264343065047,{"$f":" IF(Foglio1!$C$14 <> \"\", 8.314472*Foglio1!$C$14*Foglio2!N943, NA())","v":{"$error":"#N/A"}},{"$f":"IF(Foglio1!$H$14 <> \"\", Foglio1!$H$14 + O943*10^-3, NA())","v":{"$error":"#N/A"}},8434,9.0400264343065047,{"$f":" IF(Foglio1!$C$15 <> \"\", 8.314472*Foglio1!$C$15*Foglio2!R943, NA())","v":{"$error":"#N/A"}},{"$f":"IF(Foglio1!$H$15 <> \"\", Foglio1!$H$15 + S943*10^-3, NA())","v":{"$error":"#N/A"}}]
[8443,9.0410929746694997,{"$f":" IF(Foglio1!$C$11 <> \"\", 8.314472*Foglio1!$C$11*Foglio2!B944, NA())","v":22551.574316185881},{"$f":"IF(Foglio1!$H$11 <> \"\", Foglio1!$H$11 + C944*10^-3, NA())","v":-67.448425683814122},8443,9.0410929746694997,{"$f":" IF(Foglio1!$C$12 <> \"\", 8.314472*Foglio1!$C$12*Foglio2!F944, NA())","v":{"$error":"#N/A"}},{"$f":"IF(Foglio1!$H$12 <> \"\", Foglio1!$H$12 + G944*10^-3, NA())","v":{"$error":"#N/A"}},8443,9.0410929746694997,{"$f":" IF(Foglio1!$C$13 <> \"\", 8.314472*Foglio1!$C$13*Foglio2!J944, NA())","v":{"$error":"#N/A"}},{"$f":"IF(Foglio1!$H$13 <> \"\", Foglio1!$H$13 + K944*10^-3, NA())","v":{"$error":"#N/A"}},8443,9.0410929746694997,{"$f":" IF(Foglio1!$C$14 <> \"\", 8.314472*Foglio1!$C$14*Foglio2!N944, NA())","v":{"$error":"#N/A"}},{"$f":"IF(Foglio1!$H$14 <> \"\", Foglio1!$H$14 + O944*10^-3, NA())","v":{"$error":"#N/A"}},8443,9.0410929746694997,{"$f":" IF(Foglio1!$C$15 <> \"\", 8.314472*Foglio1!$C$15*Foglio2!R944, NA())","v":{"$error":"#N/A"}},{"$f":"IF(Foglio1!$H$15 <> \"\", Foglio1!$H$15 + S944*10^-3, NA())","v":{"$error":"#N/A"}}]
[8452,9.0421583787359481,{"$f":" IF(Foglio1!$C$11 <> \"\", 8.314472*Foglio1!$C$11*Foglio2!B945, NA())","v":22554.231797869634},{"$f":"IF(Foglio1!$H$11 <> \"\", Foglio1!$H$11 + C945*10^-3, NA())","v":-67.445768202130367},8452,9.0421583787359481,{"$f":" IF(Foglio1!$C$12 <> \"\", 8.314472*Foglio1!$C$12*Foglio2!F945, NA())","v":{"$error":"#N/A"}},{"$f":"IF(Foglio1!$H$12 <> \"\", Foglio1!$H$12 + G945*10^-3, NA())","v":{"$error":"#N/A"}},8452,9.0421583787359481,{"$f":" IF(Foglio1!$C$13 <> \"\", 8.314472*Foglio1!$C$13*Foglio2!J945, NA())","v":{"$error":"#N/A"}},{"$f":"IF(Foglio1!$H$13 <> \"\", Foglio1!$H$13 + K945*10^-3, NA())","v":{"$error":"#N/A"}},8452,9.0421583787359481,{"$f":" IF(Foglio1!$C$14 <> \"\", 8.314472*Foglio1!$C$14*Foglio2!N945, NA())","v":{"$error":"#N/A"}},{"$f":"IF(Foglio1!$H$14 <> \"\", Foglio1!$H$14 + O945*10^-3, NA())","v":{"$error":"#N/A"}},8452,9.0421583787359481,{"$f":" IF(Foglio1!$C$15 <> \"\", 8.314472*Foglio1!$C$15*Foglio2!R945, NA())","v":{"$error":"#N/A"}},{"$f":"IF(Foglio1!$H$15 <> \"\", Foglio1!$H$15 + S945*10^-3, NA())","v":{"$error":"#N/A"}}]
[8461,9.0432226489245,{"$f":" IF(Foglio1!$C$11 <> \"\", 8.314472*Foglio1!$C$11*Foglio2!B946, NA())","v":22556.886451274579},{"$f":"IF(Foglio1!$H$11 <> \"\", Foglio1!$H$11 + C946*10^-3, NA())","v":-67.443113548725421},8461,9.0432226489245,{"$f":" IF(Foglio1!$C$12 <> \"\", 8.314472*Foglio1!$C$12*Foglio2!F946, NA())","v":{"$error":"#N/A"}},{"$f":"IF(Foglio1!$H$12 <> \"\", Foglio1!$H$12 + G946*10^-3, NA())","v":{"$error":"#N/A"}},8461,9.0432226489245,{"$f":" IF(Foglio1!$C$13 <> \"\", 8.314472*Foglio1!$C$13*Foglio2!J946, NA())","v":{"$error":"#N/A"}},{"$f":"IF(Foglio1!$H$13 <> \"\", Foglio1!$H$13 + K946*10^-3, NA())","v":{"$error":"#N/A"}},8461,9.0432226489245,{"$f":" IF(Foglio1!$C$14 <> \"\", 8.314472*Foglio1!$C$14*Foglio2!N946, NA())","v":{"$error":"#N/A"}},{"$f":"IF(Foglio1!$H$14 <> \"\", Foglio1!$H$14 + O946*10^-3, NA())","v":{"$error":"#N/A"}},8461,9.0432226489245,{"$f":" IF(Foglio1!$C$15 <> \"\", 8.314472*Foglio1!$C$15*Foglio2!R946, NA())","v":{"$error":"#N/A"}},{"$f":"IF(Foglio1!$H$15 <> \"\", Foglio1!$H$15 + S946*10^-3, NA())","v":{"$error":"#N/A"}}]
[8470,9.0442857876460998,{"$f":" IF(Foglio1!$C$11 <> \"\", 8.314472*Foglio1!$C$11*Foglio2!B947, NA())","v":22559.538282414436},{"$f":"IF(Foglio1!$H$11 <> \"\", Foglio1!$H$11 + C947*10^-3, NA())","v":-67.440461717585563},8470,9.0442857876460998,{"$f":" IF(Foglio1!$C$12 <> \"\", 8.314472*Foglio1!$C$12*Foglio2!F947, NA())","v":{"$error":"#N/A"}},{"$f":"IF(Foglio1!$H$12 <> \"\", Foglio1!$H$12 + G947*10^-3, NA())","v":{"$error":"#N/A"}},8470,9.0442857876460998,{"$f":" IF(Foglio1!$C$13 <> \"\", 8.314472*Foglio1!$C$13*Foglio2!J947, NA())","v":{"$error":"#N/A"}},{"$f":"IF(Foglio1!$H$13 <> \"\", Foglio1!$H$13 + K947*10^-3, NA())","v":{"$error":"#N/A"}},8470,9.0442857876460998,{"$f":" IF(Foglio1!$C$14 <> \"\", 8.314472*Foglio1!$C$14*Foglio2!N947, NA())","v":{"$error":"#N/A"}},{"$f":"IF(Foglio1!$H$14 <> \"\", Foglio1!$H$14 + O947*10^-3, NA())","v":{"$error":"#N/A"}},8470,9.0442857876460998,{"$f":" IF(Foglio1!$C$15 <> \"\", 8.314472*Foglio1!$C$15*Foglio2!R947, NA())","v":{"$error":"#N/A"}},{"$f":"IF(Foglio1!$H$15 <> \"\", Foglio1!$H$15 + S947*10^-3, NA())","v":{"$error":"#N/A"}}]
[8479,9.0453477973040037,{"$f":" IF(Foglio1!$C$11 <> \"\", 8.314472*Foglio1!$C$11*Foglio2!B948, NA())","v":22562.187297283745},{"$f":"IF(Foglio1!$H$11 <> \"\", Foglio1!$H$11 + C948*10^-3, NA())","v":-67.437812702716258},8479,9.0453477973040037,{"$f":" IF(Foglio1!$C$12 <> \"\", 8.314472*Foglio1!$C$12*Foglio2!F948, NA())","v":{"$error":"#N/A"}},{"$f":"IF(Foglio1!$H$12 <> \"\", Foglio1!$H$12 + G948*10^-3, NA())","v":{"$error":"#N/A"}},8479,9.0453477973040037,{"$f":" IF(Foglio1!$C$13 <> \"\", 8.314472*Foglio1!$C$13*Foglio2!J948, NA())","v":{"$error":"#N/A"}},{"$f":"IF(Foglio1!$H$13 <> \"\", Foglio1!$H$13 + K948*10^-3, NA())","v":{"$error":"#N/A"}},8479,9.0453477973040037,{"$f":" IF(Foglio1!$C$14 <> \"\", 8.314472*Foglio1!$C$14*Foglio2!N948, NA())","v":{"$error":"#N/A"}},{"$f":"IF(Foglio1!$H$14 <> \"\", Foglio1!$H$14 + O948*10^-3, NA())","v":{"$error":"#N/A"}},8479,9.0453477973040037,{"$f":" IF(Foglio1!$C$15 <> \"\", 8.314472*Foglio1!$C$15*Foglio2!R948, NA())","v":{"$error":"#N/A"}},{"$f":"IF(Foglio1!$H$15 <> \"\", Foglio1!$H$15 + S948*10^-3, NA())","v":{"$error":"#N/A"}}]
[8488,9.0464086802938191,{"$f":" IF(Foglio1!$C$11 <> \"\", 8.314472*Foglio1!$C$11*Foglio2!B949, NA())","v":22564.833501857975},{"$f":"IF(Foglio1!$H$11 <> \"\", Foglio1!$H$11 + C949*10^-3, NA())","v":-67.435166498142024},8488,9.0464086802938191,{"$f":" IF(Foglio1!$C$12 <> \"\", 8.314472*Foglio1!$C$12*Foglio2!F949, NA())","v":{"$error":"#N/A"}},{"$f":"IF(Foglio1!$H$12 <> \"\", Foglio1!$H$12 + G949*10^-3, NA())","v":{"$error":"#N/A"}},8488,9.0464086802938191,{"$f":" IF(Foglio1!$C$13 <> \"\", 8.314472*Foglio1!$C$13*Foglio2!J949, NA())","v":{"$error":"#N/A"}},{"$f":"IF(Foglio1!$H$13 <> \"\", Foglio1!$H$13 + K949*10^-3, NA())","v":{"$error":"#N/A"}},8488,9.0464086802938191,{"$f":" IF(Foglio1!$C$14 <> \"\", 8.314472*Foglio1!$C$14*Foglio2!N949, NA())","v":{"$error":"#N/A"}},{"$f":"IF(Foglio1!$H$14 <> \"\", Foglio1!$H$14 + O949*10^-3, NA())","v":{"$error":"#N/A"}},8488,9.0464086802938191,{"$f":" IF(Foglio1!$C$15 <> \"\", 8.314472*Foglio1!$C$15*Foglio2!R949, NA())","v":{"$error":"#N/A"}},{"$f":"IF(Foglio1!$H$15 <> \"\", Foglio1!$H$15 + S949*10^-3, NA())","v":{"$error":"#N/A"}}]
[8497,9.0474684390035414,{"$f":" IF(Foglio1!$C$11 <> \"\", 8.314472*Foglio1!$C$11*Foglio2!B950, NA())","v":22567.476902093596},{"$f":"IF(Foglio1!$H$11 <> \"\", Foglio1!$H$11 + C950*10^-3, NA())","v":-67.432523097906397},8497,9.0474684390035414,{"$f":" IF(Foglio1!$C$12 <> \"\", 8.314472*Foglio1!$C$12*Foglio2!F950, NA())","v":{"$error":"#N/A"}},{"$f":"IF(Foglio1!$H$12 <> \"\", Foglio1!$H$12 + G950*10^-3, NA())","v":{"$error":"#N/A"}},8497,9.0474684390035414,{"$f":" IF(Foglio1!$C$13 <> \"\", 8.314472*Foglio1!$C$13*Foglio2!J950, NA())","v":{"$error":"#N/A"}},{"$f":"IF(Foglio1!$H$13 <> \"\", Foglio1!$H$13 + K950*10^-3, NA())","v":{"$error":"#N/A"}},8497,9.0474684390035414,{"$f":" IF(Foglio1!$C$14 <> \"\", 8.314472*Foglio1!$C$14*Foglio2!N950, NA())","v":{"$error":"#N/A"}},{"$f":"IF(Foglio1!$H$14 <> \"\", Foglio1!$H$14 + O950*10^-3, NA())","v":{"$error":"#N/A"}},8497,9.0474684390035414,{"$f":" IF(Foglio1!$C$15 <> \"\", 8.314472*Foglio1!$C$15*Foglio2!R950, NA())","v":{"$error":"#N/A"}},{"$f":"IF(Foglio1!$H$15 <> \"\", Foglio1!$H$15 + S950*10^-3, NA())","v":{"$error":"#N/A"}}]
[8506,9.0485270758135794,{"$f":" IF(Foglio1!$C$11 <> \"\", 8.314472*Foglio1!$C$11*Foglio2!B951, NA())","v":22570.117503928166},{"$f":"IF(Foglio1!$H$11 <> \"\", Foglio1!$H$11 + C951*10^-3, NA())","v":-67.429882496071826},8506,9.0485270758135794,{"$f":" IF(Foglio1!$C$12 <> \"\", 8.314472*Foglio1!$C$12*Foglio2!F951, NA())","v":{"$error":"#N/A"}},{"$f":"IF(Foglio1!$H$12 <> \"\", Foglio1!$H$12 + G951*10^-3, NA())","v":{"$error":"#N/A"}},8506,9.0485270758135794,{"$f":" IF(Foglio1!$C$13 <> \"\", 8.314472*Foglio1!$C$13*Foglio2!J951, NA())","v":{"$error":"#N/A"}},{"$f":"IF(Foglio1!$H$13 <> \"\", Foglio1!$H$13 + K951*10^-3, NA())","v":{"$error":"#N/A"}},8506,9.0485270758135794,{"$f":" IF(Foglio1!$C$14 <> \"\", 8.314472*Foglio1!$C$14*Foglio2!N951, NA())","v":{"$error":"#N/A"}},{"$f":"IF(Foglio1!$H$14 <> \"\", Foglio1!$H$14 + O951*10^-3, NA())","v":{"$error":"#N/A"}},8506,9.0485270758135794,{"$f":" IF(Foglio1!$C$15 <> \"\", 8.314472*Foglio1!$C$15*Foglio2!R951, NA())","v":{"$error":"#N/A"}},{"$f":"IF(Foglio1!$H$15 <> \"\", Foglio1!$H$15 + S951*10^-3, NA())","v":{"$error":"#N/A"}}]
[8515,9.0495845930967889,{"$f":" IF(Foglio1!$C$11 <> \"\", 8.314472*Foglio1!$C$11*Foglio2!B952, NA())","v":22572.755313280395},{"$f":"IF(Foglio1!$H$11 <> \"\", Foglio1!$H$11 + C952*10^-3, NA())","v":-67.427244686719604},8515,9.0495845930967889,{"$f":" IF(Foglio1!$C$12 <> \"\", 8.314472*Foglio1!$C$12*Foglio2!F952, NA())","v":{"$error":"#N/A"}},{"$f":"IF(Foglio1!$H$12 <> \"\", Foglio1!$H$12 + G952*10^-3, NA())","v":{"$error":"#N/A"}},8515,9.0495845930967889,{"$f":" IF(Foglio1!$C$13 <> \"\", 8.314472*Foglio1!$C$13*Foglio2!J952, NA())","v":{"$error":"#N/A"}},{"$f":"IF(Foglio1!$H$13 <> \"\", Foglio1!$H$13 + K952*10^-3, NA())","v":{"$error":"#N/A"}},8515,9.0495845930967889,{"$f":" IF(Foglio1!$C$14 <> \"\", 8.314472*Foglio1!$C$14*Foglio2!N952, NA())","v":{"$error":"#N/A"}},{"$f":"IF(Foglio1!$H$14 <> \"\", Foglio1!$H$14 + O952*10^-3, NA())","v":{"$error":"#N/A"}},8515,9.0495845930967889,{"$f":" IF(Foglio1!$C$15 <> \"\", 8.314472*Foglio1!$C$15*Foglio2!R952, NA())","v":{"$error":"#N/A"}},{"$f":"IF(Foglio1!$H$15 <> \"\", Foglio1!$H$15 + S952*10^-3, NA())","v":{"$error":"#N/A"}}]
[8524,9.0506409932185079,{"$f":" IF(Foglio1!$C$11 <> \"\", 8.314472*Foglio1!$C$11*Foglio2!B953, NA())","v":22575.390336050245},{"$f":"IF(Foglio1!$H$11 <> \"\", Foglio1!$H$11 + C953*10^-3, NA())","v":-67.424609663949752},8524,9.0506409932185079,{"$f":" IF(Foglio1!$C$12 <> \"\", 8.314472*Foglio1!$C$12*Foglio2!F953, NA())","v":{"$error":"#N/A"}},{"$f":"IF(Foglio1!$H$12 <> \"\", Foglio1!$H$12 + G953*10^-3, NA())","v":{"$error":"#N/A"}},8524,9.0506409932185079,{"$f":" IF(Foglio1!$C$13 <> \"\", 8.314472*Foglio1!$C$13*Foglio2!J953, NA())","v":{"$error":"#N/A"}},{"$f":"IF(Foglio1!$H$13 <> \"\", Foglio1!$H$13 + K953*10^-3, NA())","v":{"$error":"#N/A"}},8524,9.0506409932185079,{"$f":" IF(Foglio1!$C$14 <> \"\", 8.314472*Foglio1!$C$14*Foglio2!N953, NA())","v":{"$error":"#N/A"}},{"$f":"IF(Foglio1!$H$14 <> \"\", Foglio1!$H$14 + O953*10^-3, NA())","v":{"$error":"#N/A"}},8524,9.0506409932185079,{"$f":" IF(Foglio1!$C$15 <> \"\", 8.314472*Foglio1!$C$15*Foglio2!R953, NA())","v":{"$error":"#N/A"}},{"$f":"IF(Foglio1!$H$15 <> \"\", Foglio1!$H$15 + S953*10^-3, NA())","v":{"$error":"#N/A"}}]
[8533,9.0516962785365855,{"$f":" IF(Foglio1!$C$11 <> \"\", 8.314472*Foglio1!$C$11*Foglio2!B954, NA())","v":22578.022578118995},{"$f":"IF(Foglio1!$H$11 <> \"\", Foglio1!$H$11 + C954*10^-3, NA())","v":-67.421977421880996},8533,9.0516962785365855,{"$f":" IF(Foglio1!$C$12 <> \"\", 8.314472*Foglio1!$C$12*Foglio2!F954, NA())","v":{"$error":"#N/A"}},{"$f":"IF(Foglio1!$H$12 <> \"\", Foglio1!$H$12 + G954*10^-3, NA())","v":{"$error":"#N/A"}},8533,9.0516962785365855,{"$f":" IF(Foglio1!$C$13 <> \"\", 8.314472*Foglio1!$C$13*Foglio2!J954, NA())","v":{"$error":"#N/A"}},{"$f":"IF(Foglio1!$H$13 <> \"\", Foglio1!$H$13 + K954*10^-3, NA())","v":{"$error":"#N/A"}},8533,9.0516962785365855,{"$f":" IF(Foglio1!$C$14 <> \"\", 8.314472*Foglio1!$C$14*Foglio2!N954, NA())","v":{"$error":"#N/A"}},{"$f":"IF(Foglio1!$H$14 <> \"\", Foglio1!$H$14 + O954*10^-3, NA())","v":{"$error":"#N/A"}},8533,9.0516962785365855,{"$f":" IF(Foglio1!$C$15 <> \"\", 8.314472*Foglio1!$C$15*Foglio2!R954, NA())","v":{"$error":"#N/A"}},{"$f":"IF(Foglio1!$H$15 <> \"\", Foglio1!$H$15 + S954*10^-3, NA())","v":{"$error":"#N/A"}}]
[8542,9.0527504514014119,{"$f":" IF(Foglio1!$C$11 <> \"\", 8.314472*Foglio1!$C$11*Foglio2!B955, NA())","v":22580.652045349321},{"$f":"IF(Foglio1!$H$11 <> \"\", Foglio1!$H$11 + C955*10^-3, NA())","v":-67.419347954650675},8542,9.0527504514014119,{"$f":" IF(Foglio1!$C$12 <> \"\", 8.314472*Foglio1!$C$12*Foglio2!F955, NA())","v":{"$error":"#N/A"}},{"$f":"IF(Foglio1!$H$12 <> \"\", Foglio1!$H$12 + G955*10^-3, NA())","v":{"$error":"#N/A"}},8542,9.0527504514014119,{"$f":" IF(Foglio1!$C$13 <> \"\", 8.314472*Foglio1!$C$13*Foglio2!J955, NA())","v":{"$error":"#N/A"}},{"$f":"IF(Foglio1!$H$13 <> \"\", Foglio1!$H$13 + K955*10^-3, NA())","v":{"$error":"#N/A"}},8542,9.0527504514014119,{"$f":" IF(Foglio1!$C$14 <> \"\", 8.314472*Foglio1!$C$14*Foglio2!N955, NA())","v":{"$error":"#N/A"}},{"$f":"IF(Foglio1!$H$14 <> \"\", Foglio1!$H$14 + O955*10^-3, NA())","v":{"$error":"#N/A"}},8542,9.0527504514014119,{"$f":" IF(Foglio1!$C$15 <> \"\", 8.314472*Foglio1!$C$15*Foglio2!R955, NA())","v":{"$error":"#N/A"}},{"$f":"IF(Foglio1!$H$15 <> \"\", Foglio1!$H$15 + S955*10^-3, NA())","v":{"$error":"#N/A"}}]
[8551,9.0538035141559554,{"$f":" IF(Foglio1!$C$11 <> \"\", 8.314472*Foglio1!$C$11*Foglio2!B956, NA())","v":22583.27874358539},{"$f":"IF(Foglio1!$H$11 <> \"\", Foglio1!$H$11 + C956*10^-3, NA())","v":-67.416721256414604},8551,9.0538035141559554,{"$f":" IF(Foglio1!$C$12 <> \"\", 8.314472*Foglio1!$C$12*Foglio2!F956, NA())","v":{"$error":"#N/A"}},{"$f":"IF(Foglio1!$H$12 <> \"\", Foglio1!$H$12 + G956*10^-3, NA())","v":{"$error":"#N/A"}},8551,9.0538035141559554,{"$f":" IF(Foglio1!$C$13 <> \"\", 8.314472*Foglio1!$C$13*Foglio2!J956, NA())","v":{"$error":"#N/A"}},{"$f":"IF(Foglio1!$H$13 <> \"\", Foglio1!$H$13 + K956*10^-3, NA())","v":{"$error":"#N/A"}},8551,9.0538035141559554,{"$f":" IF(Foglio1!$C$14 <> \"\", 8.314472*Foglio1!$C$14*Foglio2!N956, NA())","v":{"$error":"#N/A"}},{"$f":"IF(Foglio1!$H$14 <> \"\", Foglio1!$H$14 + O956*10^-3, NA())","v":{"$error":"#N/A"}},8551,9.0538035141559554,{"$f":" IF(Foglio1!$C$15 <> \"\", 8.314472*Foglio1!$C$15*Foglio2!R956, NA())","v":{"$error":"#N/A"}},{"$f":"IF(Foglio1!$H$15 <> \"\", Foglio1!$H$15 + S956*10^-3, NA())","v":{"$error":"#N/A"}}]
[8560,9.0548554691357879,{"$f":" IF(Foglio1!$C$11 <> \"\", 8.314472*Foglio1!$C$11*Foglio2!B957, NA())","v":22585.902678652914},{"$f":"IF(Foglio1!$H$11 <> \"\", Foglio1!$H$11 + C957*10^-3, NA())","v":-67.414097321347086},8560,9.0548554691357879,{"$f":" IF(Foglio1!$C$12 <> \"\", 8.314472*Foglio1!$C$12*Foglio2!F957, NA())","v":{"$error":"#N/A"}},{"$f":"IF(Foglio1!$H$12 <> \"\", Foglio1!$H$12 + G957*10^-3, NA())","v":{"$error":"#N/A"}},8560,9.0548554691357879,{"$f":" IF(Foglio1!$C$13 <> \"\", 8.314472*Foglio1!$C$13*Foglio2!J957, NA())","v":{"$error":"#N/A"}},{"$f":"IF(Foglio1!$H$13 <> \"\", Foglio1!$H$13 + K957*10^-3, NA())","v":{"$error":"#N/A"}},8560,9.0548554691357879,{"$f":" IF(Foglio1!$C$14 <> \"\", 8.314472*Foglio1!$C$14*Foglio2!N957, NA())","v":{"$error":"#N/A"}},{"$f":"IF(Foglio1!$H$14 <> \"\", Foglio1!$H$14 + O957*10^-3, NA())","v":{"$error":"#N/A"}},8560,9.0548554691357879,{"$f":" IF(Foglio1!$C$15 <> \"\", 8.314472*Foglio1!$C$15*Foglio2!R957, NA())","v":{"$error":"#N/A"}},{"$f":"IF(Foglio1!$H$15 <> \"\", Foglio1!$H$15 + S957*10^-3, NA())","v":{"$error":"#N/A"}}]
[8569,9.055906318669118,{"$f":" IF(Foglio1!$C$11 <> \"\", 8.314472*Foglio1!$C$11*Foglio2!B958, NA())","v":22588.523856359239},{"$f":"IF(Foglio1!$H$11 <> \"\", Foglio1!$H$11 + C958*10^-3, NA())","v":-67.411476143640755},8569,9.055906318669118,{"$f":" IF(Foglio1!$C$12 <> \"\", 8.314472*Foglio1!$C$12*Foglio2!F958, NA())","v":{"$error":"#N/A"}},{"$f":"IF(Foglio1!$H$12 <> \"\", Foglio1!$H$12 + G958*10^-3, NA())","v":{"$error":"#N/A"}},8569,9.055906318669118,{"$f":" IF(Foglio1!$C$13 <> \"\", 8.314472*Foglio1!$C$13*Foglio2!J958, NA())","v":{"$error":"#N/A"}},{"$f":"IF(Foglio1!$H$13 <> \"\", Foglio1!$H$13 + K958*10^-3, NA())","v":{"$error":"#N/A"}},8569,9.055906318669118,{"$f":" IF(Foglio1!$C$14 <> \"\", 8.314472*Foglio1!$C$14*Foglio2!N958, NA())","v":{"$error":"#N/A"}},{"$f":"IF(Foglio1!$H$14 <> \"\", Foglio1!$H$14 + O958*10^-3, NA())","v":{"$error":"#N/A"}},8569,9.055906318669118,{"$f":" IF(Foglio1!$C$15 <> \"\", 8.314472*Foglio1!$C$15*Foglio2!R958, NA())","v":{"$error":"#N/A"}},{"$f":"IF(Foglio1!$H$15 <> \"\", Foglio1!$H$15 + S958*10^-3, NA())","v":{"$error":"#N/A"}}]
[8578,9.0569560650768253,{"$f":" IF(Foglio1!$C$11 <> \"\", 8.314472*Foglio1!$C$11*Foglio2!B959, NA())","v":22591.142282493434},{"$f":"IF(Foglio1!$H$11 <> \"\", Foglio1!$H$11 + C959*10^-3, NA())","v":-67.408857717506564},8578,9.0569560650768253,{"$f":" IF(Foglio1!$C$12 <> \"\", 8.314472*Foglio1!$C$12*Foglio2!F959, NA())","v":{"$error":"#N/A"}},{"$f":"IF(Foglio1!$H$12 <> \"\", Foglio1!$H$12 + G959*10^-3, NA())","v":{"$error":"#N/A"}},8578,9.0569560650768253,{"$f":" IF(Foglio1!$C$13 <> \"\", 8.314472*Foglio1!$C$13*Foglio2!J959, NA())","v":{"$error":"#N/A"}},{"$f":"IF(Foglio1!$H$13 <> \"\", Foglio1!$H$13 + K959*10^-3, NA())","v":{"$error":"#N/A"}},8578,9.0569560650768253,{"$f":" IF(Foglio1!$C$14 <> \"\", 8.314472*Foglio1!$C$14*Foglio2!N959, NA())","v":{"$error":"#N/A"}},{"$f":"IF(Foglio1!$H$14 <> \"\", Foglio1!$H$14 + O959*10^-3, NA())","v":{"$error":"#N/A"}},8578,9.0569560650768253,{"$f":" IF(Foglio1!$C$15 <> \"\", 8.314472*Foglio1!$C$15*Foglio2!R959, NA())","v":{"$error":"#N/A"}},{"$f":"IF(Foglio1!$H$15 <> \"\", Foglio1!$H$15 + S959*10^-3, NA())","v":{"$error":"#N/A"}}]
[8587,9.0580047106724848,{"$f":" IF(Foglio1!$C$11 <> \"\", 8.314472*Foglio1!$C$11*Foglio2!B960, NA())","v":22593.757962826345},{"$f":"IF(Foglio1!$H$11 <> \"\", Foglio1!$H$11 + C960*10^-3, NA())","v":-67.406242037173655},8587,9.0580047106724848,{"$f":" IF(Foglio1!$C$12 <> \"\", 8.314472*Foglio1!$C$12*Foglio2!F960, NA())","v":{"$error":"#N/A"}},{"$f":"IF(Foglio1!$H$12 <> \"\", Foglio1!$H$12 + G960*10^-3, NA())","v":{"$error":"#N/A"}},8587,9.0580047106724848,{"$f":" IF(Foglio1!$C$13 <> \"\", 8.314472*Foglio1!$C$13*Foglio2!J960, NA())","v":{"$error":"#N/A"}},{"$f":"IF(Foglio1!$H$13 <> \"\", Foglio1!$H$13 + K960*10^-3, NA())","v":{"$error":"#N/A"}},8587,9.0580047106724848,{"$f":" IF(Foglio1!$C$14 <> \"\", 8.314472*Foglio1!$C$14*Foglio2!N960, NA())","v":{"$error":"#N/A"}},{"$f":"IF(Foglio1!$H$14 <> \"\", Foglio1!$H$14 + O960*10^-3, NA())","v":{"$error":"#N/A"}},8587,9.0580047106724848,{"$f":" IF(Foglio1!$C$15 <> \"\", 8.314472*Foglio1!$C$15*Foglio2!R960, NA())","v":{"$error":"#N/A"}},{"$f":"IF(Foglio1!$H$15 <> \"\", Foglio1!$H$15 + S960*10^-3, NA())","v":{"$error":"#N/A"}}]
[8596,9.0590522577624011,{"$f":" IF(Foglio1!$C$11 <> \"\", 8.314472*Foglio1!$C$11*Foglio2!B961, NA())","v":22596.370903110681},{"$f":"IF(Foglio1!$H$11 <> \"\", Foglio1!$H$11 + C961*10^-3, NA())","v":-67.403629096889318},8596,9.0590522577624011,{"$f":" IF(Foglio1!$C$12 <> \"\", 8.314472*Foglio1!$C$12*Foglio2!F961, NA())","v":{"$error":"#N/A"}},{"$f":"IF(Foglio1!$H$12 <> \"\", Foglio1!$H$12 + G961*10^-3, NA())","v":{"$error":"#N/A"}},8596,9.0590522577624011,{"$f":" IF(Foglio1!$C$13 <> \"\", 8.314472*Foglio1!$C$13*Foglio2!J961, NA())","v":{"$error":"#N/A"}},{"$f":"IF(Foglio1!$H$13 <> \"\", Foglio1!$H$13 + K961*10^-3, NA())","v":{"$error":"#N/A"}},8596,9.0590522577624011,{"$f":" IF(Foglio1!$C$14 <> \"\", 8.314472*Foglio1!$C$14*Foglio2!N961, NA())","v":{"$error":"#N/A"}},{"$f":"IF(Foglio1!$H$14 <> \"\", Foglio1!$H$14 + O961*10^-3, NA())","v":{"$error":"#N/A"}},8596,9.0590522577624011,{"$f":" IF(Foglio1!$C$15 <> \"\", 8.314472*Foglio1!$C$15*Foglio2!R961, NA())","v":{"$error":"#N/A"}},{"$f":"IF(Foglio1!$H$15 <> \"\", Foglio1!$H$15 + S961*10^-3, NA())","v":{"$error":"#N/A"}}]
[8605,9.0600987086456399,{"$f":" IF(Foglio1!$C$11 <> \"\", 8.314472*Foglio1!$C$11*Foglio2!B962, NA())","v":22598.981109081102},{"$f":"IF(Foglio1!$H$11 <> \"\", Foglio1!$H$11 + C962*10^-3, NA())","v":-67.401018890918891},8605,9.0600987086456399,{"$f":" IF(Foglio1!$C$12 <> \"\", 8.314472*Foglio1!$C$12*Foglio2!F962, NA())","v":{"$error":"#N/A"}},{"$f":"IF(Foglio1!$H$12 <> \"\", Foglio1!$H$12 + G962*10^-3, NA())","v":{"$error":"#N/A"}},8605,9.0600987086456399,{"$f":" IF(Foglio1!$C$13 <> \"\", 8.314472*Foglio1!$C$13*Foglio2!J962, NA())","v":{"$error":"#N/A"}},{"$f":"IF(Foglio1!$H$13 <> \"\", Foglio1!$H$13 + K962*10^-3, NA())","v":{"$error":"#N/A"}},8605,9.0600987086456399,{"$f":" IF(Foglio1!$C$14 <> \"\", 8.314472*Foglio1!$C$14*Foglio2!N962, NA())","v":{"$error":"#N/A"}},{"$f":"IF(Foglio1!$H$14 <> \"\", Foglio1!$H$14 + O962*10^-3, NA())","v":{"$error":"#N/A"}},8605,9.0600987086456399,{"$f":" IF(Foglio1!$C$15 <> \"\", 8.314472*Foglio1!$C$15*Foglio2!R962, NA())","v":{"$error":"#N/A"}},{"$f":"IF(Foglio1!$H$15 <> \"\", Foglio1!$H$15 + S962*10^-3, NA())","v":{"$error":"#N/A"}}]
[8614,{"$f":"LN(A963)","v":9.0611440656140552},{"$f":" IF(Foglio1!$C$11 <> \"\", 8.314472*Foglio1!$C$11*Foglio2!B963, NA())","v":22601.588586454269},{"$f":"IF(Foglio1!$H$11 <> \"\", Foglio1!$H$11 + C963*10^-3, NA())","v":-67.39841141354573},8614,{"$f":"LN(E963)","v":9.0611440656140552},{"$f":" IF(Foglio1!$C$12 <> \"\", 8.314472*Foglio1!$C$12*Foglio2!F963, NA())","v":{"$error":"#N/A"}},{"$f":"IF(Foglio1!$H$12 <> \"\", Foglio1!$H$12 + G963*10^-3, NA())","v":{"$error":"#N/A"}},8614,{"$f":"LN(I963)","v":9.0611440656140552},{"$f":" IF(Foglio1!$C$13 <> \"\", 8.314472*Foglio1!$C$13*Foglio2!J963, NA())","v":{"$error":"#N/A"}},{"$f":"IF(Foglio1!$H$13 <> \"\", Foglio1!$H$13 + K963*10^-3, NA())","v":{"$error":"#N/A"}},8614,{"$f":"LN(M963)","v":9.0611440656140552},{"$f":" IF(Foglio1!$C$14 <> \"\", 8.314472*Foglio1!$C$14*Foglio2!N963, NA())","v":{"$error":"#N/A"}},{"$f":"IF(Foglio1!$H$14 <> \"\", Foglio1!$H$14 + O963*10^-3, NA())","v":{"$error":"#N/A"}},8614,{"$f":"LN(Q963)","v":9.0611440656140552},{"$f":" IF(Foglio1!$C$15 <> \"\", 8.314472*Foglio1!$C$15*Foglio2!R963, NA())","v":{"$error":"#N/A"}},{"$f":"IF(Foglio1!$H$15 <> \"\", Foglio1!$H$15 + S963*10^-3, NA())","v":{"$error":"#N/A"}}]
[8623,9.0621883309523241,{"$f":" IF(Foglio1!$C$11 <> \"\", 8.314472*Foglio1!$C$11*Foglio2!B964, NA())","v":22604.193340928952},{"$f":"IF(Foglio1!$H$11 <> \"\", Foglio1!$H$11 + C964*10^-3, NA())","v":-67.395806659071042},8623,9.0621883309523241,{"$f":" IF(Foglio1!$C$12 <> \"\", 8.314472*Foglio1!$C$12*Foglio2!F964, NA())","v":{"$error":"#N/A"}},{"$f":"IF(Foglio1!$H$12 <> \"\", Foglio1!$H$12 + G964*10^-3, NA())","v":{"$error":"#N/A"}},8623,9.0621883309523241,{"$f":" IF(Foglio1!$C$13 <> \"\", 8.314472*Foglio1!$C$13*Foglio2!J964, NA())","v":{"$error":"#N/A"}},{"$f":"IF(Foglio1!$H$13 <> \"\", Foglio1!$H$13 + K964*10^-3, NA())","v":{"$error":"#N/A"}},8623,9.0621883309523241,{"$f":" IF(Foglio1!$C$14 <> \"\", 8.314472*Foglio1!$C$14*Foglio2!N964, NA())","v":{"$error":"#N/A"}},{"$f":"IF(Foglio1!$H$14 <> \"\", Foglio1!$H$14 + O964*10^-3, NA())","v":{"$error":"#N/A"}},8623,9.0621883309523241,{"$f":" IF(Foglio1!$C$15 <> \"\", 8.314472*Foglio1!$C$15*Foglio2!R964, NA())","v":{"$error":"#N/A"}},{"$f":"IF(Foglio1!$H$15 <> \"\", Foglio1!$H$15 + S964*10^-3, NA())","v":{"$error":"#N/A"}}]
[8632,9.0632315069379707,{"$f":" IF(Foglio1!$C$11 <> \"\", 8.314472*Foglio1!$C$11*Foglio2!B965, NA())","v":22606.795378186071},{"$f":"IF(Foglio1!$H$11 <> \"\", Foglio1!$H$11 + C965*10^-3, NA())","v":-67.393204621813936},8632,9.0632315069379707,{"$f":" IF(Foglio1!$C$12 <> \"\", 8.314472*Foglio1!$C$12*Foglio2!F965, NA())","v":{"$error":"#N/A"}},{"$f":"IF(Foglio1!$H$12 <> \"\", Foglio1!$H$12 + G965*10^-3, NA())","v":{"$error":"#N/A"}},8632,9.0632315069379707,{"$f":" IF(Foglio1!$C$13 <> \"\", 8.314472*Foglio1!$C$13*Foglio2!J965, NA())","v":{"$error":"#N/A"}},{"$f":"IF(Foglio1!$H$13 <> \"\", Foglio1!$H$13 + K965*10^-3, NA())","v":{"$error":"#N/A"}},8632,9.0632315069379707,{"$f":" IF(Foglio1!$C$14 <> \"\", 8.314472*Foglio1!$C$14*Foglio2!N965, NA())","v":{"$error":"#N/A"}},{"$f":"IF(Foglio1!$H$14 <> \"\", Foglio1!$H$14 + O965*10^-3, NA())","v":{"$error":"#N/A"}},8632,9.0632315069379707,{"$f":" IF(Foglio1!$C$15 <> \"\", 8.314472*Foglio1!$C$15*Foglio2!R965, NA())","v":{"$error":"#N/A"}},{"$f":"IF(Foglio1!$H$15 <> \"\", Foglio1!$H$15 + S965*10^-3, NA())","v":{"$error":"#N/A"}}]
[8641,9.0642735958413994,{"$f":" IF(Foglio1!$C$11 <> \"\", 8.314472*Foglio1!$C$11*Foglio2!B966, NA())","v":22609.394703888793},{"$f":"IF(Foglio1!$H$11 <> \"\", Foglio1!$H$11 + C966*10^-3, NA())","v":-67.390605296111204},8641,9.0642735958413994,{"$f":" IF(Foglio1!$C$12 <> \"\", 8.314472*Foglio1!$C$12*Foglio2!F966, NA())","v":{"$error":"#N/A"}},{"$f":"IF(Foglio1!$H$12 <> \"\", Foglio1!$H$12 + G966*10^-3, NA())","v":{"$error":"#N/A"}},8641,9.0642735958413994,{"$f":" IF(Foglio1!$C$13 <> \"\", 8.314472*Foglio1!$C$13*Foglio2!J966, NA())","v":{"$error":"#N/A"}},{"$f":"IF(Foglio1!$H$13 <> \"\", Foglio1!$H$13 + K966*10^-3, NA())","v":{"$error":"#N/A"}},8641,9.0642735958413994,{"$f":" IF(Foglio1!$C$14 <> \"\", 8.314472*Foglio1!$C$14*Foglio2!N966, NA())","v":{"$error":"#N/A"}},{"$f":"IF(Foglio1!$H$14 <> \"\", Foglio1!$H$14 + O966*10^-3, NA())","v":{"$error":"#N/A"}},8641,9.0642735958413994,{"$f":" IF(Foglio1!$C$15 <> \"\", 8.314472*Foglio1!$C$15*Foglio2!R966, NA())","v":{"$error":"#N/A"}},{"$f":"IF(Foglio1!$H$15 <> \"\", Foglio1!$H$15 + S966*10^-3, NA())","v":{"$error":"#N/A"}}]
[8650,9.0653145999259248,{"$f":" IF(Foglio1!$C$11 <> \"\", 8.314472*Foglio1!$C$11*Foglio2!B967, NA())","v":22611.991323682592},{"$f":"IF(Foglio1!$H$11 <> \"\", Foglio1!$H$11 + C967*10^-3, NA())","v":-67.388008676317412},8650,9.0653145999259248,{"$f":" IF(Foglio1!$C$12 <> \"\", 8.314472*Foglio1!$C$12*Foglio2!F967, NA())","v":{"$error":"#N/A"}},{"$f":"IF(Foglio1!$H$12 <> \"\", Foglio1!$H$12 + G967*10^-3, NA())","v":{"$error":"#N/A"}},8650,9.0653145999259248,{"$f":" IF(Foglio1!$C$13 <> \"\", 8.314472*Foglio1!$C$13*Foglio2!J967, NA())","v":{"$error":"#N/A"}},{"$f":"IF(Foglio1!$H$13 <> \"\", Foglio1!$H$13 + K967*10^-3, NA())","v":{"$error":"#N/A"}},8650,9.0653145999259248,{"$f":" IF(Foglio1!$C$14 <> \"\", 8.314472*Foglio1!$C$14*Foglio2!N967, NA())","v":{"$error":"#N/A"}},{"$f":"IF(Foglio1!$H$14 <> \"\", Foglio1!$H$14 + O967*10^-3, NA())","v":{"$error":"#N/A"}},8650,9.0653145999259248,{"$f":" IF(Foglio1!$C$15 <> \"\", 8.314472*Foglio1!$C$15*Foglio2!R967, NA())","v":{"$error":"#N/A"}},{"$f":"IF(Foglio1!$H$15 <> \"\", Foglio1!$H$15 + S967*10^-3, NA())","v":{"$error":"#N/A"}}]
[8659,9.066354521447801,{"$f":" IF(Foglio1!$C$11 <> \"\", 8.314472*Foglio1!$C$11*Foglio2!B968, NA())","v":22614.585243195343},{"$f":"IF(Foglio1!$H$11 <> \"\", Foglio1!$H$11 + C968*10^-3, NA())","v":-67.385414756804664},8659,9.066354521447801,{"$f":" IF(Foglio1!$C$12 <> \"\", 8.314472*Foglio1!$C$12*Foglio2!F968, NA())","v":{"$error":"#N/A"}},{"$f":"IF(Foglio1!$H$12 <> \"\", Foglio1!$H$12 + G968*10^-3, NA())","v":{"$error":"#N/A"}},8659,9.066354521447801,{"$f":" IF(Foglio1!$C$13 <> \"\", 8.314472*Foglio1!$C$13*Foglio2!J968, NA())","v":{"$error":"#N/A"}},{"$f":"IF(Foglio1!$H$13 <> \"\", Foglio1!$H$13 + K968*10^-3, NA())","v":{"$error":"#N/A"}},8659,9.066354521447801,{"$f":" IF(Foglio1!$C$14 <> \"\", 8.314472*Foglio1!$C$14*Foglio2!N968, NA())","v":{"$error":"#N/A"}},{"$f":"IF(Foglio1!$H$14 <> \"\", Foglio1!$H$14 + O968*10^-3, NA())","v":{"$error":"#N/A"}},8659,9.066354521447801,{"$f":" IF(Foglio1!$C$15 <> \"\", 8.314472*Foglio1!$C$15*Foglio2!R968, NA())","v":{"$error":"#N/A"}},{"$f":"IF(Foglio1!$H$15 <> \"\", Foglio1!$H$15 + S968*10^-3, NA())","v":{"$error":"#N/A"}}]
[8668,9.0673933626562491,{"$f":" IF(Foglio1!$C$11 <> \"\", 8.314472*Foglio1!$C$11*Foglio2!B969, NA())","v":22617.176468037371},{"$f":"IF(Foglio1!$H$11 <> \"\", Foglio1!$H$11 + C969*10^-3, NA())","v":-67.382823531962629},8668,9.0673933626562491,{"$f":" IF(Foglio1!$C$12 <> \"\", 8.314472*Foglio1!$C$12*Foglio2!F969, NA())","v":{"$error":"#N/A"}},{"$f":"IF(Foglio1!$H$12 <> \"\", Foglio1!$H$12 + G969*10^-3, NA())","v":{"$error":"#N/A"}},8668,9.0673933626562491,{"$f":" IF(Foglio1!$C$13 <> \"\", 8.314472*Foglio1!$C$13*Foglio2!J969, NA())","v":{"$error":"#N/A"}},{"$f":"IF(Foglio1!$H$13 <> \"\", Foglio1!$H$13 + K969*10^-3, NA())","v":{"$error":"#N/A"}},8668,9.0673933626562491,{"$f":" IF(Foglio1!$C$14 <> \"\", 8.314472*Foglio1!$C$14*Foglio2!N969, NA())","v":{"$error":"#N/A"}},{"$f":"IF(Foglio1!$H$14 <> \"\", Foglio1!$H$14 + O969*10^-3, NA())","v":{"$error":"#N/A"}},8668,9.0673933626562491,{"$f":" IF(Foglio1!$C$15 <> \"\", 8.314472*Foglio1!$C$15*Foglio2!R969, NA())","v":{"$error":"#N/A"}},{"$f":"IF(Foglio1!$H$15 <> \"\", Foglio1!$H$15 + S969*10^-3, NA())","v":{"$error":"#N/A"}}]
[8677,9.0684311257934898,{"$f":" IF(Foglio1!$C$11 <> \"\", 8.314472*Foglio1!$C$11*Foglio2!B970, NA())","v":22619.765003801538},{"$f":"IF(Foglio1!$H$11 <> \"\", Foglio1!$H$11 + C970*10^-3, NA())","v":-67.380234996198453},8677,9.0684311257934898,{"$f":" IF(Foglio1!$C$12 <> \"\", 8.314472*Foglio1!$C$12*Foglio2!F970, NA())","v":{"$error":"#N/A"}},{"$f":"IF(Foglio1!$H$12 <> \"\", Foglio1!$H$12 + G970*10^-3, NA())","v":{"$error":"#N/A"}},8677,9.0684311257934898,{"$f":" IF(Foglio1!$C$13 <> \"\", 8.314472*Foglio1!$C$13*Foglio2!J970, NA())","v":{"$error":"#N/A"}},{"$f":"IF(Foglio1!$H$13 <> \"\", Foglio1!$H$13 + K970*10^-3, NA())","v":{"$error":"#N/A"}},8677,9.0684311257934898,{"$f":" IF(Foglio1!$C$14 <> \"\", 8.314472*Foglio1!$C$14*Foglio2!N970, NA())","v":{"$error":"#N/A"}},{"$f":"IF(Foglio1!$H$14 <> \"\", Foglio1!$H$14 + O970*10^-3, NA())","v":{"$error":"#N/A"}},8677,9.0684311257934898,{"$f":" IF(Foglio1!$C$15 <> \"\", 8.314472*Foglio1!$C$15*Foglio2!R970, NA())","v":{"$error":"#N/A"}},{"$f":"IF(Foglio1!$H$15 <> \"\", Foglio1!$H$15 + S970*10^-3, NA())","v":{"$error":"#N/A"}}]
[8686,9.0694678130947679,{"$f":" IF(Foglio1!$C$11 <> \"\", 8.314472*Foglio1!$C$11*Foglio2!B971, NA())","v":22622.350856063305},{"$f":"IF(Foglio1!$H$11 <> \"\", Foglio1!$H$11 + C971*10^-3, NA())","v":-67.377649143936694},8686,9.0694678130947679,{"$f":" IF(Foglio1!$C$12 <> \"\", 8.314472*Foglio1!$C$12*Foglio2!F971, NA())","v":{"$error":"#N/A"}},{"$f":"IF(Foglio1!$H$12 <> \"\", Foglio1!$H$12 + G971*10^-3, NA())","v":{"$error":"#N/A"}},8686,9.0694678130947679,{"$f":" IF(Foglio1!$C$13 <> \"\", 8.314472*Foglio1!$C$13*Foglio2!J971, NA())","v":{"$error":"#N/A"}},{"$f":"IF(Foglio1!$H$13 <> \"\", Foglio1!$H$13 + K971*10^-3, NA())","v":{"$error":"#N/A"}},8686,9.0694678130947679,{"$f":" IF(Foglio1!$C$14 <> \"\", 8.314472*Foglio1!$C$14*Foglio2!N971, NA())","v":{"$error":"#N/A"}},{"$f":"IF(Foglio1!$H$14 <> \"\", Foglio1!$H$14 + O971*10^-3, NA())","v":{"$error":"#N/A"}},8686,9.0694678130947679,{"$f":" IF(Foglio1!$C$15 <> \"\", 8.314472*Foglio1!$C$15*Foglio2!R971, NA())","v":{"$error":"#N/A"}},{"$f":"IF(Foglio1!$H$15 <> \"\", Foglio1!$H$15 + S971*10^-3, NA())","v":{"$error":"#N/A"}}]
[8695,9.0705034267883828,{"$f":" IF(Foglio1!$C$11 <> \"\", 8.314472*Foglio1!$C$11*Foglio2!B972, NA())","v":22624.93403038082},{"$f":"IF(Foglio1!$H$11 <> \"\", Foglio1!$H$11 + C972*10^-3, NA())","v":-67.375065969619186},8695,9.0705034267883828,{"$f":" IF(Foglio1!$C$12 <> \"\", 8.314472*Foglio1!$C$12*Foglio2!F972, NA())","v":{"$error":"#N/A"}},{"$f":"IF(Foglio1!$H$12 <> \"\", Foglio1!$H$12 + G972*10^-3, NA())","v":{"$error":"#N/A"}},8695,9.0705034267883828,{"$f":" IF(Foglio1!$C$13 <> \"\", 8.314472*Foglio1!$C$13*Foglio2!J972, NA())","v":{"$error":"#N/A"}},{"$f":"IF(Foglio1!$H$13 <> \"\", Foglio1!$H$13 + K972*10^-3, NA())","v":{"$error":"#N/A"}},8695,9.0705034267883828,{"$f":" IF(Foglio1!$C$14 <> \"\", 8.314472*Foglio1!$C$14*Foglio2!N972, NA())","v":{"$error":"#N/A"}},{"$f":"IF(Foglio1!$H$14 <> \"\", Foglio1!$H$14 + O972*10^-3, NA())","v":{"$error":"#N/A"}},8695,9.0705034267883828,{"$f":" IF(Foglio1!$C$15 <> \"\", 8.314472*Foglio1!$C$15*Foglio2!R972, NA())","v":{"$error":"#N/A"}},{"$f":"IF(Foglio1!$H$15 <> \"\", Foglio1!$H$15 + S972*10^-3, NA())","v":{"$error":"#N/A"}}]
[8704,9.0715379690957239,{"$f":" IF(Foglio1!$C$11 <> \"\", 8.314472*Foglio1!$C$11*Foglio2!B973, NA())","v":22627.514532294979},{"$f":"IF(Foglio1!$H$11 <> \"\", Foglio1!$H$11 + C973*10^-3, NA())","v":-67.372485467705019},8704,9.0715379690957239,{"$f":" IF(Foglio1!$C$12 <> \"\", 8.314472*Foglio1!$C$12*Foglio2!F973, NA())","v":{"$error":"#N/A"}},{"$f":"IF(Foglio1!$H$12 <> \"\", Foglio1!$H$12 + G973*10^-3, NA())","v":{"$error":"#N/A"}},8704,9.0715379690957239,{"$f":" IF(Foglio1!$C$13 <> \"\", 8.314472*Foglio1!$C$13*Foglio2!J973, NA())","v":{"$error":"#N/A"}},{"$f":"IF(Foglio1!$H$13 <> \"\", Foglio1!$H$13 + K973*10^-3, NA())","v":{"$error":"#N/A"}},8704,9.0715379690957239,{"$f":" IF(Foglio1!$C$14 <> \"\", 8.314472*Foglio1!$C$14*Foglio2!N973, NA())","v":{"$error":"#N/A"}},{"$f":"IF(Foglio1!$H$14 <> \"\", Foglio1!$H$14 + O973*10^-3, NA())","v":{"$error":"#N/A"}},8704,9.0715379690957239,{"$f":" IF(Foglio1!$C$15 <> \"\", 8.314472*Foglio1!$C$15*Foglio2!R973, NA())","v":{"$error":"#N/A"}},{"$f":"IF(Foglio1!$H$15 <> \"\", Foglio1!$H$15 + S973*10^-3, NA())","v":{"$error":"#N/A"}}]
[8713,9.0725714422312862,{"$f":" IF(Foglio1!$C$11 <> \"\", 8.314472*Foglio1!$C$11*Foglio2!B974, NA())","v":22630.092367329496},{"$f":"IF(Foglio1!$H$11 <> \"\", Foglio1!$H$11 + C974*10^-3, NA())","v":-67.369907632670504},8713,9.0725714422312862,{"$f":" IF(Foglio1!$C$12 <> \"\", 8.314472*Foglio1!$C$12*Foglio2!F974, NA())","v":{"$error":"#N/A"}},{"$f":"IF(Foglio1!$H$12 <> \"\", Foglio1!$H$12 + G974*10^-3, NA())","v":{"$error":"#N/A"}},8713,9.0725714422312862,{"$f":" IF(Foglio1!$C$13 <> \"\", 8.314472*Foglio1!$C$13*Foglio2!J974, NA())","v":{"$error":"#N/A"}},{"$f":"IF(Foglio1!$H$13 <> \"\", Foglio1!$H$13 + K974*10^-3, NA())","v":{"$error":"#N/A"}},8713,9.0725714422312862,{"$f":" IF(Foglio1!$C$14 <> \"\", 8.314472*Foglio1!$C$14*Foglio2!N974, NA())","v":{"$error":"#N/A"}},{"$f":"IF(Foglio1!$H$14 <> \"\", Foglio1!$H$14 + O974*10^-3, NA())","v":{"$error":"#N/A"}},8713,9.0725714422312862,{"$f":" IF(Foglio1!$C$15 <> \"\", 8.314472*Foglio1!$C$15*Foglio2!R974, NA())","v":{"$error":"#N/A"}},{"$f":"IF(Foglio1!$H$15 <> \"\", Foglio1!$H$15 + S974*10^-3, NA())","v":{"$error":"#N/A"}}]
[8722,9.0736038484027119,{"$f":" IF(Foglio1!$C$11 <> \"\", 8.314472*Foglio1!$C$11*Foglio2!B975, NA())","v":22632.66754099098},{"$f":"IF(Foglio1!$H$11 <> \"\", Foglio1!$H$11 + C975*10^-3, NA())","v":-67.36733245900902},8722,9.0736038484027119,{"$f":" IF(Foglio1!$C$12 <> \"\", 8.314472*Foglio1!$C$12*Foglio2!F975, NA())","v":{"$error":"#N/A"}},{"$f":"IF(Foglio1!$H$12 <> \"\", Foglio1!$H$12 + G975*10^-3, NA())","v":{"$error":"#N/A"}},8722,9.0736038484027119,{"$f":" IF(Foglio1!$C$13 <> \"\", 8.314472*Foglio1!$C$13*Foglio2!J975, NA())","v":{"$error":"#N/A"}},{"$f":"IF(Foglio1!$H$13 <> \"\", Foglio1!$H$13 + K975*10^-3, NA())","v":{"$error":"#N/A"}},8722,9.0736038484027119,{"$f":" IF(Foglio1!$C$14 <> \"\", 8.314472*Foglio1!$C$14*Foglio2!N975, NA())","v":{"$error":"#N/A"}},{"$f":"IF(Foglio1!$H$14 <> \"\", Foglio1!$H$14 + O975*10^-3, NA())","v":{"$error":"#N/A"}},8722,9.0736038484027119,{"$f":" IF(Foglio1!$C$15 <> \"\", 8.314472*Foglio1!$C$15*Foglio2!R975, NA())","v":{"$error":"#N/A"}},{"$f":"IF(Foglio1!$H$15 <> \"\", Foglio1!$H$15 + S975*10^-3, NA())","v":{"$error":"#N/A"}}]
[8731,9.0746351898108077,{"$f":" IF(Foglio1!$C$11 <> \"\", 8.314472*Foglio1!$C$11*Foglio2!B976, NA())","v":22635.240058768995},{"$f":"IF(Foglio1!$H$11 <> \"\", Foglio1!$H$11 + C976*10^-3, NA())","v":-67.364759941231},8731,9.0746351898108077,{"$f":" IF(Foglio1!$C$12 <> \"\", 8.314472*Foglio1!$C$12*Foglio2!F976, NA())","v":{"$error":"#N/A"}},{"$f":"IF(Foglio1!$H$12 <> \"\", Foglio1!$H$12 + G976*10^-3, NA())","v":{"$error":"#N/A"}},8731,9.0746351898108077,{"$f":" IF(Foglio1!$C$13 <> \"\", 8.314472*Foglio1!$C$13*Foglio2!J976, NA())","v":{"$error":"#N/A"}},{"$f":"IF(Foglio1!$H$13 <> \"\", Foglio1!$H$13 + K976*10^-3, NA())","v":{"$error":"#N/A"}},8731,9.0746351898108077,{"$f":" IF(Foglio1!$C$14 <> \"\", 8.314472*Foglio1!$C$14*Foglio2!N976, NA())","v":{"$error":"#N/A"}},{"$f":"IF(Foglio1!$H$14 <> \"\", Foglio1!$H$14 + O976*10^-3, NA())","v":{"$error":"#N/A"}},8731,9.0746351898108077,{"$f":" IF(Foglio1!$C$15 <> \"\", 8.314472*Foglio1!$C$15*Foglio2!R976, NA())","v":{"$error":"#N/A"}},{"$f":"IF(Foglio1!$H$15 <> \"\", Foglio1!$H$15 + S976*10^-3, NA())","v":{"$error":"#N/A"}}]
[8740,9.0756654686495803,{"$f":" IF(Foglio1!$C$11 <> \"\", 8.314472*Foglio1!$C$11*Foglio2!B977, NA())","v":22637.809926136146},{"$f":"IF(Foglio1!$H$11 <> \"\", Foglio1!$H$11 + C977*10^-3, NA())","v":-67.362190073863857},8740,9.0756654686495803,{"$f":" IF(Foglio1!$C$12 <> \"\", 8.314472*Foglio1!$C$12*Foglio2!F977, NA())","v":{"$error":"#N/A"}},{"$f":"IF(Foglio1!$H$12 <> \"\", Foglio1!$H$12 + G977*10^-3, NA())","v":{"$error":"#N/A"}},8740,9.0756654686495803,{"$f":" IF(Foglio1!$C$13 <> \"\", 8.314472*Foglio1!$C$13*Foglio2!J977, NA())","v":{"$error":"#N/A"}},{"$f":"IF(Foglio1!$H$13 <> \"\", Foglio1!$H$13 + K977*10^-3, NA())","v":{"$error":"#N/A"}},8740,9.0756654686495803,{"$f":" IF(Foglio1!$C$14 <> \"\", 8.314472*Foglio1!$C$14*Foglio2!N977, NA())","v":{"$error":"#N/A"}},{"$f":"IF(Foglio1!$H$14 <> \"\", Foglio1!$H$14 + O977*10^-3, NA())","v":{"$error":"#N/A"}},8740,9.0756654686495803,{"$f":" IF(Foglio1!$C$15 <> \"\", 8.314472*Foglio1!$C$15*Foglio2!R977, NA())","v":{"$error":"#N/A"}},{"$f":"IF(Foglio1!$H$15 <> \"\", Foglio1!$H$15 + S977*10^-3, NA())","v":{"$error":"#N/A"}}]
[8749,9.076694687106265,{"$f":" IF(Foglio1!$C$11 <> \"\", 8.314472*Foglio1!$C$11*Foglio2!B978, NA())","v":22640.377148548141},{"$f":"IF(Foglio1!$H$11 <> \"\", Foglio1!$H$11 + C978*10^-3, NA())","v":-67.35962285145186},8749,9.076694687106265,{"$f":" IF(Foglio1!$C$12 <> \"\", 8.314472*Foglio1!$C$12*Foglio2!F978, NA())","v":{"$error":"#N/A"}},{"$f":"IF(Foglio1!$H$12 <> \"\", Foglio1!$H$12 + G978*10^-3, NA())","v":{"$error":"#N/A"}},8749,9.076694687106265,{"$f":" IF(Foglio1!$C$13 <> \"\", 8.314472*Foglio1!$C$13*Foglio2!J978, NA())","v":{"$error":"#N/A"}},{"$f":"IF(Foglio1!$H$13 <> \"\", Foglio1!$H$13 + K978*10^-3, NA())","v":{"$error":"#N/A"}},8749,9.076694687106265,{"$f":" IF(Foglio1!$C$14 <> \"\", 8.314472*Foglio1!$C$14*Foglio2!N978, NA())","v":{"$error":"#N/A"}},{"$f":"IF(Foglio1!$H$14 <> \"\", Foglio1!$H$14 + O978*10^-3, NA())","v":{"$error":"#N/A"}},8749,9.076694687106265,{"$f":" IF(Foglio1!$C$15 <> \"\", 8.314472*Foglio1!$C$15*Foglio2!R978, NA())","v":{"$error":"#N/A"}},{"$f":"IF(Foglio1!$H$15 <> \"\", Foglio1!$H$15 + S978*10^-3, NA())","v":{"$error":"#N/A"}}]
[8758,9.0777228473613434,{"$f":" IF(Foglio1!$C$11 <> \"\", 8.314472*Foglio1!$C$11*Foglio2!B979, NA())","v":22642.941731443851},{"$f":"IF(Foglio1!$H$11 <> \"\", Foglio1!$H$11 + C979*10^-3, NA())","v":-67.357058268556145},8758,9.0777228473613434,{"$f":" IF(Foglio1!$C$12 <> \"\", 8.314472*Foglio1!$C$12*Foglio2!F979, NA())","v":{"$error":"#N/A"}},{"$f":"IF(Foglio1!$H$12 <> \"\", Foglio1!$H$12 + G979*10^-3, NA())","v":{"$error":"#N/A"}},8758,9.0777228473613434,{"$f":" IF(Foglio1!$C$13 <> \"\", 8.314472*Foglio1!$C$13*Foglio2!J979, NA())","v":{"$error":"#N/A"}},{"$f":"IF(Foglio1!$H$13 <> \"\", Foglio1!$H$13 + K979*10^-3, NA())","v":{"$error":"#N/A"}},8758,9.0777228473613434,{"$f":" IF(Foglio1!$C$14 <> \"\", 8.314472*Foglio1!$C$14*Foglio2!N979, NA())","v":{"$error":"#N/A"}},{"$f":"IF(Foglio1!$H$14 <> \"\", Foglio1!$H$14 + O979*10^-3, NA())","v":{"$error":"#N/A"}},8758,9.0777228473613434,{"$f":" IF(Foglio1!$C$15 <> \"\", 8.314472*Foglio1!$C$15*Foglio2!R979, NA())","v":{"$error":"#N/A"}},{"$f":"IF(Foglio1!$H$15 <> \"\", Foglio1!$H$15 + S979*10^-3, NA())","v":{"$error":"#N/A"}}]
[8767,9.0787499515885859,{"$f":" IF(Foglio1!$C$11 <> \"\", 8.314472*Foglio1!$C$11*Foglio2!B980, NA())","v":22645.503680245398},{"$f":"IF(Foglio1!$H$11 <> \"\", Foglio1!$H$11 + C980*10^-3, NA())","v":-67.354496319754602},8767,9.0787499515885859,{"$f":" IF(Foglio1!$C$12 <> \"\", 8.314472*Foglio1!$C$12*Foglio2!F980, NA())","v":{"$error":"#N/A"}},{"$f":"IF(Foglio1!$H$12 <> \"\", Foglio1!$H$12 + G980*10^-3, NA())","v":{"$error":"#N/A"}},8767,9.0787499515885859,{"$f":" IF(Foglio1!$C$13 <> \"\", 8.314472*Foglio1!$C$13*Foglio2!J980, NA())","v":{"$error":"#N/A"}},{"$f":"IF(Foglio1!$H$13 <> \"\", Foglio1!$H$13 + K980*10^-3, NA())","v":{"$error":"#N/A"}},8767,9.0787499515885859,{"$f":" IF(Foglio1!$C$14 <> \"\", 8.314472*Foglio1!$C$14*Foglio2!N980, NA())","v":{"$error":"#N/A"}},{"$f":"IF(Foglio1!$H$14 <> \"\", Foglio1!$H$14 + O980*10^-3, NA())","v":{"$error":"#N/A"}},8767,9.0787499515885859,{"$f":" IF(Foglio1!$C$15 <> \"\", 8.314472*Foglio1!$C$15*Foglio2!R980, NA())","v":{"$error":"#N/A"}},{"$f":"IF(Foglio1!$H$15 <> \"\", Foglio1!$H$15 + S980*10^-3, NA())","v":{"$error":"#N/A"}}]
[8776,9.0797760019550662,{"$f":" IF(Foglio1!$C$11 <> \"\", 8.314472*Foglio1!$C$11*Foglio2!B981, NA())","v":22648.063000358205},{"$f":"IF(Foglio1!$H$11 <> \"\", Foglio1!$H$11 + C981*10^-3, NA())","v":-67.351936999641794},8776,9.0797760019550662,{"$f":" IF(Foglio1!$C$12 <> \"\", 8.314472*Foglio1!$C$12*Foglio2!F981, NA())","v":{"$error":"#N/A"}},{"$f":"IF(Foglio1!$H$12 <> \"\", Foglio1!$H$12 + G981*10^-3, NA())","v":{"$error":"#N/A"}},8776,9.0797760019550662,{"$f":" IF(Foglio1!$C$13 <> \"\", 8.314472*Foglio1!$C$13*Foglio2!J981, NA())","v":{"$error":"#N/A"}},{"$f":"IF(Foglio1!$H$13 <> \"\", Foglio1!$H$13 + K981*10^-3, NA())","v":{"$error":"#N/A"}},8776,9.0797760019550662,{"$f":" IF(Foglio1!$C$14 <> \"\", 8.314472*Foglio1!$C$14*Foglio2!N981, NA())","v":{"$error":"#N/A"}},{"$f":"IF(Foglio1!$H$14 <> \"\", Foglio1!$H$14 + O981*10^-3, NA())","v":{"$error":"#N/A"}},8776,9.0797760019550662,{"$f":" IF(Foglio1!$C$15 <> \"\", 8.314472*Foglio1!$C$15*Foglio2!R981, NA())","v":{"$error":"#N/A"}},{"$f":"IF(Foglio1!$H$15 <> \"\", Foglio1!$H$15 + S981*10^-3, NA())","v":{"$error":"#N/A"}}]
[8785,9.0808010006211983,{"$f":" IF(Foglio1!$C$11 <> \"\", 8.314472*Foglio1!$C$11*Foglio2!B982, NA())","v":22650.619697171081},{"$f":"IF(Foglio1!$H$11 <> \"\", Foglio1!$H$11 + C982*10^-3, NA())","v":-67.349380302828919},8785,9.0808010006211983,{"$f":" IF(Foglio1!$C$12 <> \"\", 8.314472*Foglio1!$C$12*Foglio2!F982, NA())","v":{"$error":"#N/A"}},{"$f":"IF(Foglio1!$H$12 <> \"\", Foglio1!$H$12 + G982*10^-3, NA())","v":{"$error":"#N/A"}},8785,9.0808010006211983,{"$f":" IF(Foglio1!$C$13 <> \"\", 8.314472*Foglio1!$C$13*Foglio2!J982, NA())","v":{"$error":"#N/A"}},{"$f":"IF(Foglio1!$H$13 <> \"\", Foglio1!$H$13 + K982*10^-3, NA())","v":{"$error":"#N/A"}},8785,9.0808010006211983,{"$f":" IF(Foglio1!$C$14 <> \"\", 8.314472*Foglio1!$C$14*Foglio2!N982, NA())","v":{"$error":"#N/A"}},{"$f":"IF(Foglio1!$H$14 <> \"\", Foglio1!$H$14 + O982*10^-3, NA())","v":{"$error":"#N/A"}},8785,9.0808010006211983,{"$f":" IF(Foglio1!$C$15 <> \"\", 8.314472*Foglio1!$C$15*Foglio2!R982, NA())","v":{"$error":"#N/A"}},{"$f":"IF(Foglio1!$H$15 <> \"\", Foglio1!$H$15 + S982*10^-3, NA())","v":{"$error":"#N/A"}}]
[8794,9.0818249497407546,{"$f":" IF(Foglio1!$C$11 <> \"\", 8.314472*Foglio1!$C$11*Foglio2!B983, NA())","v":22653.173776056276},{"$f":"IF(Foglio1!$H$11 <> \"\", Foglio1!$H$11 + C983*10^-3, NA())","v":-67.346826223943722},8794,9.0818249497407546,{"$f":" IF(Foglio1!$C$12 <> \"\", 8.314472*Foglio1!$C$12*Foglio2!F983, NA())","v":{"$error":"#N/A"}},{"$f":"IF(Foglio1!$H$12 <> \"\", Foglio1!$H$12 + G983*10^-3, NA())","v":{"$error":"#N/A"}},8794,9.0818249497407546,{"$f":" IF(Foglio1!$C$13 <> \"\", 8.314472*Foglio1!$C$13*Foglio2!J983, NA())","v":{"$error":"#N/A"}},{"$f":"IF(Foglio1!$H$13 <> \"\", Foglio1!$H$13 + K983*10^-3, NA())","v":{"$error":"#N/A"}},8794,9.0818249497407546,{"$f":" IF(Foglio1!$C$14 <> \"\", 8.314472*Foglio1!$C$14*Foglio2!N983, NA())","v":{"$error":"#N/A"}},{"$f":"IF(Foglio1!$H$14 <> \"\", Foglio1!$H$14 + O983*10^-3, NA())","v":{"$error":"#N/A"}},8794,9.0818249497407546,{"$f":" IF(Foglio1!$C$15 <> \"\", 8.314472*Foglio1!$C$15*Foglio2!R983, NA())","v":{"$error":"#N/A"}},{"$f":"IF(Foglio1!$H$15 <> \"\", Foglio1!$H$15 + S983*10^-3, NA())","v":{"$error":"#N/A"}}]
[8803,9.0828478514609063,{"$f":" IF(Foglio1!$C$11 <> \"\", 8.314472*Foglio1!$C$11*Foglio2!B984, NA())","v":22655.725242369561},{"$f":"IF(Foglio1!$H$11 <> \"\", Foglio1!$H$11 + C984*10^-3, NA())","v":-67.344274757630444},8803,9.0828478514609063,{"$f":" IF(Foglio1!$C$12 <> \"\", 8.314472*Foglio1!$C$12*Foglio2!F984, NA())","v":{"$error":"#N/A"}},{"$f":"IF(Foglio1!$H$12 <> \"\", Foglio1!$H$12 + G984*10^-3, NA())","v":{"$error":"#N/A"}},8803,9.0828478514609063,{"$f":" IF(Foglio1!$C$13 <> \"\", 8.314472*Foglio1!$C$13*Foglio2!J984, NA())","v":{"$error":"#N/A"}},{"$f":"IF(Foglio1!$H$13 <> \"\", Foglio1!$H$13 + K984*10^-3, NA())","v":{"$error":"#N/A"}},8803,9.0828478514609063,{"$f":" IF(Foglio1!$C$14 <> \"\", 8.314472*Foglio1!$C$14*Foglio2!N984, NA())","v":{"$error":"#N/A"}},{"$f":"IF(Foglio1!$H$14 <> \"\", Foglio1!$H$14 + O984*10^-3, NA())","v":{"$error":"#N/A"}},8803,9.0828478514609063,{"$f":" IF(Foglio1!$C$15 <> \"\", 8.314472*Foglio1!$C$15*Foglio2!R984, NA())","v":{"$error":"#N/A"}},{"$f":"IF(Foglio1!$H$15 <> \"\", Foglio1!$H$15 + S984*10^-3, NA())","v":{"$error":"#N/A"}}]
[8812,9.0838697079222346,{"$f":" IF(Foglio1!$C$11 <> \"\", 8.314472*Foglio1!$C$11*Foglio2!B985, NA())","v":22658.274101450283},{"$f":"IF(Foglio1!$H$11 <> \"\", Foglio1!$H$11 + C985*10^-3, NA())","v":-67.341725898549726},8812,9.0838697079222346,{"$f":" IF(Foglio1!$C$12 <> \"\", 8.314472*Foglio1!$C$12*Foglio2!F985, NA())","v":{"$error":"#N/A"}},{"$f":"IF(Foglio1!$H$12 <> \"\", Foglio1!$H$12 + G985*10^-3, NA())","v":{"$error":"#N/A"}},8812,9.0838697079222346,{"$f":" IF(Foglio1!$C$13 <> \"\", 8.314472*Foglio1!$C$13*Foglio2!J985, NA())","v":{"$error":"#N/A"}},{"$f":"IF(Foglio1!$H$13 <> \"\", Foglio1!$H$13 + K985*10^-3, NA())","v":{"$error":"#N/A"}},8812,9.0838697079222346,{"$f":" IF(Foglio1!$C$14 <> \"\", 8.314472*Foglio1!$C$14*Foglio2!N985, NA())","v":{"$error":"#N/A"}},{"$f":"IF(Foglio1!$H$14 <> \"\", Foglio1!$H$14 + O985*10^-3, NA())","v":{"$error":"#N/A"}},8812,9.0838697079222346,{"$f":" IF(Foglio1!$C$15 <> \"\", 8.314472*Foglio1!$C$15*Foglio2!R985, NA())","v":{"$error":"#N/A"}},{"$f":"IF(Foglio1!$H$15 <> \"\", Foglio1!$H$15 + S985*10^-3, NA())","v":{"$error":"#N/A"}}]
[8821,9.0848905212587674,{"$f":" IF(Foglio1!$C$11 <> \"\", 8.314472*Foglio1!$C$11*Foglio2!B986, NA())","v":22660.820358621429},{"$f":"IF(Foglio1!$H$11 <> \"\", Foglio1!$H$11 + C986*10^-3, NA())","v":-67.339179641378564},8821,9.0848905212587674,{"$f":" IF(Foglio1!$C$12 <> \"\", 8.314472*Foglio1!$C$12*Foglio2!F986, NA())","v":{"$error":"#N/A"}},{"$f":"IF(Foglio1!$H$12 <> \"\", Foglio1!$H$12 + G986*10^-3, NA())","v":{"$error":"#N/A"}},8821,9.0848905212587674,{"$f":" IF(Foglio1!$C$13 <> \"\", 8.314472*Foglio1!$C$13*Foglio2!J986, NA())","v":{"$error":"#N/A"}},{"$f":"IF(Foglio1!$H$13 <> \"\", Foglio1!$H$13 + K986*10^-3, NA())","v":{"$error":"#N/A"}},8821,9.0848905212587674,{"$f":" IF(Foglio1!$C$14 <> \"\", 8.314472*Foglio1!$C$14*Foglio2!N986, NA())","v":{"$error":"#N/A"}},{"$f":"IF(Foglio1!$H$14 <> \"\", Foglio1!$H$14 + O986*10^-3, NA())","v":{"$error":"#N/A"}},8821,9.0848905212587674,{"$f":" IF(Foglio1!$C$15 <> \"\", 8.314472*Foglio1!$C$15*Foglio2!R986, NA())","v":{"$error":"#N/A"}},{"$f":"IF(Foglio1!$H$15 <> \"\", Foglio1!$H$15 + S986*10^-3, NA())","v":{"$error":"#N/A"}}]
[8830,9.0859102935980065,{"$f":" IF(Foglio1!$C$11 <> \"\", 8.314472*Foglio1!$C$11*Foglio2!B987, NA())","v":22663.364019189725},{"$f":"IF(Foglio1!$H$11 <> \"\", Foglio1!$H$11 + C987*10^-3, NA())","v":-67.336635980810271},8830,9.0859102935980065,{"$f":" IF(Foglio1!$C$12 <> \"\", 8.314472*Foglio1!$C$12*Foglio2!F987, NA())","v":{"$error":"#N/A"}},{"$f":"IF(Foglio1!$H$12 <> \"\", Foglio1!$H$12 + G987*10^-3, NA())","v":{"$error":"#N/A"}},8830,9.0859102935980065,{"$f":" IF(Foglio1!$C$13 <> \"\", 8.314472*Foglio1!$C$13*Foglio2!J987, NA())","v":{"$error":"#N/A"}},{"$f":"IF(Foglio1!$H$13 <> \"\", Foglio1!$H$13 + K987*10^-3, NA())","v":{"$error":"#N/A"}},8830,9.0859102935980065,{"$f":" IF(Foglio1!$C$14 <> \"\", 8.314472*Foglio1!$C$14*Foglio2!N987, NA())","v":{"$error":"#N/A"}},{"$f":"IF(Foglio1!$H$14 <> \"\", Foglio1!$H$14 + O987*10^-3, NA())","v":{"$error":"#N/A"}},8830,9.0859102935980065,{"$f":" IF(Foglio1!$C$15 <> \"\", 8.314472*Foglio1!$C$15*Foglio2!R987, NA())","v":{"$error":"#N/A"}},{"$f":"IF(Foglio1!$H$15 <> \"\", Foglio1!$H$15 + S987*10^-3, NA())","v":{"$error":"#N/A"}}]
[8839,9.0869290270609486,{"$f":" IF(Foglio1!$C$11 <> \"\", 8.314472*Foglio1!$C$11*Foglio2!B988, NA())","v":22665.905088445652},{"$f":"IF(Foglio1!$H$11 <> \"\", Foglio1!$H$11 + C988*10^-3, NA())","v":-67.334094911554345},8839,9.0869290270609486,{"$f":" IF(Foglio1!$C$12 <> \"\", 8.314472*Foglio1!$C$12*Foglio2!F988, NA())","v":{"$error":"#N/A"}},{"$f":"IF(Foglio1!$H$12 <> \"\", Foglio1!$H$12 + G988*10^-3, NA())","v":{"$error":"#N/A"}},8839,9.0869290270609486,{"$f":" IF(Foglio1!$C$13 <> \"\", 8.314472*Foglio1!$C$13*Foglio2!J988, NA())","v":{"$error":"#N/A"}},{"$f":"IF(Foglio1!$H$13 <> \"\", Foglio1!$H$13 + K988*10^-3, NA())","v":{"$error":"#N/A"}},8839,9.0869290270609486,{"$f":" IF(Foglio1!$C$14 <> \"\", 8.314472*Foglio1!$C$14*Foglio2!N988, NA())","v":{"$error":"#N/A"}},{"$f":"IF(Foglio1!$H$14 <> \"\", Foglio1!$H$14 + O988*10^-3, NA())","v":{"$error":"#N/A"}},8839,9.0869290270609486,{"$f":" IF(Foglio1!$C$15 <> \"\", 8.314472*Foglio1!$C$15*Foglio2!R988, NA())","v":{"$error":"#N/A"}},{"$f":"IF(Foglio1!$H$15 <> \"\", Foglio1!$H$15 + S988*10^-3, NA())","v":{"$error":"#N/A"}}]
[8848,9.0879467237621157,{"$f":" IF(Foglio1!$C$11 <> \"\", 8.314472*Foglio1!$C$11*Foglio2!B989, NA())","v":22668.443571663556},{"$f":"IF(Foglio1!$H$11 <> \"\", Foglio1!$H$11 + C989*10^-3, NA())","v":-67.331556428336441},8848,9.0879467237621157,{"$f":" IF(Foglio1!$C$12 <> \"\", 8.314472*Foglio1!$C$12*Foglio2!F989, NA())","v":{"$error":"#N/A"}},{"$f":"IF(Foglio1!$H$12 <> \"\", Foglio1!$H$12 + G989*10^-3, NA())","v":{"$error":"#N/A"}},8848,9.0879467237621157,{"$f":" IF(Foglio1!$C$13 <> \"\", 8.314472*Foglio1!$C$13*Foglio2!J989, NA())","v":{"$error":"#N/A"}},{"$f":"IF(Foglio1!$H$13 <> \"\", Foglio1!$H$13 + K989*10^-3, NA())","v":{"$error":"#N/A"}},8848,9.0879467237621157,{"$f":" IF(Foglio1!$C$14 <> \"\", 8.314472*Foglio1!$C$14*Foglio2!N989, NA())","v":{"$error":"#N/A"}},{"$f":"IF(Foglio1!$H$14 <> \"\", Foglio1!$H$14 + O989*10^-3, NA())","v":{"$error":"#N/A"}},8848,9.0879467237621157,{"$f":" IF(Foglio1!$C$15 <> \"\", 8.314472*Foglio1!$C$15*Foglio2!R989, NA())","v":{"$error":"#N/A"}},{"$f":"IF(Foglio1!$H$15 <> \"\", Foglio1!$H$15 + S989*10^-3, NA())","v":{"$error":"#N/A"}}]
[8857,9.0889633858095831,{"$f":" IF(Foglio1!$C$11 <> \"\", 8.314472*Foglio1!$C$11*Foglio2!B990, NA())","v":22670.979474101696},{"$f":"IF(Foglio1!$H$11 <> \"\", Foglio1!$H$11 + C990*10^-3, NA())","v":-67.329020525898301},8857,9.0889633858095831,{"$f":" IF(Foglio1!$C$12 <> \"\", 8.314472*Foglio1!$C$12*Foglio2!F990, NA())","v":{"$error":"#N/A"}},{"$f":"IF(Foglio1!$H$12 <> \"\", Foglio1!$H$12 + G990*10^-3, NA())","v":{"$error":"#N/A"}},8857,9.0889633858095831,{"$f":" IF(Foglio1!$C$13 <> \"\", 8.314472*Foglio1!$C$13*Foglio2!J990, NA())","v":{"$error":"#N/A"}},{"$f":"IF(Foglio1!$H$13 <> \"\", Foglio1!$H$13 + K990*10^-3, NA())","v":{"$error":"#N/A"}},8857,9.0889633858095831,{"$f":" IF(Foglio1!$C$14 <> \"\", 8.314472*Foglio1!$C$14*Foglio2!N990, NA())","v":{"$error":"#N/A"}},{"$f":"IF(Foglio1!$H$14 <> \"\", Foglio1!$H$14 + O990*10^-3, NA())","v":{"$error":"#N/A"}},8857,9.0889633858095831,{"$f":" IF(Foglio1!$C$15 <> \"\", 8.314472*Foglio1!$C$15*Foglio2!R990, NA())","v":{"$error":"#N/A"}},{"$f":"IF(Foglio1!$H$15 <> \"\", Foglio1!$H$15 + S990*10^-3, NA())","v":{"$error":"#N/A"}}]
[8866,9.0899790153049995,{"$f":" IF(Foglio1!$C$11 <> \"\", 8.314472*Foglio1!$C$11*Foglio2!B991, NA())","v":22673.5128010023},{"$f":"IF(Foglio1!$H$11 <> \"\", Foglio1!$H$11 + C991*10^-3, NA())","v":-67.326487198997697},8866,9.0899790153049995,{"$f":" IF(Foglio1!$C$12 <> \"\", 8.314472*Foglio1!$C$12*Foglio2!F991, NA())","v":{"$error":"#N/A"}},{"$f":"IF(Foglio1!$H$12 <> \"\", Foglio1!$H$12 + G991*10^-3, NA())","v":{"$error":"#N/A"}},8866,9.0899790153049995,{"$f":" IF(Foglio1!$C$13 <> \"\", 8.314472*Foglio1!$C$13*Foglio2!J991, NA())","v":{"$error":"#N/A"}},{"$f":"IF(Foglio1!$H$13 <> \"\", Foglio1!$H$13 + K991*10^-3, NA())","v":{"$error":"#N/A"}},8866,9.0899790153049995,{"$f":" IF(Foglio1!$C$14 <> \"\", 8.314472*Foglio1!$C$14*Foglio2!N991, NA())","v":{"$error":"#N/A"}},{"$f":"IF(Foglio1!$H$14 <> \"\", Foglio1!$H$14 + O991*10^-3, NA())","v":{"$error":"#N/A"}},8866,9.0899790153049995,{"$f":" IF(Foglio1!$C$15 <> \"\", 8.314472*Foglio1!$C$15*Foglio2!R991, NA())","v":{"$error":"#N/A"}},{"$f":"IF(Foglio1!$H$15 <> \"\", Foglio1!$H$15 + S991*10^-3, NA())","v":{"$error":"#N/A"}}]
[8875,9.090993614343617,{"$f":" IF(Foglio1!$C$11 <> \"\", 8.314472*Foglio1!$C$11*Foglio2!B992, NA())","v":22676.043557591642},{"$f":"IF(Foglio1!$H$11 <> \"\", Foglio1!$H$11 + C992*10^-3, NA())","v":-67.32395644240836},8875,9.090993614343617,{"$f":" IF(Foglio1!$C$12 <> \"\", 8.314472*Foglio1!$C$12*Foglio2!F992, NA())","v":{"$error":"#N/A"}},{"$f":"IF(Foglio1!$H$12 <> \"\", Foglio1!$H$12 + G992*10^-3, NA())","v":{"$error":"#N/A"}},8875,9.090993614343617,{"$f":" IF(Foglio1!$C$13 <> \"\", 8.314472*Foglio1!$C$13*Foglio2!J992, NA())","v":{"$error":"#N/A"}},{"$f":"IF(Foglio1!$H$13 <> \"\", Foglio1!$H$13 + K992*10^-3, NA())","v":{"$error":"#N/A"}},8875,9.090993614343617,{"$f":" IF(Foglio1!$C$14 <> \"\", 8.314472*Foglio1!$C$14*Foglio2!N992, NA())","v":{"$error":"#N/A"}},{"$f":"IF(Foglio1!$H$14 <> \"\", Foglio1!$H$14 + O992*10^-3, NA())","v":{"$error":"#N/A"}},8875,9.090993614343617,{"$f":" IF(Foglio1!$C$15 <> \"\", 8.314472*Foglio1!$C$15*Foglio2!R992, NA())","v":{"$error":"#N/A"}},{"$f":"IF(Foglio1!$H$15 <> \"\", Foglio1!$H$15 + S992*10^-3, NA())","v":{"$error":"#N/A"}}]
[8884,9.0920071850143174,{"$f":" IF(Foglio1!$C$11 <> \"\", 8.314472*Foglio1!$C$11*Foglio2!B993, NA())","v":22678.571749080111},{"$f":"IF(Foglio1!$H$11 <> \"\", Foglio1!$H$11 + C993*10^-3, NA())","v":-67.321428250919894},8884,9.0920071850143174,{"$f":" IF(Foglio1!$C$12 <> \"\", 8.314472*Foglio1!$C$12*Foglio2!F993, NA())","v":{"$error":"#N/A"}},{"$f":"IF(Foglio1!$H$12 <> \"\", Foglio1!$H$12 + G993*10^-3, NA())","v":{"$error":"#N/A"}},8884,9.0920071850143174,{"$f":" IF(Foglio1!$C$13 <> \"\", 8.314472*Foglio1!$C$13*Foglio2!J993, NA())","v":{"$error":"#N/A"}},{"$f":"IF(Foglio1!$H$13 <> \"\", Foglio1!$H$13 + K993*10^-3, NA())","v":{"$error":"#N/A"}},8884,9.0920071850143174,{"$f":" IF(Foglio1!$C$14 <> \"\", 8.314472*Foglio1!$C$14*Foglio2!N993, NA())","v":{"$error":"#N/A"}},{"$f":"IF(Foglio1!$H$14 <> \"\", Foglio1!$H$14 + O993*10^-3, NA())","v":{"$error":"#N/A"}},8884,9.0920071850143174,{"$f":" IF(Foglio1!$C$15 <> \"\", 8.314472*Foglio1!$C$15*Foglio2!R993, NA())","v":{"$error":"#N/A"}},{"$f":"IF(Foglio1!$H$15 <> \"\", Foglio1!$H$15 + S993*10^-3, NA())","v":{"$error":"#N/A"}}]
[8893,9.0930197293996393,{"$f":" IF(Foglio1!$C$11 <> \"\", 8.314472*Foglio1!$C$11*Foglio2!B994, NA())","v":22681.097380662264},{"$f":"IF(Foglio1!$H$11 <> \"\", Foglio1!$H$11 + C994*10^-3, NA())","v":-67.318902619337734},8893,9.0930197293996393,{"$f":" IF(Foglio1!$C$12 <> \"\", 8.314472*Foglio1!$C$12*Foglio2!F994, NA())","v":{"$error":"#N/A"}},{"$f":"IF(Foglio1!$H$12 <> \"\", Foglio1!$H$12 + G994*10^-3, NA())","v":{"$error":"#N/A"}},8893,9.0930197293996393,{"$f":" IF(Foglio1!$C$13 <> \"\", 8.314472*Foglio1!$C$13*Foglio2!J994, NA())","v":{"$error":"#N/A"}},{"$f":"IF(Foglio1!$H$13 <> \"\", Foglio1!$H$13 + K994*10^-3, NA())","v":{"$error":"#N/A"}},8893,9.0930197293996393,{"$f":" IF(Foglio1!$C$14 <> \"\", 8.314472*Foglio1!$C$14*Foglio2!N994, NA())","v":{"$error":"#N/A"}},{"$f":"IF(Foglio1!$H$14 <> \"\", Foglio1!$H$14 + O994*10^-3, NA())","v":{"$error":"#N/A"}},8893,9.0930197293996393,{"$f":" IF(Foglio1!$C$15 <> \"\", 8.314472*Foglio1!$C$15*Foglio2!R994, NA())","v":{"$error":"#N/A"}},{"$f":"IF(Foglio1!$H$15 <> \"\", Foglio1!$H$15 + S994*10^-3, NA())","v":{"$error":"#N/A"}}]
[8902,9.0940312495757993,{"$f":" IF(Foglio1!$C$11 <> \"\", 8.314472*Foglio1!$C$11*Foglio2!B995, NA())","v":22683.620457516899},{"$f":"IF(Foglio1!$H$11 <> \"\", Foglio1!$H$11 + C995*10^-3, NA())","v":-67.316379542483105},8902,9.0940312495757993,{"$f":" IF(Foglio1!$C$12 <> \"\", 8.314472*Foglio1!$C$12*Foglio2!F995, NA())","v":{"$error":"#N/A"}},{"$f":"IF(Foglio1!$H$12 <> \"\", Foglio1!$H$12 + G995*10^-3, NA())","v":{"$error":"#N/A"}},8902,9.0940312495757993,{"$f":" IF(Foglio1!$C$13 <> \"\", 8.314472*Foglio1!$C$13*Foglio2!J995, NA())","v":{"$error":"#N/A"}},{"$f":"IF(Foglio1!$H$13 <> \"\", Foglio1!$H$13 + K995*10^-3, NA())","v":{"$error":"#N/A"}},8902,9.0940312495757993,{"$f":" IF(Foglio1!$C$14 <> \"\", 8.314472*Foglio1!$C$14*Foglio2!N995, NA())","v":{"$error":"#N/A"}},{"$f":"IF(Foglio1!$H$14 <> \"\", Foglio1!$H$14 + O995*10^-3, NA())","v":{"$error":"#N/A"}},8902,9.0940312495757993,{"$f":" IF(Foglio1!$C$15 <> \"\", 8.314472*Foglio1!$C$15*Foglio2!R995, NA())","v":{"$error":"#N/A"}},{"$f":"IF(Foglio1!$H$15 <> \"\", Foglio1!$H$15 + S995*10^-3, NA())","v":{"$error":"#N/A"}}]
[8911,9.0950417476127203,{"$f":" IF(Foglio1!$C$11 <> \"\", 8.314472*Foglio1!$C$11*Foglio2!B996, NA())","v":22686.140984807113},{"$f":"IF(Foglio1!$H$11 <> \"\", Foglio1!$H$11 + C996*10^-3, NA())","v":-67.31385901519289},8911,9.0950417476127203,{"$f":" IF(Foglio1!$C$12 <> \"\", 8.314472*Foglio1!$C$12*Foglio2!F996, NA())","v":{"$error":"#N/A"}},{"$f":"IF(Foglio1!$H$12 <> \"\", Foglio1!$H$12 + G996*10^-3, NA())","v":{"$error":"#N/A"}},8911,9.0950417476127203,{"$f":" IF(Foglio1!$C$13 <> \"\", 8.314472*Foglio1!$C$13*Foglio2!J996, NA())","v":{"$error":"#N/A"}},{"$f":"IF(Foglio1!$H$13 <> \"\", Foglio1!$H$13 + K996*10^-3, NA())","v":{"$error":"#N/A"}},8911,9.0950417476127203,{"$f":" IF(Foglio1!$C$14 <> \"\", 8.314472*Foglio1!$C$14*Foglio2!N996, NA())","v":{"$error":"#N/A"}},{"$f":"IF(Foglio1!$H$14 <> \"\", Foglio1!$H$14 + O996*10^-3, NA())","v":{"$error":"#N/A"}},8911,9.0950417476127203,{"$f":" IF(Foglio1!$C$15 <> \"\", 8.314472*Foglio1!$C$15*Foglio2!R996, NA())","v":{"$error":"#N/A"}},{"$f":"IF(Foglio1!$H$15 <> \"\", Foglio1!$H$15 + S996*10^-3, NA())","v":{"$error":"#N/A"}}]
[8920,9.0960512255740547,{"$f":" IF(Foglio1!$C$11 <> \"\", 8.314472*Foglio1!$C$11*Foglio2!B997, NA())","v":22688.658967680349},{"$f":"IF(Foglio1!$H$11 <> \"\", Foglio1!$H$11 + C997*10^-3, NA())","v":-67.311341032319646},8920,9.0960512255740547,{"$f":" IF(Foglio1!$C$12 <> \"\", 8.314472*Foglio1!$C$12*Foglio2!F997, NA())","v":{"$error":"#N/A"}},{"$f":"IF(Foglio1!$H$12 <> \"\", Foglio1!$H$12 + G997*10^-3, NA())","v":{"$error":"#N/A"}},8920,9.0960512255740547,{"$f":" IF(Foglio1!$C$13 <> \"\", 8.314472*Foglio1!$C$13*Foglio2!J997, NA())","v":{"$error":"#N/A"}},{"$f":"IF(Foglio1!$H$13 <> \"\", Foglio1!$H$13 + K997*10^-3, NA())","v":{"$error":"#N/A"}},8920,9.0960512255740547,{"$f":" IF(Foglio1!$C$14 <> \"\", 8.314472*Foglio1!$C$14*Foglio2!N997, NA())","v":{"$error":"#N/A"}},{"$f":"IF(Foglio1!$H$14 <> \"\", Foglio1!$H$14 + O997*10^-3, NA())","v":{"$error":"#N/A"}},8920,9.0960512255740547,{"$f":" IF(Foglio1!$C$15 <> \"\", 8.314472*Foglio1!$C$15*Foglio2!R997, NA())","v":{"$error":"#N/A"}},{"$f":"IF(Foglio1!$H$15 <> \"\", Foglio1!$H$15 + S997*10^-3, NA())","v":{"$error":"#N/A"}}]
[8929,9.0970596855172161,{"$f":" IF(Foglio1!$C$11 <> \"\", 8.314472*Foglio1!$C$11*Foglio2!B998, NA())","v":22691.174411268512},{"$f":"IF(Foglio1!$H$11 <> \"\", Foglio1!$H$11 + C998*10^-3, NA())","v":-67.30882558873148},8929,9.0970596855172161,{"$f":" IF(Foglio1!$C$12 <> \"\", 8.314472*Foglio1!$C$12*Foglio2!F998, NA())","v":{"$error":"#N/A"}},{"$f":"IF(Foglio1!$H$12 <> \"\", Foglio1!$H$12 + G998*10^-3, NA())","v":{"$error":"#N/A"}},8929,9.0970596855172161,{"$f":" IF(Foglio1!$C$13 <> \"\", 8.314472*Foglio1!$C$13*Foglio2!J998, NA())","v":{"$error":"#N/A"}},{"$f":"IF(Foglio1!$H$13 <> \"\", Foglio1!$H$13 + K998*10^-3, NA())","v":{"$error":"#N/A"}},8929,9.0970596855172161,{"$f":" IF(Foglio1!$C$14 <> \"\", 8.314472*Foglio1!$C$14*Foglio2!N998, NA())","v":{"$error":"#N/A"}},{"$f":"IF(Foglio1!$H$14 <> \"\", Foglio1!$H$14 + O998*10^-3, NA())","v":{"$error":"#N/A"}},8929,9.0970596855172161,{"$f":" IF(Foglio1!$C$15 <> \"\", 8.314472*Foglio1!$C$15*Foglio2!R998, NA())","v":{"$error":"#N/A"}},{"$f":"IF(Foglio1!$H$15 <> \"\", Foglio1!$H$15 + S998*10^-3, NA())","v":{"$error":"#N/A"}}]
[8938,9.0980671294933977,{"$f":" IF(Foglio1!$C$11 <> \"\", 8.314472*Foglio1!$C$11*Foglio2!B999, NA())","v":22693.687320687972},{"$f":"IF(Foglio1!$H$11 <> \"\", Foglio1!$H$11 + C999*10^-3, NA())","v":-67.306312679312029},8938,9.0980671294933977,{"$f":" IF(Foglio1!$C$12 <> \"\", 8.314472*Foglio1!$C$12*Foglio2!F999, NA())","v":{"$error":"#N/A"}},{"$f":"IF(Foglio1!$H$12 <> \"\", Foglio1!$H$12 + G999*10^-3, NA())","v":{"$error":"#N/A"}},8938,9.0980671294933977,{"$f":" IF(Foglio1!$C$13 <> \"\", 8.314472*Foglio1!$C$13*Foglio2!J999, NA())","v":{"$error":"#N/A"}},{"$f":"IF(Foglio1!$H$13 <> \"\", Foglio1!$H$13 + K999*10^-3, NA())","v":{"$error":"#N/A"}},8938,9.0980671294933977,{"$f":" IF(Foglio1!$C$14 <> \"\", 8.314472*Foglio1!$C$14*Foglio2!N999, NA())","v":{"$error":"#N/A"}},{"$f":"IF(Foglio1!$H$14 <> \"\", Foglio1!$H$14 + O999*10^-3, NA())","v":{"$error":"#N/A"}},8938,9.0980671294933977,{"$f":" IF(Foglio1!$C$15 <> \"\", 8.314472*Foglio1!$C$15*Foglio2!R999, NA())","v":{"$error":"#N/A"}},{"$f":"IF(Foglio1!$H$15 <> \"\", Foglio1!$H$15 + S999*10^-3, NA())","v":{"$error":"#N/A"}}]
[8947,9.0990735595475964,{"$f":" IF(Foglio1!$C$11 <> \"\", 8.314472*Foglio1!$C$11*Foglio2!B1000, NA())","v":22696.197701039648},{"$f":"IF(Foglio1!$H$11 <> \"\", Foglio1!$H$11 + C1000*10^-3, NA())","v":-67.303802298960349},8947,9.0990735595475964,{"$f":" IF(Foglio1!$C$12 <> \"\", 8.314472*Foglio1!$C$12*Foglio2!F1000, NA())","v":{"$error":"#N/A"}},{"$f":"IF(Foglio1!$H$12 <> \"\", Foglio1!$H$12 + G1000*10^-3, NA())","v":{"$error":"#N/A"}},8947,9.0990735595475964,{"$f":" IF(Foglio1!$C$13 <> \"\", 8.314472*Foglio1!$C$13*Foglio2!J1000, NA())","v":{"$error":"#N/A"}},{"$f":"IF(Foglio1!$H$13 <> \"\", Foglio1!$H$13 + K1000*10^-3, NA())","v":{"$error":"#N/A"}},8947,9.0990735595475964,{"$f":" IF(Foglio1!$C$14 <> \"\", 8.314472*Foglio1!$C$14*Foglio2!N1000, NA())","v":{"$error":"#N/A"}},{"$f":"IF(Foglio1!$H$14 <> \"\", Foglio1!$H$14 + O1000*10^-3, NA())","v":{"$error":"#N/A"}},8947,9.0990735595475964,{"$f":" IF(Foglio1!$C$15 <> \"\", 8.314472*Foglio1!$C$15*Foglio2!R1000, NA())","v":{"$error":"#N/A"}},{"$f":"IF(Foglio1!$H$15 <> \"\", Foglio1!$H$15 + S1000*10^-3, NA())","v":{"$error":"#N/A"}}]
[8956,9.1000789777186455,{"$f":" IF(Foglio1!$C$11 <> \"\", 8.314472*Foglio1!$C$11*Foglio2!B1001, NA())","v":22698.705557409092},{"$f":"IF(Foglio1!$H$11 <> \"\", Foglio1!$H$11 + C1001*10^-3, NA())","v":-67.301294442590915},8956,9.1000789777186455,{"$f":" IF(Foglio1!$C$12 <> \"\", 8.314472*Foglio1!$C$12*Foglio2!F1001, NA())","v":{"$error":"#N/A"}},{"$f":"IF(Foglio1!$H$12 <> \"\", Foglio1!$H$12 + G1001*10^-3, NA())","v":{"$error":"#N/A"}},8956,9.1000789777186455,{"$f":" IF(Foglio1!$C$13 <> \"\", 8.314472*Foglio1!$C$13*Foglio2!J1001, NA())","v":{"$error":"#N/A"}},{"$f":"IF(Foglio1!$H$13 <> \"\", Foglio1!$H$13 + K1001*10^-3, NA())","v":{"$error":"#N/A"}},8956,9.1000789777186455,{"$f":" IF(Foglio1!$C$14 <> \"\", 8.314472*Foglio1!$C$14*Foglio2!N1001, NA())","v":{"$error":"#N/A"}},{"$f":"IF(Foglio1!$H$14 <> \"\", Foglio1!$H$14 + O1001*10^-3, NA())","v":{"$error":"#N/A"}},8956,9.1000789777186455,{"$f":" IF(Foglio1!$C$15 <> \"\", 8.314472*Foglio1!$C$15*Foglio2!R1001, NA())","v":{"$error":"#N/A"}},{"$f":"IF(Foglio1!$H$15 <> \"\", Foglio1!$H$15 + S1001*10^-3, NA())","v":{"$error":"#N/A"}}]
[8965,9.1010833860392335,{"$f":" IF(Foglio1!$C$11 <> \"\", 8.314472*Foglio1!$C$11*Foglio2!B1002, NA())","v":22701.210894866523},{"$f":"IF(Foglio1!$H$11 <> \"\", Foglio1!$H$11 + C1002*10^-3, NA())","v":-67.29878910513348},8965,9.1010833860392335,{"$f":" IF(Foglio1!$C$12 <> \"\", 8.314472*Foglio1!$C$12*Foglio2!F1002, NA())","v":{"$error":"#N/A"}},{"$f":"IF(Foglio1!$H$12 <> \"\", Foglio1!$H$12 + G1002*10^-3, NA())","v":{"$error":"#N/A"}},8965,9.1010833860392335,{"$f":" IF(Foglio1!$C$13 <> \"\", 8.314472*Foglio1!$C$13*Foglio2!J1002, NA())","v":{"$error":"#N/A"}},{"$f":"IF(Foglio1!$H$13 <> \"\", Foglio1!$H$13 + K1002*10^-3, NA())","v":{"$error":"#N/A"}},8965,9.1010833860392335,{"$f":" IF(Foglio1!$C$14 <> \"\", 8.314472*Foglio1!$C$14*Foglio2!N1002, NA())","v":{"$error":"#N/A"}},{"$f":"IF(Foglio1!$H$14 <> \"\", Foglio1!$H$14 + O1002*10^-3, NA())","v":{"$error":"#N/A"}},8965,9.1010833860392335,{"$f":" IF(Foglio1!$C$15 <> \"\", 8.314472*Foglio1!$C$15*Foglio2!R1002, NA())","v":{"$error":"#N/A"}},{"$f":"IF(Foglio1!$H$15 <> \"\", Foglio1!$H$15 + S1002*10^-3, NA())","v":{"$error":"#N/A"}}]
[8974,9.1020867865359278,{"$f":" IF(Foglio1!$C$11 <> \"\", 8.314472*Foglio1!$C$11*Foglio2!B1003, NA())","v":22703.713718466886},{"$f":"IF(Foglio1!$H$11 <> \"\", Foglio1!$H$11 + C1003*10^-3, NA())","v":-67.296286281533114},8974,9.1020867865359278,{"$f":" IF(Foglio1!$C$12 <> \"\", 8.314472*Foglio1!$C$12*Foglio2!F1003, NA())","v":{"$error":"#N/A"}},{"$f":"IF(Foglio1!$H$12 <> \"\", Foglio1!$H$12 + G1003*10^-3, NA())","v":{"$error":"#N/A"}},8974,9.1020867865359278,{"$f":" IF(Foglio1!$C$13 <> \"\", 8.314472*Foglio1!$C$13*Foglio2!J1003, NA())","v":{"$error":"#N/A"}},{"$f":"IF(Foglio1!$H$13 <> \"\", Foglio1!$H$13 + K1003*10^-3, NA())","v":{"$error":"#N/A"}},8974,9.1020867865359278,{"$f":" IF(Foglio1!$C$14 <> \"\", 8.314472*Foglio1!$C$14*Foglio2!N1003, NA())","v":{"$error":"#N/A"}},{"$f":"IF(Foglio1!$H$14 <> \"\", Foglio1!$H$14 + O1003*10^-3, NA())","v":{"$error":"#N/A"}},8974,9.1020867865359278,{"$f":" IF(Foglio1!$C$15 <> \"\", 8.314472*Foglio1!$C$15*Foglio2!R1003, NA())","v":{"$error":"#N/A"}},{"$f":"IF(Foglio1!$H$15 <> \"\", Foglio1!$H$15 + S1003*10^-3, NA())","v":{"$error":"#N/A"}}]
[8983,9.1030891812292065,{"$f":" IF(Foglio1!$C$11 <> \"\", 8.314472*Foglio1!$C$11*Foglio2!B1004, NA())","v":22706.214033249951},{"$f":"IF(Foglio1!$H$11 <> \"\", Foglio1!$H$11 + C1004*10^-3, NA())","v":-67.29378596675005},8983,9.1030891812292065,{"$f":" IF(Foglio1!$C$12 <> \"\", 8.314472*Foglio1!$C$12*Foglio2!F1004, NA())","v":{"$error":"#N/A"}},{"$f":"IF(Foglio1!$H$12 <> \"\", Foglio1!$H$12 + G1004*10^-3, NA())","v":{"$error":"#N/A"}},8983,9.1030891812292065,{"$f":" IF(Foglio1!$C$13 <> \"\", 8.314472*Foglio1!$C$13*Foglio2!J1004, NA())","v":{"$error":"#N/A"}},{"$f":"IF(Foglio1!$H$13 <> \"\", Foglio1!$H$13 + K1004*10^-3, NA())","v":{"$error":"#N/A"}},8983,9.1030891812292065,{"$f":" IF(Foglio1!$C$14 <> \"\", 8.314472*Foglio1!$C$14*Foglio2!N1004, NA())","v":{"$error":"#N/A"}},{"$f":"IF(Foglio1!$H$14 <> \"\", Foglio1!$H$14 + O1004*10^-3, NA())","v":{"$error":"#N/A"}},8983,9.1030891812292065,{"$f":" IF(Foglio1!$C$15 <> \"\", 8.314472*Foglio1!$C$15*Foglio2!R1004, NA())","v":{"$error":"#N/A"}},{"$f":"IF(Foglio1!$H$15 <> \"\", Foglio1!$H$15 + S1004*10^-3, NA())","v":{"$error":"#N/A"}}]
[8992,9.1040905721334724,{"$f":" IF(Foglio1!$C$11 <> \"\", 8.314472*Foglio1!$C$11*Foglio2!B1005, NA())","v":22708.711844240323},{"$f":"IF(Foglio1!$H$11 <> \"\", Foglio1!$H$11 + C1005*10^-3, NA())","v":-67.291288155759673},8992,9.1040905721334724,{"$f":" IF(Foglio1!$C$12 <> \"\", 8.314472*Foglio1!$C$12*Foglio2!F1005, NA())","v":{"$error":"#N/A"}},{"$f":"IF(Foglio1!$H$12 <> \"\", Foglio1!$H$12 + G1005*10^-3, NA())","v":{"$error":"#N/A"}},8992,9.1040905721334724,{"$f":" IF(Foglio1!$C$13 <> \"\", 8.314472*Foglio1!$C$13*Foglio2!J1005, NA())","v":{"$error":"#N/A"}},{"$f":"IF(Foglio1!$H$13 <> \"\", Foglio1!$H$13 + K1005*10^-3, NA())","v":{"$error":"#N/A"}},8992,9.1040905721334724,{"$f":" IF(Foglio1!$C$14 <> \"\", 8.314472*Foglio1!$C$14*Foglio2!N1005, NA())","v":{"$error":"#N/A"}},{"$f":"IF(Foglio1!$H$14 <> \"\", Foglio1!$H$14 + O1005*10^-3, NA())","v":{"$error":"#N/A"}},8992,9.1040905721334724,{"$f":" IF(Foglio1!$C$15 <> \"\", 8.314472*Foglio1!$C$15*Foglio2!R1005, NA())","v":{"$error":"#N/A"}},{"$f":"IF(Foglio1!$H$15 <> \"\", Foglio1!$H$15 + S1005*10^-3, NA())","v":{"$error":"#N/A"}}]
[9001,9.1050909612570852,{"$f":" IF(Foglio1!$C$11 <> \"\", 8.314472*Foglio1!$C$11*Foglio2!B1006, NA())","v":22711.207156447537},{"$f":"IF(Foglio1!$H$11 <> \"\", Foglio1!$H$11 + C1006*10^-3, NA())","v":-67.288792843552457},9001,9.1050909612570852,{"$f":" IF(Foglio1!$C$12 <> \"\", 8.314472*Foglio1!$C$12*Foglio2!F1006, NA())","v":{"$error":"#N/A"}},{"$f":"IF(Foglio1!$H$12 <> \"\", Foglio1!$H$12 + G1006*10^-3, NA())","v":{"$error":"#N/A"}},9001,9.1050909612570852,{"$f":" IF(Foglio1!$C$13 <> \"\", 8.314472*Foglio1!$C$13*Foglio2!J1006, NA())","v":{"$error":"#N/A"}},{"$f":"IF(Foglio1!$H$13 <> \"\", Foglio1!$H$13 + K1006*10^-3, NA())","v":{"$error":"#N/A"}},9001,9.1050909612570852,{"$f":" IF(Foglio1!$C$14 <> \"\", 8.314472*Foglio1!$C$14*Foglio2!N1006, NA())","v":{"$error":"#N/A"}},{"$f":"IF(Foglio1!$H$14 <> \"\", Foglio1!$H$14 + O1006*10^-3, NA())","v":{"$error":"#N/A"}},9001,9.1050909612570852,{"$f":" IF(Foglio1!$C$15 <> \"\", 8.314472*Foglio1!$C$15*Foglio2!R1006, NA())","v":{"$error":"#N/A"}},{"$f":"IF(Foglio1!$H$15 <> \"\", Foglio1!$H$15 + S1006*10^-3, NA())","v":{"$error":"#N/A"}}]
[9010,9.1060903506023845,{"$f":" IF(Foglio1!$C$11 <> \"\", 8.314472*Foglio1!$C$11*Foglio2!B1007, NA())","v":22713.699974866115},{"$f":"IF(Foglio1!$H$11 <> \"\", Foglio1!$H$11 + C1007*10^-3, NA())","v":-67.286300025133883},9010,9.1060903506023845,{"$f":" IF(Foglio1!$C$12 <> \"\", 8.314472*Foglio1!$C$12*Foglio2!F1007, NA())","v":{"$error":"#N/A"}},{"$f":"IF(Foglio1!$H$12 <> \"\", Foglio1!$H$12 + G1007*10^-3, NA())","v":{"$error":"#N/A"}},9010,9.1060903506023845,{"$f":" IF(Foglio1!$C$13 <> \"\", 8.314472*Foglio1!$C$13*Foglio2!J1007, NA())","v":{"$error":"#N/A"}},{"$f":"IF(Foglio1!$H$13 <> \"\", Foglio1!$H$13 + K1007*10^-3, NA())","v":{"$error":"#N/A"}},9010,9.1060903506023845,{"$f":" IF(Foglio1!$C$14 <> \"\", 8.314472*Foglio1!$C$14*Foglio2!N1007, NA())","v":{"$error":"#N/A"}},{"$f":"IF(Foglio1!$H$14 <> \"\", Foglio1!$H$14 + O1007*10^-3, NA())","v":{"$error":"#N/A"}},9010,9.1060903506023845,{"$f":" IF(Foglio1!$C$15 <> \"\", 8.314472*Foglio1!$C$15*Foglio2!R1007, NA())","v":{"$error":"#N/A"}},{"$f":"IF(Foglio1!$H$15 <> \"\", Foglio1!$H$15 + S1007*10^-3, NA())","v":{"$error":"#N/A"}}]
[9019,9.1070887421657076,{"$f":" IF(Foglio1!$C$11 <> \"\", 8.314472*Foglio1!$C$11*Foglio2!B1008, NA())","v":22716.1903044756},{"$f":"IF(Foglio1!$H$11 <> \"\", Foglio1!$H$11 + C1008*10^-3, NA())","v":-67.283809695524397},9019,9.1070887421657076,{"$f":" IF(Foglio1!$C$12 <> \"\", 8.314472*Foglio1!$C$12*Foglio2!F1008, NA())","v":{"$error":"#N/A"}},{"$f":"IF(Foglio1!$H$12 <> \"\", Foglio1!$H$12 + G1008*10^-3, NA())","v":{"$error":"#N/A"}},9019,9.1070887421657076,{"$f":" IF(Foglio1!$C$13 <> \"\", 8.314472*Foglio1!$C$13*Foglio2!J1008, NA())","v":{"$error":"#N/A"}},{"$f":"IF(Foglio1!$H$13 <> \"\", Foglio1!$H$13 + K1008*10^-3, NA())","v":{"$error":"#N/A"}},9019,9.1070887421657076,{"$f":" IF(Foglio1!$C$14 <> \"\", 8.314472*Foglio1!$C$14*Foglio2!N1008, NA())","v":{"$error":"#N/A"}},{"$f":"IF(Foglio1!$H$14 <> \"\", Foglio1!$H$14 + O1008*10^-3, NA())","v":{"$error":"#N/A"}},9019,9.1070887421657076,{"$f":" IF(Foglio1!$C$15 <> \"\", 8.314472*Foglio1!$C$15*Foglio2!R1008, NA())","v":{"$error":"#N/A"}},{"$f":"IF(Foglio1!$H$15 <> \"\", Foglio1!$H$15 + S1008*10^-3, NA())","v":{"$error":"#N/A"}}]
[9028,9.1080861379374269,{"$f":" IF(Foglio1!$C$11 <> \"\", 8.314472*Foglio1!$C$11*Foglio2!B1009, NA())","v":22718.678150240663},{"$f":"IF(Foglio1!$H$11 <> \"\", Foglio1!$H$11 + C1009*10^-3, NA())","v":-67.281321849759337},9028,9.1080861379374269,{"$f":" IF(Foglio1!$C$12 <> \"\", 8.314472*Foglio1!$C$12*Foglio2!F1009, NA())","v":{"$error":"#N/A"}},{"$f":"IF(Foglio1!$H$12 <> \"\", Foglio1!$H$12 + G1009*10^-3, NA())","v":{"$error":"#N/A"}},9028,9.1080861379374269,{"$f":" IF(Foglio1!$C$13 <> \"\", 8.314472*Foglio1!$C$13*Foglio2!J1009, NA())","v":{"$error":"#N/A"}},{"$f":"IF(Foglio1!$H$13 <> \"\", Foglio1!$H$13 + K1009*10^-3, NA())","v":{"$error":"#N/A"}},9028,9.1080861379374269,{"$f":" IF(Foglio1!$C$14 <> \"\", 8.314472*Foglio1!$C$14*Foglio2!N1009, NA())","v":{"$error":"#N/A"}},{"$f":"IF(Foglio1!$H$14 <> \"\", Foglio1!$H$14 + O1009*10^-3, NA())","v":{"$error":"#N/A"}},9028,9.1080861379374269,{"$f":" IF(Foglio1!$C$15 <> \"\", 8.314472*Foglio1!$C$15*Foglio2!R1009, NA())","v":{"$error":"#N/A"}},{"$f":"IF(Foglio1!$H$15 <> \"\", Foglio1!$H$15 + S1009*10^-3, NA())","v":{"$error":"#N/A"}}]
[9037,9.109082539901955,{"$f":" IF(Foglio1!$C$11 <> \"\", 8.314472*Foglio1!$C$11*Foglio2!B1010, NA())","v":22721.163517111108},{"$f":"IF(Foglio1!$H$11 <> \"\", Foglio1!$H$11 + C1010*10^-3, NA())","v":-67.278836482888892},9037,9.109082539901955,{"$f":" IF(Foglio1!$C$12 <> \"\", 8.314472*Foglio1!$C$12*Foglio2!F1010, NA())","v":{"$error":"#N/A"}},{"$f":"IF(Foglio1!$H$12 <> \"\", Foglio1!$H$12 + G1010*10^-3, NA())","v":{"$error":"#N/A"}},9037,9.109082539901955,{"$f":" IF(Foglio1!$C$13 <> \"\", 8.314472*Foglio1!$C$13*Foglio2!J1010, NA())","v":{"$error":"#N/A"}},{"$f":"IF(Foglio1!$H$13 <> \"\", Foglio1!$H$13 + K1010*10^-3, NA())","v":{"$error":"#N/A"}},9037,9.109082539901955,{"$f":" IF(Foglio1!$C$14 <> \"\", 8.314472*Foglio1!$C$14*Foglio2!N1010, NA())","v":{"$error":"#N/A"}},{"$f":"IF(Foglio1!$H$14 <> \"\", Foglio1!$H$14 + O1010*10^-3, NA())","v":{"$error":"#N/A"}},9037,9.109082539901955,{"$f":" IF(Foglio1!$C$15 <> \"\", 8.314472*Foglio1!$C$15*Foglio2!R1010, NA())","v":{"$error":"#N/A"}},{"$f":"IF(Foglio1!$H$15 <> \"\", Foglio1!$H$15 + S1010*10^-3, NA())","v":{"$error":"#N/A"}}]
[9046,9.1100779500377893,{"$f":" IF(Foglio1!$C$11 <> \"\", 8.314472*Foglio1!$C$11*Foglio2!B1011, NA())","v":22723.646410021982},{"$f":"IF(Foglio1!$H$11 <> \"\", Foglio1!$H$11 + C1011*10^-3, NA())","v":-67.276353589978015},9046,9.1100779500377893,{"$f":" IF(Foglio1!$C$12 <> \"\", 8.314472*Foglio1!$C$12*Foglio2!F1011, NA())","v":{"$error":"#N/A"}},{"$f":"IF(Foglio1!$H$12 <> \"\", Foglio1!$H$12 + G1011*10^-3, NA())","v":{"$error":"#N/A"}},9046,9.1100779500377893,{"$f":" IF(Foglio1!$C$13 <> \"\", 8.314472*Foglio1!$C$13*Foglio2!J1011, NA())","v":{"$error":"#N/A"}},{"$f":"IF(Foglio1!$H$13 <> \"\", Foglio1!$H$13 + K1011*10^-3, NA())","v":{"$error":"#N/A"}},9046,9.1100779500377893,{"$f":" IF(Foglio1!$C$14 <> \"\", 8.314472*Foglio1!$C$14*Foglio2!N1011, NA())","v":{"$error":"#N/A"}},{"$f":"IF(Foglio1!$H$14 <> \"\", Foglio1!$H$14 + O1011*10^-3, NA())","v":{"$error":"#N/A"}},9046,9.1100779500377893,{"$f":" IF(Foglio1!$C$15 <> \"\", 8.314472*Foglio1!$C$15*Foglio2!R1011, NA())","v":{"$error":"#N/A"}},{"$f":"IF(Foglio1!$H$15 <> \"\", Foglio1!$H$15 + S1011*10^-3, NA())","v":{"$error":"#N/A"}}]
[9055,9.1110723703175136,{"$f":" IF(Foglio1!$C$11 <> \"\", 8.314472*Foglio1!$C$11*Foglio2!B1012, NA())","v":22726.126833893581},{"$f":"IF(Foglio1!$H$11 <> \"\", Foglio1!$H$11 + C1012*10^-3, NA())","v":-67.273873166106426},9055,9.1110723703175136,{"$f":" IF(Foglio1!$C$12 <> \"\", 8.314472*Foglio1!$C$12*Foglio2!F1012, NA())","v":{"$error":"#N/A"}},{"$f":"IF(Foglio1!$H$12 <> \"\", Foglio1!$H$12 + G1012*10^-3, NA())","v":{"$error":"#N/A"}},9055,9.1110723703175136,{"$f":" IF(Foglio1!$C$13 <> \"\", 8.314472*Foglio1!$C$13*Foglio2!J1012, NA())","v":{"$error":"#N/A"}},{"$f":"IF(Foglio1!$H$13 <> \"\", Foglio1!$H$13 + K1012*10^-3, NA())","v":{"$error":"#N/A"}},9055,9.1110723703175136,{"$f":" IF(Foglio1!$C$14 <> \"\", 8.314472*Foglio1!$C$14*Foglio2!N1012, NA())","v":{"$error":"#N/A"}},{"$f":"IF(Foglio1!$H$14 <> \"\", Foglio1!$H$14 + O1012*10^-3, NA())","v":{"$error":"#N/A"}},9055,9.1110723703175136,{"$f":" IF(Foglio1!$C$15 <> \"\", 8.314472*Foglio1!$C$15*Foglio2!R1012, NA())","v":{"$error":"#N/A"}},{"$f":"IF(Foglio1!$H$15 <> \"\", Foglio1!$H$15 + S1012*10^-3, NA())","v":{"$error":"#N/A"}}]
[9064,9.1120658027078427,{"$f":" IF(Foglio1!$C$11 <> \"\", 8.314472*Foglio1!$C$11*Foglio2!B1013, NA())","v":22728.604793631566},{"$f":"IF(Foglio1!$H$11 <> \"\", Foglio1!$H$11 + C1013*10^-3, NA())","v":-67.271395206368425},9064,9.1120658027078427,{"$f":" IF(Foglio1!$C$12 <> \"\", 8.314472*Foglio1!$C$12*Foglio2!F1013, NA())","v":{"$error":"#N/A"}},{"$f":"IF(Foglio1!$H$12 <> \"\", Foglio1!$H$12 + G1013*10^-3, NA())","v":{"$error":"#N/A"}},9064,9.1120658027078427,{"$f":" IF(Foglio1!$C$13 <> \"\", 8.314472*Foglio1!$C$13*Foglio2!J1013, NA())","v":{"$error":"#N/A"}},{"$f":"IF(Foglio1!$H$13 <> \"\", Foglio1!$H$13 + K1013*10^-3, NA())","v":{"$error":"#N/A"}},9064,9.1120658027078427,{"$f":" IF(Foglio1!$C$14 <> \"\", 8.314472*Foglio1!$C$14*Foglio2!N1013, NA())","v":{"$error":"#N/A"}},{"$f":"IF(Foglio1!$H$14 <> \"\", Foglio1!$H$14 + O1013*10^-3, NA())","v":{"$error":"#N/A"}},9064,9.1120658027078427,{"$f":" IF(Foglio1!$C$15 <> \"\", 8.314472*Foglio1!$C$15*Foglio2!R1013, NA())","v":{"$error":"#N/A"}},{"$f":"IF(Foglio1!$H$15 <> \"\", Foglio1!$H$15 + S1013*10^-3, NA())","v":{"$error":"#N/A"}}]
[9073,9.1130582491696295,{"$f":" IF(Foglio1!$C$11 <> \"\", 8.314472*Foglio1!$C$11*Foglio2!B1014, NA())","v":22731.080294126976},{"$f":"IF(Foglio1!$H$11 <> \"\", Foglio1!$H$11 + C1014*10^-3, NA())","v":-67.268919705873031},9073,9.1130582491696295,{"$f":" IF(Foglio1!$C$12 <> \"\", 8.314472*Foglio1!$C$12*Foglio2!F1014, NA())","v":{"$error":"#N/A"}},{"$f":"IF(Foglio1!$H$12 <> \"\", Foglio1!$H$12 + G1014*10^-3, NA())","v":{"$error":"#N/A"}},9073,9.1130582491696295,{"$f":" IF(Foglio1!$C$13 <> \"\", 8.314472*Foglio1!$C$13*Foglio2!J1014, NA())","v":{"$error":"#N/A"}},{"$f":"IF(Foglio1!$H$13 <> \"\", Foglio1!$H$13 + K1014*10^-3, NA())","v":{"$error":"#N/A"}},9073,9.1130582491696295,{"$f":" IF(Foglio1!$C$14 <> \"\", 8.314472*Foglio1!$C$14*Foglio2!N1014, NA())","v":{"$error":"#N/A"}},{"$f":"IF(Foglio1!$H$14 <> \"\", Foglio1!$H$14 + O1014*10^-3, NA())","v":{"$error":"#N/A"}},9073,9.1130582491696295,{"$f":" IF(Foglio1!$C$15 <> \"\", 8.314472*Foglio1!$C$15*Foglio2!R1014, NA())","v":{"$error":"#N/A"}},{"$f":"IF(Foglio1!$H$15 <> \"\", Foglio1!$H$15 + S1014*10^-3, NA())","v":{"$error":"#N/A"}}]
[9082,9.1140497116578967,{"$f":" IF(Foglio1!$C$11 <> \"\", 8.314472*Foglio1!$C$11*Foglio2!B1015, NA())","v":22733.553340256298},{"$f":"IF(Foglio1!$H$11 <> \"\", Foglio1!$H$11 + C1015*10^-3, NA())","v":-67.266446659743707},9082,9.1140497116578967,{"$f":" IF(Foglio1!$C$12 <> \"\", 8.314472*Foglio1!$C$12*Foglio2!F1015, NA())","v":{"$error":"#N/A"}},{"$f":"IF(Foglio1!$H$12 <> \"\", Foglio1!$H$12 + G1015*10^-3, NA())","v":{"$error":"#N/A"}},9082,9.1140497116578967,{"$f":" IF(Foglio1!$C$13 <> \"\", 8.314472*Foglio1!$C$13*Foglio2!J1015, NA())","v":{"$error":"#N/A"}},{"$f":"IF(Foglio1!$H$13 <> \"\", Foglio1!$H$13 + K1015*10^-3, NA())","v":{"$error":"#N/A"}},9082,9.1140497116578967,{"$f":" IF(Foglio1!$C$14 <> \"\", 8.314472*Foglio1!$C$14*Foglio2!N1015, NA())","v":{"$error":"#N/A"}},{"$f":"IF(Foglio1!$H$14 <> \"\", Foglio1!$H$14 + O1015*10^-3, NA())","v":{"$error":"#N/A"}},9082,9.1140497116578967,{"$f":" IF(Foglio1!$C$15 <> \"\", 8.314472*Foglio1!$C$15*Foglio2!R1015, NA())","v":{"$error":"#N/A"}},{"$f":"IF(Foglio1!$H$15 <> \"\", Foglio1!$H$15 + S1015*10^-3, NA())","v":{"$error":"#N/A"}}]
[9091,9.1150401921218585,{"$f":" IF(Foglio1!$C$11 <> \"\", 8.314472*Foglio1!$C$11*Foglio2!B1016, NA())","v":22736.023936881546},{"$f":"IF(Foglio1!$H$11 <> \"\", Foglio1!$H$11 + C1016*10^-3, NA())","v":-67.263976063118449},9091,9.1150401921218585,{"$f":" IF(Foglio1!$C$12 <> \"\", 8.314472*Foglio1!$C$12*Foglio2!F1016, NA())","v":{"$error":"#N/A"}},{"$f":"IF(Foglio1!$H$12 <> \"\", Foglio1!$H$12 + G1016*10^-3, NA())","v":{"$error":"#N/A"}},9091,9.1150401921218585,{"$f":" IF(Foglio1!$C$13 <> \"\", 8.314472*Foglio1!$C$13*Foglio2!J1016, NA())","v":{"$error":"#N/A"}},{"$f":"IF(Foglio1!$H$13 <> \"\", Foglio1!$H$13 + K1016*10^-3, NA())","v":{"$error":"#N/A"}},9091,9.1150401921218585,{"$f":" IF(Foglio1!$C$14 <> \"\", 8.314472*Foglio1!$C$14*Foglio2!N1016, NA())","v":{"$error":"#N/A"}},{"$f":"IF(Foglio1!$H$14 <> \"\", Foglio1!$H$14 + O1016*10^-3, NA())","v":{"$error":"#N/A"}},9091,9.1150401921218585,{"$f":" IF(Foglio1!$C$15 <> \"\", 8.314472*Foglio1!$C$15*Foglio2!R1016, NA())","v":{"$error":"#N/A"}},{"$f":"IF(Foglio1!$H$15 <> \"\", Foglio1!$H$15 + S1016*10^-3, NA())","v":{"$error":"#N/A"}}]
[9100,9.1160296925049416,{"$f":" IF(Foglio1!$C$11 <> \"\", 8.314472*Foglio1!$C$11*Foglio2!B1017, NA())","v":22738.492088850286},{"$f":"IF(Foglio1!$H$11 <> \"\", Foglio1!$H$11 + C1017*10^-3, NA())","v":-67.261507911149721},9100,9.1160296925049416,{"$f":" IF(Foglio1!$C$12 <> \"\", 8.314472*Foglio1!$C$12*Foglio2!F1017, NA())","v":{"$error":"#N/A"}},{"$f":"IF(Foglio1!$H$12 <> \"\", Foglio1!$H$12 + G1017*10^-3, NA())","v":{"$error":"#N/A"}},9100,9.1160296925049416,{"$f":" IF(Foglio1!$C$13 <> \"\", 8.314472*Foglio1!$C$13*Foglio2!J1017, NA())","v":{"$error":"#N/A"}},{"$f":"IF(Foglio1!$H$13 <> \"\", Foglio1!$H$13 + K1017*10^-3, NA())","v":{"$error":"#N/A"}},9100,9.1160296925049416,{"$f":" IF(Foglio1!$C$14 <> \"\", 8.314472*Foglio1!$C$14*Foglio2!N1017, NA())","v":{"$error":"#N/A"}},{"$f":"IF(Foglio1!$H$14 <> \"\", Foglio1!$H$14 + O1017*10^-3, NA())","v":{"$error":"#N/A"}},9100,9.1160296925049416,{"$f":" IF(Foglio1!$C$15 <> \"\", 8.314472*Foglio1!$C$15*Foglio2!R1017, NA())","v":{"$error":"#N/A"}},{"$f":"IF(Foglio1!$H$15 <> \"\", Foglio1!$H$15 + S1017*10^-3, NA())","v":{"$error":"#N/A"}}]
[9109,9.1170182147448102,{"$f":" IF(Foglio1!$C$11 <> \"\", 8.314472*Foglio1!$C$11*Foglio2!B1018, NA())","v":22740.957800995715},{"$f":"IF(Foglio1!$H$11 <> \"\", Foglio1!$H$11 + C1018*10^-3, NA())","v":-67.259042199004284},9109,9.1170182147448102,{"$f":" IF(Foglio1!$C$12 <> \"\", 8.314472*Foglio1!$C$12*Foglio2!F1018, NA())","v":{"$error":"#N/A"}},{"$f":"IF(Foglio1!$H$12 <> \"\", Foglio1!$H$12 + G1018*10^-3, NA())","v":{"$error":"#N/A"}},9109,9.1170182147448102,{"$f":" IF(Foglio1!$C$13 <> \"\", 8.314472*Foglio1!$C$13*Foglio2!J1018, NA())","v":{"$error":"#N/A"}},{"$f":"IF(Foglio1!$H$13 <> \"\", Foglio1!$H$13 + K1018*10^-3, NA())","v":{"$error":"#N/A"}},9109,9.1170182147448102,{"$f":" IF(Foglio1!$C$14 <> \"\", 8.314472*Foglio1!$C$14*Foglio2!N1018, NA())","v":{"$error":"#N/A"}},{"$f":"IF(Foglio1!$H$14 <> \"\", Foglio1!$H$14 + O1018*10^-3, NA())","v":{"$error":"#N/A"}},9109,9.1170182147448102,{"$f":" IF(Foglio1!$C$15 <> \"\", 8.314472*Foglio1!$C$15*Foglio2!R1018, NA())","v":{"$error":"#N/A"}},{"$f":"IF(Foglio1!$H$15 <> \"\", Foglio1!$H$15 + S1018*10^-3, NA())","v":{"$error":"#N/A"}}]
[9118,9.1180057607733875,{"$f":" IF(Foglio1!$C$11 <> \"\", 8.314472*Foglio1!$C$11*Foglio2!B1019, NA())","v":22743.421078136711},{"$f":"IF(Foglio1!$H$11 <> \"\", Foglio1!$H$11 + C1019*10^-3, NA())","v":-67.25657892186328},9118,9.1180057607733875,{"$f":" IF(Foglio1!$C$12 <> \"\", 8.314472*Foglio1!$C$12*Foglio2!F1019, NA())","v":{"$error":"#N/A"}},{"$f":"IF(Foglio1!$H$12 <> \"\", Foglio1!$H$12 + G1019*10^-3, NA())","v":{"$error":"#N/A"}},9118,9.1180057607733875,{"$f":" IF(Foglio1!$C$13 <> \"\", 8.314472*Foglio1!$C$13*Foglio2!J1019, NA())","v":{"$error":"#N/A"}},{"$f":"IF(Foglio1!$H$13 <> \"\", Foglio1!$H$13 + K1019*10^-3, NA())","v":{"$error":"#N/A"}},9118,9.1180057607733875,{"$f":" IF(Foglio1!$C$14 <> \"\", 8.314472*Foglio1!$C$14*Foglio2!N1019, NA())","v":{"$error":"#N/A"}},{"$f":"IF(Foglio1!$H$14 <> \"\", Foglio1!$H$14 + O1019*10^-3, NA())","v":{"$error":"#N/A"}},9118,9.1180057607733875,{"$f":" IF(Foglio1!$C$15 <> \"\", 8.314472*Foglio1!$C$15*Foglio2!R1019, NA())","v":{"$error":"#N/A"}},{"$f":"IF(Foglio1!$H$15 <> \"\", Foglio1!$H$15 + S1019*10^-3, NA())","v":{"$error":"#N/A"}}]
[9127,9.1189923325168767,{"$f":" IF(Foglio1!$C$11 <> \"\", 8.314472*Foglio1!$C$11*Foglio2!B1020, NA())","v":22745.88192507788},{"$f":"IF(Foglio1!$H$11 <> \"\", Foglio1!$H$11 + C1020*10^-3, NA())","v":-67.254118074922118},9127,9.1189923325168767,{"$f":" IF(Foglio1!$C$12 <> \"\", 8.314472*Foglio1!$C$12*Foglio2!F1020, NA())","v":{"$error":"#N/A"}},{"$f":"IF(Foglio1!$H$12 <> \"\", Foglio1!$H$12 + G1020*10^-3, NA())","v":{"$error":"#N/A"}},9127,9.1189923325168767,{"$f":" IF(Foglio1!$C$13 <> \"\", 8.314472*Foglio1!$C$13*Foglio2!J1020, NA())","v":{"$error":"#N/A"}},{"$f":"IF(Foglio1!$H$13 <> \"\", Foglio1!$H$13 + K1020*10^-3, NA())","v":{"$error":"#N/A"}},9127,9.1189923325168767,{"$f":" IF(Foglio1!$C$14 <> \"\", 8.314472*Foglio1!$C$14*Foglio2!N1020, NA())","v":{"$error":"#N/A"}},{"$f":"IF(Foglio1!$H$14 <> \"\", Foglio1!$H$14 + O1020*10^-3, NA())","v":{"$error":"#N/A"}},9127,9.1189923325168767,{"$f":" IF(Foglio1!$C$15 <> \"\", 8.314472*Foglio1!$C$15*Foglio2!R1020, NA())","v":{"$error":"#N/A"}},{"$f":"IF(Foglio1!$H$15 <> \"\", Foglio1!$H$15 + S1020*10^-3, NA())","v":{"$error":"#N/A"}}]
[9136,9.1199779318957912,{"$f":" IF(Foglio1!$C$11 <> \"\", 8.314472*Foglio1!$C$11*Foglio2!B1021, NA())","v":22748.340346609642},{"$f":"IF(Foglio1!$H$11 <> \"\", Foglio1!$H$11 + C1021*10^-3, NA())","v":-67.251659653390362},9136,9.1199779318957912,{"$f":" IF(Foglio1!$C$12 <> \"\", 8.314472*Foglio1!$C$12*Foglio2!F1021, NA())","v":{"$error":"#N/A"}},{"$f":"IF(Foglio1!$H$12 <> \"\", Foglio1!$H$12 + G1021*10^-3, NA())","v":{"$error":"#N/A"}},9136,9.1199779318957912,{"$f":" IF(Foglio1!$C$13 <> \"\", 8.314472*Foglio1!$C$13*Foglio2!J1021, NA())","v":{"$error":"#N/A"}},{"$f":"IF(Foglio1!$H$13 <> \"\", Foglio1!$H$13 + K1021*10^-3, NA())","v":{"$error":"#N/A"}},9136,9.1199779318957912,{"$f":" IF(Foglio1!$C$14 <> \"\", 8.314472*Foglio1!$C$14*Foglio2!N1021, NA())","v":{"$error":"#N/A"}},{"$f":"IF(Foglio1!$H$14 <> \"\", Foglio1!$H$14 + O1021*10^-3, NA())","v":{"$error":"#N/A"}},9136,9.1199779318957912,{"$f":" IF(Foglio1!$C$15 <> \"\", 8.314472*Foglio1!$C$15*Foglio2!R1021, NA())","v":{"$error":"#N/A"}},{"$f":"IF(Foglio1!$H$15 <> \"\", Foglio1!$H$15 + S1021*10^-3, NA())","v":{"$error":"#N/A"}}]
[9145,9.1209625608249656,{"$f":" IF(Foglio1!$C$11 <> \"\", 8.314472*Foglio1!$C$11*Foglio2!B1022, NA())","v":22750.796347508243},{"$f":"IF(Foglio1!$H$11 <> \"\", Foglio1!$H$11 + C1022*10^-3, NA())","v":-67.249203652491758},9145,9.1209625608249656,{"$f":" IF(Foglio1!$C$12 <> \"\", 8.314472*Foglio1!$C$12*Foglio2!F1022, NA())","v":{"$error":"#N/A"}},{"$f":"IF(Foglio1!$H$12 <> \"\", Foglio1!$H$12 + G1022*10^-3, NA())","v":{"$error":"#N/A"}},9145,9.1209625608249656,{"$f":" IF(Foglio1!$C$13 <> \"\", 8.314472*Foglio1!$C$13*Foglio2!J1022, NA())","v":{"$error":"#N/A"}},{"$f":"IF(Foglio1!$H$13 <> \"\", Foglio1!$H$13 + K1022*10^-3, NA())","v":{"$error":"#N/A"}},9145,9.1209625608249656,{"$f":" IF(Foglio1!$C$14 <> \"\", 8.314472*Foglio1!$C$14*Foglio2!N1022, NA())","v":{"$error":"#N/A"}},{"$f":"IF(Foglio1!$H$14 <> \"\", Foglio1!$H$14 + O1022*10^-3, NA())","v":{"$error":"#N/A"}},9145,9.1209625608249656,{"$f":" IF(Foglio1!$C$15 <> \"\", 8.314472*Foglio1!$C$15*Foglio2!R1022, NA())","v":{"$error":"#N/A"}},{"$f":"IF(Foglio1!$H$15 <> \"\", Foglio1!$H$15 + S1022*10^-3, NA())","v":{"$error":"#N/A"}}]
[9154,9.1219462212135873,{"$f":" IF(Foglio1!$C$11 <> \"\", 8.314472*Foglio1!$C$11*Foglio2!B1023, NA())","v":22753.249932535855},{"$f":"IF(Foglio1!$H$11 <> \"\", Foglio1!$H$11 + C1023*10^-3, NA())","v":-67.246750067464149},9154,9.1219462212135873,{"$f":" IF(Foglio1!$C$12 <> \"\", 8.314472*Foglio1!$C$12*Foglio2!F1023, NA())","v":{"$error":"#N/A"}},{"$f":"IF(Foglio1!$H$12 <> \"\", Foglio1!$H$12 + G1023*10^-3, NA())","v":{"$error":"#N/A"}},9154,9.1219462212135873,{"$f":" IF(Foglio1!$C$13 <> \"\", 8.314472*Foglio1!$C$13*Foglio2!J1023, NA())","v":{"$error":"#N/A"}},{"$f":"IF(Foglio1!$H$13 <> \"\", Foglio1!$H$13 + K1023*10^-3, NA())","v":{"$error":"#N/A"}},9154,9.1219462212135873,{"$f":" IF(Foglio1!$C$14 <> \"\", 8.314472*Foglio1!$C$14*Foglio2!N1023, NA())","v":{"$error":"#N/A"}},{"$f":"IF(Foglio1!$H$14 <> \"\", Foglio1!$H$14 + O1023*10^-3, NA())","v":{"$error":"#N/A"}},9154,9.1219462212135873,{"$f":" IF(Foglio1!$C$15 <> \"\", 8.314472*Foglio1!$C$15*Foglio2!R1023, NA())","v":{"$error":"#N/A"}},{"$f":"IF(Foglio1!$H$15 <> \"\", Foglio1!$H$15 + S1023*10^-3, NA())","v":{"$error":"#N/A"}}]
[9163,9.1229289149652129,{"$f":" IF(Foglio1!$C$11 <> \"\", 8.314472*Foglio1!$C$11*Foglio2!B1024, NA())","v":22755.701106440596},{"$f":"IF(Foglio1!$H$11 <> \"\", Foglio1!$H$11 + C1024*10^-3, NA())","v":-67.244298893559403},9163,9.1229289149652129,{"$f":" IF(Foglio1!$C$12 <> \"\", 8.314472*Foglio1!$C$12*Foglio2!F1024, NA())","v":{"$error":"#N/A"}},{"$f":"IF(Foglio1!$H$12 <> \"\", Foglio1!$H$12 + G1024*10^-3, NA())","v":{"$error":"#N/A"}},9163,9.1229289149652129,{"$f":" IF(Foglio1!$C$13 <> \"\", 8.314472*Foglio1!$C$13*Foglio2!J1024, NA())","v":{"$error":"#N/A"}},{"$f":"IF(Foglio1!$H$13 <> \"\", Foglio1!$H$13 + K1024*10^-3, NA())","v":{"$error":"#N/A"}},9163,9.1229289149652129,{"$f":" IF(Foglio1!$C$14 <> \"\", 8.314472*Foglio1!$C$14*Foglio2!N1024, NA())","v":{"$error":"#N/A"}},{"$f":"IF(Foglio1!$H$14 <> \"\", Foglio1!$H$14 + O1024*10^-3, NA())","v":{"$error":"#N/A"}},9163,9.1229289149652129,{"$f":" IF(Foglio1!$C$15 <> \"\", 8.314472*Foglio1!$C$15*Foglio2!R1024, NA())","v":{"$error":"#N/A"}},{"$f":"IF(Foglio1!$H$15 <> \"\", Foglio1!$H$15 + S1024*10^-3, NA())","v":{"$error":"#N/A"}}]
[9172,9.1239106439777959,{"$f":" IF(Foglio1!$C$11 <> \"\", 8.314472*Foglio1!$C$11*Foglio2!B1025, NA())","v":22758.149873956609},{"$f":"IF(Foglio1!$H$11 <> \"\", Foglio1!$H$11 + C1025*10^-3, NA())","v":-67.241850126043389},9172,9.1239106439777959,{"$f":" IF(Foglio1!$C$12 <> \"\", 8.314472*Foglio1!$C$12*Foglio2!F1025, NA())","v":{"$error":"#N/A"}},{"$f":"IF(Foglio1!$H$12 <> \"\", Foglio1!$H$12 + G1025*10^-3, NA())","v":{"$error":"#N/A"}},9172,9.1239106439777959,{"$f":" IF(Foglio1!$C$13 <> \"\", 8.314472*Foglio1!$C$13*Foglio2!J1025, NA())","v":{"$error":"#N/A"}},{"$f":"IF(Foglio1!$H$13 <> \"\", Foglio1!$H$13 + K1025*10^-3, NA())","v":{"$error":"#N/A"}},9172,9.1239106439777959,{"$f":" IF(Foglio1!$C$14 <> \"\", 8.314472*Foglio1!$C$14*Foglio2!N1025, NA())","v":{"$error":"#N/A"}},{"$f":"IF(Foglio1!$H$14 <> \"\", Foglio1!$H$14 + O1025*10^-3, NA())","v":{"$error":"#N/A"}},9172,9.1239106439777959,{"$f":" IF(Foglio1!$C$15 <> \"\", 8.314472*Foglio1!$C$15*Foglio2!R1025, NA())","v":{"$error":"#N/A"}},{"$f":"IF(Foglio1!$H$15 <> \"\", Foglio1!$H$15 + S1025*10^-3, NA())","v":{"$error":"#N/A"}}]
[9181,9.1248914101437002,{"$f":" IF(Foglio1!$C$11 <> \"\", 8.314472*Foglio1!$C$11*Foglio2!B1026, NA())","v":22760.596239804094},{"$f":"IF(Foglio1!$H$11 <> \"\", Foglio1!$H$11 + C1026*10^-3, NA())","v":-67.239403760195898},9181,9.1248914101437002,{"$f":" IF(Foglio1!$C$12 <> \"\", 8.314472*Foglio1!$C$12*Foglio2!F1026, NA())","v":{"$error":"#N/A"}},{"$f":"IF(Foglio1!$H$12 <> \"\", Foglio1!$H$12 + G1026*10^-3, NA())","v":{"$error":"#N/A"}},9181,9.1248914101437002,{"$f":" IF(Foglio1!$C$13 <> \"\", 8.314472*Foglio1!$C$13*Foglio2!J1026, NA())","v":{"$error":"#N/A"}},{"$f":"IF(Foglio1!$H$13 <> \"\", Foglio1!$H$13 + K1026*10^-3, NA())","v":{"$error":"#N/A"}},9181,9.1248914101437002,{"$f":" IF(Foglio1!$C$14 <> \"\", 8.314472*Foglio1!$C$14*Foglio2!N1026, NA())","v":{"$error":"#N/A"}},{"$f":"IF(Foglio1!$H$14 <> \"\", Foglio1!$H$14 + O1026*10^-3, NA())","v":{"$error":"#N/A"}},9181,9.1248914101437002,{"$f":" IF(Foglio1!$C$15 <> \"\", 8.314472*Foglio1!$C$15*Foglio2!R1026, NA())","v":{"$error":"#N/A"}},{"$f":"IF(Foglio1!$H$15 <> \"\", Foglio1!$H$15 + S1026*10^-3, NA())","v":{"$error":"#N/A"}}]
[9190,{"$f":"LN(A1027)","v":9.1258712153497328},{"$f":" IF(Foglio1!$C$11 <> \"\", 8.314472*Foglio1!$C$11*Foglio2!B1027, NA())","v":22763.040208689399},{"$f":"IF(Foglio1!$H$11 <> \"\", Foglio1!$H$11 + C1027*10^-3, NA())","v":-67.236959791310596},9190,{"$f":"LN(E1027)","v":9.1258712153497328},{"$f":" IF(Foglio1!$C$12 <> \"\", 8.314472*Foglio1!$C$12*Foglio2!F1027, NA())","v":{"$error":"#N/A"}},{"$f":"IF(Foglio1!$H$12 <> \"\", Foglio1!$H$12 + G1027*10^-3, NA())","v":{"$error":"#N/A"}},9190,{"$f":"LN(I1027)","v":9.1258712153497328},{"$f":" IF(Foglio1!$C$13 <> \"\", 8.314472*Foglio1!$C$13*Foglio2!J1027, NA())","v":{"$error":"#N/A"}},{"$f":"IF(Foglio1!$H$13 <> \"\", Foglio1!$H$13 + K1027*10^-3, NA())","v":{"$error":"#N/A"}},9190,{"$f":"LN(M1027)","v":9.1258712153497328},{"$f":" IF(Foglio1!$C$14 <> \"\", 8.314472*Foglio1!$C$14*Foglio2!N1027, NA())","v":{"$error":"#N/A"}},{"$f":"IF(Foglio1!$H$14 <> \"\", Foglio1!$H$14 + O1027*10^-3, NA())","v":{"$error":"#N/A"}},9190,{"$f":"LN(Q1027)","v":9.1258712153497328},{"$f":" IF(Foglio1!$C$15 <> \"\", 8.314472*Foglio1!$C$15*Foglio2!R1027, NA())","v":{"$error":"#N/A"}},{"$f":"IF(Foglio1!$H$15 <> \"\", Foglio1!$H$15 + S1027*10^-3, NA())","v":{"$error":"#N/A"}}]
[9199,9.1268500614771568,{"$f":" IF(Foglio1!$C$11 <> \"\", 8.314472*Foglio1!$C$11*Foglio2!B1028, NA())","v":22765.48178530503},{"$f":"IF(Foglio1!$H$11 <> \"\", Foglio1!$H$11 + C1028*10^-3, NA())","v":-67.234518214694972},9199,9.1268500614771568,{"$f":" IF(Foglio1!$C$12 <> \"\", 8.314472*Foglio1!$C$12*Foglio2!F1028, NA())","v":{"$error":"#N/A"}},{"$f":"IF(Foglio1!$H$12 <> \"\", Foglio1!$H$12 + G1028*10^-3, NA())","v":{"$error":"#N/A"}},9199,9.1268500614771568,{"$f":" IF(Foglio1!$C$13 <> \"\", 8.314472*Foglio1!$C$13*Foglio2!J1028, NA())","v":{"$error":"#N/A"}},{"$f":"IF(Foglio1!$H$13 <> \"\", Foglio1!$H$13 + K1028*10^-3, NA())","v":{"$error":"#N/A"}},9199,9.1268500614771568,{"$f":" IF(Foglio1!$C$14 <> \"\", 8.314472*Foglio1!$C$14*Foglio2!N1028, NA())","v":{"$error":"#N/A"}},{"$f":"IF(Foglio1!$H$14 <> \"\", Foglio1!$H$14 + O1028*10^-3, NA())","v":{"$error":"#N/A"}},9199,9.1268500614771568,{"$f":" IF(Foglio1!$C$15 <> \"\", 8.314472*Foglio1!$C$15*Foglio2!R1028, NA())","v":{"$error":"#N/A"}},{"$f":"IF(Foglio1!$H$15 <> \"\", Foglio1!$H$15 + S1028*10^-3, NA())","v":{"$error":"#N/A"}}]
[9208,9.1278279504017181,{"$f":" IF(Foglio1!$C$11 <> \"\", 8.314472*Foglio1!$C$11*Foglio2!B1029, NA())","v":22767.920974329743},{"$f":"IF(Foglio1!$H$11 <> \"\", Foglio1!$H$11 + C1029*10^-3, NA())","v":-67.232079025670259},9208,9.1278279504017181,{"$f":" IF(Foglio1!$C$12 <> \"\", 8.314472*Foglio1!$C$12*Foglio2!F1029, NA())","v":{"$error":"#N/A"}},{"$f":"IF(Foglio1!$H$12 <> \"\", Foglio1!$H$12 + G1029*10^-3, NA())","v":{"$error":"#N/A"}},9208,9.1278279504017181,{"$f":" IF(Foglio1!$C$13 <> \"\", 8.314472*Foglio1!$C$13*Foglio2!J1029, NA())","v":{"$error":"#N/A"}},{"$f":"IF(Foglio1!$H$13 <> \"\", Foglio1!$H$13 + K1029*10^-3, NA())","v":{"$error":"#N/A"}},9208,9.1278279504017181,{"$f":" IF(Foglio1!$C$14 <> \"\", 8.314472*Foglio1!$C$14*Foglio2!N1029, NA())","v":{"$error":"#N/A"}},{"$f":"IF(Foglio1!$H$14 <> \"\", Foglio1!$H$14 + O1029*10^-3, NA())","v":{"$error":"#N/A"}},9208,9.1278279504017181,{"$f":" IF(Foglio1!$C$15 <> \"\", 8.314472*Foglio1!$C$15*Foglio2!R1029, NA())","v":{"$error":"#N/A"}},{"$f":"IF(Foglio1!$H$15 <> \"\", Foglio1!$H$15 + S1029*10^-3, NA())","v":{"$error":"#N/A"}}]
[9217,9.1288048839936646,{"$f":" IF(Foglio1!$C$11 <> \"\", 8.314472*Foglio1!$C$11*Foglio2!B1030, NA())","v":22770.357780428574},{"$f":"IF(Foglio1!$H$11 <> \"\", Foglio1!$H$11 + C1030*10^-3, NA())","v":-67.229642219571417},9217,9.1288048839936646,{"$f":" IF(Foglio1!$C$12 <> \"\", 8.314472*Foglio1!$C$12*Foglio2!F1030, NA())","v":{"$error":"#N/A"}},{"$f":"IF(Foglio1!$H$12 <> \"\", Foglio1!$H$12 + G1030*10^-3, NA())","v":{"$error":"#N/A"}},9217,9.1288048839936646,{"$f":" IF(Foglio1!$C$13 <> \"\", 8.314472*Foglio1!$C$13*Foglio2!J1030, NA())","v":{"$error":"#N/A"}},{"$f":"IF(Foglio1!$H$13 <> \"\", Foglio1!$H$13 + K1030*10^-3, NA())","v":{"$error":"#N/A"}},9217,9.1288048839936646,{"$f":" IF(Foglio1!$C$14 <> \"\", 8.314472*Foglio1!$C$14*Foglio2!N1030, NA())","v":{"$error":"#N/A"}},{"$f":"IF(Foglio1!$H$14 <> \"\", Foglio1!$H$14 + O1030*10^-3, NA())","v":{"$error":"#N/A"}},9217,9.1288048839936646,{"$f":" IF(Foglio1!$C$15 <> \"\", 8.314472*Foglio1!$C$15*Foglio2!R1030, NA())","v":{"$error":"#N/A"}},{"$f":"IF(Foglio1!$H$15 <> \"\", Foglio1!$H$15 + S1030*10^-3, NA())","v":{"$error":"#N/A"}}]
[9226,9.129780864117766,{"$f":" IF(Foglio1!$C$11 <> \"\", 8.314472*Foglio1!$C$11*Foglio2!B1031, NA())","v":22772.792208252893},{"$f":"IF(Foglio1!$H$11 <> \"\", Foglio1!$H$11 + C1031*10^-3, NA())","v":-67.227207791747105},9226,9.129780864117766,{"$f":" IF(Foglio1!$C$12 <> \"\", 8.314472*Foglio1!$C$12*Foglio2!F1031, NA())","v":{"$error":"#N/A"}},{"$f":"IF(Foglio1!$H$12 <> \"\", Foglio1!$H$12 + G1031*10^-3, NA())","v":{"$error":"#N/A"}},9226,9.129780864117766,{"$f":" IF(Foglio1!$C$13 <> \"\", 8.314472*Foglio1!$C$13*Foglio2!J1031, NA())","v":{"$error":"#N/A"}},{"$f":"IF(Foglio1!$H$13 <> \"\", Foglio1!$H$13 + K1031*10^-3, NA())","v":{"$error":"#N/A"}},9226,9.129780864117766,{"$f":" IF(Foglio1!$C$14 <> \"\", 8.314472*Foglio1!$C$14*Foglio2!N1031, NA())","v":{"$error":"#N/A"}},{"$f":"IF(Foglio1!$H$14 <> \"\", Foglio1!$H$14 + O1031*10^-3, NA())","v":{"$error":"#N/A"}},9226,9.129780864117766,{"$f":" IF(Foglio1!$C$15 <> \"\", 8.314472*Foglio1!$C$15*Foglio2!R1031, NA())","v":{"$error":"#N/A"}},{"$f":"IF(Foglio1!$H$15 <> \"\", Foglio1!$H$15 + S1031*10^-3, NA())","v":{"$error":"#N/A"}}]
[9235,9.1307558926333403,{"$f":" IF(Foglio1!$C$11 <> \"\", 8.314472*Foglio1!$C$11*Foglio2!B1032, NA())","v":22775.224262440475},{"$f":"IF(Foglio1!$H$11 <> \"\", Foglio1!$H$11 + C1032*10^-3, NA())","v":-67.224775737559526},9235,9.1307558926333403,{"$f":" IF(Foglio1!$C$12 <> \"\", 8.314472*Foglio1!$C$12*Foglio2!F1032, NA())","v":{"$error":"#N/A"}},{"$f":"IF(Foglio1!$H$12 <> \"\", Foglio1!$H$12 + G1032*10^-3, NA())","v":{"$error":"#N/A"}},9235,9.1307558926333403,{"$f":" IF(Foglio1!$C$13 <> \"\", 8.314472*Foglio1!$C$13*Foglio2!J1032, NA())","v":{"$error":"#N/A"}},{"$f":"IF(Foglio1!$H$13 <> \"\", Foglio1!$H$13 + K1032*10^-3, NA())","v":{"$error":"#N/A"}},9235,9.1307558926333403,{"$f":" IF(Foglio1!$C$14 <> \"\", 8.314472*Foglio1!$C$14*Foglio2!N1032, NA())","v":{"$error":"#N/A"}},{"$f":"IF(Foglio1!$H$14 <> \"\", Foglio1!$H$14 + O1032*10^-3, NA())","v":{"$error":"#N/A"}},9235,9.1307558926333403,{"$f":" IF(Foglio1!$C$15 <> \"\", 8.314472*Foglio1!$C$15*Foglio2!R1032, NA())","v":{"$error":"#N/A"}},{"$f":"IF(Foglio1!$H$15 <> \"\", Foglio1!$H$15 + S1032*10^-3, NA())","v":{"$error":"#N/A"}}]
[9244,9.1317299713942717,{"$f":" IF(Foglio1!$C$11 <> \"\", 8.314472*Foglio1!$C$11*Foglio2!B1033, NA())","v":22777.653947615545},{"$f":"IF(Foglio1!$H$11 <> \"\", Foglio1!$H$11 + C1033*10^-3, NA())","v":-67.222346052384452},9244,9.1317299713942717,{"$f":" IF(Foglio1!$C$12 <> \"\", 8.314472*Foglio1!$C$12*Foglio2!F1033, NA())","v":{"$error":"#N/A"}},{"$f":"IF(Foglio1!$H$12 <> \"\", Foglio1!$H$12 + G1033*10^-3, NA())","v":{"$error":"#N/A"}},9244,9.1317299713942717,{"$f":" IF(Foglio1!$C$13 <> \"\", 8.314472*Foglio1!$C$13*Foglio2!J1033, NA())","v":{"$error":"#N/A"}},{"$f":"IF(Foglio1!$H$13 <> \"\", Foglio1!$H$13 + K1033*10^-3, NA())","v":{"$error":"#N/A"}},9244,9.1317299713942717,{"$f":" IF(Foglio1!$C$14 <> \"\", 8.314472*Foglio1!$C$14*Foglio2!N1033, NA())","v":{"$error":"#N/A"}},{"$f":"IF(Foglio1!$H$14 <> \"\", Foglio1!$H$14 + O1033*10^-3, NA())","v":{"$error":"#N/A"}},9244,9.1317299713942717,{"$f":" IF(Foglio1!$C$15 <> \"\", 8.314472*Foglio1!$C$15*Foglio2!R1033, NA())","v":{"$error":"#N/A"}},{"$f":"IF(Foglio1!$H$15 <> \"\", Foglio1!$H$15 + S1033*10^-3, NA())","v":{"$error":"#N/A"}}]
[9253,9.1327031022490299,{"$f":" IF(Foglio1!$C$11 <> \"\", 8.314472*Foglio1!$C$11*Foglio2!B1034, NA())","v":22780.081268388811},{"$f":"IF(Foglio1!$H$11 <> \"\", Foglio1!$H$11 + C1034*10^-3, NA())","v":-67.219918731611187},9253,9.1327031022490299,{"$f":" IF(Foglio1!$C$12 <> \"\", 8.314472*Foglio1!$C$12*Foglio2!F1034, NA())","v":{"$error":"#N/A"}},{"$f":"IF(Foglio1!$H$12 <> \"\", Foglio1!$H$12 + G1034*10^-3, NA())","v":{"$error":"#N/A"}},9253,9.1327031022490299,{"$f":" IF(Foglio1!$C$13 <> \"\", 8.314472*Foglio1!$C$13*Foglio2!J1034, NA())","v":{"$error":"#N/A"}},{"$f":"IF(Foglio1!$H$13 <> \"\", Foglio1!$H$13 + K1034*10^-3, NA())","v":{"$error":"#N/A"}},9253,9.1327031022490299,{"$f":" IF(Foglio1!$C$14 <> \"\", 8.314472*Foglio1!$C$14*Foglio2!N1034, NA())","v":{"$error":"#N/A"}},{"$f":"IF(Foglio1!$H$14 <> \"\", Foglio1!$H$14 + O1034*10^-3, NA())","v":{"$error":"#N/A"}},9253,9.1327031022490299,{"$f":" IF(Foglio1!$C$15 <> \"\", 8.314472*Foglio1!$C$15*Foglio2!R1034, NA())","v":{"$error":"#N/A"}},{"$f":"IF(Foglio1!$H$15 <> \"\", Foglio1!$H$15 + S1034*10^-3, NA())","v":{"$error":"#N/A"}}]
[9262,9.1336752870406972,{"$f":" IF(Foglio1!$C$11 <> \"\", 8.314472*Foglio1!$C$11*Foglio2!B1035, NA())","v":22782.506229357554},{"$f":"IF(Foglio1!$H$11 <> \"\", Foglio1!$H$11 + C1035*10^-3, NA())","v":-67.217493770642449},9262,9.1336752870406972,{"$f":" IF(Foglio1!$C$12 <> \"\", 8.314472*Foglio1!$C$12*Foglio2!F1035, NA())","v":{"$error":"#N/A"}},{"$f":"IF(Foglio1!$H$12 <> \"\", Foglio1!$H$12 + G1035*10^-3, NA())","v":{"$error":"#N/A"}},9262,9.1336752870406972,{"$f":" IF(Foglio1!$C$13 <> \"\", 8.314472*Foglio1!$C$13*Foglio2!J1035, NA())","v":{"$error":"#N/A"}},{"$f":"IF(Foglio1!$H$13 <> \"\", Foglio1!$H$13 + K1035*10^-3, NA())","v":{"$error":"#N/A"}},9262,9.1336752870406972,{"$f":" IF(Foglio1!$C$14 <> \"\", 8.314472*Foglio1!$C$14*Foglio2!N1035, NA())","v":{"$error":"#N/A"}},{"$f":"IF(Foglio1!$H$14 <> \"\", Foglio1!$H$14 + O1035*10^-3, NA())","v":{"$error":"#N/A"}},9262,9.1336752870406972,{"$f":" IF(Foglio1!$C$15 <> \"\", 8.314472*Foglio1!$C$15*Foglio2!R1035, NA())","v":{"$error":"#N/A"}},{"$f":"IF(Foglio1!$H$15 <> \"\", Foglio1!$H$15 + S1035*10^-3, NA())","v":{"$error":"#N/A"}}]
[9271,9.1346465276069821,{"$f":" IF(Foglio1!$C$11 <> \"\", 8.314472*Foglio1!$C$11*Foglio2!B1036, NA())","v":22784.928835105646},{"$f":"IF(Foglio1!$H$11 <> \"\", Foglio1!$H$11 + C1036*10^-3, NA())","v":-67.215071164894354},9271,9.1346465276069821,{"$f":" IF(Foglio1!$C$12 <> \"\", 8.314472*Foglio1!$C$12*Foglio2!F1036, NA())","v":{"$error":"#N/A"}},{"$f":"IF(Foglio1!$H$12 <> \"\", Foglio1!$H$12 + G1036*10^-3, NA())","v":{"$error":"#N/A"}},9271,9.1346465276069821,{"$f":" IF(Foglio1!$C$13 <> \"\", 8.314472*Foglio1!$C$13*Foglio2!J1036, NA())","v":{"$error":"#N/A"}},{"$f":"IF(Foglio1!$H$13 <> \"\", Foglio1!$H$13 + K1036*10^-3, NA())","v":{"$error":"#N/A"}},9271,9.1346465276069821,{"$f":" IF(Foglio1!$C$14 <> \"\", 8.314472*Foglio1!$C$14*Foglio2!N1036, NA())","v":{"$error":"#N/A"}},{"$f":"IF(Foglio1!$H$14 <> \"\", Foglio1!$H$14 + O1036*10^-3, NA())","v":{"$error":"#N/A"}},9271,9.1346465276069821,{"$f":" IF(Foglio1!$C$15 <> \"\", 8.314472*Foglio1!$C$15*Foglio2!R1036, NA())","v":{"$error":"#N/A"}},{"$f":"IF(Foglio1!$H$15 <> \"\", Foglio1!$H$15 + S1036*10^-3, NA())","v":{"$error":"#N/A"}}]
[9280,9.1356168257802466,{"$f":" IF(Foglio1!$C$11 <> \"\", 8.314472*Foglio1!$C$11*Foglio2!B1037, NA())","v":22787.349090203625},{"$f":"IF(Foglio1!$H$11 <> \"\", Foglio1!$H$11 + C1037*10^-3, NA())","v":-67.212650909796366},9280,9.1356168257802466,{"$f":" IF(Foglio1!$C$12 <> \"\", 8.314472*Foglio1!$C$12*Foglio2!F1037, NA())","v":{"$error":"#N/A"}},{"$f":"IF(Foglio1!$H$12 <> \"\", Foglio1!$H$12 + G1037*10^-3, NA())","v":{"$error":"#N/A"}},9280,9.1356168257802466,{"$f":" IF(Foglio1!$C$13 <> \"\", 8.314472*Foglio1!$C$13*Foglio2!J1037, NA())","v":{"$error":"#N/A"}},{"$f":"IF(Foglio1!$H$13 <> \"\", Foglio1!$H$13 + K1037*10^-3, NA())","v":{"$error":"#N/A"}},9280,9.1356168257802466,{"$f":" IF(Foglio1!$C$14 <> \"\", 8.314472*Foglio1!$C$14*Foglio2!N1037, NA())","v":{"$error":"#N/A"}},{"$f":"IF(Foglio1!$H$14 <> \"\", Foglio1!$H$14 + O1037*10^-3, NA())","v":{"$error":"#N/A"}},9280,9.1356168257802466,{"$f":" IF(Foglio1!$C$15 <> \"\", 8.314472*Foglio1!$C$15*Foglio2!R1037, NA())","v":{"$error":"#N/A"}},{"$f":"IF(Foglio1!$H$15 <> \"\", Foglio1!$H$15 + S1037*10^-3, NA())","v":{"$error":"#N/A"}}]
[9289,9.1365861833875215,{"$f":" IF(Foglio1!$C$11 <> \"\", 8.314472*Foglio1!$C$11*Foglio2!B1038, NA())","v":22789.766999208725},{"$f":"IF(Foglio1!$H$11 <> \"\", Foglio1!$H$11 + C1038*10^-3, NA())","v":-67.210233000791277},9289,9.1365861833875215,{"$f":" IF(Foglio1!$C$12 <> \"\", 8.314472*Foglio1!$C$12*Foglio2!F1038, NA())","v":{"$error":"#N/A"}},{"$f":"IF(Foglio1!$H$12 <> \"\", Foglio1!$H$12 + G1038*10^-3, NA())","v":{"$error":"#N/A"}},9289,9.1365861833875215,{"$f":" IF(Foglio1!$C$13 <> \"\", 8.314472*Foglio1!$C$13*Foglio2!J1038, NA())","v":{"$error":"#N/A"}},{"$f":"IF(Foglio1!$H$13 <> \"\", Foglio1!$H$13 + K1038*10^-3, NA())","v":{"$error":"#N/A"}},9289,9.1365861833875215,{"$f":" IF(Foglio1!$C$14 <> \"\", 8.314472*Foglio1!$C$14*Foglio2!N1038, NA())","v":{"$error":"#N/A"}},{"$f":"IF(Foglio1!$H$14 <> \"\", Foglio1!$H$14 + O1038*10^-3, NA())","v":{"$error":"#N/A"}},9289,9.1365861833875215,{"$f":" IF(Foglio1!$C$15 <> \"\", 8.314472*Foglio1!$C$15*Foglio2!R1038, NA())","v":{"$error":"#N/A"}},{"$f":"IF(Foglio1!$H$15 <> \"\", Foglio1!$H$15 + S1038*10^-3, NA())","v":{"$error":"#N/A"}}]
[9298,9.1375546022505301,{"$f":" IF(Foglio1!$C$11 <> \"\", 8.314472*Foglio1!$C$11*Foglio2!B1039, NA())","v":22792.182566664953},{"$f":"IF(Foglio1!$H$11 <> \"\", Foglio1!$H$11 + C1039*10^-3, NA())","v":-67.207817433335052},9298,9.1375546022505301,{"$f":" IF(Foglio1!$C$12 <> \"\", 8.314472*Foglio1!$C$12*Foglio2!F1039, NA())","v":{"$error":"#N/A"}},{"$f":"IF(Foglio1!$H$12 <> \"\", Foglio1!$H$12 + G1039*10^-3, NA())","v":{"$error":"#N/A"}},9298,9.1375546022505301,{"$f":" IF(Foglio1!$C$13 <> \"\", 8.314472*Foglio1!$C$13*Foglio2!J1039, NA())","v":{"$error":"#N/A"}},{"$f":"IF(Foglio1!$H$13 <> \"\", Foglio1!$H$13 + K1039*10^-3, NA())","v":{"$error":"#N/A"}},9298,9.1375546022505301,{"$f":" IF(Foglio1!$C$14 <> \"\", 8.314472*Foglio1!$C$14*Foglio2!N1039, NA())","v":{"$error":"#N/A"}},{"$f":"IF(Foglio1!$H$14 <> \"\", Foglio1!$H$14 + O1039*10^-3, NA())","v":{"$error":"#N/A"}},9298,9.1375546022505301,{"$f":" IF(Foglio1!$C$15 <> \"\", 8.314472*Foglio1!$C$15*Foglio2!R1039, NA())","v":{"$error":"#N/A"}},{"$f":"IF(Foglio1!$H$15 <> \"\", Foglio1!$H$15 + S1039*10^-3, NA())","v":{"$error":"#N/A"}}]
[9307,9.1385220841857109,{"$f":" IF(Foglio1!$C$11 <> \"\", 8.314472*Foglio1!$C$11*Foglio2!B1040, NA())","v":22794.595797103124},{"$f":"IF(Foglio1!$H$11 <> \"\", Foglio1!$H$11 + C1040*10^-3, NA())","v":-67.205404202896872},9307,9.1385220841857109,{"$f":" IF(Foglio1!$C$12 <> \"\", 8.314472*Foglio1!$C$12*Foglio2!F1040, NA())","v":{"$error":"#N/A"}},{"$f":"IF(Foglio1!$H$12 <> \"\", Foglio1!$H$12 + G1040*10^-3, NA())","v":{"$error":"#N/A"}},9307,9.1385220841857109,{"$f":" IF(Foglio1!$C$13 <> \"\", 8.314472*Foglio1!$C$13*Foglio2!J1040, NA())","v":{"$error":"#N/A"}},{"$f":"IF(Foglio1!$H$13 <> \"\", Foglio1!$H$13 + K1040*10^-3, NA())","v":{"$error":"#N/A"}},9307,9.1385220841857109,{"$f":" IF(Foglio1!$C$14 <> \"\", 8.314472*Foglio1!$C$14*Foglio2!N1040, NA())","v":{"$error":"#N/A"}},{"$f":"IF(Foglio1!$H$14 <> \"\", Foglio1!$H$14 + O1040*10^-3, NA())","v":{"$error":"#N/A"}},9307,9.1385220841857109,{"$f":" IF(Foglio1!$C$15 <> \"\", 8.314472*Foglio1!$C$15*Foglio2!R1040, NA())","v":{"$error":"#N/A"}},{"$f":"IF(Foglio1!$H$15 <> \"\", Foglio1!$H$15 + S1040*10^-3, NA())","v":{"$error":"#N/A"}}]
[9316,9.139488631004232,{"$f":" IF(Foglio1!$C$11 <> \"\", 8.314472*Foglio1!$C$11*Foglio2!B1041, NA())","v":22797.006695040909},{"$f":"IF(Foglio1!$H$11 <> \"\", Foglio1!$H$11 + C1041*10^-3, NA())","v":-67.202993304959094},9316,9.139488631004232,{"$f":" IF(Foglio1!$C$12 <> \"\", 8.314472*Foglio1!$C$12*Foglio2!F1041, NA())","v":{"$error":"#N/A"}},{"$f":"IF(Foglio1!$H$12 <> \"\", Foglio1!$H$12 + G1041*10^-3, NA())","v":{"$error":"#N/A"}},9316,9.139488631004232,{"$f":" IF(Foglio1!$C$13 <> \"\", 8.314472*Foglio1!$C$13*Foglio2!J1041, NA())","v":{"$error":"#N/A"}},{"$f":"IF(Foglio1!$H$13 <> \"\", Foglio1!$H$13 + K1041*10^-3, NA())","v":{"$error":"#N/A"}},9316,9.139488631004232,{"$f":" IF(Foglio1!$C$14 <> \"\", 8.314472*Foglio1!$C$14*Foglio2!N1041, NA())","v":{"$error":"#N/A"}},{"$f":"IF(Foglio1!$H$14 <> \"\", Foglio1!$H$14 + O1041*10^-3, NA())","v":{"$error":"#N/A"}},9316,9.139488631004232,{"$f":" IF(Foglio1!$C$15 <> \"\", 8.314472*Foglio1!$C$15*Foglio2!R1041, NA())","v":{"$error":"#N/A"}},{"$f":"IF(Foglio1!$H$15 <> \"\", Foglio1!$H$15 + S1041*10^-3, NA())","v":{"$error":"#N/A"}}]
[9325,9.140454244512016,{"$f":" IF(Foglio1!$C$11 <> \"\", 8.314472*Foglio1!$C$11*Foglio2!B1042, NA())","v":22799.415264982894},{"$f":"IF(Foglio1!$H$11 <> \"\", Foglio1!$H$11 + C1042*10^-3, NA())","v":-67.200584735017102},9325,9.140454244512016,{"$f":" IF(Foglio1!$C$12 <> \"\", 8.314472*Foglio1!$C$12*Foglio2!F1042, NA())","v":{"$error":"#N/A"}},{"$f":"IF(Foglio1!$H$12 <> \"\", Foglio1!$H$12 + G1042*10^-3, NA())","v":{"$error":"#N/A"}},9325,9.140454244512016,{"$f":" IF(Foglio1!$C$13 <> \"\", 8.314472*Foglio1!$C$13*Foglio2!J1042, NA())","v":{"$error":"#N/A"}},{"$f":"IF(Foglio1!$H$13 <> \"\", Foglio1!$H$13 + K1042*10^-3, NA())","v":{"$error":"#N/A"}},9325,9.140454244512016,{"$f":" IF(Foglio1!$C$14 <> \"\", 8.314472*Foglio1!$C$14*Foglio2!N1042, NA())","v":{"$error":"#N/A"}},{"$f":"IF(Foglio1!$H$14 <> \"\", Foglio1!$H$14 + O1042*10^-3, NA())","v":{"$error":"#N/A"}},9325,9.140454244512016,{"$f":" IF(Foglio1!$C$15 <> \"\", 8.314472*Foglio1!$C$15*Foglio2!R1042, NA())","v":{"$error":"#N/A"}},{"$f":"IF(Foglio1!$H$15 <> \"\", Foglio1!$H$15 + S1042*10^-3, NA())","v":{"$error":"#N/A"}}]
[9334,9.1414189265097612,{"$f":" IF(Foglio1!$C$11 <> \"\", 8.314472*Foglio1!$C$11*Foglio2!B1043, NA())","v":22801.821511420643},{"$f":"IF(Foglio1!$H$11 <> \"\", Foglio1!$H$11 + C1043*10^-3, NA())","v":-67.198178488579359},9334,9.1414189265097612,{"$f":" IF(Foglio1!$C$12 <> \"\", 8.314472*Foglio1!$C$12*Foglio2!F1043, NA())","v":{"$error":"#N/A"}},{"$f":"IF(Foglio1!$H$12 <> \"\", Foglio1!$H$12 + G1043*10^-3, NA())","v":{"$error":"#N/A"}},9334,9.1414189265097612,{"$f":" IF(Foglio1!$C$13 <> \"\", 8.314472*Foglio1!$C$13*Foglio2!J1043, NA())","v":{"$error":"#N/A"}},{"$f":"IF(Foglio1!$H$13 <> \"\", Foglio1!$H$13 + K1043*10^-3, NA())","v":{"$error":"#N/A"}},9334,9.1414189265097612,{"$f":" IF(Foglio1!$C$14 <> \"\", 8.314472*Foglio1!$C$14*Foglio2!N1043, NA())","v":{"$error":"#N/A"}},{"$f":"IF(Foglio1!$H$14 <> \"\", Foglio1!$H$14 + O1043*10^-3, NA())","v":{"$error":"#N/A"}},9334,9.1414189265097612,{"$f":" IF(Foglio1!$C$15 <> \"\", 8.314472*Foglio1!$C$15*Foglio2!R1043, NA())","v":{"$error":"#N/A"}},{"$f":"IF(Foglio1!$H$15 <> \"\", Foglio1!$H$15 + S1043*10^-3, NA())","v":{"$error":"#N/A"}}]
[9343,9.1423826787929556,{"$f":" IF(Foglio1!$C$11 <> \"\", 8.314472*Foglio1!$C$11*Foglio2!B1044, NA())","v":22804.225438832709},{"$f":"IF(Foglio1!$H$11 <> \"\", Foglio1!$H$11 + C1044*10^-3, NA())","v":-67.195774561167298},9343,9.1423826787929556,{"$f":" IF(Foglio1!$C$12 <> \"\", 8.314472*Foglio1!$C$12*Foglio2!F1044, NA())","v":{"$error":"#N/A"}},{"$f":"IF(Foglio1!$H$12 <> \"\", Foglio1!$H$12 + G1044*10^-3, NA())","v":{"$error":"#N/A"}},9343,9.1423826787929556,{"$f":" IF(Foglio1!$C$13 <> \"\", 8.314472*Foglio1!$C$13*Foglio2!J1044, NA())","v":{"$error":"#N/A"}},{"$f":"IF(Foglio1!$H$13 <> \"\", Foglio1!$H$13 + K1044*10^-3, NA())","v":{"$error":"#N/A"}},9343,9.1423826787929556,{"$f":" IF(Foglio1!$C$14 <> \"\", 8.314472*Foglio1!$C$14*Foglio2!N1044, NA())","v":{"$error":"#N/A"}},{"$f":"IF(Foglio1!$H$14 <> \"\", Foglio1!$H$14 + O1044*10^-3, NA())","v":{"$error":"#N/A"}},9343,9.1423826787929556,{"$f":" IF(Foglio1!$C$15 <> \"\", 8.314472*Foglio1!$C$15*Foglio2!R1044, NA())","v":{"$error":"#N/A"}},{"$f":"IF(Foglio1!$H$15 <> \"\", Foglio1!$H$15 + S1044*10^-3, NA())","v":{"$error":"#N/A"}}]
[9352,9.1433455031519042,{"$f":" IF(Foglio1!$C$11 <> \"\", 8.314472*Foglio1!$C$11*Foglio2!B1045, NA())","v":22806.627051684729},{"$f":"IF(Foglio1!$H$11 <> \"\", Foglio1!$H$11 + C1045*10^-3, NA())","v":-67.193372948315272},9352,9.1433455031519042,{"$f":" IF(Foglio1!$C$12 <> \"\", 8.314472*Foglio1!$C$12*Foglio2!F1045, NA())","v":{"$error":"#N/A"}},{"$f":"IF(Foglio1!$H$12 <> \"\", Foglio1!$H$12 + G1045*10^-3, NA())","v":{"$error":"#N/A"}},9352,9.1433455031519042,{"$f":" IF(Foglio1!$C$13 <> \"\", 8.314472*Foglio1!$C$13*Foglio2!J1045, NA())","v":{"$error":"#N/A"}},{"$f":"IF(Foglio1!$H$13 <> \"\", Foglio1!$H$13 + K1045*10^-3, NA())","v":{"$error":"#N/A"}},9352,9.1433455031519042,{"$f":" IF(Foglio1!$C$14 <> \"\", 8.314472*Foglio1!$C$14*Foglio2!N1045, NA())","v":{"$error":"#N/A"}},{"$f":"IF(Foglio1!$H$14 <> \"\", Foglio1!$H$14 + O1045*10^-3, NA())","v":{"$error":"#N/A"}},9352,9.1433455031519042,{"$f":" IF(Foglio1!$C$15 <> \"\", 8.314472*Foglio1!$C$15*Foglio2!R1045, NA())","v":{"$error":"#N/A"}},{"$f":"IF(Foglio1!$H$15 <> \"\", Foglio1!$H$15 + S1045*10^-3, NA())","v":{"$error":"#N/A"}}]
[9361,9.1443074013717442,{"$f":" IF(Foglio1!$C$11 <> \"\", 8.314472*Foglio1!$C$11*Foglio2!B1046, NA())","v":22809.026354429439},{"$f":"IF(Foglio1!$H$11 <> \"\", Foglio1!$H$11 + C1046*10^-3, NA())","v":-67.190973645570551},9361,9.1443074013717442,{"$f":" IF(Foglio1!$C$12 <> \"\", 8.314472*Foglio1!$C$12*Foglio2!F1046, NA())","v":{"$error":"#N/A"}},{"$f":"IF(Foglio1!$H$12 <> \"\", Foglio1!$H$12 + G1046*10^-3, NA())","v":{"$error":"#N/A"}},9361,9.1443074013717442,{"$f":" IF(Foglio1!$C$13 <> \"\", 8.314472*Foglio1!$C$13*Foglio2!J1046, NA())","v":{"$error":"#N/A"}},{"$f":"IF(Foglio1!$H$13 <> \"\", Foglio1!$H$13 + K1046*10^-3, NA())","v":{"$error":"#N/A"}},9361,9.1443074013717442,{"$f":" IF(Foglio1!$C$14 <> \"\", 8.314472*Foglio1!$C$14*Foglio2!N1046, NA())","v":{"$error":"#N/A"}},{"$f":"IF(Foglio1!$H$14 <> \"\", Foglio1!$H$14 + O1046*10^-3, NA())","v":{"$error":"#N/A"}},9361,9.1443074013717442,{"$f":" IF(Foglio1!$C$15 <> \"\", 8.314472*Foglio1!$C$15*Foglio2!R1046, NA())","v":{"$error":"#N/A"}},{"$f":"IF(Foglio1!$H$15 <> \"\", Foglio1!$H$15 + S1046*10^-3, NA())","v":{"$error":"#N/A"}}]
[9370,9.1452683752324671,{"$f":" IF(Foglio1!$C$11 <> \"\", 8.314472*Foglio1!$C$11*Foglio2!B1047, NA())","v":22811.423351506754},{"$f":"IF(Foglio1!$H$11 <> \"\", Foglio1!$H$11 + C1047*10^-3, NA())","v":-67.188576648493239},9370,9.1452683752324671,{"$f":" IF(Foglio1!$C$12 <> \"\", 8.314472*Foglio1!$C$12*Foglio2!F1047, NA())","v":{"$error":"#N/A"}},{"$f":"IF(Foglio1!$H$12 <> \"\", Foglio1!$H$12 + G1047*10^-3, NA())","v":{"$error":"#N/A"}},9370,9.1452683752324671,{"$f":" IF(Foglio1!$C$13 <> \"\", 8.314472*Foglio1!$C$13*Foglio2!J1047, NA())","v":{"$error":"#N/A"}},{"$f":"IF(Foglio1!$H$13 <> \"\", Foglio1!$H$13 + K1047*10^-3, NA())","v":{"$error":"#N/A"}},9370,9.1452683752324671,{"$f":" IF(Foglio1!$C$14 <> \"\", 8.314472*Foglio1!$C$14*Foglio2!N1047, NA())","v":{"$error":"#N/A"}},{"$f":"IF(Foglio1!$H$14 <> \"\", Foglio1!$H$14 + O1047*10^-3, NA())","v":{"$error":"#N/A"}},9370,9.1452683752324671,{"$f":" IF(Foglio1!$C$15 <> \"\", 8.314472*Foglio1!$C$15*Foglio2!R1047, NA())","v":{"$error":"#N/A"}},{"$f":"IF(Foglio1!$H$15 <> \"\", Foglio1!$H$15 + S1047*10^-3, NA())","v":{"$error":"#N/A"}}]
[9379,9.1462284265089391,{"$f":" IF(Foglio1!$C$11 <> \"\", 8.314472*Foglio1!$C$11*Foglio2!B1048, NA())","v":22813.81804734379},{"$f":"IF(Foglio1!$H$11 <> \"\", Foglio1!$H$11 + C1048*10^-3, NA())","v":-67.186181952656213},9379,9.1462284265089391,{"$f":" IF(Foglio1!$C$12 <> \"\", 8.314472*Foglio1!$C$12*Foglio2!F1048, NA())","v":{"$error":"#N/A"}},{"$f":"IF(Foglio1!$H$12 <> \"\", Foglio1!$H$12 + G1048*10^-3, NA())","v":{"$error":"#N/A"}},9379,9.1462284265089391,{"$f":" IF(Foglio1!$C$13 <> \"\", 8.314472*Foglio1!$C$13*Foglio2!J1048, NA())","v":{"$error":"#N/A"}},{"$f":"IF(Foglio1!$H$13 <> \"\", Foglio1!$H$13 + K1048*10^-3, NA())","v":{"$error":"#N/A"}},9379,9.1462284265089391,{"$f":" IF(Foglio1!$C$14 <> \"\", 8.314472*Foglio1!$C$14*Foglio2!N1048, NA())","v":{"$error":"#N/A"}},{"$f":"IF(Foglio1!$H$14 <> \"\", Foglio1!$H$14 + O1048*10^-3, NA())","v":{"$error":"#N/A"}},9379,9.1462284265089391,{"$f":" IF(Foglio1!$C$15 <> \"\", 8.314472*Foglio1!$C$15*Foglio2!R1048, NA())","v":{"$error":"#N/A"}},{"$f":"IF(Foglio1!$H$15 <> \"\", Foglio1!$H$15 + S1048*10^-3, NA())","v":{"$error":"#N/A"}}]
[9388,9.1471875569709145,{"$f":" IF(Foglio1!$C$11 <> \"\", 8.314472*Foglio1!$C$11*Foglio2!B1049, NA())","v":22816.210446354922},{"$f":"IF(Foglio1!$H$11 <> \"\", Foglio1!$H$11 + C1049*10^-3, NA())","v":-67.183789553645084},9388,9.1471875569709145,{"$f":" IF(Foglio1!$C$12 <> \"\", 8.314472*Foglio1!$C$12*Foglio2!F1049, NA())","v":{"$error":"#N/A"}},{"$f":"IF(Foglio1!$H$12 <> \"\", Foglio1!$H$12 + G1049*10^-3, NA())","v":{"$error":"#N/A"}},9388,9.1471875569709145,{"$f":" IF(Foglio1!$C$13 <> \"\", 8.314472*Foglio1!$C$13*Foglio2!J1049, NA())","v":{"$error":"#N/A"}},{"$f":"IF(Foglio1!$H$13 <> \"\", Foglio1!$H$13 + K1049*10^-3, NA())","v":{"$error":"#N/A"}},9388,9.1471875569709145,{"$f":" IF(Foglio1!$C$14 <> \"\", 8.314472*Foglio1!$C$14*Foglio2!N1049, NA())","v":{"$error":"#N/A"}},{"$f":"IF(Foglio1!$H$14 <> \"\", Foglio1!$H$14 + O1049*10^-3, NA())","v":{"$error":"#N/A"}},9388,9.1471875569709145,{"$f":" IF(Foglio1!$C$15 <> \"\", 8.314472*Foglio1!$C$15*Foglio2!R1049, NA())","v":{"$error":"#N/A"}},{"$f":"IF(Foglio1!$H$15 <> \"\", Foglio1!$H$15 + S1049*10^-3, NA())","v":{"$error":"#N/A"}}]
[9397,9.1481457683830651,{"$f":" IF(Foglio1!$C$11 <> \"\", 8.314472*Foglio1!$C$11*Foglio2!B1050, NA())","v":22818.600552941847},{"$f":"IF(Foglio1!$H$11 <> \"\", Foglio1!$H$11 + C1050*10^-3, NA())","v":-67.181399447058155},9397,9.1481457683830651,{"$f":" IF(Foglio1!$C$12 <> \"\", 8.314472*Foglio1!$C$12*Foglio2!F1050, NA())","v":{"$error":"#N/A"}},{"$f":"IF(Foglio1!$H$12 <> \"\", Foglio1!$H$12 + G1050*10^-3, NA())","v":{"$error":"#N/A"}},9397,9.1481457683830651,{"$f":" IF(Foglio1!$C$13 <> \"\", 8.314472*Foglio1!$C$13*Foglio2!J1050, NA())","v":{"$error":"#N/A"}},{"$f":"IF(Foglio1!$H$13 <> \"\", Foglio1!$H$13 + K1050*10^-3, NA())","v":{"$error":"#N/A"}},9397,9.1481457683830651,{"$f":" IF(Foglio1!$C$14 <> \"\", 8.314472*Foglio1!$C$14*Foglio2!N1050, NA())","v":{"$error":"#N/A"}},{"$f":"IF(Foglio1!$H$14 <> \"\", Foglio1!$H$14 + O1050*10^-3, NA())","v":{"$error":"#N/A"}},9397,9.1481457683830651,{"$f":" IF(Foglio1!$C$15 <> \"\", 8.314472*Foglio1!$C$15*Foglio2!R1050, NA())","v":{"$error":"#N/A"}},{"$f":"IF(Foglio1!$H$15 <> \"\", Foglio1!$H$15 + S1050*10^-3, NA())","v":{"$error":"#N/A"}}]
[9406,9.1491030625049934,{"$f":" IF(Foglio1!$C$11 <> \"\", 8.314472*Foglio1!$C$11*Foglio2!B1051, NA())","v":22820.988371493608},{"$f":"IF(Foglio1!$H$11 <> \"\", Foglio1!$H$11 + C1051*10^-3, NA())","v":-67.179011628506387},9406,9.1491030625049934,{"$f":" IF(Foglio1!$C$12 <> \"\", 8.314472*Foglio1!$C$12*Foglio2!F1051, NA())","v":{"$error":"#N/A"}},{"$f":"IF(Foglio1!$H$12 <> \"\", Foglio1!$H$12 + G1051*10^-3, NA())","v":{"$error":"#N/A"}},9406,9.1491030625049934,{"$f":" IF(Foglio1!$C$13 <> \"\", 8.314472*Foglio1!$C$13*Foglio2!J1051, NA())","v":{"$error":"#N/A"}},{"$f":"IF(Foglio1!$H$13 <> \"\", Foglio1!$H$13 + K1051*10^-3, NA())","v":{"$error":"#N/A"}},9406,9.1491030625049934,{"$f":" IF(Foglio1!$C$14 <> \"\", 8.314472*Foglio1!$C$14*Foglio2!N1051, NA())","v":{"$error":"#N/A"}},{"$f":"IF(Foglio1!$H$14 <> \"\", Foglio1!$H$14 + O1051*10^-3, NA())","v":{"$error":"#N/A"}},9406,9.1491030625049934,{"$f":" IF(Foglio1!$C$15 <> \"\", 8.314472*Foglio1!$C$15*Foglio2!R1051, NA())","v":{"$error":"#N/A"}},{"$f":"IF(Foglio1!$H$15 <> \"\", Foglio1!$H$15 + S1051*10^-3, NA())","v":{"$error":"#N/A"}}]
[9415,9.150059441091253,{"$f":" IF(Foglio1!$C$11 <> \"\", 8.314472*Foglio1!$C$11*Foglio2!B1052, NA())","v":22823.373906386663},{"$f":"IF(Foglio1!$H$11 <> \"\", Foglio1!$H$11 + C1052*10^-3, NA())","v":-67.176626093613336},9415,9.150059441091253,{"$f":" IF(Foglio1!$C$12 <> \"\", 8.314472*Foglio1!$C$12*Foglio2!F1052, NA())","v":{"$error":"#N/A"}},{"$f":"IF(Foglio1!$H$12 <> \"\", Foglio1!$H$12 + G1052*10^-3, NA())","v":{"$error":"#N/A"}},9415,9.150059441091253,{"$f":" IF(Foglio1!$C$13 <> \"\", 8.314472*Foglio1!$C$13*Foglio2!J1052, NA())","v":{"$error":"#N/A"}},{"$f":"IF(Foglio1!$H$13 <> \"\", Foglio1!$H$13 + K1052*10^-3, NA())","v":{"$error":"#N/A"}},9415,9.150059441091253,{"$f":" IF(Foglio1!$C$14 <> \"\", 8.314472*Foglio1!$C$14*Foglio2!N1052, NA())","v":{"$error":"#N/A"}},{"$f":"IF(Foglio1!$H$14 <> \"\", Foglio1!$H$14 + O1052*10^-3, NA())","v":{"$error":"#N/A"}},9415,9.150059441091253,{"$f":" IF(Foglio1!$C$15 <> \"\", 8.314472*Foglio1!$C$15*Foglio2!R1052, NA())","v":{"$error":"#N/A"}},{"$f":"IF(Foglio1!$H$15 <> \"\", Foglio1!$H$15 + S1052*10^-3, NA())","v":{"$error":"#N/A"}}]
[9424,9.1510149058913672,{"$f":" IF(Foglio1!$C$11 <> \"\", 8.314472*Foglio1!$C$11*Foglio2!B1053, NA())","v":22825.757161984926},{"$f":"IF(Foglio1!$H$11 <> \"\", Foglio1!$H$11 + C1053*10^-3, NA())","v":-67.174242838015076},9424,9.1510149058913672,{"$f":" IF(Foglio1!$C$12 <> \"\", 8.314472*Foglio1!$C$12*Foglio2!F1053, NA())","v":{"$error":"#N/A"}},{"$f":"IF(Foglio1!$H$12 <> \"\", Foglio1!$H$12 + G1053*10^-3, NA())","v":{"$error":"#N/A"}},9424,9.1510149058913672,{"$f":" IF(Foglio1!$C$13 <> \"\", 8.314472*Foglio1!$C$13*Foglio2!J1053, NA())","v":{"$error":"#N/A"}},{"$f":"IF(Foglio1!$H$13 <> \"\", Foglio1!$H$13 + K1053*10^-3, NA())","v":{"$error":"#N/A"}},9424,9.1510149058913672,{"$f":" IF(Foglio1!$C$14 <> \"\", 8.314472*Foglio1!$C$14*Foglio2!N1053, NA())","v":{"$error":"#N/A"}},{"$f":"IF(Foglio1!$H$14 <> \"\", Foglio1!$H$14 + O1053*10^-3, NA())","v":{"$error":"#N/A"}},9424,9.1510149058913672,{"$f":" IF(Foglio1!$C$15 <> \"\", 8.314472*Foglio1!$C$15*Foglio2!R1053, NA())","v":{"$error":"#N/A"}},{"$f":"IF(Foglio1!$H$15 <> \"\", Foglio1!$H$15 + S1053*10^-3, NA())","v":{"$error":"#N/A"}}]
[9433,9.1519694586498535,{"$f":" IF(Foglio1!$C$11 <> \"\", 8.314472*Foglio1!$C$11*Foglio2!B1054, NA())","v":22828.138142639811},{"$f":"IF(Foglio1!$H$11 <> \"\", Foglio1!$H$11 + C1054*10^-3, NA())","v":-67.171861857360184},9433,9.1519694586498535,{"$f":" IF(Foglio1!$C$12 <> \"\", 8.314472*Foglio1!$C$12*Foglio2!F1054, NA())","v":{"$error":"#N/A"}},{"$f":"IF(Foglio1!$H$12 <> \"\", Foglio1!$H$12 + G1054*10^-3, NA())","v":{"$error":"#N/A"}},9433,9.1519694586498535,{"$f":" IF(Foglio1!$C$13 <> \"\", 8.314472*Foglio1!$C$13*Foglio2!J1054, NA())","v":{"$error":"#N/A"}},{"$f":"IF(Foglio1!$H$13 <> \"\", Foglio1!$H$13 + K1054*10^-3, NA())","v":{"$error":"#N/A"}},9433,9.1519694586498535,{"$f":" IF(Foglio1!$C$14 <> \"\", 8.314472*Foglio1!$C$14*Foglio2!N1054, NA())","v":{"$error":"#N/A"}},{"$f":"IF(Foglio1!$H$14 <> \"\", Foglio1!$H$14 + O1054*10^-3, NA())","v":{"$error":"#N/A"}},9433,9.1519694586498535,{"$f":" IF(Foglio1!$C$15 <> \"\", 8.314472*Foglio1!$C$15*Foglio2!R1054, NA())","v":{"$error":"#N/A"}},{"$f":"IF(Foglio1!$H$15 <> \"\", Foglio1!$H$15 + S1054*10^-3, NA())","v":{"$error":"#N/A"}}]
[9442,9.1529231011062322,{"$f":" IF(Foglio1!$C$11 <> \"\", 8.314472*Foglio1!$C$11*Foglio2!B1055, NA())","v":22830.516852690282},{"$f":"IF(Foglio1!$H$11 <> \"\", Foglio1!$H$11 + C1055*10^-3, NA())","v":-67.16948314730972},9442,9.1529231011062322,{"$f":" IF(Foglio1!$C$12 <> \"\", 8.314472*Foglio1!$C$12*Foglio2!F1055, NA())","v":{"$error":"#N/A"}},{"$f":"IF(Foglio1!$H$12 <> \"\", Foglio1!$H$12 + G1055*10^-3, NA())","v":{"$error":"#N/A"}},9442,9.1529231011062322,{"$f":" IF(Foglio1!$C$13 <> \"\", 8.314472*Foglio1!$C$13*Foglio2!J1055, NA())","v":{"$error":"#N/A"}},{"$f":"IF(Foglio1!$H$13 <> \"\", Foglio1!$H$13 + K1055*10^-3, NA())","v":{"$error":"#N/A"}},9442,9.1529231011062322,{"$f":" IF(Foglio1!$C$14 <> \"\", 8.314472*Foglio1!$C$14*Foglio2!N1055, NA())","v":{"$error":"#N/A"}},{"$f":"IF(Foglio1!$H$14 <> \"\", Foglio1!$H$14 + O1055*10^-3, NA())","v":{"$error":"#N/A"}},9442,9.1529231011062322,{"$f":" IF(Foglio1!$C$15 <> \"\", 8.314472*Foglio1!$C$15*Foglio2!R1055, NA())","v":{"$error":"#N/A"}},{"$f":"IF(Foglio1!$H$15 <> \"\", Foglio1!$H$15 + S1055*10^-3, NA())","v":{"$error":"#N/A"}}]
[9451,9.1538758349950555,{"$f":" IF(Foglio1!$C$11 <> \"\", 8.314472*Foglio1!$C$11*Foglio2!B1056, NA())","v":22832.893296462906},{"$f":"IF(Foglio1!$H$11 <> \"\", Foglio1!$H$11 + C1056*10^-3, NA())","v":-67.167106703537087},9451,9.1538758349950555,{"$f":" IF(Foglio1!$C$12 <> \"\", 8.314472*Foglio1!$C$12*Foglio2!F1056, NA())","v":{"$error":"#N/A"}},{"$f":"IF(Foglio1!$H$12 <> \"\", Foglio1!$H$12 + G1056*10^-3, NA())","v":{"$error":"#N/A"}},9451,9.1538758349950555,{"$f":" IF(Foglio1!$C$13 <> \"\", 8.314472*Foglio1!$C$13*Foglio2!J1056, NA())","v":{"$error":"#N/A"}},{"$f":"IF(Foglio1!$H$13 <> \"\", Foglio1!$H$13 + K1056*10^-3, NA())","v":{"$error":"#N/A"}},9451,9.1538758349950555,{"$f":" IF(Foglio1!$C$14 <> \"\", 8.314472*Foglio1!$C$14*Foglio2!N1056, NA())","v":{"$error":"#N/A"}},{"$f":"IF(Foglio1!$H$14 <> \"\", Foglio1!$H$14 + O1056*10^-3, NA())","v":{"$error":"#N/A"}},9451,9.1538758349950555,{"$f":" IF(Foglio1!$C$15 <> \"\", 8.314472*Foglio1!$C$15*Foglio2!R1056, NA())","v":{"$error":"#N/A"}},{"$f":"IF(Foglio1!$H$15 <> \"\", Foglio1!$H$15 + S1056*10^-3, NA())","v":{"$error":"#N/A"}}]
[9460,9.1548276620459248,{"$f":" IF(Foglio1!$C$11 <> \"\", 8.314472*Foglio1!$C$11*Foglio2!B1057, NA())","v":22835.267478271893},{"$f":"IF(Foglio1!$H$11 <> \"\", Foglio1!$H$11 + C1057*10^-3, NA())","v":-67.164732521728098},9460,9.1548276620459248,{"$f":" IF(Foglio1!$C$12 <> \"\", 8.314472*Foglio1!$C$12*Foglio2!F1057, NA())","v":{"$error":"#N/A"}},{"$f":"IF(Foglio1!$H$12 <> \"\", Foglio1!$H$12 + G1057*10^-3, NA())","v":{"$error":"#N/A"}},9460,9.1548276620459248,{"$f":" IF(Foglio1!$C$13 <> \"\", 8.314472*Foglio1!$C$13*Foglio2!J1057, NA())","v":{"$error":"#N/A"}},{"$f":"IF(Foglio1!$H$13 <> \"\", Foglio1!$H$13 + K1057*10^-3, NA())","v":{"$error":"#N/A"}},9460,9.1548276620459248,{"$f":" IF(Foglio1!$C$14 <> \"\", 8.314472*Foglio1!$C$14*Foglio2!N1057, NA())","v":{"$error":"#N/A"}},{"$f":"IF(Foglio1!$H$14 <> \"\", Foglio1!$H$14 + O1057*10^-3, NA())","v":{"$error":"#N/A"}},9460,9.1548276620459248,{"$f":" IF(Foglio1!$C$15 <> \"\", 8.314472*Foglio1!$C$15*Foglio2!R1057, NA())","v":{"$error":"#N/A"}},{"$f":"IF(Foglio1!$H$15 <> \"\", Foglio1!$H$15 + S1057*10^-3, NA())","v":{"$error":"#N/A"}}]
[9469,9.1557785839834995,{"$f":" IF(Foglio1!$C$11 <> \"\", 8.314472*Foglio1!$C$11*Foglio2!B1058, NA())","v":22837.63940241914},{"$f":"IF(Foglio1!$H$11 <> \"\", Foglio1!$H$11 + C1058*10^-3, NA())","v":-67.162360597580857},9469,9.1557785839834995,{"$f":" IF(Foglio1!$C$12 <> \"\", 8.314472*Foglio1!$C$12*Foglio2!F1058, NA())","v":{"$error":"#N/A"}},{"$f":"IF(Foglio1!$H$12 <> \"\", Foglio1!$H$12 + G1058*10^-3, NA())","v":{"$error":"#N/A"}},9469,9.1557785839834995,{"$f":" IF(Foglio1!$C$13 <> \"\", 8.314472*Foglio1!$C$13*Foglio2!J1058, NA())","v":{"$error":"#N/A"}},{"$f":"IF(Foglio1!$H$13 <> \"\", Foglio1!$H$13 + K1058*10^-3, NA())","v":{"$error":"#N/A"}},9469,9.1557785839834995,{"$f":" IF(Foglio1!$C$14 <> \"\", 8.314472*Foglio1!$C$14*Foglio2!N1058, NA())","v":{"$error":"#N/A"}},{"$f":"IF(Foglio1!$H$14 <> \"\", Foglio1!$H$14 + O1058*10^-3, NA())","v":{"$error":"#N/A"}},9469,9.1557785839834995,{"$f":" IF(Foglio1!$C$15 <> \"\", 8.314472*Foglio1!$C$15*Foglio2!R1058, NA())","v":{"$error":"#N/A"}},{"$f":"IF(Foglio1!$H$15 <> \"\", Foglio1!$H$15 + S1058*10^-3, NA())","v":{"$error":"#N/A"}}]
[9478,9.156728602527533,{"$f":" IF(Foglio1!$C$11 <> \"\", 8.314472*Foglio1!$C$11*Foglio2!B1059, NA())","v":22840.009073194291},{"$f":"IF(Foglio1!$H$11 <> \"\", Foglio1!$H$11 + C1059*10^-3, NA())","v":-67.159990926805705},9478,9.156728602527533,{"$f":" IF(Foglio1!$C$12 <> \"\", 8.314472*Foglio1!$C$12*Foglio2!F1059, NA())","v":{"$error":"#N/A"}},{"$f":"IF(Foglio1!$H$12 <> \"\", Foglio1!$H$12 + G1059*10^-3, NA())","v":{"$error":"#N/A"}},9478,9.156728602527533,{"$f":" IF(Foglio1!$C$13 <> \"\", 8.314472*Foglio1!$C$13*Foglio2!J1059, NA())","v":{"$error":"#N/A"}},{"$f":"IF(Foglio1!$H$13 <> \"\", Foglio1!$H$13 + K1059*10^-3, NA())","v":{"$error":"#N/A"}},9478,9.156728602527533,{"$f":" IF(Foglio1!$C$14 <> \"\", 8.314472*Foglio1!$C$14*Foglio2!N1059, NA())","v":{"$error":"#N/A"}},{"$f":"IF(Foglio1!$H$14 <> \"\", Foglio1!$H$14 + O1059*10^-3, NA())","v":{"$error":"#N/A"}},9478,9.156728602527533,{"$f":" IF(Foglio1!$C$15 <> \"\", 8.314472*Foglio1!$C$15*Foglio2!R1059, NA())","v":{"$error":"#N/A"}},{"$f":"IF(Foglio1!$H$15 <> \"\", Foglio1!$H$15 + S1059*10^-3, NA())","v":{"$error":"#N/A"}}]
[9487,9.1576777193928773,{"$f":" IF(Foglio1!$C$11 <> \"\", 8.314472*Foglio1!$C$11*Foglio2!B1060, NA())","v":22842.376494874781},{"$f":"IF(Foglio1!$H$11 <> \"\", Foglio1!$H$11 + C1060*10^-3, NA())","v":-67.157623505125216},9487,9.1576777193928773,{"$f":" IF(Foglio1!$C$12 <> \"\", 8.314472*Foglio1!$C$12*Foglio2!F1060, NA())","v":{"$error":"#N/A"}},{"$f":"IF(Foglio1!$H$12 <> \"\", Foglio1!$H$12 + G1060*10^-3, NA())","v":{"$error":"#N/A"}},9487,9.1576777193928773,{"$f":" IF(Foglio1!$C$13 <> \"\", 8.314472*Foglio1!$C$13*Foglio2!J1060, NA())","v":{"$error":"#N/A"}},{"$f":"IF(Foglio1!$H$13 <> \"\", Foglio1!$H$13 + K1060*10^-3, NA())","v":{"$error":"#N/A"}},9487,9.1576777193928773,{"$f":" IF(Foglio1!$C$14 <> \"\", 8.314472*Foglio1!$C$14*Foglio2!N1060, NA())","v":{"$error":"#N/A"}},{"$f":"IF(Foglio1!$H$14 <> \"\", Foglio1!$H$14 + O1060*10^-3, NA())","v":{"$error":"#N/A"}},9487,9.1576777193928773,{"$f":" IF(Foglio1!$C$15 <> \"\", 8.314472*Foglio1!$C$15*Foglio2!R1060, NA())","v":{"$error":"#N/A"}},{"$f":"IF(Foglio1!$H$15 <> \"\", Foglio1!$H$15 + S1060*10^-3, NA())","v":{"$error":"#N/A"}}]
[9496,9.1586259362895035,{"$f":" IF(Foglio1!$C$11 <> \"\", 8.314472*Foglio1!$C$11*Foglio2!B1061, NA())","v":22844.74167172586},{"$f":"IF(Foglio1!$H$11 <> \"\", Foglio1!$H$11 + C1061*10^-3, NA())","v":-67.155258328274144},9496,9.1586259362895035,{"$f":" IF(Foglio1!$C$12 <> \"\", 8.314472*Foglio1!$C$12*Foglio2!F1061, NA())","v":{"$error":"#N/A"}},{"$f":"IF(Foglio1!$H$12 <> \"\", Foglio1!$H$12 + G1061*10^-3, NA())","v":{"$error":"#N/A"}},9496,9.1586259362895035,{"$f":" IF(Foglio1!$C$13 <> \"\", 8.314472*Foglio1!$C$13*Foglio2!J1061, NA())","v":{"$error":"#N/A"}},{"$f":"IF(Foglio1!$H$13 <> \"\", Foglio1!$H$13 + K1061*10^-3, NA())","v":{"$error":"#N/A"}},9496,9.1586259362895035,{"$f":" IF(Foglio1!$C$14 <> \"\", 8.314472*Foglio1!$C$14*Foglio2!N1061, NA())","v":{"$error":"#N/A"}},{"$f":"IF(Foglio1!$H$14 <> \"\", Foglio1!$H$14 + O1061*10^-3, NA())","v":{"$error":"#N/A"}},9496,9.1586259362895035,{"$f":" IF(Foglio1!$C$15 <> \"\", 8.314472*Foglio1!$C$15*Foglio2!R1061, NA())","v":{"$error":"#N/A"}},{"$f":"IF(Foglio1!$H$15 <> \"\", Foglio1!$H$15 + S1061*10^-3, NA())","v":{"$error":"#N/A"}}]
[9505,9.1595732549225293,{"$f":" IF(Foglio1!$C$11 <> \"\", 8.314472*Foglio1!$C$11*Foglio2!B1062, NA())","v":22847.104608000671},{"$f":"IF(Foglio1!$H$11 <> \"\", Foglio1!$H$11 + C1062*10^-3, NA())","v":-67.152895391999323},9505,9.1595732549225293,{"$f":" IF(Foglio1!$C$12 <> \"\", 8.314472*Foglio1!$C$12*Foglio2!F1062, NA())","v":{"$error":"#N/A"}},{"$f":"IF(Foglio1!$H$12 <> \"\", Foglio1!$H$12 + G1062*10^-3, NA())","v":{"$error":"#N/A"}},9505,9.1595732549225293,{"$f":" IF(Foglio1!$C$13 <> \"\", 8.314472*Foglio1!$C$13*Foglio2!J1062, NA())","v":{"$error":"#N/A"}},{"$f":"IF(Foglio1!$H$13 <> \"\", Foglio1!$H$13 + K1062*10^-3, NA())","v":{"$error":"#N/A"}},9505,9.1595732549225293,{"$f":" IF(Foglio1!$C$14 <> \"\", 8.314472*Foglio1!$C$14*Foglio2!N1062, NA())","v":{"$error":"#N/A"}},{"$f":"IF(Foglio1!$H$14 <> \"\", Foglio1!$H$14 + O1062*10^-3, NA())","v":{"$error":"#N/A"}},9505,9.1595732549225293,{"$f":" IF(Foglio1!$C$15 <> \"\", 8.314472*Foglio1!$C$15*Foglio2!R1062, NA())","v":{"$error":"#N/A"}},{"$f":"IF(Foglio1!$H$15 <> \"\", Foglio1!$H$15 + S1062*10^-3, NA())","v":{"$error":"#N/A"}}]
[9514,9.1605196769922266,{"$f":" IF(Foglio1!$C$11 <> \"\", 8.314472*Foglio1!$C$11*Foglio2!B1063, NA())","v":22849.465307940274},{"$f":"IF(Foglio1!$H$11 <> \"\", Foglio1!$H$11 + C1063*10^-3, NA())","v":-67.150534692059722},9514,9.1605196769922266,{"$f":" IF(Foglio1!$C$12 <> \"\", 8.314472*Foglio1!$C$12*Foglio2!F1063, NA())","v":{"$error":"#N/A"}},{"$f":"IF(Foglio1!$H$12 <> \"\", Foglio1!$H$12 + G1063*10^-3, NA())","v":{"$error":"#N/A"}},9514,9.1605196769922266,{"$f":" IF(Foglio1!$C$13 <> \"\", 8.314472*Foglio1!$C$13*Foglio2!J1063, NA())","v":{"$error":"#N/A"}},{"$f":"IF(Foglio1!$H$13 <> \"\", Foglio1!$H$13 + K1063*10^-3, NA())","v":{"$error":"#N/A"}},9514,9.1605196769922266,{"$f":" IF(Foglio1!$C$14 <> \"\", 8.314472*Foglio1!$C$14*Foglio2!N1063, NA())","v":{"$error":"#N/A"}},{"$f":"IF(Foglio1!$H$14 <> \"\", Foglio1!$H$14 + O1063*10^-3, NA())","v":{"$error":"#N/A"}},9514,9.1605196769922266,{"$f":" IF(Foglio1!$C$15 <> \"\", 8.314472*Foglio1!$C$15*Foglio2!R1063, NA())","v":{"$error":"#N/A"}},{"$f":"IF(Foglio1!$H$15 <> \"\", Foglio1!$H$15 + S1063*10^-3, NA())","v":{"$error":"#N/A"}}]
[9523,9.1614652041940463,{"$f":" IF(Foglio1!$C$11 <> \"\", 8.314472*Foglio1!$C$11*Foglio2!B1064, NA())","v":22851.823775773704},{"$f":"IF(Foglio1!$H$11 <> \"\", Foglio1!$H$11 + C1064*10^-3, NA())","v":-67.14817622422629},9523,9.1614652041940463,{"$f":" IF(Foglio1!$C$12 <> \"\", 8.314472*Foglio1!$C$12*Foglio2!F1064, NA())","v":{"$error":"#N/A"}},{"$f":"IF(Foglio1!$H$12 <> \"\", Foglio1!$H$12 + G1064*10^-3, NA())","v":{"$error":"#N/A"}},9523,9.1614652041940463,{"$f":" IF(Foglio1!$C$13 <> \"\", 8.314472*Foglio1!$C$13*Foglio2!J1064, NA())","v":{"$error":"#N/A"}},{"$f":"IF(Foglio1!$H$13 <> \"\", Foglio1!$H$13 + K1064*10^-3, NA())","v":{"$error":"#N/A"}},9523,9.1614652041940463,{"$f":" IF(Foglio1!$C$14 <> \"\", 8.314472*Foglio1!$C$14*Foglio2!N1064, NA())","v":{"$error":"#N/A"}},{"$f":"IF(Foglio1!$H$14 <> \"\", Foglio1!$H$14 + O1064*10^-3, NA())","v":{"$error":"#N/A"}},9523,9.1614652041940463,{"$f":" IF(Foglio1!$C$15 <> \"\", 8.314472*Foglio1!$C$15*Foglio2!R1064, NA())","v":{"$error":"#N/A"}},{"$f":"IF(Foglio1!$H$15 <> \"\", Foglio1!$H$15 + S1064*10^-3, NA())","v":{"$error":"#N/A"}}]
[9532,9.1624098382186325,{"$f":" IF(Foglio1!$C$11 <> \"\", 8.314472*Foglio1!$C$11*Foglio2!B1065, NA())","v":22854.180015718008},{"$f":"IF(Foglio1!$H$11 <> \"\", Foglio1!$H$11 + C1065*10^-3, NA())","v":-67.145819984281985},9532,9.1624098382186325,{"$f":" IF(Foglio1!$C$12 <> \"\", 8.314472*Foglio1!$C$12*Foglio2!F1065, NA())","v":{"$error":"#N/A"}},{"$f":"IF(Foglio1!$H$12 <> \"\", Foglio1!$H$12 + G1065*10^-3, NA())","v":{"$error":"#N/A"}},9532,9.1624098382186325,{"$f":" IF(Foglio1!$C$13 <> \"\", 8.314472*Foglio1!$C$13*Foglio2!J1065, NA())","v":{"$error":"#N/A"}},{"$f":"IF(Foglio1!$H$13 <> \"\", Foglio1!$H$13 + K1065*10^-3, NA())","v":{"$error":"#N/A"}},9532,9.1624098382186325,{"$f":" IF(Foglio1!$C$14 <> \"\", 8.314472*Foglio1!$C$14*Foglio2!N1065, NA())","v":{"$error":"#N/A"}},{"$f":"IF(Foglio1!$H$14 <> \"\", Foglio1!$H$14 + O1065*10^-3, NA())","v":{"$error":"#N/A"}},9532,9.1624098382186325,{"$f":" IF(Foglio1!$C$15 <> \"\", 8.314472*Foglio1!$C$15*Foglio2!R1065, NA())","v":{"$error":"#N/A"}},{"$f":"IF(Foglio1!$H$15 <> \"\", Foglio1!$H$15 + S1065*10^-3, NA())","v":{"$error":"#N/A"}}]
[9541,9.1633535807518456,{"$f":" IF(Foglio1!$C$11 <> \"\", 8.314472*Foglio1!$C$11*Foglio2!B1066, NA())","v":22856.534031978288},{"$f":"IF(Foglio1!$H$11 <> \"\", Foglio1!$H$11 + C1066*10^-3, NA())","v":-67.143465968021715},9541,9.1633535807518456,{"$f":" IF(Foglio1!$C$12 <> \"\", 8.314472*Foglio1!$C$12*Foglio2!F1066, NA())","v":{"$error":"#N/A"}},{"$f":"IF(Foglio1!$H$12 <> \"\", Foglio1!$H$12 + G1066*10^-3, NA())","v":{"$error":"#N/A"}},9541,9.1633535807518456,{"$f":" IF(Foglio1!$C$13 <> \"\", 8.314472*Foglio1!$C$13*Foglio2!J1066, NA())","v":{"$error":"#N/A"}},{"$f":"IF(Foglio1!$H$13 <> \"\", Foglio1!$H$13 + K1066*10^-3, NA())","v":{"$error":"#N/A"}},9541,9.1633535807518456,{"$f":" IF(Foglio1!$C$14 <> \"\", 8.314472*Foglio1!$C$14*Foglio2!N1066, NA())","v":{"$error":"#N/A"}},{"$f":"IF(Foglio1!$H$14 <> \"\", Foglio1!$H$14 + O1066*10^-3, NA())","v":{"$error":"#N/A"}},9541,9.1633535807518456,{"$f":" IF(Foglio1!$C$15 <> \"\", 8.314472*Foglio1!$C$15*Foglio2!R1066, NA())","v":{"$error":"#N/A"}},{"$f":"IF(Foglio1!$H$15 <> \"\", Foglio1!$H$15 + S1066*10^-3, NA())","v":{"$error":"#N/A"}}]
[9550,9.1642964334747763,{"$f":" IF(Foglio1!$C$11 <> \"\", 8.314472*Foglio1!$C$11*Foglio2!B1067, NA())","v":22858.885828747771},{"$f":"IF(Foglio1!$H$11 <> \"\", Foglio1!$H$11 + C1067*10^-3, NA())","v":-67.141114171252227},9550,9.1642964334747763,{"$f":" IF(Foglio1!$C$12 <> \"\", 8.314472*Foglio1!$C$12*Foglio2!F1067, NA())","v":{"$error":"#N/A"}},{"$f":"IF(Foglio1!$H$12 <> \"\", Foglio1!$H$12 + G1067*10^-3, NA())","v":{"$error":"#N/A"}},9550,9.1642964334747763,{"$f":" IF(Foglio1!$C$13 <> \"\", 8.314472*Foglio1!$C$13*Foglio2!J1067, NA())","v":{"$error":"#N/A"}},{"$f":"IF(Foglio1!$H$13 <> \"\", Foglio1!$H$13 + K1067*10^-3, NA())","v":{"$error":"#N/A"}},9550,9.1642964334747763,{"$f":" IF(Foglio1!$C$14 <> \"\", 8.314472*Foglio1!$C$14*Foglio2!N1067, NA())","v":{"$error":"#N/A"}},{"$f":"IF(Foglio1!$H$14 <> \"\", Foglio1!$H$14 + O1067*10^-3, NA())","v":{"$error":"#N/A"}},9550,9.1642964334747763,{"$f":" IF(Foglio1!$C$15 <> \"\", 8.314472*Foglio1!$C$15*Foglio2!R1067, NA())","v":{"$error":"#N/A"}},{"$f":"IF(Foglio1!$H$15 <> \"\", Foglio1!$H$15 + S1067*10^-3, NA())","v":{"$error":"#N/A"}}]
[9559,9.1652383980637619,{"$f":" IF(Foglio1!$C$11 <> \"\", 8.314472*Foglio1!$C$11*Foglio2!B1068, NA())","v":22861.235410207802},{"$f":"IF(Foglio1!$H$11 <> \"\", Foglio1!$H$11 + C1068*10^-3, NA())","v":-67.138764589792203},9559,9.1652383980637619,{"$f":" IF(Foglio1!$C$12 <> \"\", 8.314472*Foglio1!$C$12*Foglio2!F1068, NA())","v":{"$error":"#N/A"}},{"$f":"IF(Foglio1!$H$12 <> \"\", Foglio1!$H$12 + G1068*10^-3, NA())","v":{"$error":"#N/A"}},9559,9.1652383980637619,{"$f":" IF(Foglio1!$C$13 <> \"\", 8.314472*Foglio1!$C$13*Foglio2!J1068, NA())","v":{"$error":"#N/A"}},{"$f":"IF(Foglio1!$H$13 <> \"\", Foglio1!$H$13 + K1068*10^-3, NA())","v":{"$error":"#N/A"}},9559,9.1652383980637619,{"$f":" IF(Foglio1!$C$14 <> \"\", 8.314472*Foglio1!$C$14*Foglio2!N1068, NA())","v":{"$error":"#N/A"}},{"$f":"IF(Foglio1!$H$14 <> \"\", Foglio1!$H$14 + O1068*10^-3, NA())","v":{"$error":"#N/A"}},9559,9.1652383980637619,{"$f":" IF(Foglio1!$C$15 <> \"\", 8.314472*Foglio1!$C$15*Foglio2!R1068, NA())","v":{"$error":"#N/A"}},{"$f":"IF(Foglio1!$H$15 <> \"\", Foglio1!$H$15 + S1068*10^-3, NA())","v":{"$error":"#N/A"}}]
[9568,9.166179476190413,{"$f":" IF(Foglio1!$C$11 <> \"\", 8.314472*Foglio1!$C$11*Foglio2!B1069, NA())","v":22863.582780527959},{"$f":"IF(Foglio1!$H$11 <> \"\", Foglio1!$H$11 + C1069*10^-3, NA())","v":-67.136417219472037},9568,9.166179476190413,{"$f":" IF(Foglio1!$C$12 <> \"\", 8.314472*Foglio1!$C$12*Foglio2!F1069, NA())","v":{"$error":"#N/A"}},{"$f":"IF(Foglio1!$H$12 <> \"\", Foglio1!$H$12 + G1069*10^-3, NA())","v":{"$error":"#N/A"}},9568,9.166179476190413,{"$f":" IF(Foglio1!$C$13 <> \"\", 8.314472*Foglio1!$C$13*Foglio2!J1069, NA())","v":{"$error":"#N/A"}},{"$f":"IF(Foglio1!$H$13 <> \"\", Foglio1!$H$13 + K1069*10^-3, NA())","v":{"$error":"#N/A"}},9568,9.166179476190413,{"$f":" IF(Foglio1!$C$14 <> \"\", 8.314472*Foglio1!$C$14*Foglio2!N1069, NA())","v":{"$error":"#N/A"}},{"$f":"IF(Foglio1!$H$14 <> \"\", Foglio1!$H$14 + O1069*10^-3, NA())","v":{"$error":"#N/A"}},9568,9.166179476190413,{"$f":" IF(Foglio1!$C$15 <> \"\", 8.314472*Foglio1!$C$15*Foglio2!R1069, NA())","v":{"$error":"#N/A"}},{"$f":"IF(Foglio1!$H$15 <> \"\", Foglio1!$H$15 + S1069*10^-3, NA())","v":{"$error":"#N/A"}}]
[9577,9.1671196695216199,{"$f":" IF(Foglio1!$C$11 <> \"\", 8.314472*Foglio1!$C$11*Foglio2!B1070, NA())","v":22865.927943866031},{"$f":"IF(Foglio1!$H$11 <> \"\", Foglio1!$H$11 + C1070*10^-3, NA())","v":-67.134072056133974},9577,9.1671196695216199,{"$f":" IF(Foglio1!$C$12 <> \"\", 8.314472*Foglio1!$C$12*Foglio2!F1070, NA())","v":{"$error":"#N/A"}},{"$f":"IF(Foglio1!$H$12 <> \"\", Foglio1!$H$12 + G1070*10^-3, NA())","v":{"$error":"#N/A"}},9577,9.1671196695216199,{"$f":" IF(Foglio1!$C$13 <> \"\", 8.314472*Foglio1!$C$13*Foglio2!J1070, NA())","v":{"$error":"#N/A"}},{"$f":"IF(Foglio1!$H$13 <> \"\", Foglio1!$H$13 + K1070*10^-3, NA())","v":{"$error":"#N/A"}},9577,9.1671196695216199,{"$f":" IF(Foglio1!$C$14 <> \"\", 8.314472*Foglio1!$C$14*Foglio2!N1070, NA())","v":{"$error":"#N/A"}},{"$f":"IF(Foglio1!$H$14 <> \"\", Foglio1!$H$14 + O1070*10^-3, NA())","v":{"$error":"#N/A"}},9577,9.1671196695216199,{"$f":" IF(Foglio1!$C$15 <> \"\", 8.314472*Foglio1!$C$15*Foglio2!R1070, NA())","v":{"$error":"#N/A"}},{"$f":"IF(Foglio1!$H$15 <> \"\", Foglio1!$H$15 + S1070*10^-3, NA())","v":{"$error":"#N/A"}}]
[9586,9.1680589797195768,{"$f":" IF(Foglio1!$C$11 <> \"\", 8.314472*Foglio1!$C$11*Foglio2!B1071, NA())","v":22868.270904368099},{"$f":"IF(Foglio1!$H$11 <> \"\", Foglio1!$H$11 + C1071*10^-3, NA())","v":-67.131729095631897},9586,9.1680589797195768,{"$f":" IF(Foglio1!$C$12 <> \"\", 8.314472*Foglio1!$C$12*Foglio2!F1071, NA())","v":{"$error":"#N/A"}},{"$f":"IF(Foglio1!$H$12 <> \"\", Foglio1!$H$12 + G1071*10^-3, NA())","v":{"$error":"#N/A"}},9586,9.1680589797195768,{"$f":" IF(Foglio1!$C$13 <> \"\", 8.314472*Foglio1!$C$13*Foglio2!J1071, NA())","v":{"$error":"#N/A"}},{"$f":"IF(Foglio1!$H$13 <> \"\", Foglio1!$H$13 + K1071*10^-3, NA())","v":{"$error":"#N/A"}},9586,9.1680589797195768,{"$f":" IF(Foglio1!$C$14 <> \"\", 8.314472*Foglio1!$C$14*Foglio2!N1071, NA())","v":{"$error":"#N/A"}},{"$f":"IF(Foglio1!$H$14 <> \"\", Foglio1!$H$14 + O1071*10^-3, NA())","v":{"$error":"#N/A"}},9586,9.1680589797195768,{"$f":" IF(Foglio1!$C$15 <> \"\", 8.314472*Foglio1!$C$15*Foglio2!R1071, NA())","v":{"$error":"#N/A"}},{"$f":"IF(Foglio1!$H$15 <> \"\", Foglio1!$H$15 + S1071*10^-3, NA())","v":{"$error":"#N/A"}}]
[9595,9.1689974084418004,{"$f":" IF(Foglio1!$C$11 <> \"\", 8.314472*Foglio1!$C$11*Foglio2!B1072, NA())","v":22870.611666168577},{"$f":"IF(Foglio1!$H$11 <> \"\", Foglio1!$H$11 + C1072*10^-3, NA())","v":-67.129388333831429},9595,9.1689974084418004,{"$f":" IF(Foglio1!$C$12 <> \"\", 8.314472*Foglio1!$C$12*Foglio2!F1072, NA())","v":{"$error":"#N/A"}},{"$f":"IF(Foglio1!$H$12 <> \"\", Foglio1!$H$12 + G1072*10^-3, NA())","v":{"$error":"#N/A"}},9595,9.1689974084418004,{"$f":" IF(Foglio1!$C$13 <> \"\", 8.314472*Foglio1!$C$13*Foglio2!J1072, NA())","v":{"$error":"#N/A"}},{"$f":"IF(Foglio1!$H$13 <> \"\", Foglio1!$H$13 + K1072*10^-3, NA())","v":{"$error":"#N/A"}},9595,9.1689974084418004,{"$f":" IF(Foglio1!$C$14 <> \"\", 8.314472*Foglio1!$C$14*Foglio2!N1072, NA())","v":{"$error":"#N/A"}},{"$f":"IF(Foglio1!$H$14 <> \"\", Foglio1!$H$14 + O1072*10^-3, NA())","v":{"$error":"#N/A"}},9595,9.1689974084418004,{"$f":" IF(Foglio1!$C$15 <> \"\", 8.314472*Foglio1!$C$15*Foglio2!R1072, NA())","v":{"$error":"#N/A"}},{"$f":"IF(Foglio1!$H$15 <> \"\", Foglio1!$H$15 + S1072*10^-3, NA())","v":{"$error":"#N/A"}}]
[9604,9.1699349573411446,{"$f":" IF(Foglio1!$C$11 <> \"\", 8.314472*Foglio1!$C$11*Foglio2!B1073, NA())","v":22872.950233390246},{"$f":"IF(Foglio1!$H$11 <> \"\", Foglio1!$H$11 + C1073*10^-3, NA())","v":-67.127049766609758},9604,9.1699349573411446,{"$f":" IF(Foglio1!$C$12 <> \"\", 8.314472*Foglio1!$C$12*Foglio2!F1073, NA())","v":{"$error":"#N/A"}},{"$f":"IF(Foglio1!$H$12 <> \"\", Foglio1!$H$12 + G1073*10^-3, NA())","v":{"$error":"#N/A"}},9604,9.1699349573411446,{"$f":" IF(Foglio1!$C$13 <> \"\", 8.314472*Foglio1!$C$13*Foglio2!J1073, NA())","v":{"$error":"#N/A"}},{"$f":"IF(Foglio1!$H$13 <> \"\", Foglio1!$H$13 + K1073*10^-3, NA())","v":{"$error":"#N/A"}},9604,9.1699349573411446,{"$f":" IF(Foglio1!$C$14 <> \"\", 8.314472*Foglio1!$C$14*Foglio2!N1073, NA())","v":{"$error":"#N/A"}},{"$f":"IF(Foglio1!$H$14 <> \"\", Foglio1!$H$14 + O1073*10^-3, NA())","v":{"$error":"#N/A"}},9604,9.1699349573411446,{"$f":" IF(Foglio1!$C$15 <> \"\", 8.314472*Foglio1!$C$15*Foglio2!R1073, NA())","v":{"$error":"#N/A"}},{"$f":"IF(Foglio1!$H$15 <> \"\", Foglio1!$H$15 + S1073*10^-3, NA())","v":{"$error":"#N/A"}}]
[9613,9.1708716280658162,{"$f":" IF(Foglio1!$C$11 <> \"\", 8.314472*Foglio1!$C$11*Foglio2!B1074, NA())","v":22875.286610144296},{"$f":"IF(Foglio1!$H$11 <> \"\", Foglio1!$H$11 + C1074*10^-3, NA())","v":-67.1247133898557},9613,9.1708716280658162,{"$f":" IF(Foglio1!$C$12 <> \"\", 8.314472*Foglio1!$C$12*Foglio2!F1074, NA())","v":{"$error":"#N/A"}},{"$f":"IF(Foglio1!$H$12 <> \"\", Foglio1!$H$12 + G1074*10^-3, NA())","v":{"$error":"#N/A"}},9613,9.1708716280658162,{"$f":" IF(Foglio1!$C$13 <> \"\", 8.314472*Foglio1!$C$13*Foglio2!J1074, NA())","v":{"$error":"#N/A"}},{"$f":"IF(Foglio1!$H$13 <> \"\", Foglio1!$H$13 + K1074*10^-3, NA())","v":{"$error":"#N/A"}},9613,9.1708716280658162,{"$f":" IF(Foglio1!$C$14 <> \"\", 8.314472*Foglio1!$C$14*Foglio2!N1074, NA())","v":{"$error":"#N/A"}},{"$f":"IF(Foglio1!$H$14 <> \"\", Foglio1!$H$14 + O1074*10^-3, NA())","v":{"$error":"#N/A"}},9613,9.1708716280658162,{"$f":" IF(Foglio1!$C$15 <> \"\", 8.314472*Foglio1!$C$15*Foglio2!R1074, NA())","v":{"$error":"#N/A"}},{"$f":"IF(Foglio1!$H$15 <> \"\", Foglio1!$H$15 + S1074*10^-3, NA())","v":{"$error":"#N/A"}}]
[9622,9.1718074222593984,{"$f":" IF(Foglio1!$C$11 <> \"\", 8.314472*Foglio1!$C$11*Foglio2!B1075, NA())","v":22877.620800530385},{"$f":"IF(Foglio1!$H$11 <> \"\", Foglio1!$H$11 + C1075*10^-3, NA())","v":-67.122379199469606},9622,9.1718074222593984,{"$f":" IF(Foglio1!$C$12 <> \"\", 8.314472*Foglio1!$C$12*Foglio2!F1075, NA())","v":{"$error":"#N/A"}},{"$f":"IF(Foglio1!$H$12 <> \"\", Foglio1!$H$12 + G1075*10^-3, NA())","v":{"$error":"#N/A"}},9622,9.1718074222593984,{"$f":" IF(Foglio1!$C$13 <> \"\", 8.314472*Foglio1!$C$13*Foglio2!J1075, NA())","v":{"$error":"#N/A"}},{"$f":"IF(Foglio1!$H$13 <> \"\", Foglio1!$H$13 + K1075*10^-3, NA())","v":{"$error":"#N/A"}},9622,9.1718074222593984,{"$f":" IF(Foglio1!$C$14 <> \"\", 8.314472*Foglio1!$C$14*Foglio2!N1075, NA())","v":{"$error":"#N/A"}},{"$f":"IF(Foglio1!$H$14 <> \"\", Foglio1!$H$14 + O1075*10^-3, NA())","v":{"$error":"#N/A"}},9622,9.1718074222593984,{"$f":" IF(Foglio1!$C$15 <> \"\", 8.314472*Foglio1!$C$15*Foglio2!R1075, NA())","v":{"$error":"#N/A"}},{"$f":"IF(Foglio1!$H$15 <> \"\", Foglio1!$H$15 + S1075*10^-3, NA())","v":{"$error":"#N/A"}}]
[9631,9.1727423415608644,{"$f":" IF(Foglio1!$C$11 <> \"\", 8.314472*Foglio1!$C$11*Foglio2!B1076, NA())","v":22879.952808636674},{"$f":"IF(Foglio1!$H$11 <> \"\", Foglio1!$H$11 + C1076*10^-3, NA())","v":-67.120047191363327},9631,9.1727423415608644,{"$f":" IF(Foglio1!$C$12 <> \"\", 8.314472*Foglio1!$C$12*Foglio2!F1076, NA())","v":{"$error":"#N/A"}},{"$f":"IF(Foglio1!$H$12 <> \"\", Foglio1!$H$12 + G1076*10^-3, NA())","v":{"$error":"#N/A"}},9631,9.1727423415608644,{"$f":" IF(Foglio1!$C$13 <> \"\", 8.314472*Foglio1!$C$13*Foglio2!J1076, NA())","v":{"$error":"#N/A"}},{"$f":"IF(Foglio1!$H$13 <> \"\", Foglio1!$H$13 + K1076*10^-3, NA())","v":{"$error":"#N/A"}},9631,9.1727423415608644,{"$f":" IF(Foglio1!$C$14 <> \"\", 8.314472*Foglio1!$C$14*Foglio2!N1076, NA())","v":{"$error":"#N/A"}},{"$f":"IF(Foglio1!$H$14 <> \"\", Foglio1!$H$14 + O1076*10^-3, NA())","v":{"$error":"#N/A"}},9631,9.1727423415608644,{"$f":" IF(Foglio1!$C$15 <> \"\", 8.314472*Foglio1!$C$15*Foglio2!R1076, NA())","v":{"$error":"#N/A"}},{"$f":"IF(Foglio1!$H$15 <> \"\", Foglio1!$H$15 + S1076*10^-3, NA())","v":{"$error":"#N/A"}}]
[9640,9.1736763876045906,{"$f":" IF(Foglio1!$C$11 <> \"\", 8.314472*Foglio1!$C$11*Foglio2!B1077, NA())","v":22882.282638539855},{"$f":"IF(Foglio1!$H$11 <> \"\", Foglio1!$H$11 + C1077*10^-3, NA())","v":-67.117717361460137},9640,9.1736763876045906,{"$f":" IF(Foglio1!$C$12 <> \"\", 8.314472*Foglio1!$C$12*Foglio2!F1077, NA())","v":{"$error":"#N/A"}},{"$f":"IF(Foglio1!$H$12 <> \"\", Foglio1!$H$12 + G1077*10^-3, NA())","v":{"$error":"#N/A"}},9640,9.1736763876045906,{"$f":" IF(Foglio1!$C$13 <> \"\", 8.314472*Foglio1!$C$13*Foglio2!J1077, NA())","v":{"$error":"#N/A"}},{"$f":"IF(Foglio1!$H$13 <> \"\", Foglio1!$H$13 + K1077*10^-3, NA())","v":{"$error":"#N/A"}},9640,9.1736763876045906,{"$f":" IF(Foglio1!$C$14 <> \"\", 8.314472*Foglio1!$C$14*Foglio2!N1077, NA())","v":{"$error":"#N/A"}},{"$f":"IF(Foglio1!$H$14 <> \"\", Foglio1!$H$14 + O1077*10^-3, NA())","v":{"$error":"#N/A"}},9640,9.1736763876045906,{"$f":" IF(Foglio1!$C$15 <> \"\", 8.314472*Foglio1!$C$15*Foglio2!R1077, NA())","v":{"$error":"#N/A"}},{"$f":"IF(Foglio1!$H$15 <> \"\", Foglio1!$H$15 + S1077*10^-3, NA())","v":{"$error":"#N/A"}}]
[9649,9.1746095620203842,{"$f":" IF(Foglio1!$C$11 <> \"\", 8.314472*Foglio1!$C$11*Foglio2!B1078, NA())","v":22884.610294305225},{"$f":"IF(Foglio1!$H$11 <> \"\", Foglio1!$H$11 + C1078*10^-3, NA())","v":-67.115389705694781},9649,9.1746095620203842,{"$f":" IF(Foglio1!$C$12 <> \"\", 8.314472*Foglio1!$C$12*Foglio2!F1078, NA())","v":{"$error":"#N/A"}},{"$f":"IF(Foglio1!$H$12 <> \"\", Foglio1!$H$12 + G1078*10^-3, NA())","v":{"$error":"#N/A"}},9649,9.1746095620203842,{"$f":" IF(Foglio1!$C$13 <> \"\", 8.314472*Foglio1!$C$13*Foglio2!J1078, NA())","v":{"$error":"#N/A"}},{"$f":"IF(Foglio1!$H$13 <> \"\", Foglio1!$H$13 + K1078*10^-3, NA())","v":{"$error":"#N/A"}},9649,9.1746095620203842,{"$f":" IF(Foglio1!$C$14 <> \"\", 8.314472*Foglio1!$C$14*Foglio2!N1078, NA())","v":{"$error":"#N/A"}},{"$f":"IF(Foglio1!$H$14 <> \"\", Foglio1!$H$14 + O1078*10^-3, NA())","v":{"$error":"#N/A"}},9649,9.1746095620203842,{"$f":" IF(Foglio1!$C$15 <> \"\", 8.314472*Foglio1!$C$15*Foglio2!R1078, NA())","v":{"$error":"#N/A"}},{"$f":"IF(Foglio1!$H$15 <> \"\", Foglio1!$H$15 + S1078*10^-3, NA())","v":{"$error":"#N/A"}}]
[9658,9.1755418664334876,{"$f":" IF(Foglio1!$C$11 <> \"\", 8.314472*Foglio1!$C$11*Foglio2!B1079, NA())","v":22886.935779986692},{"$f":"IF(Foglio1!$H$11 <> \"\", Foglio1!$H$11 + C1079*10^-3, NA())","v":-67.113064220013314},9658,9.1755418664334876,{"$f":" IF(Foglio1!$C$12 <> \"\", 8.314472*Foglio1!$C$12*Foglio2!F1079, NA())","v":{"$error":"#N/A"}},{"$f":"IF(Foglio1!$H$12 <> \"\", Foglio1!$H$12 + G1079*10^-3, NA())","v":{"$error":"#N/A"}},9658,9.1755418664334876,{"$f":" IF(Foglio1!$C$13 <> \"\", 8.314472*Foglio1!$C$13*Foglio2!J1079, NA())","v":{"$error":"#N/A"}},{"$f":"IF(Foglio1!$H$13 <> \"\", Foglio1!$H$13 + K1079*10^-3, NA())","v":{"$error":"#N/A"}},9658,9.1755418664334876,{"$f":" IF(Foglio1!$C$14 <> \"\", 8.314472*Foglio1!$C$14*Foglio2!N1079, NA())","v":{"$error":"#N/A"}},{"$f":"IF(Foglio1!$H$14 <> \"\", Foglio1!$H$14 + O1079*10^-3, NA())","v":{"$error":"#N/A"}},9658,9.1755418664334876,{"$f":" IF(Foglio1!$C$15 <> \"\", 8.314472*Foglio1!$C$15*Foglio2!R1079, NA())","v":{"$error":"#N/A"}},{"$f":"IF(Foglio1!$H$15 <> \"\", Foglio1!$H$15 + S1079*10^-3, NA())","v":{"$error":"#N/A"}}]
[9667,9.1764733024646059,{"$f":" IF(Foglio1!$C$11 <> \"\", 8.314472*Foglio1!$C$11*Foglio2!B1080, NA())","v":22889.259099626852},{"$f":"IF(Foglio1!$H$11 <> \"\", Foglio1!$H$11 + C1080*10^-3, NA())","v":-67.110740900373145},9667,9.1764733024646059,{"$f":" IF(Foglio1!$C$12 <> \"\", 8.314472*Foglio1!$C$12*Foglio2!F1080, NA())","v":{"$error":"#N/A"}},{"$f":"IF(Foglio1!$H$12 <> \"\", Foglio1!$H$12 + G1080*10^-3, NA())","v":{"$error":"#N/A"}},9667,9.1764733024646059,{"$f":" IF(Foglio1!$C$13 <> \"\", 8.314472*Foglio1!$C$13*Foglio2!J1080, NA())","v":{"$error":"#N/A"}},{"$f":"IF(Foglio1!$H$13 <> \"\", Foglio1!$H$13 + K1080*10^-3, NA())","v":{"$error":"#N/A"}},9667,9.1764733024646059,{"$f":" IF(Foglio1!$C$14 <> \"\", 8.314472*Foglio1!$C$14*Foglio2!N1080, NA())","v":{"$error":"#N/A"}},{"$f":"IF(Foglio1!$H$14 <> \"\", Foglio1!$H$14 + O1080*10^-3, NA())","v":{"$error":"#N/A"}},9667,9.1764733024646059,{"$f":" IF(Foglio1!$C$15 <> \"\", 8.314472*Foglio1!$C$15*Foglio2!R1080, NA())","v":{"$error":"#N/A"}},{"$f":"IF(Foglio1!$H$15 <> \"\", Foglio1!$H$15 + S1080*10^-3, NA())","v":{"$error":"#N/A"}}]
[9676,9.1774038717299184,{"$f":" IF(Foglio1!$C$11 <> \"\", 8.314472*Foglio1!$C$11*Foglio2!B1081, NA())","v":22891.580257257003},{"$f":"IF(Foglio1!$H$11 <> \"\", Foglio1!$H$11 + C1081*10^-3, NA())","v":-67.108419742742996},9676,9.1774038717299184,{"$f":" IF(Foglio1!$C$12 <> \"\", 8.314472*Foglio1!$C$12*Foglio2!F1081, NA())","v":{"$error":"#N/A"}},{"$f":"IF(Foglio1!$H$12 <> \"\", Foglio1!$H$12 + G1081*10^-3, NA())","v":{"$error":"#N/A"}},9676,9.1774038717299184,{"$f":" IF(Foglio1!$C$13 <> \"\", 8.314472*Foglio1!$C$13*Foglio2!J1081, NA())","v":{"$error":"#N/A"}},{"$f":"IF(Foglio1!$H$13 <> \"\", Foglio1!$H$13 + K1081*10^-3, NA())","v":{"$error":"#N/A"}},9676,9.1774038717299184,{"$f":" IF(Foglio1!$C$14 <> \"\", 8.314472*Foglio1!$C$14*Foglio2!N1081, NA())","v":{"$error":"#N/A"}},{"$f":"IF(Foglio1!$H$14 <> \"\", Foglio1!$H$14 + O1081*10^-3, NA())","v":{"$error":"#N/A"}},9676,9.1774038717299184,{"$f":" IF(Foglio1!$C$15 <> \"\", 8.314472*Foglio1!$C$15*Foglio2!R1081, NA())","v":{"$error":"#N/A"}},{"$f":"IF(Foglio1!$H$15 <> \"\", Foglio1!$H$15 + S1081*10^-3, NA())","v":{"$error":"#N/A"}}]
[9685,9.178333575841096,{"$f":" IF(Foglio1!$C$11 <> \"\", 8.314472*Foglio1!$C$11*Foglio2!B1082, NA())","v":22893.899256897203},{"$f":"IF(Foglio1!$H$11 <> \"\", Foglio1!$H$11 + C1082*10^-3, NA())","v":-67.1061007431028},9685,9.178333575841096,{"$f":" IF(Foglio1!$C$12 <> \"\", 8.314472*Foglio1!$C$12*Foglio2!F1082, NA())","v":{"$error":"#N/A"}},{"$f":"IF(Foglio1!$H$12 <> \"\", Foglio1!$H$12 + G1082*10^-3, NA())","v":{"$error":"#N/A"}},9685,9.178333575841096,{"$f":" IF(Foglio1!$C$13 <> \"\", 8.314472*Foglio1!$C$13*Foglio2!J1082, NA())","v":{"$error":"#N/A"}},{"$f":"IF(Foglio1!$H$13 <> \"\", Foglio1!$H$13 + K1082*10^-3, NA())","v":{"$error":"#N/A"}},9685,9.178333575841096,{"$f":" IF(Foglio1!$C$14 <> \"\", 8.314472*Foglio1!$C$14*Foglio2!N1082, NA())","v":{"$error":"#N/A"}},{"$f":"IF(Foglio1!$H$14 <> \"\", Foglio1!$H$14 + O1082*10^-3, NA())","v":{"$error":"#N/A"}},9685,9.178333575841096,{"$f":" IF(Foglio1!$C$15 <> \"\", 8.314472*Foglio1!$C$15*Foglio2!R1082, NA())","v":{"$error":"#N/A"}},{"$f":"IF(Foglio1!$H$15 <> \"\", Foglio1!$H$15 + S1082*10^-3, NA())","v":{"$error":"#N/A"}}]
[9694,9.1792624164053205,{"$f":" IF(Foglio1!$C$11 <> \"\", 8.314472*Foglio1!$C$11*Foglio2!B1083, NA())","v":22896.216102556315},{"$f":"IF(Foglio1!$H$11 <> \"\", Foglio1!$H$11 + C1083*10^-3, NA())","v":-67.103783897443691},9694,9.1792624164053205,{"$f":" IF(Foglio1!$C$12 <> \"\", 8.314472*Foglio1!$C$12*Foglio2!F1083, NA())","v":{"$error":"#N/A"}},{"$f":"IF(Foglio1!$H$12 <> \"\", Foglio1!$H$12 + G1083*10^-3, NA())","v":{"$error":"#N/A"}},9694,9.1792624164053205,{"$f":" IF(Foglio1!$C$13 <> \"\", 8.314472*Foglio1!$C$13*Foglio2!J1083, NA())","v":{"$error":"#N/A"}},{"$f":"IF(Foglio1!$H$13 <> \"\", Foglio1!$H$13 + K1083*10^-3, NA())","v":{"$error":"#N/A"}},9694,9.1792624164053205,{"$f":" IF(Foglio1!$C$14 <> \"\", 8.314472*Foglio1!$C$14*Foglio2!N1083, NA())","v":{"$error":"#N/A"}},{"$f":"IF(Foglio1!$H$14 <> \"\", Foglio1!$H$14 + O1083*10^-3, NA())","v":{"$error":"#N/A"}},9694,9.1792624164053205,{"$f":" IF(Foglio1!$C$15 <> \"\", 8.314472*Foglio1!$C$15*Foglio2!R1083, NA())","v":{"$error":"#N/A"}},{"$f":"IF(Foglio1!$H$15 <> \"\", Foglio1!$H$15 + S1083*10^-3, NA())","v":{"$error":"#N/A"}}]
[9703,9.1801903950252992,{"$f":" IF(Foglio1!$C$11 <> \"\", 8.314472*Foglio1!$C$11*Foglio2!B1084, NA())","v":22898.530798232037},{"$f":"IF(Foglio1!$H$11 <> \"\", Foglio1!$H$11 + C1084*10^-3, NA())","v":-67.101469201767969},9703,9.1801903950252992,{"$f":" IF(Foglio1!$C$12 <> \"\", 8.314472*Foglio1!$C$12*Foglio2!F1084, NA())","v":{"$error":"#N/A"}},{"$f":"IF(Foglio1!$H$12 <> \"\", Foglio1!$H$12 + G1084*10^-3, NA())","v":{"$error":"#N/A"}},9703,9.1801903950252992,{"$f":" IF(Foglio1!$C$13 <> \"\", 8.314472*Foglio1!$C$13*Foglio2!J1084, NA())","v":{"$error":"#N/A"}},{"$f":"IF(Foglio1!$H$13 <> \"\", Foglio1!$H$13 + K1084*10^-3, NA())","v":{"$error":"#N/A"}},9703,9.1801903950252992,{"$f":" IF(Foglio1!$C$14 <> \"\", 8.314472*Foglio1!$C$14*Foglio2!N1084, NA())","v":{"$error":"#N/A"}},{"$f":"IF(Foglio1!$H$14 <> \"\", Foglio1!$H$14 + O1084*10^-3, NA())","v":{"$error":"#N/A"}},9703,9.1801903950252992,{"$f":" IF(Foglio1!$C$15 <> \"\", 8.314472*Foglio1!$C$15*Foglio2!R1084, NA())","v":{"$error":"#N/A"}},{"$f":"IF(Foglio1!$H$15 <> \"\", Foglio1!$H$15 + S1084*10^-3, NA())","v":{"$error":"#N/A"}}]
[9712,9.1811175132992791,{"$f":" IF(Foglio1!$C$11 <> \"\", 8.314472*Foglio1!$C$11*Foglio2!B1085, NA())","v":22900.843347910948},{"$f":"IF(Foglio1!$H$11 <> \"\", Foglio1!$H$11 + C1085*10^-3, NA())","v":-67.09915665208905},9712,9.1811175132992791,{"$f":" IF(Foglio1!$C$12 <> \"\", 8.314472*Foglio1!$C$12*Foglio2!F1085, NA())","v":{"$error":"#N/A"}},{"$f":"IF(Foglio1!$H$12 <> \"\", Foglio1!$H$12 + G1085*10^-3, NA())","v":{"$error":"#N/A"}},9712,9.1811175132992791,{"$f":" IF(Foglio1!$C$13 <> \"\", 8.314472*Foglio1!$C$13*Foglio2!J1085, NA())","v":{"$error":"#N/A"}},{"$f":"IF(Foglio1!$H$13 <> \"\", Foglio1!$H$13 + K1085*10^-3, NA())","v":{"$error":"#N/A"}},9712,9.1811175132992791,{"$f":" IF(Foglio1!$C$14 <> \"\", 8.314472*Foglio1!$C$14*Foglio2!N1085, NA())","v":{"$error":"#N/A"}},{"$f":"IF(Foglio1!$H$14 <> \"\", Foglio1!$H$14 + O1085*10^-3, NA())","v":{"$error":"#N/A"}},9712,9.1811175132992791,{"$f":" IF(Foglio1!$C$15 <> \"\", 8.314472*Foglio1!$C$15*Foglio2!R1085, NA())","v":{"$error":"#N/A"}},{"$f":"IF(Foglio1!$H$15 <> \"\", Foglio1!$H$15 + S1085*10^-3, NA())","v":{"$error":"#N/A"}}]
[9721,9.1820437728210695,{"$f":" IF(Foglio1!$C$11 <> \"\", 8.314472*Foglio1!$C$11*Foglio2!B1086, NA())","v":22903.153755568546},{"$f":"IF(Foglio1!$H$11 <> \"\", Foglio1!$H$11 + C1086*10^-3, NA())","v":-67.096846244431447},9721,9.1820437728210695,{"$f":" IF(Foglio1!$C$12 <> \"\", 8.314472*Foglio1!$C$12*Foglio2!F1086, NA())","v":{"$error":"#N/A"}},{"$f":"IF(Foglio1!$H$12 <> \"\", Foglio1!$H$12 + G1086*10^-3, NA())","v":{"$error":"#N/A"}},9721,9.1820437728210695,{"$f":" IF(Foglio1!$C$13 <> \"\", 8.314472*Foglio1!$C$13*Foglio2!J1086, NA())","v":{"$error":"#N/A"}},{"$f":"IF(Foglio1!$H$13 <> \"\", Foglio1!$H$13 + K1086*10^-3, NA())","v":{"$error":"#N/A"}},9721,9.1820437728210695,{"$f":" IF(Foglio1!$C$14 <> \"\", 8.314472*Foglio1!$C$14*Foglio2!N1086, NA())","v":{"$error":"#N/A"}},{"$f":"IF(Foglio1!$H$14 <> \"\", Foglio1!$H$14 + O1086*10^-3, NA())","v":{"$error":"#N/A"}},9721,9.1820437728210695,{"$f":" IF(Foglio1!$C$15 <> \"\", 8.314472*Foglio1!$C$15*Foglio2!R1086, NA())","v":{"$error":"#N/A"}},{"$f":"IF(Foglio1!$H$15 <> \"\", Foglio1!$H$15 + S1086*10^-3, NA())","v":{"$error":"#N/A"}}]
[9730,9.18296917518005,{"$f":" IF(Foglio1!$C$11 <> \"\", 8.314472*Foglio1!$C$11*Foglio2!B1087, NA())","v":22905.462025169287},{"$f":"IF(Foglio1!$H$11 <> \"\", Foglio1!$H$11 + C1087*10^-3, NA())","v":-67.094537974830715},9730,9.18296917518005,{"$f":" IF(Foglio1!$C$12 <> \"\", 8.314472*Foglio1!$C$12*Foglio2!F1087, NA())","v":{"$error":"#N/A"}},{"$f":"IF(Foglio1!$H$12 <> \"\", Foglio1!$H$12 + G1087*10^-3, NA())","v":{"$error":"#N/A"}},9730,9.18296917518005,{"$f":" IF(Foglio1!$C$13 <> \"\", 8.314472*Foglio1!$C$13*Foglio2!J1087, NA())","v":{"$error":"#N/A"}},{"$f":"IF(Foglio1!$H$13 <> \"\", Foglio1!$H$13 + K1087*10^-3, NA())","v":{"$error":"#N/A"}},9730,9.18296917518005,{"$f":" IF(Foglio1!$C$14 <> \"\", 8.314472*Foglio1!$C$14*Foglio2!N1087, NA())","v":{"$error":"#N/A"}},{"$f":"IF(Foglio1!$H$14 <> \"\", Foglio1!$H$14 + O1087*10^-3, NA())","v":{"$error":"#N/A"}},9730,9.18296917518005,{"$f":" IF(Foglio1!$C$15 <> \"\", 8.314472*Foglio1!$C$15*Foglio2!R1087, NA())","v":{"$error":"#N/A"}},{"$f":"IF(Foglio1!$H$15 <> \"\", Foglio1!$H$15 + S1087*10^-3, NA())","v":{"$error":"#N/A"}}]
[9739,9.1838937219611996,{"$f":" IF(Foglio1!$C$11 <> \"\", 8.314472*Foglio1!$C$11*Foglio2!B1088, NA())","v":22907.768160666656},{"$f":"IF(Foglio1!$H$11 <> \"\", Foglio1!$H$11 + C1088*10^-3, NA())","v":-67.092231839333351},9739,9.1838937219611996,{"$f":" IF(Foglio1!$C$12 <> \"\", 8.314472*Foglio1!$C$12*Foglio2!F1088, NA())","v":{"$error":"#N/A"}},{"$f":"IF(Foglio1!$H$12 <> \"\", Foglio1!$H$12 + G1088*10^-3, NA())","v":{"$error":"#N/A"}},9739,9.1838937219611996,{"$f":" IF(Foglio1!$C$13 <> \"\", 8.314472*Foglio1!$C$13*Foglio2!J1088, NA())","v":{"$error":"#N/A"}},{"$f":"IF(Foglio1!$H$13 <> \"\", Foglio1!$H$13 + K1088*10^-3, NA())","v":{"$error":"#N/A"}},9739,9.1838937219611996,{"$f":" IF(Foglio1!$C$14 <> \"\", 8.314472*Foglio1!$C$14*Foglio2!N1088, NA())","v":{"$error":"#N/A"}},{"$f":"IF(Foglio1!$H$14 <> \"\", Foglio1!$H$14 + O1088*10^-3, NA())","v":{"$error":"#N/A"}},9739,9.1838937219611996,{"$f":" IF(Foglio1!$C$15 <> \"\", 8.314472*Foglio1!$C$15*Foglio2!R1088, NA())","v":{"$error":"#N/A"}},{"$f":"IF(Foglio1!$H$15 <> \"\", Foglio1!$H$15 + S1088*10^-3, NA())","v":{"$error":"#N/A"}}]
[9748,9.1848174147450976,{"$f":" IF(Foglio1!$C$11 <> \"\", 8.314472*Foglio1!$C$11*Foglio2!B1089, NA())","v":22910.072166003152},{"$f":"IF(Foglio1!$H$11 <> \"\", Foglio1!$H$11 + C1089*10^-3, NA())","v":-67.089927833996853},9748,9.1848174147450976,{"$f":" IF(Foglio1!$C$12 <> \"\", 8.314472*Foglio1!$C$12*Foglio2!F1089, NA())","v":{"$error":"#N/A"}},{"$f":"IF(Foglio1!$H$12 <> \"\", Foglio1!$H$12 + G1089*10^-3, NA())","v":{"$error":"#N/A"}},9748,9.1848174147450976,{"$f":" IF(Foglio1!$C$13 <> \"\", 8.314472*Foglio1!$C$13*Foglio2!J1089, NA())","v":{"$error":"#N/A"}},{"$f":"IF(Foglio1!$H$13 <> \"\", Foglio1!$H$13 + K1089*10^-3, NA())","v":{"$error":"#N/A"}},9748,9.1848174147450976,{"$f":" IF(Foglio1!$C$14 <> \"\", 8.314472*Foglio1!$C$14*Foglio2!N1089, NA())","v":{"$error":"#N/A"}},{"$f":"IF(Foglio1!$H$14 <> \"\", Foglio1!$H$14 + O1089*10^-3, NA())","v":{"$error":"#N/A"}},9748,9.1848174147450976,{"$f":" IF(Foglio1!$C$15 <> \"\", 8.314472*Foglio1!$C$15*Foglio2!R1089, NA())","v":{"$error":"#N/A"}},{"$f":"IF(Foglio1!$H$15 <> \"\", Foglio1!$H$15 + S1089*10^-3, NA())","v":{"$error":"#N/A"}}]
[9757,9.1857402551079499,{"$f":" IF(Foglio1!$C$11 <> \"\", 8.314472*Foglio1!$C$11*Foglio2!B1090, NA())","v":22912.374045110373},{"$f":"IF(Foglio1!$H$11 <> \"\", Foglio1!$H$11 + C1090*10^-3, NA())","v":-67.087625954889631},9757,9.1857402551079499,{"$f":" IF(Foglio1!$C$12 <> \"\", 8.314472*Foglio1!$C$12*Foglio2!F1090, NA())","v":{"$error":"#N/A"}},{"$f":"IF(Foglio1!$H$12 <> \"\", Foglio1!$H$12 + G1090*10^-3, NA())","v":{"$error":"#N/A"}},9757,9.1857402551079499,{"$f":" IF(Foglio1!$C$13 <> \"\", 8.314472*Foglio1!$C$13*Foglio2!J1090, NA())","v":{"$error":"#N/A"}},{"$f":"IF(Foglio1!$H$13 <> \"\", Foglio1!$H$13 + K1090*10^-3, NA())","v":{"$error":"#N/A"}},9757,9.1857402551079499,{"$f":" IF(Foglio1!$C$14 <> \"\", 8.314472*Foglio1!$C$14*Foglio2!N1090, NA())","v":{"$error":"#N/A"}},{"$f":"IF(Foglio1!$H$14 <> \"\", Foglio1!$H$14 + O1090*10^-3, NA())","v":{"$error":"#N/A"}},9757,9.1857402551079499,{"$f":" IF(Foglio1!$C$15 <> \"\", 8.314472*Foglio1!$C$15*Foglio2!R1090, NA())","v":{"$error":"#N/A"}},{"$f":"IF(Foglio1!$H$15 <> \"\", Foglio1!$H$15 + S1090*10^-3, NA())","v":{"$error":"#N/A"}}]
[9766,{"$f":"LN(A1091)","v":9.1866622446216049},{"$f":" IF(Foglio1!$C$11 <> \"\", 8.314472*Foglio1!$C$11*Foglio2!B1091, NA())","v":22914.673801909048},{"$f":"IF(Foglio1!$H$11 <> \"\", Foglio1!$H$11 + C1091*10^-3, NA())","v":-67.085326198090954},9766,{"$f":"LN(E1091)","v":9.1866622446216049},{"$f":" IF(Foglio1!$C$12 <> \"\", 8.314472*Foglio1!$C$12*Foglio2!F1091, NA())","v":{"$error":"#N/A"}},{"$f":"IF(Foglio1!$H$12 <> \"\", Foglio1!$H$12 + G1091*10^-3, NA())","v":{"$error":"#N/A"}},9766,{"$f":"LN(I1091)","v":9.1866622446216049},{"$f":" IF(Foglio1!$C$13 <> \"\", 8.314472*Foglio1!$C$13*Foglio2!J1091, NA())","v":{"$error":"#N/A"}},{"$f":"IF(Foglio1!$H$13 <> \"\", Foglio1!$H$13 + K1091*10^-3, NA())","v":{"$error":"#N/A"}},9766,{"$f":"LN(M1091)","v":9.1866622446216049},{"$f":" IF(Foglio1!$C$14 <> \"\", 8.314472*Foglio1!$C$14*Foglio2!N1091, NA())","v":{"$error":"#N/A"}},{"$f":"IF(Foglio1!$H$14 <> \"\", Foglio1!$H$14 + O1091*10^-3, NA())","v":{"$error":"#N/A"}},9766,{"$f":"LN(Q1091)","v":9.1866622446216049},{"$f":" IF(Foglio1!$C$15 <> \"\", 8.314472*Foglio1!$C$15*Foglio2!R1091, NA())","v":{"$error":"#N/A"}},{"$f":"IF(Foglio1!$H$15 <> \"\", Foglio1!$H$15 + S1091*10^-3, NA())","v":{"$error":"#N/A"}}]
[9775,9.187583384853566,{"$f":" IF(Foglio1!$C$11 <> \"\", 8.314472*Foglio1!$C$11*Foglio2!B1092, NA())","v":22916.971440309062},{"$f":"IF(Foglio1!$H$11 <> \"\", Foglio1!$H$11 + C1092*10^-3, NA())","v":-67.083028559690945},9775,9.187583384853566,{"$f":" IF(Foglio1!$C$12 <> \"\", 8.314472*Foglio1!$C$12*Foglio2!F1092, NA())","v":{"$error":"#N/A"}},{"$f":"IF(Foglio1!$H$12 <> \"\", Foglio1!$H$12 + G1092*10^-3, NA())","v":{"$error":"#N/A"}},9775,9.187583384853566,{"$f":" IF(Foglio1!$C$13 <> \"\", 8.314472*Foglio1!$C$13*Foglio2!J1092, NA())","v":{"$error":"#N/A"}},{"$f":"IF(Foglio1!$H$13 <> \"\", Foglio1!$H$13 + K1092*10^-3, NA())","v":{"$error":"#N/A"}},9775,9.187583384853566,{"$f":" IF(Foglio1!$C$14 <> \"\", 8.314472*Foglio1!$C$14*Foglio2!N1092, NA())","v":{"$error":"#N/A"}},{"$f":"IF(Foglio1!$H$14 <> \"\", Foglio1!$H$14 + O1092*10^-3, NA())","v":{"$error":"#N/A"}},9775,9.187583384853566,{"$f":" IF(Foglio1!$C$15 <> \"\", 8.314472*Foglio1!$C$15*Foglio2!R1092, NA())","v":{"$error":"#N/A"}},{"$f":"IF(Foglio1!$H$15 <> \"\", Foglio1!$H$15 + S1092*10^-3, NA())","v":{"$error":"#N/A"}}]
[9784,9.1885036773670077,{"$f":" IF(Foglio1!$C$11 <> \"\", 8.314472*Foglio1!$C$11*Foglio2!B1093, NA())","v":22919.266964209506},{"$f":"IF(Foglio1!$H$11 <> \"\", Foglio1!$H$11 + C1093*10^-3, NA())","v":-67.080733035790502},9784,9.1885036773670077,{"$f":" IF(Foglio1!$C$12 <> \"\", 8.314472*Foglio1!$C$12*Foglio2!F1093, NA())","v":{"$error":"#N/A"}},{"$f":"IF(Foglio1!$H$12 <> \"\", Foglio1!$H$12 + G1093*10^-3, NA())","v":{"$error":"#N/A"}},9784,9.1885036773670077,{"$f":" IF(Foglio1!$C$13 <> \"\", 8.314472*Foglio1!$C$13*Foglio2!J1093, NA())","v":{"$error":"#N/A"}},{"$f":"IF(Foglio1!$H$13 <> \"\", Foglio1!$H$13 + K1093*10^-3, NA())","v":{"$error":"#N/A"}},9784,9.1885036773670077,{"$f":" IF(Foglio1!$C$14 <> \"\", 8.314472*Foglio1!$C$14*Foglio2!N1093, NA())","v":{"$error":"#N/A"}},{"$f":"IF(Foglio1!$H$14 <> \"\", Foglio1!$H$14 + O1093*10^-3, NA())","v":{"$error":"#N/A"}},9784,9.1885036773670077,{"$f":" IF(Foglio1!$C$15 <> \"\", 8.314472*Foglio1!$C$15*Foglio2!R1093, NA())","v":{"$error":"#N/A"}},{"$f":"IF(Foglio1!$H$15 <> \"\", Foglio1!$H$15 + S1093*10^-3, NA())","v":{"$error":"#N/A"}}]
[9793,9.1894231237207951,{"$f":" IF(Foglio1!$C$11 <> \"\", 8.314472*Foglio1!$C$11*Foglio2!B1094, NA())","v":22921.560377498728},{"$f":"IF(Foglio1!$H$11 <> \"\", Foglio1!$H$11 + C1094*10^-3, NA())","v":-67.078439622501264},9793,9.1894231237207951,{"$f":" IF(Foglio1!$C$12 <> \"\", 8.314472*Foglio1!$C$12*Foglio2!F1094, NA())","v":{"$error":"#N/A"}},{"$f":"IF(Foglio1!$H$12 <> \"\", Foglio1!$H$12 + G1094*10^-3, NA())","v":{"$error":"#N/A"}},9793,9.1894231237207951,{"$f":" IF(Foglio1!$C$13 <> \"\", 8.314472*Foglio1!$C$13*Foglio2!J1094, NA())","v":{"$error":"#N/A"}},{"$f":"IF(Foglio1!$H$13 <> \"\", Foglio1!$H$13 + K1094*10^-3, NA())","v":{"$error":"#N/A"}},9793,9.1894231237207951,{"$f":" IF(Foglio1!$C$14 <> \"\", 8.314472*Foglio1!$C$14*Foglio2!N1094, NA())","v":{"$error":"#N/A"}},{"$f":"IF(Foglio1!$H$14 <> \"\", Foglio1!$H$14 + O1094*10^-3, NA())","v":{"$error":"#N/A"}},9793,9.1894231237207951,{"$f":" IF(Foglio1!$C$15 <> \"\", 8.314472*Foglio1!$C$15*Foglio2!R1094, NA())","v":{"$error":"#N/A"}},{"$f":"IF(Foglio1!$H$15 <> \"\", Foglio1!$H$15 + S1094*10^-3, NA())","v":{"$error":"#N/A"}}]
[9802,9.1903417254694926,{"$f":" IF(Foglio1!$C$11 <> \"\", 8.314472*Foglio1!$C$11*Foglio2!B1095, NA())","v":22923.851684054338},{"$f":"IF(Foglio1!$H$11 <> \"\", Foglio1!$H$11 + C1095*10^-3, NA())","v":-67.076148315945659},9802,9.1903417254694926,{"$f":" IF(Foglio1!$C$12 <> \"\", 8.314472*Foglio1!$C$12*Foglio2!F1095, NA())","v":{"$error":"#N/A"}},{"$f":"IF(Foglio1!$H$12 <> \"\", Foglio1!$H$12 + G1095*10^-3, NA())","v":{"$error":"#N/A"}},9802,9.1903417254694926,{"$f":" IF(Foglio1!$C$13 <> \"\", 8.314472*Foglio1!$C$13*Foglio2!J1095, NA())","v":{"$error":"#N/A"}},{"$f":"IF(Foglio1!$H$13 <> \"\", Foglio1!$H$13 + K1095*10^-3, NA())","v":{"$error":"#N/A"}},9802,9.1903417254694926,{"$f":" IF(Foglio1!$C$14 <> \"\", 8.314472*Foglio1!$C$14*Foglio2!N1095, NA())","v":{"$error":"#N/A"}},{"$f":"IF(Foglio1!$H$14 <> \"\", Foglio1!$H$14 + O1095*10^-3, NA())","v":{"$error":"#N/A"}},9802,9.1903417254694926,{"$f":" IF(Foglio1!$C$15 <> \"\", 8.314472*Foglio1!$C$15*Foglio2!R1095, NA())","v":{"$error":"#N/A"}},{"$f":"IF(Foglio1!$H$15 <> \"\", Foglio1!$H$15 + S1095*10^-3, NA())","v":{"$error":"#N/A"}}]
[9811,9.1912594841633908,{"$f":" IF(Foglio1!$C$11 <> \"\", 8.314472*Foglio1!$C$11*Foglio2!B1096, NA())","v":22926.140887743288},{"$f":"IF(Foglio1!$H$11 <> \"\", Foglio1!$H$11 + C1096*10^-3, NA())","v":-67.073859112256713},9811,9.1912594841633908,{"$f":" IF(Foglio1!$C$12 <> \"\", 8.314472*Foglio1!$C$12*Foglio2!F1096, NA())","v":{"$error":"#N/A"}},{"$f":"IF(Foglio1!$H$12 <> \"\", Foglio1!$H$12 + G1096*10^-3, NA())","v":{"$error":"#N/A"}},9811,9.1912594841633908,{"$f":" IF(Foglio1!$C$13 <> \"\", 8.314472*Foglio1!$C$13*Foglio2!J1096, NA())","v":{"$error":"#N/A"}},{"$f":"IF(Foglio1!$H$13 <> \"\", Foglio1!$H$13 + K1096*10^-3, NA())","v":{"$error":"#N/A"}},9811,9.1912594841633908,{"$f":" IF(Foglio1!$C$14 <> \"\", 8.314472*Foglio1!$C$14*Foglio2!N1096, NA())","v":{"$error":"#N/A"}},{"$f":"IF(Foglio1!$H$14 <> \"\", Foglio1!$H$14 + O1096*10^-3, NA())","v":{"$error":"#N/A"}},9811,9.1912594841633908,{"$f":" IF(Foglio1!$C$15 <> \"\", 8.314472*Foglio1!$C$15*Foglio2!R1096, NA())","v":{"$error":"#N/A"}},{"$f":"IF(Foglio1!$H$15 <> \"\", Foglio1!$H$15 + S1096*10^-3, NA())","v":{"$error":"#N/A"}}]
[9820,9.1921764013485117,{"$f":" IF(Foglio1!$C$11 <> \"\", 8.314472*Foglio1!$C$11*Foglio2!B1097, NA())","v":22928.42799242189},{"$f":"IF(Foglio1!$H$11 <> \"\", Foglio1!$H$11 + C1097*10^-3, NA())","v":-67.071572007578112},9820,9.1921764013485117,{"$f":" IF(Foglio1!$C$12 <> \"\", 8.314472*Foglio1!$C$12*Foglio2!F1097, NA())","v":{"$error":"#N/A"}},{"$f":"IF(Foglio1!$H$12 <> \"\", Foglio1!$H$12 + G1097*10^-3, NA())","v":{"$error":"#N/A"}},9820,9.1921764013485117,{"$f":" IF(Foglio1!$C$13 <> \"\", 8.314472*Foglio1!$C$13*Foglio2!J1097, NA())","v":{"$error":"#N/A"}},{"$f":"IF(Foglio1!$H$13 <> \"\", Foglio1!$H$13 + K1097*10^-3, NA())","v":{"$error":"#N/A"}},9820,9.1921764013485117,{"$f":" IF(Foglio1!$C$14 <> \"\", 8.314472*Foglio1!$C$14*Foglio2!N1097, NA())","v":{"$error":"#N/A"}},{"$f":"IF(Foglio1!$H$14 <> \"\", Foglio1!$H$14 + O1097*10^-3, NA())","v":{"$error":"#N/A"}},9820,9.1921764013485117,{"$f":" IF(Foglio1!$C$15 <> \"\", 8.314472*Foglio1!$C$15*Foglio2!R1097, NA())","v":{"$error":"#N/A"}},{"$f":"IF(Foglio1!$H$15 <> \"\", Foglio1!$H$15 + S1097*10^-3, NA())","v":{"$error":"#N/A"}}]
[9829,9.1930924785666299,{"$f":" IF(Foglio1!$C$11 <> \"\", 8.314472*Foglio1!$C$11*Foglio2!B1098, NA())","v":22930.713001935856},{"$f":"IF(Foglio1!$H$11 <> \"\", Foglio1!$H$11 + C1098*10^-3, NA())","v":-67.069286998064143},9829,9.1930924785666299,{"$f":" IF(Foglio1!$C$12 <> \"\", 8.314472*Foglio1!$C$12*Foglio2!F1098, NA())","v":{"$error":"#N/A"}},{"$f":"IF(Foglio1!$H$12 <> \"\", Foglio1!$H$12 + G1098*10^-3, NA())","v":{"$error":"#N/A"}},9829,9.1930924785666299,{"$f":" IF(Foglio1!$C$13 <> \"\", 8.314472*Foglio1!$C$13*Foglio2!J1098, NA())","v":{"$error":"#N/A"}},{"$f":"IF(Foglio1!$H$13 <> \"\", Foglio1!$H$13 + K1098*10^-3, NA())","v":{"$error":"#N/A"}},9829,9.1930924785666299,{"$f":" IF(Foglio1!$C$14 <> \"\", 8.314472*Foglio1!$C$14*Foglio2!N1098, NA())","v":{"$error":"#N/A"}},{"$f":"IF(Foglio1!$H$14 <> \"\", Foglio1!$H$14 + O1098*10^-3, NA())","v":{"$error":"#N/A"}},9829,9.1930924785666299,{"$f":" IF(Foglio1!$C$15 <> \"\", 8.314472*Foglio1!$C$15*Foglio2!R1098, NA())","v":{"$error":"#N/A"}},{"$f":"IF(Foglio1!$H$15 <> \"\", Foglio1!$H$15 + S1098*10^-3, NA())","v":{"$error":"#N/A"}}]
[9838,9.1940077173552854,{"$f":" IF(Foglio1!$C$11 <> \"\", 8.314472*Foglio1!$C$11*Foglio2!B1099, NA())","v":22932.995920120331},{"$f":"IF(Foglio1!$H$11 <> \"\", Foglio1!$H$11 + C1099*10^-3, NA())","v":-67.067004079879666},9838,9.1940077173552854,{"$f":" IF(Foglio1!$C$12 <> \"\", 8.314472*Foglio1!$C$12*Foglio2!F1099, NA())","v":{"$error":"#N/A"}},{"$f":"IF(Foglio1!$H$12 <> \"\", Foglio1!$H$12 + G1099*10^-3, NA())","v":{"$error":"#N/A"}},9838,9.1940077173552854,{"$f":" IF(Foglio1!$C$13 <> \"\", 8.314472*Foglio1!$C$13*Foglio2!J1099, NA())","v":{"$error":"#N/A"}},{"$f":"IF(Foglio1!$H$13 <> \"\", Foglio1!$H$13 + K1099*10^-3, NA())","v":{"$error":"#N/A"}},9838,9.1940077173552854,{"$f":" IF(Foglio1!$C$14 <> \"\", 8.314472*Foglio1!$C$14*Foglio2!N1099, NA())","v":{"$error":"#N/A"}},{"$f":"IF(Foglio1!$H$14 <> \"\", Foglio1!$H$14 + O1099*10^-3, NA())","v":{"$error":"#N/A"}},9838,9.1940077173552854,{"$f":" IF(Foglio1!$C$15 <> \"\", 8.314472*Foglio1!$C$15*Foglio2!R1099, NA())","v":{"$error":"#N/A"}},{"$f":"IF(Foglio1!$H$15 <> \"\", Foglio1!$H$15 + S1099*10^-3, NA())","v":{"$error":"#N/A"}}]
[9847,9.1949221192478028,{"$f":" IF(Foglio1!$C$11 <> \"\", 8.314472*Foglio1!$C$11*Foglio2!B1100, NA())","v":22935.276750799956},{"$f":"IF(Foglio1!$H$11 <> \"\", Foglio1!$H$11 + C1100*10^-3, NA())","v":-67.064723249200043},9847,9.1949221192478028,{"$f":" IF(Foglio1!$C$12 <> \"\", 8.314472*Foglio1!$C$12*Foglio2!F1100, NA())","v":{"$error":"#N/A"}},{"$f":"IF(Foglio1!$H$12 <> \"\", Foglio1!$H$12 + G1100*10^-3, NA())","v":{"$error":"#N/A"}},9847,9.1949221192478028,{"$f":" IF(Foglio1!$C$13 <> \"\", 8.314472*Foglio1!$C$13*Foglio2!J1100, NA())","v":{"$error":"#N/A"}},{"$f":"IF(Foglio1!$H$13 <> \"\", Foglio1!$H$13 + K1100*10^-3, NA())","v":{"$error":"#N/A"}},9847,9.1949221192478028,{"$f":" IF(Foglio1!$C$14 <> \"\", 8.314472*Foglio1!$C$14*Foglio2!N1100, NA())","v":{"$error":"#N/A"}},{"$f":"IF(Foglio1!$H$14 <> \"\", Foglio1!$H$14 + O1100*10^-3, NA())","v":{"$error":"#N/A"}},9847,9.1949221192478028,{"$f":" IF(Foglio1!$C$15 <> \"\", 8.314472*Foglio1!$C$15*Foglio2!R1100, NA())","v":{"$error":"#N/A"}},{"$f":"IF(Foglio1!$H$15 <> \"\", Foglio1!$H$15 + S1100*10^-3, NA())","v":{"$error":"#N/A"}}]
[9856,9.1958356857733001,{"$f":" IF(Foglio1!$C$11 <> \"\", 8.314472*Foglio1!$C$11*Foglio2!B1101, NA())","v":22937.555497788871},{"$f":"IF(Foglio1!$H$11 <> \"\", Foglio1!$H$11 + C1101*10^-3, NA())","v":-67.062444502211122},9856,9.1958356857733001,{"$f":" IF(Foglio1!$C$12 <> \"\", 8.314472*Foglio1!$C$12*Foglio2!F1101, NA())","v":{"$error":"#N/A"}},{"$f":"IF(Foglio1!$H$12 <> \"\", Foglio1!$H$12 + G1101*10^-3, NA())","v":{"$error":"#N/A"}},9856,9.1958356857733001,{"$f":" IF(Foglio1!$C$13 <> \"\", 8.314472*Foglio1!$C$13*Foglio2!J1101, NA())","v":{"$error":"#N/A"}},{"$f":"IF(Foglio1!$H$13 <> \"\", Foglio1!$H$13 + K1101*10^-3, NA())","v":{"$error":"#N/A"}},9856,9.1958356857733001,{"$f":" IF(Foglio1!$C$14 <> \"\", 8.314472*Foglio1!$C$14*Foglio2!N1101, NA())","v":{"$error":"#N/A"}},{"$f":"IF(Foglio1!$H$14 <> \"\", Foglio1!$H$14 + O1101*10^-3, NA())","v":{"$error":"#N/A"}},9856,9.1958356857733001,{"$f":" IF(Foglio1!$C$15 <> \"\", 8.314472*Foglio1!$C$15*Foglio2!R1101, NA())","v":{"$error":"#N/A"}},{"$f":"IF(Foglio1!$H$15 <> \"\", Foglio1!$H$15 + S1101*10^-3, NA())","v":{"$error":"#N/A"}}]
[9865,9.1967484184567159,{"$f":" IF(Foglio1!$C$11 <> \"\", 8.314472*Foglio1!$C$11*Foglio2!B1102, NA())","v":22939.832164890795},{"$f":"IF(Foglio1!$H$11 <> \"\", Foglio1!$H$11 + C1102*10^-3, NA())","v":-67.060167835109212},9865,9.1967484184567159,{"$f":" IF(Foglio1!$C$12 <> \"\", 8.314472*Foglio1!$C$12*Foglio2!F1102, NA())","v":{"$error":"#N/A"}},{"$f":"IF(Foglio1!$H$12 <> \"\", Foglio1!$H$12 + G1102*10^-3, NA())","v":{"$error":"#N/A"}},9865,9.1967484184567159,{"$f":" IF(Foglio1!$C$13 <> \"\", 8.314472*Foglio1!$C$13*Foglio2!J1102, NA())","v":{"$error":"#N/A"}},{"$f":"IF(Foglio1!$H$13 <> \"\", Foglio1!$H$13 + K1102*10^-3, NA())","v":{"$error":"#N/A"}},9865,9.1967484184567159,{"$f":" IF(Foglio1!$C$14 <> \"\", 8.314472*Foglio1!$C$14*Foglio2!N1102, NA())","v":{"$error":"#N/A"}},{"$f":"IF(Foglio1!$H$14 <> \"\", Foglio1!$H$14 + O1102*10^-3, NA())","v":{"$error":"#N/A"}},9865,9.1967484184567159,{"$f":" IF(Foglio1!$C$15 <> \"\", 8.314472*Foglio1!$C$15*Foglio2!R1102, NA())","v":{"$error":"#N/A"}},{"$f":"IF(Foglio1!$H$15 <> \"\", Foglio1!$H$15 + S1102*10^-3, NA())","v":{"$error":"#N/A"}}]
[9874,9.1976603188188086,{"$f":" IF(Foglio1!$C$11 <> \"\", 8.314472*Foglio1!$C$11*Foglio2!B1103, NA())","v":22942.106755899018},{"$f":"IF(Foglio1!$H$11 <> \"\", Foglio1!$H$11 + C1103*10^-3, NA())","v":-67.057893244100981},9874,9.1976603188188086,{"$f":" IF(Foglio1!$C$12 <> \"\", 8.314472*Foglio1!$C$12*Foglio2!F1103, NA())","v":{"$error":"#N/A"}},{"$f":"IF(Foglio1!$H$12 <> \"\", Foglio1!$H$12 + G1103*10^-3, NA())","v":{"$error":"#N/A"}},9874,9.1976603188188086,{"$f":" IF(Foglio1!$C$13 <> \"\", 8.314472*Foglio1!$C$13*Foglio2!J1103, NA())","v":{"$error":"#N/A"}},{"$f":"IF(Foglio1!$H$13 <> \"\", Foglio1!$H$13 + K1103*10^-3, NA())","v":{"$error":"#N/A"}},9874,9.1976603188188086,{"$f":" IF(Foglio1!$C$14 <> \"\", 8.314472*Foglio1!$C$14*Foglio2!N1103, NA())","v":{"$error":"#N/A"}},{"$f":"IF(Foglio1!$H$14 <> \"\", Foglio1!$H$14 + O1103*10^-3, NA())","v":{"$error":"#N/A"}},9874,9.1976603188188086,{"$f":" IF(Foglio1!$C$15 <> \"\", 8.314472*Foglio1!$C$15*Foglio2!R1103, NA())","v":{"$error":"#N/A"}},{"$f":"IF(Foglio1!$H$15 <> \"\", Foglio1!$H$15 + S1103*10^-3, NA())","v":{"$error":"#N/A"}}]
[9883,9.1985713883761839,{"$f":" IF(Foglio1!$C$11 <> \"\", 8.314472*Foglio1!$C$11*Foglio2!B1104, NA())","v":22944.379274596475},{"$f":"IF(Foglio1!$H$11 <> \"\", Foglio1!$H$11 + C1104*10^-3, NA())","v":-67.055620725403529},9883,9.1985713883761839,{"$f":" IF(Foglio1!$C$12 <> \"\", 8.314472*Foglio1!$C$12*Foglio2!F1104, NA())","v":{"$error":"#N/A"}},{"$f":"IF(Foglio1!$H$12 <> \"\", Foglio1!$H$12 + G1104*10^-3, NA())","v":{"$error":"#N/A"}},9883,9.1985713883761839,{"$f":" IF(Foglio1!$C$13 <> \"\", 8.314472*Foglio1!$C$13*Foglio2!J1104, NA())","v":{"$error":"#N/A"}},{"$f":"IF(Foglio1!$H$13 <> \"\", Foglio1!$H$13 + K1104*10^-3, NA())","v":{"$error":"#N/A"}},9883,9.1985713883761839,{"$f":" IF(Foglio1!$C$14 <> \"\", 8.314472*Foglio1!$C$14*Foglio2!N1104, NA())","v":{"$error":"#N/A"}},{"$f":"IF(Foglio1!$H$14 <> \"\", Foglio1!$H$14 + O1104*10^-3, NA())","v":{"$error":"#N/A"}},9883,9.1985713883761839,{"$f":" IF(Foglio1!$C$15 <> \"\", 8.314472*Foglio1!$C$15*Foglio2!R1104, NA())","v":{"$error":"#N/A"}},{"$f":"IF(Foglio1!$H$15 <> \"\", Foglio1!$H$15 + S1104*10^-3, NA())","v":{"$error":"#N/A"}}]
[9892,9.1994816286413066,{"$f":" IF(Foglio1!$C$11 <> \"\", 8.314472*Foglio1!$C$11*Foglio2!B1105, NA())","v":22946.649724755764},{"$f":"IF(Foglio1!$H$11 <> \"\", Foglio1!$H$11 + C1105*10^-3, NA())","v":-67.053350275244242},9892,9.1994816286413066,{"$f":" IF(Foglio1!$C$12 <> \"\", 8.314472*Foglio1!$C$12*Foglio2!F1105, NA())","v":{"$error":"#N/A"}},{"$f":"IF(Foglio1!$H$12 <> \"\", Foglio1!$H$12 + G1105*10^-3, NA())","v":{"$error":"#N/A"}},9892,9.1994816286413066,{"$f":" IF(Foglio1!$C$13 <> \"\", 8.314472*Foglio1!$C$13*Foglio2!J1105, NA())","v":{"$error":"#N/A"}},{"$f":"IF(Foglio1!$H$13 <> \"\", Foglio1!$H$13 + K1105*10^-3, NA())","v":{"$error":"#N/A"}},9892,9.1994816286413066,{"$f":" IF(Foglio1!$C$14 <> \"\", 8.314472*Foglio1!$C$14*Foglio2!N1105, NA())","v":{"$error":"#N/A"}},{"$f":"IF(Foglio1!$H$14 <> \"\", Foglio1!$H$14 + O1105*10^-3, NA())","v":{"$error":"#N/A"}},9892,9.1994816286413066,{"$f":" IF(Foglio1!$C$15 <> \"\", 8.314472*Foglio1!$C$15*Foglio2!R1105, NA())","v":{"$error":"#N/A"}},{"$f":"IF(Foglio1!$H$15 <> \"\", Foglio1!$H$15 + S1105*10^-3, NA())","v":{"$error":"#N/A"}}]
[9901,9.2003910411225149,{"$f":" IF(Foglio1!$C$11 <> \"\", 8.314472*Foglio1!$C$11*Foglio2!B1106, NA())","v":22948.918110139202},{"$f":"IF(Foglio1!$H$11 <> \"\", Foglio1!$H$11 + C1106*10^-3, NA())","v":-67.051081889860797},9901,9.2003910411225149,{"$f":" IF(Foglio1!$C$12 <> \"\", 8.314472*Foglio1!$C$12*Foglio2!F1106, NA())","v":{"$error":"#N/A"}},{"$f":"IF(Foglio1!$H$12 <> \"\", Foglio1!$H$12 + G1106*10^-3, NA())","v":{"$error":"#N/A"}},9901,9.2003910411225149,{"$f":" IF(Foglio1!$C$13 <> \"\", 8.314472*Foglio1!$C$13*Foglio2!J1106, NA())","v":{"$error":"#N/A"}},{"$f":"IF(Foglio1!$H$13 <> \"\", Foglio1!$H$13 + K1106*10^-3, NA())","v":{"$error":"#N/A"}},9901,9.2003910411225149,{"$f":" IF(Foglio1!$C$14 <> \"\", 8.314472*Foglio1!$C$14*Foglio2!N1106, NA())","v":{"$error":"#N/A"}},{"$f":"IF(Foglio1!$H$14 <> \"\", Foglio1!$H$14 + O1106*10^-3, NA())","v":{"$error":"#N/A"}},9901,9.2003910411225149,{"$f":" IF(Foglio1!$C$15 <> \"\", 8.314472*Foglio1!$C$15*Foglio2!R1106, NA())","v":{"$error":"#N/A"}},{"$f":"IF(Foglio1!$H$15 <> \"\", Foglio1!$H$15 + S1106*10^-3, NA())","v":{"$error":"#N/A"}}]
[9910,9.2012996273240333,{"$f":" IF(Foglio1!$C$11 <> \"\", 8.314472*Foglio1!$C$11*Foglio2!B1107, NA())","v":22951.184434498835},{"$f":"IF(Foglio1!$H$11 <> \"\", Foglio1!$H$11 + C1107*10^-3, NA())","v":-67.048815565501172},9910,9.2012996273240333,{"$f":" IF(Foglio1!$C$12 <> \"\", 8.314472*Foglio1!$C$12*Foglio2!F1107, NA())","v":{"$error":"#N/A"}},{"$f":"IF(Foglio1!$H$12 <> \"\", Foglio1!$H$12 + G1107*10^-3, NA())","v":{"$error":"#N/A"}},9910,9.2012996273240333,{"$f":" IF(Foglio1!$C$13 <> \"\", 8.314472*Foglio1!$C$13*Foglio2!J1107, NA())","v":{"$error":"#N/A"}},{"$f":"IF(Foglio1!$H$13 <> \"\", Foglio1!$H$13 + K1107*10^-3, NA())","v":{"$error":"#N/A"}},9910,9.2012996273240333,{"$f":" IF(Foglio1!$C$14 <> \"\", 8.314472*Foglio1!$C$14*Foglio2!N1107, NA())","v":{"$error":"#N/A"}},{"$f":"IF(Foglio1!$H$14 <> \"\", Foglio1!$H$14 + O1107*10^-3, NA())","v":{"$error":"#N/A"}},9910,9.2012996273240333,{"$f":" IF(Foglio1!$C$15 <> \"\", 8.314472*Foglio1!$C$15*Foglio2!R1107, NA())","v":{"$error":"#N/A"}},{"$f":"IF(Foglio1!$H$15 <> \"\", Foglio1!$H$15 + S1107*10^-3, NA())","v":{"$error":"#N/A"}}]
[9919,9.2022073887459932,{"$f":" IF(Foglio1!$C$11 <> \"\", 8.314472*Foglio1!$C$11*Foglio2!B1108, NA())","v":22953.448701576504},{"$f":"IF(Foglio1!$H$11 <> \"\", Foglio1!$H$11 + C1108*10^-3, NA())","v":-67.046551298423495},9919,9.2022073887459932,{"$f":" IF(Foglio1!$C$12 <> \"\", 8.314472*Foglio1!$C$12*Foglio2!F1108, NA())","v":{"$error":"#N/A"}},{"$f":"IF(Foglio1!$H$12 <> \"\", Foglio1!$H$12 + G1108*10^-3, NA())","v":{"$error":"#N/A"}},9919,9.2022073887459932,{"$f":" IF(Foglio1!$C$13 <> \"\", 8.314472*Foglio1!$C$13*Foglio2!J1108, NA())","v":{"$error":"#N/A"}},{"$f":"IF(Foglio1!$H$13 <> \"\", Foglio1!$H$13 + K1108*10^-3, NA())","v":{"$error":"#N/A"}},9919,9.2022073887459932,{"$f":" IF(Foglio1!$C$14 <> \"\", 8.314472*Foglio1!$C$14*Foglio2!N1108, NA())","v":{"$error":"#N/A"}},{"$f":"IF(Foglio1!$H$14 <> \"\", Foglio1!$H$14 + O1108*10^-3, NA())","v":{"$error":"#N/A"}},9919,9.2022073887459932,{"$f":" IF(Foglio1!$C$15 <> \"\", 8.314472*Foglio1!$C$15*Foglio2!R1108, NA())","v":{"$error":"#N/A"}},{"$f":"IF(Foglio1!$H$15 <> \"\", Foglio1!$H$15 + S1108*10^-3, NA())","v":{"$error":"#N/A"}}]
[9928,9.2031143268844424,{"$f":" IF(Foglio1!$C$11 <> \"\", 8.314472*Foglio1!$C$11*Foglio2!B1109, NA())","v":22955.710915103864},{"$f":"IF(Foglio1!$H$11 <> \"\", Foglio1!$H$11 + C1109*10^-3, NA())","v":-67.044289084896135},9928,9.2031143268844424,{"$f":" IF(Foglio1!$C$12 <> \"\", 8.314472*Foglio1!$C$12*Foglio2!F1109, NA())","v":{"$error":"#N/A"}},{"$f":"IF(Foglio1!$H$12 <> \"\", Foglio1!$H$12 + G1109*10^-3, NA())","v":{"$error":"#N/A"}},9928,9.2031143268844424,{"$f":" IF(Foglio1!$C$13 <> \"\", 8.314472*Foglio1!$C$13*Foglio2!J1109, NA())","v":{"$error":"#N/A"}},{"$f":"IF(Foglio1!$H$13 <> \"\", Foglio1!$H$13 + K1109*10^-3, NA())","v":{"$error":"#N/A"}},9928,9.2031143268844424,{"$f":" IF(Foglio1!$C$14 <> \"\", 8.314472*Foglio1!$C$14*Foglio2!N1109, NA())","v":{"$error":"#N/A"}},{"$f":"IF(Foglio1!$H$14 <> \"\", Foglio1!$H$14 + O1109*10^-3, NA())","v":{"$error":"#N/A"}},9928,9.2031143268844424,{"$f":" IF(Foglio1!$C$15 <> \"\", 8.314472*Foglio1!$C$15*Foglio2!R1109, NA())","v":{"$error":"#N/A"}},{"$f":"IF(Foglio1!$H$15 <> \"\", Foglio1!$H$15 + S1109*10^-3, NA())","v":{"$error":"#N/A"}}]
[9937,9.2040204432313626,{"$f":" IF(Foglio1!$C$11 <> \"\", 8.314472*Foglio1!$C$11*Foglio2!B1110, NA())","v":22957.971078802428},{"$f":"IF(Foglio1!$H$11 <> \"\", Foglio1!$H$11 + C1110*10^-3, NA())","v":-67.04202892119757},9937,9.2040204432313626,{"$f":" IF(Foglio1!$C$12 <> \"\", 8.314472*Foglio1!$C$12*Foglio2!F1110, NA())","v":{"$error":"#N/A"}},{"$f":"IF(Foglio1!$H$12 <> \"\", Foglio1!$H$12 + G1110*10^-3, NA())","v":{"$error":"#N/A"}},9937,9.2040204432313626,{"$f":" IF(Foglio1!$C$13 <> \"\", 8.314472*Foglio1!$C$13*Foglio2!J1110, NA())","v":{"$error":"#N/A"}},{"$f":"IF(Foglio1!$H$13 <> \"\", Foglio1!$H$13 + K1110*10^-3, NA())","v":{"$error":"#N/A"}},9937,9.2040204432313626,{"$f":" IF(Foglio1!$C$14 <> \"\", 8.314472*Foglio1!$C$14*Foglio2!N1110, NA())","v":{"$error":"#N/A"}},{"$f":"IF(Foglio1!$H$14 <> \"\", Foglio1!$H$14 + O1110*10^-3, NA())","v":{"$error":"#N/A"}},9937,9.2040204432313626,{"$f":" IF(Foglio1!$C$15 <> \"\", 8.314472*Foglio1!$C$15*Foglio2!R1110, NA())","v":{"$error":"#N/A"}},{"$f":"IF(Foglio1!$H$15 <> \"\", Foglio1!$H$15 + S1110*10^-3, NA())","v":{"$error":"#N/A"}}]
[9946,9.2049257392746835,{"$f":" IF(Foglio1!$C$11 <> \"\", 8.314472*Foglio1!$C$11*Foglio2!B1111, NA())","v":22960.2291963836},{"$f":"IF(Foglio1!$H$11 <> \"\", Foglio1!$H$11 + C1111*10^-3, NA())","v":-67.039770803616392},9946,9.2049257392746835,{"$f":" IF(Foglio1!$C$12 <> \"\", 8.314472*Foglio1!$C$12*Foglio2!F1111, NA())","v":{"$error":"#N/A"}},{"$f":"IF(Foglio1!$H$12 <> \"\", Foglio1!$H$12 + G1111*10^-3, NA())","v":{"$error":"#N/A"}},9946,9.2049257392746835,{"$f":" IF(Foglio1!$C$13 <> \"\", 8.314472*Foglio1!$C$13*Foglio2!J1111, NA())","v":{"$error":"#N/A"}},{"$f":"IF(Foglio1!$H$13 <> \"\", Foglio1!$H$13 + K1111*10^-3, NA())","v":{"$error":"#N/A"}},9946,9.2049257392746835,{"$f":" IF(Foglio1!$C$14 <> \"\", 8.314472*Foglio1!$C$14*Foglio2!N1111, NA())","v":{"$error":"#N/A"}},{"$f":"IF(Foglio1!$H$14 <> \"\", Foglio1!$H$14 + O1111*10^-3, NA())","v":{"$error":"#N/A"}},9946,9.2049257392746835,{"$f":" IF(Foglio1!$C$15 <> \"\", 8.314472*Foglio1!$C$15*Foglio2!R1111, NA())","v":{"$error":"#N/A"}},{"$f":"IF(Foglio1!$H$15 <> \"\", Foglio1!$H$15 + S1111*10^-3, NA())","v":{"$error":"#N/A"}}]
[9955,9.2058302164982972,{"$f":" IF(Foglio1!$C$11 <> \"\", 8.314472*Foglio1!$C$11*Foglio2!B1112, NA())","v":22962.48527154871},{"$f":"IF(Foglio1!$H$11 <> \"\", Foglio1!$H$11 + C1112*10^-3, NA())","v":-67.037514728451285},9955,9.2058302164982972,{"$f":" IF(Foglio1!$C$12 <> \"\", 8.314472*Foglio1!$C$12*Foglio2!F1112, NA())","v":{"$error":"#N/A"}},{"$f":"IF(Foglio1!$H$12 <> \"\", Foglio1!$H$12 + G1112*10^-3, NA())","v":{"$error":"#N/A"}},9955,9.2058302164982972,{"$f":" IF(Foglio1!$C$13 <> \"\", 8.314472*Foglio1!$C$13*Foglio2!J1112, NA())","v":{"$error":"#N/A"}},{"$f":"IF(Foglio1!$H$13 <> \"\", Foglio1!$H$13 + K1112*10^-3, NA())","v":{"$error":"#N/A"}},9955,9.2058302164982972,{"$f":" IF(Foglio1!$C$14 <> \"\", 8.314472*Foglio1!$C$14*Foglio2!N1112, NA())","v":{"$error":"#N/A"}},{"$f":"IF(Foglio1!$H$14 <> \"\", Foglio1!$H$14 + O1112*10^-3, NA())","v":{"$error":"#N/A"}},9955,9.2058302164982972,{"$f":" IF(Foglio1!$C$15 <> \"\", 8.314472*Foglio1!$C$15*Foglio2!R1112, NA())","v":{"$error":"#N/A"}},{"$f":"IF(Foglio1!$H$15 <> \"\", Foglio1!$H$15 + S1112*10^-3, NA())","v":{"$error":"#N/A"}}]
[9964,9.2067338763820707,{"$f":" IF(Foglio1!$C$11 <> \"\", 8.314472*Foglio1!$C$11*Foglio2!B1113, NA())","v":22964.739307989057},{"$f":"IF(Foglio1!$H$11 <> \"\", Foglio1!$H$11 + C1113*10^-3, NA())","v":-67.035260692010951},9964,9.2067338763820707,{"$f":" IF(Foglio1!$C$12 <> \"\", 8.314472*Foglio1!$C$12*Foglio2!F1113, NA())","v":{"$error":"#N/A"}},{"$f":"IF(Foglio1!$H$12 <> \"\", Foglio1!$H$12 + G1113*10^-3, NA())","v":{"$error":"#N/A"}},9964,9.2067338763820707,{"$f":" IF(Foglio1!$C$13 <> \"\", 8.314472*Foglio1!$C$13*Foglio2!J1113, NA())","v":{"$error":"#N/A"}},{"$f":"IF(Foglio1!$H$13 <> \"\", Foglio1!$H$13 + K1113*10^-3, NA())","v":{"$error":"#N/A"}},9964,9.2067338763820707,{"$f":" IF(Foglio1!$C$14 <> \"\", 8.314472*Foglio1!$C$14*Foglio2!N1113, NA())","v":{"$error":"#N/A"}},{"$f":"IF(Foglio1!$H$14 <> \"\", Foglio1!$H$14 + O1113*10^-3, NA())","v":{"$error":"#N/A"}},9964,9.2067338763820707,{"$f":" IF(Foglio1!$C$15 <> \"\", 8.314472*Foglio1!$C$15*Foglio2!R1113, NA())","v":{"$error":"#N/A"}},{"$f":"IF(Foglio1!$H$15 <> \"\", Foglio1!$H$15 + S1113*10^-3, NA())","v":{"$error":"#N/A"}}]
[9973,9.2076367204018688,{"$f":" IF(Foglio1!$C$11 <> \"\", 8.314472*Foglio1!$C$11*Foglio2!B1114, NA())","v":22966.99130938595},{"$f":"IF(Foglio1!$H$11 <> \"\", Foglio1!$H$11 + C1114*10^-3, NA())","v":-67.033008690614054},9973,9.2076367204018688,{"$f":" IF(Foglio1!$C$12 <> \"\", 8.314472*Foglio1!$C$12*Foglio2!F1114, NA())","v":{"$error":"#N/A"}},{"$f":"IF(Foglio1!$H$12 <> \"\", Foglio1!$H$12 + G1114*10^-3, NA())","v":{"$error":"#N/A"}},9973,9.2076367204018688,{"$f":" IF(Foglio1!$C$13 <> \"\", 8.314472*Foglio1!$C$13*Foglio2!J1114, NA())","v":{"$error":"#N/A"}},{"$f":"IF(Foglio1!$H$13 <> \"\", Foglio1!$H$13 + K1114*10^-3, NA())","v":{"$error":"#N/A"}},9973,9.2076367204018688,{"$f":" IF(Foglio1!$C$14 <> \"\", 8.314472*Foglio1!$C$14*Foglio2!N1114, NA())","v":{"$error":"#N/A"}},{"$f":"IF(Foglio1!$H$14 <> \"\", Foglio1!$H$14 + O1114*10^-3, NA())","v":{"$error":"#N/A"}},9973,9.2076367204018688,{"$f":" IF(Foglio1!$C$15 <> \"\", 8.314472*Foglio1!$C$15*Foglio2!R1114, NA())","v":{"$error":"#N/A"}},{"$f":"IF(Foglio1!$H$15 <> \"\", Foglio1!$H$15 + S1114*10^-3, NA())","v":{"$error":"#N/A"}}]
[9982,9.2085387500295539,{"$f":" IF(Foglio1!$C$11 <> \"\", 8.314472*Foglio1!$C$11*Foglio2!B1115, NA())","v":22969.241279410719},{"$f":"IF(Foglio1!$H$11 <> \"\", Foglio1!$H$11 + C1115*10^-3, NA())","v":-67.030758720589276},9982,9.2085387500295539,{"$f":" IF(Foglio1!$C$12 <> \"\", 8.314472*Foglio1!$C$12*Foglio2!F1115, NA())","v":{"$error":"#N/A"}},{"$f":"IF(Foglio1!$H$12 <> \"\", Foglio1!$H$12 + G1115*10^-3, NA())","v":{"$error":"#N/A"}},9982,9.2085387500295539,{"$f":" IF(Foglio1!$C$13 <> \"\", 8.314472*Foglio1!$C$13*Foglio2!J1115, NA())","v":{"$error":"#N/A"}},{"$f":"IF(Foglio1!$H$13 <> \"\", Foglio1!$H$13 + K1115*10^-3, NA())","v":{"$error":"#N/A"}},9982,9.2085387500295539,{"$f":" IF(Foglio1!$C$14 <> \"\", 8.314472*Foglio1!$C$14*Foglio2!N1115, NA())","v":{"$error":"#N/A"}},{"$f":"IF(Foglio1!$H$14 <> \"\", Foglio1!$H$14 + O1115*10^-3, NA())","v":{"$error":"#N/A"}},9982,9.2085387500295539,{"$f":" IF(Foglio1!$C$15 <> \"\", 8.314472*Foglio1!$C$15*Foglio2!R1115, NA())","v":{"$error":"#N/A"}},{"$f":"IF(Foglio1!$H$15 <> \"\", Foglio1!$H$15 + S1115*10^-3, NA())","v":{"$error":"#N/A"}}]
[9991,9.2094399667330187,{"$f":" IF(Foglio1!$C$11 <> \"\", 8.314472*Foglio1!$C$11*Foglio2!B1116, NA())","v":22971.489221724787},{"$f":"IF(Foglio1!$H$11 <> \"\", Foglio1!$H$11 + C1116*10^-3, NA())","v":-67.028510778275205},9991,9.2094399667330187,{"$f":" IF(Foglio1!$C$12 <> \"\", 8.314472*Foglio1!$C$12*Foglio2!F1116, NA())","v":{"$error":"#N/A"}},{"$f":"IF(Foglio1!$H$12 <> \"\", Foglio1!$H$12 + G1116*10^-3, NA())","v":{"$error":"#N/A"}},9991,9.2094399667330187,{"$f":" IF(Foglio1!$C$13 <> \"\", 8.314472*Foglio1!$C$13*Foglio2!J1116, NA())","v":{"$error":"#N/A"}},{"$f":"IF(Foglio1!$H$13 <> \"\", Foglio1!$H$13 + K1116*10^-3, NA())","v":{"$error":"#N/A"}},9991,9.2094399667330187,{"$f":" IF(Foglio1!$C$14 <> \"\", 8.314472*Foglio1!$C$14*Foglio2!N1116, NA())","v":{"$error":"#N/A"}},{"$f":"IF(Foglio1!$H$14 <> \"\", Foglio1!$H$14 + O1116*10^-3, NA())","v":{"$error":"#N/A"}},9991,9.2094399667330187,{"$f":" IF(Foglio1!$C$15 <> \"\", 8.314472*Foglio1!$C$15*Foglio2!R1116, NA())","v":{"$error":"#N/A"}},{"$f":"IF(Foglio1!$H$15 <> \"\", Foglio1!$H$15 + S1116*10^-3, NA())","v":{"$error":"#N/A"}}]
[10000,9.2103403719761836,{"$f":" IF(Foglio1!$C$11 <> \"\", 8.314472*Foglio1!$C$11*Foglio2!B1117, NA())","v":22973.735139979672},{"$f":"IF(Foglio1!$H$11 <> \"\", Foglio1!$H$11 + C1117*10^-3, NA())","v":-67.026264860020319},10000,9.2103403719761836,{"$f":" IF(Foglio1!$C$12 <> \"\", 8.314472*Foglio1!$C$12*Foglio2!F1117, NA())","v":{"$error":"#N/A"}},{"$f":"IF(Foglio1!$H$12 <> \"\", Foglio1!$H$12 + G1117*10^-3, NA())","v":{"$error":"#N/A"}},10000,9.2103403719761836,{"$f":" IF(Foglio1!$C$13 <> \"\", 8.314472*Foglio1!$C$13*Foglio2!J1117, NA())","v":{"$error":"#N/A"}},{"$f":"IF(Foglio1!$H$13 <> \"\", Foglio1!$H$13 + K1117*10^-3, NA())","v":{"$error":"#N/A"}},10000,9.2103403719761836,{"$f":" IF(Foglio1!$C$14 <> \"\", 8.314472*Foglio1!$C$14*Foglio2!N1117, NA())","v":{"$error":"#N/A"}},{"$f":"IF(Foglio1!$H$14 <> \"\", Foglio1!$H$14 + O1117*10^-3, NA())","v":{"$error":"#N/A"}},10000,9.2103403719761836,{"$f":" IF(Foglio1!$C$15 <> \"\", 8.314472*Foglio1!$C$15*Foglio2!R1117, NA())","v":{"$error":"#N/A"}},{"$f":"IF(Foglio1!$H$15 <> \"\", Foglio1!$H$15 + S1117*10^-3, NA())","v":{"$error":"#N/A"}}]
[10009,9.2112399672190186,{"$f":" IF(Foglio1!$C$11 <> \"\", 8.314472*Foglio1!$C$11*Foglio2!B1118, NA())","v":22975.979037817036},{"$f":"IF(Foglio1!$H$11 <> \"\", Foglio1!$H$11 + C1118*10^-3, NA())","v":-67.024020962182959},10009,9.2112399672190186,{"$f":" IF(Foglio1!$C$12 <> \"\", 8.314472*Foglio1!$C$12*Foglio2!F1118, NA())","v":{"$error":"#N/A"}},{"$f":"IF(Foglio1!$H$12 <> \"\", Foglio1!$H$12 + G1118*10^-3, NA())","v":{"$error":"#N/A"}},10009,9.2112399672190186,{"$f":" IF(Foglio1!$C$13 <> \"\", 8.314472*Foglio1!$C$13*Foglio2!J1118, NA())","v":{"$error":"#N/A"}},{"$f":"IF(Foglio1!$H$13 <> \"\", Foglio1!$H$13 + K1118*10^-3, NA())","v":{"$error":"#N/A"}},10009,9.2112399672190186,{"$f":" IF(Foglio1!$C$14 <> \"\", 8.314472*Foglio1!$C$14*Foglio2!N1118, NA())","v":{"$error":"#N/A"}},{"$f":"IF(Foglio1!$H$14 <> \"\", Foglio1!$H$14 + O1118*10^-3, NA())","v":{"$error":"#N/A"}},10009,9.2112399672190186,{"$f":" IF(Foglio1!$C$15 <> \"\", 8.314472*Foglio1!$C$15*Foglio2!R1118, NA())","v":{"$error":"#N/A"}},{"$f":"IF(Foglio1!$H$15 <> \"\", Foglio1!$H$15 + S1118*10^-3, NA())","v":{"$error":"#N/A"}}]
[10018,9.2121387539175625,{"$f":" IF(Foglio1!$C$11 <> \"\", 8.314472*Foglio1!$C$11*Foglio2!B1119, NA())","v":22978.220918868741},{"$f":"IF(Foglio1!$H$11 <> \"\", Foglio1!$H$11 + C1119*10^-3, NA())","v":-67.021779081131257},10018,9.2121387539175625,{"$f":" IF(Foglio1!$C$12 <> \"\", 8.314472*Foglio1!$C$12*Foglio2!F1119, NA())","v":{"$error":"#N/A"}},{"$f":"IF(Foglio1!$H$12 <> \"\", Foglio1!$H$12 + G1119*10^-3, NA())","v":{"$error":"#N/A"}},10018,9.2121387539175625,{"$f":" IF(Foglio1!$C$13 <> \"\", 8.314472*Foglio1!$C$13*Foglio2!J1119, NA())","v":{"$error":"#N/A"}},{"$f":"IF(Foglio1!$H$13 <> \"\", Foglio1!$H$13 + K1119*10^-3, NA())","v":{"$error":"#N/A"}},10018,9.2121387539175625,{"$f":" IF(Foglio1!$C$14 <> \"\", 8.314472*Foglio1!$C$14*Foglio2!N1119, NA())","v":{"$error":"#N/A"}},{"$f":"IF(Foglio1!$H$14 <> \"\", Foglio1!$H$14 + O1119*10^-3, NA())","v":{"$error":"#N/A"}},10018,9.2121387539175625,{"$f":" IF(Foglio1!$C$15 <> \"\", 8.314472*Foglio1!$C$15*Foglio2!R1119, NA())","v":{"$error":"#N/A"}},{"$f":"IF(Foglio1!$H$15 <> \"\", Foglio1!$H$15 + S1119*10^-3, NA())","v":{"$error":"#N/A"}}]