{"text_format":"1","workbook":"xlsx","n_sheets":2,"sheets":["Foglio1","Foglio2"],"not_rendered":{"charts":1,"images":1,"macros":1,"external_links":0,"defined_names":0,"comments":0,"pivot_tables":0},"unopened":[],"bounds":{"document_bytes":16777216,"sheet_cells":100000,"rows_first":2000,"rows_last":500,"rows_between":2000,"halvings":0,"cell_chars":16384,"cell_head_chars":4096},"cells_cut":0,"cells_raw":0,"read":"whole","date_system":"1900"}

{"sheet":"Foglio1","index":0,"n_rows":13,"n_cols":17,"rows_kept":13,"cut":false,"hidden":false,"merged":[[6,11,6,13],[4,0,4,22]]}
[]
["L’energia libera di idrolisi dell’ATP"]
[]
[]
["Utilizzate questo foglio di calcolo per visualizzare il grafico.\nPotete modificare il dominio della funzione (cioè il rapporto [ADP][Pi]/[ATP]) inserendo i valori nelle caselle in alto e cliccando sul tasto Cambia l’asse X. Per visualizzare correttamente il grafico, scegliete valori compresi tra 0,001 e 10.000.\n"]
[]
[null,null,null,null,null,null,null,null,null,null,null,"[ADP][Pi]/[ATP] =  da",null,null,1E-3,"a",10000]
[]
["T1","=",null,"K"]
["T2","=",null,"K"]
["T3","=",null,"K"]
["T4","=",null,"K"]
["T5","=",null,"K"]

{"sheet":"Foglio2","index":1,"n_rows":1119,"n_cols":20,"rows_kept":1119,"cut":false,"hidden":true,"merged":[]}
["C2/C1","LN","RTLN(C2/C1)","∆G° + RTLN(C2/C1)","C2/C1","LN","RTLN(C2/C1)","∆G° + RTLN(C2/C1)","C2/C1","LN","RTLN(C2/C1)","∆G° + RTLN(C2/C1)","C2/C1","LN","RTLN(C2/C1)","∆G° + RTLN(C2/C1)","C2/C1","LN","RTLN(C2/C1)","∆G° + RTLN(C2/C1)"]
[1E-4,{"$f":"LN(A2)","v":-9.2103403719761818},{"$f":" IF(Foglio1!$C$9 <> \"\", 8.314472*Foglio1!$C$9*Foglio2!B2, NA())","v":{"$error":"#N/A"}},{"$f":"  -30.5 + C2*10^-3","v":{"$error":"#N/A"}},1E-4,{"$f":"LN(E2)","v":-9.2103403719761818},{"$f":" IF(Foglio1!$C$10 <> \"\", 8.314472*Foglio1!$C$10*Foglio2!F2, NA())","v":{"$error":"#N/A"}},{"$f":" -30.5+ G2*10^-3","v":{"$error":"#N/A"}},1E-4,{"$f":"LN(I2)","v":-9.2103403719761818},{"$f":" IF(Foglio1!$C$11 <> \"\", 8.314472*Foglio1!$C$11*Foglio2!J2, NA())","v":{"$error":"#N/A"}},{"$f":" -30.5+ K2*10^-3","v":{"$error":"#N/A"}},1E-4,{"$f":"LN(M2)","v":-9.2103403719761818},{"$f":" IF(Foglio1!$C$12 <> \"\", 8.314472*Foglio1!$C$12*Foglio2!N2, NA())","v":{"$error":"#N/A"}},{"$f":" -30.5+ O2*10^-3","v":{"$error":"#N/A"}},1E-4,{"$f":"LN(Q2)","v":-9.2103403719761818},{"$f":" IF(Foglio1!$C$13 <> \"\", 8.314472*Foglio1!$C$13*Foglio2!R2, NA())","v":{"$error":"#N/A"}},{"$f":" -30.5+S2*10^-3","v":{"$error":"#N/A"}}]
[1E-3,{"$f":"LN(A3)","v":-6.9077552789821368},{"$f":" IF(Foglio1!$C$9 <> \"\", 8.314472*Foglio1!$C$9*Foglio2!B3, NA())","v":{"$error":"#N/A"}},{"$f":"  -30.5 + C3*10^-3","v":{"$error":"#N/A"}},1E-3,{"$f":"LN(E3)","v":-6.9077552789821368},{"$f":" IF(Foglio1!$C$10 <> \"\", 8.314472*Foglio1!$C$10*Foglio2!F3, NA())","v":{"$error":"#N/A"}},{"$f":" -30.5+ G3*10^-3","v":{"$error":"#N/A"}},1E-3,{"$f":"LN(I3)","v":-6.9077552789821368},{"$f":" IF(Foglio1!$C$11 <> \"\", 8.314472*Foglio1!$C$11*Foglio2!J3, NA())","v":{"$error":"#N/A"}},{"$f":" -30.5+ K3*10^-3","v":{"$error":"#N/A"}},1E-3,{"$f":"LN(M3)","v":-6.9077552789821368},{"$f":" IF(Foglio1!$C$12 <> \"\", 8.314472*Foglio1!$C$12*Foglio2!N3, NA())","v":{"$error":"#N/A"}},{"$f":" -30.5+ O3*10^-3","v":{"$error":"#N/A"}},1E-3,{"$f":"LN(Q3)","v":-6.9077552789821368},{"$f":" IF(Foglio1!$C$13 <> \"\", 8.314472*Foglio1!$C$13*Foglio2!R3, NA())","v":{"$error":"#N/A"}},{"$f":" -30.5+S3*10^-3","v":{"$error":"#N/A"}}]
[0.01,-4.6051701859880909,{"$f":" IF(Foglio1!$C$9 <> \"\", 8.314472*Foglio1!$C$9*Foglio2!B4, NA())","v":{"$error":"#N/A"}},{"$error":"#N/A"},0.01,-4.6051701859880909,{"$f":" IF(Foglio1!$C$10 <> \"\", 8.314472*Foglio1!$C$10*Foglio2!F4, NA())","v":{"$error":"#N/A"}},{"$error":"#N/A"},0.01,-4.6051701859880909,{"$f":" IF(Foglio1!$C$11 <> \"\", 8.314472*Foglio1!$C$11*Foglio2!J4, NA())","v":{"$error":"#N/A"}},{"$error":"#N/A"},0.01,-4.6051701859880909,{"$f":" IF(Foglio1!$C$12 <> \"\", 8.314472*Foglio1!$C$12*Foglio2!N4, NA())","v":{"$error":"#N/A"}},{"$error":"#N/A"},0.01,-4.6051701859880909,{"$f":" IF(Foglio1!$C$13 <> \"\", 8.314472*Foglio1!$C$13*Foglio2!R4, NA())","v":{"$error":"#N/A"}},{"$error":"#N/A"}]
[0.1,-2.3025850929940455,{"$f":" IF(Foglio1!$C$9 <> \"\", 8.314472*Foglio1!$C$9*Foglio2!B5, NA())","v":{"$error":"#N/A"}},{"$error":"#N/A"},0.1,-2.3025850929940455,{"$f":" IF(Foglio1!$C$10 <> \"\", 8.314472*Foglio1!$C$10*Foglio2!F5, NA())","v":{"$error":"#N/A"}},{"$error":"#N/A"},0.1,-2.3025850929940455,{"$f":" IF(Foglio1!$C$11 <> \"\", 8.314472*Foglio1!$C$11*Foglio2!J5, NA())","v":{"$error":"#N/A"}},{"$error":"#N/A"},0.1,-2.3025850929940455,{"$f":" IF(Foglio1!$C$12 <> \"\", 8.314472*Foglio1!$C$12*Foglio2!N5, NA())","v":{"$error":"#N/A"}},{"$error":"#N/A"},0.1,-2.3025850929940455,{"$f":" IF(Foglio1!$C$13 <> \"\", 8.314472*Foglio1!$C$13*Foglio2!R5, NA())","v":{"$error":"#N/A"}},{"$error":"#N/A"}]
[1,0,{"$f":" IF(Foglio1!$C$9 <> \"\", 8.314472*Foglio1!$C$9*Foglio2!B6, NA())","v":{"$error":"#N/A"}},{"$error":"#N/A"},1,0,{"$f":" IF(Foglio1!$C$10 <> \"\", 8.314472*Foglio1!$C$10*Foglio2!F6, NA())","v":{"$error":"#N/A"}},{"$error":"#N/A"},1,0,{"$f":" IF(Foglio1!$C$11 <> \"\", 8.314472*Foglio1!$C$11*Foglio2!J6, NA())","v":{"$error":"#N/A"}},{"$error":"#N/A"},1,0,{"$f":" IF(Foglio1!$C$12 <> \"\", 8.314472*Foglio1!$C$12*Foglio2!N6, NA())","v":{"$error":"#N/A"}},{"$error":"#N/A"},1,0,{"$f":" IF(Foglio1!$C$13 <> \"\", 8.314472*Foglio1!$C$13*Foglio2!R6, NA())","v":{"$error":"#N/A"}},{"$error":"#N/A"}]
[10,2.3025850929940459,{"$f":" IF(Foglio1!$C$9 <> \"\", 8.314472*Foglio1!$C$9*Foglio2!B7, NA())","v":{"$error":"#N/A"}},{"$error":"#N/A"},10,2.3025850929940459,{"$f":" IF(Foglio1!$C$10 <> \"\", 8.314472*Foglio1!$C$10*Foglio2!F7, NA())","v":{"$error":"#N/A"}},{"$error":"#N/A"},10,2.3025850929940459,{"$f":" IF(Foglio1!$C$11 <> \"\", 8.314472*Foglio1!$C$11*Foglio2!J7, NA())","v":{"$error":"#N/A"}},{"$error":"#N/A"},10,2.3025850929940459,{"$f":" IF(Foglio1!$C$12 <> \"\", 8.314472*Foglio1!$C$12*Foglio2!N7, NA())","v":{"$error":"#N/A"}},{"$error":"#N/A"},10,2.3025850929940459,{"$f":" IF(Foglio1!$C$13 <> \"\", 8.314472*Foglio1!$C$13*Foglio2!R7, NA())","v":{"$error":"#N/A"}},{"$error":"#N/A"}]
[19,2.9444389791664403,{"$f":" IF(Foglio1!$C$9 <> \"\", 8.314472*Foglio1!$C$9*Foglio2!B8, NA())","v":{"$error":"#N/A"}},{"$error":"#N/A"},19,2.9444389791664403,{"$f":" IF(Foglio1!$C$10 <> \"\", 8.314472*Foglio1!$C$10*Foglio2!F8, NA())","v":{"$error":"#N/A"}},{"$error":"#N/A"},19,2.9444389791664403,{"$f":" IF(Foglio1!$C$11 <> \"\", 8.314472*Foglio1!$C$11*Foglio2!J8, NA())","v":{"$error":"#N/A"}},{"$error":"#N/A"},19,2.9444389791664403,{"$f":" IF(Foglio1!$C$12 <> \"\", 8.314472*Foglio1!$C$12*Foglio2!N8, NA())","v":{"$error":"#N/A"}},{"$error":"#N/A"},19,2.9444389791664403,{"$f":" IF(Foglio1!$C$13 <> \"\", 8.314472*Foglio1!$C$13*Foglio2!R8, NA())","v":{"$error":"#N/A"}},{"$error":"#N/A"}]
[28,3.3322045101752038,{"$f":" IF(Foglio1!$C$9 <> \"\", 8.314472*Foglio1!$C$9*Foglio2!B9, NA())","v":{"$error":"#N/A"}},{"$error":"#N/A"},28,3.3322045101752038,{"$f":" IF(Foglio1!$C$10 <> \"\", 8.314472*Foglio1!$C$10*Foglio2!F9, NA())","v":{"$error":"#N/A"}},{"$error":"#N/A"},28,3.3322045101752038,{"$f":" IF(Foglio1!$C$11 <> \"\", 8.314472*Foglio1!$C$11*Foglio2!J9, NA())","v":{"$error":"#N/A"}},{"$error":"#N/A"},28,3.3322045101752038,{"$f":" IF(Foglio1!$C$12 <> \"\", 8.314472*Foglio1!$C$12*Foglio2!N9, NA())","v":{"$error":"#N/A"}},{"$error":"#N/A"},28,3.3322045101752038,{"$f":" IF(Foglio1!$C$13 <> \"\", 8.314472*Foglio1!$C$13*Foglio2!R9, NA())","v":{"$error":"#N/A"}},{"$error":"#N/A"}]
[37,3.6109179126442243,{"$f":" IF(Foglio1!$C$9 <> \"\", 8.314472*Foglio1!$C$9*Foglio2!B10, NA())","v":{"$error":"#N/A"}},{"$error":"#N/A"},37,3.6109179126442243,{"$f":" IF(Foglio1!$C$10 <> \"\", 8.314472*Foglio1!$C$10*Foglio2!F10, NA())","v":{"$error":"#N/A"}},{"$error":"#N/A"},37,3.6109179126442243,{"$f":" IF(Foglio1!$C$11 <> \"\", 8.314472*Foglio1!$C$11*Foglio2!J10, NA())","v":{"$error":"#N/A"}},{"$error":"#N/A"},37,3.6109179126442243,{"$f":" IF(Foglio1!$C$12 <> \"\", 8.314472*Foglio1!$C$12*Foglio2!N10, NA())","v":{"$error":"#N/A"}},{"$error":"#N/A"},37,3.6109179126442243,{"$f":" IF(Foglio1!$C$13 <> \"\", 8.314472*Foglio1!$C$13*Foglio2!R10, NA())","v":{"$error":"#N/A"}},{"$error":"#N/A"}]
[46,3.8286413964890951,{"$f":" IF(Foglio1!$C$9 <> \"\", 8.314472*Foglio1!$C$9*Foglio2!B11, NA())","v":{"$error":"#N/A"}},{"$error":"#N/A"},46,3.8286413964890951,{"$f":" IF(Foglio1!$C$10 <> \"\", 8.314472*Foglio1!$C$10*Foglio2!F11, NA())","v":{"$error":"#N/A"}},{"$error":"#N/A"},46,3.8286413964890951,{"$f":" IF(Foglio1!$C$11 <> \"\", 8.314472*Foglio1!$C$11*Foglio2!J11, NA())","v":{"$error":"#N/A"}},{"$error":"#N/A"},46,3.8286413964890951,{"$f":" IF(Foglio1!$C$12 <> \"\", 8.314472*Foglio1!$C$12*Foglio2!N11, NA())","v":{"$error":"#N/A"}},{"$error":"#N/A"},46,3.8286413964890951,{"$f":" IF(Foglio1!$C$13 <> \"\", 8.314472*Foglio1!$C$13*Foglio2!R11, NA())","v":{"$error":"#N/A"}},{"$error":"#N/A"}]
[55,4.0073331852324712,{"$f":" IF(Foglio1!$C$9 <> \"\", 8.314472*Foglio1!$C$9*Foglio2!B12, NA())","v":{"$error":"#N/A"}},{"$error":"#N/A"},55,4.0073331852324712,{"$f":" IF(Foglio1!$C$10 <> \"\", 8.314472*Foglio1!$C$10*Foglio2!F12, NA())","v":{"$error":"#N/A"}},{"$error":"#N/A"},55,4.0073331852324712,{"$f":" IF(Foglio1!$C$11 <> \"\", 8.314472*Foglio1!$C$11*Foglio2!J12, NA())","v":{"$error":"#N/A"}},{"$error":"#N/A"},55,4.0073331852324712,{"$f":" IF(Foglio1!$C$12 <> \"\", 8.314472*Foglio1!$C$12*Foglio2!N12, NA())","v":{"$error":"#N/A"}},{"$error":"#N/A"},55,4.0073331852324712,{"$f":" IF(Foglio1!$C$13 <> \"\", 8.314472*Foglio1!$C$13*Foglio2!R12, NA())","v":{"$error":"#N/A"}},{"$error":"#N/A"}]
[64,4.1588830833596715,{"$f":" IF(Foglio1!$C$9 <> \"\", 8.314472*Foglio1!$C$9*Foglio2!B13, NA())","v":{"$error":"#N/A"}},{"$error":"#N/A"},64,4.1588830833596715,{"$f":" IF(Foglio1!$C$10 <> \"\", 8.314472*Foglio1!$C$10*Foglio2!F13, NA())","v":{"$error":"#N/A"}},{"$error":"#N/A"},64,4.1588830833596715,{"$f":" IF(Foglio1!$C$11 <> \"\", 8.314472*Foglio1!$C$11*Foglio2!J13, NA())","v":{"$error":"#N/A"}},{"$error":"#N/A"},64,4.1588830833596715,{"$f":" IF(Foglio1!$C$12 <> \"\", 8.314472*Foglio1!$C$12*Foglio2!N13, NA())","v":{"$error":"#N/A"}},{"$error":"#N/A"},64,4.1588830833596715,{"$f":" IF(Foglio1!$C$13 <> \"\", 8.314472*Foglio1!$C$13*Foglio2!R13, NA())","v":{"$error":"#N/A"}},{"$error":"#N/A"}]
[73,4.290459441148391,{"$f":" IF(Foglio1!$C$9 <> \"\", 8.314472*Foglio1!$C$9*Foglio2!B14, NA())","v":{"$error":"#N/A"}},{"$error":"#N/A"},73,4.290459441148391,{"$f":" IF(Foglio1!$C$10 <> \"\", 8.314472*Foglio1!$C$10*Foglio2!F14, NA())","v":{"$error":"#N/A"}},{"$error":"#N/A"},73,4.290459441148391,{"$f":" IF(Foglio1!$C$11 <> \"\", 8.314472*Foglio1!$C$11*Foglio2!J14, NA())","v":{"$error":"#N/A"}},{"$error":"#N/A"},73,4.290459441148391,{"$f":" IF(Foglio1!$C$12 <> \"\", 8.314472*Foglio1!$C$12*Foglio2!N14, NA())","v":{"$error":"#N/A"}},{"$error":"#N/A"},73,4.290459441148391,{"$f":" IF(Foglio1!$C$13 <> \"\", 8.314472*Foglio1!$C$13*Foglio2!R14, NA())","v":{"$error":"#N/A"}},{"$error":"#N/A"}]
[82,4.4067192472642533,{"$f":" IF(Foglio1!$C$9 <> \"\", 8.314472*Foglio1!$C$9*Foglio2!B15, NA())","v":{"$error":"#N/A"}},{"$error":"#N/A"},82,4.4067192472642533,{"$f":" IF(Foglio1!$C$10 <> \"\", 8.314472*Foglio1!$C$10*Foglio2!F15, NA())","v":{"$error":"#N/A"}},{"$error":"#N/A"},82,4.4067192472642533,{"$f":" IF(Foglio1!$C$11 <> \"\", 8.314472*Foglio1!$C$11*Foglio2!J15, NA())","v":{"$error":"#N/A"}},{"$error":"#N/A"},82,4.4067192472642533,{"$f":" IF(Foglio1!$C$12 <> \"\", 8.314472*Foglio1!$C$12*Foglio2!N15, NA())","v":{"$error":"#N/A"}},{"$error":"#N/A"},82,4.4067192472642533,{"$f":" IF(Foglio1!$C$13 <> \"\", 8.314472*Foglio1!$C$13*Foglio2!R15, NA())","v":{"$error":"#N/A"}},{"$error":"#N/A"}]
[91,4.5108595065168497,{"$f":" IF(Foglio1!$C$9 <> \"\", 8.314472*Foglio1!$C$9*Foglio2!B16, NA())","v":{"$error":"#N/A"}},{"$error":"#N/A"},91,4.5108595065168497,{"$f":" IF(Foglio1!$C$10 <> \"\", 8.314472*Foglio1!$C$10*Foglio2!F16, NA())","v":{"$error":"#N/A"}},{"$error":"#N/A"},91,4.5108595065168497,{"$f":" IF(Foglio1!$C$11 <> \"\", 8.314472*Foglio1!$C$11*Foglio2!J16, NA())","v":{"$error":"#N/A"}},{"$error":"#N/A"},91,4.5108595065168497,{"$f":" IF(Foglio1!$C$12 <> \"\", 8.314472*Foglio1!$C$12*Foglio2!N16, NA())","v":{"$error":"#N/A"}},{"$error":"#N/A"},91,4.5108595065168497,{"$f":" IF(Foglio1!$C$13 <> \"\", 8.314472*Foglio1!$C$13*Foglio2!R16, NA())","v":{"$error":"#N/A"}},{"$error":"#N/A"}]
[100,4.6051701859880918,{"$f":" IF(Foglio1!$C$9 <> \"\", 8.314472*Foglio1!$C$9*Foglio2!B17, NA())","v":{"$error":"#N/A"}},{"$error":"#N/A"},100,4.6051701859880918,{"$f":" IF(Foglio1!$C$10 <> \"\", 8.314472*Foglio1!$C$10*Foglio2!F17, NA())","v":{"$error":"#N/A"}},{"$error":"#N/A"},100,4.6051701859880918,{"$f":" IF(Foglio1!$C$11 <> \"\", 8.314472*Foglio1!$C$11*Foglio2!J17, NA())","v":{"$error":"#N/A"}},{"$error":"#N/A"},100,4.6051701859880918,{"$f":" IF(Foglio1!$C$12 <> \"\", 8.314472*Foglio1!$C$12*Foglio2!N17, NA())","v":{"$error":"#N/A"}},{"$error":"#N/A"},100,4.6051701859880918,{"$f":" IF(Foglio1!$C$13 <> \"\", 8.314472*Foglio1!$C$13*Foglio2!R17, NA())","v":{"$error":"#N/A"}},{"$error":"#N/A"}]
[109,4.6913478822291435,{"$f":" IF(Foglio1!$C$9 <> \"\", 8.314472*Foglio1!$C$9*Foglio2!B18, NA())","v":{"$error":"#N/A"}},{"$error":"#N/A"},109,4.6913478822291435,{"$f":" IF(Foglio1!$C$10 <> \"\", 8.314472*Foglio1!$C$10*Foglio2!F18, NA())","v":{"$error":"#N/A"}},{"$error":"#N/A"},109,4.6913478822291435,{"$f":" IF(Foglio1!$C$11 <> \"\", 8.314472*Foglio1!$C$11*Foglio2!J18, NA())","v":{"$error":"#N/A"}},{"$error":"#N/A"},109,4.6913478822291435,{"$f":" IF(Foglio1!$C$12 <> \"\", 8.314472*Foglio1!$C$12*Foglio2!N18, NA())","v":{"$error":"#N/A"}},{"$error":"#N/A"},109,4.6913478822291435,{"$f":" IF(Foglio1!$C$13 <> \"\", 8.314472*Foglio1!$C$13*Foglio2!R18, NA())","v":{"$error":"#N/A"}},{"$error":"#N/A"}]
[118,4.7706846244656651,{"$f":" IF(Foglio1!$C$9 <> \"\", 8.314472*Foglio1!$C$9*Foglio2!B19, NA())","v":{"$error":"#N/A"}},{"$error":"#N/A"},118,4.7706846244656651,{"$f":" IF(Foglio1!$C$10 <> \"\", 8.314472*Foglio1!$C$10*Foglio2!F19, NA())","v":{"$error":"#N/A"}},{"$error":"#N/A"},118,4.7706846244656651,{"$f":" IF(Foglio1!$C$11 <> \"\", 8.314472*Foglio1!$C$11*Foglio2!J19, NA())","v":{"$error":"#N/A"}},{"$error":"#N/A"},118,4.7706846244656651,{"$f":" IF(Foglio1!$C$12 <> \"\", 8.314472*Foglio1!$C$12*Foglio2!N19, NA())","v":{"$error":"#N/A"}},{"$error":"#N/A"},118,4.7706846244656651,{"$f":" IF(Foglio1!$C$13 <> \"\", 8.314472*Foglio1!$C$13*Foglio2!R19, NA())","v":{"$error":"#N/A"}},{"$error":"#N/A"}]
[127,4.8441870864585912,{"$f":" IF(Foglio1!$C$9 <> \"\", 8.314472*Foglio1!$C$9*Foglio2!B20, NA())","v":{"$error":"#N/A"}},{"$error":"#N/A"},127,4.8441870864585912,{"$f":" IF(Foglio1!$C$10 <> \"\", 8.314472*Foglio1!$C$10*Foglio2!F20, NA())","v":{"$error":"#N/A"}},{"$error":"#N/A"},127,4.8441870864585912,{"$f":" IF(Foglio1!$C$11 <> \"\", 8.314472*Foglio1!$C$11*Foglio2!J20, NA())","v":{"$error":"#N/A"}},{"$error":"#N/A"},127,4.8441870864585912,{"$f":" IF(Foglio1!$C$12 <> \"\", 8.314472*Foglio1!$C$12*Foglio2!N20, NA())","v":{"$error":"#N/A"}},{"$error":"#N/A"},127,4.8441870864585912,{"$f":" IF(Foglio1!$C$13 <> \"\", 8.314472*Foglio1!$C$13*Foglio2!R20, NA())","v":{"$error":"#N/A"}},{"$error":"#N/A"}]
[136,4.9126548857360524,{"$f":" IF(Foglio1!$C$9 <> \"\", 8.314472*Foglio1!$C$9*Foglio2!B21, NA())","v":{"$error":"#N/A"}},{"$error":"#N/A"},136,4.9126548857360524,{"$f":" IF(Foglio1!$C$10 <> \"\", 8.314472*Foglio1!$C$10*Foglio2!F21, NA())","v":{"$error":"#N/A"}},{"$error":"#N/A"},136,4.9126548857360524,{"$f":" IF(Foglio1!$C$11 <> \"\", 8.314472*Foglio1!$C$11*Foglio2!J21, NA())","v":{"$error":"#N/A"}},{"$error":"#N/A"},136,4.9126548857360524,{"$f":" IF(Foglio1!$C$12 <> \"\", 8.314472*Foglio1!$C$12*Foglio2!N21, NA())","v":{"$error":"#N/A"}},{"$error":"#N/A"},136,4.9126548857360524,{"$f":" IF(Foglio1!$C$13 <> \"\", 8.314472*Foglio1!$C$13*Foglio2!R21, NA())","v":{"$error":"#N/A"}},{"$error":"#N/A"}]
[145,4.9767337424205742,{"$f":" IF(Foglio1!$C$9 <> \"\", 8.314472*Foglio1!$C$9*Foglio2!B22, NA())","v":{"$error":"#N/A"}},{"$error":"#N/A"},145,4.9767337424205742,{"$f":" IF(Foglio1!$C$10 <> \"\", 8.314472*Foglio1!$C$10*Foglio2!F22, NA())","v":{"$error":"#N/A"}},{"$error":"#N/A"},145,4.9767337424205742,{"$f":" IF(Foglio1!$C$11 <> \"\", 8.314472*Foglio1!$C$11*Foglio2!J22, NA())","v":{"$error":"#N/A"}},{"$error":"#N/A"},145,4.9767337424205742,{"$f":" IF(Foglio1!$C$12 <> \"\", 8.314472*Foglio1!$C$12*Foglio2!N22, NA())","v":{"$error":"#N/A"}},{"$error":"#N/A"},145,4.9767337424205742,{"$f":" IF(Foglio1!$C$13 <> \"\", 8.314472*Foglio1!$C$13*Foglio2!R22, NA())","v":{"$error":"#N/A"}},{"$error":"#N/A"}]
[154,5.0369526024136295,{"$f":" IF(Foglio1!$C$9 <> \"\", 8.314472*Foglio1!$C$9*Foglio2!B23, NA())","v":{"$error":"#N/A"}},{"$error":"#N/A"},154,5.0369526024136295,{"$f":" IF(Foglio1!$C$10 <> \"\", 8.314472*Foglio1!$C$10*Foglio2!F23, NA())","v":{"$error":"#N/A"}},{"$error":"#N/A"},154,5.0369526024136295,{"$f":" IF(Foglio1!$C$11 <> \"\", 8.314472*Foglio1!$C$11*Foglio2!J23, NA())","v":{"$error":"#N/A"}},{"$error":"#N/A"},154,5.0369526024136295,{"$f":" IF(Foglio1!$C$12 <> \"\", 8.314472*Foglio1!$C$12*Foglio2!N23, NA())","v":{"$error":"#N/A"}},{"$error":"#N/A"},154,5.0369526024136295,{"$f":" IF(Foglio1!$C$13 <> \"\", 8.314472*Foglio1!$C$13*Foglio2!R23, NA())","v":{"$error":"#N/A"}},{"$error":"#N/A"}]
[163,5.0937502008067623,{"$f":" IF(Foglio1!$C$9 <> \"\", 8.314472*Foglio1!$C$9*Foglio2!B24, NA())","v":{"$error":"#N/A"}},{"$error":"#N/A"},163,5.0937502008067623,{"$f":" IF(Foglio1!$C$10 <> \"\", 8.314472*Foglio1!$C$10*Foglio2!F24, NA())","v":{"$error":"#N/A"}},{"$error":"#N/A"},163,5.0937502008067623,{"$f":" IF(Foglio1!$C$11 <> \"\", 8.314472*Foglio1!$C$11*Foglio2!J24, NA())","v":{"$error":"#N/A"}},{"$error":"#N/A"},163,5.0937502008067623,{"$f":" IF(Foglio1!$C$12 <> \"\", 8.314472*Foglio1!$C$12*Foglio2!N24, NA())","v":{"$error":"#N/A"}},{"$error":"#N/A"},163,5.0937502008067623,{"$f":" IF(Foglio1!$C$13 <> \"\", 8.314472*Foglio1!$C$13*Foglio2!R24, NA())","v":{"$error":"#N/A"}},{"$error":"#N/A"}]
[172,5.1474944768134527,{"$f":" IF(Foglio1!$C$9 <> \"\", 8.314472*Foglio1!$C$9*Foglio2!B25, NA())","v":{"$error":"#N/A"}},{"$error":"#N/A"},172,5.1474944768134527,{"$f":" IF(Foglio1!$C$10 <> \"\", 8.314472*Foglio1!$C$10*Foglio2!F25, NA())","v":{"$error":"#N/A"}},{"$error":"#N/A"},172,5.1474944768134527,{"$f":" IF(Foglio1!$C$11 <> \"\", 8.314472*Foglio1!$C$11*Foglio2!J25, NA())","v":{"$error":"#N/A"}},{"$error":"#N/A"},172,5.1474944768134527,{"$f":" IF(Foglio1!$C$12 <> \"\", 8.314472*Foglio1!$C$12*Foglio2!N25, NA())","v":{"$error":"#N/A"}},{"$error":"#N/A"},172,5.1474944768134527,{"$f":" IF(Foglio1!$C$13 <> \"\", 8.314472*Foglio1!$C$13*Foglio2!R25, NA())","v":{"$error":"#N/A"}},{"$error":"#N/A"}]
[181,5.1984970312658261,{"$f":" IF(Foglio1!$C$9 <> \"\", 8.314472*Foglio1!$C$9*Foglio2!B26, NA())","v":{"$error":"#N/A"}},{"$error":"#N/A"},181,5.1984970312658261,{"$f":" IF(Foglio1!$C$10 <> \"\", 8.314472*Foglio1!$C$10*Foglio2!F26, NA())","v":{"$error":"#N/A"}},{"$error":"#N/A"},181,5.1984970312658261,{"$f":" IF(Foglio1!$C$11 <> \"\", 8.314472*Foglio1!$C$11*Foglio2!J26, NA())","v":{"$error":"#N/A"}},{"$error":"#N/A"},181,5.1984970312658261,{"$f":" IF(Foglio1!$C$12 <> \"\", 8.314472*Foglio1!$C$12*Foglio2!N26, NA())","v":{"$error":"#N/A"}},{"$error":"#N/A"},181,5.1984970312658261,{"$f":" IF(Foglio1!$C$13 <> \"\", 8.314472*Foglio1!$C$13*Foglio2!R26, NA())","v":{"$error":"#N/A"}},{"$error":"#N/A"}]
[190,5.2470240721604862,{"$f":" IF(Foglio1!$C$9 <> \"\", 8.314472*Foglio1!$C$9*Foglio2!B27, NA())","v":{"$error":"#N/A"}},{"$error":"#N/A"},190,5.2470240721604862,{"$f":" IF(Foglio1!$C$10 <> \"\", 8.314472*Foglio1!$C$10*Foglio2!F27, NA())","v":{"$error":"#N/A"}},{"$error":"#N/A"},190,5.2470240721604862,{"$f":" IF(Foglio1!$C$11 <> \"\", 8.314472*Foglio1!$C$11*Foglio2!J27, NA())","v":{"$error":"#N/A"}},{"$error":"#N/A"},190,5.2470240721604862,{"$f":" IF(Foglio1!$C$12 <> \"\", 8.314472*Foglio1!$C$12*Foglio2!N27, NA())","v":{"$error":"#N/A"}},{"$error":"#N/A"},190,5.2470240721604862,{"$f":" IF(Foglio1!$C$13 <> \"\", 8.314472*Foglio1!$C$13*Foglio2!R27, NA())","v":{"$error":"#N/A"}},{"$error":"#N/A"}]
[199,5.2933048247244923,{"$f":" IF(Foglio1!$C$9 <> \"\", 8.314472*Foglio1!$C$9*Foglio2!B28, NA())","v":{"$error":"#N/A"}},{"$error":"#N/A"},199,5.2933048247244923,{"$f":" IF(Foglio1!$C$10 <> \"\", 8.314472*Foglio1!$C$10*Foglio2!F28, NA())","v":{"$error":"#N/A"}},{"$error":"#N/A"},199,5.2933048247244923,{"$f":" IF(Foglio1!$C$11 <> \"\", 8.314472*Foglio1!$C$11*Foglio2!J28, NA())","v":{"$error":"#N/A"}},{"$error":"#N/A"},199,5.2933048247244923,{"$f":" IF(Foglio1!$C$12 <> \"\", 8.314472*Foglio1!$C$12*Foglio2!N28, NA())","v":{"$error":"#N/A"}},{"$error":"#N/A"},199,5.2933048247244923,{"$f":" IF(Foglio1!$C$13 <> \"\", 8.314472*Foglio1!$C$13*Foglio2!R28, NA())","v":{"$error":"#N/A"}},{"$error":"#N/A"}]
[208,5.3375380797013179,{"$f":" IF(Foglio1!$C$9 <> \"\", 8.314472*Foglio1!$C$9*Foglio2!B29, NA())","v":{"$error":"#N/A"}},{"$error":"#N/A"},208,5.3375380797013179,{"$f":" IF(Foglio1!$C$10 <> \"\", 8.314472*Foglio1!$C$10*Foglio2!F29, NA())","v":{"$error":"#N/A"}},{"$error":"#N/A"},208,5.3375380797013179,{"$f":" IF(Foglio1!$C$11 <> \"\", 8.314472*Foglio1!$C$11*Foglio2!J29, NA())","v":{"$error":"#N/A"}},{"$error":"#N/A"},208,5.3375380797013179,{"$f":" IF(Foglio1!$C$12 <> \"\", 8.314472*Foglio1!$C$12*Foglio2!N29, NA())","v":{"$error":"#N/A"}},{"$error":"#N/A"},208,5.3375380797013179,{"$f":" IF(Foglio1!$C$13 <> \"\", 8.314472*Foglio1!$C$13*Foglio2!R29, NA())","v":{"$error":"#N/A"}},{"$error":"#N/A"}]
[217,5.3798973535404597,{"$f":" IF(Foglio1!$C$9 <> \"\", 8.314472*Foglio1!$C$9*Foglio2!B30, NA())","v":{"$error":"#N/A"}},{"$error":"#N/A"},217,5.3798973535404597,{"$f":" IF(Foglio1!$C$10 <> \"\", 8.314472*Foglio1!$C$10*Foglio2!F30, NA())","v":{"$error":"#N/A"}},{"$error":"#N/A"},217,5.3798973535404597,{"$f":" IF(Foglio1!$C$11 <> \"\", 8.314472*Foglio1!$C$11*Foglio2!J30, NA())","v":{"$error":"#N/A"}},{"$error":"#N/A"},217,5.3798973535404597,{"$f":" IF(Foglio1!$C$12 <> \"\", 8.314472*Foglio1!$C$12*Foglio2!N30, NA())","v":{"$error":"#N/A"}},{"$error":"#N/A"},217,5.3798973535404597,{"$f":" IF(Foglio1!$C$13 <> \"\", 8.314472*Foglio1!$C$13*Foglio2!R30, NA())","v":{"$error":"#N/A"}},{"$error":"#N/A"}]
[226,5.4205349992722862,{"$f":" IF(Foglio1!$C$9 <> \"\", 8.314472*Foglio1!$C$9*Foglio2!B31, NA())","v":{"$error":"#N/A"}},{"$error":"#N/A"},226,5.4205349992722862,{"$f":" IF(Foglio1!$C$10 <> \"\", 8.314472*Foglio1!$C$10*Foglio2!F31, NA())","v":{"$error":"#N/A"}},{"$error":"#N/A"},226,5.4205349992722862,{"$f":" IF(Foglio1!$C$11 <> \"\", 8.314472*Foglio1!$C$11*Foglio2!J31, NA())","v":{"$error":"#N/A"}},{"$error":"#N/A"},226,5.4205349992722862,{"$f":" IF(Foglio1!$C$12 <> \"\", 8.314472*Foglio1!$C$12*Foglio2!N31, NA())","v":{"$error":"#N/A"}},{"$error":"#N/A"},226,5.4205349992722862,{"$f":" IF(Foglio1!$C$13 <> \"\", 8.314472*Foglio1!$C$13*Foglio2!R31, NA())","v":{"$error":"#N/A"}},{"$error":"#N/A"}]
[235,5.4595855141441589,{"$f":" IF(Foglio1!$C$9 <> \"\", 8.314472*Foglio1!$C$9*Foglio2!B32, NA())","v":{"$error":"#N/A"}},{"$error":"#N/A"},235,5.4595855141441589,{"$f":" IF(Foglio1!$C$10 <> \"\", 8.314472*Foglio1!$C$10*Foglio2!F32, NA())","v":{"$error":"#N/A"}},{"$error":"#N/A"},235,5.4595855141441589,{"$f":" IF(Foglio1!$C$11 <> \"\", 8.314472*Foglio1!$C$11*Foglio2!J32, NA())","v":{"$error":"#N/A"}},{"$error":"#N/A"},235,5.4595855141441589,{"$f":" IF(Foglio1!$C$12 <> \"\", 8.314472*Foglio1!$C$12*Foglio2!N32, NA())","v":{"$error":"#N/A"}},{"$error":"#N/A"},235,5.4595855141441589,{"$f":" IF(Foglio1!$C$13 <> \"\", 8.314472*Foglio1!$C$13*Foglio2!R32, NA())","v":{"$error":"#N/A"}},{"$error":"#N/A"}]
[244,5.4971682252932021,{"$f":" IF(Foglio1!$C$9 <> \"\", 8.314472*Foglio1!$C$9*Foglio2!B33, NA())","v":{"$error":"#N/A"}},{"$error":"#N/A"},244,5.4971682252932021,{"$f":" IF(Foglio1!$C$10 <> \"\", 8.314472*Foglio1!$C$10*Foglio2!F33, NA())","v":{"$error":"#N/A"}},{"$error":"#N/A"},244,5.4971682252932021,{"$f":" IF(Foglio1!$C$11 <> \"\", 8.314472*Foglio1!$C$11*Foglio2!J33, NA())","v":{"$error":"#N/A"}},{"$error":"#N/A"},244,5.4971682252932021,{"$f":" IF(Foglio1!$C$12 <> \"\", 8.314472*Foglio1!$C$12*Foglio2!N33, NA())","v":{"$error":"#N/A"}},{"$error":"#N/A"},244,5.4971682252932021,{"$f":" IF(Foglio1!$C$13 <> \"\", 8.314472*Foglio1!$C$13*Foglio2!R33, NA())","v":{"$error":"#N/A"}},{"$error":"#N/A"}]
[253,5.5333894887275203,{"$f":" IF(Foglio1!$C$9 <> \"\", 8.314472*Foglio1!$C$9*Foglio2!B34, NA())","v":{"$error":"#N/A"}},{"$error":"#N/A"},253,5.5333894887275203,{"$f":" IF(Foglio1!$C$10 <> \"\", 8.314472*Foglio1!$C$10*Foglio2!F34, NA())","v":{"$error":"#N/A"}},{"$error":"#N/A"},253,5.5333894887275203,{"$f":" IF(Foglio1!$C$11 <> \"\", 8.314472*Foglio1!$C$11*Foglio2!J34, NA())","v":{"$error":"#N/A"}},{"$error":"#N/A"},253,5.5333894887275203,{"$f":" IF(Foglio1!$C$12 <> \"\", 8.314472*Foglio1!$C$12*Foglio2!N34, NA())","v":{"$error":"#N/A"}},{"$error":"#N/A"},253,5.5333894887275203,{"$f":" IF(Foglio1!$C$13 <> \"\", 8.314472*Foglio1!$C$13*Foglio2!R34, NA())","v":{"$error":"#N/A"}},{"$error":"#N/A"}]
[262,5.5683445037610966,{"$f":" IF(Foglio1!$C$9 <> \"\", 8.314472*Foglio1!$C$9*Foglio2!B35, NA())","v":{"$error":"#N/A"}},{"$error":"#N/A"},262,5.5683445037610966,{"$f":" IF(Foglio1!$C$10 <> \"\", 8.314472*Foglio1!$C$10*Foglio2!F35, NA())","v":{"$error":"#N/A"}},{"$error":"#N/A"},262,5.5683445037610966,{"$f":" IF(Foglio1!$C$11 <> \"\", 8.314472*Foglio1!$C$11*Foglio2!J35, NA())","v":{"$error":"#N/A"}},{"$error":"#N/A"},262,5.5683445037610966,{"$f":" IF(Foglio1!$C$12 <> \"\", 8.314472*Foglio1!$C$12*Foglio2!N35, NA())","v":{"$error":"#N/A"}},{"$error":"#N/A"},262,5.5683445037610966,{"$f":" IF(Foglio1!$C$13 <> \"\", 8.314472*Foglio1!$C$13*Foglio2!R35, NA())","v":{"$error":"#N/A"}},{"$error":"#N/A"}]
[271,5.602118820879701,{"$f":" IF(Foglio1!$C$9 <> \"\", 8.314472*Foglio1!$C$9*Foglio2!B36, NA())","v":{"$error":"#N/A"}},{"$error":"#N/A"},271,5.602118820879701,{"$f":" IF(Foglio1!$C$10 <> \"\", 8.314472*Foglio1!$C$10*Foglio2!F36, NA())","v":{"$error":"#N/A"}},{"$error":"#N/A"},271,5.602118820879701,{"$f":" IF(Foglio1!$C$11 <> \"\", 8.314472*Foglio1!$C$11*Foglio2!J36, NA())","v":{"$error":"#N/A"}},{"$error":"#N/A"},271,5.602118820879701,{"$f":" IF(Foglio1!$C$12 <> \"\", 8.314472*Foglio1!$C$12*Foglio2!N36, NA())","v":{"$error":"#N/A"}},{"$error":"#N/A"},271,5.602118820879701,{"$f":" IF(Foglio1!$C$13 <> \"\", 8.314472*Foglio1!$C$13*Foglio2!R36, NA())","v":{"$error":"#N/A"}},{"$error":"#N/A"}]
[280,5.6347896031692493,{"$f":" IF(Foglio1!$C$9 <> \"\", 8.314472*Foglio1!$C$9*Foglio2!B37, NA())","v":{"$error":"#N/A"}},{"$error":"#N/A"},280,5.6347896031692493,{"$f":" IF(Foglio1!$C$10 <> \"\", 8.314472*Foglio1!$C$10*Foglio2!F37, NA())","v":{"$error":"#N/A"}},{"$error":"#N/A"},280,5.6347896031692493,{"$f":" IF(Foglio1!$C$11 <> \"\", 8.314472*Foglio1!$C$11*Foglio2!J37, NA())","v":{"$error":"#N/A"}},{"$error":"#N/A"},280,5.6347896031692493,{"$f":" IF(Foglio1!$C$12 <> \"\", 8.314472*Foglio1!$C$12*Foglio2!N37, NA())","v":{"$error":"#N/A"}},{"$error":"#N/A"},280,5.6347896031692493,{"$f":" IF(Foglio1!$C$13 <> \"\", 8.314472*Foglio1!$C$13*Foglio2!R37, NA())","v":{"$error":"#N/A"}},{"$error":"#N/A"}]
[289,5.6664266881124323,{"$f":" IF(Foglio1!$C$9 <> \"\", 8.314472*Foglio1!$C$9*Foglio2!B38, NA())","v":{"$error":"#N/A"}},{"$error":"#N/A"},289,5.6664266881124323,{"$f":" IF(Foglio1!$C$10 <> \"\", 8.314472*Foglio1!$C$10*Foglio2!F38, NA())","v":{"$error":"#N/A"}},{"$error":"#N/A"},289,5.6664266881124323,{"$f":" IF(Foglio1!$C$11 <> \"\", 8.314472*Foglio1!$C$11*Foglio2!J38, NA())","v":{"$error":"#N/A"}},{"$error":"#N/A"},289,5.6664266881124323,{"$f":" IF(Foglio1!$C$12 <> \"\", 8.314472*Foglio1!$C$12*Foglio2!N38, NA())","v":{"$error":"#N/A"}},{"$error":"#N/A"},289,5.6664266881124323,{"$f":" IF(Foglio1!$C$13 <> \"\", 8.314472*Foglio1!$C$13*Foglio2!R38, NA())","v":{"$error":"#N/A"}},{"$error":"#N/A"}]
[298,5.6970934865054046,{"$f":" IF(Foglio1!$C$9 <> \"\", 8.314472*Foglio1!$C$9*Foglio2!B39, NA())","v":{"$error":"#N/A"}},{"$error":"#N/A"},298,5.6970934865054046,{"$f":" IF(Foglio1!$C$10 <> \"\", 8.314472*Foglio1!$C$10*Foglio2!F39, NA())","v":{"$error":"#N/A"}},{"$error":"#N/A"},298,5.6970934865054046,{"$f":" IF(Foglio1!$C$11 <> \"\", 8.314472*Foglio1!$C$11*Foglio2!J39, NA())","v":{"$error":"#N/A"}},{"$error":"#N/A"},298,5.6970934865054046,{"$f":" IF(Foglio1!$C$12 <> \"\", 8.314472*Foglio1!$C$12*Foglio2!N39, NA())","v":{"$error":"#N/A"}},{"$error":"#N/A"},298,5.6970934865054046,{"$f":" IF(Foglio1!$C$13 <> \"\", 8.314472*Foglio1!$C$13*Foglio2!R39, NA())","v":{"$error":"#N/A"}},{"$error":"#N/A"}]
[307,5.7268477475871968,{"$f":" IF(Foglio1!$C$9 <> \"\", 8.314472*Foglio1!$C$9*Foglio2!B40, NA())","v":{"$error":"#N/A"}},{"$error":"#N/A"},307,5.7268477475871968,{"$f":" IF(Foglio1!$C$10 <> \"\", 8.314472*Foglio1!$C$10*Foglio2!F40, NA())","v":{"$error":"#N/A"}},{"$error":"#N/A"},307,5.7268477475871968,{"$f":" IF(Foglio1!$C$11 <> \"\", 8.314472*Foglio1!$C$11*Foglio2!J40, NA())","v":{"$error":"#N/A"}},{"$error":"#N/A"},307,5.7268477475871968,{"$f":" IF(Foglio1!$C$12 <> \"\", 8.314472*Foglio1!$C$12*Foglio2!N40, NA())","v":{"$error":"#N/A"}},{"$error":"#N/A"},307,5.7268477475871968,{"$f":" IF(Foglio1!$C$13 <> \"\", 8.314472*Foglio1!$C$13*Foglio2!R40, NA())","v":{"$error":"#N/A"}},{"$error":"#N/A"}]
[316,5.7557422135869123,{"$f":" IF(Foglio1!$C$9 <> \"\", 8.314472*Foglio1!$C$9*Foglio2!B41, NA())","v":{"$error":"#N/A"}},{"$error":"#N/A"},316,5.7557422135869123,{"$f":" IF(Foglio1!$C$10 <> \"\", 8.314472*Foglio1!$C$10*Foglio2!F41, NA())","v":{"$error":"#N/A"}},{"$error":"#N/A"},316,5.7557422135869123,{"$f":" IF(Foglio1!$C$11 <> \"\", 8.314472*Foglio1!$C$11*Foglio2!J41, NA())","v":{"$error":"#N/A"}},{"$error":"#N/A"},316,5.7557422135869123,{"$f":" IF(Foglio1!$C$12 <> \"\", 8.314472*Foglio1!$C$12*Foglio2!N41, NA())","v":{"$error":"#N/A"}},{"$error":"#N/A"},316,5.7557422135869123,{"$f":" IF(Foglio1!$C$13 <> \"\", 8.314472*Foglio1!$C$13*Foglio2!R41, NA())","v":{"$error":"#N/A"}},{"$error":"#N/A"}]
[325,5.7838251823297373,{"$f":" IF(Foglio1!$C$9 <> \"\", 8.314472*Foglio1!$C$9*Foglio2!B42, NA())","v":{"$error":"#N/A"}},{"$error":"#N/A"},325,5.7838251823297373,{"$f":" IF(Foglio1!$C$10 <> \"\", 8.314472*Foglio1!$C$10*Foglio2!F42, NA())","v":{"$error":"#N/A"}},{"$error":"#N/A"},325,5.7838251823297373,{"$f":" IF(Foglio1!$C$11 <> \"\", 8.314472*Foglio1!$C$11*Foglio2!J42, NA())","v":{"$error":"#N/A"}},{"$error":"#N/A"},325,5.7838251823297373,{"$f":" IF(Foglio1!$C$12 <> \"\", 8.314472*Foglio1!$C$12*Foglio2!N42, NA())","v":{"$error":"#N/A"}},{"$error":"#N/A"},325,5.7838251823297373,{"$f":" IF(Foglio1!$C$13 <> \"\", 8.314472*Foglio1!$C$13*Foglio2!R42, NA())","v":{"$error":"#N/A"}},{"$error":"#N/A"}]
[334,5.8111409929767008,{"$f":" IF(Foglio1!$C$9 <> \"\", 8.314472*Foglio1!$C$9*Foglio2!B43, NA())","v":{"$error":"#N/A"}},{"$error":"#N/A"},334,5.8111409929767008,{"$f":" IF(Foglio1!$C$10 <> \"\", 8.314472*Foglio1!$C$10*Foglio2!F43, NA())","v":{"$error":"#N/A"}},{"$error":"#N/A"},334,5.8111409929767008,{"$f":" IF(Foglio1!$C$11 <> \"\", 8.314472*Foglio1!$C$11*Foglio2!J43, NA())","v":{"$error":"#N/A"}},{"$error":"#N/A"},334,5.8111409929767008,{"$f":" IF(Foglio1!$C$12 <> \"\", 8.314472*Foglio1!$C$12*Foglio2!N43, NA())","v":{"$error":"#N/A"}},{"$error":"#N/A"},334,5.8111409929767008,{"$f":" IF(Foglio1!$C$13 <> \"\", 8.314472*Foglio1!$C$13*Foglio2!R43, NA())","v":{"$error":"#N/A"}},{"$error":"#N/A"}]
[343,5.8377304471659395,{"$f":" IF(Foglio1!$C$9 <> \"\", 8.314472*Foglio1!$C$9*Foglio2!B44, NA())","v":{"$error":"#N/A"}},{"$error":"#N/A"},343,5.8377304471659395,{"$f":" IF(Foglio1!$C$10 <> \"\", 8.314472*Foglio1!$C$10*Foglio2!F44, NA())","v":{"$error":"#N/A"}},{"$error":"#N/A"},343,5.8377304471659395,{"$f":" IF(Foglio1!$C$11 <> \"\", 8.314472*Foglio1!$C$11*Foglio2!J44, NA())","v":{"$error":"#N/A"}},{"$error":"#N/A"},343,5.8377304471659395,{"$f":" IF(Foglio1!$C$12 <> \"\", 8.314472*Foglio1!$C$12*Foglio2!N44, NA())","v":{"$error":"#N/A"}},{"$error":"#N/A"},343,5.8377304471659395,{"$f":" IF(Foglio1!$C$13 <> \"\", 8.314472*Foglio1!$C$13*Foglio2!R44, NA())","v":{"$error":"#N/A"}},{"$error":"#N/A"}]
[352,5.8636311755980968,{"$f":" IF(Foglio1!$C$9 <> \"\", 8.314472*Foglio1!$C$9*Foglio2!B45, NA())","v":{"$error":"#N/A"}},{"$error":"#N/A"},352,5.8636311755980968,{"$f":" IF(Foglio1!$C$10 <> \"\", 8.314472*Foglio1!$C$10*Foglio2!F45, NA())","v":{"$error":"#N/A"}},{"$error":"#N/A"},352,5.8636311755980968,{"$f":" IF(Foglio1!$C$11 <> \"\", 8.314472*Foglio1!$C$11*Foglio2!J45, NA())","v":{"$error":"#N/A"}},{"$error":"#N/A"},352,5.8636311755980968,{"$f":" IF(Foglio1!$C$12 <> \"\", 8.314472*Foglio1!$C$12*Foglio2!N45, NA())","v":{"$error":"#N/A"}},{"$error":"#N/A"},352,5.8636311755980968,{"$f":" IF(Foglio1!$C$13 <> \"\", 8.314472*Foglio1!$C$13*Foglio2!R45, NA())","v":{"$error":"#N/A"}},{"$error":"#N/A"}]
[361,5.8888779583328805,{"$f":" IF(Foglio1!$C$9 <> \"\", 8.314472*Foglio1!$C$9*Foglio2!B46, NA())","v":{"$error":"#N/A"}},{"$error":"#N/A"},361,5.8888779583328805,{"$f":" IF(Foglio1!$C$10 <> \"\", 8.314472*Foglio1!$C$10*Foglio2!F46, NA())","v":{"$error":"#N/A"}},{"$error":"#N/A"},361,5.8888779583328805,{"$f":" IF(Foglio1!$C$11 <> \"\", 8.314472*Foglio1!$C$11*Foglio2!J46, NA())","v":{"$error":"#N/A"}},{"$error":"#N/A"},361,5.8888779583328805,{"$f":" IF(Foglio1!$C$12 <> \"\", 8.314472*Foglio1!$C$12*Foglio2!N46, NA())","v":{"$error":"#N/A"}},{"$error":"#N/A"},361,5.8888779583328805,{"$f":" IF(Foglio1!$C$13 <> \"\", 8.314472*Foglio1!$C$13*Foglio2!R46, NA())","v":{"$error":"#N/A"}},{"$error":"#N/A"}]
[370,5.9135030056382698,{"$f":" IF(Foglio1!$C$9 <> \"\", 8.314472*Foglio1!$C$9*Foglio2!B47, NA())","v":{"$error":"#N/A"}},{"$error":"#N/A"},370,5.9135030056382698,{"$f":" IF(Foglio1!$C$10 <> \"\", 8.314472*Foglio1!$C$10*Foglio2!F47, NA())","v":{"$error":"#N/A"}},{"$error":"#N/A"},370,5.9135030056382698,{"$f":" IF(Foglio1!$C$11 <> \"\", 8.314472*Foglio1!$C$11*Foglio2!J47, NA())","v":{"$error":"#N/A"}},{"$error":"#N/A"},370,5.9135030056382698,{"$f":" IF(Foglio1!$C$12 <> \"\", 8.314472*Foglio1!$C$12*Foglio2!N47, NA())","v":{"$error":"#N/A"}},{"$error":"#N/A"},370,5.9135030056382698,{"$f":" IF(Foglio1!$C$13 <> \"\", 8.314472*Foglio1!$C$13*Foglio2!R47, NA())","v":{"$error":"#N/A"}},{"$error":"#N/A"}]
[379,5.9375362050824263,{"$f":" IF(Foglio1!$C$9 <> \"\", 8.314472*Foglio1!$C$9*Foglio2!B48, NA())","v":{"$error":"#N/A"}},{"$error":"#N/A"},379,5.9375362050824263,{"$f":" IF(Foglio1!$C$10 <> \"\", 8.314472*Foglio1!$C$10*Foglio2!F48, NA())","v":{"$error":"#N/A"}},{"$error":"#N/A"},379,5.9375362050824263,{"$f":" IF(Foglio1!$C$11 <> \"\", 8.314472*Foglio1!$C$11*Foglio2!J48, NA())","v":{"$error":"#N/A"}},{"$error":"#N/A"},379,5.9375362050824263,{"$f":" IF(Foglio1!$C$12 <> \"\", 8.314472*Foglio1!$C$12*Foglio2!N48, NA())","v":{"$error":"#N/A"}},{"$error":"#N/A"},379,5.9375362050824263,{"$f":" IF(Foglio1!$C$13 <> \"\", 8.314472*Foglio1!$C$13*Foglio2!R48, NA())","v":{"$error":"#N/A"}},{"$error":"#N/A"}]
[388,5.9610053396232736,{"$f":" IF(Foglio1!$C$9 <> \"\", 8.314472*Foglio1!$C$9*Foglio2!B49, NA())","v":{"$error":"#N/A"}},{"$error":"#N/A"},388,5.9610053396232736,{"$f":" IF(Foglio1!$C$10 <> \"\", 8.314472*Foglio1!$C$10*Foglio2!F49, NA())","v":{"$error":"#N/A"}},{"$error":"#N/A"},388,5.9610053396232736,{"$f":" IF(Foglio1!$C$11 <> \"\", 8.314472*Foglio1!$C$11*Foglio2!J49, NA())","v":{"$error":"#N/A"}},{"$error":"#N/A"},388,5.9610053396232736,{"$f":" IF(Foglio1!$C$12 <> \"\", 8.314472*Foglio1!$C$12*Foglio2!N49, NA())","v":{"$error":"#N/A"}},{"$error":"#N/A"},388,5.9610053396232736,{"$f":" IF(Foglio1!$C$13 <> \"\", 8.314472*Foglio1!$C$13*Foglio2!R49, NA())","v":{"$error":"#N/A"}},{"$error":"#N/A"}]
[397,5.9839362806871907,{"$f":" IF(Foglio1!$C$9 <> \"\", 8.314472*Foglio1!$C$9*Foglio2!B50, NA())","v":{"$error":"#N/A"}},{"$error":"#N/A"},397,5.9839362806871907,{"$f":" IF(Foglio1!$C$10 <> \"\", 8.314472*Foglio1!$C$10*Foglio2!F50, NA())","v":{"$error":"#N/A"}},{"$error":"#N/A"},397,5.9839362806871907,{"$f":" IF(Foglio1!$C$11 <> \"\", 8.314472*Foglio1!$C$11*Foglio2!J50, NA())","v":{"$error":"#N/A"}},{"$error":"#N/A"},397,5.9839362806871907,{"$f":" IF(Foglio1!$C$12 <> \"\", 8.314472*Foglio1!$C$12*Foglio2!N50, NA())","v":{"$error":"#N/A"}},{"$error":"#N/A"},397,5.9839362806871907,{"$f":" IF(Foglio1!$C$13 <> \"\", 8.314472*Foglio1!$C$13*Foglio2!R50, NA())","v":{"$error":"#N/A"}},{"$error":"#N/A"}]
[406,6.0063531596017325,{"$f":" IF(Foglio1!$C$9 <> \"\", 8.314472*Foglio1!$C$9*Foglio2!B51, NA())","v":{"$error":"#N/A"}},{"$error":"#N/A"},406,6.0063531596017325,{"$f":" IF(Foglio1!$C$10 <> \"\", 8.314472*Foglio1!$C$10*Foglio2!F51, NA())","v":{"$error":"#N/A"}},{"$error":"#N/A"},406,6.0063531596017325,{"$f":" IF(Foglio1!$C$11 <> \"\", 8.314472*Foglio1!$C$11*Foglio2!J51, NA())","v":{"$error":"#N/A"}},{"$error":"#N/A"},406,6.0063531596017325,{"$f":" IF(Foglio1!$C$12 <> \"\", 8.314472*Foglio1!$C$12*Foglio2!N51, NA())","v":{"$error":"#N/A"}},{"$error":"#N/A"},406,6.0063531596017325,{"$f":" IF(Foglio1!$C$13 <> \"\", 8.314472*Foglio1!$C$13*Foglio2!R51, NA())","v":{"$error":"#N/A"}},{"$error":"#N/A"}]
[415,6.0282785202306979,{"$f":" IF(Foglio1!$C$9 <> \"\", 8.314472*Foglio1!$C$9*Foglio2!B52, NA())","v":{"$error":"#N/A"}},{"$error":"#N/A"},415,6.0282785202306979,{"$f":" IF(Foglio1!$C$10 <> \"\", 8.314472*Foglio1!$C$10*Foglio2!F52, NA())","v":{"$error":"#N/A"}},{"$error":"#N/A"},415,6.0282785202306979,{"$f":" IF(Foglio1!$C$11 <> \"\", 8.314472*Foglio1!$C$11*Foglio2!J52, NA())","v":{"$error":"#N/A"}},{"$error":"#N/A"},415,6.0282785202306979,{"$f":" IF(Foglio1!$C$12 <> \"\", 8.314472*Foglio1!$C$12*Foglio2!N52, NA())","v":{"$error":"#N/A"}},{"$error":"#N/A"},415,6.0282785202306979,{"$f":" IF(Foglio1!$C$13 <> \"\", 8.314472*Foglio1!$C$13*Foglio2!R52, NA())","v":{"$error":"#N/A"}},{"$error":"#N/A"}]
[424,6.0497334552319577,{"$f":" IF(Foglio1!$C$9 <> \"\", 8.314472*Foglio1!$C$9*Foglio2!B53, NA())","v":{"$error":"#N/A"}},{"$error":"#N/A"},424,6.0497334552319577,{"$f":" IF(Foglio1!$C$10 <> \"\", 8.314472*Foglio1!$C$10*Foglio2!F53, NA())","v":{"$error":"#N/A"}},{"$error":"#N/A"},424,6.0497334552319577,{"$f":" IF(Foglio1!$C$11 <> \"\", 8.314472*Foglio1!$C$11*Foglio2!J53, NA())","v":{"$error":"#N/A"}},{"$error":"#N/A"},424,6.0497334552319577,{"$f":" IF(Foglio1!$C$12 <> \"\", 8.314472*Foglio1!$C$12*Foglio2!N53, NA())","v":{"$error":"#N/A"}},{"$error":"#N/A"},424,6.0497334552319577,{"$f":" IF(Foglio1!$C$13 <> \"\", 8.314472*Foglio1!$C$13*Foglio2!R53, NA())","v":{"$error":"#N/A"}},{"$error":"#N/A"}]
[433,6.0707377280024897,{"$f":" IF(Foglio1!$C$9 <> \"\", 8.314472*Foglio1!$C$9*Foglio2!B54, NA())","v":{"$error":"#N/A"}},{"$error":"#N/A"},433,6.0707377280024897,{"$f":" IF(Foglio1!$C$10 <> \"\", 8.314472*Foglio1!$C$10*Foglio2!F54, NA())","v":{"$error":"#N/A"}},{"$error":"#N/A"},433,6.0707377280024897,{"$f":" IF(Foglio1!$C$11 <> \"\", 8.314472*Foglio1!$C$11*Foglio2!J54, NA())","v":{"$error":"#N/A"}},{"$error":"#N/A"},433,6.0707377280024897,{"$f":" IF(Foglio1!$C$12 <> \"\", 8.314472*Foglio1!$C$12*Foglio2!N54, NA())","v":{"$error":"#N/A"}},{"$error":"#N/A"},433,6.0707377280024897,{"$f":" IF(Foglio1!$C$13 <> \"\", 8.314472*Foglio1!$C$13*Foglio2!R54, NA())","v":{"$error":"#N/A"}},{"$error":"#N/A"}]
[442,6.0913098820776979,{"$f":" IF(Foglio1!$C$9 <> \"\", 8.314472*Foglio1!$C$9*Foglio2!B55, NA())","v":{"$error":"#N/A"}},{"$error":"#N/A"},442,6.0913098820776979,{"$f":" IF(Foglio1!$C$10 <> \"\", 8.314472*Foglio1!$C$10*Foglio2!F55, NA())","v":{"$error":"#N/A"}},{"$error":"#N/A"},442,6.0913098820776979,{"$f":" IF(Foglio1!$C$11 <> \"\", 8.314472*Foglio1!$C$11*Foglio2!J55, NA())","v":{"$error":"#N/A"}},{"$error":"#N/A"},442,6.0913098820776979,{"$f":" IF(Foglio1!$C$12 <> \"\", 8.314472*Foglio1!$C$12*Foglio2!N55, NA())","v":{"$error":"#N/A"}},{"$error":"#N/A"},442,6.0913098820776979,{"$f":" IF(Foglio1!$C$13 <> \"\", 8.314472*Foglio1!$C$13*Foglio2!R55, NA())","v":{"$error":"#N/A"}},{"$error":"#N/A"}]
[451,6.1114673395026786,{"$f":" IF(Foglio1!$C$9 <> \"\", 8.314472*Foglio1!$C$9*Foglio2!B56, NA())","v":{"$error":"#N/A"}},{"$error":"#N/A"},451,6.1114673395026786,{"$f":" IF(Foglio1!$C$10 <> \"\", 8.314472*Foglio1!$C$10*Foglio2!F56, NA())","v":{"$error":"#N/A"}},{"$error":"#N/A"},451,6.1114673395026786,{"$f":" IF(Foglio1!$C$11 <> \"\", 8.314472*Foglio1!$C$11*Foglio2!J56, NA())","v":{"$error":"#N/A"}},{"$error":"#N/A"},451,6.1114673395026786,{"$f":" IF(Foglio1!$C$12 <> \"\", 8.314472*Foglio1!$C$12*Foglio2!N56, NA())","v":{"$error":"#N/A"}},{"$error":"#N/A"},451,6.1114673395026786,{"$f":" IF(Foglio1!$C$13 <> \"\", 8.314472*Foglio1!$C$13*Foglio2!R56, NA())","v":{"$error":"#N/A"}},{"$error":"#N/A"}]
[460,6.131226489483141,{"$f":" IF(Foglio1!$C$9 <> \"\", 8.314472*Foglio1!$C$9*Foglio2!B57, NA())","v":{"$error":"#N/A"}},{"$error":"#N/A"},460,6.131226489483141,{"$f":" IF(Foglio1!$C$10 <> \"\", 8.314472*Foglio1!$C$10*Foglio2!F57, NA())","v":{"$error":"#N/A"}},{"$error":"#N/A"},460,6.131226489483141,{"$f":" IF(Foglio1!$C$11 <> \"\", 8.314472*Foglio1!$C$11*Foglio2!J57, NA())","v":{"$error":"#N/A"}},{"$error":"#N/A"},460,6.131226489483141,{"$f":" IF(Foglio1!$C$12 <> \"\", 8.314472*Foglio1!$C$12*Foglio2!N57, NA())","v":{"$error":"#N/A"}},{"$error":"#N/A"},460,6.131226489483141,{"$f":" IF(Foglio1!$C$13 <> \"\", 8.314472*Foglio1!$C$13*Foglio2!R57, NA())","v":{"$error":"#N/A"}},{"$error":"#N/A"}]
[469,6.1506027684462792,{"$f":" IF(Foglio1!$C$9 <> \"\", 8.314472*Foglio1!$C$9*Foglio2!B58, NA())","v":{"$error":"#N/A"}},{"$error":"#N/A"},469,6.1506027684462792,{"$f":" IF(Foglio1!$C$10 <> \"\", 8.314472*Foglio1!$C$10*Foglio2!F58, NA())","v":{"$error":"#N/A"}},{"$error":"#N/A"},469,6.1506027684462792,{"$f":" IF(Foglio1!$C$11 <> \"\", 8.314472*Foglio1!$C$11*Foglio2!J58, NA())","v":{"$error":"#N/A"}},{"$error":"#N/A"},469,6.1506027684462792,{"$f":" IF(Foglio1!$C$12 <> \"\", 8.314472*Foglio1!$C$12*Foglio2!N58, NA())","v":{"$error":"#N/A"}},{"$error":"#N/A"},469,6.1506027684462792,{"$f":" IF(Foglio1!$C$13 <> \"\", 8.314472*Foglio1!$C$13*Foglio2!R58, NA())","v":{"$error":"#N/A"}},{"$error":"#N/A"}]
[478,6.1696107324914564,{"$f":" IF(Foglio1!$C$9 <> \"\", 8.314472*Foglio1!$C$9*Foglio2!B59, NA())","v":{"$error":"#N/A"}},{"$error":"#N/A"},478,6.1696107324914564,{"$f":" IF(Foglio1!$C$10 <> \"\", 8.314472*Foglio1!$C$10*Foglio2!F59, NA())","v":{"$error":"#N/A"}},{"$error":"#N/A"},478,6.1696107324914564,{"$f":" IF(Foglio1!$C$11 <> \"\", 8.314472*Foglio1!$C$11*Foglio2!J59, NA())","v":{"$error":"#N/A"}},{"$error":"#N/A"},478,6.1696107324914564,{"$f":" IF(Foglio1!$C$12 <> \"\", 8.314472*Foglio1!$C$12*Foglio2!N59, NA())","v":{"$error":"#N/A"}},{"$error":"#N/A"},478,6.1696107324914564,{"$f":" IF(Foglio1!$C$13 <> \"\", 8.314472*Foglio1!$C$13*Foglio2!R59, NA())","v":{"$error":"#N/A"}},{"$error":"#N/A"}]
[487,6.1882641230825897,{"$f":" IF(Foglio1!$C$9 <> \"\", 8.314472*Foglio1!$C$9*Foglio2!B60, NA())","v":{"$error":"#N/A"}},{"$error":"#N/A"},487,6.1882641230825897,{"$f":" IF(Foglio1!$C$10 <> \"\", 8.314472*Foglio1!$C$10*Foglio2!F60, NA())","v":{"$error":"#N/A"}},{"$error":"#N/A"},487,6.1882641230825897,{"$f":" IF(Foglio1!$C$11 <> \"\", 8.314472*Foglio1!$C$11*Foglio2!J60, NA())","v":{"$error":"#N/A"}},{"$error":"#N/A"},487,6.1882641230825897,{"$f":" IF(Foglio1!$C$12 <> \"\", 8.314472*Foglio1!$C$12*Foglio2!N60, NA())","v":{"$error":"#N/A"}},{"$error":"#N/A"},487,6.1882641230825897,{"$f":" IF(Foglio1!$C$13 <> \"\", 8.314472*Foglio1!$C$13*Foglio2!R60, NA())","v":{"$error":"#N/A"}},{"$error":"#N/A"}]
[496,6.2065759267249279,{"$f":" IF(Foglio1!$C$9 <> \"\", 8.314472*Foglio1!$C$9*Foglio2!B61, NA())","v":{"$error":"#N/A"}},{"$error":"#N/A"},496,6.2065759267249279,{"$f":" IF(Foglio1!$C$10 <> \"\", 8.314472*Foglio1!$C$10*Foglio2!F61, NA())","v":{"$error":"#N/A"}},{"$error":"#N/A"},496,6.2065759267249279,{"$f":" IF(Foglio1!$C$11 <> \"\", 8.314472*Foglio1!$C$11*Foglio2!J61, NA())","v":{"$error":"#N/A"}},{"$error":"#N/A"},496,6.2065759267249279,{"$f":" IF(Foglio1!$C$12 <> \"\", 8.314472*Foglio1!$C$12*Foglio2!N61, NA())","v":{"$error":"#N/A"}},{"$error":"#N/A"},496,6.2065759267249279,{"$f":" IF(Foglio1!$C$13 <> \"\", 8.314472*Foglio1!$C$13*Foglio2!R61, NA())","v":{"$error":"#N/A"}},{"$error":"#N/A"}]
[505,6.2245584292753602,{"$f":" IF(Foglio1!$C$9 <> \"\", 8.314472*Foglio1!$C$9*Foglio2!B62, NA())","v":{"$error":"#N/A"}},{"$error":"#N/A"},505,6.2245584292753602,{"$f":" IF(Foglio1!$C$10 <> \"\", 8.314472*Foglio1!$C$10*Foglio2!F62, NA())","v":{"$error":"#N/A"}},{"$error":"#N/A"},505,6.2245584292753602,{"$f":" IF(Foglio1!$C$11 <> \"\", 8.314472*Foglio1!$C$11*Foglio2!J62, NA())","v":{"$error":"#N/A"}},{"$error":"#N/A"},505,6.2245584292753602,{"$f":" IF(Foglio1!$C$12 <> \"\", 8.314472*Foglio1!$C$12*Foglio2!N62, NA())","v":{"$error":"#N/A"}},{"$error":"#N/A"},505,6.2245584292753602,{"$f":" IF(Foglio1!$C$13 <> \"\", 8.314472*Foglio1!$C$13*Foglio2!R62, NA())","v":{"$error":"#N/A"}},{"$error":"#N/A"}]
[514,6.2422232654551655,{"$f":" IF(Foglio1!$C$9 <> \"\", 8.314472*Foglio1!$C$9*Foglio2!B63, NA())","v":{"$error":"#N/A"}},{"$error":"#N/A"},514,6.2422232654551655,{"$f":" IF(Foglio1!$C$10 <> \"\", 8.314472*Foglio1!$C$10*Foglio2!F63, NA())","v":{"$error":"#N/A"}},{"$error":"#N/A"},514,6.2422232654551655,{"$f":" IF(Foglio1!$C$11 <> \"\", 8.314472*Foglio1!$C$11*Foglio2!J63, NA())","v":{"$error":"#N/A"}},{"$error":"#N/A"},514,6.2422232654551655,{"$f":" IF(Foglio1!$C$12 <> \"\", 8.314472*Foglio1!$C$12*Foglio2!N63, NA())","v":{"$error":"#N/A"}},{"$error":"#N/A"},514,6.2422232654551655,{"$f":" IF(Foglio1!$C$13 <> \"\", 8.314472*Foglio1!$C$13*Foglio2!R63, NA())","v":{"$error":"#N/A"}},{"$error":"#N/A"}]
[523,6.2595814640649232,{"$f":" IF(Foglio1!$C$9 <> \"\", 8.314472*Foglio1!$C$9*Foglio2!B64, NA())","v":{"$error":"#N/A"}},{"$error":"#N/A"},523,6.2595814640649232,{"$f":" IF(Foglio1!$C$10 <> \"\", 8.314472*Foglio1!$C$10*Foglio2!F64, NA())","v":{"$error":"#N/A"}},{"$error":"#N/A"},523,6.2595814640649232,{"$f":" IF(Foglio1!$C$11 <> \"\", 8.314472*Foglio1!$C$11*Foglio2!J64, NA())","v":{"$error":"#N/A"}},{"$error":"#N/A"},523,6.2595814640649232,{"$f":" IF(Foglio1!$C$12 <> \"\", 8.314472*Foglio1!$C$12*Foglio2!N64, NA())","v":{"$error":"#N/A"}},{"$error":"#N/A"},523,6.2595814640649232,{"$f":" IF(Foglio1!$C$13 <> \"\", 8.314472*Foglio1!$C$13*Foglio2!R64, NA())","v":{"$error":"#N/A"}},{"$error":"#N/A"}]
[532,6.2766434893416445,{"$f":" IF(Foglio1!$C$9 <> \"\", 8.314472*Foglio1!$C$9*Foglio2!B65, NA())","v":{"$error":"#N/A"}},{"$error":"#N/A"},532,6.2766434893416445,{"$f":" IF(Foglio1!$C$10 <> \"\", 8.314472*Foglio1!$C$10*Foglio2!F65, NA())","v":{"$error":"#N/A"}},{"$error":"#N/A"},532,6.2766434893416445,{"$f":" IF(Foglio1!$C$11 <> \"\", 8.314472*Foglio1!$C$11*Foglio2!J65, NA())","v":{"$error":"#N/A"}},{"$error":"#N/A"},532,6.2766434893416445,{"$f":" IF(Foglio1!$C$12 <> \"\", 8.314472*Foglio1!$C$12*Foglio2!N65, NA())","v":{"$error":"#N/A"}},{"$error":"#N/A"},532,6.2766434893416445,{"$f":" IF(Foglio1!$C$13 <> \"\", 8.314472*Foglio1!$C$13*Foglio2!R65, NA())","v":{"$error":"#N/A"}},{"$error":"#N/A"}]
[541,6.2934192788464811,{"$f":" IF(Foglio1!$C$9 <> \"\", 8.314472*Foglio1!$C$9*Foglio2!B66, NA())","v":{"$error":"#N/A"}},{"$error":"#N/A"},541,6.2934192788464811,{"$f":" IF(Foglio1!$C$10 <> \"\", 8.314472*Foglio1!$C$10*Foglio2!F66, NA())","v":{"$error":"#N/A"}},{"$error":"#N/A"},541,6.2934192788464811,{"$f":" IF(Foglio1!$C$11 <> \"\", 8.314472*Foglio1!$C$11*Foglio2!J66, NA())","v":{"$error":"#N/A"}},{"$error":"#N/A"},541,6.2934192788464811,{"$f":" IF(Foglio1!$C$12 <> \"\", 8.314472*Foglio1!$C$12*Foglio2!N66, NA())","v":{"$error":"#N/A"}},{"$error":"#N/A"},541,6.2934192788464811,{"$f":" IF(Foglio1!$C$13 <> \"\", 8.314472*Foglio1!$C$13*Foglio2!R66, NA())","v":{"$error":"#N/A"}},{"$error":"#N/A"}]
[550,{"$f":"LN(A67)","v":6.3099182782265162},{"$f":" IF(Foglio1!$C$9 <> \"\", 8.314472*Foglio1!$C$9*Foglio2!B67, NA())","v":{"$error":"#N/A"}},{"$f":"  -30.5 + C67*10^-3","v":{"$error":"#N/A"}},550,{"$f":"LN(E67)","v":6.3099182782265162},{"$f":" IF(Foglio1!$C$10 <> \"\", 8.314472*Foglio1!$C$10*Foglio2!F67, NA())","v":{"$error":"#N/A"}},{"$f":" -30.5+ G67*10^-3","v":{"$error":"#N/A"}},550,{"$f":"LN(I67)","v":6.3099182782265162},{"$f":" IF(Foglio1!$C$11 <> \"\", 8.314472*Foglio1!$C$11*Foglio2!J67, NA())","v":{"$error":"#N/A"}},{"$f":" -30.5+ K67*10^-3","v":{"$error":"#N/A"}},550,{"$f":"LN(M67)","v":6.3099182782265162},{"$f":" IF(Foglio1!$C$12 <> \"\", 8.314472*Foglio1!$C$12*Foglio2!N67, NA())","v":{"$error":"#N/A"}},{"$f":" -30.5+ O67*10^-3","v":{"$error":"#N/A"}},550,{"$f":"LN(Q67)","v":6.3099182782265162},{"$f":" IF(Foglio1!$C$13 <> \"\", 8.314472*Foglio1!$C$13*Foglio2!R67, NA())","v":{"$error":"#N/A"}},{"$f":" -30.5+S67*10^-3","v":{"$error":"#N/A"}}]
[559,6.3261494731550991,{"$f":" IF(Foglio1!$C$9 <> \"\", 8.314472*Foglio1!$C$9*Foglio2!B68, NA())","v":{"$error":"#N/A"}},{"$error":"#N/A"},559,6.3261494731550991,{"$f":" IF(Foglio1!$C$10 <> \"\", 8.314472*Foglio1!$C$10*Foglio2!F68, NA())","v":{"$error":"#N/A"}},{"$error":"#N/A"},559,6.3261494731550991,{"$f":" IF(Foglio1!$C$11 <> \"\", 8.314472*Foglio1!$C$11*Foglio2!J68, NA())","v":{"$error":"#N/A"}},{"$error":"#N/A"},559,6.3261494731550991,{"$f":" IF(Foglio1!$C$12 <> \"\", 8.314472*Foglio1!$C$12*Foglio2!N68, NA())","v":{"$error":"#N/A"}},{"$error":"#N/A"},559,6.3261494731550991,{"$f":" IF(Foglio1!$C$13 <> \"\", 8.314472*Foglio1!$C$13*Foglio2!R68, NA())","v":{"$error":"#N/A"}},{"$error":"#N/A"}]
[568,6.3421214187211516,{"$f":" IF(Foglio1!$C$9 <> \"\", 8.314472*Foglio1!$C$9*Foglio2!B69, NA())","v":{"$error":"#N/A"}},{"$error":"#N/A"},568,6.3421214187211516,{"$f":" IF(Foglio1!$C$10 <> \"\", 8.314472*Foglio1!$C$10*Foglio2!F69, NA())","v":{"$error":"#N/A"}},{"$error":"#N/A"},568,6.3421214187211516,{"$f":" IF(Foglio1!$C$11 <> \"\", 8.314472*Foglio1!$C$11*Foglio2!J69, NA())","v":{"$error":"#N/A"}},{"$error":"#N/A"},568,6.3421214187211516,{"$f":" IF(Foglio1!$C$12 <> \"\", 8.314472*Foglio1!$C$12*Foglio2!N69, NA())","v":{"$error":"#N/A"}},{"$error":"#N/A"},568,6.3421214187211516,{"$f":" IF(Foglio1!$C$13 <> \"\", 8.314472*Foglio1!$C$13*Foglio2!R69, NA())","v":{"$error":"#N/A"}},{"$error":"#N/A"}]
[577,6.3578422665080998,{"$f":" IF(Foglio1!$C$9 <> \"\", 8.314472*Foglio1!$C$9*Foglio2!B70, NA())","v":{"$error":"#N/A"}},{"$error":"#N/A"},577,6.3578422665080998,{"$f":" IF(Foglio1!$C$10 <> \"\", 8.314472*Foglio1!$C$10*Foglio2!F70, NA())","v":{"$error":"#N/A"}},{"$error":"#N/A"},577,6.3578422665080998,{"$f":" IF(Foglio1!$C$11 <> \"\", 8.314472*Foglio1!$C$11*Foglio2!J70, NA())","v":{"$error":"#N/A"}},{"$error":"#N/A"},577,6.3578422665080998,{"$f":" IF(Foglio1!$C$12 <> \"\", 8.314472*Foglio1!$C$12*Foglio2!N70, NA())","v":{"$error":"#N/A"}},{"$error":"#N/A"},577,6.3578422665080998,{"$f":" IF(Foglio1!$C$13 <> \"\", 8.314472*Foglio1!$C$13*Foglio2!R70, NA())","v":{"$error":"#N/A"}},{"$error":"#N/A"}]
[586,6.3733197895770122,{"$f":" IF(Foglio1!$C$9 <> \"\", 8.314472*Foglio1!$C$9*Foglio2!B71, NA())","v":{"$error":"#N/A"}},{"$error":"#N/A"},586,6.3733197895770122,{"$f":" IF(Foglio1!$C$10 <> \"\", 8.314472*Foglio1!$C$10*Foglio2!F71, NA())","v":{"$error":"#N/A"}},{"$error":"#N/A"},586,6.3733197895770122,{"$f":" IF(Foglio1!$C$11 <> \"\", 8.314472*Foglio1!$C$11*Foglio2!J71, NA())","v":{"$error":"#N/A"}},{"$error":"#N/A"},586,6.3733197895770122,{"$f":" IF(Foglio1!$C$12 <> \"\", 8.314472*Foglio1!$C$12*Foglio2!N71, NA())","v":{"$error":"#N/A"}},{"$error":"#N/A"},586,6.3733197895770122,{"$f":" IF(Foglio1!$C$13 <> \"\", 8.314472*Foglio1!$C$13*Foglio2!R71, NA())","v":{"$error":"#N/A"}},{"$error":"#N/A"}]
[595,6.3885614055456301,{"$f":" IF(Foglio1!$C$9 <> \"\", 8.314472*Foglio1!$C$9*Foglio2!B72, NA())","v":{"$error":"#N/A"}},{"$error":"#N/A"},595,6.3885614055456301,{"$f":" IF(Foglio1!$C$10 <> \"\", 8.314472*Foglio1!$C$10*Foglio2!F72, NA())","v":{"$error":"#N/A"}},{"$error":"#N/A"},595,6.3885614055456301,{"$f":" IF(Foglio1!$C$11 <> \"\", 8.314472*Foglio1!$C$11*Foglio2!J72, NA())","v":{"$error":"#N/A"}},{"$error":"#N/A"},595,6.3885614055456301,{"$f":" IF(Foglio1!$C$12 <> \"\", 8.314472*Foglio1!$C$12*Foglio2!N72, NA())","v":{"$error":"#N/A"}},{"$error":"#N/A"},595,6.3885614055456301,{"$f":" IF(Foglio1!$C$13 <> \"\", 8.314472*Foglio1!$C$13*Foglio2!R72, NA())","v":{"$error":"#N/A"}},{"$error":"#N/A"}]
[604,6.4035741979348151,{"$f":" IF(Foglio1!$C$9 <> \"\", 8.314472*Foglio1!$C$9*Foglio2!B73, NA())","v":{"$error":"#N/A"}},{"$error":"#N/A"},604,6.4035741979348151,{"$f":" IF(Foglio1!$C$10 <> \"\", 8.314472*Foglio1!$C$10*Foglio2!F73, NA())","v":{"$error":"#N/A"}},{"$error":"#N/A"},604,6.4035741979348151,{"$f":" IF(Foglio1!$C$11 <> \"\", 8.314472*Foglio1!$C$11*Foglio2!J73, NA())","v":{"$error":"#N/A"}},{"$error":"#N/A"},604,6.4035741979348151,{"$f":" IF(Foglio1!$C$12 <> \"\", 8.314472*Foglio1!$C$12*Foglio2!N73, NA())","v":{"$error":"#N/A"}},{"$error":"#N/A"},604,6.4035741979348151,{"$f":" IF(Foglio1!$C$13 <> \"\", 8.314472*Foglio1!$C$13*Foglio2!R73, NA())","v":{"$error":"#N/A"}},{"$error":"#N/A"}]
[613,6.4183649359362116,{"$f":" IF(Foglio1!$C$9 <> \"\", 8.314472*Foglio1!$C$9*Foglio2!B74, NA())","v":{"$error":"#N/A"}},{"$error":"#N/A"},613,6.4183649359362116,{"$f":" IF(Foglio1!$C$10 <> \"\", 8.314472*Foglio1!$C$10*Foglio2!F74, NA())","v":{"$error":"#N/A"}},{"$error":"#N/A"},613,6.4183649359362116,{"$f":" IF(Foglio1!$C$11 <> \"\", 8.314472*Foglio1!$C$11*Foglio2!J74, NA())","v":{"$error":"#N/A"}},{"$error":"#N/A"},613,6.4183649359362116,{"$f":" IF(Foglio1!$C$12 <> \"\", 8.314472*Foglio1!$C$12*Foglio2!N74, NA())","v":{"$error":"#N/A"}},{"$error":"#N/A"},613,6.4183649359362116,{"$f":" IF(Foglio1!$C$13 <> \"\", 8.314472*Foglio1!$C$13*Foglio2!R74, NA())","v":{"$error":"#N/A"}},{"$error":"#N/A"}]
[622,6.4329400927391793,{"$f":" IF(Foglio1!$C$9 <> \"\", 8.314472*Foglio1!$C$9*Foglio2!B75, NA())","v":{"$error":"#N/A"}},{"$error":"#N/A"},622,6.4329400927391793,{"$f":" IF(Foglio1!$C$10 <> \"\", 8.314472*Foglio1!$C$10*Foglio2!F75, NA())","v":{"$error":"#N/A"}},{"$error":"#N/A"},622,6.4329400927391793,{"$f":" IF(Foglio1!$C$11 <> \"\", 8.314472*Foglio1!$C$11*Foglio2!J75, NA())","v":{"$error":"#N/A"}},{"$error":"#N/A"},622,6.4329400927391793,{"$f":" IF(Foglio1!$C$12 <> \"\", 8.314472*Foglio1!$C$12*Foglio2!N75, NA())","v":{"$error":"#N/A"}},{"$error":"#N/A"},622,6.4329400927391793,{"$f":" IF(Foglio1!$C$13 <> \"\", 8.314472*Foglio1!$C$13*Foglio2!R75, NA())","v":{"$error":"#N/A"}},{"$error":"#N/A"}]
[631,6.4473058625412127,{"$f":" IF(Foglio1!$C$9 <> \"\", 8.314472*Foglio1!$C$9*Foglio2!B76, NA())","v":{"$error":"#N/A"}},{"$error":"#N/A"},631,6.4473058625412127,{"$f":" IF(Foglio1!$C$10 <> \"\", 8.314472*Foglio1!$C$10*Foglio2!F76, NA())","v":{"$error":"#N/A"}},{"$error":"#N/A"},631,6.4473058625412127,{"$f":" IF(Foglio1!$C$11 <> \"\", 8.314472*Foglio1!$C$11*Foglio2!J76, NA())","v":{"$error":"#N/A"}},{"$error":"#N/A"},631,6.4473058625412127,{"$f":" IF(Foglio1!$C$12 <> \"\", 8.314472*Foglio1!$C$12*Foglio2!N76, NA())","v":{"$error":"#N/A"}},{"$error":"#N/A"},631,6.4473058625412127,{"$f":" IF(Foglio1!$C$13 <> \"\", 8.314472*Foglio1!$C$13*Foglio2!R76, NA())","v":{"$error":"#N/A"}},{"$error":"#N/A"}]
[640,6.4614681763537174,{"$f":" IF(Foglio1!$C$9 <> \"\", 8.314472*Foglio1!$C$9*Foglio2!B77, NA())","v":{"$error":"#N/A"}},{"$error":"#N/A"},640,6.4614681763537174,{"$f":" IF(Foglio1!$C$10 <> \"\", 8.314472*Foglio1!$C$10*Foglio2!F77, NA())","v":{"$error":"#N/A"}},{"$error":"#N/A"},640,6.4614681763537174,{"$f":" IF(Foglio1!$C$11 <> \"\", 8.314472*Foglio1!$C$11*Foglio2!J77, NA())","v":{"$error":"#N/A"}},{"$error":"#N/A"},640,6.4614681763537174,{"$f":" IF(Foglio1!$C$12 <> \"\", 8.314472*Foglio1!$C$12*Foglio2!N77, NA())","v":{"$error":"#N/A"}},{"$error":"#N/A"},640,6.4614681763537174,{"$f":" IF(Foglio1!$C$13 <> \"\", 8.314472*Foglio1!$C$13*Foglio2!R77, NA())","v":{"$error":"#N/A"}},{"$error":"#N/A"}]
[649,6.4754327167040904,{"$f":" IF(Foglio1!$C$9 <> \"\", 8.314472*Foglio1!$C$9*Foglio2!B78, NA())","v":{"$error":"#N/A"}},{"$error":"#N/A"},649,6.4754327167040904,{"$f":" IF(Foglio1!$C$10 <> \"\", 8.314472*Foglio1!$C$10*Foglio2!F78, NA())","v":{"$error":"#N/A"}},{"$error":"#N/A"},649,6.4754327167040904,{"$f":" IF(Foglio1!$C$11 <> \"\", 8.314472*Foglio1!$C$11*Foglio2!J78, NA())","v":{"$error":"#N/A"}},{"$error":"#N/A"},649,6.4754327167040904,{"$f":" IF(Foglio1!$C$12 <> \"\", 8.314472*Foglio1!$C$12*Foglio2!N78, NA())","v":{"$error":"#N/A"}},{"$error":"#N/A"},649,6.4754327167040904,{"$f":" IF(Foglio1!$C$13 <> \"\", 8.314472*Foglio1!$C$13*Foglio2!R78, NA())","v":{"$error":"#N/A"}},{"$error":"#N/A"}]
[658,6.4892049313253173,{"$f":" IF(Foglio1!$C$9 <> \"\", 8.314472*Foglio1!$C$9*Foglio2!B79, NA())","v":{"$error":"#N/A"}},{"$error":"#N/A"},658,6.4892049313253173,{"$f":" IF(Foglio1!$C$10 <> \"\", 8.314472*Foglio1!$C$10*Foglio2!F79, NA())","v":{"$error":"#N/A"}},{"$error":"#N/A"},658,6.4892049313253173,{"$f":" IF(Foglio1!$C$11 <> \"\", 8.314472*Foglio1!$C$11*Foglio2!J79, NA())","v":{"$error":"#N/A"}},{"$error":"#N/A"},658,6.4892049313253173,{"$f":" IF(Foglio1!$C$12 <> \"\", 8.314472*Foglio1!$C$12*Foglio2!N79, NA())","v":{"$error":"#N/A"}},{"$error":"#N/A"},658,6.4892049313253173,{"$f":" IF(Foglio1!$C$13 <> \"\", 8.314472*Foglio1!$C$13*Foglio2!R79, NA())","v":{"$error":"#N/A"}},{"$error":"#N/A"}]
[667,6.5027900459156234,{"$f":" IF(Foglio1!$C$9 <> \"\", 8.314472*Foglio1!$C$9*Foglio2!B80, NA())","v":{"$error":"#N/A"}},{"$error":"#N/A"},667,6.5027900459156234,{"$f":" IF(Foglio1!$C$10 <> \"\", 8.314472*Foglio1!$C$10*Foglio2!F80, NA())","v":{"$error":"#N/A"}},{"$error":"#N/A"},667,6.5027900459156234,{"$f":" IF(Foglio1!$C$11 <> \"\", 8.314472*Foglio1!$C$11*Foglio2!J80, NA())","v":{"$error":"#N/A"}},{"$error":"#N/A"},667,6.5027900459156234,{"$f":" IF(Foglio1!$C$12 <> \"\", 8.314472*Foglio1!$C$12*Foglio2!N80, NA())","v":{"$error":"#N/A"}},{"$error":"#N/A"},667,6.5027900459156234,{"$f":" IF(Foglio1!$C$13 <> \"\", 8.314472*Foglio1!$C$13*Foglio2!R80, NA())","v":{"$error":"#N/A"}},{"$error":"#N/A"}]
[676,6.5161930760429643,{"$f":" IF(Foglio1!$C$9 <> \"\", 8.314472*Foglio1!$C$9*Foglio2!B81, NA())","v":{"$error":"#N/A"}},{"$error":"#N/A"},676,6.5161930760429643,{"$f":" IF(Foglio1!$C$10 <> \"\", 8.314472*Foglio1!$C$10*Foglio2!F81, NA())","v":{"$error":"#N/A"}},{"$error":"#N/A"},676,6.5161930760429643,{"$f":" IF(Foglio1!$C$11 <> \"\", 8.314472*Foglio1!$C$11*Foglio2!J81, NA())","v":{"$error":"#N/A"}},{"$error":"#N/A"},676,6.5161930760429643,{"$f":" IF(Foglio1!$C$12 <> \"\", 8.314472*Foglio1!$C$12*Foglio2!N81, NA())","v":{"$error":"#N/A"}},{"$error":"#N/A"},676,6.5161930760429643,{"$f":" IF(Foglio1!$C$13 <> \"\", 8.314472*Foglio1!$C$13*Foglio2!R81, NA())","v":{"$error":"#N/A"}},{"$error":"#N/A"}]
[685,6.5294188382622256,{"$f":" IF(Foglio1!$C$9 <> \"\", 8.314472*Foglio1!$C$9*Foglio2!B82, NA())","v":{"$error":"#N/A"}},{"$error":"#N/A"},685,6.5294188382622256,{"$f":" IF(Foglio1!$C$10 <> \"\", 8.314472*Foglio1!$C$10*Foglio2!F82, NA())","v":{"$error":"#N/A"}},{"$error":"#N/A"},685,6.5294188382622256,{"$f":" IF(Foglio1!$C$11 <> \"\", 8.314472*Foglio1!$C$11*Foglio2!J82, NA())","v":{"$error":"#N/A"}},{"$error":"#N/A"},685,6.5294188382622256,{"$f":" IF(Foglio1!$C$12 <> \"\", 8.314472*Foglio1!$C$12*Foglio2!N82, NA())","v":{"$error":"#N/A"}},{"$error":"#N/A"},685,6.5294188382622256,{"$f":" IF(Foglio1!$C$13 <> \"\", 8.314472*Foglio1!$C$13*Foglio2!R82, NA())","v":{"$error":"#N/A"}},{"$error":"#N/A"}]
[694,6.5424719605068047,{"$f":" IF(Foglio1!$C$9 <> \"\", 8.314472*Foglio1!$C$9*Foglio2!B83, NA())","v":{"$error":"#N/A"}},{"$error":"#N/A"},694,6.5424719605068047,{"$f":" IF(Foglio1!$C$10 <> \"\", 8.314472*Foglio1!$C$10*Foglio2!F83, NA())","v":{"$error":"#N/A"}},{"$error":"#N/A"},694,6.5424719605068047,{"$f":" IF(Foglio1!$C$11 <> \"\", 8.314472*Foglio1!$C$11*Foglio2!J83, NA())","v":{"$error":"#N/A"}},{"$error":"#N/A"},694,6.5424719605068047,{"$f":" IF(Foglio1!$C$12 <> \"\", 8.314472*Foglio1!$C$12*Foglio2!N83, NA())","v":{"$error":"#N/A"}},{"$error":"#N/A"},694,6.5424719605068047,{"$f":" IF(Foglio1!$C$13 <> \"\", 8.314472*Foglio1!$C$13*Foglio2!R83, NA())","v":{"$error":"#N/A"}},{"$error":"#N/A"}]
[703,6.5553568918106651,{"$f":" IF(Foglio1!$C$9 <> \"\", 8.314472*Foglio1!$C$9*Foglio2!B84, NA())","v":{"$error":"#N/A"}},{"$error":"#N/A"},703,6.5553568918106651,{"$f":" IF(Foglio1!$C$10 <> \"\", 8.314472*Foglio1!$C$10*Foglio2!F84, NA())","v":{"$error":"#N/A"}},{"$error":"#N/A"},703,6.5553568918106651,{"$f":" IF(Foglio1!$C$11 <> \"\", 8.314472*Foglio1!$C$11*Foglio2!J84, NA())","v":{"$error":"#N/A"}},{"$error":"#N/A"},703,6.5553568918106651,{"$f":" IF(Foglio1!$C$12 <> \"\", 8.314472*Foglio1!$C$12*Foglio2!N84, NA())","v":{"$error":"#N/A"}},{"$error":"#N/A"},703,6.5553568918106651,{"$f":" IF(Foglio1!$C$13 <> \"\", 8.314472*Foglio1!$C$13*Foglio2!R84, NA())","v":{"$error":"#N/A"}},{"$error":"#N/A"}]
[712,6.5680779114119758,{"$f":" IF(Foglio1!$C$9 <> \"\", 8.314472*Foglio1!$C$9*Foglio2!B85, NA())","v":{"$error":"#N/A"}},{"$error":"#N/A"},712,6.5680779114119758,{"$f":" IF(Foglio1!$C$10 <> \"\", 8.314472*Foglio1!$C$10*Foglio2!F85, NA())","v":{"$error":"#N/A"}},{"$error":"#N/A"},712,6.5680779114119758,{"$f":" IF(Foglio1!$C$11 <> \"\", 8.314472*Foglio1!$C$11*Foglio2!J85, NA())","v":{"$error":"#N/A"}},{"$error":"#N/A"},712,6.5680779114119758,{"$f":" IF(Foglio1!$C$12 <> \"\", 8.314472*Foglio1!$C$12*Foglio2!N85, NA())","v":{"$error":"#N/A"}},{"$error":"#N/A"},712,6.5680779114119758,{"$f":" IF(Foglio1!$C$13 <> \"\", 8.314472*Foglio1!$C$13*Foglio2!R85, NA())","v":{"$error":"#N/A"}},{"$error":"#N/A"}]
[721,6.5806391372849493,{"$f":" IF(Foglio1!$C$9 <> \"\", 8.314472*Foglio1!$C$9*Foglio2!B86, NA())","v":{"$error":"#N/A"}},{"$error":"#N/A"},721,6.5806391372849493,{"$f":" IF(Foglio1!$C$10 <> \"\", 8.314472*Foglio1!$C$10*Foglio2!F86, NA())","v":{"$error":"#N/A"}},{"$error":"#N/A"},721,6.5806391372849493,{"$f":" IF(Foglio1!$C$11 <> \"\", 8.314472*Foglio1!$C$11*Foglio2!J86, NA())","v":{"$error":"#N/A"}},{"$error":"#N/A"},721,6.5806391372849493,{"$f":" IF(Foglio1!$C$12 <> \"\", 8.314472*Foglio1!$C$12*Foglio2!N86, NA())","v":{"$error":"#N/A"}},{"$error":"#N/A"},721,6.5806391372849493,{"$f":" IF(Foglio1!$C$13 <> \"\", 8.314472*Foglio1!$C$13*Foglio2!R86, NA())","v":{"$error":"#N/A"}},{"$error":"#N/A"}]
[730,6.5930445341424369,{"$f":" IF(Foglio1!$C$9 <> \"\", 8.314472*Foglio1!$C$9*Foglio2!B87, NA())","v":{"$error":"#N/A"}},{"$error":"#N/A"},730,6.5930445341424369,{"$f":" IF(Foglio1!$C$10 <> \"\", 8.314472*Foglio1!$C$10*Foglio2!F87, NA())","v":{"$error":"#N/A"}},{"$error":"#N/A"},730,6.5930445341424369,{"$f":" IF(Foglio1!$C$11 <> \"\", 8.314472*Foglio1!$C$11*Foglio2!J87, NA())","v":{"$error":"#N/A"}},{"$error":"#N/A"},730,6.5930445341424369,{"$f":" IF(Foglio1!$C$12 <> \"\", 8.314472*Foglio1!$C$12*Foglio2!N87, NA())","v":{"$error":"#N/A"}},{"$error":"#N/A"},730,6.5930445341424369,{"$f":" IF(Foglio1!$C$13 <> \"\", 8.314472*Foglio1!$C$13*Foglio2!R87, NA())","v":{"$error":"#N/A"}},{"$error":"#N/A"}]
[739,6.6052979209482015,{"$f":" IF(Foglio1!$C$9 <> \"\", 8.314472*Foglio1!$C$9*Foglio2!B88, NA())","v":{"$error":"#N/A"}},{"$error":"#N/A"},739,6.6052979209482015,{"$f":" IF(Foglio1!$C$10 <> \"\", 8.314472*Foglio1!$C$10*Foglio2!F88, NA())","v":{"$error":"#N/A"}},{"$error":"#N/A"},739,6.6052979209482015,{"$f":" IF(Foglio1!$C$11 <> \"\", 8.314472*Foglio1!$C$11*Foglio2!J88, NA())","v":{"$error":"#N/A"}},{"$error":"#N/A"},739,6.6052979209482015,{"$f":" IF(Foglio1!$C$12 <> \"\", 8.314472*Foglio1!$C$12*Foglio2!N88, NA())","v":{"$error":"#N/A"}},{"$error":"#N/A"},739,6.6052979209482015,{"$f":" IF(Foglio1!$C$13 <> \"\", 8.314472*Foglio1!$C$13*Foglio2!R88, NA())","v":{"$error":"#N/A"}},{"$error":"#N/A"}]
[748,6.6174029779744776,{"$f":" IF(Foglio1!$C$9 <> \"\", 8.314472*Foglio1!$C$9*Foglio2!B89, NA())","v":{"$error":"#N/A"}},{"$error":"#N/A"},748,6.6174029779744776,{"$f":" IF(Foglio1!$C$10 <> \"\", 8.314472*Foglio1!$C$10*Foglio2!F89, NA())","v":{"$error":"#N/A"}},{"$error":"#N/A"},748,6.6174029779744776,{"$f":" IF(Foglio1!$C$11 <> \"\", 8.314472*Foglio1!$C$11*Foglio2!J89, NA())","v":{"$error":"#N/A"}},{"$error":"#N/A"},748,6.6174029779744776,{"$f":" IF(Foglio1!$C$12 <> \"\", 8.314472*Foglio1!$C$12*Foglio2!N89, NA())","v":{"$error":"#N/A"}},{"$error":"#N/A"},748,6.6174029779744776,{"$f":" IF(Foglio1!$C$13 <> \"\", 8.314472*Foglio1!$C$13*Foglio2!R89, NA())","v":{"$error":"#N/A"}},{"$error":"#N/A"}]
[757,6.6293632534374485,{"$f":" IF(Foglio1!$C$9 <> \"\", 8.314472*Foglio1!$C$9*Foglio2!B90, NA())","v":{"$error":"#N/A"}},{"$error":"#N/A"},757,6.6293632534374485,{"$f":" IF(Foglio1!$C$10 <> \"\", 8.314472*Foglio1!$C$10*Foglio2!F90, NA())","v":{"$error":"#N/A"}},{"$error":"#N/A"},757,6.6293632534374485,{"$f":" IF(Foglio1!$C$11 <> \"\", 8.314472*Foglio1!$C$11*Foglio2!J90, NA())","v":{"$error":"#N/A"}},{"$error":"#N/A"},757,6.6293632534374485,{"$f":" IF(Foglio1!$C$12 <> \"\", 8.314472*Foglio1!$C$12*Foglio2!N90, NA())","v":{"$error":"#N/A"}},{"$error":"#N/A"},757,6.6293632534374485,{"$f":" IF(Foglio1!$C$13 <> \"\", 8.314472*Foglio1!$C$13*Foglio2!R90, NA())","v":{"$error":"#N/A"}},{"$error":"#N/A"}]
[766,6.6411821697405911,{"$f":" IF(Foglio1!$C$9 <> \"\", 8.314472*Foglio1!$C$9*Foglio2!B91, NA())","v":{"$error":"#N/A"}},{"$error":"#N/A"},766,6.6411821697405911,{"$f":" IF(Foglio1!$C$10 <> \"\", 8.314472*Foglio1!$C$10*Foglio2!F91, NA())","v":{"$error":"#N/A"}},{"$error":"#N/A"},766,6.6411821697405911,{"$f":" IF(Foglio1!$C$11 <> \"\", 8.314472*Foglio1!$C$11*Foglio2!J91, NA())","v":{"$error":"#N/A"}},{"$error":"#N/A"},766,6.6411821697405911,{"$f":" IF(Foglio1!$C$12 <> \"\", 8.314472*Foglio1!$C$12*Foglio2!N91, NA())","v":{"$error":"#N/A"}},{"$error":"#N/A"},766,6.6411821697405911,{"$f":" IF(Foglio1!$C$13 <> \"\", 8.314472*Foglio1!$C$13*Foglio2!R91, NA())","v":{"$error":"#N/A"}},{"$error":"#N/A"}]
[775,6.6528630293533473,{"$f":" IF(Foglio1!$C$9 <> \"\", 8.314472*Foglio1!$C$9*Foglio2!B92, NA())","v":{"$error":"#N/A"}},{"$error":"#N/A"},775,6.6528630293533473,{"$f":" IF(Foglio1!$C$10 <> \"\", 8.314472*Foglio1!$C$10*Foglio2!F92, NA())","v":{"$error":"#N/A"}},{"$error":"#N/A"},775,6.6528630293533473,{"$f":" IF(Foglio1!$C$11 <> \"\", 8.314472*Foglio1!$C$11*Foglio2!J92, NA())","v":{"$error":"#N/A"}},{"$error":"#N/A"},775,6.6528630293533473,{"$f":" IF(Foglio1!$C$12 <> \"\", 8.314472*Foglio1!$C$12*Foglio2!N92, NA())","v":{"$error":"#N/A"}},{"$error":"#N/A"},775,6.6528630293533473,{"$f":" IF(Foglio1!$C$13 <> \"\", 8.314472*Foglio1!$C$13*Foglio2!R92, NA())","v":{"$error":"#N/A"}},{"$error":"#N/A"}]
[784,6.6644090203504076,{"$f":" IF(Foglio1!$C$9 <> \"\", 8.314472*Foglio1!$C$9*Foglio2!B93, NA())","v":{"$error":"#N/A"}},{"$error":"#N/A"},784,6.6644090203504076,{"$f":" IF(Foglio1!$C$10 <> \"\", 8.314472*Foglio1!$C$10*Foglio2!F93, NA())","v":{"$error":"#N/A"}},{"$error":"#N/A"},784,6.6644090203504076,{"$f":" IF(Foglio1!$C$11 <> \"\", 8.314472*Foglio1!$C$11*Foglio2!J93, NA())","v":{"$error":"#N/A"}},{"$error":"#N/A"},784,6.6644090203504076,{"$f":" IF(Foglio1!$C$12 <> \"\", 8.314472*Foglio1!$C$12*Foglio2!N93, NA())","v":{"$error":"#N/A"}},{"$error":"#N/A"},784,6.6644090203504076,{"$f":" IF(Foglio1!$C$13 <> \"\", 8.314472*Foglio1!$C$13*Foglio2!R93, NA())","v":{"$error":"#N/A"}},{"$error":"#N/A"}]
[793,6.6758232216348476,{"$f":" IF(Foglio1!$C$9 <> \"\", 8.314472*Foglio1!$C$9*Foglio2!B94, NA())","v":{"$error":"#N/A"}},{"$error":"#N/A"},793,6.6758232216348476,{"$f":" IF(Foglio1!$C$10 <> \"\", 8.314472*Foglio1!$C$10*Foglio2!F94, NA())","v":{"$error":"#N/A"}},{"$error":"#N/A"},793,6.6758232216348476,{"$f":" IF(Foglio1!$C$11 <> \"\", 8.314472*Foglio1!$C$11*Foglio2!J94, NA())","v":{"$error":"#N/A"}},{"$error":"#N/A"},793,6.6758232216348476,{"$f":" IF(Foglio1!$C$12 <> \"\", 8.314472*Foglio1!$C$12*Foglio2!N94, NA())","v":{"$error":"#N/A"}},{"$error":"#N/A"},793,6.6758232216348476,{"$f":" IF(Foglio1!$C$13 <> \"\", 8.314472*Foglio1!$C$13*Foglio2!R94, NA())","v":{"$error":"#N/A"}},{"$error":"#N/A"}]
[802,6.6871086078665147,{"$f":" IF(Foglio1!$C$9 <> \"\", 8.314472*Foglio1!$C$9*Foglio2!B95, NA())","v":{"$error":"#N/A"}},{"$error":"#N/A"},802,6.6871086078665147,{"$f":" IF(Foglio1!$C$10 <> \"\", 8.314472*Foglio1!$C$10*Foglio2!F95, NA())","v":{"$error":"#N/A"}},{"$error":"#N/A"},802,6.6871086078665147,{"$f":" IF(Foglio1!$C$11 <> \"\", 8.314472*Foglio1!$C$11*Foglio2!J95, NA())","v":{"$error":"#N/A"}},{"$error":"#N/A"},802,6.6871086078665147,{"$f":" IF(Foglio1!$C$12 <> \"\", 8.314472*Foglio1!$C$12*Foglio2!N95, NA())","v":{"$error":"#N/A"}},{"$error":"#N/A"},802,6.6871086078665147,{"$f":" IF(Foglio1!$C$13 <> \"\", 8.314472*Foglio1!$C$13*Foglio2!R95, NA())","v":{"$error":"#N/A"}},{"$error":"#N/A"}]
[811,6.6982680541154132,{"$f":" IF(Foglio1!$C$9 <> \"\", 8.314472*Foglio1!$C$9*Foglio2!B96, NA())","v":{"$error":"#N/A"}},{"$error":"#N/A"},811,6.6982680541154132,{"$f":" IF(Foglio1!$C$10 <> \"\", 8.314472*Foglio1!$C$10*Foglio2!F96, NA())","v":{"$error":"#N/A"}},{"$error":"#N/A"},811,6.6982680541154132,{"$f":" IF(Foglio1!$C$11 <> \"\", 8.314472*Foglio1!$C$11*Foglio2!J96, NA())","v":{"$error":"#N/A"}},{"$error":"#N/A"},811,6.6982680541154132,{"$f":" IF(Foglio1!$C$12 <> \"\", 8.314472*Foglio1!$C$12*Foglio2!N96, NA())","v":{"$error":"#N/A"}},{"$error":"#N/A"},811,6.6982680541154132,{"$f":" IF(Foglio1!$C$13 <> \"\", 8.314472*Foglio1!$C$13*Foglio2!R96, NA())","v":{"$error":"#N/A"}},{"$error":"#N/A"}]
[820,6.7093043402582984,{"$f":" IF(Foglio1!$C$9 <> \"\", 8.314472*Foglio1!$C$9*Foglio2!B97, NA())","v":{"$error":"#N/A"}},{"$error":"#N/A"},820,6.7093043402582984,{"$f":" IF(Foglio1!$C$10 <> \"\", 8.314472*Foglio1!$C$10*Foglio2!F97, NA())","v":{"$error":"#N/A"}},{"$error":"#N/A"},820,6.7093043402582984,{"$f":" IF(Foglio1!$C$11 <> \"\", 8.314472*Foglio1!$C$11*Foglio2!J97, NA())","v":{"$error":"#N/A"}},{"$error":"#N/A"},820,6.7093043402582984,{"$f":" IF(Foglio1!$C$12 <> \"\", 8.314472*Foglio1!$C$12*Foglio2!N97, NA())","v":{"$error":"#N/A"}},{"$error":"#N/A"},820,6.7093043402582984,{"$f":" IF(Foglio1!$C$13 <> \"\", 8.314472*Foglio1!$C$13*Foglio2!R97, NA())","v":{"$error":"#N/A"}},{"$error":"#N/A"}]
[829,6.7202201551352951,{"$f":" IF(Foglio1!$C$9 <> \"\", 8.314472*Foglio1!$C$9*Foglio2!B98, NA())","v":{"$error":"#N/A"}},{"$error":"#N/A"},829,6.7202201551352951,{"$f":" IF(Foglio1!$C$10 <> \"\", 8.314472*Foglio1!$C$10*Foglio2!F98, NA())","v":{"$error":"#N/A"}},{"$error":"#N/A"},829,6.7202201551352951,{"$f":" IF(Foglio1!$C$11 <> \"\", 8.314472*Foglio1!$C$11*Foglio2!J98, NA())","v":{"$error":"#N/A"}},{"$error":"#N/A"},829,6.7202201551352951,{"$f":" IF(Foglio1!$C$12 <> \"\", 8.314472*Foglio1!$C$12*Foglio2!N98, NA())","v":{"$error":"#N/A"}},{"$error":"#N/A"},829,6.7202201551352951,{"$f":" IF(Foglio1!$C$13 <> \"\", 8.314472*Foglio1!$C$13*Foglio2!R98, NA())","v":{"$error":"#N/A"}},{"$error":"#N/A"}]
[838,6.7310181004820828,{"$f":" IF(Foglio1!$C$9 <> \"\", 8.314472*Foglio1!$C$9*Foglio2!B99, NA())","v":{"$error":"#N/A"}},{"$error":"#N/A"},838,6.7310181004820828,{"$f":" IF(Foglio1!$C$10 <> \"\", 8.314472*Foglio1!$C$10*Foglio2!F99, NA())","v":{"$error":"#N/A"}},{"$error":"#N/A"},838,6.7310181004820828,{"$f":" IF(Foglio1!$C$11 <> \"\", 8.314472*Foglio1!$C$11*Foglio2!J99, NA())","v":{"$error":"#N/A"}},{"$error":"#N/A"},838,6.7310181004820828,{"$f":" IF(Foglio1!$C$12 <> \"\", 8.314472*Foglio1!$C$12*Foglio2!N99, NA())","v":{"$error":"#N/A"}},{"$error":"#N/A"},838,6.7310181004820828,{"$f":" IF(Foglio1!$C$13 <> \"\", 8.314472*Foglio1!$C$13*Foglio2!R99, NA())","v":{"$error":"#N/A"}},{"$error":"#N/A"}]
[847,6.7417006946520548,{"$f":" IF(Foglio1!$C$9 <> \"\", 8.314472*Foglio1!$C$9*Foglio2!B100, NA())","v":{"$error":"#N/A"}},{"$error":"#N/A"},847,6.7417006946520548,{"$f":" IF(Foglio1!$C$10 <> \"\", 8.314472*Foglio1!$C$10*Foglio2!F100, NA())","v":{"$error":"#N/A"}},{"$error":"#N/A"},847,6.7417006946520548,{"$f":" IF(Foglio1!$C$11 <> \"\", 8.314472*Foglio1!$C$11*Foglio2!J100, NA())","v":{"$error":"#N/A"}},{"$error":"#N/A"},847,6.7417006946520548,{"$f":" IF(Foglio1!$C$12 <> \"\", 8.314472*Foglio1!$C$12*Foglio2!N100, NA())","v":{"$error":"#N/A"}},{"$error":"#N/A"},847,6.7417006946520548,{"$f":" IF(Foglio1!$C$13 <> \"\", 8.314472*Foglio1!$C$13*Foglio2!R100, NA())","v":{"$error":"#N/A"}},{"$error":"#N/A"}]
[856,6.752270376141742,{"$f":" IF(Foglio1!$C$9 <> \"\", 8.314472*Foglio1!$C$9*Foglio2!B101, NA())","v":{"$error":"#N/A"}},{"$error":"#N/A"},856,6.752270376141742,{"$f":" IF(Foglio1!$C$10 <> \"\", 8.314472*Foglio1!$C$10*Foglio2!F101, NA())","v":{"$error":"#N/A"}},{"$error":"#N/A"},856,6.752270376141742,{"$f":" IF(Foglio1!$C$11 <> \"\", 8.314472*Foglio1!$C$11*Foglio2!J101, NA())","v":{"$error":"#N/A"}},{"$error":"#N/A"},856,6.752270376141742,{"$f":" IF(Foglio1!$C$12 <> \"\", 8.314472*Foglio1!$C$12*Foglio2!N101, NA())","v":{"$error":"#N/A"}},{"$error":"#N/A"},856,6.752270376141742,{"$f":" IF(Foglio1!$C$13 <> \"\", 8.314472*Foglio1!$C$13*Foglio2!R101, NA())","v":{"$error":"#N/A"}},{"$error":"#N/A"}]
[865,6.7627295069318789,{"$f":" IF(Foglio1!$C$9 <> \"\", 8.314472*Foglio1!$C$9*Foglio2!B102, NA())","v":{"$error":"#N/A"}},{"$error":"#N/A"},865,6.7627295069318789,{"$f":" IF(Foglio1!$C$10 <> \"\", 8.314472*Foglio1!$C$10*Foglio2!F102, NA())","v":{"$error":"#N/A"}},{"$error":"#N/A"},865,6.7627295069318789,{"$f":" IF(Foglio1!$C$11 <> \"\", 8.314472*Foglio1!$C$11*Foglio2!J102, NA())","v":{"$error":"#N/A"}},{"$error":"#N/A"},865,6.7627295069318789,{"$f":" IF(Foglio1!$C$12 <> \"\", 8.314472*Foglio1!$C$12*Foglio2!N102, NA())","v":{"$error":"#N/A"}},{"$error":"#N/A"},865,6.7627295069318789,{"$f":" IF(Foglio1!$C$13 <> \"\", 8.314472*Foglio1!$C$13*Foglio2!R102, NA())","v":{"$error":"#N/A"}},{"$error":"#N/A"}]
[874,6.7730803756555353,{"$f":" IF(Foglio1!$C$9 <> \"\", 8.314472*Foglio1!$C$9*Foglio2!B103, NA())","v":{"$error":"#N/A"}},{"$error":"#N/A"},874,6.7730803756555353,{"$f":" IF(Foglio1!$C$10 <> \"\", 8.314472*Foglio1!$C$10*Foglio2!F103, NA())","v":{"$error":"#N/A"}},{"$error":"#N/A"},874,6.7730803756555353,{"$f":" IF(Foglio1!$C$11 <> \"\", 8.314472*Foglio1!$C$11*Foglio2!J103, NA())","v":{"$error":"#N/A"}},{"$error":"#N/A"},874,6.7730803756555353,{"$f":" IF(Foglio1!$C$12 <> \"\", 8.314472*Foglio1!$C$12*Foglio2!N103, NA())","v":{"$error":"#N/A"}},{"$error":"#N/A"},874,6.7730803756555353,{"$f":" IF(Foglio1!$C$13 <> \"\", 8.314472*Foglio1!$C$13*Foglio2!R103, NA())","v":{"$error":"#N/A"}},{"$error":"#N/A"}]
[883,6.7833252006039597,{"$f":" IF(Foglio1!$C$9 <> \"\", 8.314472*Foglio1!$C$9*Foglio2!B104, NA())","v":{"$error":"#N/A"}},{"$error":"#N/A"},883,6.7833252006039597,{"$f":" IF(Foglio1!$C$10 <> \"\", 8.314472*Foglio1!$C$10*Foglio2!F104, NA())","v":{"$error":"#N/A"}},{"$error":"#N/A"},883,6.7833252006039597,{"$f":" IF(Foglio1!$C$11 <> \"\", 8.314472*Foglio1!$C$11*Foglio2!J104, NA())","v":{"$error":"#N/A"}},{"$error":"#N/A"},883,6.7833252006039597,{"$f":" IF(Foglio1!$C$12 <> \"\", 8.314472*Foglio1!$C$12*Foglio2!N104, NA())","v":{"$error":"#N/A"}},{"$error":"#N/A"},883,6.7833252006039597,{"$f":" IF(Foglio1!$C$13 <> \"\", 8.314472*Foglio1!$C$13*Foglio2!R104, NA())","v":{"$error":"#N/A"}},{"$error":"#N/A"}]
[892,6.7934661325800096,{"$f":" IF(Foglio1!$C$9 <> \"\", 8.314472*Foglio1!$C$9*Foglio2!B105, NA())","v":{"$error":"#N/A"}},{"$error":"#N/A"},892,6.7934661325800096,{"$f":" IF(Foglio1!$C$10 <> \"\", 8.314472*Foglio1!$C$10*Foglio2!F105, NA())","v":{"$error":"#N/A"}},{"$error":"#N/A"},892,6.7934661325800096,{"$f":" IF(Foglio1!$C$11 <> \"\", 8.314472*Foglio1!$C$11*Foglio2!J105, NA())","v":{"$error":"#N/A"}},{"$error":"#N/A"},892,6.7934661325800096,{"$f":" IF(Foglio1!$C$12 <> \"\", 8.314472*Foglio1!$C$12*Foglio2!N105, NA())","v":{"$error":"#N/A"}},{"$error":"#N/A"},892,6.7934661325800096,{"$f":" IF(Foglio1!$C$13 <> \"\", 8.314472*Foglio1!$C$13*Foglio2!R105, NA())","v":{"$error":"#N/A"}},{"$error":"#N/A"}]
[901,6.8035052576083377,{"$f":" IF(Foglio1!$C$9 <> \"\", 8.314472*Foglio1!$C$9*Foglio2!B106, NA())","v":{"$error":"#N/A"}},{"$error":"#N/A"},901,6.8035052576083377,{"$f":" IF(Foglio1!$C$10 <> \"\", 8.314472*Foglio1!$C$10*Foglio2!F106, NA())","v":{"$error":"#N/A"}},{"$error":"#N/A"},901,6.8035052576083377,{"$f":" IF(Foglio1!$C$11 <> \"\", 8.314472*Foglio1!$C$11*Foglio2!J106, NA())","v":{"$error":"#N/A"}},{"$error":"#N/A"},901,6.8035052576083377,{"$f":" IF(Foglio1!$C$12 <> \"\", 8.314472*Foglio1!$C$12*Foglio2!N106, NA())","v":{"$error":"#N/A"}},{"$error":"#N/A"},901,6.8035052576083377,{"$f":" IF(Foglio1!$C$13 <> \"\", 8.314472*Foglio1!$C$13*Foglio2!R106, NA())","v":{"$error":"#N/A"}},{"$error":"#N/A"}]
[910,6.8134445995108956,{"$f":" IF(Foglio1!$C$9 <> \"\", 8.314472*Foglio1!$C$9*Foglio2!B107, NA())","v":{"$error":"#N/A"}},{"$error":"#N/A"},910,6.8134445995108956,{"$f":" IF(Foglio1!$C$10 <> \"\", 8.314472*Foglio1!$C$10*Foglio2!F107, NA())","v":{"$error":"#N/A"}},{"$error":"#N/A"},910,6.8134445995108956,{"$f":" IF(Foglio1!$C$11 <> \"\", 8.314472*Foglio1!$C$11*Foglio2!J107, NA())","v":{"$error":"#N/A"}},{"$error":"#N/A"},910,6.8134445995108956,{"$f":" IF(Foglio1!$C$12 <> \"\", 8.314472*Foglio1!$C$12*Foglio2!N107, NA())","v":{"$error":"#N/A"}},{"$error":"#N/A"},910,6.8134445995108956,{"$f":" IF(Foglio1!$C$13 <> \"\", 8.314472*Foglio1!$C$13*Foglio2!R107, NA())","v":{"$error":"#N/A"}},{"$error":"#N/A"}]
[919,6.8232861223556869,{"$f":" IF(Foglio1!$C$9 <> \"\", 8.314472*Foglio1!$C$9*Foglio2!B108, NA())","v":{"$error":"#N/A"}},{"$error":"#N/A"},919,6.8232861223556869,{"$f":" IF(Foglio1!$C$10 <> \"\", 8.314472*Foglio1!$C$10*Foglio2!F108, NA())","v":{"$error":"#N/A"}},{"$error":"#N/A"},919,6.8232861223556869,{"$f":" IF(Foglio1!$C$11 <> \"\", 8.314472*Foglio1!$C$11*Foglio2!J108, NA())","v":{"$error":"#N/A"}},{"$error":"#N/A"},919,6.8232861223556869,{"$f":" IF(Foglio1!$C$12 <> \"\", 8.314472*Foglio1!$C$12*Foglio2!N108, NA())","v":{"$error":"#N/A"}},{"$error":"#N/A"},919,6.8232861223556869,{"$f":" IF(Foglio1!$C$13 <> \"\", 8.314472*Foglio1!$C$13*Foglio2!R108, NA())","v":{"$error":"#N/A"}},{"$error":"#N/A"}]
[928,6.8330317327862007,{"$f":" IF(Foglio1!$C$9 <> \"\", 8.314472*Foglio1!$C$9*Foglio2!B109, NA())","v":{"$error":"#N/A"}},{"$error":"#N/A"},928,6.8330317327862007,{"$f":" IF(Foglio1!$C$10 <> \"\", 8.314472*Foglio1!$C$10*Foglio2!F109, NA())","v":{"$error":"#N/A"}},{"$error":"#N/A"},928,6.8330317327862007,{"$f":" IF(Foglio1!$C$11 <> \"\", 8.314472*Foglio1!$C$11*Foglio2!J109, NA())","v":{"$error":"#N/A"}},{"$error":"#N/A"},928,6.8330317327862007,{"$f":" IF(Foglio1!$C$12 <> \"\", 8.314472*Foglio1!$C$12*Foglio2!N109, NA())","v":{"$error":"#N/A"}},{"$error":"#N/A"},928,6.8330317327862007,{"$f":" IF(Foglio1!$C$13 <> \"\", 8.314472*Foglio1!$C$13*Foglio2!R109, NA())","v":{"$error":"#N/A"}},{"$error":"#N/A"}]
[937,6.842683282238422,{"$f":" IF(Foglio1!$C$9 <> \"\", 8.314472*Foglio1!$C$9*Foglio2!B110, NA())","v":{"$error":"#N/A"}},{"$error":"#N/A"},937,6.842683282238422,{"$f":" IF(Foglio1!$C$10 <> \"\", 8.314472*Foglio1!$C$10*Foglio2!F110, NA())","v":{"$error":"#N/A"}},{"$error":"#N/A"},937,6.842683282238422,{"$f":" IF(Foglio1!$C$11 <> \"\", 8.314472*Foglio1!$C$11*Foglio2!J110, NA())","v":{"$error":"#N/A"}},{"$error":"#N/A"},937,6.842683282238422,{"$f":" IF(Foglio1!$C$12 <> \"\", 8.314472*Foglio1!$C$12*Foglio2!N110, NA())","v":{"$error":"#N/A"}},{"$error":"#N/A"},937,6.842683282238422,{"$f":" IF(Foglio1!$C$13 <> \"\", 8.314472*Foglio1!$C$13*Foglio2!R110, NA())","v":{"$error":"#N/A"}},{"$error":"#N/A"}]
[946,6.852242569051878,{"$f":" IF(Foglio1!$C$9 <> \"\", 8.314472*Foglio1!$C$9*Foglio2!B111, NA())","v":{"$error":"#N/A"}},{"$error":"#N/A"},946,6.852242569051878,{"$f":" IF(Foglio1!$C$10 <> \"\", 8.314472*Foglio1!$C$10*Foglio2!F111, NA())","v":{"$error":"#N/A"}},{"$error":"#N/A"},946,6.852242569051878,{"$f":" IF(Foglio1!$C$11 <> \"\", 8.314472*Foglio1!$C$11*Foglio2!J111, NA())","v":{"$error":"#N/A"}},{"$error":"#N/A"},946,6.852242569051878,{"$f":" IF(Foglio1!$C$12 <> \"\", 8.314472*Foglio1!$C$12*Foglio2!N111, NA())","v":{"$error":"#N/A"}},{"$error":"#N/A"},946,6.852242569051878,{"$f":" IF(Foglio1!$C$13 <> \"\", 8.314472*Foglio1!$C$13*Foglio2!R111, NA())","v":{"$error":"#N/A"}},{"$error":"#N/A"}]
[955,6.8617113404807304,{"$f":" IF(Foglio1!$C$9 <> \"\", 8.314472*Foglio1!$C$9*Foglio2!B112, NA())","v":{"$error":"#N/A"}},{"$error":"#N/A"},955,6.8617113404807304,{"$f":" IF(Foglio1!$C$10 <> \"\", 8.314472*Foglio1!$C$10*Foglio2!F112, NA())","v":{"$error":"#N/A"}},{"$error":"#N/A"},955,6.8617113404807304,{"$f":" IF(Foglio1!$C$11 <> \"\", 8.314472*Foglio1!$C$11*Foglio2!J112, NA())","v":{"$error":"#N/A"}},{"$error":"#N/A"},955,6.8617113404807304,{"$f":" IF(Foglio1!$C$12 <> \"\", 8.314472*Foglio1!$C$12*Foglio2!N112, NA())","v":{"$error":"#N/A"}},{"$error":"#N/A"},955,6.8617113404807304,{"$f":" IF(Foglio1!$C$13 <> \"\", 8.314472*Foglio1!$C$13*Foglio2!R112, NA())","v":{"$error":"#N/A"}},{"$error":"#N/A"}]
[964,6.8710912946105456,{"$f":" IF(Foglio1!$C$9 <> \"\", 8.314472*Foglio1!$C$9*Foglio2!B113, NA())","v":{"$error":"#N/A"}},{"$error":"#N/A"},964,6.8710912946105456,{"$f":" IF(Foglio1!$C$10 <> \"\", 8.314472*Foglio1!$C$10*Foglio2!F113, NA())","v":{"$error":"#N/A"}},{"$error":"#N/A"},964,6.8710912946105456,{"$f":" IF(Foglio1!$C$11 <> \"\", 8.314472*Foglio1!$C$11*Foglio2!J113, NA())","v":{"$error":"#N/A"}},{"$error":"#N/A"},964,6.8710912946105456,{"$f":" IF(Foglio1!$C$12 <> \"\", 8.314472*Foglio1!$C$12*Foglio2!N113, NA())","v":{"$error":"#N/A"}},{"$error":"#N/A"},964,6.8710912946105456,{"$f":" IF(Foglio1!$C$13 <> \"\", 8.314472*Foglio1!$C$13*Foglio2!R113, NA())","v":{"$error":"#N/A"}},{"$error":"#N/A"}]
[973,6.8803840821860049,{"$f":" IF(Foglio1!$C$9 <> \"\", 8.314472*Foglio1!$C$9*Foglio2!B114, NA())","v":{"$error":"#N/A"}},{"$error":"#N/A"},973,6.8803840821860049,{"$f":" IF(Foglio1!$C$10 <> \"\", 8.314472*Foglio1!$C$10*Foglio2!F114, NA())","v":{"$error":"#N/A"}},{"$error":"#N/A"},973,6.8803840821860049,{"$f":" IF(Foglio1!$C$11 <> \"\", 8.314472*Foglio1!$C$11*Foglio2!J114, NA())","v":{"$error":"#N/A"}},{"$error":"#N/A"},973,6.8803840821860049,{"$f":" IF(Foglio1!$C$12 <> \"\", 8.314472*Foglio1!$C$12*Foglio2!N114, NA())","v":{"$error":"#N/A"}},{"$error":"#N/A"},973,6.8803840821860049,{"$f":" IF(Foglio1!$C$13 <> \"\", 8.314472*Foglio1!$C$13*Foglio2!R114, NA())","v":{"$error":"#N/A"}},{"$error":"#N/A"}]
[982,6.8895913083544658,{"$f":" IF(Foglio1!$C$9 <> \"\", 8.314472*Foglio1!$C$9*Foglio2!B115, NA())","v":{"$error":"#N/A"}},{"$error":"#N/A"},982,6.8895913083544658,{"$f":" IF(Foglio1!$C$10 <> \"\", 8.314472*Foglio1!$C$10*Foglio2!F115, NA())","v":{"$error":"#N/A"}},{"$error":"#N/A"},982,6.8895913083544658,{"$f":" IF(Foglio1!$C$11 <> \"\", 8.314472*Foglio1!$C$11*Foglio2!J115, NA())","v":{"$error":"#N/A"}},{"$error":"#N/A"},982,6.8895913083544658,{"$f":" IF(Foglio1!$C$12 <> \"\", 8.314472*Foglio1!$C$12*Foglio2!N115, NA())","v":{"$error":"#N/A"}},{"$error":"#N/A"},982,6.8895913083544658,{"$f":" IF(Foglio1!$C$13 <> \"\", 8.314472*Foglio1!$C$13*Foglio2!R115, NA())","v":{"$error":"#N/A"}},{"$error":"#N/A"}]
[991,6.8987145343299883,{"$f":" IF(Foglio1!$C$9 <> \"\", 8.314472*Foglio1!$C$9*Foglio2!B116, NA())","v":{"$error":"#N/A"}},{"$error":"#N/A"},991,6.8987145343299883,{"$f":" IF(Foglio1!$C$10 <> \"\", 8.314472*Foglio1!$C$10*Foglio2!F116, NA())","v":{"$error":"#N/A"}},{"$error":"#N/A"},991,6.8987145343299883,{"$f":" IF(Foglio1!$C$11 <> \"\", 8.314472*Foglio1!$C$11*Foglio2!J116, NA())","v":{"$error":"#N/A"}},{"$error":"#N/A"},991,6.8987145343299883,{"$f":" IF(Foglio1!$C$12 <> \"\", 8.314472*Foglio1!$C$12*Foglio2!N116, NA())","v":{"$error":"#N/A"}},{"$error":"#N/A"},991,6.8987145343299883,{"$f":" IF(Foglio1!$C$13 <> \"\", 8.314472*Foglio1!$C$13*Foglio2!R116, NA())","v":{"$error":"#N/A"}},{"$error":"#N/A"}]
[1000,6.9077552789821368,{"$f":" IF(Foglio1!$C$9 <> \"\", 8.314472*Foglio1!$C$9*Foglio2!B117, NA())","v":{"$error":"#N/A"}},{"$error":"#N/A"},1000,6.9077552789821368,{"$f":" IF(Foglio1!$C$10 <> \"\", 8.314472*Foglio1!$C$10*Foglio2!F117, NA())","v":{"$error":"#N/A"}},{"$error":"#N/A"},1000,6.9077552789821368,{"$f":" IF(Foglio1!$C$11 <> \"\", 8.314472*Foglio1!$C$11*Foglio2!J117, NA())","v":{"$error":"#N/A"}},{"$error":"#N/A"},1000,6.9077552789821368,{"$f":" IF(Foglio1!$C$12 <> \"\", 8.314472*Foglio1!$C$12*Foglio2!N117, NA())","v":{"$error":"#N/A"}},{"$error":"#N/A"},1000,6.9077552789821368,{"$f":" IF(Foglio1!$C$13 <> \"\", 8.314472*Foglio1!$C$13*Foglio2!R117, NA())","v":{"$error":"#N/A"}},{"$error":"#N/A"}]
[1009,6.9167150203536085,{"$f":" IF(Foglio1!$C$9 <> \"\", 8.314472*Foglio1!$C$9*Foglio2!B118, NA())","v":{"$error":"#N/A"}},{"$error":"#N/A"},1009,6.9167150203536085,{"$f":" IF(Foglio1!$C$10 <> \"\", 8.314472*Foglio1!$C$10*Foglio2!F118, NA())","v":{"$error":"#N/A"}},{"$error":"#N/A"},1009,6.9167150203536085,{"$f":" IF(Foglio1!$C$11 <> \"\", 8.314472*Foglio1!$C$11*Foglio2!J118, NA())","v":{"$error":"#N/A"}},{"$error":"#N/A"},1009,6.9167150203536085,{"$f":" IF(Foglio1!$C$12 <> \"\", 8.314472*Foglio1!$C$12*Foglio2!N118, NA())","v":{"$error":"#N/A"}},{"$error":"#N/A"},1009,6.9167150203536085,{"$f":" IF(Foglio1!$C$13 <> \"\", 8.314472*Foglio1!$C$13*Foglio2!R118, NA())","v":{"$error":"#N/A"}},{"$error":"#N/A"}]
[1018,6.9255951971104679,{"$f":" IF(Foglio1!$C$9 <> \"\", 8.314472*Foglio1!$C$9*Foglio2!B119, NA())","v":{"$error":"#N/A"}},{"$error":"#N/A"},1018,6.9255951971104679,{"$f":" IF(Foglio1!$C$10 <> \"\", 8.314472*Foglio1!$C$10*Foglio2!F119, NA())","v":{"$error":"#N/A"}},{"$error":"#N/A"},1018,6.9255951971104679,{"$f":" IF(Foglio1!$C$11 <> \"\", 8.314472*Foglio1!$C$11*Foglio2!J119, NA())","v":{"$error":"#N/A"}},{"$error":"#N/A"},1018,6.9255951971104679,{"$f":" IF(Foglio1!$C$12 <> \"\", 8.314472*Foglio1!$C$12*Foglio2!N119, NA())","v":{"$error":"#N/A"}},{"$error":"#N/A"},1018,6.9255951971104679,{"$f":" IF(Foglio1!$C$13 <> \"\", 8.314472*Foglio1!$C$13*Foglio2!R119, NA())","v":{"$error":"#N/A"}},{"$error":"#N/A"}]
[1027,6.9343972099285578,{"$f":" IF(Foglio1!$C$9 <> \"\", 8.314472*Foglio1!$C$9*Foglio2!B120, NA())","v":{"$error":"#N/A"}},{"$error":"#N/A"},1027,6.9343972099285578,{"$f":" IF(Foglio1!$C$10 <> \"\", 8.314472*Foglio1!$C$10*Foglio2!F120, NA())","v":{"$error":"#N/A"}},{"$error":"#N/A"},1027,6.9343972099285578,{"$f":" IF(Foglio1!$C$11 <> \"\", 8.314472*Foglio1!$C$11*Foglio2!J120, NA())","v":{"$error":"#N/A"}},{"$error":"#N/A"},1027,6.9343972099285578,{"$f":" IF(Foglio1!$C$12 <> \"\", 8.314472*Foglio1!$C$12*Foglio2!N120, NA())","v":{"$error":"#N/A"}},{"$error":"#N/A"},1027,6.9343972099285578,{"$f":" IF(Foglio1!$C$13 <> \"\", 8.314472*Foglio1!$C$13*Foglio2!R120, NA())","v":{"$error":"#N/A"}},{"$error":"#N/A"}]
[1036,6.9431224228194282,{"$f":" IF(Foglio1!$C$9 <> \"\", 8.314472*Foglio1!$C$9*Foglio2!B121, NA())","v":{"$error":"#N/A"}},{"$error":"#N/A"},1036,6.9431224228194282,{"$f":" IF(Foglio1!$C$10 <> \"\", 8.314472*Foglio1!$C$10*Foglio2!F121, NA())","v":{"$error":"#N/A"}},{"$error":"#N/A"},1036,6.9431224228194282,{"$f":" IF(Foglio1!$C$11 <> \"\", 8.314472*Foglio1!$C$11*Foglio2!J121, NA())","v":{"$error":"#N/A"}},{"$error":"#N/A"},1036,6.9431224228194282,{"$f":" IF(Foglio1!$C$12 <> \"\", 8.314472*Foglio1!$C$12*Foglio2!N121, NA())","v":{"$error":"#N/A"}},{"$error":"#N/A"},1036,6.9431224228194282,{"$f":" IF(Foglio1!$C$13 <> \"\", 8.314472*Foglio1!$C$13*Foglio2!R121, NA())","v":{"$error":"#N/A"}},{"$error":"#N/A"}]
[1045,6.9517721643989114,{"$f":" IF(Foglio1!$C$9 <> \"\", 8.314472*Foglio1!$C$9*Foglio2!B122, NA())","v":{"$error":"#N/A"}},{"$error":"#N/A"},1045,6.9517721643989114,{"$f":" IF(Foglio1!$C$10 <> \"\", 8.314472*Foglio1!$C$10*Foglio2!F122, NA())","v":{"$error":"#N/A"}},{"$error":"#N/A"},1045,6.9517721643989114,{"$f":" IF(Foglio1!$C$11 <> \"\", 8.314472*Foglio1!$C$11*Foglio2!J122, NA())","v":{"$error":"#N/A"}},{"$error":"#N/A"},1045,6.9517721643989114,{"$f":" IF(Foglio1!$C$12 <> \"\", 8.314472*Foglio1!$C$12*Foglio2!N122, NA())","v":{"$error":"#N/A"}},{"$error":"#N/A"},1045,6.9517721643989114,{"$f":" IF(Foglio1!$C$13 <> \"\", 8.314472*Foglio1!$C$13*Foglio2!R122, NA())","v":{"$error":"#N/A"}},{"$error":"#N/A"}]
[1054,6.9603477291013078,{"$f":" IF(Foglio1!$C$9 <> \"\", 8.314472*Foglio1!$C$9*Foglio2!B123, NA())","v":{"$error":"#N/A"}},{"$error":"#N/A"},1054,6.9603477291013078,{"$f":" IF(Foglio1!$C$10 <> \"\", 8.314472*Foglio1!$C$10*Foglio2!F123, NA())","v":{"$error":"#N/A"}},{"$error":"#N/A"},1054,6.9603477291013078,{"$f":" IF(Foglio1!$C$11 <> \"\", 8.314472*Foglio1!$C$11*Foglio2!J123, NA())","v":{"$error":"#N/A"}},{"$error":"#N/A"},1054,6.9603477291013078,{"$f":" IF(Foglio1!$C$12 <> \"\", 8.314472*Foglio1!$C$12*Foglio2!N123, NA())","v":{"$error":"#N/A"}},{"$error":"#N/A"},1054,6.9603477291013078,{"$f":" IF(Foglio1!$C$13 <> \"\", 8.314472*Foglio1!$C$13*Foglio2!R123, NA())","v":{"$error":"#N/A"}},{"$error":"#N/A"}]
[1063,6.9688503783419478,{"$f":" IF(Foglio1!$C$9 <> \"\", 8.314472*Foglio1!$C$9*Foglio2!B124, NA())","v":{"$error":"#N/A"}},{"$error":"#N/A"},1063,6.9688503783419478,{"$f":" IF(Foglio1!$C$10 <> \"\", 8.314472*Foglio1!$C$10*Foglio2!F124, NA())","v":{"$error":"#N/A"}},{"$error":"#N/A"},1063,6.9688503783419478,{"$f":" IF(Foglio1!$C$11 <> \"\", 8.314472*Foglio1!$C$11*Foglio2!J124, NA())","v":{"$error":"#N/A"}},{"$error":"#N/A"},1063,6.9688503783419478,{"$f":" IF(Foglio1!$C$12 <> \"\", 8.314472*Foglio1!$C$12*Foglio2!N124, NA())","v":{"$error":"#N/A"}},{"$error":"#N/A"},1063,6.9688503783419478,{"$f":" IF(Foglio1!$C$13 <> \"\", 8.314472*Foglio1!$C$13*Foglio2!R124, NA())","v":{"$error":"#N/A"}},{"$error":"#N/A"}]
[1072,6.9772813416307473,{"$f":" IF(Foglio1!$C$9 <> \"\", 8.314472*Foglio1!$C$9*Foglio2!B125, NA())","v":{"$error":"#N/A"}},{"$error":"#N/A"},1072,6.9772813416307473,{"$f":" IF(Foglio1!$C$10 <> \"\", 8.314472*Foglio1!$C$10*Foglio2!F125, NA())","v":{"$error":"#N/A"}},{"$error":"#N/A"},1072,6.9772813416307473,{"$f":" IF(Foglio1!$C$11 <> \"\", 8.314472*Foglio1!$C$11*Foglio2!J125, NA())","v":{"$error":"#N/A"}},{"$error":"#N/A"},1072,6.9772813416307473,{"$f":" IF(Foglio1!$C$12 <> \"\", 8.314472*Foglio1!$C$12*Foglio2!N125, NA())","v":{"$error":"#N/A"}},{"$error":"#N/A"},1072,6.9772813416307473,{"$f":" IF(Foglio1!$C$13 <> \"\", 8.314472*Foglio1!$C$13*Foglio2!R125, NA())","v":{"$error":"#N/A"}},{"$error":"#N/A"}]
[1081,6.9856418176392081,{"$f":" IF(Foglio1!$C$9 <> \"\", 8.314472*Foglio1!$C$9*Foglio2!B126, NA())","v":{"$error":"#N/A"}},{"$error":"#N/A"},1081,6.9856418176392081,{"$f":" IF(Foglio1!$C$10 <> \"\", 8.314472*Foglio1!$C$10*Foglio2!F126, NA())","v":{"$error":"#N/A"}},{"$error":"#N/A"},1081,6.9856418176392081,{"$f":" IF(Foglio1!$C$11 <> \"\", 8.314472*Foglio1!$C$11*Foglio2!J126, NA())","v":{"$error":"#N/A"}},{"$error":"#N/A"},1081,6.9856418176392081,{"$f":" IF(Foglio1!$C$12 <> \"\", 8.314472*Foglio1!$C$12*Foglio2!N126, NA())","v":{"$error":"#N/A"}},{"$error":"#N/A"},1081,6.9856418176392081,{"$f":" IF(Foglio1!$C$13 <> \"\", 8.314472*Foglio1!$C$13*Foglio2!R126, NA())","v":{"$error":"#N/A"}},{"$error":"#N/A"}]
[1090,6.9939329752231894,{"$f":" IF(Foglio1!$C$9 <> \"\", 8.314472*Foglio1!$C$9*Foglio2!B127, NA())","v":{"$error":"#N/A"}},{"$error":"#N/A"},1090,6.9939329752231894,{"$f":" IF(Foglio1!$C$10 <> \"\", 8.314472*Foglio1!$C$10*Foglio2!F127, NA())","v":{"$error":"#N/A"}},{"$error":"#N/A"},1090,6.9939329752231894,{"$f":" IF(Foglio1!$C$11 <> \"\", 8.314472*Foglio1!$C$11*Foglio2!J127, NA())","v":{"$error":"#N/A"}},{"$error":"#N/A"},1090,6.9939329752231894,{"$f":" IF(Foglio1!$C$12 <> \"\", 8.314472*Foglio1!$C$12*Foglio2!N127, NA())","v":{"$error":"#N/A"}},{"$error":"#N/A"},1090,6.9939329752231894,{"$f":" IF(Foglio1!$C$13 <> \"\", 8.314472*Foglio1!$C$13*Foglio2!R127, NA())","v":{"$error":"#N/A"}},{"$error":"#N/A"}]
[1099,7.0021559544036212,{"$f":" IF(Foglio1!$C$9 <> \"\", 8.314472*Foglio1!$C$9*Foglio2!B128, NA())","v":{"$error":"#N/A"}},{"$error":"#N/A"},1099,7.0021559544036212,{"$f":" IF(Foglio1!$C$10 <> \"\", 8.314472*Foglio1!$C$10*Foglio2!F128, NA())","v":{"$error":"#N/A"}},{"$error":"#N/A"},1099,7.0021559544036212,{"$f":" IF(Foglio1!$C$11 <> \"\", 8.314472*Foglio1!$C$11*Foglio2!J128, NA())","v":{"$error":"#N/A"}},{"$error":"#N/A"},1099,7.0021559544036212,{"$f":" IF(Foglio1!$C$12 <> \"\", 8.314472*Foglio1!$C$12*Foglio2!N128, NA())","v":{"$error":"#N/A"}},{"$error":"#N/A"},1099,7.0021559544036212,{"$f":" IF(Foglio1!$C$13 <> \"\", 8.314472*Foglio1!$C$13*Foglio2!R128, NA())","v":{"$error":"#N/A"}},{"$error":"#N/A"}]
[1108,7.0103118673072293,{"$f":" IF(Foglio1!$C$9 <> \"\", 8.314472*Foglio1!$C$9*Foglio2!B129, NA())","v":{"$error":"#N/A"}},{"$error":"#N/A"},1108,7.0103118673072293,{"$f":" IF(Foglio1!$C$10 <> \"\", 8.314472*Foglio1!$C$10*Foglio2!F129, NA())","v":{"$error":"#N/A"}},{"$error":"#N/A"},1108,7.0103118673072293,{"$f":" IF(Foglio1!$C$11 <> \"\", 8.314472*Foglio1!$C$11*Foglio2!J129, NA())","v":{"$error":"#N/A"}},{"$error":"#N/A"},1108,7.0103118673072293,{"$f":" IF(Foglio1!$C$12 <> \"\", 8.314472*Foglio1!$C$12*Foglio2!N129, NA())","v":{"$error":"#N/A"}},{"$error":"#N/A"},1108,7.0103118673072293,{"$f":" IF(Foglio1!$C$13 <> \"\", 8.314472*Foglio1!$C$13*Foglio2!R129, NA())","v":{"$error":"#N/A"}},{"$error":"#N/A"}]
[1117,7.0184017990692009,{"$f":" IF(Foglio1!$C$9 <> \"\", 8.314472*Foglio1!$C$9*Foglio2!B130, NA())","v":{"$error":"#N/A"}},{"$error":"#N/A"},1117,7.0184017990692009,{"$f":" IF(Foglio1!$C$10 <> \"\", 8.314472*Foglio1!$C$10*Foglio2!F130, NA())","v":{"$error":"#N/A"}},{"$error":"#N/A"},1117,7.0184017990692009,{"$f":" IF(Foglio1!$C$11 <> \"\", 8.314472*Foglio1!$C$11*Foglio2!J130, NA())","v":{"$error":"#N/A"}},{"$error":"#N/A"},1117,7.0184017990692009,{"$f":" IF(Foglio1!$C$12 <> \"\", 8.314472*Foglio1!$C$12*Foglio2!N130, NA())","v":{"$error":"#N/A"}},{"$error":"#N/A"},1117,7.0184017990692009,{"$f":" IF(Foglio1!$C$13 <> \"\", 8.314472*Foglio1!$C$13*Foglio2!R130, NA())","v":{"$error":"#N/A"}},{"$error":"#N/A"}]
[1126,{"$f":"LN(A131)","v":7.026426808699636},{"$f":" IF(Foglio1!$C$9 <> \"\", 8.314472*Foglio1!$C$9*Foglio2!B131, NA())","v":{"$error":"#N/A"}},{"$f":"  -30.5 + C131*10^-3","v":{"$error":"#N/A"}},1126,{"$f":"LN(E131)","v":7.026426808699636},{"$f":" IF(Foglio1!$C$10 <> \"\", 8.314472*Foglio1!$C$10*Foglio2!F131, NA())","v":{"$error":"#N/A"}},{"$f":" -30.5+ G131*10^-3","v":{"$error":"#N/A"}},1126,{"$f":"LN(I131)","v":7.026426808699636},{"$f":" IF(Foglio1!$C$11 <> \"\", 8.314472*Foglio1!$C$11*Foglio2!J131, NA())","v":{"$error":"#N/A"}},{"$f":" -30.5+ K131*10^-3","v":{"$error":"#N/A"}},1126,{"$f":"LN(M131)","v":7.026426808699636},{"$f":" IF(Foglio1!$C$12 <> \"\", 8.314472*Foglio1!$C$12*Foglio2!N131, NA())","v":{"$error":"#N/A"}},{"$f":" -30.5+ O131*10^-3","v":{"$error":"#N/A"}},1126,{"$f":"LN(Q131)","v":7.026426808699636},{"$f":" IF(Foglio1!$C$13 <> \"\", 8.314472*Foglio1!$C$13*Foglio2!R131, NA())","v":{"$error":"#N/A"}},{"$f":" -30.5+S131*10^-3","v":{"$error":"#N/A"}}]
[1135,7.0343879299155034,{"$f":" IF(Foglio1!$C$9 <> \"\", 8.314472*Foglio1!$C$9*Foglio2!B132, NA())","v":{"$error":"#N/A"}},{"$error":"#N/A"},1135,7.0343879299155034,{"$f":" IF(Foglio1!$C$10 <> \"\", 8.314472*Foglio1!$C$10*Foglio2!F132, NA())","v":{"$error":"#N/A"}},{"$error":"#N/A"},1135,7.0343879299155034,{"$f":" IF(Foglio1!$C$11 <> \"\", 8.314472*Foglio1!$C$11*Foglio2!J132, NA())","v":{"$error":"#N/A"}},{"$error":"#N/A"},1135,7.0343879299155034,{"$f":" IF(Foglio1!$C$12 <> \"\", 8.314472*Foglio1!$C$12*Foglio2!N132, NA())","v":{"$error":"#N/A"}},{"$error":"#N/A"},1135,7.0343879299155034,{"$f":" IF(Foglio1!$C$13 <> \"\", 8.314472*Foglio1!$C$13*Foglio2!R132, NA())","v":{"$error":"#N/A"}},{"$error":"#N/A"}]
[1144,7.0422861719397432,{"$f":" IF(Foglio1!$C$9 <> \"\", 8.314472*Foglio1!$C$9*Foglio2!B133, NA())","v":{"$error":"#N/A"}},{"$error":"#N/A"},1144,7.0422861719397432,{"$f":" IF(Foglio1!$C$10 <> \"\", 8.314472*Foglio1!$C$10*Foglio2!F133, NA())","v":{"$error":"#N/A"}},{"$error":"#N/A"},1144,7.0422861719397432,{"$f":" IF(Foglio1!$C$11 <> \"\", 8.314472*Foglio1!$C$11*Foglio2!J133, NA())","v":{"$error":"#N/A"}},{"$error":"#N/A"},1144,7.0422861719397432,{"$f":" IF(Foglio1!$C$12 <> \"\", 8.314472*Foglio1!$C$12*Foglio2!N133, NA())","v":{"$error":"#N/A"}},{"$error":"#N/A"},1144,7.0422861719397432,{"$f":" IF(Foglio1!$C$13 <> \"\", 8.314472*Foglio1!$C$13*Foglio2!R133, NA())","v":{"$error":"#N/A"}},{"$error":"#N/A"}]
[1153,7.0501225202690589,{"$f":" IF(Foglio1!$C$9 <> \"\", 8.314472*Foglio1!$C$9*Foglio2!B134, NA())","v":{"$error":"#N/A"}},{"$error":"#N/A"},1153,7.0501225202690589,{"$f":" IF(Foglio1!$C$10 <> \"\", 8.314472*Foglio1!$C$10*Foglio2!F134, NA())","v":{"$error":"#N/A"}},{"$error":"#N/A"},1153,7.0501225202690589,{"$f":" IF(Foglio1!$C$11 <> \"\", 8.314472*Foglio1!$C$11*Foglio2!J134, NA())","v":{"$error":"#N/A"}},{"$error":"#N/A"},1153,7.0501225202690589,{"$f":" IF(Foglio1!$C$12 <> \"\", 8.314472*Foglio1!$C$12*Foglio2!N134, NA())","v":{"$error":"#N/A"}},{"$error":"#N/A"},1153,7.0501225202690589,{"$f":" IF(Foglio1!$C$13 <> \"\", 8.314472*Foglio1!$C$13*Foglio2!R134, NA())","v":{"$error":"#N/A"}},{"$error":"#N/A"}]
[1162,7.0578979374118562,{"$f":" IF(Foglio1!$C$9 <> \"\", 8.314472*Foglio1!$C$9*Foglio2!B135, NA())","v":{"$error":"#N/A"}},{"$error":"#N/A"},1162,7.0578979374118562,{"$f":" IF(Foglio1!$C$10 <> \"\", 8.314472*Foglio1!$C$10*Foglio2!F135, NA())","v":{"$error":"#N/A"}},{"$error":"#N/A"},1162,7.0578979374118562,{"$f":" IF(Foglio1!$C$11 <> \"\", 8.314472*Foglio1!$C$11*Foglio2!J135, NA())","v":{"$error":"#N/A"}},{"$error":"#N/A"},1162,7.0578979374118562,{"$f":" IF(Foglio1!$C$12 <> \"\", 8.314472*Foglio1!$C$12*Foglio2!N135, NA())","v":{"$error":"#N/A"}},{"$error":"#N/A"},1162,7.0578979374118562,{"$f":" IF(Foglio1!$C$13 <> \"\", 8.314472*Foglio1!$C$13*Foglio2!R135, NA())","v":{"$error":"#N/A"}},{"$error":"#N/A"}]
[1171,7.0656133635977172,{"$f":" IF(Foglio1!$C$9 <> \"\", 8.314472*Foglio1!$C$9*Foglio2!B136, NA())","v":{"$error":"#N/A"}},{"$error":"#N/A"},1171,7.0656133635977172,{"$f":" IF(Foglio1!$C$10 <> \"\", 8.314472*Foglio1!$C$10*Foglio2!F136, NA())","v":{"$error":"#N/A"}},{"$error":"#N/A"},1171,7.0656133635977172,{"$f":" IF(Foglio1!$C$11 <> \"\", 8.314472*Foglio1!$C$11*Foglio2!J136, NA())","v":{"$error":"#N/A"}},{"$error":"#N/A"},1171,7.0656133635977172,{"$f":" IF(Foglio1!$C$12 <> \"\", 8.314472*Foglio1!$C$12*Foglio2!N136, NA())","v":{"$error":"#N/A"}},{"$error":"#N/A"},1171,7.0656133635977172,{"$f":" IF(Foglio1!$C$13 <> \"\", 8.314472*Foglio1!$C$13*Foglio2!R136, NA())","v":{"$error":"#N/A"}},{"$error":"#N/A"}]
[1180,7.0732697174597101,{"$f":" IF(Foglio1!$C$9 <> \"\", 8.314472*Foglio1!$C$9*Foglio2!B137, NA())","v":{"$error":"#N/A"}},{"$error":"#N/A"},1180,7.0732697174597101,{"$f":" IF(Foglio1!$C$10 <> \"\", 8.314472*Foglio1!$C$10*Foglio2!F137, NA())","v":{"$error":"#N/A"}},{"$error":"#N/A"},1180,7.0732697174597101,{"$f":" IF(Foglio1!$C$11 <> \"\", 8.314472*Foglio1!$C$11*Foglio2!J137, NA())","v":{"$error":"#N/A"}},{"$error":"#N/A"},1180,7.0732697174597101,{"$f":" IF(Foglio1!$C$12 <> \"\", 8.314472*Foglio1!$C$12*Foglio2!N137, NA())","v":{"$error":"#N/A"}},{"$error":"#N/A"},1180,7.0732697174597101,{"$f":" IF(Foglio1!$C$13 <> \"\", 8.314472*Foglio1!$C$13*Foglio2!R137, NA())","v":{"$error":"#N/A"}},{"$error":"#N/A"}]
[1189,7.0808678966907816,{"$f":" IF(Foglio1!$C$9 <> \"\", 8.314472*Foglio1!$C$9*Foglio2!B138, NA())","v":{"$error":"#N/A"}},{"$error":"#N/A"},1189,7.0808678966907816,{"$f":" IF(Foglio1!$C$10 <> \"\", 8.314472*Foglio1!$C$10*Foglio2!F138, NA())","v":{"$error":"#N/A"}},{"$error":"#N/A"},1189,7.0808678966907816,{"$f":" IF(Foglio1!$C$11 <> \"\", 8.314472*Foglio1!$C$11*Foglio2!J138, NA())","v":{"$error":"#N/A"}},{"$error":"#N/A"},1189,7.0808678966907816,{"$f":" IF(Foglio1!$C$12 <> \"\", 8.314472*Foglio1!$C$12*Foglio2!N138, NA())","v":{"$error":"#N/A"}},{"$error":"#N/A"},1189,7.0808678966907816,{"$f":" IF(Foglio1!$C$13 <> \"\", 8.314472*Foglio1!$C$13*Foglio2!R138, NA())","v":{"$error":"#N/A"}},{"$error":"#N/A"}]
[1198,7.0884087786753947,{"$f":" IF(Foglio1!$C$9 <> \"\", 8.314472*Foglio1!$C$9*Foglio2!B139, NA())","v":{"$error":"#N/A"}},{"$error":"#N/A"},1198,7.0884087786753947,{"$f":" IF(Foglio1!$C$10 <> \"\", 8.314472*Foglio1!$C$10*Foglio2!F139, NA())","v":{"$error":"#N/A"}},{"$error":"#N/A"},1198,7.0884087786753947,{"$f":" IF(Foglio1!$C$11 <> \"\", 8.314472*Foglio1!$C$11*Foglio2!J139, NA())","v":{"$error":"#N/A"}},{"$error":"#N/A"},1198,7.0884087786753947,{"$f":" IF(Foglio1!$C$12 <> \"\", 8.314472*Foglio1!$C$12*Foglio2!N139, NA())","v":{"$error":"#N/A"}},{"$error":"#N/A"},1198,7.0884087786753947,{"$f":" IF(Foglio1!$C$13 <> \"\", 8.314472*Foglio1!$C$13*Foglio2!R139, NA())","v":{"$error":"#N/A"}},{"$error":"#N/A"}]
[1207,7.0958932210975316,{"$f":" IF(Foglio1!$C$9 <> \"\", 8.314472*Foglio1!$C$9*Foglio2!B140, NA())","v":{"$error":"#N/A"}},{"$error":"#N/A"},1207,7.0958932210975316,{"$f":" IF(Foglio1!$C$10 <> \"\", 8.314472*Foglio1!$C$10*Foglio2!F140, NA())","v":{"$error":"#N/A"}},{"$error":"#N/A"},1207,7.0958932210975316,{"$f":" IF(Foglio1!$C$11 <> \"\", 8.314472*Foglio1!$C$11*Foglio2!J140, NA())","v":{"$error":"#N/A"}},{"$error":"#N/A"},1207,7.0958932210975316,{"$f":" IF(Foglio1!$C$12 <> \"\", 8.314472*Foglio1!$C$12*Foglio2!N140, NA())","v":{"$error":"#N/A"}},{"$error":"#N/A"},1207,7.0958932210975316,{"$f":" IF(Foglio1!$C$13 <> \"\", 8.314472*Foglio1!$C$13*Foglio2!R140, NA())","v":{"$error":"#N/A"}},{"$error":"#N/A"}]
[1216,7.1033220625261126,{"$f":" IF(Foglio1!$C$9 <> \"\", 8.314472*Foglio1!$C$9*Foglio2!B141, NA())","v":{"$error":"#N/A"}},{"$error":"#N/A"},1216,7.1033220625261126,{"$f":" IF(Foglio1!$C$10 <> \"\", 8.314472*Foglio1!$C$10*Foglio2!F141, NA())","v":{"$error":"#N/A"}},{"$error":"#N/A"},1216,7.1033220625261126,{"$f":" IF(Foglio1!$C$11 <> \"\", 8.314472*Foglio1!$C$11*Foglio2!J141, NA())","v":{"$error":"#N/A"}},{"$error":"#N/A"},1216,7.1033220625261126,{"$f":" IF(Foglio1!$C$12 <> \"\", 8.314472*Foglio1!$C$12*Foglio2!N141, NA())","v":{"$error":"#N/A"}},{"$error":"#N/A"},1216,7.1033220625261126,{"$f":" IF(Foglio1!$C$13 <> \"\", 8.314472*Foglio1!$C$13*Foglio2!R141, NA())","v":{"$error":"#N/A"}},{"$error":"#N/A"}]
[1225,7.110696122978827,{"$f":" IF(Foglio1!$C$9 <> \"\", 8.314472*Foglio1!$C$9*Foglio2!B142, NA())","v":{"$error":"#N/A"}},{"$error":"#N/A"},1225,7.110696122978827,{"$f":" IF(Foglio1!$C$10 <> \"\", 8.314472*Foglio1!$C$10*Foglio2!F142, NA())","v":{"$error":"#N/A"}},{"$error":"#N/A"},1225,7.110696122978827,{"$f":" IF(Foglio1!$C$11 <> \"\", 8.314472*Foglio1!$C$11*Foglio2!J142, NA())","v":{"$error":"#N/A"}},{"$error":"#N/A"},1225,7.110696122978827,{"$f":" IF(Foglio1!$C$12 <> \"\", 8.314472*Foglio1!$C$12*Foglio2!N142, NA())","v":{"$error":"#N/A"}},{"$error":"#N/A"},1225,7.110696122978827,{"$f":" IF(Foglio1!$C$13 <> \"\", 8.314472*Foglio1!$C$13*Foglio2!R142, NA())","v":{"$error":"#N/A"}},{"$error":"#N/A"}]
[1234,7.1180162044653335,{"$f":" IF(Foglio1!$C$9 <> \"\", 8.314472*Foglio1!$C$9*Foglio2!B143, NA())","v":{"$error":"#N/A"}},{"$error":"#N/A"},1234,7.1180162044653335,{"$f":" IF(Foglio1!$C$10 <> \"\", 8.314472*Foglio1!$C$10*Foglio2!F143, NA())","v":{"$error":"#N/A"}},{"$error":"#N/A"},1234,7.1180162044653335,{"$f":" IF(Foglio1!$C$11 <> \"\", 8.314472*Foglio1!$C$11*Foglio2!J143, NA())","v":{"$error":"#N/A"}},{"$error":"#N/A"},1234,7.1180162044653335,{"$f":" IF(Foglio1!$C$12 <> \"\", 8.314472*Foglio1!$C$12*Foglio2!N143, NA())","v":{"$error":"#N/A"}},{"$error":"#N/A"},1234,7.1180162044653335,{"$f":" IF(Foglio1!$C$13 <> \"\", 8.314472*Foglio1!$C$13*Foglio2!R143, NA())","v":{"$error":"#N/A"}},{"$error":"#N/A"}]
[1243,7.1252830915107115,{"$f":" IF(Foglio1!$C$9 <> \"\", 8.314472*Foglio1!$C$9*Foglio2!B144, NA())","v":{"$error":"#N/A"}},{"$error":"#N/A"},1243,7.1252830915107115,{"$f":" IF(Foglio1!$C$10 <> \"\", 8.314472*Foglio1!$C$10*Foglio2!F144, NA())","v":{"$error":"#N/A"}},{"$error":"#N/A"},1243,7.1252830915107115,{"$f":" IF(Foglio1!$C$11 <> \"\", 8.314472*Foglio1!$C$11*Foglio2!J144, NA())","v":{"$error":"#N/A"}},{"$error":"#N/A"},1243,7.1252830915107115,{"$f":" IF(Foglio1!$C$12 <> \"\", 8.314472*Foglio1!$C$12*Foglio2!N144, NA())","v":{"$error":"#N/A"}},{"$error":"#N/A"},1243,7.1252830915107115,{"$f":" IF(Foglio1!$C$13 <> \"\", 8.314472*Foglio1!$C$13*Foglio2!R144, NA())","v":{"$error":"#N/A"}},{"$error":"#N/A"}]
[1252,7.1324975516600437,{"$f":" IF(Foglio1!$C$9 <> \"\", 8.314472*Foglio1!$C$9*Foglio2!B145, NA())","v":{"$error":"#N/A"}},{"$error":"#N/A"},1252,7.1324975516600437,{"$f":" IF(Foglio1!$C$10 <> \"\", 8.314472*Foglio1!$C$10*Foglio2!F145, NA())","v":{"$error":"#N/A"}},{"$error":"#N/A"},1252,7.1324975516600437,{"$f":" IF(Foglio1!$C$11 <> \"\", 8.314472*Foglio1!$C$11*Foglio2!J145, NA())","v":{"$error":"#N/A"}},{"$error":"#N/A"},1252,7.1324975516600437,{"$f":" IF(Foglio1!$C$12 <> \"\", 8.314472*Foglio1!$C$12*Foglio2!N145, NA())","v":{"$error":"#N/A"}},{"$error":"#N/A"},1252,7.1324975516600437,{"$f":" IF(Foglio1!$C$13 <> \"\", 8.314472*Foglio1!$C$13*Foglio2!R145, NA())","v":{"$error":"#N/A"}},{"$error":"#N/A"}]
[1261,7.13966033596492,{"$f":" IF(Foglio1!$C$9 <> \"\", 8.314472*Foglio1!$C$9*Foglio2!B146, NA())","v":{"$error":"#N/A"}},{"$error":"#N/A"},1261,7.13966033596492,{"$f":" IF(Foglio1!$C$10 <> \"\", 8.314472*Foglio1!$C$10*Foglio2!F146, NA())","v":{"$error":"#N/A"}},{"$error":"#N/A"},1261,7.13966033596492,{"$f":" IF(Foglio1!$C$11 <> \"\", 8.314472*Foglio1!$C$11*Foglio2!J146, NA())","v":{"$error":"#N/A"}},{"$error":"#N/A"},1261,7.13966033596492,{"$f":" IF(Foglio1!$C$12 <> \"\", 8.314472*Foglio1!$C$12*Foglio2!N146, NA())","v":{"$error":"#N/A"}},{"$error":"#N/A"},1261,7.13966033596492,{"$f":" IF(Foglio1!$C$13 <> \"\", 8.314472*Foglio1!$C$13*Foglio2!R146, NA())","v":{"$error":"#N/A"}},{"$error":"#N/A"}]
[1270,7.1467721794526371,{"$f":" IF(Foglio1!$C$9 <> \"\", 8.314472*Foglio1!$C$9*Foglio2!B147, NA())","v":{"$error":"#N/A"}},{"$error":"#N/A"},1270,7.1467721794526371,{"$f":" IF(Foglio1!$C$10 <> \"\", 8.314472*Foglio1!$C$10*Foglio2!F147, NA())","v":{"$error":"#N/A"}},{"$error":"#N/A"},1270,7.1467721794526371,{"$f":" IF(Foglio1!$C$11 <> \"\", 8.314472*Foglio1!$C$11*Foglio2!J147, NA())","v":{"$error":"#N/A"}},{"$error":"#N/A"},1270,7.1467721794526371,{"$f":" IF(Foglio1!$C$12 <> \"\", 8.314472*Foglio1!$C$12*Foglio2!N147, NA())","v":{"$error":"#N/A"}},{"$error":"#N/A"},1270,7.1467721794526371,{"$f":" IF(Foglio1!$C$13 <> \"\", 8.314472*Foglio1!$C$13*Foglio2!R147, NA())","v":{"$error":"#N/A"}},{"$error":"#N/A"}]
[1279,7.153833801578843,{"$f":" IF(Foglio1!$C$9 <> \"\", 8.314472*Foglio1!$C$9*Foglio2!B148, NA())","v":{"$error":"#N/A"}},{"$error":"#N/A"},1279,7.153833801578843,{"$f":" IF(Foglio1!$C$10 <> \"\", 8.314472*Foglio1!$C$10*Foglio2!F148, NA())","v":{"$error":"#N/A"}},{"$error":"#N/A"},1279,7.153833801578843,{"$f":" IF(Foglio1!$C$11 <> \"\", 8.314472*Foglio1!$C$11*Foglio2!J148, NA())","v":{"$error":"#N/A"}},{"$error":"#N/A"},1279,7.153833801578843,{"$f":" IF(Foglio1!$C$12 <> \"\", 8.314472*Foglio1!$C$12*Foglio2!N148, NA())","v":{"$error":"#N/A"}},{"$error":"#N/A"},1279,7.153833801578843,{"$f":" IF(Foglio1!$C$13 <> \"\", 8.314472*Foglio1!$C$13*Foglio2!R148, NA())","v":{"$error":"#N/A"}},{"$error":"#N/A"}]
[1288,7.1608459066642993,{"$f":" IF(Foglio1!$C$9 <> \"\", 8.314472*Foglio1!$C$9*Foglio2!B149, NA())","v":{"$error":"#N/A"}},{"$error":"#N/A"},1288,7.1608459066642993,{"$f":" IF(Foglio1!$C$10 <> \"\", 8.314472*Foglio1!$C$10*Foglio2!F149, NA())","v":{"$error":"#N/A"}},{"$error":"#N/A"},1288,7.1608459066642993,{"$f":" IF(Foglio1!$C$11 <> \"\", 8.314472*Foglio1!$C$11*Foglio2!J149, NA())","v":{"$error":"#N/A"}},{"$error":"#N/A"},1288,7.1608459066642993,{"$f":" IF(Foglio1!$C$12 <> \"\", 8.314472*Foglio1!$C$12*Foglio2!N149, NA())","v":{"$error":"#N/A"}},{"$error":"#N/A"},1288,7.1608459066642993,{"$f":" IF(Foglio1!$C$13 <> \"\", 8.314472*Foglio1!$C$13*Foglio2!R149, NA())","v":{"$error":"#N/A"}},{"$error":"#N/A"}]
[1297,7.167809184316444,{"$f":" IF(Foglio1!$C$9 <> \"\", 8.314472*Foglio1!$C$9*Foglio2!B150, NA())","v":{"$error":"#N/A"}},{"$error":"#N/A"},1297,7.167809184316444,{"$f":" IF(Foglio1!$C$10 <> \"\", 8.314472*Foglio1!$C$10*Foglio2!F150, NA())","v":{"$error":"#N/A"}},{"$error":"#N/A"},1297,7.167809184316444,{"$f":" IF(Foglio1!$C$11 <> \"\", 8.314472*Foglio1!$C$11*Foglio2!J150, NA())","v":{"$error":"#N/A"}},{"$error":"#N/A"},1297,7.167809184316444,{"$f":" IF(Foglio1!$C$12 <> \"\", 8.314472*Foglio1!$C$12*Foglio2!N150, NA())","v":{"$error":"#N/A"}},{"$error":"#N/A"},1297,7.167809184316444,{"$f":" IF(Foglio1!$C$13 <> \"\", 8.314472*Foglio1!$C$13*Foglio2!R150, NA())","v":{"$error":"#N/A"}},{"$error":"#N/A"}]
[1306,7.1747243098363764,{"$f":" IF(Foglio1!$C$9 <> \"\", 8.314472*Foglio1!$C$9*Foglio2!B151, NA())","v":{"$error":"#N/A"}},{"$error":"#N/A"},1306,7.1747243098363764,{"$f":" IF(Foglio1!$C$10 <> \"\", 8.314472*Foglio1!$C$10*Foglio2!F151, NA())","v":{"$error":"#N/A"}},{"$error":"#N/A"},1306,7.1747243098363764,{"$f":" IF(Foglio1!$C$11 <> \"\", 8.314472*Foglio1!$C$11*Foglio2!J151, NA())","v":{"$error":"#N/A"}},{"$error":"#N/A"},1306,7.1747243098363764,{"$f":" IF(Foglio1!$C$12 <> \"\", 8.314472*Foglio1!$C$12*Foglio2!N151, NA())","v":{"$error":"#N/A"}},{"$error":"#N/A"},1306,7.1747243098363764,{"$f":" IF(Foglio1!$C$13 <> \"\", 8.314472*Foglio1!$C$13*Foglio2!R151, NA())","v":{"$error":"#N/A"}},{"$error":"#N/A"}]
[1315,7.1815919446118652,{"$f":" IF(Foglio1!$C$9 <> \"\", 8.314472*Foglio1!$C$9*Foglio2!B152, NA())","v":{"$error":"#N/A"}},{"$error":"#N/A"},1315,7.1815919446118652,{"$f":" IF(Foglio1!$C$10 <> \"\", 8.314472*Foglio1!$C$10*Foglio2!F152, NA())","v":{"$error":"#N/A"}},{"$error":"#N/A"},1315,7.1815919446118652,{"$f":" IF(Foglio1!$C$11 <> \"\", 8.314472*Foglio1!$C$11*Foglio2!J152, NA())","v":{"$error":"#N/A"}},{"$error":"#N/A"},1315,7.1815919446118652,{"$f":" IF(Foglio1!$C$12 <> \"\", 8.314472*Foglio1!$C$12*Foglio2!N152, NA())","v":{"$error":"#N/A"}},{"$error":"#N/A"},1315,7.1815919446118652,{"$f":" IF(Foglio1!$C$13 <> \"\", 8.314472*Foglio1!$C$13*Foglio2!R152, NA())","v":{"$error":"#N/A"}},{"$error":"#N/A"}]
[1324,7.1884127364969537,{"$f":" IF(Foglio1!$C$9 <> \"\", 8.314472*Foglio1!$C$9*Foglio2!B153, NA())","v":{"$error":"#N/A"}},{"$error":"#N/A"},1324,7.1884127364969537,{"$f":" IF(Foglio1!$C$10 <> \"\", 8.314472*Foglio1!$C$10*Foglio2!F153, NA())","v":{"$error":"#N/A"}},{"$error":"#N/A"},1324,7.1884127364969537,{"$f":" IF(Foglio1!$C$11 <> \"\", 8.314472*Foglio1!$C$11*Foglio2!J153, NA())","v":{"$error":"#N/A"}},{"$error":"#N/A"},1324,7.1884127364969537,{"$f":" IF(Foglio1!$C$12 <> \"\", 8.314472*Foglio1!$C$12*Foglio2!N153, NA())","v":{"$error":"#N/A"}},{"$error":"#N/A"},1324,7.1884127364969537,{"$f":" IF(Foglio1!$C$13 <> \"\", 8.314472*Foglio1!$C$13*Foglio2!R153, NA())","v":{"$error":"#N/A"}},{"$error":"#N/A"}]
[1333,7.1951873201787091,{"$f":" IF(Foglio1!$C$9 <> \"\", 8.314472*Foglio1!$C$9*Foglio2!B154, NA())","v":{"$error":"#N/A"}},{"$error":"#N/A"},1333,7.1951873201787091,{"$f":" IF(Foglio1!$C$10 <> \"\", 8.314472*Foglio1!$C$10*Foglio2!F154, NA())","v":{"$error":"#N/A"}},{"$error":"#N/A"},1333,7.1951873201787091,{"$f":" IF(Foglio1!$C$11 <> \"\", 8.314472*Foglio1!$C$11*Foglio2!J154, NA())","v":{"$error":"#N/A"}},{"$error":"#N/A"},1333,7.1951873201787091,{"$f":" IF(Foglio1!$C$12 <> \"\", 8.314472*Foglio1!$C$12*Foglio2!N154, NA())","v":{"$error":"#N/A"}},{"$error":"#N/A"},1333,7.1951873201787091,{"$f":" IF(Foglio1!$C$13 <> \"\", 8.314472*Foglio1!$C$13*Foglio2!R154, NA())","v":{"$error":"#N/A"}},{"$error":"#N/A"}]
[1342,7.2019163175316274,{"$f":" IF(Foglio1!$C$9 <> \"\", 8.314472*Foglio1!$C$9*Foglio2!B155, NA())","v":{"$error":"#N/A"}},{"$error":"#N/A"},1342,7.2019163175316274,{"$f":" IF(Foglio1!$C$10 <> \"\", 8.314472*Foglio1!$C$10*Foglio2!F155, NA())","v":{"$error":"#N/A"}},{"$error":"#N/A"},1342,7.2019163175316274,{"$f":" IF(Foglio1!$C$11 <> \"\", 8.314472*Foglio1!$C$11*Foglio2!J155, NA())","v":{"$error":"#N/A"}},{"$error":"#N/A"},1342,7.2019163175316274,{"$f":" IF(Foglio1!$C$12 <> \"\", 8.314472*Foglio1!$C$12*Foglio2!N155, NA())","v":{"$error":"#N/A"}},{"$error":"#N/A"},1342,7.2019163175316274,{"$f":" IF(Foglio1!$C$13 <> \"\", 8.314472*Foglio1!$C$13*Foglio2!R155, NA())","v":{"$error":"#N/A"}},{"$error":"#N/A"}]
[1351,7.2086003379601991,{"$f":" IF(Foglio1!$C$9 <> \"\", 8.314472*Foglio1!$C$9*Foglio2!B156, NA())","v":{"$error":"#N/A"}},{"$error":"#N/A"},1351,7.2086003379601991,{"$f":" IF(Foglio1!$C$10 <> \"\", 8.314472*Foglio1!$C$10*Foglio2!F156, NA())","v":{"$error":"#N/A"}},{"$error":"#N/A"},1351,7.2086003379601991,{"$f":" IF(Foglio1!$C$11 <> \"\", 8.314472*Foglio1!$C$11*Foglio2!J156, NA())","v":{"$error":"#N/A"}},{"$error":"#N/A"},1351,7.2086003379601991,{"$f":" IF(Foglio1!$C$12 <> \"\", 8.314472*Foglio1!$C$12*Foglio2!N156, NA())","v":{"$error":"#N/A"}},{"$error":"#N/A"},1351,7.2086003379601991,{"$f":" IF(Foglio1!$C$13 <> \"\", 8.314472*Foglio1!$C$13*Foglio2!R156, NA())","v":{"$error":"#N/A"}},{"$error":"#N/A"}]
[1360,7.2152399787300974,{"$f":" IF(Foglio1!$C$9 <> \"\", 8.314472*Foglio1!$C$9*Foglio2!B157, NA())","v":{"$error":"#N/A"}},{"$error":"#N/A"},1360,7.2152399787300974,{"$f":" IF(Foglio1!$C$10 <> \"\", 8.314472*Foglio1!$C$10*Foglio2!F157, NA())","v":{"$error":"#N/A"}},{"$error":"#N/A"},1360,7.2152399787300974,{"$f":" IF(Foglio1!$C$11 <> \"\", 8.314472*Foglio1!$C$11*Foglio2!J157, NA())","v":{"$error":"#N/A"}},{"$error":"#N/A"},1360,7.2152399787300974,{"$f":" IF(Foglio1!$C$12 <> \"\", 8.314472*Foglio1!$C$12*Foglio2!N157, NA())","v":{"$error":"#N/A"}},{"$error":"#N/A"},1360,7.2152399787300974,{"$f":" IF(Foglio1!$C$13 <> \"\", 8.314472*Foglio1!$C$13*Foglio2!R157, NA())","v":{"$error":"#N/A"}},{"$error":"#N/A"}]
[1369,7.2218358252884487,{"$f":" IF(Foglio1!$C$9 <> \"\", 8.314472*Foglio1!$C$9*Foglio2!B158, NA())","v":{"$error":"#N/A"}},{"$error":"#N/A"},1369,7.2218358252884487,{"$f":" IF(Foglio1!$C$10 <> \"\", 8.314472*Foglio1!$C$10*Foglio2!F158, NA())","v":{"$error":"#N/A"}},{"$error":"#N/A"},1369,7.2218358252884487,{"$f":" IF(Foglio1!$C$11 <> \"\", 8.314472*Foglio1!$C$11*Foglio2!J158, NA())","v":{"$error":"#N/A"}},{"$error":"#N/A"},1369,7.2218358252884487,{"$f":" IF(Foglio1!$C$12 <> \"\", 8.314472*Foglio1!$C$12*Foglio2!N158, NA())","v":{"$error":"#N/A"}},{"$error":"#N/A"},1369,7.2218358252884487,{"$f":" IF(Foglio1!$C$13 <> \"\", 8.314472*Foglio1!$C$13*Foglio2!R158, NA())","v":{"$error":"#N/A"}},{"$error":"#N/A"}]
[1378,7.2283884515736041,{"$f":" IF(Foglio1!$C$9 <> \"\", 8.314472*Foglio1!$C$9*Foglio2!B159, NA())","v":{"$error":"#N/A"}},{"$error":"#N/A"},1378,7.2283884515736041,{"$f":" IF(Foglio1!$C$10 <> \"\", 8.314472*Foglio1!$C$10*Foglio2!F159, NA())","v":{"$error":"#N/A"}},{"$error":"#N/A"},1378,7.2283884515736041,{"$f":" IF(Foglio1!$C$11 <> \"\", 8.314472*Foglio1!$C$11*Foglio2!J159, NA())","v":{"$error":"#N/A"}},{"$error":"#N/A"},1378,7.2283884515736041,{"$f":" IF(Foglio1!$C$12 <> \"\", 8.314472*Foglio1!$C$12*Foglio2!N159, NA())","v":{"$error":"#N/A"}},{"$error":"#N/A"},1378,7.2283884515736041,{"$f":" IF(Foglio1!$C$13 <> \"\", 8.314472*Foglio1!$C$13*Foglio2!R159, NA())","v":{"$error":"#N/A"}},{"$error":"#N/A"}]
[1387,7.2348984203148312,{"$f":" IF(Foglio1!$C$9 <> \"\", 8.314472*Foglio1!$C$9*Foglio2!B160, NA())","v":{"$error":"#N/A"}},{"$error":"#N/A"},1387,7.2348984203148312,{"$f":" IF(Foglio1!$C$10 <> \"\", 8.314472*Foglio1!$C$10*Foglio2!F160, NA())","v":{"$error":"#N/A"}},{"$error":"#N/A"},1387,7.2348984203148312,{"$f":" IF(Foglio1!$C$11 <> \"\", 8.314472*Foglio1!$C$11*Foglio2!J160, NA())","v":{"$error":"#N/A"}},{"$error":"#N/A"},1387,7.2348984203148312,{"$f":" IF(Foglio1!$C$12 <> \"\", 8.314472*Foglio1!$C$12*Foglio2!N160, NA())","v":{"$error":"#N/A"}},{"$error":"#N/A"},1387,7.2348984203148312,{"$f":" IF(Foglio1!$C$13 <> \"\", 8.314472*Foglio1!$C$13*Foglio2!R160, NA())","v":{"$error":"#N/A"}},{"$error":"#N/A"}]
[1396,7.2413662833223178,{"$f":" IF(Foglio1!$C$9 <> \"\", 8.314472*Foglio1!$C$9*Foglio2!B161, NA())","v":{"$error":"#N/A"}},{"$error":"#N/A"},1396,7.2413662833223178,{"$f":" IF(Foglio1!$C$10 <> \"\", 8.314472*Foglio1!$C$10*Foglio2!F161, NA())","v":{"$error":"#N/A"}},{"$error":"#N/A"},1396,7.2413662833223178,{"$f":" IF(Foglio1!$C$11 <> \"\", 8.314472*Foglio1!$C$11*Foglio2!J161, NA())","v":{"$error":"#N/A"}},{"$error":"#N/A"},1396,7.2413662833223178,{"$f":" IF(Foglio1!$C$12 <> \"\", 8.314472*Foglio1!$C$12*Foglio2!N161, NA())","v":{"$error":"#N/A"}},{"$error":"#N/A"},1396,7.2413662833223178,{"$f":" IF(Foglio1!$C$13 <> \"\", 8.314472*Foglio1!$C$13*Foglio2!R161, NA())","v":{"$error":"#N/A"}},{"$error":"#N/A"}]
[1405,7.2477925817678459,{"$f":" IF(Foglio1!$C$9 <> \"\", 8.314472*Foglio1!$C$9*Foglio2!B162, NA())","v":{"$error":"#N/A"}},{"$error":"#N/A"},1405,7.2477925817678459,{"$f":" IF(Foglio1!$C$10 <> \"\", 8.314472*Foglio1!$C$10*Foglio2!F162, NA())","v":{"$error":"#N/A"}},{"$error":"#N/A"},1405,7.2477925817678459,{"$f":" IF(Foglio1!$C$11 <> \"\", 8.314472*Foglio1!$C$11*Foglio2!J162, NA())","v":{"$error":"#N/A"}},{"$error":"#N/A"},1405,7.2477925817678459,{"$f":" IF(Foglio1!$C$12 <> \"\", 8.314472*Foglio1!$C$12*Foglio2!N162, NA())","v":{"$error":"#N/A"}},{"$error":"#N/A"},1405,7.2477925817678459,{"$f":" IF(Foglio1!$C$13 <> \"\", 8.314472*Foglio1!$C$13*Foglio2!R162, NA())","v":{"$error":"#N/A"}},{"$error":"#N/A"}]
[1414,7.2541778464565176,{"$f":" IF(Foglio1!$C$9 <> \"\", 8.314472*Foglio1!$C$9*Foglio2!B163, NA())","v":{"$error":"#N/A"}},{"$error":"#N/A"},1414,7.2541778464565176,{"$f":" IF(Foglio1!$C$10 <> \"\", 8.314472*Foglio1!$C$10*Foglio2!F163, NA())","v":{"$error":"#N/A"}},{"$error":"#N/A"},1414,7.2541778464565176,{"$f":" IF(Foglio1!$C$11 <> \"\", 8.314472*Foglio1!$C$11*Foglio2!J163, NA())","v":{"$error":"#N/A"}},{"$error":"#N/A"},1414,7.2541778464565176,{"$f":" IF(Foglio1!$C$12 <> \"\", 8.314472*Foglio1!$C$12*Foglio2!N163, NA())","v":{"$error":"#N/A"}},{"$error":"#N/A"},1414,7.2541778464565176,{"$f":" IF(Foglio1!$C$13 <> \"\", 8.314472*Foglio1!$C$13*Foglio2!R163, NA())","v":{"$error":"#N/A"}},{"$error":"#N/A"}]
[1423,7.2605225980898522,{"$f":" IF(Foglio1!$C$9 <> \"\", 8.314472*Foglio1!$C$9*Foglio2!B164, NA())","v":{"$error":"#N/A"}},{"$error":"#N/A"},1423,7.2605225980898522,{"$f":" IF(Foglio1!$C$10 <> \"\", 8.314472*Foglio1!$C$10*Foglio2!F164, NA())","v":{"$error":"#N/A"}},{"$error":"#N/A"},1423,7.2605225980898522,{"$f":" IF(Foglio1!$C$11 <> \"\", 8.314472*Foglio1!$C$11*Foglio2!J164, NA())","v":{"$error":"#N/A"}},{"$error":"#N/A"},1423,7.2605225980898522,{"$f":" IF(Foglio1!$C$12 <> \"\", 8.314472*Foglio1!$C$12*Foglio2!N164, NA())","v":{"$error":"#N/A"}},{"$error":"#N/A"},1423,7.2605225980898522,{"$f":" IF(Foglio1!$C$13 <> \"\", 8.314472*Foglio1!$C$13*Foglio2!R164, NA())","v":{"$error":"#N/A"}},{"$error":"#N/A"}]
[1432,7.2668273475205911,{"$f":" IF(Foglio1!$C$9 <> \"\", 8.314472*Foglio1!$C$9*Foglio2!B165, NA())","v":{"$error":"#N/A"}},{"$error":"#N/A"},1432,7.2668273475205911,{"$f":" IF(Foglio1!$C$10 <> \"\", 8.314472*Foglio1!$C$10*Foglio2!F165, NA())","v":{"$error":"#N/A"}},{"$error":"#N/A"},1432,7.2668273475205911,{"$f":" IF(Foglio1!$C$11 <> \"\", 8.314472*Foglio1!$C$11*Foglio2!J165, NA())","v":{"$error":"#N/A"}},{"$error":"#N/A"},1432,7.2668273475205911,{"$f":" IF(Foglio1!$C$12 <> \"\", 8.314472*Foglio1!$C$12*Foglio2!N165, NA())","v":{"$error":"#N/A"}},{"$error":"#N/A"},1432,7.2668273475205911,{"$f":" IF(Foglio1!$C$13 <> \"\", 8.314472*Foglio1!$C$13*Foglio2!R165, NA())","v":{"$error":"#N/A"}},{"$error":"#N/A"}]
[1441,7.2730925959995218,{"$f":" IF(Foglio1!$C$9 <> \"\", 8.314472*Foglio1!$C$9*Foglio2!B166, NA())","v":{"$error":"#N/A"}},{"$error":"#N/A"},1441,7.2730925959995218,{"$f":" IF(Foglio1!$C$10 <> \"\", 8.314472*Foglio1!$C$10*Foglio2!F166, NA())","v":{"$error":"#N/A"}},{"$error":"#N/A"},1441,7.2730925959995218,{"$f":" IF(Foglio1!$C$11 <> \"\", 8.314472*Foglio1!$C$11*Foglio2!J166, NA())","v":{"$error":"#N/A"}},{"$error":"#N/A"},1441,7.2730925959995218,{"$f":" IF(Foglio1!$C$12 <> \"\", 8.314472*Foglio1!$C$12*Foglio2!N166, NA())","v":{"$error":"#N/A"}},{"$error":"#N/A"},1441,7.2730925959995218,{"$f":" IF(Foglio1!$C$13 <> \"\", 8.314472*Foglio1!$C$13*Foglio2!R166, NA())","v":{"$error":"#N/A"}},{"$error":"#N/A"}]
[1450,7.2793188354146201,{"$f":" IF(Foglio1!$C$9 <> \"\", 8.314472*Foglio1!$C$9*Foglio2!B167, NA())","v":{"$error":"#N/A"}},{"$error":"#N/A"},1450,7.2793188354146201,{"$f":" IF(Foglio1!$C$10 <> \"\", 8.314472*Foglio1!$C$10*Foglio2!F167, NA())","v":{"$error":"#N/A"}},{"$error":"#N/A"},1450,7.2793188354146201,{"$f":" IF(Foglio1!$C$11 <> \"\", 8.314472*Foglio1!$C$11*Foglio2!J167, NA())","v":{"$error":"#N/A"}},{"$error":"#N/A"},1450,7.2793188354146201,{"$f":" IF(Foglio1!$C$12 <> \"\", 8.314472*Foglio1!$C$12*Foglio2!N167, NA())","v":{"$error":"#N/A"}},{"$error":"#N/A"},1450,7.2793188354146201,{"$f":" IF(Foglio1!$C$13 <> \"\", 8.314472*Foglio1!$C$13*Foglio2!R167, NA())","v":{"$error":"#N/A"}},{"$error":"#N/A"}]
[1459,7.2855065485227852,{"$f":" IF(Foglio1!$C$9 <> \"\", 8.314472*Foglio1!$C$9*Foglio2!B168, NA())","v":{"$error":"#N/A"}},{"$error":"#N/A"},1459,7.2855065485227852,{"$f":" IF(Foglio1!$C$10 <> \"\", 8.314472*Foglio1!$C$10*Foglio2!F168, NA())","v":{"$error":"#N/A"}},{"$error":"#N/A"},1459,7.2855065485227852,{"$f":" IF(Foglio1!$C$11 <> \"\", 8.314472*Foglio1!$C$11*Foglio2!J168, NA())","v":{"$error":"#N/A"}},{"$error":"#N/A"},1459,7.2855065485227852,{"$f":" IF(Foglio1!$C$12 <> \"\", 8.314472*Foglio1!$C$12*Foglio2!N168, NA())","v":{"$error":"#N/A"}},{"$error":"#N/A"},1459,7.2855065485227852,{"$f":" IF(Foglio1!$C$13 <> \"\", 8.314472*Foglio1!$C$13*Foglio2!R168, NA())","v":{"$error":"#N/A"}},{"$error":"#N/A"}]
[1468,7.2916562091744606,{"$f":" IF(Foglio1!$C$9 <> \"\", 8.314472*Foglio1!$C$9*Foglio2!B169, NA())","v":{"$error":"#N/A"}},{"$error":"#N/A"},1468,7.2916562091744606,{"$f":" IF(Foglio1!$C$10 <> \"\", 8.314472*Foglio1!$C$10*Foglio2!F169, NA())","v":{"$error":"#N/A"}},{"$error":"#N/A"},1468,7.2916562091744606,{"$f":" IF(Foglio1!$C$11 <> \"\", 8.314472*Foglio1!$C$11*Foglio2!J169, NA())","v":{"$error":"#N/A"}},{"$error":"#N/A"},1468,7.2916562091744606,{"$f":" IF(Foglio1!$C$12 <> \"\", 8.314472*Foglio1!$C$12*Foglio2!N169, NA())","v":{"$error":"#N/A"}},{"$error":"#N/A"},1468,7.2916562091744606,{"$f":" IF(Foglio1!$C$13 <> \"\", 8.314472*Foglio1!$C$13*Foglio2!R169, NA())","v":{"$error":"#N/A"}},{"$error":"#N/A"}]
[1477,7.2977682825313801,{"$f":" IF(Foglio1!$C$9 <> \"\", 8.314472*Foglio1!$C$9*Foglio2!B170, NA())","v":{"$error":"#N/A"}},{"$error":"#N/A"},1477,7.2977682825313801,{"$f":" IF(Foglio1!$C$10 <> \"\", 8.314472*Foglio1!$C$10*Foglio2!F170, NA())","v":{"$error":"#N/A"}},{"$error":"#N/A"},1477,7.2977682825313801,{"$f":" IF(Foglio1!$C$11 <> \"\", 8.314472*Foglio1!$C$11*Foglio2!J170, NA())","v":{"$error":"#N/A"}},{"$error":"#N/A"},1477,7.2977682825313801,{"$f":" IF(Foglio1!$C$12 <> \"\", 8.314472*Foglio1!$C$12*Foglio2!N170, NA())","v":{"$error":"#N/A"}},{"$error":"#N/A"},1477,7.2977682825313801,{"$f":" IF(Foglio1!$C$13 <> \"\", 8.314472*Foglio1!$C$13*Foglio2!R170, NA())","v":{"$error":"#N/A"}},{"$error":"#N/A"}]
[1486,7.3038432252777046,{"$f":" IF(Foglio1!$C$9 <> \"\", 8.314472*Foglio1!$C$9*Foglio2!B171, NA())","v":{"$error":"#N/A"}},{"$error":"#N/A"},1486,7.3038432252777046,{"$f":" IF(Foglio1!$C$10 <> \"\", 8.314472*Foglio1!$C$10*Foglio2!F171, NA())","v":{"$error":"#N/A"}},{"$error":"#N/A"},1486,7.3038432252777046,{"$f":" IF(Foglio1!$C$11 <> \"\", 8.314472*Foglio1!$C$11*Foglio2!J171, NA())","v":{"$error":"#N/A"}},{"$error":"#N/A"},1486,7.3038432252777046,{"$f":" IF(Foglio1!$C$12 <> \"\", 8.314472*Foglio1!$C$12*Foglio2!N171, NA())","v":{"$error":"#N/A"}},{"$error":"#N/A"},1486,7.3038432252777046,{"$f":" IF(Foglio1!$C$13 <> \"\", 8.314472*Foglio1!$C$13*Foglio2!R171, NA())","v":{"$error":"#N/A"}},{"$error":"#N/A"}]
[1495,7.3098814858247865,{"$f":" IF(Foglio1!$C$9 <> \"\", 8.314472*Foglio1!$C$9*Foglio2!B172, NA())","v":{"$error":"#N/A"}},{"$error":"#N/A"},1495,7.3098814858247865,{"$f":" IF(Foglio1!$C$10 <> \"\", 8.314472*Foglio1!$C$10*Foglio2!F172, NA())","v":{"$error":"#N/A"}},{"$error":"#N/A"},1495,7.3098814858247865,{"$f":" IF(Foglio1!$C$11 <> \"\", 8.314472*Foglio1!$C$11*Foglio2!J172, NA())","v":{"$error":"#N/A"}},{"$error":"#N/A"},1495,7.3098814858247865,{"$f":" IF(Foglio1!$C$12 <> \"\", 8.314472*Foglio1!$C$12*Foglio2!N172, NA())","v":{"$error":"#N/A"}},{"$error":"#N/A"},1495,7.3098814858247865,{"$f":" IF(Foglio1!$C$13 <> \"\", 8.314472*Foglio1!$C$13*Foglio2!R172, NA())","v":{"$error":"#N/A"}},{"$error":"#N/A"}]
[1504,7.3158835045097854,{"$f":" IF(Foglio1!$C$9 <> \"\", 8.314472*Foglio1!$C$9*Foglio2!B173, NA())","v":{"$error":"#N/A"}},{"$error":"#N/A"},1504,7.3158835045097854,{"$f":" IF(Foglio1!$C$10 <> \"\", 8.314472*Foglio1!$C$10*Foglio2!F173, NA())","v":{"$error":"#N/A"}},{"$error":"#N/A"},1504,7.3158835045097854,{"$f":" IF(Foglio1!$C$11 <> \"\", 8.314472*Foglio1!$C$11*Foglio2!J173, NA())","v":{"$error":"#N/A"}},{"$error":"#N/A"},1504,7.3158835045097854,{"$f":" IF(Foglio1!$C$12 <> \"\", 8.314472*Foglio1!$C$12*Foglio2!N173, NA())","v":{"$error":"#N/A"}},{"$error":"#N/A"},1504,7.3158835045097854,{"$f":" IF(Foglio1!$C$13 <> \"\", 8.314472*Foglio1!$C$13*Foglio2!R173, NA())","v":{"$error":"#N/A"}},{"$error":"#N/A"}]
[1513,7.3218497137883558,{"$f":" IF(Foglio1!$C$9 <> \"\", 8.314472*Foglio1!$C$9*Foglio2!B174, NA())","v":{"$error":"#N/A"}},{"$error":"#N/A"},1513,7.3218497137883558,{"$f":" IF(Foglio1!$C$10 <> \"\", 8.314472*Foglio1!$C$10*Foglio2!F174, NA())","v":{"$error":"#N/A"}},{"$error":"#N/A"},1513,7.3218497137883558,{"$f":" IF(Foglio1!$C$11 <> \"\", 8.314472*Foglio1!$C$11*Foglio2!J174, NA())","v":{"$error":"#N/A"}},{"$error":"#N/A"},1513,7.3218497137883558,{"$f":" IF(Foglio1!$C$12 <> \"\", 8.314472*Foglio1!$C$12*Foglio2!N174, NA())","v":{"$error":"#N/A"}},{"$error":"#N/A"},1513,7.3218497137883558,{"$f":" IF(Foglio1!$C$13 <> \"\", 8.314472*Foglio1!$C$13*Foglio2!R174, NA())","v":{"$error":"#N/A"}},{"$error":"#N/A"}]
[1522,7.3277805384216315,{"$f":" IF(Foglio1!$C$9 <> \"\", 8.314472*Foglio1!$C$9*Foglio2!B175, NA())","v":{"$error":"#N/A"}},{"$error":"#N/A"},1522,7.3277805384216315,{"$f":" IF(Foglio1!$C$10 <> \"\", 8.314472*Foglio1!$C$10*Foglio2!F175, NA())","v":{"$error":"#N/A"}},{"$error":"#N/A"},1522,7.3277805384216315,{"$f":" IF(Foglio1!$C$11 <> \"\", 8.314472*Foglio1!$C$11*Foglio2!J175, NA())","v":{"$error":"#N/A"}},{"$error":"#N/A"},1522,7.3277805384216315,{"$f":" IF(Foglio1!$C$12 <> \"\", 8.314472*Foglio1!$C$12*Foglio2!N175, NA())","v":{"$error":"#N/A"}},{"$error":"#N/A"},1522,7.3277805384216315,{"$f":" IF(Foglio1!$C$13 <> \"\", 8.314472*Foglio1!$C$13*Foglio2!R175, NA())","v":{"$error":"#N/A"}},{"$error":"#N/A"}]
[1531,7.333676395657684,{"$f":" IF(Foglio1!$C$9 <> \"\", 8.314472*Foglio1!$C$9*Foglio2!B176, NA())","v":{"$error":"#N/A"}},{"$error":"#N/A"},1531,7.333676395657684,{"$f":" IF(Foglio1!$C$10 <> \"\", 8.314472*Foglio1!$C$10*Foglio2!F176, NA())","v":{"$error":"#N/A"}},{"$error":"#N/A"},1531,7.333676395657684,{"$f":" IF(Foglio1!$C$11 <> \"\", 8.314472*Foglio1!$C$11*Foglio2!J176, NA())","v":{"$error":"#N/A"}},{"$error":"#N/A"},1531,7.333676395657684,{"$f":" IF(Foglio1!$C$12 <> \"\", 8.314472*Foglio1!$C$12*Foglio2!N176, NA())","v":{"$error":"#N/A"}},{"$error":"#N/A"},1531,7.333676395657684,{"$f":" IF(Foglio1!$C$13 <> \"\", 8.314472*Foglio1!$C$13*Foglio2!R176, NA())","v":{"$error":"#N/A"}},{"$error":"#N/A"}]
[1540,7.3395376954076745,{"$f":" IF(Foglio1!$C$9 <> \"\", 8.314472*Foglio1!$C$9*Foglio2!B177, NA())","v":{"$error":"#N/A"}},{"$error":"#N/A"},1540,7.3395376954076745,{"$f":" IF(Foglio1!$C$10 <> \"\", 8.314472*Foglio1!$C$10*Foglio2!F177, NA())","v":{"$error":"#N/A"}},{"$error":"#N/A"},1540,7.3395376954076745,{"$f":" IF(Foglio1!$C$11 <> \"\", 8.314472*Foglio1!$C$11*Foglio2!J177, NA())","v":{"$error":"#N/A"}},{"$error":"#N/A"},1540,7.3395376954076745,{"$f":" IF(Foglio1!$C$12 <> \"\", 8.314472*Foglio1!$C$12*Foglio2!N177, NA())","v":{"$error":"#N/A"}},{"$error":"#N/A"},1540,7.3395376954076745,{"$f":" IF(Foglio1!$C$13 <> \"\", 8.314472*Foglio1!$C$13*Foglio2!R177, NA())","v":{"$error":"#N/A"}},{"$error":"#N/A"}]
[1549,7.3453648404168685,{"$f":" IF(Foglio1!$C$9 <> \"\", 8.314472*Foglio1!$C$9*Foglio2!B178, NA())","v":{"$error":"#N/A"}},{"$error":"#N/A"},1549,7.3453648404168685,{"$f":" IF(Foglio1!$C$10 <> \"\", 8.314472*Foglio1!$C$10*Foglio2!F178, NA())","v":{"$error":"#N/A"}},{"$error":"#N/A"},1549,7.3453648404168685,{"$f":" IF(Foglio1!$C$11 <> \"\", 8.314472*Foglio1!$C$11*Foglio2!J178, NA())","v":{"$error":"#N/A"}},{"$error":"#N/A"},1549,7.3453648404168685,{"$f":" IF(Foglio1!$C$12 <> \"\", 8.314472*Foglio1!$C$12*Foglio2!N178, NA())","v":{"$error":"#N/A"}},{"$error":"#N/A"},1549,7.3453648404168685,{"$f":" IF(Foglio1!$C$13 <> \"\", 8.314472*Foglio1!$C$13*Foglio2!R178, NA())","v":{"$error":"#N/A"}},{"$error":"#N/A"}]
[1558,7.3511582264306936,{"$f":" IF(Foglio1!$C$9 <> \"\", 8.314472*Foglio1!$C$9*Foglio2!B179, NA())","v":{"$error":"#N/A"}},{"$error":"#N/A"},1558,7.3511582264306936,{"$f":" IF(Foglio1!$C$10 <> \"\", 8.314472*Foglio1!$C$10*Foglio2!F179, NA())","v":{"$error":"#N/A"}},{"$error":"#N/A"},1558,7.3511582264306936,{"$f":" IF(Foglio1!$C$11 <> \"\", 8.314472*Foglio1!$C$11*Foglio2!J179, NA())","v":{"$error":"#N/A"}},{"$error":"#N/A"},1558,7.3511582264306936,{"$f":" IF(Foglio1!$C$12 <> \"\", 8.314472*Foglio1!$C$12*Foglio2!N179, NA())","v":{"$error":"#N/A"}},{"$error":"#N/A"},1558,7.3511582264306936,{"$f":" IF(Foglio1!$C$13 <> \"\", 8.314472*Foglio1!$C$13*Foglio2!R179, NA())","v":{"$error":"#N/A"}},{"$error":"#N/A"}]
[1567,7.3569182423560209,{"$f":" IF(Foglio1!$C$9 <> \"\", 8.314472*Foglio1!$C$9*Foglio2!B180, NA())","v":{"$error":"#N/A"}},{"$error":"#N/A"},1567,7.3569182423560209,{"$f":" IF(Foglio1!$C$10 <> \"\", 8.314472*Foglio1!$C$10*Foglio2!F180, NA())","v":{"$error":"#N/A"}},{"$error":"#N/A"},1567,7.3569182423560209,{"$f":" IF(Foglio1!$C$11 <> \"\", 8.314472*Foglio1!$C$11*Foglio2!J180, NA())","v":{"$error":"#N/A"}},{"$error":"#N/A"},1567,7.3569182423560209,{"$f":" IF(Foglio1!$C$12 <> \"\", 8.314472*Foglio1!$C$12*Foglio2!N180, NA())","v":{"$error":"#N/A"}},{"$error":"#N/A"},1567,7.3569182423560209,{"$f":" IF(Foglio1!$C$13 <> \"\", 8.314472*Foglio1!$C$13*Foglio2!R180, NA())","v":{"$error":"#N/A"}},{"$error":"#N/A"}]
[1576,7.3626452704178247,{"$f":" IF(Foglio1!$C$9 <> \"\", 8.314472*Foglio1!$C$9*Foglio2!B181, NA())","v":{"$error":"#N/A"}},{"$error":"#N/A"},1576,7.3626452704178247,{"$f":" IF(Foglio1!$C$10 <> \"\", 8.314472*Foglio1!$C$10*Foglio2!F181, NA())","v":{"$error":"#N/A"}},{"$error":"#N/A"},1576,7.3626452704178247,{"$f":" IF(Foglio1!$C$11 <> \"\", 8.314472*Foglio1!$C$11*Foglio2!J181, NA())","v":{"$error":"#N/A"}},{"$error":"#N/A"},1576,7.3626452704178247,{"$f":" IF(Foglio1!$C$12 <> \"\", 8.314472*Foglio1!$C$12*Foglio2!N181, NA())","v":{"$error":"#N/A"}},{"$error":"#N/A"},1576,7.3626452704178247,{"$f":" IF(Foglio1!$C$13 <> \"\", 8.314472*Foglio1!$C$13*Foglio2!R181, NA())","v":{"$error":"#N/A"}},{"$error":"#N/A"}]
[1585,7.3683396863113808,{"$f":" IF(Foglio1!$C$9 <> \"\", 8.314472*Foglio1!$C$9*Foglio2!B182, NA())","v":{"$error":"#N/A"}},{"$error":"#N/A"},1585,7.3683396863113808,{"$f":" IF(Foglio1!$C$10 <> \"\", 8.314472*Foglio1!$C$10*Foglio2!F182, NA())","v":{"$error":"#N/A"}},{"$error":"#N/A"},1585,7.3683396863113808,{"$f":" IF(Foglio1!$C$11 <> \"\", 8.314472*Foglio1!$C$11*Foglio2!J182, NA())","v":{"$error":"#N/A"}},{"$error":"#N/A"},1585,7.3683396863113808,{"$f":" IF(Foglio1!$C$12 <> \"\", 8.314472*Foglio1!$C$12*Foglio2!N182, NA())","v":{"$error":"#N/A"}},{"$error":"#N/A"},1585,7.3683396863113808,{"$f":" IF(Foglio1!$C$13 <> \"\", 8.314472*Foglio1!$C$13*Foglio2!R182, NA())","v":{"$error":"#N/A"}},{"$error":"#N/A"}]
[1594,7.3740018593501606,{"$f":" IF(Foglio1!$C$9 <> \"\", 8.314472*Foglio1!$C$9*Foglio2!B183, NA())","v":{"$error":"#N/A"}},{"$error":"#N/A"},1594,7.3740018593501606,{"$f":" IF(Foglio1!$C$10 <> \"\", 8.314472*Foglio1!$C$10*Foglio2!F183, NA())","v":{"$error":"#N/A"}},{"$error":"#N/A"},1594,7.3740018593501606,{"$f":" IF(Foglio1!$C$11 <> \"\", 8.314472*Foglio1!$C$11*Foglio2!J183, NA())","v":{"$error":"#N/A"}},{"$error":"#N/A"},1594,7.3740018593501606,{"$f":" IF(Foglio1!$C$12 <> \"\", 8.314472*Foglio1!$C$12*Foglio2!N183, NA())","v":{"$error":"#N/A"}},{"$error":"#N/A"},1594,7.3740018593501606,{"$f":" IF(Foglio1!$C$13 <> \"\", 8.314472*Foglio1!$C$13*Foglio2!R183, NA())","v":{"$error":"#N/A"}},{"$error":"#N/A"}]
[1603,7.3796321526095525,{"$f":" IF(Foglio1!$C$9 <> \"\", 8.314472*Foglio1!$C$9*Foglio2!B184, NA())","v":{"$error":"#N/A"}},{"$error":"#N/A"},1603,7.3796321526095525,{"$f":" IF(Foglio1!$C$10 <> \"\", 8.314472*Foglio1!$C$10*Foglio2!F184, NA())","v":{"$error":"#N/A"}},{"$error":"#N/A"},1603,7.3796321526095525,{"$f":" IF(Foglio1!$C$11 <> \"\", 8.314472*Foglio1!$C$11*Foglio2!J184, NA())","v":{"$error":"#N/A"}},{"$error":"#N/A"},1603,7.3796321526095525,{"$f":" IF(Foglio1!$C$12 <> \"\", 8.314472*Foglio1!$C$12*Foglio2!N184, NA())","v":{"$error":"#N/A"}},{"$error":"#N/A"},1603,7.3796321526095525,{"$f":" IF(Foglio1!$C$13 <> \"\", 8.314472*Foglio1!$C$13*Foglio2!R184, NA())","v":{"$error":"#N/A"}},{"$error":"#N/A"}]
[1612,7.3852309230665734,{"$f":" IF(Foglio1!$C$9 <> \"\", 8.314472*Foglio1!$C$9*Foglio2!B185, NA())","v":{"$error":"#N/A"}},{"$error":"#N/A"},1612,7.3852309230665734,{"$f":" IF(Foglio1!$C$10 <> \"\", 8.314472*Foglio1!$C$10*Foglio2!F185, NA())","v":{"$error":"#N/A"}},{"$error":"#N/A"},1612,7.3852309230665734,{"$f":" IF(Foglio1!$C$11 <> \"\", 8.314472*Foglio1!$C$11*Foglio2!J185, NA())","v":{"$error":"#N/A"}},{"$error":"#N/A"},1612,7.3852309230665734,{"$f":" IF(Foglio1!$C$12 <> \"\", 8.314472*Foglio1!$C$12*Foglio2!N185, NA())","v":{"$error":"#N/A"}},{"$error":"#N/A"},1612,7.3852309230665734,{"$f":" IF(Foglio1!$C$13 <> \"\", 8.314472*Foglio1!$C$13*Foglio2!R185, NA())","v":{"$error":"#N/A"}},{"$error":"#N/A"}]
[1621,7.3907985217356762,{"$f":" IF(Foglio1!$C$9 <> \"\", 8.314472*Foglio1!$C$9*Foglio2!B186, NA())","v":{"$error":"#N/A"}},{"$error":"#N/A"},1621,7.3907985217356762,{"$f":" IF(Foglio1!$C$10 <> \"\", 8.314472*Foglio1!$C$10*Foglio2!F186, NA())","v":{"$error":"#N/A"}},{"$error":"#N/A"},1621,7.3907985217356762,{"$f":" IF(Foglio1!$C$11 <> \"\", 8.314472*Foglio1!$C$11*Foglio2!J186, NA())","v":{"$error":"#N/A"}},{"$error":"#N/A"},1621,7.3907985217356762,{"$f":" IF(Foglio1!$C$12 <> \"\", 8.314472*Foglio1!$C$12*Foglio2!N186, NA())","v":{"$error":"#N/A"}},{"$error":"#N/A"},1621,7.3907985217356762,{"$f":" IF(Foglio1!$C$13 <> \"\", 8.314472*Foglio1!$C$13*Foglio2!R186, NA())","v":{"$error":"#N/A"}},{"$error":"#N/A"}]
[1630,7.3963352938008082,{"$f":" IF(Foglio1!$C$9 <> \"\", 8.314472*Foglio1!$C$9*Foglio2!B187, NA())","v":{"$error":"#N/A"}},{"$error":"#N/A"},1630,7.3963352938008082,{"$f":" IF(Foglio1!$C$10 <> \"\", 8.314472*Foglio1!$C$10*Foglio2!F187, NA())","v":{"$error":"#N/A"}},{"$error":"#N/A"},1630,7.3963352938008082,{"$f":" IF(Foglio1!$C$11 <> \"\", 8.314472*Foglio1!$C$11*Foglio2!J187, NA())","v":{"$error":"#N/A"}},{"$error":"#N/A"},1630,7.3963352938008082,{"$f":" IF(Foglio1!$C$12 <> \"\", 8.314472*Foglio1!$C$12*Foglio2!N187, NA())","v":{"$error":"#N/A"}},{"$error":"#N/A"},1630,7.3963352938008082,{"$f":" IF(Foglio1!$C$13 <> \"\", 8.314472*Foglio1!$C$13*Foglio2!R187, NA())","v":{"$error":"#N/A"}},{"$error":"#N/A"}]
[1639,7.4018415787438299,{"$f":" IF(Foglio1!$C$9 <> \"\", 8.314472*Foglio1!$C$9*Foglio2!B188, NA())","v":{"$error":"#N/A"}},{"$error":"#N/A"},1639,7.4018415787438299,{"$f":" IF(Foglio1!$C$10 <> \"\", 8.314472*Foglio1!$C$10*Foglio2!F188, NA())","v":{"$error":"#N/A"}},{"$error":"#N/A"},1639,7.4018415787438299,{"$f":" IF(Foglio1!$C$11 <> \"\", 8.314472*Foglio1!$C$11*Foglio2!J188, NA())","v":{"$error":"#N/A"}},{"$error":"#N/A"},1639,7.4018415787438299,{"$f":" IF(Foglio1!$C$12 <> \"\", 8.314472*Foglio1!$C$12*Foglio2!N188, NA())","v":{"$error":"#N/A"}},{"$error":"#N/A"},1639,7.4018415787438299,{"$f":" IF(Foglio1!$C$13 <> \"\", 8.314472*Foglio1!$C$13*Foglio2!R188, NA())","v":{"$error":"#N/A"}},{"$error":"#N/A"}]
[1648,7.4073177104694174,{"$f":" IF(Foglio1!$C$9 <> \"\", 8.314472*Foglio1!$C$9*Foglio2!B189, NA())","v":{"$error":"#N/A"}},{"$error":"#N/A"},1648,7.4073177104694174,{"$f":" IF(Foglio1!$C$10 <> \"\", 8.314472*Foglio1!$C$10*Foglio2!F189, NA())","v":{"$error":"#N/A"}},{"$error":"#N/A"},1648,7.4073177104694174,{"$f":" IF(Foglio1!$C$11 <> \"\", 8.314472*Foglio1!$C$11*Foglio2!J189, NA())","v":{"$error":"#N/A"}},{"$error":"#N/A"},1648,7.4073177104694174,{"$f":" IF(Foglio1!$C$12 <> \"\", 8.314472*Foglio1!$C$12*Foglio2!N189, NA())","v":{"$error":"#N/A"}},{"$error":"#N/A"},1648,7.4073177104694174,{"$f":" IF(Foglio1!$C$13 <> \"\", 8.314472*Foglio1!$C$13*Foglio2!R189, NA())","v":{"$error":"#N/A"}},{"$error":"#N/A"}]
[1657,7.4127640174265625,{"$f":" IF(Foglio1!$C$9 <> \"\", 8.314472*Foglio1!$C$9*Foglio2!B190, NA())","v":{"$error":"#N/A"}},{"$error":"#N/A"},1657,7.4127640174265625,{"$f":" IF(Foglio1!$C$10 <> \"\", 8.314472*Foglio1!$C$10*Foglio2!F190, NA())","v":{"$error":"#N/A"}},{"$error":"#N/A"},1657,7.4127640174265625,{"$f":" IF(Foglio1!$C$11 <> \"\", 8.314472*Foglio1!$C$11*Foglio2!J190, NA())","v":{"$error":"#N/A"}},{"$error":"#N/A"},1657,7.4127640174265625,{"$f":" IF(Foglio1!$C$12 <> \"\", 8.314472*Foglio1!$C$12*Foglio2!N190, NA())","v":{"$error":"#N/A"}},{"$error":"#N/A"},1657,7.4127640174265625,{"$f":" IF(Foglio1!$C$13 <> \"\", 8.314472*Foglio1!$C$13*Foglio2!R190, NA())","v":{"$error":"#N/A"}},{"$error":"#N/A"}]
[1666,7.4181808227267876,{"$f":" IF(Foglio1!$C$9 <> \"\", 8.314472*Foglio1!$C$9*Foglio2!B191, NA())","v":{"$error":"#N/A"}},{"$error":"#N/A"},1666,7.4181808227267876,{"$f":" IF(Foglio1!$C$10 <> \"\", 8.314472*Foglio1!$C$10*Foglio2!F191, NA())","v":{"$error":"#N/A"}},{"$error":"#N/A"},1666,7.4181808227267876,{"$f":" IF(Foglio1!$C$11 <> \"\", 8.314472*Foglio1!$C$11*Foglio2!J191, NA())","v":{"$error":"#N/A"}},{"$error":"#N/A"},1666,7.4181808227267876,{"$f":" IF(Foglio1!$C$12 <> \"\", 8.314472*Foglio1!$C$12*Foglio2!N191, NA())","v":{"$error":"#N/A"}},{"$error":"#N/A"},1666,7.4181808227267876,{"$f":" IF(Foglio1!$C$13 <> \"\", 8.314472*Foglio1!$C$13*Foglio2!R191, NA())","v":{"$error":"#N/A"}},{"$error":"#N/A"}]
[1675,7.4235684442591667,{"$f":" IF(Foglio1!$C$9 <> \"\", 8.314472*Foglio1!$C$9*Foglio2!B192, NA())","v":{"$error":"#N/A"}},{"$error":"#N/A"},1675,7.4235684442591667,{"$f":" IF(Foglio1!$C$10 <> \"\", 8.314472*Foglio1!$C$10*Foglio2!F192, NA())","v":{"$error":"#N/A"}},{"$error":"#N/A"},1675,7.4235684442591667,{"$f":" IF(Foglio1!$C$11 <> \"\", 8.314472*Foglio1!$C$11*Foglio2!J192, NA())","v":{"$error":"#N/A"}},{"$error":"#N/A"},1675,7.4235684442591667,{"$f":" IF(Foglio1!$C$12 <> \"\", 8.314472*Foglio1!$C$12*Foglio2!N192, NA())","v":{"$error":"#N/A"}},{"$error":"#N/A"},1675,7.4235684442591667,{"$f":" IF(Foglio1!$C$13 <> \"\", 8.314472*Foglio1!$C$13*Foglio2!R192, NA())","v":{"$error":"#N/A"}},{"$error":"#N/A"}]
[1684,7.4289271948022719,{"$f":" IF(Foglio1!$C$9 <> \"\", 8.314472*Foglio1!$C$9*Foglio2!B193, NA())","v":{"$error":"#N/A"}},{"$error":"#N/A"},1684,7.4289271948022719,{"$f":" IF(Foglio1!$C$10 <> \"\", 8.314472*Foglio1!$C$10*Foglio2!F193, NA())","v":{"$error":"#N/A"}},{"$error":"#N/A"},1684,7.4289271948022719,{"$f":" IF(Foglio1!$C$11 <> \"\", 8.314472*Foglio1!$C$11*Foglio2!J193, NA())","v":{"$error":"#N/A"}},{"$error":"#N/A"},1684,7.4289271948022719,{"$f":" IF(Foglio1!$C$12 <> \"\", 8.314472*Foglio1!$C$12*Foglio2!N193, NA())","v":{"$error":"#N/A"}},{"$error":"#N/A"},1684,7.4289271948022719,{"$f":" IF(Foglio1!$C$13 <> \"\", 8.314472*Foglio1!$C$13*Foglio2!R193, NA())","v":{"$error":"#N/A"}},{"$error":"#N/A"}]
[1693,7.4342573821331355,{"$f":" IF(Foglio1!$C$9 <> \"\", 8.314472*Foglio1!$C$9*Foglio2!B194, NA())","v":{"$error":"#N/A"}},{"$error":"#N/A"},1693,7.4342573821331355,{"$f":" IF(Foglio1!$C$10 <> \"\", 8.314472*Foglio1!$C$10*Foglio2!F194, NA())","v":{"$error":"#N/A"}},{"$error":"#N/A"},1693,7.4342573821331355,{"$f":" IF(Foglio1!$C$11 <> \"\", 8.314472*Foglio1!$C$11*Foglio2!J194, NA())","v":{"$error":"#N/A"}},{"$error":"#N/A"},1693,7.4342573821331355,{"$f":" IF(Foglio1!$C$12 <> \"\", 8.314472*Foglio1!$C$12*Foglio2!N194, NA())","v":{"$error":"#N/A"}},{"$error":"#N/A"},1693,7.4342573821331355,{"$f":" IF(Foglio1!$C$13 <> \"\", 8.314472*Foglio1!$C$13*Foglio2!R194, NA())","v":{"$error":"#N/A"}},{"$error":"#N/A"}]
[1702,{"$f":"LN(A195)","v":7.4395593091333199},{"$f":" IF(Foglio1!$C$9 <> \"\", 8.314472*Foglio1!$C$9*Foglio2!B195, NA())","v":{"$error":"#N/A"}},{"$f":"  -30.5 + C195*10^-3","v":{"$error":"#N/A"}},1702,{"$f":"LN(E195)","v":7.4395593091333199},{"$f":" IF(Foglio1!$C$10 <> \"\", 8.314472*Foglio1!$C$10*Foglio2!F195, NA())","v":{"$error":"#N/A"}},{"$f":" -30.5+ G195*10^-3","v":{"$error":"#N/A"}},1702,{"$f":"LN(I195)","v":7.4395593091333199},{"$f":" IF(Foglio1!$C$11 <> \"\", 8.314472*Foglio1!$C$11*Foglio2!J195, NA())","v":{"$error":"#N/A"}},{"$f":" -30.5+ K195*10^-3","v":{"$error":"#N/A"}},1702,{"$f":"LN(M195)","v":7.4395593091333199},{"$f":" IF(Foglio1!$C$12 <> \"\", 8.314472*Foglio1!$C$12*Foglio2!N195, NA())","v":{"$error":"#N/A"}},{"$f":" -30.5+ O195*10^-3","v":{"$error":"#N/A"}},1702,{"$f":"LN(Q195)","v":7.4395593091333199},{"$f":" IF(Foglio1!$C$13 <> \"\", 8.314472*Foglio1!$C$13*Foglio2!R195, NA())","v":{"$error":"#N/A"}},{"$f":" -30.5+S195*10^-3","v":{"$error":"#N/A"}}]
[1711,7.4448332738921934,{"$f":" IF(Foglio1!$C$9 <> \"\", 8.314472*Foglio1!$C$9*Foglio2!B196, NA())","v":{"$error":"#N/A"}},{"$error":"#N/A"},1711,7.4448332738921934,{"$f":" IF(Foglio1!$C$10 <> \"\", 8.314472*Foglio1!$C$10*Foglio2!F196, NA())","v":{"$error":"#N/A"}},{"$error":"#N/A"},1711,7.4448332738921934,{"$f":" IF(Foglio1!$C$11 <> \"\", 8.314472*Foglio1!$C$11*Foglio2!J196, NA())","v":{"$error":"#N/A"}},{"$error":"#N/A"},1711,7.4448332738921934,{"$f":" IF(Foglio1!$C$12 <> \"\", 8.314472*Foglio1!$C$12*Foglio2!N196, NA())","v":{"$error":"#N/A"}},{"$error":"#N/A"},1711,7.4448332738921934,{"$f":" IF(Foglio1!$C$13 <> \"\", 8.314472*Foglio1!$C$13*Foglio2!R196, NA())","v":{"$error":"#N/A"}},{"$error":"#N/A"}]
[1720,7.4500795698074986,{"$f":" IF(Foglio1!$C$9 <> \"\", 8.314472*Foglio1!$C$9*Foglio2!B197, NA())","v":{"$error":"#N/A"}},{"$error":"#N/A"},1720,7.4500795698074986,{"$f":" IF(Foglio1!$C$10 <> \"\", 8.314472*Foglio1!$C$10*Foglio2!F197, NA())","v":{"$error":"#N/A"}},{"$error":"#N/A"},1720,7.4500795698074986,{"$f":" IF(Foglio1!$C$11 <> \"\", 8.314472*Foglio1!$C$11*Foglio2!J197, NA())","v":{"$error":"#N/A"}},{"$error":"#N/A"},1720,7.4500795698074986,{"$f":" IF(Foglio1!$C$12 <> \"\", 8.314472*Foglio1!$C$12*Foglio2!N197, NA())","v":{"$error":"#N/A"}},{"$error":"#N/A"},1720,7.4500795698074986,{"$f":" IF(Foglio1!$C$13 <> \"\", 8.314472*Foglio1!$C$13*Foglio2!R197, NA())","v":{"$error":"#N/A"}},{"$error":"#N/A"}]
[1729,7.4552984856832909,{"$f":" IF(Foglio1!$C$9 <> \"\", 8.314472*Foglio1!$C$9*Foglio2!B198, NA())","v":{"$error":"#N/A"}},{"$error":"#N/A"},1729,7.4552984856832909,{"$f":" IF(Foglio1!$C$10 <> \"\", 8.314472*Foglio1!$C$10*Foglio2!F198, NA())","v":{"$error":"#N/A"}},{"$error":"#N/A"},1729,7.4552984856832909,{"$f":" IF(Foglio1!$C$11 <> \"\", 8.314472*Foglio1!$C$11*Foglio2!J198, NA())","v":{"$error":"#N/A"}},{"$error":"#N/A"},1729,7.4552984856832909,{"$f":" IF(Foglio1!$C$12 <> \"\", 8.314472*Foglio1!$C$12*Foglio2!N198, NA())","v":{"$error":"#N/A"}},{"$error":"#N/A"},1729,7.4552984856832909,{"$f":" IF(Foglio1!$C$13 <> \"\", 8.314472*Foglio1!$C$13*Foglio2!R198, NA())","v":{"$error":"#N/A"}},{"$error":"#N/A"}]
[1738,7.4604903058253376,{"$f":" IF(Foglio1!$C$9 <> \"\", 8.314472*Foglio1!$C$9*Foglio2!B199, NA())","v":{"$error":"#N/A"}},{"$error":"#N/A"},1738,7.4604903058253376,{"$f":" IF(Foglio1!$C$10 <> \"\", 8.314472*Foglio1!$C$10*Foglio2!F199, NA())","v":{"$error":"#N/A"}},{"$error":"#N/A"},1738,7.4604903058253376,{"$f":" IF(Foglio1!$C$11 <> \"\", 8.314472*Foglio1!$C$11*Foglio2!J199, NA())","v":{"$error":"#N/A"}},{"$error":"#N/A"},1738,7.4604903058253376,{"$f":" IF(Foglio1!$C$12 <> \"\", 8.314472*Foglio1!$C$12*Foglio2!N199, NA())","v":{"$error":"#N/A"}},{"$error":"#N/A"},1738,7.4604903058253376,{"$f":" IF(Foglio1!$C$13 <> \"\", 8.314472*Foglio1!$C$13*Foglio2!R199, NA())","v":{"$error":"#N/A"}},{"$error":"#N/A"}]
[1747,7.4656553101340561,{"$f":" IF(Foglio1!$C$9 <> \"\", 8.314472*Foglio1!$C$9*Foglio2!B200, NA())","v":{"$error":"#N/A"}},{"$error":"#N/A"},1747,7.4656553101340561,{"$f":" IF(Foglio1!$C$10 <> \"\", 8.314472*Foglio1!$C$10*Foglio2!F200, NA())","v":{"$error":"#N/A"}},{"$error":"#N/A"},1747,7.4656553101340561,{"$f":" IF(Foglio1!$C$11 <> \"\", 8.314472*Foglio1!$C$11*Foglio2!J200, NA())","v":{"$error":"#N/A"}},{"$error":"#N/A"},1747,7.4656553101340561,{"$f":" IF(Foglio1!$C$12 <> \"\", 8.314472*Foglio1!$C$12*Foglio2!N200, NA())","v":{"$error":"#N/A"}},{"$error":"#N/A"},1747,7.4656553101340561,{"$f":" IF(Foglio1!$C$13 <> \"\", 8.314472*Foglio1!$C$13*Foglio2!R200, NA())","v":{"$error":"#N/A"}},{"$error":"#N/A"}]
[1756,7.4707937741950623,{"$f":" IF(Foglio1!$C$9 <> \"\", 8.314472*Foglio1!$C$9*Foglio2!B201, NA())","v":{"$error":"#N/A"}},{"$error":"#N/A"},1756,7.4707937741950623,{"$f":" IF(Foglio1!$C$10 <> \"\", 8.314472*Foglio1!$C$10*Foglio2!F201, NA())","v":{"$error":"#N/A"}},{"$error":"#N/A"},1756,7.4707937741950623,{"$f":" IF(Foglio1!$C$11 <> \"\", 8.314472*Foglio1!$C$11*Foglio2!J201, NA())","v":{"$error":"#N/A"}},{"$error":"#N/A"},1756,7.4707937741950623,{"$f":" IF(Foglio1!$C$12 <> \"\", 8.314472*Foglio1!$C$12*Foglio2!N201, NA())","v":{"$error":"#N/A"}},{"$error":"#N/A"},1756,7.4707937741950623,{"$f":" IF(Foglio1!$C$13 <> \"\", 8.314472*Foglio1!$C$13*Foglio2!R201, NA())","v":{"$error":"#N/A"}},{"$error":"#N/A"}]
[1765,7.475905969367397,{"$f":" IF(Foglio1!$C$9 <> \"\", 8.314472*Foglio1!$C$9*Foglio2!B202, NA())","v":{"$error":"#N/A"}},{"$error":"#N/A"},1765,7.475905969367397,{"$f":" IF(Foglio1!$C$10 <> \"\", 8.314472*Foglio1!$C$10*Foglio2!F202, NA())","v":{"$error":"#N/A"}},{"$error":"#N/A"},1765,7.475905969367397,{"$f":" IF(Foglio1!$C$11 <> \"\", 8.314472*Foglio1!$C$11*Foglio2!J202, NA())","v":{"$error":"#N/A"}},{"$error":"#N/A"},1765,7.475905969367397,{"$f":" IF(Foglio1!$C$12 <> \"\", 8.314472*Foglio1!$C$12*Foglio2!N202, NA())","v":{"$error":"#N/A"}},{"$error":"#N/A"},1765,7.475905969367397,{"$f":" IF(Foglio1!$C$13 <> \"\", 8.314472*Foglio1!$C$13*Foglio2!R202, NA())","v":{"$error":"#N/A"}},{"$error":"#N/A"}]
[1774,7.4809921628695246,{"$f":" IF(Foglio1!$C$9 <> \"\", 8.314472*Foglio1!$C$9*Foglio2!B203, NA())","v":{"$error":"#N/A"}},{"$error":"#N/A"},1774,7.4809921628695246,{"$f":" IF(Foglio1!$C$10 <> \"\", 8.314472*Foglio1!$C$10*Foglio2!F203, NA())","v":{"$error":"#N/A"}},{"$error":"#N/A"},1774,7.4809921628695246,{"$f":" IF(Foglio1!$C$11 <> \"\", 8.314472*Foglio1!$C$11*Foglio2!J203, NA())","v":{"$error":"#N/A"}},{"$error":"#N/A"},1774,7.4809921628695246,{"$f":" IF(Foglio1!$C$12 <> \"\", 8.314472*Foglio1!$C$12*Foglio2!N203, NA())","v":{"$error":"#N/A"}},{"$error":"#N/A"},1774,7.4809921628695246,{"$f":" IF(Foglio1!$C$13 <> \"\", 8.314472*Foglio1!$C$13*Foglio2!R203, NA())","v":{"$error":"#N/A"}},{"$error":"#N/A"}]
[1783,7.4860526178631401,{"$f":" IF(Foglio1!$C$9 <> \"\", 8.314472*Foglio1!$C$9*Foglio2!B204, NA())","v":{"$error":"#N/A"}},{"$error":"#N/A"},1783,7.4860526178631401,{"$f":" IF(Foglio1!$C$10 <> \"\", 8.314472*Foglio1!$C$10*Foglio2!F204, NA())","v":{"$error":"#N/A"}},{"$error":"#N/A"},1783,7.4860526178631401,{"$f":" IF(Foglio1!$C$11 <> \"\", 8.314472*Foglio1!$C$11*Foglio2!J204, NA())","v":{"$error":"#N/A"}},{"$error":"#N/A"},1783,7.4860526178631401,{"$f":" IF(Foglio1!$C$12 <> \"\", 8.314472*Foglio1!$C$12*Foglio2!N204, NA())","v":{"$error":"#N/A"}},{"$error":"#N/A"},1783,7.4860526178631401,{"$f":" IF(Foglio1!$C$13 <> \"\", 8.314472*Foglio1!$C$13*Foglio2!R204, NA())","v":{"$error":"#N/A"}},{"$error":"#N/A"}]
[1792,7.4910875935348757,{"$f":" IF(Foglio1!$C$9 <> \"\", 8.314472*Foglio1!$C$9*Foglio2!B205, NA())","v":{"$error":"#N/A"}},{"$error":"#N/A"},1792,7.4910875935348757,{"$f":" IF(Foglio1!$C$10 <> \"\", 8.314472*Foglio1!$C$10*Foglio2!F205, NA())","v":{"$error":"#N/A"}},{"$error":"#N/A"},1792,7.4910875935348757,{"$f":" IF(Foglio1!$C$11 <> \"\", 8.314472*Foglio1!$C$11*Foglio2!J205, NA())","v":{"$error":"#N/A"}},{"$error":"#N/A"},1792,7.4910875935348757,{"$f":" IF(Foglio1!$C$12 <> \"\", 8.314472*Foglio1!$C$12*Foglio2!N205, NA())","v":{"$error":"#N/A"}},{"$error":"#N/A"},1792,7.4910875935348757,{"$f":" IF(Foglio1!$C$13 <> \"\", 8.314472*Foglio1!$C$13*Foglio2!R205, NA())","v":{"$error":"#N/A"}},{"$error":"#N/A"}]
[1801,7.4960973451759561,{"$f":" IF(Foglio1!$C$9 <> \"\", 8.314472*Foglio1!$C$9*Foglio2!B206, NA())","v":{"$error":"#N/A"}},{"$error":"#N/A"},1801,7.4960973451759561,{"$f":" IF(Foglio1!$C$10 <> \"\", 8.314472*Foglio1!$C$10*Foglio2!F206, NA())","v":{"$error":"#N/A"}},{"$error":"#N/A"},1801,7.4960973451759561,{"$f":" IF(Foglio1!$C$11 <> \"\", 8.314472*Foglio1!$C$11*Foglio2!J206, NA())","v":{"$error":"#N/A"}},{"$error":"#N/A"},1801,7.4960973451759561,{"$f":" IF(Foglio1!$C$12 <> \"\", 8.314472*Foglio1!$C$12*Foglio2!N206, NA())","v":{"$error":"#N/A"}},{"$error":"#N/A"},1801,7.4960973451759561,{"$f":" IF(Foglio1!$C$13 <> \"\", 8.314472*Foglio1!$C$13*Foglio2!R206, NA())","v":{"$error":"#N/A"}},{"$error":"#N/A"}]
[1810,7.5010821242598711,{"$f":" IF(Foglio1!$C$9 <> \"\", 8.314472*Foglio1!$C$9*Foglio2!B207, NA())","v":{"$error":"#N/A"}},{"$error":"#N/A"},1810,7.5010821242598711,{"$f":" IF(Foglio1!$C$10 <> \"\", 8.314472*Foglio1!$C$10*Foglio2!F207, NA())","v":{"$error":"#N/A"}},{"$error":"#N/A"},1810,7.5010821242598711,{"$f":" IF(Foglio1!$C$11 <> \"\", 8.314472*Foglio1!$C$11*Foglio2!J207, NA())","v":{"$error":"#N/A"}},{"$error":"#N/A"},1810,7.5010821242598711,{"$f":" IF(Foglio1!$C$12 <> \"\", 8.314472*Foglio1!$C$12*Foglio2!N207, NA())","v":{"$error":"#N/A"}},{"$error":"#N/A"},1810,7.5010821242598711,{"$f":" IF(Foglio1!$C$13 <> \"\", 8.314472*Foglio1!$C$13*Foglio2!R207, NA())","v":{"$error":"#N/A"}},{"$error":"#N/A"}]
[1819,7.5060421785181219,{"$f":" IF(Foglio1!$C$9 <> \"\", 8.314472*Foglio1!$C$9*Foglio2!B208, NA())","v":{"$error":"#N/A"}},{"$error":"#N/A"},1819,7.5060421785181219,{"$f":" IF(Foglio1!$C$10 <> \"\", 8.314472*Foglio1!$C$10*Foglio2!F208, NA())","v":{"$error":"#N/A"}},{"$error":"#N/A"},1819,7.5060421785181219,{"$f":" IF(Foglio1!$C$11 <> \"\", 8.314472*Foglio1!$C$11*Foglio2!J208, NA())","v":{"$error":"#N/A"}},{"$error":"#N/A"},1819,7.5060421785181219,{"$f":" IF(Foglio1!$C$12 <> \"\", 8.314472*Foglio1!$C$12*Foglio2!N208, NA())","v":{"$error":"#N/A"}},{"$error":"#N/A"},1819,7.5060421785181219,{"$f":" IF(Foglio1!$C$13 <> \"\", 8.314472*Foglio1!$C$13*Foglio2!R208, NA())","v":{"$error":"#N/A"}},{"$error":"#N/A"}]
[1828,7.510977752014095,{"$f":" IF(Foglio1!$C$9 <> \"\", 8.314472*Foglio1!$C$9*Foglio2!B209, NA())","v":{"$error":"#N/A"}},{"$error":"#N/A"},1828,7.510977752014095,{"$f":" IF(Foglio1!$C$10 <> \"\", 8.314472*Foglio1!$C$10*Foglio2!F209, NA())","v":{"$error":"#N/A"}},{"$error":"#N/A"},1828,7.510977752014095,{"$f":" IF(Foglio1!$C$11 <> \"\", 8.314472*Foglio1!$C$11*Foglio2!J209, NA())","v":{"$error":"#N/A"}},{"$error":"#N/A"},1828,7.510977752014095,{"$f":" IF(Foglio1!$C$12 <> \"\", 8.314472*Foglio1!$C$12*Foglio2!N209, NA())","v":{"$error":"#N/A"}},{"$error":"#N/A"},1828,7.510977752014095,{"$f":" IF(Foglio1!$C$13 <> \"\", 8.314472*Foglio1!$C$13*Foglio2!R209, NA())","v":{"$error":"#N/A"}},{"$error":"#N/A"}]
[1837,7.5158890852151252,{"$f":" IF(Foglio1!$C$9 <> \"\", 8.314472*Foglio1!$C$9*Foglio2!B210, NA())","v":{"$error":"#N/A"}},{"$error":"#N/A"},1837,7.5158890852151252,{"$f":" IF(Foglio1!$C$10 <> \"\", 8.314472*Foglio1!$C$10*Foglio2!F210, NA())","v":{"$error":"#N/A"}},{"$error":"#N/A"},1837,7.5158890852151252,{"$f":" IF(Foglio1!$C$11 <> \"\", 8.314472*Foglio1!$C$11*Foglio2!J210, NA())","v":{"$error":"#N/A"}},{"$error":"#N/A"},1837,7.5158890852151252,{"$f":" IF(Foglio1!$C$12 <> \"\", 8.314472*Foglio1!$C$12*Foglio2!N210, NA())","v":{"$error":"#N/A"}},{"$error":"#N/A"},1837,7.5158890852151252,{"$f":" IF(Foglio1!$C$13 <> \"\", 8.314472*Foglio1!$C$13*Foglio2!R210, NA())","v":{"$error":"#N/A"}},{"$error":"#N/A"}]
[1846,7.5207764150627971,{"$f":" IF(Foglio1!$C$9 <> \"\", 8.314472*Foglio1!$C$9*Foglio2!B211, NA())","v":{"$error":"#N/A"}},{"$error":"#N/A"},1846,7.5207764150627971,{"$f":" IF(Foglio1!$C$10 <> \"\", 8.314472*Foglio1!$C$10*Foglio2!F211, NA())","v":{"$error":"#N/A"}},{"$error":"#N/A"},1846,7.5207764150627971,{"$f":" IF(Foglio1!$C$11 <> \"\", 8.314472*Foglio1!$C$11*Foglio2!J211, NA())","v":{"$error":"#N/A"}},{"$error":"#N/A"},1846,7.5207764150627971,{"$f":" IF(Foglio1!$C$12 <> \"\", 8.314472*Foglio1!$C$12*Foglio2!N211, NA())","v":{"$error":"#N/A"}},{"$error":"#N/A"},1846,7.5207764150627971,{"$f":" IF(Foglio1!$C$13 <> \"\", 8.314472*Foglio1!$C$13*Foglio2!R211, NA())","v":{"$error":"#N/A"}},{"$error":"#N/A"}]
[1855,7.5256399750415355,{"$f":" IF(Foglio1!$C$9 <> \"\", 8.314472*Foglio1!$C$9*Foglio2!B212, NA())","v":{"$error":"#N/A"}},{"$error":"#N/A"},1855,7.5256399750415355,{"$f":" IF(Foglio1!$C$10 <> \"\", 8.314472*Foglio1!$C$10*Foglio2!F212, NA())","v":{"$error":"#N/A"}},{"$error":"#N/A"},1855,7.5256399750415355,{"$f":" IF(Foglio1!$C$11 <> \"\", 8.314472*Foglio1!$C$11*Foglio2!J212, NA())","v":{"$error":"#N/A"}},{"$error":"#N/A"},1855,7.5256399750415355,{"$f":" IF(Foglio1!$C$12 <> \"\", 8.314472*Foglio1!$C$12*Foglio2!N212, NA())","v":{"$error":"#N/A"}},{"$error":"#N/A"},1855,7.5256399750415355,{"$f":" IF(Foglio1!$C$13 <> \"\", 8.314472*Foglio1!$C$13*Foglio2!R212, NA())","v":{"$error":"#N/A"}},{"$error":"#N/A"}]
[1864,7.5304799952455364,{"$f":" IF(Foglio1!$C$9 <> \"\", 8.314472*Foglio1!$C$9*Foglio2!B213, NA())","v":{"$error":"#N/A"}},{"$error":"#N/A"},1864,7.5304799952455364,{"$f":" IF(Foglio1!$C$10 <> \"\", 8.314472*Foglio1!$C$10*Foglio2!F213, NA())","v":{"$error":"#N/A"}},{"$error":"#N/A"},1864,7.5304799952455364,{"$f":" IF(Foglio1!$C$11 <> \"\", 8.314472*Foglio1!$C$11*Foglio2!J213, NA())","v":{"$error":"#N/A"}},{"$error":"#N/A"},1864,7.5304799952455364,{"$f":" IF(Foglio1!$C$12 <> \"\", 8.314472*Foglio1!$C$12*Foglio2!N213, NA())","v":{"$error":"#N/A"}},{"$error":"#N/A"},1864,7.5304799952455364,{"$f":" IF(Foglio1!$C$13 <> \"\", 8.314472*Foglio1!$C$13*Foglio2!R213, NA())","v":{"$error":"#N/A"}},{"$error":"#N/A"}]
[1873,7.5352967024440884,{"$f":" IF(Foglio1!$C$9 <> \"\", 8.314472*Foglio1!$C$9*Foglio2!B214, NA())","v":{"$error":"#N/A"}},{"$error":"#N/A"},1873,7.5352967024440884,{"$f":" IF(Foglio1!$C$10 <> \"\", 8.314472*Foglio1!$C$10*Foglio2!F214, NA())","v":{"$error":"#N/A"}},{"$error":"#N/A"},1873,7.5352967024440884,{"$f":" IF(Foglio1!$C$11 <> \"\", 8.314472*Foglio1!$C$11*Foglio2!J214, NA())","v":{"$error":"#N/A"}},{"$error":"#N/A"},1873,7.5352967024440884,{"$f":" IF(Foglio1!$C$12 <> \"\", 8.314472*Foglio1!$C$12*Foglio2!N214, NA())","v":{"$error":"#N/A"}},{"$error":"#N/A"},1873,7.5352967024440884,{"$f":" IF(Foglio1!$C$13 <> \"\", 8.314472*Foglio1!$C$13*Foglio2!R214, NA())","v":{"$error":"#N/A"}},{"$error":"#N/A"}]
[1882,7.5400903201453247,{"$f":" IF(Foglio1!$C$9 <> \"\", 8.314472*Foglio1!$C$9*Foglio2!B215, NA())","v":{"$error":"#N/A"}},{"$error":"#N/A"},1882,7.5400903201453247,{"$f":" IF(Foglio1!$C$10 <> \"\", 8.314472*Foglio1!$C$10*Foglio2!F215, NA())","v":{"$error":"#N/A"}},{"$error":"#N/A"},1882,7.5400903201453247,{"$f":" IF(Foglio1!$C$11 <> \"\", 8.314472*Foglio1!$C$11*Foglio2!J215, NA())","v":{"$error":"#N/A"}},{"$error":"#N/A"},1882,7.5400903201453247,{"$f":" IF(Foglio1!$C$12 <> \"\", 8.314472*Foglio1!$C$12*Foglio2!N215, NA())","v":{"$error":"#N/A"}},{"$error":"#N/A"},1882,7.5400903201453247,{"$f":" IF(Foglio1!$C$13 <> \"\", 8.314472*Foglio1!$C$13*Foglio2!R215, NA())","v":{"$error":"#N/A"}},{"$error":"#N/A"}]
[1891,7.5448610686584576,{"$f":" IF(Foglio1!$C$9 <> \"\", 8.314472*Foglio1!$C$9*Foglio2!B216, NA())","v":{"$error":"#N/A"}},{"$error":"#N/A"},1891,7.5448610686584576,{"$f":" IF(Foglio1!$C$10 <> \"\", 8.314472*Foglio1!$C$10*Foglio2!F216, NA())","v":{"$error":"#N/A"}},{"$error":"#N/A"},1891,7.5448610686584576,{"$f":" IF(Foglio1!$C$11 <> \"\", 8.314472*Foglio1!$C$11*Foglio2!J216, NA())","v":{"$error":"#N/A"}},{"$error":"#N/A"},1891,7.5448610686584576,{"$f":" IF(Foglio1!$C$12 <> \"\", 8.314472*Foglio1!$C$12*Foglio2!N216, NA())","v":{"$error":"#N/A"}},{"$error":"#N/A"},1891,7.5448610686584576,{"$f":" IF(Foglio1!$C$13 <> \"\", 8.314472*Foglio1!$C$13*Foglio2!R216, NA())","v":{"$error":"#N/A"}},{"$error":"#N/A"}]
[1900,7.5496091651545321,{"$f":" IF(Foglio1!$C$9 <> \"\", 8.314472*Foglio1!$C$9*Foglio2!B217, NA())","v":{"$error":"#N/A"}},{"$error":"#N/A"},1900,7.5496091651545321,{"$f":" IF(Foglio1!$C$10 <> \"\", 8.314472*Foglio1!$C$10*Foglio2!F217, NA())","v":{"$error":"#N/A"}},{"$error":"#N/A"},1900,7.5496091651545321,{"$f":" IF(Foglio1!$C$11 <> \"\", 8.314472*Foglio1!$C$11*Foglio2!J217, NA())","v":{"$error":"#N/A"}},{"$error":"#N/A"},1900,7.5496091651545321,{"$f":" IF(Foglio1!$C$12 <> \"\", 8.314472*Foglio1!$C$12*Foglio2!N217, NA())","v":{"$error":"#N/A"}},{"$error":"#N/A"},1900,7.5496091651545321,{"$f":" IF(Foglio1!$C$13 <> \"\", 8.314472*Foglio1!$C$13*Foglio2!R217, NA())","v":{"$error":"#N/A"}},{"$error":"#N/A"}]
[1909,7.5543348237257479,{"$f":" IF(Foglio1!$C$9 <> \"\", 8.314472*Foglio1!$C$9*Foglio2!B218, NA())","v":{"$error":"#N/A"}},{"$error":"#N/A"},1909,7.5543348237257479,{"$f":" IF(Foglio1!$C$10 <> \"\", 8.314472*Foglio1!$C$10*Foglio2!F218, NA())","v":{"$error":"#N/A"}},{"$error":"#N/A"},1909,7.5543348237257479,{"$f":" IF(Foglio1!$C$11 <> \"\", 8.314472*Foglio1!$C$11*Foglio2!J218, NA())","v":{"$error":"#N/A"}},{"$error":"#N/A"},1909,7.5543348237257479,{"$f":" IF(Foglio1!$C$12 <> \"\", 8.314472*Foglio1!$C$12*Foglio2!N218, NA())","v":{"$error":"#N/A"}},{"$error":"#N/A"},1909,7.5543348237257479,{"$f":" IF(Foglio1!$C$13 <> \"\", 8.314472*Foglio1!$C$13*Foglio2!R218, NA())","v":{"$error":"#N/A"}},{"$error":"#N/A"}]
[1918,7.5590382554433839,{"$f":" IF(Foglio1!$C$9 <> \"\", 8.314472*Foglio1!$C$9*Foglio2!B219, NA())","v":{"$error":"#N/A"}},{"$error":"#N/A"},1918,7.5590382554433839,{"$f":" IF(Foglio1!$C$10 <> \"\", 8.314472*Foglio1!$C$10*Foglio2!F219, NA())","v":{"$error":"#N/A"}},{"$error":"#N/A"},1918,7.5590382554433839,{"$f":" IF(Foglio1!$C$11 <> \"\", 8.314472*Foglio1!$C$11*Foglio2!J219, NA())","v":{"$error":"#N/A"}},{"$error":"#N/A"},1918,7.5590382554433839,{"$f":" IF(Foglio1!$C$12 <> \"\", 8.314472*Foglio1!$C$12*Foglio2!N219, NA())","v":{"$error":"#N/A"}},{"$error":"#N/A"},1918,7.5590382554433839,{"$f":" IF(Foglio1!$C$13 <> \"\", 8.314472*Foglio1!$C$13*Foglio2!R219, NA())","v":{"$error":"#N/A"}},{"$error":"#N/A"}]
[1927,7.5637196684143664,{"$f":" IF(Foglio1!$C$9 <> \"\", 8.314472*Foglio1!$C$9*Foglio2!B220, NA())","v":{"$error":"#N/A"}},{"$error":"#N/A"},1927,7.5637196684143664,{"$f":" IF(Foglio1!$C$10 <> \"\", 8.314472*Foglio1!$C$10*Foglio2!F220, NA())","v":{"$error":"#N/A"}},{"$error":"#N/A"},1927,7.5637196684143664,{"$f":" IF(Foglio1!$C$11 <> \"\", 8.314472*Foglio1!$C$11*Foglio2!J220, NA())","v":{"$error":"#N/A"}},{"$error":"#N/A"},1927,7.5637196684143664,{"$f":" IF(Foglio1!$C$12 <> \"\", 8.314472*Foglio1!$C$12*Foglio2!N220, NA())","v":{"$error":"#N/A"}},{"$error":"#N/A"},1927,7.5637196684143664,{"$f":" IF(Foglio1!$C$13 <> \"\", 8.314472*Foglio1!$C$13*Foglio2!R220, NA())","v":{"$error":"#N/A"}},{"$error":"#N/A"}]
[1936,7.568379267836522,{"$f":" IF(Foglio1!$C$9 <> \"\", 8.314472*Foglio1!$C$9*Foglio2!B221, NA())","v":{"$error":"#N/A"}},{"$error":"#N/A"},1936,7.568379267836522,{"$f":" IF(Foglio1!$C$10 <> \"\", 8.314472*Foglio1!$C$10*Foglio2!F221, NA())","v":{"$error":"#N/A"}},{"$error":"#N/A"},1936,7.568379267836522,{"$f":" IF(Foglio1!$C$11 <> \"\", 8.314472*Foglio1!$C$11*Foglio2!J221, NA())","v":{"$error":"#N/A"}},{"$error":"#N/A"},1936,7.568379267836522,{"$f":" IF(Foglio1!$C$12 <> \"\", 8.314472*Foglio1!$C$12*Foglio2!N221, NA())","v":{"$error":"#N/A"}},{"$error":"#N/A"},1936,7.568379267836522,{"$f":" IF(Foglio1!$C$13 <> \"\", 8.314472*Foglio1!$C$13*Foglio2!R221, NA())","v":{"$error":"#N/A"}},{"$error":"#N/A"}]
[1945,7.5730172560525464,{"$f":" IF(Foglio1!$C$9 <> \"\", 8.314472*Foglio1!$C$9*Foglio2!B222, NA())","v":{"$error":"#N/A"}},{"$error":"#N/A"},1945,7.5730172560525464,{"$f":" IF(Foglio1!$C$10 <> \"\", 8.314472*Foglio1!$C$10*Foglio2!F222, NA())","v":{"$error":"#N/A"}},{"$error":"#N/A"},1945,7.5730172560525464,{"$f":" IF(Foglio1!$C$11 <> \"\", 8.314472*Foglio1!$C$11*Foglio2!J222, NA())","v":{"$error":"#N/A"}},{"$error":"#N/A"},1945,7.5730172560525464,{"$f":" IF(Foglio1!$C$12 <> \"\", 8.314472*Foglio1!$C$12*Foglio2!N222, NA())","v":{"$error":"#N/A"}},{"$error":"#N/A"},1945,7.5730172560525464,{"$f":" IF(Foglio1!$C$13 <> \"\", 8.314472*Foglio1!$C$13*Foglio2!R222, NA())","v":{"$error":"#N/A"}},{"$error":"#N/A"}]
[1954,7.5776338326027277,{"$f":" IF(Foglio1!$C$9 <> \"\", 8.314472*Foglio1!$C$9*Foglio2!B223, NA())","v":{"$error":"#N/A"}},{"$error":"#N/A"},1954,7.5776338326027277,{"$f":" IF(Foglio1!$C$10 <> \"\", 8.314472*Foglio1!$C$10*Foglio2!F223, NA())","v":{"$error":"#N/A"}},{"$error":"#N/A"},1954,7.5776338326027277,{"$f":" IF(Foglio1!$C$11 <> \"\", 8.314472*Foglio1!$C$11*Foglio2!J223, NA())","v":{"$error":"#N/A"}},{"$error":"#N/A"},1954,7.5776338326027277,{"$f":" IF(Foglio1!$C$12 <> \"\", 8.314472*Foglio1!$C$12*Foglio2!N223, NA())","v":{"$error":"#N/A"}},{"$error":"#N/A"},1954,7.5776338326027277,{"$f":" IF(Foglio1!$C$13 <> \"\", 8.314472*Foglio1!$C$13*Foglio2!R223, NA())","v":{"$error":"#N/A"}},{"$error":"#N/A"}]
[1963,7.5822291942764615,{"$f":" IF(Foglio1!$C$9 <> \"\", 8.314472*Foglio1!$C$9*Foglio2!B224, NA())","v":{"$error":"#N/A"}},{"$error":"#N/A"},1963,7.5822291942764615,{"$f":" IF(Foglio1!$C$10 <> \"\", 8.314472*Foglio1!$C$10*Foglio2!F224, NA())","v":{"$error":"#N/A"}},{"$error":"#N/A"},1963,7.5822291942764615,{"$f":" IF(Foglio1!$C$11 <> \"\", 8.314472*Foglio1!$C$11*Foglio2!J224, NA())","v":{"$error":"#N/A"}},{"$error":"#N/A"},1963,7.5822291942764615,{"$f":" IF(Foglio1!$C$12 <> \"\", 8.314472*Foglio1!$C$12*Foglio2!N224, NA())","v":{"$error":"#N/A"}},{"$error":"#N/A"},1963,7.5822291942764615,{"$f":" IF(Foglio1!$C$13 <> \"\", 8.314472*Foglio1!$C$13*Foglio2!R224, NA())","v":{"$error":"#N/A"}},{"$error":"#N/A"}]
[1972,7.5868035351625807,{"$f":" IF(Foglio1!$C$9 <> \"\", 8.314472*Foglio1!$C$9*Foglio2!B225, NA())","v":{"$error":"#N/A"}},{"$error":"#N/A"},1972,7.5868035351625807,{"$f":" IF(Foglio1!$C$10 <> \"\", 8.314472*Foglio1!$C$10*Foglio2!F225, NA())","v":{"$error":"#N/A"}},{"$error":"#N/A"},1972,7.5868035351625807,{"$f":" IF(Foglio1!$C$11 <> \"\", 8.314472*Foglio1!$C$11*Foglio2!J225, NA())","v":{"$error":"#N/A"}},{"$error":"#N/A"},1972,7.5868035351625807,{"$f":" IF(Foglio1!$C$12 <> \"\", 8.314472*Foglio1!$C$12*Foglio2!N225, NA())","v":{"$error":"#N/A"}},{"$error":"#N/A"},1972,7.5868035351625807,{"$f":" IF(Foglio1!$C$13 <> \"\", 8.314472*Foglio1!$C$13*Foglio2!R225, NA())","v":{"$error":"#N/A"}},{"$error":"#N/A"}]
[1981,7.5913570466985512,{"$f":" IF(Foglio1!$C$9 <> \"\", 8.314472*Foglio1!$C$9*Foglio2!B226, NA())","v":{"$error":"#N/A"}},{"$error":"#N/A"},1981,7.5913570466985512,{"$f":" IF(Foglio1!$C$10 <> \"\", 8.314472*Foglio1!$C$10*Foglio2!F226, NA())","v":{"$error":"#N/A"}},{"$error":"#N/A"},1981,7.5913570466985512,{"$f":" IF(Foglio1!$C$11 <> \"\", 8.314472*Foglio1!$C$11*Foglio2!J226, NA())","v":{"$error":"#N/A"}},{"$error":"#N/A"},1981,7.5913570466985512,{"$f":" IF(Foglio1!$C$12 <> \"\", 8.314472*Foglio1!$C$12*Foglio2!N226, NA())","v":{"$error":"#N/A"}},{"$error":"#N/A"},1981,7.5913570466985512,{"$f":" IF(Foglio1!$C$13 <> \"\", 8.314472*Foglio1!$C$13*Foglio2!R226, NA())","v":{"$error":"#N/A"}},{"$error":"#N/A"}]
[1990,7.5958899177185382,{"$f":" IF(Foglio1!$C$9 <> \"\", 8.314472*Foglio1!$C$9*Foglio2!B227, NA())","v":{"$error":"#N/A"}},{"$error":"#N/A"},1990,7.5958899177185382,{"$f":" IF(Foglio1!$C$10 <> \"\", 8.314472*Foglio1!$C$10*Foglio2!F227, NA())","v":{"$error":"#N/A"}},{"$error":"#N/A"},1990,7.5958899177185382,{"$f":" IF(Foglio1!$C$11 <> \"\", 8.314472*Foglio1!$C$11*Foglio2!J227, NA())","v":{"$error":"#N/A"}},{"$error":"#N/A"},1990,7.5958899177185382,{"$f":" IF(Foglio1!$C$12 <> \"\", 8.314472*Foglio1!$C$12*Foglio2!N227, NA())","v":{"$error":"#N/A"}},{"$error":"#N/A"},1990,7.5958899177185382,{"$f":" IF(Foglio1!$C$13 <> \"\", 8.314472*Foglio1!$C$13*Foglio2!R227, NA())","v":{"$error":"#N/A"}},{"$error":"#N/A"}]
[1999,7.6004023345003997,{"$f":" IF(Foglio1!$C$9 <> \"\", 8.314472*Foglio1!$C$9*Foglio2!B228, NA())","v":{"$error":"#N/A"}},{"$error":"#N/A"},1999,7.6004023345003997,{"$f":" IF(Foglio1!$C$10 <> \"\", 8.314472*Foglio1!$C$10*Foglio2!F228, NA())","v":{"$error":"#N/A"}},{"$error":"#N/A"},1999,7.6004023345003997,{"$f":" IF(Foglio1!$C$11 <> \"\", 8.314472*Foglio1!$C$11*Foglio2!J228, NA())","v":{"$error":"#N/A"}},{"$error":"#N/A"},1999,7.6004023345003997,{"$f":" IF(Foglio1!$C$12 <> \"\", 8.314472*Foglio1!$C$12*Foglio2!N228, NA())","v":{"$error":"#N/A"}},{"$error":"#N/A"},1999,7.6004023345003997,{"$f":" IF(Foglio1!$C$13 <> \"\", 8.314472*Foglio1!$C$13*Foglio2!R228, NA())","v":{"$error":"#N/A"}},{"$error":"#N/A"}]
[2008,7.6048944808116197,{"$f":" IF(Foglio1!$C$9 <> \"\", 8.314472*Foglio1!$C$9*Foglio2!B229, NA())","v":{"$error":"#N/A"}},{"$error":"#N/A"},2008,7.6048944808116197,{"$f":" IF(Foglio1!$C$10 <> \"\", 8.314472*Foglio1!$C$10*Foglio2!F229, NA())","v":{"$error":"#N/A"}},{"$error":"#N/A"},2008,7.6048944808116197,{"$f":" IF(Foglio1!$C$11 <> \"\", 8.314472*Foglio1!$C$11*Foglio2!J229, NA())","v":{"$error":"#N/A"}},{"$error":"#N/A"},2008,7.6048944808116197,{"$f":" IF(Foglio1!$C$12 <> \"\", 8.314472*Foglio1!$C$12*Foglio2!N229, NA())","v":{"$error":"#N/A"}},{"$error":"#N/A"},2008,7.6048944808116197,{"$f":" IF(Foglio1!$C$13 <> \"\", 8.314472*Foglio1!$C$13*Foglio2!R229, NA())","v":{"$error":"#N/A"}},{"$error":"#N/A"}]
[2017,7.6093665379542115,{"$f":" IF(Foglio1!$C$9 <> \"\", 8.314472*Foglio1!$C$9*Foglio2!B230, NA())","v":{"$error":"#N/A"}},{"$error":"#N/A"},2017,7.6093665379542115,{"$f":" IF(Foglio1!$C$10 <> \"\", 8.314472*Foglio1!$C$10*Foglio2!F230, NA())","v":{"$error":"#N/A"}},{"$error":"#N/A"},2017,7.6093665379542115,{"$f":" IF(Foglio1!$C$11 <> \"\", 8.314472*Foglio1!$C$11*Foglio2!J230, NA())","v":{"$error":"#N/A"}},{"$error":"#N/A"},2017,7.6093665379542115,{"$f":" IF(Foglio1!$C$12 <> \"\", 8.314472*Foglio1!$C$12*Foglio2!N230, NA())","v":{"$error":"#N/A"}},{"$error":"#N/A"},2017,7.6093665379542115,{"$f":" IF(Foglio1!$C$13 <> \"\", 8.314472*Foglio1!$C$13*Foglio2!R230, NA())","v":{"$error":"#N/A"}},{"$error":"#N/A"}]
[2026,7.6138186848086287,{"$f":" IF(Foglio1!$C$9 <> \"\", 8.314472*Foglio1!$C$9*Foglio2!B231, NA())","v":{"$error":"#N/A"}},{"$error":"#N/A"},2026,7.6138186848086287,{"$f":" IF(Foglio1!$C$10 <> \"\", 8.314472*Foglio1!$C$10*Foglio2!F231, NA())","v":{"$error":"#N/A"}},{"$error":"#N/A"},2026,7.6138186848086287,{"$f":" IF(Foglio1!$C$11 <> \"\", 8.314472*Foglio1!$C$11*Foglio2!J231, NA())","v":{"$error":"#N/A"}},{"$error":"#N/A"},2026,7.6138186848086287,{"$f":" IF(Foglio1!$C$12 <> \"\", 8.314472*Foglio1!$C$12*Foglio2!N231, NA())","v":{"$error":"#N/A"}},{"$error":"#N/A"},2026,7.6138186848086287,{"$f":" IF(Foglio1!$C$13 <> \"\", 8.314472*Foglio1!$C$13*Foglio2!R231, NA())","v":{"$error":"#N/A"}},{"$error":"#N/A"}]
[2035,7.6182510978766951,{"$f":" IF(Foglio1!$C$9 <> \"\", 8.314472*Foglio1!$C$9*Foglio2!B232, NA())","v":{"$error":"#N/A"}},{"$error":"#N/A"},2035,7.6182510978766951,{"$f":" IF(Foglio1!$C$10 <> \"\", 8.314472*Foglio1!$C$10*Foglio2!F232, NA())","v":{"$error":"#N/A"}},{"$error":"#N/A"},2035,7.6182510978766951,{"$f":" IF(Foglio1!$C$11 <> \"\", 8.314472*Foglio1!$C$11*Foglio2!J232, NA())","v":{"$error":"#N/A"}},{"$error":"#N/A"},2035,7.6182510978766951,{"$f":" IF(Foglio1!$C$12 <> \"\", 8.314472*Foglio1!$C$12*Foglio2!N232, NA())","v":{"$error":"#N/A"}},{"$error":"#N/A"},2035,7.6182510978766951,{"$f":" IF(Foglio1!$C$13 <> \"\", 8.314472*Foglio1!$C$13*Foglio2!R232, NA())","v":{"$error":"#N/A"}},{"$error":"#N/A"}]
[2044,7.6226639513235952,{"$f":" IF(Foglio1!$C$9 <> \"\", 8.314472*Foglio1!$C$9*Foglio2!B233, NA())","v":{"$error":"#N/A"}},{"$error":"#N/A"},2044,7.6226639513235952,{"$f":" IF(Foglio1!$C$10 <> \"\", 8.314472*Foglio1!$C$10*Foglio2!F233, NA())","v":{"$error":"#N/A"}},{"$error":"#N/A"},2044,7.6226639513235952,{"$f":" IF(Foglio1!$C$11 <> \"\", 8.314472*Foglio1!$C$11*Foglio2!J233, NA())","v":{"$error":"#N/A"}},{"$error":"#N/A"},2044,7.6226639513235952,{"$f":" IF(Foglio1!$C$12 <> \"\", 8.314472*Foglio1!$C$12*Foglio2!N233, NA())","v":{"$error":"#N/A"}},{"$error":"#N/A"},2044,7.6226639513235952,{"$f":" IF(Foglio1!$C$13 <> \"\", 8.314472*Foglio1!$C$13*Foglio2!R233, NA())","v":{"$error":"#N/A"}},{"$error":"#N/A"}]
[2053,7.6270574170189338,{"$f":" IF(Foglio1!$C$9 <> \"\", 8.314472*Foglio1!$C$9*Foglio2!B234, NA())","v":{"$error":"#N/A"}},{"$error":"#N/A"},2053,7.6270574170189338,{"$f":" IF(Foglio1!$C$10 <> \"\", 8.314472*Foglio1!$C$10*Foglio2!F234, NA())","v":{"$error":"#N/A"}},{"$error":"#N/A"},2053,7.6270574170189338,{"$f":" IF(Foglio1!$C$11 <> \"\", 8.314472*Foglio1!$C$11*Foglio2!J234, NA())","v":{"$error":"#N/A"}},{"$error":"#N/A"},2053,7.6270574170189338,{"$f":" IF(Foglio1!$C$12 <> \"\", 8.314472*Foglio1!$C$12*Foglio2!N234, NA())","v":{"$error":"#N/A"}},{"$error":"#N/A"},2053,7.6270574170189338,{"$f":" IF(Foglio1!$C$13 <> \"\", 8.314472*Foglio1!$C$13*Foglio2!R234, NA())","v":{"$error":"#N/A"}},{"$error":"#N/A"}]
[2062,7.6314316645769056,{"$f":" IF(Foglio1!$C$9 <> \"\", 8.314472*Foglio1!$C$9*Foglio2!B235, NA())","v":{"$error":"#N/A"}},{"$error":"#N/A"},2062,7.6314316645769056,{"$f":" IF(Foglio1!$C$10 <> \"\", 8.314472*Foglio1!$C$10*Foglio2!F235, NA())","v":{"$error":"#N/A"}},{"$error":"#N/A"},2062,7.6314316645769056,{"$f":" IF(Foglio1!$C$11 <> \"\", 8.314472*Foglio1!$C$11*Foglio2!J235, NA())","v":{"$error":"#N/A"}},{"$error":"#N/A"},2062,7.6314316645769056,{"$f":" IF(Foglio1!$C$12 <> \"\", 8.314472*Foglio1!$C$12*Foglio2!N235, NA())","v":{"$error":"#N/A"}},{"$error":"#N/A"},2062,7.6314316645769056,{"$f":" IF(Foglio1!$C$13 <> \"\", 8.314472*Foglio1!$C$13*Foglio2!R235, NA())","v":{"$error":"#N/A"}},{"$error":"#N/A"}]
[2071,7.6357868613955846,{"$f":" IF(Foglio1!$C$9 <> \"\", 8.314472*Foglio1!$C$9*Foglio2!B236, NA())","v":{"$error":"#N/A"}},{"$error":"#N/A"},2071,7.6357868613955846,{"$f":" IF(Foglio1!$C$10 <> \"\", 8.314472*Foglio1!$C$10*Foglio2!F236, NA())","v":{"$error":"#N/A"}},{"$error":"#N/A"},2071,7.6357868613955846,{"$f":" IF(Foglio1!$C$11 <> \"\", 8.314472*Foglio1!$C$11*Foglio2!J236, NA())","v":{"$error":"#N/A"}},{"$error":"#N/A"},2071,7.6357868613955846,{"$f":" IF(Foglio1!$C$12 <> \"\", 8.314472*Foglio1!$C$12*Foglio2!N236, NA())","v":{"$error":"#N/A"}},{"$error":"#N/A"},2071,7.6357868613955846,{"$f":" IF(Foglio1!$C$13 <> \"\", 8.314472*Foglio1!$C$13*Foglio2!R236, NA())","v":{"$error":"#N/A"}},{"$error":"#N/A"}]
[2080,7.6401231726953638,{"$f":" IF(Foglio1!$C$9 <> \"\", 8.314472*Foglio1!$C$9*Foglio2!B237, NA())","v":{"$error":"#N/A"}},{"$error":"#N/A"},2080,7.6401231726953638,{"$f":" IF(Foglio1!$C$10 <> \"\", 8.314472*Foglio1!$C$10*Foglio2!F237, NA())","v":{"$error":"#N/A"}},{"$error":"#N/A"},2080,7.6401231726953638,{"$f":" IF(Foglio1!$C$11 <> \"\", 8.314472*Foglio1!$C$11*Foglio2!J237, NA())","v":{"$error":"#N/A"}},{"$error":"#N/A"},2080,7.6401231726953638,{"$f":" IF(Foglio1!$C$12 <> \"\", 8.314472*Foglio1!$C$12*Foglio2!N237, NA())","v":{"$error":"#N/A"}},{"$error":"#N/A"},2080,7.6401231726953638,{"$f":" IF(Foglio1!$C$13 <> \"\", 8.314472*Foglio1!$C$13*Foglio2!R237, NA())","v":{"$error":"#N/A"}},{"$error":"#N/A"}]
[2089,7.6444407615565657,{"$f":" IF(Foglio1!$C$9 <> \"\", 8.314472*Foglio1!$C$9*Foglio2!B238, NA())","v":{"$error":"#N/A"}},{"$error":"#N/A"},2089,7.6444407615565657,{"$f":" IF(Foglio1!$C$10 <> \"\", 8.314472*Foglio1!$C$10*Foglio2!F238, NA())","v":{"$error":"#N/A"}},{"$error":"#N/A"},2089,7.6444407615565657,{"$f":" IF(Foglio1!$C$11 <> \"\", 8.314472*Foglio1!$C$11*Foglio2!J238, NA())","v":{"$error":"#N/A"}},{"$error":"#N/A"},2089,7.6444407615565657,{"$f":" IF(Foglio1!$C$12 <> \"\", 8.314472*Foglio1!$C$12*Foglio2!N238, NA())","v":{"$error":"#N/A"}},{"$error":"#N/A"},2089,7.6444407615565657,{"$f":" IF(Foglio1!$C$13 <> \"\", 8.314472*Foglio1!$C$13*Foglio2!R238, NA())","v":{"$error":"#N/A"}},{"$error":"#N/A"}]
[2098,7.6487397889562425,{"$f":" IF(Foglio1!$C$9 <> \"\", 8.314472*Foglio1!$C$9*Foglio2!B239, NA())","v":{"$error":"#N/A"}},{"$error":"#N/A"},2098,7.6487397889562425,{"$f":" IF(Foglio1!$C$10 <> \"\", 8.314472*Foglio1!$C$10*Foglio2!F239, NA())","v":{"$error":"#N/A"}},{"$error":"#N/A"},2098,7.6487397889562425,{"$f":" IF(Foglio1!$C$11 <> \"\", 8.314472*Foglio1!$C$11*Foglio2!J239, NA())","v":{"$error":"#N/A"}},{"$error":"#N/A"},2098,7.6487397889562425,{"$f":" IF(Foglio1!$C$12 <> \"\", 8.314472*Foglio1!$C$12*Foglio2!N239, NA())","v":{"$error":"#N/A"}},{"$error":"#N/A"},2098,7.6487397889562425,{"$f":" IF(Foglio1!$C$13 <> \"\", 8.314472*Foglio1!$C$13*Foglio2!R239, NA())","v":{"$error":"#N/A"}},{"$error":"#N/A"}]
[2107,7.6530204138041888,{"$f":" IF(Foglio1!$C$9 <> \"\", 8.314472*Foglio1!$C$9*Foglio2!B240, NA())","v":{"$error":"#N/A"}},{"$error":"#N/A"},2107,7.6530204138041888,{"$f":" IF(Foglio1!$C$10 <> \"\", 8.314472*Foglio1!$C$10*Foglio2!F240, NA())","v":{"$error":"#N/A"}},{"$error":"#N/A"},2107,7.6530204138041888,{"$f":" IF(Foglio1!$C$11 <> \"\", 8.314472*Foglio1!$C$11*Foglio2!J240, NA())","v":{"$error":"#N/A"}},{"$error":"#N/A"},2107,7.6530204138041888,{"$f":" IF(Foglio1!$C$12 <> \"\", 8.314472*Foglio1!$C$12*Foglio2!N240, NA())","v":{"$error":"#N/A"}},{"$error":"#N/A"},2107,7.6530204138041888,{"$f":" IF(Foglio1!$C$13 <> \"\", 8.314472*Foglio1!$C$13*Foglio2!R240, NA())","v":{"$error":"#N/A"}},{"$error":"#N/A"}]
[2116,7.6572827929781901,{"$f":" IF(Foglio1!$C$9 <> \"\", 8.314472*Foglio1!$C$9*Foglio2!B241, NA())","v":{"$error":"#N/A"}},{"$error":"#N/A"},2116,7.6572827929781901,{"$f":" IF(Foglio1!$C$10 <> \"\", 8.314472*Foglio1!$C$10*Foglio2!F241, NA())","v":{"$error":"#N/A"}},{"$error":"#N/A"},2116,7.6572827929781901,{"$f":" IF(Foglio1!$C$11 <> \"\", 8.314472*Foglio1!$C$11*Foglio2!J241, NA())","v":{"$error":"#N/A"}},{"$error":"#N/A"},2116,7.6572827929781901,{"$f":" IF(Foglio1!$C$12 <> \"\", 8.314472*Foglio1!$C$12*Foglio2!N241, NA())","v":{"$error":"#N/A"}},{"$error":"#N/A"},2116,7.6572827929781901,{"$f":" IF(Foglio1!$C$13 <> \"\", 8.314472*Foglio1!$C$13*Foglio2!R241, NA())","v":{"$error":"#N/A"}},{"$error":"#N/A"}]
[2125,7.6615270813585168,{"$f":" IF(Foglio1!$C$9 <> \"\", 8.314472*Foglio1!$C$9*Foglio2!B242, NA())","v":{"$error":"#N/A"}},{"$error":"#N/A"},2125,7.6615270813585168,{"$f":" IF(Foglio1!$C$10 <> \"\", 8.314472*Foglio1!$C$10*Foglio2!F242, NA())","v":{"$error":"#N/A"}},{"$error":"#N/A"},2125,7.6615270813585168,{"$f":" IF(Foglio1!$C$11 <> \"\", 8.314472*Foglio1!$C$11*Foglio2!J242, NA())","v":{"$error":"#N/A"}},{"$error":"#N/A"},2125,7.6615270813585168,{"$f":" IF(Foglio1!$C$12 <> \"\", 8.314472*Foglio1!$C$12*Foglio2!N242, NA())","v":{"$error":"#N/A"}},{"$error":"#N/A"},2125,7.6615270813585168,{"$f":" IF(Foglio1!$C$13 <> \"\", 8.314472*Foglio1!$C$13*Foglio2!R242, NA())","v":{"$error":"#N/A"}},{"$error":"#N/A"}]
[2134,7.6657534318616989,{"$f":" IF(Foglio1!$C$9 <> \"\", 8.314472*Foglio1!$C$9*Foglio2!B243, NA())","v":{"$error":"#N/A"}},{"$error":"#N/A"},2134,7.6657534318616989,{"$f":" IF(Foglio1!$C$10 <> \"\", 8.314472*Foglio1!$C$10*Foglio2!F243, NA())","v":{"$error":"#N/A"}},{"$error":"#N/A"},2134,7.6657534318616989,{"$f":" IF(Foglio1!$C$11 <> \"\", 8.314472*Foglio1!$C$11*Foglio2!J243, NA())","v":{"$error":"#N/A"}},{"$error":"#N/A"},2134,7.6657534318616989,{"$f":" IF(Foglio1!$C$12 <> \"\", 8.314472*Foglio1!$C$12*Foglio2!N243, NA())","v":{"$error":"#N/A"}},{"$error":"#N/A"},2134,7.6657534318616989,{"$f":" IF(Foglio1!$C$13 <> \"\", 8.314472*Foglio1!$C$13*Foglio2!R243, NA())","v":{"$error":"#N/A"}},{"$error":"#N/A"}]
[2143,7.6699619954735772,{"$f":" IF(Foglio1!$C$9 <> \"\", 8.314472*Foglio1!$C$9*Foglio2!B244, NA())","v":{"$error":"#N/A"}},{"$error":"#N/A"},2143,7.6699619954735772,{"$f":" IF(Foglio1!$C$10 <> \"\", 8.314472*Foglio1!$C$10*Foglio2!F244, NA())","v":{"$error":"#N/A"}},{"$error":"#N/A"},2143,7.6699619954735772,{"$f":" IF(Foglio1!$C$11 <> \"\", 8.314472*Foglio1!$C$11*Foglio2!J244, NA())","v":{"$error":"#N/A"}},{"$error":"#N/A"},2143,7.6699619954735772,{"$f":" IF(Foglio1!$C$12 <> \"\", 8.314472*Foglio1!$C$12*Foglio2!N244, NA())","v":{"$error":"#N/A"}},{"$error":"#N/A"},2143,7.6699619954735772,{"$f":" IF(Foglio1!$C$13 <> \"\", 8.314472*Foglio1!$C$13*Foglio2!R244, NA())","v":{"$error":"#N/A"}},{"$error":"#N/A"}]
[2152,7.6741529212816753,{"$f":" IF(Foglio1!$C$9 <> \"\", 8.314472*Foglio1!$C$9*Foglio2!B245, NA())","v":{"$error":"#N/A"}},{"$error":"#N/A"},2152,7.6741529212816753,{"$f":" IF(Foglio1!$C$10 <> \"\", 8.314472*Foglio1!$C$10*Foglio2!F245, NA())","v":{"$error":"#N/A"}},{"$error":"#N/A"},2152,7.6741529212816753,{"$f":" IF(Foglio1!$C$11 <> \"\", 8.314472*Foglio1!$C$11*Foglio2!J245, NA())","v":{"$error":"#N/A"}},{"$error":"#N/A"},2152,7.6741529212816753,{"$f":" IF(Foglio1!$C$12 <> \"\", 8.314472*Foglio1!$C$12*Foglio2!N245, NA())","v":{"$error":"#N/A"}},{"$error":"#N/A"},2152,7.6741529212816753,{"$f":" IF(Foglio1!$C$13 <> \"\", 8.314472*Foglio1!$C$13*Foglio2!R245, NA())","v":{"$error":"#N/A"}},{"$error":"#N/A"}]
[2161,7.6783263565068856,{"$f":" IF(Foglio1!$C$9 <> \"\", 8.314472*Foglio1!$C$9*Foglio2!B246, NA())","v":{"$error":"#N/A"}},{"$error":"#N/A"},2161,7.6783263565068856,{"$f":" IF(Foglio1!$C$10 <> \"\", 8.314472*Foglio1!$C$10*Foglio2!F246, NA())","v":{"$error":"#N/A"}},{"$error":"#N/A"},2161,7.6783263565068856,{"$f":" IF(Foglio1!$C$11 <> \"\", 8.314472*Foglio1!$C$11*Foglio2!J246, NA())","v":{"$error":"#N/A"}},{"$error":"#N/A"},2161,7.6783263565068856,{"$f":" IF(Foglio1!$C$12 <> \"\", 8.314472*Foglio1!$C$12*Foglio2!N246, NA())","v":{"$error":"#N/A"}},{"$error":"#N/A"},2161,7.6783263565068856,{"$f":" IF(Foglio1!$C$13 <> \"\", 8.314472*Foglio1!$C$13*Foglio2!R246, NA())","v":{"$error":"#N/A"}},{"$error":"#N/A"}]
[2170,7.6824824465345056,{"$f":" IF(Foglio1!$C$9 <> \"\", 8.314472*Foglio1!$C$9*Foglio2!B247, NA())","v":{"$error":"#N/A"}},{"$error":"#N/A"},2170,7.6824824465345056,{"$f":" IF(Foglio1!$C$10 <> \"\", 8.314472*Foglio1!$C$10*Foglio2!F247, NA())","v":{"$error":"#N/A"}},{"$error":"#N/A"},2170,7.6824824465345056,{"$f":" IF(Foglio1!$C$11 <> \"\", 8.314472*Foglio1!$C$11*Foglio2!J247, NA())","v":{"$error":"#N/A"}},{"$error":"#N/A"},2170,7.6824824465345056,{"$f":" IF(Foglio1!$C$12 <> \"\", 8.314472*Foglio1!$C$12*Foglio2!N247, NA())","v":{"$error":"#N/A"}},{"$error":"#N/A"},2170,7.6824824465345056,{"$f":" IF(Foglio1!$C$13 <> \"\", 8.314472*Foglio1!$C$13*Foglio2!R247, NA())","v":{"$error":"#N/A"}},{"$error":"#N/A"}]
[2179,7.6866213349446202,{"$f":" IF(Foglio1!$C$9 <> \"\", 8.314472*Foglio1!$C$9*Foglio2!B248, NA())","v":{"$error":"#N/A"}},{"$error":"#N/A"},2179,7.6866213349446202,{"$f":" IF(Foglio1!$C$10 <> \"\", 8.314472*Foglio1!$C$10*Foglio2!F248, NA())","v":{"$error":"#N/A"}},{"$error":"#N/A"},2179,7.6866213349446202,{"$f":" IF(Foglio1!$C$11 <> \"\", 8.314472*Foglio1!$C$11*Foglio2!J248, NA())","v":{"$error":"#N/A"}},{"$error":"#N/A"},2179,7.6866213349446202,{"$f":" IF(Foglio1!$C$12 <> \"\", 8.314472*Foglio1!$C$12*Foglio2!N248, NA())","v":{"$error":"#N/A"}},{"$error":"#N/A"},2179,7.6866213349446202,{"$f":" IF(Foglio1!$C$13 <> \"\", 8.314472*Foglio1!$C$13*Foglio2!R248, NA())","v":{"$error":"#N/A"}},{"$error":"#N/A"}]
[2188,7.6907431635418719,{"$f":" IF(Foglio1!$C$9 <> \"\", 8.314472*Foglio1!$C$9*Foglio2!B249, NA())","v":{"$error":"#N/A"}},{"$error":"#N/A"},2188,7.6907431635418719,{"$f":" IF(Foglio1!$C$10 <> \"\", 8.314472*Foglio1!$C$10*Foglio2!F249, NA())","v":{"$error":"#N/A"}},{"$error":"#N/A"},2188,7.6907431635418719,{"$f":" IF(Foglio1!$C$11 <> \"\", 8.314472*Foglio1!$C$11*Foglio2!J249, NA())","v":{"$error":"#N/A"}},{"$error":"#N/A"},2188,7.6907431635418719,{"$f":" IF(Foglio1!$C$12 <> \"\", 8.314472*Foglio1!$C$12*Foglio2!N249, NA())","v":{"$error":"#N/A"}},{"$error":"#N/A"},2188,7.6907431635418719,{"$f":" IF(Foglio1!$C$13 <> \"\", 8.314472*Foglio1!$C$13*Foglio2!R249, NA())","v":{"$error":"#N/A"}},{"$error":"#N/A"}]
[2197,7.6948480723846098,{"$f":" IF(Foglio1!$C$9 <> \"\", 8.314472*Foglio1!$C$9*Foglio2!B250, NA())","v":{"$error":"#N/A"}},{"$error":"#N/A"},2197,7.6948480723846098,{"$f":" IF(Foglio1!$C$10 <> \"\", 8.314472*Foglio1!$C$10*Foglio2!F250, NA())","v":{"$error":"#N/A"}},{"$error":"#N/A"},2197,7.6948480723846098,{"$f":" IF(Foglio1!$C$11 <> \"\", 8.314472*Foglio1!$C$11*Foglio2!J250, NA())","v":{"$error":"#N/A"}},{"$error":"#N/A"},2197,7.6948480723846098,{"$f":" IF(Foglio1!$C$12 <> \"\", 8.314472*Foglio1!$C$12*Foglio2!N250, NA())","v":{"$error":"#N/A"}},{"$error":"#N/A"},2197,7.6948480723846098,{"$f":" IF(Foglio1!$C$13 <> \"\", 8.314472*Foglio1!$C$13*Foglio2!R250, NA())","v":{"$error":"#N/A"}},{"$error":"#N/A"}]
[2206,7.6989361998134473,{"$f":" IF(Foglio1!$C$9 <> \"\", 8.314472*Foglio1!$C$9*Foglio2!B251, NA())","v":{"$error":"#N/A"}},{"$error":"#N/A"},2206,7.6989361998134473,{"$f":" IF(Foglio1!$C$10 <> \"\", 8.314472*Foglio1!$C$10*Foglio2!F251, NA())","v":{"$error":"#N/A"}},{"$error":"#N/A"},2206,7.6989361998134473,{"$f":" IF(Foglio1!$C$11 <> \"\", 8.314472*Foglio1!$C$11*Foglio2!J251, NA())","v":{"$error":"#N/A"}},{"$error":"#N/A"},2206,7.6989361998134473,{"$f":" IF(Foglio1!$C$12 <> \"\", 8.314472*Foglio1!$C$12*Foglio2!N251, NA())","v":{"$error":"#N/A"}},{"$error":"#N/A"},2206,7.6989361998134473,{"$f":" IF(Foglio1!$C$13 <> \"\", 8.314472*Foglio1!$C$13*Foglio2!R251, NA())","v":{"$error":"#N/A"}},{"$error":"#N/A"}]
[2215,7.7030076824792362,{"$f":" IF(Foglio1!$C$9 <> \"\", 8.314472*Foglio1!$C$9*Foglio2!B252, NA())","v":{"$error":"#N/A"}},{"$error":"#N/A"},2215,7.7030076824792362,{"$f":" IF(Foglio1!$C$10 <> \"\", 8.314472*Foglio1!$C$10*Foglio2!F252, NA())","v":{"$error":"#N/A"}},{"$error":"#N/A"},2215,7.7030076824792362,{"$f":" IF(Foglio1!$C$11 <> \"\", 8.314472*Foglio1!$C$11*Foglio2!J252, NA())","v":{"$error":"#N/A"}},{"$error":"#N/A"},2215,7.7030076824792362,{"$f":" IF(Foglio1!$C$12 <> \"\", 8.314472*Foglio1!$C$12*Foglio2!N252, NA())","v":{"$error":"#N/A"}},{"$error":"#N/A"},2215,7.7030076824792362,{"$f":" IF(Foglio1!$C$13 <> \"\", 8.314472*Foglio1!$C$13*Foglio2!R252, NA())","v":{"$error":"#N/A"}},{"$error":"#N/A"}]
[2224,7.7070626553704731,{"$f":" IF(Foglio1!$C$9 <> \"\", 8.314472*Foglio1!$C$9*Foglio2!B253, NA())","v":{"$error":"#N/A"}},{"$error":"#N/A"},2224,7.7070626553704731,{"$f":" IF(Foglio1!$C$10 <> \"\", 8.314472*Foglio1!$C$10*Foglio2!F253, NA())","v":{"$error":"#N/A"}},{"$error":"#N/A"},2224,7.7070626553704731,{"$f":" IF(Foglio1!$C$11 <> \"\", 8.314472*Foglio1!$C$11*Foglio2!J253, NA())","v":{"$error":"#N/A"}},{"$error":"#N/A"},2224,7.7070626553704731,{"$f":" IF(Foglio1!$C$12 <> \"\", 8.314472*Foglio1!$C$12*Foglio2!N253, NA())","v":{"$error":"#N/A"}},{"$error":"#N/A"},2224,7.7070626553704731,{"$f":" IF(Foglio1!$C$13 <> \"\", 8.314472*Foglio1!$C$13*Foglio2!R253, NA())","v":{"$error":"#N/A"}},{"$error":"#N/A"}]
[2233,7.7111012518401578,{"$f":" IF(Foglio1!$C$9 <> \"\", 8.314472*Foglio1!$C$9*Foglio2!B254, NA())","v":{"$error":"#N/A"}},{"$error":"#N/A"},2233,7.7111012518401578,{"$f":" IF(Foglio1!$C$10 <> \"\", 8.314472*Foglio1!$C$10*Foglio2!F254, NA())","v":{"$error":"#N/A"}},{"$error":"#N/A"},2233,7.7111012518401578,{"$f":" IF(Foglio1!$C$11 <> \"\", 8.314472*Foglio1!$C$11*Foglio2!J254, NA())","v":{"$error":"#N/A"}},{"$error":"#N/A"},2233,7.7111012518401578,{"$f":" IF(Foglio1!$C$12 <> \"\", 8.314472*Foglio1!$C$12*Foglio2!N254, NA())","v":{"$error":"#N/A"}},{"$error":"#N/A"},2233,7.7111012518401578,{"$f":" IF(Foglio1!$C$13 <> \"\", 8.314472*Foglio1!$C$13*Foglio2!R254, NA())","v":{"$error":"#N/A"}},{"$error":"#N/A"}]
[2242,7.7151236036321054,{"$f":" IF(Foglio1!$C$9 <> \"\", 8.314472*Foglio1!$C$9*Foglio2!B255, NA())","v":{"$error":"#N/A"}},{"$error":"#N/A"},2242,7.7151236036321054,{"$f":" IF(Foglio1!$C$10 <> \"\", 8.314472*Foglio1!$C$10*Foglio2!F255, NA())","v":{"$error":"#N/A"}},{"$error":"#N/A"},2242,7.7151236036321054,{"$f":" IF(Foglio1!$C$11 <> \"\", 8.314472*Foglio1!$C$11*Foglio2!J255, NA())","v":{"$error":"#N/A"}},{"$error":"#N/A"},2242,7.7151236036321054,{"$f":" IF(Foglio1!$C$12 <> \"\", 8.314472*Foglio1!$C$12*Foglio2!N255, NA())","v":{"$error":"#N/A"}},{"$error":"#N/A"},2242,7.7151236036321054,{"$f":" IF(Foglio1!$C$13 <> \"\", 8.314472*Foglio1!$C$13*Foglio2!R255, NA())","v":{"$error":"#N/A"}},{"$error":"#N/A"}]
[2251,7.7191298409067324,{"$f":" IF(Foglio1!$C$9 <> \"\", 8.314472*Foglio1!$C$9*Foglio2!B256, NA())","v":{"$error":"#N/A"}},{"$error":"#N/A"},2251,7.7191298409067324,{"$f":" IF(Foglio1!$C$10 <> \"\", 8.314472*Foglio1!$C$10*Foglio2!F256, NA())","v":{"$error":"#N/A"}},{"$error":"#N/A"},2251,7.7191298409067324,{"$f":" IF(Foglio1!$C$11 <> \"\", 8.314472*Foglio1!$C$11*Foglio2!J256, NA())","v":{"$error":"#N/A"}},{"$error":"#N/A"},2251,7.7191298409067324,{"$f":" IF(Foglio1!$C$12 <> \"\", 8.314472*Foglio1!$C$12*Foglio2!N256, NA())","v":{"$error":"#N/A"}},{"$error":"#N/A"},2251,7.7191298409067324,{"$f":" IF(Foglio1!$C$13 <> \"\", 8.314472*Foglio1!$C$13*Foglio2!R256, NA())","v":{"$error":"#N/A"}},{"$error":"#N/A"}]
[2260,7.7231200922663312,{"$f":" IF(Foglio1!$C$9 <> \"\", 8.314472*Foglio1!$C$9*Foglio2!B257, NA())","v":{"$error":"#N/A"}},{"$error":"#N/A"},2260,7.7231200922663312,{"$f":" IF(Foglio1!$C$10 <> \"\", 8.314472*Foglio1!$C$10*Foglio2!F257, NA())","v":{"$error":"#N/A"}},{"$error":"#N/A"},2260,7.7231200922663312,{"$f":" IF(Foglio1!$C$11 <> \"\", 8.314472*Foglio1!$C$11*Foglio2!J257, NA())","v":{"$error":"#N/A"}},{"$error":"#N/A"},2260,7.7231200922663312,{"$f":" IF(Foglio1!$C$12 <> \"\", 8.314472*Foglio1!$C$12*Foglio2!N257, NA())","v":{"$error":"#N/A"}},{"$error":"#N/A"},2260,7.7231200922663312,{"$f":" IF(Foglio1!$C$13 <> \"\", 8.314472*Foglio1!$C$13*Foglio2!R257, NA())","v":{"$error":"#N/A"}},{"$error":"#N/A"}]
[2269,7.7270944847798413,{"$f":" IF(Foglio1!$C$9 <> \"\", 8.314472*Foglio1!$C$9*Foglio2!B258, NA())","v":{"$error":"#N/A"}},{"$error":"#N/A"},2269,7.7270944847798413,{"$f":" IF(Foglio1!$C$10 <> \"\", 8.314472*Foglio1!$C$10*Foglio2!F258, NA())","v":{"$error":"#N/A"}},{"$error":"#N/A"},2269,7.7270944847798413,{"$f":" IF(Foglio1!$C$11 <> \"\", 8.314472*Foglio1!$C$11*Foglio2!J258, NA())","v":{"$error":"#N/A"}},{"$error":"#N/A"},2269,7.7270944847798413,{"$f":" IF(Foglio1!$C$12 <> \"\", 8.314472*Foglio1!$C$12*Foglio2!N258, NA())","v":{"$error":"#N/A"}},{"$error":"#N/A"},2269,7.7270944847798413,{"$f":" IF(Foglio1!$C$13 <> \"\", 8.314472*Foglio1!$C$13*Foglio2!R258, NA())","v":{"$error":"#N/A"}},{"$error":"#N/A"}]
[2278,{"$f":"LN(A259)","v":7.7310531440071273},{"$f":" IF(Foglio1!$C$9 <> \"\", 8.314472*Foglio1!$C$9*Foglio2!B259, NA())","v":{"$error":"#N/A"}},{"$f":"  -30.5 + C259*10^-3","v":{"$error":"#N/A"}},2278,{"$f":"LN(E259)","v":7.7310531440071273},{"$f":" IF(Foglio1!$C$10 <> \"\", 8.314472*Foglio1!$C$10*Foglio2!F259, NA())","v":{"$error":"#N/A"}},{"$f":" -30.5+ G259*10^-3","v":{"$error":"#N/A"}},2278,{"$f":"LN(I259)","v":7.7310531440071273},{"$f":" IF(Foglio1!$C$11 <> \"\", 8.314472*Foglio1!$C$11*Foglio2!J259, NA())","v":{"$error":"#N/A"}},{"$f":" -30.5+ K259*10^-3","v":{"$error":"#N/A"}},2278,{"$f":"LN(M259)","v":7.7310531440071273},{"$f":" IF(Foglio1!$C$12 <> \"\", 8.314472*Foglio1!$C$12*Foglio2!N259, NA())","v":{"$error":"#N/A"}},{"$f":" -30.5+ O259*10^-3","v":{"$error":"#N/A"}},2278,{"$f":"LN(Q259)","v":7.7310531440071273},{"$f":" IF(Foglio1!$C$13 <> \"\", 8.314472*Foglio1!$C$13*Foglio2!R259, NA())","v":{"$error":"#N/A"}},{"$f":" -30.5+S259*10^-3","v":{"$error":"#N/A"}}]
[2287,7.7349961940227807,{"$f":" IF(Foglio1!$C$9 <> \"\", 8.314472*Foglio1!$C$9*Foglio2!B260, NA())","v":{"$error":"#N/A"}},{"$error":"#N/A"},2287,7.7349961940227807,{"$f":" IF(Foglio1!$C$10 <> \"\", 8.314472*Foglio1!$C$10*Foglio2!F260, NA())","v":{"$error":"#N/A"}},{"$error":"#N/A"},2287,7.7349961940227807,{"$f":" IF(Foglio1!$C$11 <> \"\", 8.314472*Foglio1!$C$11*Foglio2!J260, NA())","v":{"$error":"#N/A"}},{"$error":"#N/A"},2287,7.7349961940227807,{"$f":" IF(Foglio1!$C$12 <> \"\", 8.314472*Foglio1!$C$12*Foglio2!N260, NA())","v":{"$error":"#N/A"}},{"$error":"#N/A"},2287,7.7349961940227807,{"$f":" IF(Foglio1!$C$13 <> \"\", 8.314472*Foglio1!$C$13*Foglio2!R260, NA())","v":{"$error":"#N/A"}},{"$error":"#N/A"}]
[2296,7.7389237574394567,{"$f":" IF(Foglio1!$C$9 <> \"\", 8.314472*Foglio1!$C$9*Foglio2!B261, NA())","v":{"$error":"#N/A"}},{"$error":"#N/A"},2296,7.7389237574394567,{"$f":" IF(Foglio1!$C$10 <> \"\", 8.314472*Foglio1!$C$10*Foglio2!F261, NA())","v":{"$error":"#N/A"}},{"$error":"#N/A"},2296,7.7389237574394567,{"$f":" IF(Foglio1!$C$11 <> \"\", 8.314472*Foglio1!$C$11*Foglio2!J261, NA())","v":{"$error":"#N/A"}},{"$error":"#N/A"},2296,7.7389237574394567,{"$f":" IF(Foglio1!$C$12 <> \"\", 8.314472*Foglio1!$C$12*Foglio2!N261, NA())","v":{"$error":"#N/A"}},{"$error":"#N/A"},2296,7.7389237574394567,{"$f":" IF(Foglio1!$C$13 <> \"\", 8.314472*Foglio1!$C$13*Foglio2!R261, NA())","v":{"$error":"#N/A"}},{"$error":"#N/A"}]
[2305,7.7428359554307491,{"$f":" IF(Foglio1!$C$9 <> \"\", 8.314472*Foglio1!$C$9*Foglio2!B262, NA())","v":{"$error":"#N/A"}},{"$error":"#N/A"},2305,7.7428359554307491,{"$f":" IF(Foglio1!$C$10 <> \"\", 8.314472*Foglio1!$C$10*Foglio2!F262, NA())","v":{"$error":"#N/A"}},{"$error":"#N/A"},2305,7.7428359554307491,{"$f":" IF(Foglio1!$C$11 <> \"\", 8.314472*Foglio1!$C$11*Foglio2!J262, NA())","v":{"$error":"#N/A"}},{"$error":"#N/A"},2305,7.7428359554307491,{"$f":" IF(Foglio1!$C$12 <> \"\", 8.314472*Foglio1!$C$12*Foglio2!N262, NA())","v":{"$error":"#N/A"}},{"$error":"#N/A"},2305,7.7428359554307491,{"$f":" IF(Foglio1!$C$13 <> \"\", 8.314472*Foglio1!$C$13*Foglio2!R262, NA())","v":{"$error":"#N/A"}},{"$error":"#N/A"}]
[2314,7.7467329077536222,{"$f":" IF(Foglio1!$C$9 <> \"\", 8.314472*Foglio1!$C$9*Foglio2!B263, NA())","v":{"$error":"#N/A"}},{"$error":"#N/A"},2314,7.7467329077536222,{"$f":" IF(Foglio1!$C$10 <> \"\", 8.314472*Foglio1!$C$10*Foglio2!F263, NA())","v":{"$error":"#N/A"}},{"$error":"#N/A"},2314,7.7467329077536222,{"$f":" IF(Foglio1!$C$11 <> \"\", 8.314472*Foglio1!$C$11*Foglio2!J263, NA())","v":{"$error":"#N/A"}},{"$error":"#N/A"},2314,7.7467329077536222,{"$f":" IF(Foglio1!$C$12 <> \"\", 8.314472*Foglio1!$C$12*Foglio2!N263, NA())","v":{"$error":"#N/A"}},{"$error":"#N/A"},2314,7.7467329077536222,{"$f":" IF(Foglio1!$C$13 <> \"\", 8.314472*Foglio1!$C$13*Foglio2!R263, NA())","v":{"$error":"#N/A"}},{"$error":"#N/A"}]
[2323,7.7506147327704094,{"$f":" IF(Foglio1!$C$9 <> \"\", 8.314472*Foglio1!$C$9*Foglio2!B264, NA())","v":{"$error":"#N/A"}},{"$error":"#N/A"},2323,7.7506147327704094,{"$f":" IF(Foglio1!$C$10 <> \"\", 8.314472*Foglio1!$C$10*Foglio2!F264, NA())","v":{"$error":"#N/A"}},{"$error":"#N/A"},2323,7.7506147327704094,{"$f":" IF(Foglio1!$C$11 <> \"\", 8.314472*Foglio1!$C$11*Foglio2!J264, NA())","v":{"$error":"#N/A"}},{"$error":"#N/A"},2323,7.7506147327704094,{"$f":" IF(Foglio1!$C$12 <> \"\", 8.314472*Foglio1!$C$12*Foglio2!N264, NA())","v":{"$error":"#N/A"}},{"$error":"#N/A"},2323,7.7506147327704094,{"$f":" IF(Foglio1!$C$13 <> \"\", 8.314472*Foglio1!$C$13*Foglio2!R264, NA())","v":{"$error":"#N/A"}},{"$error":"#N/A"}]
[2332,7.754481547470383,{"$f":" IF(Foglio1!$C$9 <> \"\", 8.314472*Foglio1!$C$9*Foglio2!B265, NA())","v":{"$error":"#N/A"}},{"$error":"#N/A"},2332,7.754481547470383,{"$f":" IF(Foglio1!$C$10 <> \"\", 8.314472*Foglio1!$C$10*Foglio2!F265, NA())","v":{"$error":"#N/A"}},{"$error":"#N/A"},2332,7.754481547470383,{"$f":" IF(Foglio1!$C$11 <> \"\", 8.314472*Foglio1!$C$11*Foglio2!J265, NA())","v":{"$error":"#N/A"}},{"$error":"#N/A"},2332,7.754481547470383,{"$f":" IF(Foglio1!$C$12 <> \"\", 8.314472*Foglio1!$C$12*Foglio2!N265, NA())","v":{"$error":"#N/A"}},{"$error":"#N/A"},2332,7.754481547470383,{"$f":" IF(Foglio1!$C$13 <> \"\", 8.314472*Foglio1!$C$13*Foglio2!R265, NA())","v":{"$error":"#N/A"}},{"$error":"#N/A"}]
[2341,7.7583334674909104,{"$f":" IF(Foglio1!$C$9 <> \"\", 8.314472*Foglio1!$C$9*Foglio2!B266, NA())","v":{"$error":"#N/A"}},{"$error":"#N/A"},2341,7.7583334674909104,{"$f":" IF(Foglio1!$C$10 <> \"\", 8.314472*Foglio1!$C$10*Foglio2!F266, NA())","v":{"$error":"#N/A"}},{"$error":"#N/A"},2341,7.7583334674909104,{"$f":" IF(Foglio1!$C$11 <> \"\", 8.314472*Foglio1!$C$11*Foglio2!J266, NA())","v":{"$error":"#N/A"}},{"$error":"#N/A"},2341,7.7583334674909104,{"$f":" IF(Foglio1!$C$12 <> \"\", 8.314472*Foglio1!$C$12*Foglio2!N266, NA())","v":{"$error":"#N/A"}},{"$error":"#N/A"},2341,7.7583334674909104,{"$f":" IF(Foglio1!$C$13 <> \"\", 8.314472*Foglio1!$C$13*Foglio2!R266, NA())","v":{"$error":"#N/A"}},{"$error":"#N/A"}]
[2350,7.7621706071382048,{"$f":" IF(Foglio1!$C$9 <> \"\", 8.314472*Foglio1!$C$9*Foglio2!B267, NA())","v":{"$error":"#N/A"}},{"$error":"#N/A"},2350,7.7621706071382048,{"$f":" IF(Foglio1!$C$10 <> \"\", 8.314472*Foglio1!$C$10*Foglio2!F267, NA())","v":{"$error":"#N/A"}},{"$error":"#N/A"},2350,7.7621706071382048,{"$f":" IF(Foglio1!$C$11 <> \"\", 8.314472*Foglio1!$C$11*Foglio2!J267, NA())","v":{"$error":"#N/A"}},{"$error":"#N/A"},2350,7.7621706071382048,{"$f":" IF(Foglio1!$C$12 <> \"\", 8.314472*Foglio1!$C$12*Foglio2!N267, NA())","v":{"$error":"#N/A"}},{"$error":"#N/A"},2350,7.7621706071382048,{"$f":" IF(Foglio1!$C$13 <> \"\", 8.314472*Foglio1!$C$13*Foglio2!R267, NA())","v":{"$error":"#N/A"}},{"$error":"#N/A"}]
[2359,7.765993079407675,{"$f":" IF(Foglio1!$C$9 <> \"\", 8.314472*Foglio1!$C$9*Foglio2!B268, NA())","v":{"$error":"#N/A"}},{"$error":"#N/A"},2359,7.765993079407675,{"$f":" IF(Foglio1!$C$10 <> \"\", 8.314472*Foglio1!$C$10*Foglio2!F268, NA())","v":{"$error":"#N/A"}},{"$error":"#N/A"},2359,7.765993079407675,{"$f":" IF(Foglio1!$C$11 <> \"\", 8.314472*Foglio1!$C$11*Foglio2!J268, NA())","v":{"$error":"#N/A"}},{"$error":"#N/A"},2359,7.765993079407675,{"$f":" IF(Foglio1!$C$12 <> \"\", 8.314472*Foglio1!$C$12*Foglio2!N268, NA())","v":{"$error":"#N/A"}},{"$error":"#N/A"},2359,7.765993079407675,{"$f":" IF(Foglio1!$C$13 <> \"\", 8.314472*Foglio1!$C$13*Foglio2!R268, NA())","v":{"$error":"#N/A"}},{"$error":"#N/A"}]
[2368,7.7698009960038963,{"$f":" IF(Foglio1!$C$9 <> \"\", 8.314472*Foglio1!$C$9*Foglio2!B269, NA())","v":{"$error":"#N/A"}},{"$error":"#N/A"},2368,7.7698009960038963,{"$f":" IF(Foglio1!$C$10 <> \"\", 8.314472*Foglio1!$C$10*Foglio2!F269, NA())","v":{"$error":"#N/A"}},{"$error":"#N/A"},2368,7.7698009960038963,{"$f":" IF(Foglio1!$C$11 <> \"\", 8.314472*Foglio1!$C$11*Foglio2!J269, NA())","v":{"$error":"#N/A"}},{"$error":"#N/A"},2368,7.7698009960038963,{"$f":" IF(Foglio1!$C$12 <> \"\", 8.314472*Foglio1!$C$12*Foglio2!N269, NA())","v":{"$error":"#N/A"}},{"$error":"#N/A"},2368,7.7698009960038963,{"$f":" IF(Foglio1!$C$13 <> \"\", 8.314472*Foglio1!$C$13*Foglio2!R269, NA())","v":{"$error":"#N/A"}},{"$error":"#N/A"}]
[2377,7.7735944673601942,{"$f":" IF(Foglio1!$C$9 <> \"\", 8.314472*Foglio1!$C$9*Foglio2!B270, NA())","v":{"$error":"#N/A"}},{"$error":"#N/A"},2377,7.7735944673601942,{"$f":" IF(Foglio1!$C$10 <> \"\", 8.314472*Foglio1!$C$10*Foglio2!F270, NA())","v":{"$error":"#N/A"}},{"$error":"#N/A"},2377,7.7735944673601942,{"$f":" IF(Foglio1!$C$11 <> \"\", 8.314472*Foglio1!$C$11*Foglio2!J270, NA())","v":{"$error":"#N/A"}},{"$error":"#N/A"},2377,7.7735944673601942,{"$f":" IF(Foglio1!$C$12 <> \"\", 8.314472*Foglio1!$C$12*Foglio2!N270, NA())","v":{"$error":"#N/A"}},{"$error":"#N/A"},2377,7.7735944673601942,{"$f":" IF(Foglio1!$C$13 <> \"\", 8.314472*Foglio1!$C$13*Foglio2!R270, NA())","v":{"$error":"#N/A"}},{"$error":"#N/A"}]
[2386,7.7773736026578613,{"$f":" IF(Foglio1!$C$9 <> \"\", 8.314472*Foglio1!$C$9*Foglio2!B271, NA())","v":{"$error":"#N/A"}},{"$error":"#N/A"},2386,7.7773736026578613,{"$f":" IF(Foglio1!$C$10 <> \"\", 8.314472*Foglio1!$C$10*Foglio2!F271, NA())","v":{"$error":"#N/A"}},{"$error":"#N/A"},2386,7.7773736026578613,{"$f":" IF(Foglio1!$C$11 <> \"\", 8.314472*Foglio1!$C$11*Foglio2!J271, NA())","v":{"$error":"#N/A"}},{"$error":"#N/A"},2386,7.7773736026578613,{"$f":" IF(Foglio1!$C$12 <> \"\", 8.314472*Foglio1!$C$12*Foglio2!N271, NA())","v":{"$error":"#N/A"}},{"$error":"#N/A"},2386,7.7773736026578613,{"$f":" IF(Foglio1!$C$13 <> \"\", 8.314472*Foglio1!$C$13*Foglio2!R271, NA())","v":{"$error":"#N/A"}},{"$error":"#N/A"}]
[2395,7.7811385098450154,{"$f":" IF(Foglio1!$C$9 <> \"\", 8.314472*Foglio1!$C$9*Foglio2!B272, NA())","v":{"$error":"#N/A"}},{"$error":"#N/A"},2395,7.7811385098450154,{"$f":" IF(Foglio1!$C$10 <> \"\", 8.314472*Foglio1!$C$10*Foglio2!F272, NA())","v":{"$error":"#N/A"}},{"$error":"#N/A"},2395,7.7811385098450154,{"$f":" IF(Foglio1!$C$11 <> \"\", 8.314472*Foglio1!$C$11*Foglio2!J272, NA())","v":{"$error":"#N/A"}},{"$error":"#N/A"},2395,7.7811385098450154,{"$f":" IF(Foglio1!$C$12 <> \"\", 8.314472*Foglio1!$C$12*Foglio2!N272, NA())","v":{"$error":"#N/A"}},{"$error":"#N/A"},2395,7.7811385098450154,{"$f":" IF(Foglio1!$C$13 <> \"\", 8.314472*Foglio1!$C$13*Foglio2!R272, NA())","v":{"$error":"#N/A"}},{"$error":"#N/A"}]
[2404,7.7848892956550984,{"$f":" IF(Foglio1!$C$9 <> \"\", 8.314472*Foglio1!$C$9*Foglio2!B273, NA())","v":{"$error":"#N/A"}},{"$error":"#N/A"},2404,7.7848892956550984,{"$f":" IF(Foglio1!$C$10 <> \"\", 8.314472*Foglio1!$C$10*Foglio2!F273, NA())","v":{"$error":"#N/A"}},{"$error":"#N/A"},2404,7.7848892956550984,{"$f":" IF(Foglio1!$C$11 <> \"\", 8.314472*Foglio1!$C$11*Foglio2!J273, NA())","v":{"$error":"#N/A"}},{"$error":"#N/A"},2404,7.7848892956550984,{"$f":" IF(Foglio1!$C$12 <> \"\", 8.314472*Foglio1!$C$12*Foglio2!N273, NA())","v":{"$error":"#N/A"}},{"$error":"#N/A"},2404,7.7848892956550984,{"$f":" IF(Foglio1!$C$13 <> \"\", 8.314472*Foglio1!$C$13*Foglio2!R273, NA())","v":{"$error":"#N/A"}},{"$error":"#N/A"}]
[2413,7.7886260656250315,{"$f":" IF(Foglio1!$C$9 <> \"\", 8.314472*Foglio1!$C$9*Foglio2!B274, NA())","v":{"$error":"#N/A"}},{"$error":"#N/A"},2413,7.7886260656250315,{"$f":" IF(Foglio1!$C$10 <> \"\", 8.314472*Foglio1!$C$10*Foglio2!F274, NA())","v":{"$error":"#N/A"}},{"$error":"#N/A"},2413,7.7886260656250315,{"$f":" IF(Foglio1!$C$11 <> \"\", 8.314472*Foglio1!$C$11*Foglio2!J274, NA())","v":{"$error":"#N/A"}},{"$error":"#N/A"},2413,7.7886260656250315,{"$f":" IF(Foglio1!$C$12 <> \"\", 8.314472*Foglio1!$C$12*Foglio2!N274, NA())","v":{"$error":"#N/A"}},{"$error":"#N/A"},2413,7.7886260656250315,{"$f":" IF(Foglio1!$C$13 <> \"\", 8.314472*Foglio1!$C$13*Foglio2!R274, NA())","v":{"$error":"#N/A"}},{"$error":"#N/A"}]
[2422,7.7923489241130373,{"$f":" IF(Foglio1!$C$9 <> \"\", 8.314472*Foglio1!$C$9*Foglio2!B275, NA())","v":{"$error":"#N/A"}},{"$error":"#N/A"},2422,7.7923489241130373,{"$f":" IF(Foglio1!$C$10 <> \"\", 8.314472*Foglio1!$C$10*Foglio2!F275, NA())","v":{"$error":"#N/A"}},{"$error":"#N/A"},2422,7.7923489241130373,{"$f":" IF(Foglio1!$C$11 <> \"\", 8.314472*Foglio1!$C$11*Foglio2!J275, NA())","v":{"$error":"#N/A"}},{"$error":"#N/A"},2422,7.7923489241130373,{"$f":" IF(Foglio1!$C$12 <> \"\", 8.314472*Foglio1!$C$12*Foglio2!N275, NA())","v":{"$error":"#N/A"}},{"$error":"#N/A"},2422,7.7923489241130373,{"$f":" IF(Foglio1!$C$13 <> \"\", 8.314472*Foglio1!$C$13*Foglio2!R275, NA())","v":{"$error":"#N/A"}},{"$error":"#N/A"}]
[2431,7.7960579743161231,{"$f":" IF(Foglio1!$C$9 <> \"\", 8.314472*Foglio1!$C$9*Foglio2!B276, NA())","v":{"$error":"#N/A"}},{"$error":"#N/A"},2431,7.7960579743161231,{"$f":" IF(Foglio1!$C$10 <> \"\", 8.314472*Foglio1!$C$10*Foglio2!F276, NA())","v":{"$error":"#N/A"}},{"$error":"#N/A"},2431,7.7960579743161231,{"$f":" IF(Foglio1!$C$11 <> \"\", 8.314472*Foglio1!$C$11*Foglio2!J276, NA())","v":{"$error":"#N/A"}},{"$error":"#N/A"},2431,7.7960579743161231,{"$f":" IF(Foglio1!$C$12 <> \"\", 8.314472*Foglio1!$C$12*Foglio2!N276, NA())","v":{"$error":"#N/A"}},{"$error":"#N/A"},2431,7.7960579743161231,{"$f":" IF(Foglio1!$C$13 <> \"\", 8.314472*Foglio1!$C$13*Foglio2!R276, NA())","v":{"$error":"#N/A"}},{"$error":"#N/A"}]
[2440,7.7997533182872472,{"$f":" IF(Foglio1!$C$9 <> \"\", 8.314472*Foglio1!$C$9*Foglio2!B277, NA())","v":{"$error":"#N/A"}},{"$error":"#N/A"},2440,7.7997533182872472,{"$f":" IF(Foglio1!$C$10 <> \"\", 8.314472*Foglio1!$C$10*Foglio2!F277, NA())","v":{"$error":"#N/A"}},{"$error":"#N/A"},2440,7.7997533182872472,{"$f":" IF(Foglio1!$C$11 <> \"\", 8.314472*Foglio1!$C$11*Foglio2!J277, NA())","v":{"$error":"#N/A"}},{"$error":"#N/A"},2440,7.7997533182872472,{"$f":" IF(Foglio1!$C$12 <> \"\", 8.314472*Foglio1!$C$12*Foglio2!N277, NA())","v":{"$error":"#N/A"}},{"$error":"#N/A"},2440,7.7997533182872472,{"$f":" IF(Foglio1!$C$13 <> \"\", 8.314472*Foglio1!$C$13*Foglio2!R277, NA())","v":{"$error":"#N/A"}},{"$error":"#N/A"}]
[2449,7.8034350569521678,{"$f":" IF(Foglio1!$C$9 <> \"\", 8.314472*Foglio1!$C$9*Foglio2!B278, NA())","v":{"$error":"#N/A"}},{"$error":"#N/A"},2449,7.8034350569521678,{"$f":" IF(Foglio1!$C$10 <> \"\", 8.314472*Foglio1!$C$10*Foglio2!F278, NA())","v":{"$error":"#N/A"}},{"$error":"#N/A"},2449,7.8034350569521678,{"$f":" IF(Foglio1!$C$11 <> \"\", 8.314472*Foglio1!$C$11*Foglio2!J278, NA())","v":{"$error":"#N/A"}},{"$error":"#N/A"},2449,7.8034350569521678,{"$f":" IF(Foglio1!$C$12 <> \"\", 8.314472*Foglio1!$C$12*Foglio2!N278, NA())","v":{"$error":"#N/A"}},{"$error":"#N/A"},2449,7.8034350569521678,{"$f":" IF(Foglio1!$C$13 <> \"\", 8.314472*Foglio1!$C$13*Foglio2!R278, NA())","v":{"$error":"#N/A"}},{"$error":"#N/A"}]
[2458,7.8071032901259798,{"$f":" IF(Foglio1!$C$9 <> \"\", 8.314472*Foglio1!$C$9*Foglio2!B279, NA())","v":{"$error":"#N/A"}},{"$error":"#N/A"},2458,7.8071032901259798,{"$f":" IF(Foglio1!$C$10 <> \"\", 8.314472*Foglio1!$C$10*Foglio2!F279, NA())","v":{"$error":"#N/A"}},{"$error":"#N/A"},2458,7.8071032901259798,{"$f":" IF(Foglio1!$C$11 <> \"\", 8.314472*Foglio1!$C$11*Foglio2!J279, NA())","v":{"$error":"#N/A"}},{"$error":"#N/A"},2458,7.8071032901259798,{"$f":" IF(Foglio1!$C$12 <> \"\", 8.314472*Foglio1!$C$12*Foglio2!N279, NA())","v":{"$error":"#N/A"}},{"$error":"#N/A"},2458,7.8071032901259798,{"$f":" IF(Foglio1!$C$13 <> \"\", 8.314472*Foglio1!$C$13*Foglio2!R279, NA())","v":{"$error":"#N/A"}},{"$error":"#N/A"}]
[2467,7.8107581165293567,{"$f":" IF(Foglio1!$C$9 <> \"\", 8.314472*Foglio1!$C$9*Foglio2!B280, NA())","v":{"$error":"#N/A"}},{"$error":"#N/A"},2467,7.8107581165293567,{"$f":" IF(Foglio1!$C$10 <> \"\", 8.314472*Foglio1!$C$10*Foglio2!F280, NA())","v":{"$error":"#N/A"}},{"$error":"#N/A"},2467,7.8107581165293567,{"$f":" IF(Foglio1!$C$11 <> \"\", 8.314472*Foglio1!$C$11*Foglio2!J280, NA())","v":{"$error":"#N/A"}},{"$error":"#N/A"},2467,7.8107581165293567,{"$f":" IF(Foglio1!$C$12 <> \"\", 8.314472*Foglio1!$C$12*Foglio2!N280, NA())","v":{"$error":"#N/A"}},{"$error":"#N/A"},2467,7.8107581165293567,{"$f":" IF(Foglio1!$C$13 <> \"\", 8.314472*Foglio1!$C$13*Foglio2!R280, NA())","v":{"$error":"#N/A"}},{"$error":"#N/A"}]
[2476,7.814399633804487,{"$f":" IF(Foglio1!$C$9 <> \"\", 8.314472*Foglio1!$C$9*Foglio2!B281, NA())","v":{"$error":"#N/A"}},{"$error":"#N/A"},2476,7.814399633804487,{"$f":" IF(Foglio1!$C$10 <> \"\", 8.314472*Foglio1!$C$10*Foglio2!F281, NA())","v":{"$error":"#N/A"}},{"$error":"#N/A"},2476,7.814399633804487,{"$f":" IF(Foglio1!$C$11 <> \"\", 8.314472*Foglio1!$C$11*Foglio2!J281, NA())","v":{"$error":"#N/A"}},{"$error":"#N/A"},2476,7.814399633804487,{"$f":" IF(Foglio1!$C$12 <> \"\", 8.314472*Foglio1!$C$12*Foglio2!N281, NA())","v":{"$error":"#N/A"}},{"$error":"#N/A"},2476,7.814399633804487,{"$f":" IF(Foglio1!$C$13 <> \"\", 8.314472*Foglio1!$C$13*Foglio2!R281, NA())","v":{"$error":"#N/A"}},{"$error":"#N/A"}]
[2485,7.8180279385307294,{"$f":" IF(Foglio1!$C$9 <> \"\", 8.314472*Foglio1!$C$9*Foglio2!B282, NA())","v":{"$error":"#N/A"}},{"$error":"#N/A"},2485,7.8180279385307294,{"$f":" IF(Foglio1!$C$10 <> \"\", 8.314472*Foglio1!$C$10*Foglio2!F282, NA())","v":{"$error":"#N/A"}},{"$error":"#N/A"},2485,7.8180279385307294,{"$f":" IF(Foglio1!$C$11 <> \"\", 8.314472*Foglio1!$C$11*Foglio2!J282, NA())","v":{"$error":"#N/A"}},{"$error":"#N/A"},2485,7.8180279385307294,{"$f":" IF(Foglio1!$C$12 <> \"\", 8.314472*Foglio1!$C$12*Foglio2!N282, NA())","v":{"$error":"#N/A"}},{"$error":"#N/A"},2485,7.8180279385307294,{"$f":" IF(Foglio1!$C$13 <> \"\", 8.314472*Foglio1!$C$13*Foglio2!R282, NA())","v":{"$error":"#N/A"}},{"$error":"#N/A"}]
[2494,7.8216431262399819,{"$f":" IF(Foglio1!$C$9 <> \"\", 8.314472*Foglio1!$C$9*Foglio2!B283, NA())","v":{"$error":"#N/A"}},{"$error":"#N/A"},2494,7.8216431262399819,{"$f":" IF(Foglio1!$C$10 <> \"\", 8.314472*Foglio1!$C$10*Foglio2!F283, NA())","v":{"$error":"#N/A"}},{"$error":"#N/A"},2494,7.8216431262399819,{"$f":" IF(Foglio1!$C$11 <> \"\", 8.314472*Foglio1!$C$11*Foglio2!J283, NA())","v":{"$error":"#N/A"}},{"$error":"#N/A"},2494,7.8216431262399819,{"$f":" IF(Foglio1!$C$12 <> \"\", 8.314472*Foglio1!$C$12*Foglio2!N283, NA())","v":{"$error":"#N/A"}},{"$error":"#N/A"},2494,7.8216431262399819,{"$f":" IF(Foglio1!$C$13 <> \"\", 8.314472*Foglio1!$C$13*Foglio2!R283, NA())","v":{"$error":"#N/A"}},{"$error":"#N/A"}]
[2503,7.8252452914317745,{"$f":" IF(Foglio1!$C$9 <> \"\", 8.314472*Foglio1!$C$9*Foglio2!B284, NA())","v":{"$error":"#N/A"}},{"$error":"#N/A"},2503,7.8252452914317745,{"$f":" IF(Foglio1!$C$10 <> \"\", 8.314472*Foglio1!$C$10*Foglio2!F284, NA())","v":{"$error":"#N/A"}},{"$error":"#N/A"},2503,7.8252452914317745,{"$f":" IF(Foglio1!$C$11 <> \"\", 8.314472*Foglio1!$C$11*Foglio2!J284, NA())","v":{"$error":"#N/A"}},{"$error":"#N/A"},2503,7.8252452914317745,{"$f":" IF(Foglio1!$C$12 <> \"\", 8.314472*Foglio1!$C$12*Foglio2!N284, NA())","v":{"$error":"#N/A"}},{"$error":"#N/A"},2503,7.8252452914317745,{"$f":" IF(Foglio1!$C$13 <> \"\", 8.314472*Foglio1!$C$13*Foglio2!R284, NA())","v":{"$error":"#N/A"}},{"$error":"#N/A"}]
[2512,7.8288345275880893,{"$f":" IF(Foglio1!$C$9 <> \"\", 8.314472*Foglio1!$C$9*Foglio2!B285, NA())","v":{"$error":"#N/A"}},{"$error":"#N/A"},2512,7.8288345275880893,{"$f":" IF(Foglio1!$C$10 <> \"\", 8.314472*Foglio1!$C$10*Foglio2!F285, NA())","v":{"$error":"#N/A"}},{"$error":"#N/A"},2512,7.8288345275880893,{"$f":" IF(Foglio1!$C$11 <> \"\", 8.314472*Foglio1!$C$11*Foglio2!J285, NA())","v":{"$error":"#N/A"}},{"$error":"#N/A"},2512,7.8288345275880893,{"$f":" IF(Foglio1!$C$12 <> \"\", 8.314472*Foglio1!$C$12*Foglio2!N285, NA())","v":{"$error":"#N/A"}},{"$error":"#N/A"},2512,7.8288345275880893,{"$f":" IF(Foglio1!$C$13 <> \"\", 8.314472*Foglio1!$C$13*Foglio2!R285, NA())","v":{"$error":"#N/A"}},{"$error":"#N/A"}]
[2521,7.8324109271879196,{"$f":" IF(Foglio1!$C$9 <> \"\", 8.314472*Foglio1!$C$9*Foglio2!B286, NA())","v":{"$error":"#N/A"}},{"$error":"#N/A"},2521,7.8324109271879196,{"$f":" IF(Foglio1!$C$10 <> \"\", 8.314472*Foglio1!$C$10*Foglio2!F286, NA())","v":{"$error":"#N/A"}},{"$error":"#N/A"},2521,7.8324109271879196,{"$f":" IF(Foglio1!$C$11 <> \"\", 8.314472*Foglio1!$C$11*Foglio2!J286, NA())","v":{"$error":"#N/A"}},{"$error":"#N/A"},2521,7.8324109271879196,{"$f":" IF(Foglio1!$C$12 <> \"\", 8.314472*Foglio1!$C$12*Foglio2!N286, NA())","v":{"$error":"#N/A"}},{"$error":"#N/A"},2521,7.8324109271879196,{"$f":" IF(Foglio1!$C$13 <> \"\", 8.314472*Foglio1!$C$13*Foglio2!R286, NA())","v":{"$error":"#N/A"}},{"$error":"#N/A"}]
[2530,7.8359745817215662,{"$f":" IF(Foglio1!$C$9 <> \"\", 8.314472*Foglio1!$C$9*Foglio2!B287, NA())","v":{"$error":"#N/A"}},{"$error":"#N/A"},2530,7.8359745817215662,{"$f":" IF(Foglio1!$C$10 <> \"\", 8.314472*Foglio1!$C$10*Foglio2!F287, NA())","v":{"$error":"#N/A"}},{"$error":"#N/A"},2530,7.8359745817215662,{"$f":" IF(Foglio1!$C$11 <> \"\", 8.314472*Foglio1!$C$11*Foglio2!J287, NA())","v":{"$error":"#N/A"}},{"$error":"#N/A"},2530,7.8359745817215662,{"$f":" IF(Foglio1!$C$12 <> \"\", 8.314472*Foglio1!$C$12*Foglio2!N287, NA())","v":{"$error":"#N/A"}},{"$error":"#N/A"},2530,7.8359745817215662,{"$f":" IF(Foglio1!$C$13 <> \"\", 8.314472*Foglio1!$C$13*Foglio2!R287, NA())","v":{"$error":"#N/A"}},{"$error":"#N/A"}]
[2539,7.8395255817046783,{"$f":" IF(Foglio1!$C$9 <> \"\", 8.314472*Foglio1!$C$9*Foglio2!B288, NA())","v":{"$error":"#N/A"}},{"$error":"#N/A"},2539,7.8395255817046783,{"$f":" IF(Foglio1!$C$10 <> \"\", 8.314472*Foglio1!$C$10*Foglio2!F288, NA())","v":{"$error":"#N/A"}},{"$error":"#N/A"},2539,7.8395255817046783,{"$f":" IF(Foglio1!$C$11 <> \"\", 8.314472*Foglio1!$C$11*Foglio2!J288, NA())","v":{"$error":"#N/A"}},{"$error":"#N/A"},2539,7.8395255817046783,{"$f":" IF(Foglio1!$C$12 <> \"\", 8.314472*Foglio1!$C$12*Foglio2!N288, NA())","v":{"$error":"#N/A"}},{"$error":"#N/A"},2539,7.8395255817046783,{"$f":" IF(Foglio1!$C$13 <> \"\", 8.314472*Foglio1!$C$13*Foglio2!R288, NA())","v":{"$error":"#N/A"}},{"$error":"#N/A"}]
[2548,7.843064016692054,{"$f":" IF(Foglio1!$C$9 <> \"\", 8.314472*Foglio1!$C$9*Foglio2!B289, NA())","v":{"$error":"#N/A"}},{"$error":"#N/A"},2548,7.843064016692054,{"$f":" IF(Foglio1!$C$10 <> \"\", 8.314472*Foglio1!$C$10*Foglio2!F289, NA())","v":{"$error":"#N/A"}},{"$error":"#N/A"},2548,7.843064016692054,{"$f":" IF(Foglio1!$C$11 <> \"\", 8.314472*Foglio1!$C$11*Foglio2!J289, NA())","v":{"$error":"#N/A"}},{"$error":"#N/A"},2548,7.843064016692054,{"$f":" IF(Foglio1!$C$12 <> \"\", 8.314472*Foglio1!$C$12*Foglio2!N289, NA())","v":{"$error":"#N/A"}},{"$error":"#N/A"},2548,7.843064016692054,{"$f":" IF(Foglio1!$C$13 <> \"\", 8.314472*Foglio1!$C$13*Foglio2!R289, NA())","v":{"$error":"#N/A"}},{"$error":"#N/A"}]
[2557,7.8465899752911863,{"$f":" IF(Foglio1!$C$9 <> \"\", 8.314472*Foglio1!$C$9*Foglio2!B290, NA())","v":{"$error":"#N/A"}},{"$error":"#N/A"},2557,7.8465899752911863,{"$f":" IF(Foglio1!$C$10 <> \"\", 8.314472*Foglio1!$C$10*Foglio2!F290, NA())","v":{"$error":"#N/A"}},{"$error":"#N/A"},2557,7.8465899752911863,{"$f":" IF(Foglio1!$C$11 <> \"\", 8.314472*Foglio1!$C$11*Foglio2!J290, NA())","v":{"$error":"#N/A"}},{"$error":"#N/A"},2557,7.8465899752911863,{"$f":" IF(Foglio1!$C$12 <> \"\", 8.314472*Foglio1!$C$12*Foglio2!N290, NA())","v":{"$error":"#N/A"}},{"$error":"#N/A"},2557,7.8465899752911863,{"$f":" IF(Foglio1!$C$13 <> \"\", 8.314472*Foglio1!$C$13*Foglio2!R290, NA())","v":{"$error":"#N/A"}},{"$error":"#N/A"}]
[2566,7.8501035451755818,{"$f":" IF(Foglio1!$C$9 <> \"\", 8.314472*Foglio1!$C$9*Foglio2!B291, NA())","v":{"$error":"#N/A"}},{"$error":"#N/A"},2566,7.8501035451755818,{"$f":" IF(Foglio1!$C$10 <> \"\", 8.314472*Foglio1!$C$10*Foglio2!F291, NA())","v":{"$error":"#N/A"}},{"$error":"#N/A"},2566,7.8501035451755818,{"$f":" IF(Foglio1!$C$11 <> \"\", 8.314472*Foglio1!$C$11*Foglio2!J291, NA())","v":{"$error":"#N/A"}},{"$error":"#N/A"},2566,7.8501035451755818,{"$f":" IF(Foglio1!$C$12 <> \"\", 8.314472*Foglio1!$C$12*Foglio2!N291, NA())","v":{"$error":"#N/A"}},{"$error":"#N/A"},2566,7.8501035451755818,{"$f":" IF(Foglio1!$C$13 <> \"\", 8.314472*Foglio1!$C$13*Foglio2!R291, NA())","v":{"$error":"#N/A"}},{"$error":"#N/A"}]
[2575,7.8536048130978369,{"$f":" IF(Foglio1!$C$9 <> \"\", 8.314472*Foglio1!$C$9*Foglio2!B292, NA())","v":{"$error":"#N/A"}},{"$error":"#N/A"},2575,7.8536048130978369,{"$f":" IF(Foglio1!$C$10 <> \"\", 8.314472*Foglio1!$C$10*Foglio2!F292, NA())","v":{"$error":"#N/A"}},{"$error":"#N/A"},2575,7.8536048130978369,{"$f":" IF(Foglio1!$C$11 <> \"\", 8.314472*Foglio1!$C$11*Foglio2!J292, NA())","v":{"$error":"#N/A"}},{"$error":"#N/A"},2575,7.8536048130978369,{"$f":" IF(Foglio1!$C$12 <> \"\", 8.314472*Foglio1!$C$12*Foglio2!N292, NA())","v":{"$error":"#N/A"}},{"$error":"#N/A"},2575,7.8536048130978369,{"$f":" IF(Foglio1!$C$13 <> \"\", 8.314472*Foglio1!$C$13*Foglio2!R292, NA())","v":{"$error":"#N/A"}},{"$error":"#N/A"}]
[2584,7.8570938649024926,{"$f":" IF(Foglio1!$C$9 <> \"\", 8.314472*Foglio1!$C$9*Foglio2!B293, NA())","v":{"$error":"#N/A"}},{"$error":"#N/A"},2584,7.8570938649024926,{"$f":" IF(Foglio1!$C$10 <> \"\", 8.314472*Foglio1!$C$10*Foglio2!F293, NA())","v":{"$error":"#N/A"}},{"$error":"#N/A"},2584,7.8570938649024926,{"$f":" IF(Foglio1!$C$11 <> \"\", 8.314472*Foglio1!$C$11*Foglio2!J293, NA())","v":{"$error":"#N/A"}},{"$error":"#N/A"},2584,7.8570938649024926,{"$f":" IF(Foglio1!$C$12 <> \"\", 8.314472*Foglio1!$C$12*Foglio2!N293, NA())","v":{"$error":"#N/A"}},{"$error":"#N/A"},2584,7.8570938649024926,{"$f":" IF(Foglio1!$C$13 <> \"\", 8.314472*Foglio1!$C$13*Foglio2!R293, NA())","v":{"$error":"#N/A"}},{"$error":"#N/A"}]
[2593,7.8605707855386644,{"$f":" IF(Foglio1!$C$9 <> \"\", 8.314472*Foglio1!$C$9*Foglio2!B294, NA())","v":{"$error":"#N/A"}},{"$error":"#N/A"},2593,7.8605707855386644,{"$f":" IF(Foglio1!$C$10 <> \"\", 8.314472*Foglio1!$C$10*Foglio2!F294, NA())","v":{"$error":"#N/A"}},{"$error":"#N/A"},2593,7.8605707855386644,{"$f":" IF(Foglio1!$C$11 <> \"\", 8.314472*Foglio1!$C$11*Foglio2!J294, NA())","v":{"$error":"#N/A"}},{"$error":"#N/A"},2593,7.8605707855386644,{"$f":" IF(Foglio1!$C$12 <> \"\", 8.314472*Foglio1!$C$12*Foglio2!N294, NA())","v":{"$error":"#N/A"}},{"$error":"#N/A"},2593,7.8605707855386644,{"$f":" IF(Foglio1!$C$13 <> \"\", 8.314472*Foglio1!$C$13*Foglio2!R294, NA())","v":{"$error":"#N/A"}},{"$error":"#N/A"}]
[2602,7.8640356590724503,{"$f":" IF(Foglio1!$C$9 <> \"\", 8.314472*Foglio1!$C$9*Foglio2!B295, NA())","v":{"$error":"#N/A"}},{"$error":"#N/A"},2602,7.8640356590724503,{"$f":" IF(Foglio1!$C$10 <> \"\", 8.314472*Foglio1!$C$10*Foglio2!F295, NA())","v":{"$error":"#N/A"}},{"$error":"#N/A"},2602,7.8640356590724503,{"$f":" IF(Foglio1!$C$11 <> \"\", 8.314472*Foglio1!$C$11*Foglio2!J295, NA())","v":{"$error":"#N/A"}},{"$error":"#N/A"},2602,7.8640356590724503,{"$f":" IF(Foglio1!$C$12 <> \"\", 8.314472*Foglio1!$C$12*Foglio2!N295, NA())","v":{"$error":"#N/A"}},{"$error":"#N/A"},2602,7.8640356590724503,{"$f":" IF(Foglio1!$C$13 <> \"\", 8.314472*Foglio1!$C$13*Foglio2!R295, NA())","v":{"$error":"#N/A"}},{"$error":"#N/A"}]
[2611,7.8674885686991285,{"$f":" IF(Foglio1!$C$9 <> \"\", 8.314472*Foglio1!$C$9*Foglio2!B296, NA())","v":{"$error":"#N/A"}},{"$error":"#N/A"},2611,7.8674885686991285,{"$f":" IF(Foglio1!$C$10 <> \"\", 8.314472*Foglio1!$C$10*Foglio2!F296, NA())","v":{"$error":"#N/A"}},{"$error":"#N/A"},2611,7.8674885686991285,{"$f":" IF(Foglio1!$C$11 <> \"\", 8.314472*Foglio1!$C$11*Foglio2!J296, NA())","v":{"$error":"#N/A"}},{"$error":"#N/A"},2611,7.8674885686991285,{"$f":" IF(Foglio1!$C$12 <> \"\", 8.314472*Foglio1!$C$12*Foglio2!N296, NA())","v":{"$error":"#N/A"}},{"$error":"#N/A"},2611,7.8674885686991285,{"$f":" IF(Foglio1!$C$13 <> \"\", 8.314472*Foglio1!$C$13*Foglio2!R296, NA())","v":{"$error":"#N/A"}},{"$error":"#N/A"}]
[2620,7.8709295967551425,{"$f":" IF(Foglio1!$C$9 <> \"\", 8.314472*Foglio1!$C$9*Foglio2!B297, NA())","v":{"$error":"#N/A"}},{"$error":"#N/A"},2620,7.8709295967551425,{"$f":" IF(Foglio1!$C$10 <> \"\", 8.314472*Foglio1!$C$10*Foglio2!F297, NA())","v":{"$error":"#N/A"}},{"$error":"#N/A"},2620,7.8709295967551425,{"$f":" IF(Foglio1!$C$11 <> \"\", 8.314472*Foglio1!$C$11*Foglio2!J297, NA())","v":{"$error":"#N/A"}},{"$error":"#N/A"},2620,7.8709295967551425,{"$f":" IF(Foglio1!$C$12 <> \"\", 8.314472*Foglio1!$C$12*Foglio2!N297, NA())","v":{"$error":"#N/A"}},{"$error":"#N/A"},2620,7.8709295967551425,{"$f":" IF(Foglio1!$C$13 <> \"\", 8.314472*Foglio1!$C$13*Foglio2!R297, NA())","v":{"$error":"#N/A"}},{"$error":"#N/A"}]
[2629,7.8743588247298808,{"$f":" IF(Foglio1!$C$9 <> \"\", 8.314472*Foglio1!$C$9*Foglio2!B298, NA())","v":{"$error":"#N/A"}},{"$error":"#N/A"},2629,7.8743588247298808,{"$f":" IF(Foglio1!$C$10 <> \"\", 8.314472*Foglio1!$C$10*Foglio2!F298, NA())","v":{"$error":"#N/A"}},{"$error":"#N/A"},2629,7.8743588247298808,{"$f":" IF(Foglio1!$C$11 <> \"\", 8.314472*Foglio1!$C$11*Foglio2!J298, NA())","v":{"$error":"#N/A"}},{"$error":"#N/A"},2629,7.8743588247298808,{"$f":" IF(Foglio1!$C$12 <> \"\", 8.314472*Foglio1!$C$12*Foglio2!N298, NA())","v":{"$error":"#N/A"}},{"$error":"#N/A"},2629,7.8743588247298808,{"$f":" IF(Foglio1!$C$13 <> \"\", 8.314472*Foglio1!$C$13*Foglio2!R298, NA())","v":{"$error":"#N/A"}},{"$error":"#N/A"}]
[2638,7.8777763332772599,{"$f":" IF(Foglio1!$C$9 <> \"\", 8.314472*Foglio1!$C$9*Foglio2!B299, NA())","v":{"$error":"#N/A"}},{"$error":"#N/A"},2638,7.8777763332772599,{"$f":" IF(Foglio1!$C$10 <> \"\", 8.314472*Foglio1!$C$10*Foglio2!F299, NA())","v":{"$error":"#N/A"}},{"$error":"#N/A"},2638,7.8777763332772599,{"$f":" IF(Foglio1!$C$11 <> \"\", 8.314472*Foglio1!$C$11*Foglio2!J299, NA())","v":{"$error":"#N/A"}},{"$error":"#N/A"},2638,7.8777763332772599,{"$f":" IF(Foglio1!$C$12 <> \"\", 8.314472*Foglio1!$C$12*Foglio2!N299, NA())","v":{"$error":"#N/A"}},{"$error":"#N/A"},2638,7.8777763332772599,{"$f":" IF(Foglio1!$C$13 <> \"\", 8.314472*Foglio1!$C$13*Foglio2!R299, NA())","v":{"$error":"#N/A"}},{"$error":"#N/A"}]
[2647,7.8811822022271016,{"$f":" IF(Foglio1!$C$9 <> \"\", 8.314472*Foglio1!$C$9*Foglio2!B300, NA())","v":{"$error":"#N/A"}},{"$error":"#N/A"},2647,7.8811822022271016,{"$f":" IF(Foglio1!$C$10 <> \"\", 8.314472*Foglio1!$C$10*Foglio2!F300, NA())","v":{"$error":"#N/A"}},{"$error":"#N/A"},2647,7.8811822022271016,{"$f":" IF(Foglio1!$C$11 <> \"\", 8.314472*Foglio1!$C$11*Foglio2!J300, NA())","v":{"$error":"#N/A"}},{"$error":"#N/A"},2647,7.8811822022271016,{"$f":" IF(Foglio1!$C$12 <> \"\", 8.314472*Foglio1!$C$12*Foglio2!N300, NA())","v":{"$error":"#N/A"}},{"$error":"#N/A"},2647,7.8811822022271016,{"$f":" IF(Foglio1!$C$13 <> \"\", 8.314472*Foglio1!$C$13*Foglio2!R300, NA())","v":{"$error":"#N/A"}},{"$error":"#N/A"}]
[2656,7.8845765105963244,{"$f":" IF(Foglio1!$C$9 <> \"\", 8.314472*Foglio1!$C$9*Foglio2!B301, NA())","v":{"$error":"#N/A"}},{"$error":"#N/A"},2656,7.8845765105963244,{"$f":" IF(Foglio1!$C$10 <> \"\", 8.314472*Foglio1!$C$10*Foglio2!F301, NA())","v":{"$error":"#N/A"}},{"$error":"#N/A"},2656,7.8845765105963244,{"$f":" IF(Foglio1!$C$11 <> \"\", 8.314472*Foglio1!$C$11*Foglio2!J301, NA())","v":{"$error":"#N/A"}},{"$error":"#N/A"},2656,7.8845765105963244,{"$f":" IF(Foglio1!$C$12 <> \"\", 8.314472*Foglio1!$C$12*Foglio2!N301, NA())","v":{"$error":"#N/A"}},{"$error":"#N/A"},2656,7.8845765105963244,{"$f":" IF(Foglio1!$C$13 <> \"\", 8.314472*Foglio1!$C$13*Foglio2!R301, NA())","v":{"$error":"#N/A"}},{"$error":"#N/A"}]
[2665,7.8879593365999447,{"$f":" IF(Foglio1!$C$9 <> \"\", 8.314472*Foglio1!$C$9*Foglio2!B302, NA())","v":{"$error":"#N/A"}},{"$error":"#N/A"},2665,7.8879593365999447,{"$f":" IF(Foglio1!$C$10 <> \"\", 8.314472*Foglio1!$C$10*Foglio2!F302, NA())","v":{"$error":"#N/A"}},{"$error":"#N/A"},2665,7.8879593365999447,{"$f":" IF(Foglio1!$C$11 <> \"\", 8.314472*Foglio1!$C$11*Foglio2!J302, NA())","v":{"$error":"#N/A"}},{"$error":"#N/A"},2665,7.8879593365999447,{"$f":" IF(Foglio1!$C$12 <> \"\", 8.314472*Foglio1!$C$12*Foglio2!N302, NA())","v":{"$error":"#N/A"}},{"$error":"#N/A"},2665,7.8879593365999447,{"$f":" IF(Foglio1!$C$13 <> \"\", 8.314472*Foglio1!$C$13*Foglio2!R302, NA())","v":{"$error":"#N/A"}},{"$error":"#N/A"}]
[2674,7.8913307576618887,{"$f":" IF(Foglio1!$C$9 <> \"\", 8.314472*Foglio1!$C$9*Foglio2!B303, NA())","v":{"$error":"#N/A"}},{"$error":"#N/A"},2674,7.8913307576618887,{"$f":" IF(Foglio1!$C$10 <> \"\", 8.314472*Foglio1!$C$10*Foglio2!F303, NA())","v":{"$error":"#N/A"}},{"$error":"#N/A"},2674,7.8913307576618887,{"$f":" IF(Foglio1!$C$11 <> \"\", 8.314472*Foglio1!$C$11*Foglio2!J303, NA())","v":{"$error":"#N/A"}},{"$error":"#N/A"},2674,7.8913307576618887,{"$f":" IF(Foglio1!$C$12 <> \"\", 8.314472*Foglio1!$C$12*Foglio2!N303, NA())","v":{"$error":"#N/A"}},{"$error":"#N/A"},2674,7.8913307576618887,{"$f":" IF(Foglio1!$C$13 <> \"\", 8.314472*Foglio1!$C$13*Foglio2!R303, NA())","v":{"$error":"#N/A"}},{"$error":"#N/A"}]
[2683,7.8946908504256239,{"$f":" IF(Foglio1!$C$9 <> \"\", 8.314472*Foglio1!$C$9*Foglio2!B304, NA())","v":{"$error":"#N/A"}},{"$error":"#N/A"},2683,7.8946908504256239,{"$f":" IF(Foglio1!$C$10 <> \"\", 8.314472*Foglio1!$C$10*Foglio2!F304, NA())","v":{"$error":"#N/A"}},{"$error":"#N/A"},2683,7.8946908504256239,{"$f":" IF(Foglio1!$C$11 <> \"\", 8.314472*Foglio1!$C$11*Foglio2!J304, NA())","v":{"$error":"#N/A"}},{"$error":"#N/A"},2683,7.8946908504256239,{"$f":" IF(Foglio1!$C$12 <> \"\", 8.314472*Foglio1!$C$12*Foglio2!N304, NA())","v":{"$error":"#N/A"}},{"$error":"#N/A"},2683,7.8946908504256239,{"$f":" IF(Foglio1!$C$13 <> \"\", 8.314472*Foglio1!$C$13*Foglio2!R304, NA())","v":{"$error":"#N/A"}},{"$error":"#N/A"}]
[2692,7.8980396907646186,{"$f":" IF(Foglio1!$C$9 <> \"\", 8.314472*Foglio1!$C$9*Foglio2!B305, NA())","v":{"$error":"#N/A"}},{"$error":"#N/A"},2692,7.8980396907646186,{"$f":" IF(Foglio1!$C$10 <> \"\", 8.314472*Foglio1!$C$10*Foglio2!F305, NA())","v":{"$error":"#N/A"}},{"$error":"#N/A"},2692,7.8980396907646186,{"$f":" IF(Foglio1!$C$11 <> \"\", 8.314472*Foglio1!$C$11*Foglio2!J305, NA())","v":{"$error":"#N/A"}},{"$error":"#N/A"},2692,7.8980396907646186,{"$f":" IF(Foglio1!$C$12 <> \"\", 8.314472*Foglio1!$C$12*Foglio2!N305, NA())","v":{"$error":"#N/A"}},{"$error":"#N/A"},2692,7.8980396907646186,{"$f":" IF(Foglio1!$C$13 <> \"\", 8.314472*Foglio1!$C$13*Foglio2!R305, NA())","v":{"$error":"#N/A"}},{"$error":"#N/A"}]
[2701,7.9013773537926157,{"$f":" IF(Foglio1!$C$9 <> \"\", 8.314472*Foglio1!$C$9*Foglio2!B306, NA())","v":{"$error":"#N/A"}},{"$error":"#N/A"},2701,7.9013773537926157,{"$f":" IF(Foglio1!$C$10 <> \"\", 8.314472*Foglio1!$C$10*Foglio2!F306, NA())","v":{"$error":"#N/A"}},{"$error":"#N/A"},2701,7.9013773537926157,{"$f":" IF(Foglio1!$C$11 <> \"\", 8.314472*Foglio1!$C$11*Foglio2!J306, NA())","v":{"$error":"#N/A"}},{"$error":"#N/A"},2701,7.9013773537926157,{"$f":" IF(Foglio1!$C$12 <> \"\", 8.314472*Foglio1!$C$12*Foglio2!N306, NA())","v":{"$error":"#N/A"}},{"$error":"#N/A"},2701,7.9013773537926157,{"$f":" IF(Foglio1!$C$13 <> \"\", 8.314472*Foglio1!$C$13*Foglio2!R306, NA())","v":{"$error":"#N/A"}},{"$error":"#N/A"}]
[2710,7.9047039138737469,{"$f":" IF(Foglio1!$C$9 <> \"\", 8.314472*Foglio1!$C$9*Foglio2!B307, NA())","v":{"$error":"#N/A"}},{"$error":"#N/A"},2710,7.9047039138737469,{"$f":" IF(Foglio1!$C$10 <> \"\", 8.314472*Foglio1!$C$10*Foglio2!F307, NA())","v":{"$error":"#N/A"}},{"$error":"#N/A"},2710,7.9047039138737469,{"$f":" IF(Foglio1!$C$11 <> \"\", 8.314472*Foglio1!$C$11*Foglio2!J307, NA())","v":{"$error":"#N/A"}},{"$error":"#N/A"},2710,7.9047039138737469,{"$f":" IF(Foglio1!$C$12 <> \"\", 8.314472*Foglio1!$C$12*Foglio2!N307, NA())","v":{"$error":"#N/A"}},{"$error":"#N/A"},2710,7.9047039138737469,{"$f":" IF(Foglio1!$C$13 <> \"\", 8.314472*Foglio1!$C$13*Foglio2!R307, NA())","v":{"$error":"#N/A"}},{"$error":"#N/A"}]
[2719,7.9080194446324708,{"$f":" IF(Foglio1!$C$9 <> \"\", 8.314472*Foglio1!$C$9*Foglio2!B308, NA())","v":{"$error":"#N/A"}},{"$error":"#N/A"},2719,7.9080194446324708,{"$f":" IF(Foglio1!$C$10 <> \"\", 8.314472*Foglio1!$C$10*Foglio2!F308, NA())","v":{"$error":"#N/A"}},{"$error":"#N/A"},2719,7.9080194446324708,{"$f":" IF(Foglio1!$C$11 <> \"\", 8.314472*Foglio1!$C$11*Foglio2!J308, NA())","v":{"$error":"#N/A"}},{"$error":"#N/A"},2719,7.9080194446324708,{"$f":" IF(Foglio1!$C$12 <> \"\", 8.314472*Foglio1!$C$12*Foglio2!N308, NA())","v":{"$error":"#N/A"}},{"$error":"#N/A"},2719,7.9080194446324708,{"$f":" IF(Foglio1!$C$13 <> \"\", 8.314472*Foglio1!$C$13*Foglio2!R308, NA())","v":{"$error":"#N/A"}},{"$error":"#N/A"}]
[2728,7.9113240189633531,{"$f":" IF(Foglio1!$C$9 <> \"\", 8.314472*Foglio1!$C$9*Foglio2!B309, NA())","v":{"$error":"#N/A"}},{"$error":"#N/A"},2728,7.9113240189633531,{"$f":" IF(Foglio1!$C$10 <> \"\", 8.314472*Foglio1!$C$10*Foglio2!F309, NA())","v":{"$error":"#N/A"}},{"$error":"#N/A"},2728,7.9113240189633531,{"$f":" IF(Foglio1!$C$11 <> \"\", 8.314472*Foglio1!$C$11*Foglio2!J309, NA())","v":{"$error":"#N/A"}},{"$error":"#N/A"},2728,7.9113240189633531,{"$f":" IF(Foglio1!$C$12 <> \"\", 8.314472*Foglio1!$C$12*Foglio2!N309, NA())","v":{"$error":"#N/A"}},{"$error":"#N/A"},2728,7.9113240189633531,{"$f":" IF(Foglio1!$C$13 <> \"\", 8.314472*Foglio1!$C$13*Foglio2!R309, NA())","v":{"$error":"#N/A"}},{"$error":"#N/A"}]
[2737,7.9146177090406793,{"$f":" IF(Foglio1!$C$9 <> \"\", 8.314472*Foglio1!$C$9*Foglio2!B310, NA())","v":{"$error":"#N/A"}},{"$error":"#N/A"},2737,7.9146177090406793,{"$f":" IF(Foglio1!$C$10 <> \"\", 8.314472*Foglio1!$C$10*Foglio2!F310, NA())","v":{"$error":"#N/A"}},{"$error":"#N/A"},2737,7.9146177090406793,{"$f":" IF(Foglio1!$C$11 <> \"\", 8.314472*Foglio1!$C$11*Foglio2!J310, NA())","v":{"$error":"#N/A"}},{"$error":"#N/A"},2737,7.9146177090406793,{"$f":" IF(Foglio1!$C$12 <> \"\", 8.314472*Foglio1!$C$12*Foglio2!N310, NA())","v":{"$error":"#N/A"}},{"$error":"#N/A"},2737,7.9146177090406793,{"$f":" IF(Foglio1!$C$13 <> \"\", 8.314472*Foglio1!$C$13*Foglio2!R310, NA())","v":{"$error":"#N/A"}},{"$error":"#N/A"}]
[2746,7.9179005863279164,{"$f":" IF(Foglio1!$C$9 <> \"\", 8.314472*Foglio1!$C$9*Foglio2!B311, NA())","v":{"$error":"#N/A"}},{"$error":"#N/A"},2746,7.9179005863279164,{"$f":" IF(Foglio1!$C$10 <> \"\", 8.314472*Foglio1!$C$10*Foglio2!F311, NA())","v":{"$error":"#N/A"}},{"$error":"#N/A"},2746,7.9179005863279164,{"$f":" IF(Foglio1!$C$11 <> \"\", 8.314472*Foglio1!$C$11*Foglio2!J311, NA())","v":{"$error":"#N/A"}},{"$error":"#N/A"},2746,7.9179005863279164,{"$f":" IF(Foglio1!$C$12 <> \"\", 8.314472*Foglio1!$C$12*Foglio2!N311, NA())","v":{"$error":"#N/A"}},{"$error":"#N/A"},2746,7.9179005863279164,{"$f":" IF(Foglio1!$C$13 <> \"\", 8.314472*Foglio1!$C$13*Foglio2!R311, NA())","v":{"$error":"#N/A"}},{"$error":"#N/A"}]
[2755,7.9211727215870145,{"$f":" IF(Foglio1!$C$9 <> \"\", 8.314472*Foglio1!$C$9*Foglio2!B312, NA())","v":{"$error":"#N/A"}},{"$error":"#N/A"},2755,7.9211727215870145,{"$f":" IF(Foglio1!$C$10 <> \"\", 8.314472*Foglio1!$C$10*Foglio2!F312, NA())","v":{"$error":"#N/A"}},{"$error":"#N/A"},2755,7.9211727215870145,{"$f":" IF(Foglio1!$C$11 <> \"\", 8.314472*Foglio1!$C$11*Foglio2!J312, NA())","v":{"$error":"#N/A"}},{"$error":"#N/A"},2755,7.9211727215870145,{"$f":" IF(Foglio1!$C$12 <> \"\", 8.314472*Foglio1!$C$12*Foglio2!N312, NA())","v":{"$error":"#N/A"}},{"$error":"#N/A"},2755,7.9211727215870145,{"$f":" IF(Foglio1!$C$13 <> \"\", 8.314472*Foglio1!$C$13*Foglio2!R312, NA())","v":{"$error":"#N/A"}},{"$error":"#N/A"}]
[2764,7.9244341848875601,{"$f":" IF(Foglio1!$C$9 <> \"\", 8.314472*Foglio1!$C$9*Foglio2!B313, NA())","v":{"$error":"#N/A"}},{"$error":"#N/A"},2764,7.9244341848875601,{"$f":" IF(Foglio1!$C$10 <> \"\", 8.314472*Foglio1!$C$10*Foglio2!F313, NA())","v":{"$error":"#N/A"}},{"$error":"#N/A"},2764,7.9244341848875601,{"$f":" IF(Foglio1!$C$11 <> \"\", 8.314472*Foglio1!$C$11*Foglio2!J313, NA())","v":{"$error":"#N/A"}},{"$error":"#N/A"},2764,7.9244341848875601,{"$f":" IF(Foglio1!$C$12 <> \"\", 8.314472*Foglio1!$C$12*Foglio2!N313, NA())","v":{"$error":"#N/A"}},{"$error":"#N/A"},2764,7.9244341848875601,{"$f":" IF(Foglio1!$C$13 <> \"\", 8.314472*Foglio1!$C$13*Foglio2!R313, NA())","v":{"$error":"#N/A"}},{"$error":"#N/A"}]
[2773,7.9276850456157781,{"$f":" IF(Foglio1!$C$9 <> \"\", 8.314472*Foglio1!$C$9*Foglio2!B314, NA())","v":{"$error":"#N/A"}},{"$error":"#N/A"},2773,7.9276850456157781,{"$f":" IF(Foglio1!$C$10 <> \"\", 8.314472*Foglio1!$C$10*Foglio2!F314, NA())","v":{"$error":"#N/A"}},{"$error":"#N/A"},2773,7.9276850456157781,{"$f":" IF(Foglio1!$C$11 <> \"\", 8.314472*Foglio1!$C$11*Foglio2!J314, NA())","v":{"$error":"#N/A"}},{"$error":"#N/A"},2773,7.9276850456157781,{"$f":" IF(Foglio1!$C$12 <> \"\", 8.314472*Foglio1!$C$12*Foglio2!N314, NA())","v":{"$error":"#N/A"}},{"$error":"#N/A"},2773,7.9276850456157781,{"$f":" IF(Foglio1!$C$13 <> \"\", 8.314472*Foglio1!$C$13*Foglio2!R314, NA())","v":{"$error":"#N/A"}},{"$error":"#N/A"}]
[2782,7.9309253724833884,{"$f":" IF(Foglio1!$C$9 <> \"\", 8.314472*Foglio1!$C$9*Foglio2!B315, NA())","v":{"$error":"#N/A"}},{"$error":"#N/A"},2782,7.9309253724833884,{"$f":" IF(Foglio1!$C$10 <> \"\", 8.314472*Foglio1!$C$10*Foglio2!F315, NA())","v":{"$error":"#N/A"}},{"$error":"#N/A"},2782,7.9309253724833884,{"$f":" IF(Foglio1!$C$11 <> \"\", 8.314472*Foglio1!$C$11*Foglio2!J315, NA())","v":{"$error":"#N/A"}},{"$error":"#N/A"},2782,7.9309253724833884,{"$f":" IF(Foglio1!$C$12 <> \"\", 8.314472*Foglio1!$C$12*Foglio2!N315, NA())","v":{"$error":"#N/A"}},{"$error":"#N/A"},2782,7.9309253724833884,{"$f":" IF(Foglio1!$C$13 <> \"\", 8.314472*Foglio1!$C$13*Foglio2!R315, NA())","v":{"$error":"#N/A"}},{"$error":"#N/A"}]
[2791,7.9341552335363223,{"$f":" IF(Foglio1!$C$9 <> \"\", 8.314472*Foglio1!$C$9*Foglio2!B316, NA())","v":{"$error":"#N/A"}},{"$error":"#N/A"},2791,7.9341552335363223,{"$f":" IF(Foglio1!$C$10 <> \"\", 8.314472*Foglio1!$C$10*Foglio2!F316, NA())","v":{"$error":"#N/A"}},{"$error":"#N/A"},2791,7.9341552335363223,{"$f":" IF(Foglio1!$C$11 <> \"\", 8.314472*Foglio1!$C$11*Foglio2!J316, NA())","v":{"$error":"#N/A"}},{"$error":"#N/A"},2791,7.9341552335363223,{"$f":" IF(Foglio1!$C$12 <> \"\", 8.314472*Foglio1!$C$12*Foglio2!N316, NA())","v":{"$error":"#N/A"}},{"$error":"#N/A"},2791,7.9341552335363223,{"$f":" IF(Foglio1!$C$13 <> \"\", 8.314472*Foglio1!$C$13*Foglio2!R316, NA())","v":{"$error":"#N/A"}},{"$error":"#N/A"}]
[2800,7.9373746961632952,{"$f":" IF(Foglio1!$C$9 <> \"\", 8.314472*Foglio1!$C$9*Foglio2!B317, NA())","v":{"$error":"#N/A"}},{"$error":"#N/A"},2800,7.9373746961632952,{"$f":" IF(Foglio1!$C$10 <> \"\", 8.314472*Foglio1!$C$10*Foglio2!F317, NA())","v":{"$error":"#N/A"}},{"$error":"#N/A"},2800,7.9373746961632952,{"$f":" IF(Foglio1!$C$11 <> \"\", 8.314472*Foglio1!$C$11*Foglio2!J317, NA())","v":{"$error":"#N/A"}},{"$error":"#N/A"},2800,7.9373746961632952,{"$f":" IF(Foglio1!$C$12 <> \"\", 8.314472*Foglio1!$C$12*Foglio2!N317, NA())","v":{"$error":"#N/A"}},{"$error":"#N/A"},2800,7.9373746961632952,{"$f":" IF(Foglio1!$C$13 <> \"\", 8.314472*Foglio1!$C$13*Foglio2!R317, NA())","v":{"$error":"#N/A"}},{"$error":"#N/A"}]
[2809,7.9405838271042439,{"$f":" IF(Foglio1!$C$9 <> \"\", 8.314472*Foglio1!$C$9*Foglio2!B318, NA())","v":{"$error":"#N/A"}},{"$error":"#N/A"},2809,7.9405838271042439,{"$f":" IF(Foglio1!$C$10 <> \"\", 8.314472*Foglio1!$C$10*Foglio2!F318, NA())","v":{"$error":"#N/A"}},{"$error":"#N/A"},2809,7.9405838271042439,{"$f":" IF(Foglio1!$C$11 <> \"\", 8.314472*Foglio1!$C$11*Foglio2!J318, NA())","v":{"$error":"#N/A"}},{"$error":"#N/A"},2809,7.9405838271042439,{"$f":" IF(Foglio1!$C$12 <> \"\", 8.314472*Foglio1!$C$12*Foglio2!N318, NA())","v":{"$error":"#N/A"}},{"$error":"#N/A"},2809,7.9405838271042439,{"$f":" IF(Foglio1!$C$13 <> \"\", 8.314472*Foglio1!$C$13*Foglio2!R318, NA())","v":{"$error":"#N/A"}},{"$error":"#N/A"}]
[2818,7.9437826924586252,{"$f":" IF(Foglio1!$C$9 <> \"\", 8.314472*Foglio1!$C$9*Foglio2!B319, NA())","v":{"$error":"#N/A"}},{"$error":"#N/A"},2818,7.9437826924586252,{"$f":" IF(Foglio1!$C$10 <> \"\", 8.314472*Foglio1!$C$10*Foglio2!F319, NA())","v":{"$error":"#N/A"}},{"$error":"#N/A"},2818,7.9437826924586252,{"$f":" IF(Foglio1!$C$11 <> \"\", 8.314472*Foglio1!$C$11*Foglio2!J319, NA())","v":{"$error":"#N/A"}},{"$error":"#N/A"},2818,7.9437826924586252,{"$f":" IF(Foglio1!$C$12 <> \"\", 8.314472*Foglio1!$C$12*Foglio2!N319, NA())","v":{"$error":"#N/A"}},{"$error":"#N/A"},2818,7.9437826924586252,{"$f":" IF(Foglio1!$C$13 <> \"\", 8.314472*Foglio1!$C$13*Foglio2!R319, NA())","v":{"$error":"#N/A"}},{"$error":"#N/A"}]
[2827,7.9469713576935908,{"$f":" IF(Foglio1!$C$9 <> \"\", 8.314472*Foglio1!$C$9*Foglio2!B320, NA())","v":{"$error":"#N/A"}},{"$error":"#N/A"},2827,7.9469713576935908,{"$f":" IF(Foglio1!$C$10 <> \"\", 8.314472*Foglio1!$C$10*Foglio2!F320, NA())","v":{"$error":"#N/A"}},{"$error":"#N/A"},2827,7.9469713576935908,{"$f":" IF(Foglio1!$C$11 <> \"\", 8.314472*Foglio1!$C$11*Foglio2!J320, NA())","v":{"$error":"#N/A"}},{"$error":"#N/A"},2827,7.9469713576935908,{"$f":" IF(Foglio1!$C$12 <> \"\", 8.314472*Foglio1!$C$12*Foglio2!N320, NA())","v":{"$error":"#N/A"}},{"$error":"#N/A"},2827,7.9469713576935908,{"$f":" IF(Foglio1!$C$13 <> \"\", 8.314472*Foglio1!$C$13*Foglio2!R320, NA())","v":{"$error":"#N/A"}},{"$error":"#N/A"}]
[2836,7.9501498876520182,{"$f":" IF(Foglio1!$C$9 <> \"\", 8.314472*Foglio1!$C$9*Foglio2!B321, NA())","v":{"$error":"#N/A"}},{"$error":"#N/A"},2836,7.9501498876520182,{"$f":" IF(Foglio1!$C$10 <> \"\", 8.314472*Foglio1!$C$10*Foglio2!F321, NA())","v":{"$error":"#N/A"}},{"$error":"#N/A"},2836,7.9501498876520182,{"$f":" IF(Foglio1!$C$11 <> \"\", 8.314472*Foglio1!$C$11*Foglio2!J321, NA())","v":{"$error":"#N/A"}},{"$error":"#N/A"},2836,7.9501498876520182,{"$f":" IF(Foglio1!$C$12 <> \"\", 8.314472*Foglio1!$C$12*Foglio2!N321, NA())","v":{"$error":"#N/A"}},{"$error":"#N/A"},2836,7.9501498876520182,{"$f":" IF(Foglio1!$C$13 <> \"\", 8.314472*Foglio1!$C$13*Foglio2!R321, NA())","v":{"$error":"#N/A"}},{"$error":"#N/A"}]
[2845,7.9533183465604314,{"$f":" IF(Foglio1!$C$9 <> \"\", 8.314472*Foglio1!$C$9*Foglio2!B322, NA())","v":{"$error":"#N/A"}},{"$error":"#N/A"},2845,7.9533183465604314,{"$f":" IF(Foglio1!$C$10 <> \"\", 8.314472*Foglio1!$C$10*Foglio2!F322, NA())","v":{"$error":"#N/A"}},{"$error":"#N/A"},2845,7.9533183465604314,{"$f":" IF(Foglio1!$C$11 <> \"\", 8.314472*Foglio1!$C$11*Foglio2!J322, NA())","v":{"$error":"#N/A"}},{"$error":"#N/A"},2845,7.9533183465604314,{"$f":" IF(Foglio1!$C$12 <> \"\", 8.314472*Foglio1!$C$12*Foglio2!N322, NA())","v":{"$error":"#N/A"}},{"$error":"#N/A"},2845,7.9533183465604314,{"$f":" IF(Foglio1!$C$13 <> \"\", 8.314472*Foglio1!$C$13*Foglio2!R322, NA())","v":{"$error":"#N/A"}},{"$error":"#N/A"}]
[2854,{"$f":"LN(A323)","v":7.9564767980367819},{"$f":" IF(Foglio1!$C$9 <> \"\", 8.314472*Foglio1!$C$9*Foglio2!B323, NA())","v":{"$error":"#N/A"}},{"$f":"  -30.5 + C323*10^-3","v":{"$error":"#N/A"}},2854,{"$f":"LN(E323)","v":7.9564767980367819},{"$f":" IF(Foglio1!$C$10 <> \"\", 8.314472*Foglio1!$C$10*Foglio2!F323, NA())","v":{"$error":"#N/A"}},{"$f":" -30.5+ G323*10^-3","v":{"$error":"#N/A"}},2854,{"$f":"LN(I323)","v":7.9564767980367819},{"$f":" IF(Foglio1!$C$11 <> \"\", 8.314472*Foglio1!$C$11*Foglio2!J323, NA())","v":{"$error":"#N/A"}},{"$f":" -30.5+ K323*10^-3","v":{"$error":"#N/A"}},2854,{"$f":"LN(M323)","v":7.9564767980367819},{"$f":" IF(Foglio1!$C$12 <> \"\", 8.314472*Foglio1!$C$12*Foglio2!N323, NA())","v":{"$error":"#N/A"}},{"$f":" -30.5+ O323*10^-3","v":{"$error":"#N/A"}},2854,{"$f":"LN(Q323)","v":7.9564767980367819},{"$f":" IF(Foglio1!$C$13 <> \"\", 8.314472*Foglio1!$C$13*Foglio2!R323, NA())","v":{"$error":"#N/A"}},{"$f":" -30.5+S323*10^-3","v":{"$error":"#N/A"}}]
[2863,7.9596253050981147,{"$f":" IF(Foglio1!$C$9 <> \"\", 8.314472*Foglio1!$C$9*Foglio2!B324, NA())","v":{"$error":"#N/A"}},{"$error":"#N/A"},2863,7.9596253050981147,{"$f":" IF(Foglio1!$C$10 <> \"\", 8.314472*Foglio1!$C$10*Foglio2!F324, NA())","v":{"$error":"#N/A"}},{"$error":"#N/A"},2863,7.9596253050981147,{"$f":" IF(Foglio1!$C$11 <> \"\", 8.314472*Foglio1!$C$11*Foglio2!J324, NA())","v":{"$error":"#N/A"}},{"$error":"#N/A"},2863,7.9596253050981147,{"$f":" IF(Foglio1!$C$12 <> \"\", 8.314472*Foglio1!$C$12*Foglio2!N324, NA())","v":{"$error":"#N/A"}},{"$error":"#N/A"},2863,7.9596253050981147,{"$f":" IF(Foglio1!$C$13 <> \"\", 8.314472*Foglio1!$C$13*Foglio2!R324, NA())","v":{"$error":"#N/A"}},{"$error":"#N/A"}]
[2872,7.9627639301681148,{"$f":" IF(Foglio1!$C$9 <> \"\", 8.314472*Foglio1!$C$9*Foglio2!B325, NA())","v":{"$error":"#N/A"}},{"$error":"#N/A"},2872,7.9627639301681148,{"$f":" IF(Foglio1!$C$10 <> \"\", 8.314472*Foglio1!$C$10*Foglio2!F325, NA())","v":{"$error":"#N/A"}},{"$error":"#N/A"},2872,7.9627639301681148,{"$f":" IF(Foglio1!$C$11 <> \"\", 8.314472*Foglio1!$C$11*Foglio2!J325, NA())","v":{"$error":"#N/A"}},{"$error":"#N/A"},2872,7.9627639301681148,{"$f":" IF(Foglio1!$C$12 <> \"\", 8.314472*Foglio1!$C$12*Foglio2!N325, NA())","v":{"$error":"#N/A"}},{"$error":"#N/A"},2872,7.9627639301681148,{"$f":" IF(Foglio1!$C$13 <> \"\", 8.314472*Foglio1!$C$13*Foglio2!R325, NA())","v":{"$error":"#N/A"}},{"$error":"#N/A"}]
[2881,7.9658927350845286,{"$f":" IF(Foglio1!$C$9 <> \"\", 8.314472*Foglio1!$C$9*Foglio2!B326, NA())","v":{"$error":"#N/A"}},{"$error":"#N/A"},2881,7.9658927350845286,{"$f":" IF(Foglio1!$C$10 <> \"\", 8.314472*Foglio1!$C$10*Foglio2!F326, NA())","v":{"$error":"#N/A"}},{"$error":"#N/A"},2881,7.9658927350845286,{"$f":" IF(Foglio1!$C$11 <> \"\", 8.314472*Foglio1!$C$11*Foglio2!J326, NA())","v":{"$error":"#N/A"}},{"$error":"#N/A"},2881,7.9658927350845286,{"$f":" IF(Foglio1!$C$12 <> \"\", 8.314472*Foglio1!$C$12*Foglio2!N326, NA())","v":{"$error":"#N/A"}},{"$error":"#N/A"},2881,7.9658927350845286,{"$f":" IF(Foglio1!$C$13 <> \"\", 8.314472*Foglio1!$C$13*Foglio2!R326, NA())","v":{"$error":"#N/A"}},{"$error":"#N/A"}]
[2890,7.9690117811064782,{"$f":" IF(Foglio1!$C$9 <> \"\", 8.314472*Foglio1!$C$9*Foglio2!B327, NA())","v":{"$error":"#N/A"}},{"$error":"#N/A"},2890,7.9690117811064782,{"$f":" IF(Foglio1!$C$10 <> \"\", 8.314472*Foglio1!$C$10*Foglio2!F327, NA())","v":{"$error":"#N/A"}},{"$error":"#N/A"},2890,7.9690117811064782,{"$f":" IF(Foglio1!$C$11 <> \"\", 8.314472*Foglio1!$C$11*Foglio2!J327, NA())","v":{"$error":"#N/A"}},{"$error":"#N/A"},2890,7.9690117811064782,{"$f":" IF(Foglio1!$C$12 <> \"\", 8.314472*Foglio1!$C$12*Foglio2!N327, NA())","v":{"$error":"#N/A"}},{"$error":"#N/A"},2890,7.9690117811064782,{"$f":" IF(Foglio1!$C$13 <> \"\", 8.314472*Foglio1!$C$13*Foglio2!R327, NA())","v":{"$error":"#N/A"}},{"$error":"#N/A"}]
[2899,7.9721211289216551,{"$f":" IF(Foglio1!$C$9 <> \"\", 8.314472*Foglio1!$C$9*Foglio2!B328, NA())","v":{"$error":"#N/A"}},{"$error":"#N/A"},2899,7.9721211289216551,{"$f":" IF(Foglio1!$C$10 <> \"\", 8.314472*Foglio1!$C$10*Foglio2!F328, NA())","v":{"$error":"#N/A"}},{"$error":"#N/A"},2899,7.9721211289216551,{"$f":" IF(Foglio1!$C$11 <> \"\", 8.314472*Foglio1!$C$11*Foglio2!J328, NA())","v":{"$error":"#N/A"}},{"$error":"#N/A"},2899,7.9721211289216551,{"$f":" IF(Foglio1!$C$12 <> \"\", 8.314472*Foglio1!$C$12*Foglio2!N328, NA())","v":{"$error":"#N/A"}},{"$error":"#N/A"},2899,7.9721211289216551,{"$f":" IF(Foglio1!$C$13 <> \"\", 8.314472*Foglio1!$C$13*Foglio2!R328, NA())","v":{"$error":"#N/A"}},{"$error":"#N/A"}]
[2908,7.97522083865341,{"$f":" IF(Foglio1!$C$9 <> \"\", 8.314472*Foglio1!$C$9*Foglio2!B329, NA())","v":{"$error":"#N/A"}},{"$error":"#N/A"},2908,7.97522083865341,{"$f":" IF(Foglio1!$C$10 <> \"\", 8.314472*Foglio1!$C$10*Foglio2!F329, NA())","v":{"$error":"#N/A"}},{"$error":"#N/A"},2908,7.97522083865341,{"$f":" IF(Foglio1!$C$11 <> \"\", 8.314472*Foglio1!$C$11*Foglio2!J329, NA())","v":{"$error":"#N/A"}},{"$error":"#N/A"},2908,7.97522083865341,{"$f":" IF(Foglio1!$C$12 <> \"\", 8.314472*Foglio1!$C$12*Foglio2!N329, NA())","v":{"$error":"#N/A"}},{"$error":"#N/A"},2908,7.97522083865341,{"$f":" IF(Foglio1!$C$13 <> \"\", 8.314472*Foglio1!$C$13*Foglio2!R329, NA())","v":{"$error":"#N/A"}},{"$error":"#N/A"}]
[2917,7.9783109698677217,{"$f":" IF(Foglio1!$C$9 <> \"\", 8.314472*Foglio1!$C$9*Foglio2!B330, NA())","v":{"$error":"#N/A"}},{"$error":"#N/A"},2917,7.9783109698677217,{"$f":" IF(Foglio1!$C$10 <> \"\", 8.314472*Foglio1!$C$10*Foglio2!F330, NA())","v":{"$error":"#N/A"}},{"$error":"#N/A"},2917,7.9783109698677217,{"$f":" IF(Foglio1!$C$11 <> \"\", 8.314472*Foglio1!$C$11*Foglio2!J330, NA())","v":{"$error":"#N/A"}},{"$error":"#N/A"},2917,7.9783109698677217,{"$f":" IF(Foglio1!$C$12 <> \"\", 8.314472*Foglio1!$C$12*Foglio2!N330, NA())","v":{"$error":"#N/A"}},{"$error":"#N/A"},2917,7.9783109698677217,{"$f":" IF(Foglio1!$C$13 <> \"\", 8.314472*Foglio1!$C$13*Foglio2!R330, NA())","v":{"$error":"#N/A"}},{"$error":"#N/A"}]
[2926,7.9813915815800698,{"$f":" IF(Foglio1!$C$9 <> \"\", 8.314472*Foglio1!$C$9*Foglio2!B331, NA())","v":{"$error":"#N/A"}},{"$error":"#N/A"},2926,7.9813915815800698,{"$f":" IF(Foglio1!$C$10 <> \"\", 8.314472*Foglio1!$C$10*Foglio2!F331, NA())","v":{"$error":"#N/A"}},{"$error":"#N/A"},2926,7.9813915815800698,{"$f":" IF(Foglio1!$C$11 <> \"\", 8.314472*Foglio1!$C$11*Foglio2!J331, NA())","v":{"$error":"#N/A"}},{"$error":"#N/A"},2926,7.9813915815800698,{"$f":" IF(Foglio1!$C$12 <> \"\", 8.314472*Foglio1!$C$12*Foglio2!N331, NA())","v":{"$error":"#N/A"}},{"$error":"#N/A"},2926,7.9813915815800698,{"$f":" IF(Foglio1!$C$13 <> \"\", 8.314472*Foglio1!$C$13*Foglio2!R331, NA())","v":{"$error":"#N/A"}},{"$error":"#N/A"}]
[2935,7.9844627322621964,{"$f":" IF(Foglio1!$C$9 <> \"\", 8.314472*Foglio1!$C$9*Foglio2!B332, NA())","v":{"$error":"#N/A"}},{"$error":"#N/A"},2935,7.9844627322621964,{"$f":" IF(Foglio1!$C$10 <> \"\", 8.314472*Foglio1!$C$10*Foglio2!F332, NA())","v":{"$error":"#N/A"}},{"$error":"#N/A"},2935,7.9844627322621964,{"$f":" IF(Foglio1!$C$11 <> \"\", 8.314472*Foglio1!$C$11*Foglio2!J332, NA())","v":{"$error":"#N/A"}},{"$error":"#N/A"},2935,7.9844627322621964,{"$f":" IF(Foglio1!$C$12 <> \"\", 8.314472*Foglio1!$C$12*Foglio2!N332, NA())","v":{"$error":"#N/A"}},{"$error":"#N/A"},2935,7.9844627322621964,{"$f":" IF(Foglio1!$C$13 <> \"\", 8.314472*Foglio1!$C$13*Foglio2!R332, NA())","v":{"$error":"#N/A"}},{"$error":"#N/A"}]
[2944,7.9875244798487666,{"$f":" IF(Foglio1!$C$9 <> \"\", 8.314472*Foglio1!$C$9*Foglio2!B333, NA())","v":{"$error":"#N/A"}},{"$error":"#N/A"},2944,7.9875244798487666,{"$f":" IF(Foglio1!$C$10 <> \"\", 8.314472*Foglio1!$C$10*Foglio2!F333, NA())","v":{"$error":"#N/A"}},{"$error":"#N/A"},2944,7.9875244798487666,{"$f":" IF(Foglio1!$C$11 <> \"\", 8.314472*Foglio1!$C$11*Foglio2!J333, NA())","v":{"$error":"#N/A"}},{"$error":"#N/A"},2944,7.9875244798487666,{"$f":" IF(Foglio1!$C$12 <> \"\", 8.314472*Foglio1!$C$12*Foglio2!N333, NA())","v":{"$error":"#N/A"}},{"$error":"#N/A"},2944,7.9875244798487666,{"$f":" IF(Foglio1!$C$13 <> \"\", 8.314472*Foglio1!$C$13*Foglio2!R333, NA())","v":{"$error":"#N/A"}},{"$error":"#N/A"}]
[2953,7.9905768817439231,{"$f":" IF(Foglio1!$C$9 <> \"\", 8.314472*Foglio1!$C$9*Foglio2!B334, NA())","v":{"$error":"#N/A"}},{"$error":"#N/A"},2953,7.9905768817439231,{"$f":" IF(Foglio1!$C$10 <> \"\", 8.314472*Foglio1!$C$10*Foglio2!F334, NA())","v":{"$error":"#N/A"}},{"$error":"#N/A"},2953,7.9905768817439231,{"$f":" IF(Foglio1!$C$11 <> \"\", 8.314472*Foglio1!$C$11*Foglio2!J334, NA())","v":{"$error":"#N/A"}},{"$error":"#N/A"},2953,7.9905768817439231,{"$f":" IF(Foglio1!$C$12 <> \"\", 8.314472*Foglio1!$C$12*Foglio2!N334, NA())","v":{"$error":"#N/A"}},{"$error":"#N/A"},2953,7.9905768817439231,{"$f":" IF(Foglio1!$C$13 <> \"\", 8.314472*Foglio1!$C$13*Foglio2!R334, NA())","v":{"$error":"#N/A"}},{"$error":"#N/A"}]
[2962,7.9936199948277444,{"$f":" IF(Foglio1!$C$9 <> \"\", 8.314472*Foglio1!$C$9*Foglio2!B335, NA())","v":{"$error":"#N/A"}},{"$error":"#N/A"},2962,7.9936199948277444,{"$f":" IF(Foglio1!$C$10 <> \"\", 8.314472*Foglio1!$C$10*Foglio2!F335, NA())","v":{"$error":"#N/A"}},{"$error":"#N/A"},2962,7.9936199948277444,{"$f":" IF(Foglio1!$C$11 <> \"\", 8.314472*Foglio1!$C$11*Foglio2!J335, NA())","v":{"$error":"#N/A"}},{"$error":"#N/A"},2962,7.9936199948277444,{"$f":" IF(Foglio1!$C$12 <> \"\", 8.314472*Foglio1!$C$12*Foglio2!N335, NA())","v":{"$error":"#N/A"}},{"$error":"#N/A"},2962,7.9936199948277444,{"$f":" IF(Foglio1!$C$13 <> \"\", 8.314472*Foglio1!$C$13*Foglio2!R335, NA())","v":{"$error":"#N/A"}},{"$error":"#N/A"}]
[2971,7.9966538754626075,{"$f":" IF(Foglio1!$C$9 <> \"\", 8.314472*Foglio1!$C$9*Foglio2!B336, NA())","v":{"$error":"#N/A"}},{"$error":"#N/A"},2971,7.9966538754626075,{"$f":" IF(Foglio1!$C$10 <> \"\", 8.314472*Foglio1!$C$10*Foglio2!F336, NA())","v":{"$error":"#N/A"}},{"$error":"#N/A"},2971,7.9966538754626075,{"$f":" IF(Foglio1!$C$11 <> \"\", 8.314472*Foglio1!$C$11*Foglio2!J336, NA())","v":{"$error":"#N/A"}},{"$error":"#N/A"},2971,7.9966538754626075,{"$f":" IF(Foglio1!$C$12 <> \"\", 8.314472*Foglio1!$C$12*Foglio2!N336, NA())","v":{"$error":"#N/A"}},{"$error":"#N/A"},2971,7.9966538754626075,{"$f":" IF(Foglio1!$C$13 <> \"\", 8.314472*Foglio1!$C$13*Foglio2!R336, NA())","v":{"$error":"#N/A"}},{"$error":"#N/A"}]
[2980,7.9996785794994505,{"$f":" IF(Foglio1!$C$9 <> \"\", 8.314472*Foglio1!$C$9*Foglio2!B337, NA())","v":{"$error":"#N/A"}},{"$error":"#N/A"},2980,7.9996785794994505,{"$f":" IF(Foglio1!$C$10 <> \"\", 8.314472*Foglio1!$C$10*Foglio2!F337, NA())","v":{"$error":"#N/A"}},{"$error":"#N/A"},2980,7.9996785794994505,{"$f":" IF(Foglio1!$C$11 <> \"\", 8.314472*Foglio1!$C$11*Foglio2!J337, NA())","v":{"$error":"#N/A"}},{"$error":"#N/A"},2980,7.9996785794994505,{"$f":" IF(Foglio1!$C$12 <> \"\", 8.314472*Foglio1!$C$12*Foglio2!N337, NA())","v":{"$error":"#N/A"}},{"$error":"#N/A"},2980,7.9996785794994505,{"$f":" IF(Foglio1!$C$13 <> \"\", 8.314472*Foglio1!$C$13*Foglio2!R337, NA())","v":{"$error":"#N/A"}},{"$error":"#N/A"}]
[2989,8.0026941622839374,{"$f":" IF(Foglio1!$C$9 <> \"\", 8.314472*Foglio1!$C$9*Foglio2!B338, NA())","v":{"$error":"#N/A"}},{"$error":"#N/A"},2989,8.0026941622839374,{"$f":" IF(Foglio1!$C$10 <> \"\", 8.314472*Foglio1!$C$10*Foglio2!F338, NA())","v":{"$error":"#N/A"}},{"$error":"#N/A"},2989,8.0026941622839374,{"$f":" IF(Foglio1!$C$11 <> \"\", 8.314472*Foglio1!$C$11*Foglio2!J338, NA())","v":{"$error":"#N/A"}},{"$error":"#N/A"},2989,8.0026941622839374,{"$f":" IF(Foglio1!$C$12 <> \"\", 8.314472*Foglio1!$C$12*Foglio2!N338, NA())","v":{"$error":"#N/A"}},{"$error":"#N/A"},2989,8.0026941622839374,{"$f":" IF(Foglio1!$C$13 <> \"\", 8.314472*Foglio1!$C$13*Foglio2!R338, NA())","v":{"$error":"#N/A"}},{"$error":"#N/A"}]
[2998,8.0057006786625422,{"$f":" IF(Foglio1!$C$9 <> \"\", 8.314472*Foglio1!$C$9*Foglio2!B339, NA())","v":{"$error":"#N/A"}},{"$error":"#N/A"},2998,8.0057006786625422,{"$f":" IF(Foglio1!$C$10 <> \"\", 8.314472*Foglio1!$C$10*Foglio2!F339, NA())","v":{"$error":"#N/A"}},{"$error":"#N/A"},2998,8.0057006786625422,{"$f":" IF(Foglio1!$C$11 <> \"\", 8.314472*Foglio1!$C$11*Foglio2!J339, NA())","v":{"$error":"#N/A"}},{"$error":"#N/A"},2998,8.0057006786625422,{"$f":" IF(Foglio1!$C$12 <> \"\", 8.314472*Foglio1!$C$12*Foglio2!N339, NA())","v":{"$error":"#N/A"}},{"$error":"#N/A"},2998,8.0057006786625422,{"$f":" IF(Foglio1!$C$13 <> \"\", 8.314472*Foglio1!$C$13*Foglio2!R339, NA())","v":{"$error":"#N/A"}},{"$error":"#N/A"}]
[3007,8.0086981829885282,{"$f":" IF(Foglio1!$C$9 <> \"\", 8.314472*Foglio1!$C$9*Foglio2!B340, NA())","v":{"$error":"#N/A"}},{"$error":"#N/A"},3007,8.0086981829885282,{"$f":" IF(Foglio1!$C$10 <> \"\", 8.314472*Foglio1!$C$10*Foglio2!F340, NA())","v":{"$error":"#N/A"}},{"$error":"#N/A"},3007,8.0086981829885282,{"$f":" IF(Foglio1!$C$11 <> \"\", 8.314472*Foglio1!$C$11*Foglio2!J340, NA())","v":{"$error":"#N/A"}},{"$error":"#N/A"},3007,8.0086981829885282,{"$f":" IF(Foglio1!$C$12 <> \"\", 8.314472*Foglio1!$C$12*Foglio2!N340, NA())","v":{"$error":"#N/A"}},{"$error":"#N/A"},3007,8.0086981829885282,{"$f":" IF(Foglio1!$C$13 <> \"\", 8.314472*Foglio1!$C$13*Foglio2!R340, NA())","v":{"$error":"#N/A"}},{"$error":"#N/A"}]
[3016,8.0116867291278471,{"$f":" IF(Foglio1!$C$9 <> \"\", 8.314472*Foglio1!$C$9*Foglio2!B341, NA())","v":{"$error":"#N/A"}},{"$error":"#N/A"},3016,8.0116867291278471,{"$f":" IF(Foglio1!$C$10 <> \"\", 8.314472*Foglio1!$C$10*Foglio2!F341, NA())","v":{"$error":"#N/A"}},{"$error":"#N/A"},3016,8.0116867291278471,{"$f":" IF(Foglio1!$C$11 <> \"\", 8.314472*Foglio1!$C$11*Foglio2!J341, NA())","v":{"$error":"#N/A"}},{"$error":"#N/A"},3016,8.0116867291278471,{"$f":" IF(Foglio1!$C$12 <> \"\", 8.314472*Foglio1!$C$12*Foglio2!N341, NA())","v":{"$error":"#N/A"}},{"$error":"#N/A"},3016,8.0116867291278471,{"$f":" IF(Foglio1!$C$13 <> \"\", 8.314472*Foglio1!$C$13*Foglio2!R341, NA())","v":{"$error":"#N/A"}},{"$error":"#N/A"}]
[3025,8.0146663704649423,{"$f":" IF(Foglio1!$C$9 <> \"\", 8.314472*Foglio1!$C$9*Foglio2!B342, NA())","v":{"$error":"#N/A"}},{"$error":"#N/A"},3025,8.0146663704649423,{"$f":" IF(Foglio1!$C$10 <> \"\", 8.314472*Foglio1!$C$10*Foglio2!F342, NA())","v":{"$error":"#N/A"}},{"$error":"#N/A"},3025,8.0146663704649423,{"$f":" IF(Foglio1!$C$11 <> \"\", 8.314472*Foglio1!$C$11*Foglio2!J342, NA())","v":{"$error":"#N/A"}},{"$error":"#N/A"},3025,8.0146663704649423,{"$f":" IF(Foglio1!$C$12 <> \"\", 8.314472*Foglio1!$C$12*Foglio2!N342, NA())","v":{"$error":"#N/A"}},{"$error":"#N/A"},3025,8.0146663704649423,{"$f":" IF(Foglio1!$C$13 <> \"\", 8.314472*Foglio1!$C$13*Foglio2!R342, NA())","v":{"$error":"#N/A"}},{"$error":"#N/A"}]
[3034,8.0176371599084781,{"$f":" IF(Foglio1!$C$9 <> \"\", 8.314472*Foglio1!$C$9*Foglio2!B343, NA())","v":{"$error":"#N/A"}},{"$error":"#N/A"},3034,8.0176371599084781,{"$f":" IF(Foglio1!$C$10 <> \"\", 8.314472*Foglio1!$C$10*Foglio2!F343, NA())","v":{"$error":"#N/A"}},{"$error":"#N/A"},3034,8.0176371599084781,{"$f":" IF(Foglio1!$C$11 <> \"\", 8.314472*Foglio1!$C$11*Foglio2!J343, NA())","v":{"$error":"#N/A"}},{"$error":"#N/A"},3034,8.0176371599084781,{"$f":" IF(Foglio1!$C$12 <> \"\", 8.314472*Foglio1!$C$12*Foglio2!N343, NA())","v":{"$error":"#N/A"}},{"$error":"#N/A"},3034,8.0176371599084781,{"$f":" IF(Foglio1!$C$13 <> \"\", 8.314472*Foglio1!$C$13*Foglio2!R343, NA())","v":{"$error":"#N/A"}},{"$error":"#N/A"}]
[3043,8.0205991498969702,{"$f":" IF(Foglio1!$C$9 <> \"\", 8.314472*Foglio1!$C$9*Foglio2!B344, NA())","v":{"$error":"#N/A"}},{"$error":"#N/A"},3043,8.0205991498969702,{"$f":" IF(Foglio1!$C$10 <> \"\", 8.314472*Foglio1!$C$10*Foglio2!F344, NA())","v":{"$error":"#N/A"}},{"$error":"#N/A"},3043,8.0205991498969702,{"$f":" IF(Foglio1!$C$11 <> \"\", 8.314472*Foglio1!$C$11*Foglio2!J344, NA())","v":{"$error":"#N/A"}},{"$error":"#N/A"},3043,8.0205991498969702,{"$f":" IF(Foglio1!$C$12 <> \"\", 8.314472*Foglio1!$C$12*Foglio2!N344, NA())","v":{"$error":"#N/A"}},{"$error":"#N/A"},3043,8.0205991498969702,{"$f":" IF(Foglio1!$C$13 <> \"\", 8.314472*Foglio1!$C$13*Foglio2!R344, NA())","v":{"$error":"#N/A"}},{"$error":"#N/A"}]
[3052,8.0235523924043477,{"$f":" IF(Foglio1!$C$9 <> \"\", 8.314472*Foglio1!$C$9*Foglio2!B345, NA())","v":{"$error":"#N/A"}},{"$error":"#N/A"},3052,8.0235523924043477,{"$f":" IF(Foglio1!$C$10 <> \"\", 8.314472*Foglio1!$C$10*Foglio2!F345, NA())","v":{"$error":"#N/A"}},{"$error":"#N/A"},3052,8.0235523924043477,{"$f":" IF(Foglio1!$C$11 <> \"\", 8.314472*Foglio1!$C$11*Foglio2!J345, NA())","v":{"$error":"#N/A"}},{"$error":"#N/A"},3052,8.0235523924043477,{"$f":" IF(Foglio1!$C$12 <> \"\", 8.314472*Foglio1!$C$12*Foglio2!N345, NA())","v":{"$error":"#N/A"}},{"$error":"#N/A"},3052,8.0235523924043477,{"$f":" IF(Foglio1!$C$13 <> \"\", 8.314472*Foglio1!$C$13*Foglio2!R345, NA())","v":{"$error":"#N/A"}},{"$error":"#N/A"}]
[3061,8.0264969389454119,{"$f":" IF(Foglio1!$C$9 <> \"\", 8.314472*Foglio1!$C$9*Foglio2!B346, NA())","v":{"$error":"#N/A"}},{"$error":"#N/A"},3061,8.0264969389454119,{"$f":" IF(Foglio1!$C$10 <> \"\", 8.314472*Foglio1!$C$10*Foglio2!F346, NA())","v":{"$error":"#N/A"}},{"$error":"#N/A"},3061,8.0264969389454119,{"$f":" IF(Foglio1!$C$11 <> \"\", 8.314472*Foglio1!$C$11*Foglio2!J346, NA())","v":{"$error":"#N/A"}},{"$error":"#N/A"},3061,8.0264969389454119,{"$f":" IF(Foglio1!$C$12 <> \"\", 8.314472*Foglio1!$C$12*Foglio2!N346, NA())","v":{"$error":"#N/A"}},{"$error":"#N/A"},3061,8.0264969389454119,{"$f":" IF(Foglio1!$C$13 <> \"\", 8.314472*Foglio1!$C$13*Foglio2!R346, NA())","v":{"$error":"#N/A"}},{"$error":"#N/A"}]
[3070,8.0294328405812436,{"$f":" IF(Foglio1!$C$9 <> \"\", 8.314472*Foglio1!$C$9*Foglio2!B347, NA())","v":{"$error":"#N/A"}},{"$error":"#N/A"},3070,8.0294328405812436,{"$f":" IF(Foglio1!$C$10 <> \"\", 8.314472*Foglio1!$C$10*Foglio2!F347, NA())","v":{"$error":"#N/A"}},{"$error":"#N/A"},3070,8.0294328405812436,{"$f":" IF(Foglio1!$C$11 <> \"\", 8.314472*Foglio1!$C$11*Foglio2!J347, NA())","v":{"$error":"#N/A"}},{"$error":"#N/A"},3070,8.0294328405812436,{"$f":" IF(Foglio1!$C$12 <> \"\", 8.314472*Foglio1!$C$12*Foglio2!N347, NA())","v":{"$error":"#N/A"}},{"$error":"#N/A"},3070,8.0294328405812436,{"$f":" IF(Foglio1!$C$13 <> \"\", 8.314472*Foglio1!$C$13*Foglio2!R347, NA())","v":{"$error":"#N/A"}},{"$error":"#N/A"}]
[3079,8.0323601479244999,{"$f":" IF(Foglio1!$C$9 <> \"\", 8.314472*Foglio1!$C$9*Foglio2!B348, NA())","v":{"$error":"#N/A"}},{"$error":"#N/A"},3079,8.0323601479244999,{"$f":" IF(Foglio1!$C$10 <> \"\", 8.314472*Foglio1!$C$10*Foglio2!F348, NA())","v":{"$error":"#N/A"}},{"$error":"#N/A"},3079,8.0323601479244999,{"$f":" IF(Foglio1!$C$11 <> \"\", 8.314472*Foglio1!$C$11*Foglio2!J348, NA())","v":{"$error":"#N/A"}},{"$error":"#N/A"},3079,8.0323601479244999,{"$f":" IF(Foglio1!$C$12 <> \"\", 8.314472*Foglio1!$C$12*Foglio2!N348, NA())","v":{"$error":"#N/A"}},{"$error":"#N/A"},3079,8.0323601479244999,{"$f":" IF(Foglio1!$C$13 <> \"\", 8.314472*Foglio1!$C$13*Foglio2!R348, NA())","v":{"$error":"#N/A"}},{"$error":"#N/A"}]
[3088,8.0352789111446672,{"$f":" IF(Foglio1!$C$9 <> \"\", 8.314472*Foglio1!$C$9*Foglio2!B349, NA())","v":{"$error":"#N/A"}},{"$error":"#N/A"},3088,8.0352789111446672,{"$f":" IF(Foglio1!$C$10 <> \"\", 8.314472*Foglio1!$C$10*Foglio2!F349, NA())","v":{"$error":"#N/A"}},{"$error":"#N/A"},3088,8.0352789111446672,{"$f":" IF(Foglio1!$C$11 <> \"\", 8.314472*Foglio1!$C$11*Foglio2!J349, NA())","v":{"$error":"#N/A"}},{"$error":"#N/A"},3088,8.0352789111446672,{"$f":" IF(Foglio1!$C$12 <> \"\", 8.314472*Foglio1!$C$12*Foglio2!N349, NA())","v":{"$error":"#N/A"}},{"$error":"#N/A"},3088,8.0352789111446672,{"$f":" IF(Foglio1!$C$13 <> \"\", 8.314472*Foglio1!$C$13*Foglio2!R349, NA())","v":{"$error":"#N/A"}},{"$error":"#N/A"}]
[3097,8.0381891799732035,{"$f":" IF(Foglio1!$C$9 <> \"\", 8.314472*Foglio1!$C$9*Foglio2!B350, NA())","v":{"$error":"#N/A"}},{"$error":"#N/A"},3097,8.0381891799732035,{"$f":" IF(Foglio1!$C$10 <> \"\", 8.314472*Foglio1!$C$10*Foglio2!F350, NA())","v":{"$error":"#N/A"}},{"$error":"#N/A"},3097,8.0381891799732035,{"$f":" IF(Foglio1!$C$11 <> \"\", 8.314472*Foglio1!$C$11*Foglio2!J350, NA())","v":{"$error":"#N/A"}},{"$error":"#N/A"},3097,8.0381891799732035,{"$f":" IF(Foglio1!$C$12 <> \"\", 8.314472*Foglio1!$C$12*Foglio2!N350, NA())","v":{"$error":"#N/A"}},{"$error":"#N/A"},3097,8.0381891799732035,{"$f":" IF(Foglio1!$C$13 <> \"\", 8.314472*Foglio1!$C$13*Foglio2!R350, NA())","v":{"$error":"#N/A"}},{"$error":"#N/A"}]
[3106,8.0410910037086332,{"$f":" IF(Foglio1!$C$9 <> \"\", 8.314472*Foglio1!$C$9*Foglio2!B351, NA())","v":{"$error":"#N/A"}},{"$error":"#N/A"},3106,8.0410910037086332,{"$f":" IF(Foglio1!$C$10 <> \"\", 8.314472*Foglio1!$C$10*Foglio2!F351, NA())","v":{"$error":"#N/A"}},{"$error":"#N/A"},3106,8.0410910037086332,{"$f":" IF(Foglio1!$C$11 <> \"\", 8.314472*Foglio1!$C$11*Foglio2!J351, NA())","v":{"$error":"#N/A"}},{"$error":"#N/A"},3106,8.0410910037086332,{"$f":" IF(Foglio1!$C$12 <> \"\", 8.314472*Foglio1!$C$12*Foglio2!N351, NA())","v":{"$error":"#N/A"}},{"$error":"#N/A"},3106,8.0410910037086332,{"$f":" IF(Foglio1!$C$13 <> \"\", 8.314472*Foglio1!$C$13*Foglio2!R351, NA())","v":{"$error":"#N/A"}},{"$error":"#N/A"}]
[3115,8.0439844312215527,{"$f":" IF(Foglio1!$C$9 <> \"\", 8.314472*Foglio1!$C$9*Foglio2!B352, NA())","v":{"$error":"#N/A"}},{"$error":"#N/A"},3115,8.0439844312215527,{"$f":" IF(Foglio1!$C$10 <> \"\", 8.314472*Foglio1!$C$10*Foglio2!F352, NA())","v":{"$error":"#N/A"}},{"$error":"#N/A"},3115,8.0439844312215527,{"$f":" IF(Foglio1!$C$11 <> \"\", 8.314472*Foglio1!$C$11*Foglio2!J352, NA())","v":{"$error":"#N/A"}},{"$error":"#N/A"},3115,8.0439844312215527,{"$f":" IF(Foglio1!$C$12 <> \"\", 8.314472*Foglio1!$C$12*Foglio2!N352, NA())","v":{"$error":"#N/A"}},{"$error":"#N/A"},3115,8.0439844312215527,{"$f":" IF(Foglio1!$C$13 <> \"\", 8.314472*Foglio1!$C$13*Foglio2!R352, NA())","v":{"$error":"#N/A"}},{"$error":"#N/A"}]
[3124,8.046869510959576,{"$f":" IF(Foglio1!$C$9 <> \"\", 8.314472*Foglio1!$C$9*Foglio2!B353, NA())","v":{"$error":"#N/A"}},{"$error":"#N/A"},3124,8.046869510959576,{"$f":" IF(Foglio1!$C$10 <> \"\", 8.314472*Foglio1!$C$10*Foglio2!F353, NA())","v":{"$error":"#N/A"}},{"$error":"#N/A"},3124,8.046869510959576,{"$f":" IF(Foglio1!$C$11 <> \"\", 8.314472*Foglio1!$C$11*Foglio2!J353, NA())","v":{"$error":"#N/A"}},{"$error":"#N/A"},3124,8.046869510959576,{"$f":" IF(Foglio1!$C$12 <> \"\", 8.314472*Foglio1!$C$12*Foglio2!N353, NA())","v":{"$error":"#N/A"}},{"$error":"#N/A"},3124,8.046869510959576,{"$f":" IF(Foglio1!$C$13 <> \"\", 8.314472*Foglio1!$C$13*Foglio2!R353, NA())","v":{"$error":"#N/A"}},{"$error":"#N/A"}]
[3133,8.0497462909521911,{"$f":" IF(Foglio1!$C$9 <> \"\", 8.314472*Foglio1!$C$9*Foglio2!B354, NA())","v":{"$error":"#N/A"}},{"$error":"#N/A"},3133,8.0497462909521911,{"$f":" IF(Foglio1!$C$10 <> \"\", 8.314472*Foglio1!$C$10*Foglio2!F354, NA())","v":{"$error":"#N/A"}},{"$error":"#N/A"},3133,8.0497462909521911,{"$f":" IF(Foglio1!$C$11 <> \"\", 8.314472*Foglio1!$C$11*Foglio2!J354, NA())","v":{"$error":"#N/A"}},{"$error":"#N/A"},3133,8.0497462909521911,{"$f":" IF(Foglio1!$C$12 <> \"\", 8.314472*Foglio1!$C$12*Foglio2!N354, NA())","v":{"$error":"#N/A"}},{"$error":"#N/A"},3133,8.0497462909521911,{"$f":" IF(Foglio1!$C$13 <> \"\", 8.314472*Foglio1!$C$13*Foglio2!R354, NA())","v":{"$error":"#N/A"}},{"$error":"#N/A"}]
[3142,8.0526148188155666,{"$f":" IF(Foglio1!$C$9 <> \"\", 8.314472*Foglio1!$C$9*Foglio2!B355, NA())","v":{"$error":"#N/A"}},{"$error":"#N/A"},3142,8.0526148188155666,{"$f":" IF(Foglio1!$C$10 <> \"\", 8.314472*Foglio1!$C$10*Foglio2!F355, NA())","v":{"$error":"#N/A"}},{"$error":"#N/A"},3142,8.0526148188155666,{"$f":" IF(Foglio1!$C$11 <> \"\", 8.314472*Foglio1!$C$11*Foglio2!J355, NA())","v":{"$error":"#N/A"}},{"$error":"#N/A"},3142,8.0526148188155666,{"$f":" IF(Foglio1!$C$12 <> \"\", 8.314472*Foglio1!$C$12*Foglio2!N355, NA())","v":{"$error":"#N/A"}},{"$error":"#N/A"},3142,8.0526148188155666,{"$f":" IF(Foglio1!$C$13 <> \"\", 8.314472*Foglio1!$C$13*Foglio2!R355, NA())","v":{"$error":"#N/A"}},{"$error":"#N/A"}]
[3151,8.0554751417572739,{"$f":" IF(Foglio1!$C$9 <> \"\", 8.314472*Foglio1!$C$9*Foglio2!B356, NA())","v":{"$error":"#N/A"}},{"$error":"#N/A"},3151,8.0554751417572739,{"$f":" IF(Foglio1!$C$10 <> \"\", 8.314472*Foglio1!$C$10*Foglio2!F356, NA())","v":{"$error":"#N/A"}},{"$error":"#N/A"},3151,8.0554751417572739,{"$f":" IF(Foglio1!$C$11 <> \"\", 8.314472*Foglio1!$C$11*Foglio2!J356, NA())","v":{"$error":"#N/A"}},{"$error":"#N/A"},3151,8.0554751417572739,{"$f":" IF(Foglio1!$C$12 <> \"\", 8.314472*Foglio1!$C$12*Foglio2!N356, NA())","v":{"$error":"#N/A"}},{"$error":"#N/A"},3151,8.0554751417572739,{"$f":" IF(Foglio1!$C$13 <> \"\", 8.314472*Foglio1!$C$13*Foglio2!R356, NA())","v":{"$error":"#N/A"}},{"$error":"#N/A"}]
[3160,8.0583273065809582,{"$f":" IF(Foglio1!$C$9 <> \"\", 8.314472*Foglio1!$C$9*Foglio2!B357, NA())","v":{"$error":"#N/A"}},{"$error":"#N/A"},3160,8.0583273065809582,{"$f":" IF(Foglio1!$C$10 <> \"\", 8.314472*Foglio1!$C$10*Foglio2!F357, NA())","v":{"$error":"#N/A"}},{"$error":"#N/A"},3160,8.0583273065809582,{"$f":" IF(Foglio1!$C$11 <> \"\", 8.314472*Foglio1!$C$11*Foglio2!J357, NA())","v":{"$error":"#N/A"}},{"$error":"#N/A"},3160,8.0583273065809582,{"$f":" IF(Foglio1!$C$12 <> \"\", 8.314472*Foglio1!$C$12*Foglio2!N357, NA())","v":{"$error":"#N/A"}},{"$error":"#N/A"},3160,8.0583273065809582,{"$f":" IF(Foglio1!$C$13 <> \"\", 8.314472*Foglio1!$C$13*Foglio2!R357, NA())","v":{"$error":"#N/A"}},{"$error":"#N/A"}]
[3169,8.0611713596909205,{"$f":" IF(Foglio1!$C$9 <> \"\", 8.314472*Foglio1!$C$9*Foglio2!B358, NA())","v":{"$error":"#N/A"}},{"$error":"#N/A"},3169,8.0611713596909205,{"$f":" IF(Foglio1!$C$10 <> \"\", 8.314472*Foglio1!$C$10*Foglio2!F358, NA())","v":{"$error":"#N/A"}},{"$error":"#N/A"},3169,8.0611713596909205,{"$f":" IF(Foglio1!$C$11 <> \"\", 8.314472*Foglio1!$C$11*Foglio2!J358, NA())","v":{"$error":"#N/A"}},{"$error":"#N/A"},3169,8.0611713596909205,{"$f":" IF(Foglio1!$C$12 <> \"\", 8.314472*Foglio1!$C$12*Foglio2!N358, NA())","v":{"$error":"#N/A"}},{"$error":"#N/A"},3169,8.0611713596909205,{"$f":" IF(Foglio1!$C$13 <> \"\", 8.314472*Foglio1!$C$13*Foglio2!R358, NA())","v":{"$error":"#N/A"}},{"$error":"#N/A"}]
[3178,8.0640073470966609,{"$f":" IF(Foglio1!$C$9 <> \"\", 8.314472*Foglio1!$C$9*Foglio2!B359, NA())","v":{"$error":"#N/A"}},{"$error":"#N/A"},3178,8.0640073470966609,{"$f":" IF(Foglio1!$C$10 <> \"\", 8.314472*Foglio1!$C$10*Foglio2!F359, NA())","v":{"$error":"#N/A"}},{"$error":"#N/A"},3178,8.0640073470966609,{"$f":" IF(Foglio1!$C$11 <> \"\", 8.314472*Foglio1!$C$11*Foglio2!J359, NA())","v":{"$error":"#N/A"}},{"$error":"#N/A"},3178,8.0640073470966609,{"$f":" IF(Foglio1!$C$12 <> \"\", 8.314472*Foglio1!$C$12*Foglio2!N359, NA())","v":{"$error":"#N/A"}},{"$error":"#N/A"},3178,8.0640073470966609,{"$f":" IF(Foglio1!$C$13 <> \"\", 8.314472*Foglio1!$C$13*Foglio2!R359, NA())","v":{"$error":"#N/A"}},{"$error":"#N/A"}]
[3187,8.0668353144173359,{"$f":" IF(Foglio1!$C$9 <> \"\", 8.314472*Foglio1!$C$9*Foglio2!B360, NA())","v":{"$error":"#N/A"}},{"$error":"#N/A"},3187,8.0668353144173359,{"$f":" IF(Foglio1!$C$10 <> \"\", 8.314472*Foglio1!$C$10*Foglio2!F360, NA())","v":{"$error":"#N/A"}},{"$error":"#N/A"},3187,8.0668353144173359,{"$f":" IF(Foglio1!$C$11 <> \"\", 8.314472*Foglio1!$C$11*Foglio2!J360, NA())","v":{"$error":"#N/A"}},{"$error":"#N/A"},3187,8.0668353144173359,{"$f":" IF(Foglio1!$C$12 <> \"\", 8.314472*Foglio1!$C$12*Foglio2!N360, NA())","v":{"$error":"#N/A"}},{"$error":"#N/A"},3187,8.0668353144173359,{"$f":" IF(Foglio1!$C$13 <> \"\", 8.314472*Foglio1!$C$13*Foglio2!R360, NA())","v":{"$error":"#N/A"}},{"$error":"#N/A"}]
[3196,8.0696553068861654,{"$f":" IF(Foglio1!$C$9 <> \"\", 8.314472*Foglio1!$C$9*Foglio2!B361, NA())","v":{"$error":"#N/A"}},{"$error":"#N/A"},3196,8.0696553068861654,{"$f":" IF(Foglio1!$C$10 <> \"\", 8.314472*Foglio1!$C$10*Foglio2!F361, NA())","v":{"$error":"#N/A"}},{"$error":"#N/A"},3196,8.0696553068861654,{"$f":" IF(Foglio1!$C$11 <> \"\", 8.314472*Foglio1!$C$11*Foglio2!J361, NA())","v":{"$error":"#N/A"}},{"$error":"#N/A"},3196,8.0696553068861654,{"$f":" IF(Foglio1!$C$12 <> \"\", 8.314472*Foglio1!$C$12*Foglio2!N361, NA())","v":{"$error":"#N/A"}},{"$error":"#N/A"},3196,8.0696553068861654,{"$f":" IF(Foglio1!$C$13 <> \"\", 8.314472*Foglio1!$C$13*Foglio2!R361, NA())","v":{"$error":"#N/A"}},{"$error":"#N/A"}]
[3205,8.0724673693547704,{"$f":" IF(Foglio1!$C$9 <> \"\", 8.314472*Foglio1!$C$9*Foglio2!B362, NA())","v":{"$error":"#N/A"}},{"$error":"#N/A"},3205,8.0724673693547704,{"$f":" IF(Foglio1!$C$10 <> \"\", 8.314472*Foglio1!$C$10*Foglio2!F362, NA())","v":{"$error":"#N/A"}},{"$error":"#N/A"},3205,8.0724673693547704,{"$f":" IF(Foglio1!$C$11 <> \"\", 8.314472*Foglio1!$C$11*Foglio2!J362, NA())","v":{"$error":"#N/A"}},{"$error":"#N/A"},3205,8.0724673693547704,{"$f":" IF(Foglio1!$C$12 <> \"\", 8.314472*Foglio1!$C$12*Foglio2!N362, NA())","v":{"$error":"#N/A"}},{"$error":"#N/A"},3205,8.0724673693547704,{"$f":" IF(Foglio1!$C$13 <> \"\", 8.314472*Foglio1!$C$13*Foglio2!R362, NA())","v":{"$error":"#N/A"}},{"$error":"#N/A"}]
[3214,8.0752715462974578,{"$f":" IF(Foglio1!$C$9 <> \"\", 8.314472*Foglio1!$C$9*Foglio2!B363, NA())","v":{"$error":"#N/A"}},{"$error":"#N/A"},3214,8.0752715462974578,{"$f":" IF(Foglio1!$C$10 <> \"\", 8.314472*Foglio1!$C$10*Foglio2!F363, NA())","v":{"$error":"#N/A"}},{"$error":"#N/A"},3214,8.0752715462974578,{"$f":" IF(Foglio1!$C$11 <> \"\", 8.314472*Foglio1!$C$11*Foglio2!J363, NA())","v":{"$error":"#N/A"}},{"$error":"#N/A"},3214,8.0752715462974578,{"$f":" IF(Foglio1!$C$12 <> \"\", 8.314472*Foglio1!$C$12*Foglio2!N363, NA())","v":{"$error":"#N/A"}},{"$error":"#N/A"},3214,8.0752715462974578,{"$f":" IF(Foglio1!$C$13 <> \"\", 8.314472*Foglio1!$C$13*Foglio2!R363, NA())","v":{"$error":"#N/A"}},{"$error":"#N/A"}]
[3223,8.0780678818154374,{"$f":" IF(Foglio1!$C$9 <> \"\", 8.314472*Foglio1!$C$9*Foglio2!B364, NA())","v":{"$error":"#N/A"}},{"$error":"#N/A"},3223,8.0780678818154374,{"$f":" IF(Foglio1!$C$10 <> \"\", 8.314472*Foglio1!$C$10*Foglio2!F364, NA())","v":{"$error":"#N/A"}},{"$error":"#N/A"},3223,8.0780678818154374,{"$f":" IF(Foglio1!$C$11 <> \"\", 8.314472*Foglio1!$C$11*Foglio2!J364, NA())","v":{"$error":"#N/A"}},{"$error":"#N/A"},3223,8.0780678818154374,{"$f":" IF(Foglio1!$C$12 <> \"\", 8.314472*Foglio1!$C$12*Foglio2!N364, NA())","v":{"$error":"#N/A"}},{"$error":"#N/A"},3223,8.0780678818154374,{"$f":" IF(Foglio1!$C$13 <> \"\", 8.314472*Foglio1!$C$13*Foglio2!R364, NA())","v":{"$error":"#N/A"}},{"$error":"#N/A"}]
[3232,8.0808564196409858,{"$f":" IF(Foglio1!$C$9 <> \"\", 8.314472*Foglio1!$C$9*Foglio2!B365, NA())","v":{"$error":"#N/A"}},{"$error":"#N/A"},3232,8.0808564196409858,{"$f":" IF(Foglio1!$C$10 <> \"\", 8.314472*Foglio1!$C$10*Foglio2!F365, NA())","v":{"$error":"#N/A"}},{"$error":"#N/A"},3232,8.0808564196409858,{"$f":" IF(Foglio1!$C$11 <> \"\", 8.314472*Foglio1!$C$11*Foglio2!J365, NA())","v":{"$error":"#N/A"}},{"$error":"#N/A"},3232,8.0808564196409858,{"$f":" IF(Foglio1!$C$12 <> \"\", 8.314472*Foglio1!$C$12*Foglio2!N365, NA())","v":{"$error":"#N/A"}},{"$error":"#N/A"},3232,8.0808564196409858,{"$f":" IF(Foglio1!$C$13 <> \"\", 8.314472*Foglio1!$C$13*Foglio2!R365, NA())","v":{"$error":"#N/A"}},{"$error":"#N/A"}]
[3241,8.0836372031415475,{"$f":" IF(Foglio1!$C$9 <> \"\", 8.314472*Foglio1!$C$9*Foglio2!B366, NA())","v":{"$error":"#N/A"}},{"$error":"#N/A"},3241,8.0836372031415475,{"$f":" IF(Foglio1!$C$10 <> \"\", 8.314472*Foglio1!$C$10*Foglio2!F366, NA())","v":{"$error":"#N/A"}},{"$error":"#N/A"},3241,8.0836372031415475,{"$f":" IF(Foglio1!$C$11 <> \"\", 8.314472*Foglio1!$C$11*Foglio2!J366, NA())","v":{"$error":"#N/A"}},{"$error":"#N/A"},3241,8.0836372031415475,{"$f":" IF(Foglio1!$C$12 <> \"\", 8.314472*Foglio1!$C$12*Foglio2!N366, NA())","v":{"$error":"#N/A"}},{"$error":"#N/A"},3241,8.0836372031415475,{"$f":" IF(Foglio1!$C$13 <> \"\", 8.314472*Foglio1!$C$13*Foglio2!R366, NA())","v":{"$error":"#N/A"}},{"$error":"#N/A"}]
[3250,8.0864102753237823,{"$f":" IF(Foglio1!$C$9 <> \"\", 8.314472*Foglio1!$C$9*Foglio2!B367, NA())","v":{"$error":"#N/A"}},{"$error":"#N/A"},3250,8.0864102753237823,{"$f":" IF(Foglio1!$C$10 <> \"\", 8.314472*Foglio1!$C$10*Foglio2!F367, NA())","v":{"$error":"#N/A"}},{"$error":"#N/A"},3250,8.0864102753237823,{"$f":" IF(Foglio1!$C$11 <> \"\", 8.314472*Foglio1!$C$11*Foglio2!J367, NA())","v":{"$error":"#N/A"}},{"$error":"#N/A"},3250,8.0864102753237823,{"$f":" IF(Foglio1!$C$12 <> \"\", 8.314472*Foglio1!$C$12*Foglio2!N367, NA())","v":{"$error":"#N/A"}},{"$error":"#N/A"},3250,8.0864102753237823,{"$f":" IF(Foglio1!$C$13 <> \"\", 8.314472*Foglio1!$C$13*Foglio2!R367, NA())","v":{"$error":"#N/A"}},{"$error":"#N/A"}]
[3259,8.0891756788375613,{"$f":" IF(Foglio1!$C$9 <> \"\", 8.314472*Foglio1!$C$9*Foglio2!B368, NA())","v":{"$error":"#N/A"}},{"$error":"#N/A"},3259,8.0891756788375613,{"$f":" IF(Foglio1!$C$10 <> \"\", 8.314472*Foglio1!$C$10*Foglio2!F368, NA())","v":{"$error":"#N/A"}},{"$error":"#N/A"},3259,8.0891756788375613,{"$f":" IF(Foglio1!$C$11 <> \"\", 8.314472*Foglio1!$C$11*Foglio2!J368, NA())","v":{"$error":"#N/A"}},{"$error":"#N/A"},3259,8.0891756788375613,{"$f":" IF(Foglio1!$C$12 <> \"\", 8.314472*Foglio1!$C$12*Foglio2!N368, NA())","v":{"$error":"#N/A"}},{"$error":"#N/A"},3259,8.0891756788375613,{"$f":" IF(Foglio1!$C$13 <> \"\", 8.314472*Foglio1!$C$13*Foglio2!R368, NA())","v":{"$error":"#N/A"}},{"$error":"#N/A"}]
[3268,8.091933455979893,{"$f":" IF(Foglio1!$C$9 <> \"\", 8.314472*Foglio1!$C$9*Foglio2!B369, NA())","v":{"$error":"#N/A"}},{"$error":"#N/A"},3268,8.091933455979893,{"$f":" IF(Foglio1!$C$10 <> \"\", 8.314472*Foglio1!$C$10*Foglio2!F369, NA())","v":{"$error":"#N/A"}},{"$error":"#N/A"},3268,8.091933455979893,{"$f":" IF(Foglio1!$C$11 <> \"\", 8.314472*Foglio1!$C$11*Foglio2!J369, NA())","v":{"$error":"#N/A"}},{"$error":"#N/A"},3268,8.091933455979893,{"$f":" IF(Foglio1!$C$12 <> \"\", 8.314472*Foglio1!$C$12*Foglio2!N369, NA())","v":{"$error":"#N/A"}},{"$error":"#N/A"},3268,8.091933455979893,{"$f":" IF(Foglio1!$C$13 <> \"\", 8.314472*Foglio1!$C$13*Foglio2!R369, NA())","v":{"$error":"#N/A"}},{"$error":"#N/A"}]
[3277,8.0946836486988154,{"$f":" IF(Foglio1!$C$9 <> \"\", 8.314472*Foglio1!$C$9*Foglio2!B370, NA())","v":{"$error":"#N/A"}},{"$error":"#N/A"},3277,8.0946836486988154,{"$f":" IF(Foglio1!$C$10 <> \"\", 8.314472*Foglio1!$C$10*Foglio2!F370, NA())","v":{"$error":"#N/A"}},{"$error":"#N/A"},3277,8.0946836486988154,{"$f":" IF(Foglio1!$C$11 <> \"\", 8.314472*Foglio1!$C$11*Foglio2!J370, NA())","v":{"$error":"#N/A"}},{"$error":"#N/A"},3277,8.0946836486988154,{"$f":" IF(Foglio1!$C$12 <> \"\", 8.314472*Foglio1!$C$12*Foglio2!N370, NA())","v":{"$error":"#N/A"}},{"$error":"#N/A"},3277,8.0946836486988154,{"$f":" IF(Foglio1!$C$13 <> \"\", 8.314472*Foglio1!$C$13*Foglio2!R370, NA())","v":{"$error":"#N/A"}},{"$error":"#N/A"}]
[3286,8.0974262985972132,{"$f":" IF(Foglio1!$C$9 <> \"\", 8.314472*Foglio1!$C$9*Foglio2!B371, NA())","v":{"$error":"#N/A"}},{"$error":"#N/A"},3286,8.0974262985972132,{"$f":" IF(Foglio1!$C$10 <> \"\", 8.314472*Foglio1!$C$10*Foglio2!F371, NA())","v":{"$error":"#N/A"}},{"$error":"#N/A"},3286,8.0974262985972132,{"$f":" IF(Foglio1!$C$11 <> \"\", 8.314472*Foglio1!$C$11*Foglio2!J371, NA())","v":{"$error":"#N/A"}},{"$error":"#N/A"},3286,8.0974262985972132,{"$f":" IF(Foglio1!$C$12 <> \"\", 8.314472*Foglio1!$C$12*Foglio2!N371, NA())","v":{"$error":"#N/A"}},{"$error":"#N/A"},3286,8.0974262985972132,{"$f":" IF(Foglio1!$C$13 <> \"\", 8.314472*Foglio1!$C$13*Foglio2!R371, NA())","v":{"$error":"#N/A"}},{"$error":"#N/A"}]
[3295,8.1001614469366068,{"$f":" IF(Foglio1!$C$9 <> \"\", 8.314472*Foglio1!$C$9*Foglio2!B372, NA())","v":{"$error":"#N/A"}},{"$error":"#N/A"},3295,8.1001614469366068,{"$f":" IF(Foglio1!$C$10 <> \"\", 8.314472*Foglio1!$C$10*Foglio2!F372, NA())","v":{"$error":"#N/A"}},{"$error":"#N/A"},3295,8.1001614469366068,{"$f":" IF(Foglio1!$C$11 <> \"\", 8.314472*Foglio1!$C$11*Foglio2!J372, NA())","v":{"$error":"#N/A"}},{"$error":"#N/A"},3295,8.1001614469366068,{"$f":" IF(Foglio1!$C$12 <> \"\", 8.314472*Foglio1!$C$12*Foglio2!N372, NA())","v":{"$error":"#N/A"}},{"$error":"#N/A"},3295,8.1001614469366068,{"$f":" IF(Foglio1!$C$13 <> \"\", 8.314472*Foglio1!$C$13*Foglio2!R372, NA())","v":{"$error":"#N/A"}},{"$error":"#N/A"}]
[3304,8.1028891346408685,{"$f":" IF(Foglio1!$C$9 <> \"\", 8.314472*Foglio1!$C$9*Foglio2!B373, NA())","v":{"$error":"#N/A"}},{"$error":"#N/A"},3304,8.1028891346408685,{"$f":" IF(Foglio1!$C$10 <> \"\", 8.314472*Foglio1!$C$10*Foglio2!F373, NA())","v":{"$error":"#N/A"}},{"$error":"#N/A"},3304,8.1028891346408685,{"$f":" IF(Foglio1!$C$11 <> \"\", 8.314472*Foglio1!$C$11*Foglio2!J373, NA())","v":{"$error":"#N/A"}},{"$error":"#N/A"},3304,8.1028891346408685,{"$f":" IF(Foglio1!$C$12 <> \"\", 8.314472*Foglio1!$C$12*Foglio2!N373, NA())","v":{"$error":"#N/A"}},{"$error":"#N/A"},3304,8.1028891346408685,{"$f":" IF(Foglio1!$C$13 <> \"\", 8.314472*Foglio1!$C$13*Foglio2!R373, NA())","v":{"$error":"#N/A"}},{"$error":"#N/A"}]
[3313,8.1056094022998959,{"$f":" IF(Foglio1!$C$9 <> \"\", 8.314472*Foglio1!$C$9*Foglio2!B374, NA())","v":{"$error":"#N/A"}},{"$error":"#N/A"},3313,8.1056094022998959,{"$f":" IF(Foglio1!$C$10 <> \"\", 8.314472*Foglio1!$C$10*Foglio2!F374, NA())","v":{"$error":"#N/A"}},{"$error":"#N/A"},3313,8.1056094022998959,{"$f":" IF(Foglio1!$C$11 <> \"\", 8.314472*Foglio1!$C$11*Foglio2!J374, NA())","v":{"$error":"#N/A"}},{"$error":"#N/A"},3313,8.1056094022998959,{"$f":" IF(Foglio1!$C$12 <> \"\", 8.314472*Foglio1!$C$12*Foglio2!N374, NA())","v":{"$error":"#N/A"}},{"$error":"#N/A"},3313,8.1056094022998959,{"$f":" IF(Foglio1!$C$13 <> \"\", 8.314472*Foglio1!$C$13*Foglio2!R374, NA())","v":{"$error":"#N/A"}},{"$error":"#N/A"}]
[3322,8.1083222901732395,{"$f":" IF(Foglio1!$C$9 <> \"\", 8.314472*Foglio1!$C$9*Foglio2!B375, NA())","v":{"$error":"#N/A"}},{"$error":"#N/A"},3322,8.1083222901732395,{"$f":" IF(Foglio1!$C$10 <> \"\", 8.314472*Foglio1!$C$10*Foglio2!F375, NA())","v":{"$error":"#N/A"}},{"$error":"#N/A"},3322,8.1083222901732395,{"$f":" IF(Foglio1!$C$11 <> \"\", 8.314472*Foglio1!$C$11*Foglio2!J375, NA())","v":{"$error":"#N/A"}},{"$error":"#N/A"},3322,8.1083222901732395,{"$f":" IF(Foglio1!$C$12 <> \"\", 8.314472*Foglio1!$C$12*Foglio2!N375, NA())","v":{"$error":"#N/A"}},{"$error":"#N/A"},3322,8.1083222901732395,{"$f":" IF(Foglio1!$C$13 <> \"\", 8.314472*Foglio1!$C$13*Foglio2!R375, NA())","v":{"$error":"#N/A"}},{"$error":"#N/A"}]
[3331,8.1110278381936798,{"$f":" IF(Foglio1!$C$9 <> \"\", 8.314472*Foglio1!$C$9*Foglio2!B376, NA())","v":{"$error":"#N/A"}},{"$error":"#N/A"},3331,8.1110278381936798,{"$f":" IF(Foglio1!$C$10 <> \"\", 8.314472*Foglio1!$C$10*Foglio2!F376, NA())","v":{"$error":"#N/A"}},{"$error":"#N/A"},3331,8.1110278381936798,{"$f":" IF(Foglio1!$C$11 <> \"\", 8.314472*Foglio1!$C$11*Foglio2!J376, NA())","v":{"$error":"#N/A"}},{"$error":"#N/A"},3331,8.1110278381936798,{"$f":" IF(Foglio1!$C$12 <> \"\", 8.314472*Foglio1!$C$12*Foglio2!N376, NA())","v":{"$error":"#N/A"}},{"$error":"#N/A"},3331,8.1110278381936798,{"$f":" IF(Foglio1!$C$13 <> \"\", 8.314472*Foglio1!$C$13*Foglio2!R376, NA())","v":{"$error":"#N/A"}},{"$error":"#N/A"}]
[3340,8.1137260859707467,{"$f":" IF(Foglio1!$C$9 <> \"\", 8.314472*Foglio1!$C$9*Foglio2!B377, NA())","v":{"$error":"#N/A"}},{"$error":"#N/A"},3340,8.1137260859707467,{"$f":" IF(Foglio1!$C$10 <> \"\", 8.314472*Foglio1!$C$10*Foglio2!F377, NA())","v":{"$error":"#N/A"}},{"$error":"#N/A"},3340,8.1137260859707467,{"$f":" IF(Foglio1!$C$11 <> \"\", 8.314472*Foglio1!$C$11*Foglio2!J377, NA())","v":{"$error":"#N/A"}},{"$error":"#N/A"},3340,8.1137260859707467,{"$f":" IF(Foglio1!$C$12 <> \"\", 8.314472*Foglio1!$C$12*Foglio2!N377, NA())","v":{"$error":"#N/A"}},{"$error":"#N/A"},3340,8.1137260859707467,{"$f":" IF(Foglio1!$C$13 <> \"\", 8.314472*Foglio1!$C$13*Foglio2!R377, NA())","v":{"$error":"#N/A"}},{"$error":"#N/A"}]
[3349,8.1164170727942047,{"$f":" IF(Foglio1!$C$9 <> \"\", 8.314472*Foglio1!$C$9*Foglio2!B378, NA())","v":{"$error":"#N/A"}},{"$error":"#N/A"},3349,8.1164170727942047,{"$f":" IF(Foglio1!$C$10 <> \"\", 8.314472*Foglio1!$C$10*Foglio2!F378, NA())","v":{"$error":"#N/A"}},{"$error":"#N/A"},3349,8.1164170727942047,{"$f":" IF(Foglio1!$C$11 <> \"\", 8.314472*Foglio1!$C$11*Foglio2!J378, NA())","v":{"$error":"#N/A"}},{"$error":"#N/A"},3349,8.1164170727942047,{"$f":" IF(Foglio1!$C$12 <> \"\", 8.314472*Foglio1!$C$12*Foglio2!N378, NA())","v":{"$error":"#N/A"}},{"$error":"#N/A"},3349,8.1164170727942047,{"$f":" IF(Foglio1!$C$13 <> \"\", 8.314472*Foglio1!$C$13*Foglio2!R378, NA())","v":{"$error":"#N/A"}},{"$error":"#N/A"}]
[3358,8.119100837637486,{"$f":" IF(Foglio1!$C$9 <> \"\", 8.314472*Foglio1!$C$9*Foglio2!B379, NA())","v":{"$error":"#N/A"}},{"$error":"#N/A"},3358,8.119100837637486,{"$f":" IF(Foglio1!$C$10 <> \"\", 8.314472*Foglio1!$C$10*Foglio2!F379, NA())","v":{"$error":"#N/A"}},{"$error":"#N/A"},3358,8.119100837637486,{"$f":" IF(Foglio1!$C$11 <> \"\", 8.314472*Foglio1!$C$11*Foglio2!J379, NA())","v":{"$error":"#N/A"}},{"$error":"#N/A"},3358,8.119100837637486,{"$f":" IF(Foglio1!$C$12 <> \"\", 8.314472*Foglio1!$C$12*Foglio2!N379, NA())","v":{"$error":"#N/A"}},{"$error":"#N/A"},3358,8.119100837637486,{"$f":" IF(Foglio1!$C$13 <> \"\", 8.314472*Foglio1!$C$13*Foglio2!R379, NA())","v":{"$error":"#N/A"}},{"$error":"#N/A"}]
[3367,8.1217774191610737,{"$f":" IF(Foglio1!$C$9 <> \"\", 8.314472*Foglio1!$C$9*Foglio2!B380, NA())","v":{"$error":"#N/A"}},{"$error":"#N/A"},3367,8.1217774191610737,{"$f":" IF(Foglio1!$C$10 <> \"\", 8.314472*Foglio1!$C$10*Foglio2!F380, NA())","v":{"$error":"#N/A"}},{"$error":"#N/A"},3367,8.1217774191610737,{"$f":" IF(Foglio1!$C$11 <> \"\", 8.314472*Foglio1!$C$11*Foglio2!J380, NA())","v":{"$error":"#N/A"}},{"$error":"#N/A"},3367,8.1217774191610737,{"$f":" IF(Foglio1!$C$12 <> \"\", 8.314472*Foglio1!$C$12*Foglio2!N380, NA())","v":{"$error":"#N/A"}},{"$error":"#N/A"},3367,8.1217774191610737,{"$f":" IF(Foglio1!$C$13 <> \"\", 8.314472*Foglio1!$C$13*Foglio2!R380, NA())","v":{"$error":"#N/A"}},{"$error":"#N/A"}]
[3376,8.1244468557158473,{"$f":" IF(Foglio1!$C$9 <> \"\", 8.314472*Foglio1!$C$9*Foglio2!B381, NA())","v":{"$error":"#N/A"}},{"$error":"#N/A"},3376,8.1244468557158473,{"$f":" IF(Foglio1!$C$10 <> \"\", 8.314472*Foglio1!$C$10*Foglio2!F381, NA())","v":{"$error":"#N/A"}},{"$error":"#N/A"},3376,8.1244468557158473,{"$f":" IF(Foglio1!$C$11 <> \"\", 8.314472*Foglio1!$C$11*Foglio2!J381, NA())","v":{"$error":"#N/A"}},{"$error":"#N/A"},3376,8.1244468557158473,{"$f":" IF(Foglio1!$C$12 <> \"\", 8.314472*Foglio1!$C$12*Foglio2!N381, NA())","v":{"$error":"#N/A"}},{"$error":"#N/A"},3376,8.1244468557158473,{"$f":" IF(Foglio1!$C$13 <> \"\", 8.314472*Foglio1!$C$13*Foglio2!R381, NA())","v":{"$error":"#N/A"}},{"$error":"#N/A"}]
[3385,8.1271091853463755,{"$f":" IF(Foglio1!$C$9 <> \"\", 8.314472*Foglio1!$C$9*Foglio2!B382, NA())","v":{"$error":"#N/A"}},{"$error":"#N/A"},3385,8.1271091853463755,{"$f":" IF(Foglio1!$C$10 <> \"\", 8.314472*Foglio1!$C$10*Foglio2!F382, NA())","v":{"$error":"#N/A"}},{"$error":"#N/A"},3385,8.1271091853463755,{"$f":" IF(Foglio1!$C$11 <> \"\", 8.314472*Foglio1!$C$11*Foglio2!J382, NA())","v":{"$error":"#N/A"}},{"$error":"#N/A"},3385,8.1271091853463755,{"$f":" IF(Foglio1!$C$12 <> \"\", 8.314472*Foglio1!$C$12*Foglio2!N382, NA())","v":{"$error":"#N/A"}},{"$error":"#N/A"},3385,8.1271091853463755,{"$f":" IF(Foglio1!$C$13 <> \"\", 8.314472*Foglio1!$C$13*Foglio2!R382, NA())","v":{"$error":"#N/A"}},{"$error":"#N/A"}]
[3394,8.1297644457941711,{"$f":" IF(Foglio1!$C$9 <> \"\", 8.314472*Foglio1!$C$9*Foglio2!B383, NA())","v":{"$error":"#N/A"}},{"$error":"#N/A"},3394,8.1297644457941711,{"$f":" IF(Foglio1!$C$10 <> \"\", 8.314472*Foglio1!$C$10*Foglio2!F383, NA())","v":{"$error":"#N/A"}},{"$error":"#N/A"},3394,8.1297644457941711,{"$f":" IF(Foglio1!$C$11 <> \"\", 8.314472*Foglio1!$C$11*Foglio2!J383, NA())","v":{"$error":"#N/A"}},{"$error":"#N/A"},3394,8.1297644457941711,{"$f":" IF(Foglio1!$C$12 <> \"\", 8.314472*Foglio1!$C$12*Foglio2!N383, NA())","v":{"$error":"#N/A"}},{"$error":"#N/A"},3394,8.1297644457941711,{"$f":" IF(Foglio1!$C$13 <> \"\", 8.314472*Foglio1!$C$13*Foglio2!R383, NA())","v":{"$error":"#N/A"}},{"$error":"#N/A"}]
[3403,8.1324126745009053,{"$f":" IF(Foglio1!$C$9 <> \"\", 8.314472*Foglio1!$C$9*Foglio2!B384, NA())","v":{"$error":"#N/A"}},{"$error":"#N/A"},3403,8.1324126745009053,{"$f":" IF(Foglio1!$C$10 <> \"\", 8.314472*Foglio1!$C$10*Foglio2!F384, NA())","v":{"$error":"#N/A"}},{"$error":"#N/A"},3403,8.1324126745009053,{"$f":" IF(Foglio1!$C$11 <> \"\", 8.314472*Foglio1!$C$11*Foglio2!J384, NA())","v":{"$error":"#N/A"}},{"$error":"#N/A"},3403,8.1324126745009053,{"$f":" IF(Foglio1!$C$12 <> \"\", 8.314472*Foglio1!$C$12*Foglio2!N384, NA())","v":{"$error":"#N/A"}},{"$error":"#N/A"},3403,8.1324126745009053,{"$f":" IF(Foglio1!$C$13 <> \"\", 8.314472*Foglio1!$C$13*Foglio2!R384, NA())","v":{"$error":"#N/A"}},{"$error":"#N/A"}]
[3412,8.1350539086115692,{"$f":" IF(Foglio1!$C$9 <> \"\", 8.314472*Foglio1!$C$9*Foglio2!B385, NA())","v":{"$error":"#N/A"}},{"$error":"#N/A"},3412,8.1350539086115692,{"$f":" IF(Foglio1!$C$10 <> \"\", 8.314472*Foglio1!$C$10*Foglio2!F385, NA())","v":{"$error":"#N/A"}},{"$error":"#N/A"},3412,8.1350539086115692,{"$f":" IF(Foglio1!$C$11 <> \"\", 8.314472*Foglio1!$C$11*Foglio2!J385, NA())","v":{"$error":"#N/A"}},{"$error":"#N/A"},3412,8.1350539086115692,{"$f":" IF(Foglio1!$C$12 <> \"\", 8.314472*Foglio1!$C$12*Foglio2!N385, NA())","v":{"$error":"#N/A"}},{"$error":"#N/A"},3412,8.1350539086115692,{"$f":" IF(Foglio1!$C$13 <> \"\", 8.314472*Foglio1!$C$13*Foglio2!R385, NA())","v":{"$error":"#N/A"}},{"$error":"#N/A"}]
[3421,8.1376881849776055,{"$f":" IF(Foglio1!$C$9 <> \"\", 8.314472*Foglio1!$C$9*Foglio2!B386, NA())","v":{"$error":"#N/A"}},{"$error":"#N/A"},3421,8.1376881849776055,{"$f":" IF(Foglio1!$C$10 <> \"\", 8.314472*Foglio1!$C$10*Foglio2!F386, NA())","v":{"$error":"#N/A"}},{"$error":"#N/A"},3421,8.1376881849776055,{"$f":" IF(Foglio1!$C$11 <> \"\", 8.314472*Foglio1!$C$11*Foglio2!J386, NA())","v":{"$error":"#N/A"}},{"$error":"#N/A"},3421,8.1376881849776055,{"$f":" IF(Foglio1!$C$12 <> \"\", 8.314472*Foglio1!$C$12*Foglio2!N386, NA())","v":{"$error":"#N/A"}},{"$error":"#N/A"},3421,8.1376881849776055,{"$f":" IF(Foglio1!$C$13 <> \"\", 8.314472*Foglio1!$C$13*Foglio2!R386, NA())","v":{"$error":"#N/A"}},{"$error":"#N/A"}]
[3430,{"$f":"LN(A387)","v":8.1403155401599854},{"$f":" IF(Foglio1!$C$9 <> \"\", 8.314472*Foglio1!$C$9*Foglio2!B387, NA())","v":{"$error":"#N/A"}},{"$f":"  -30.5 + C387*10^-3","v":{"$error":"#N/A"}},3430,{"$f":"LN(E387)","v":8.1403155401599854},{"$f":" IF(Foglio1!$C$10 <> \"\", 8.314472*Foglio1!$C$10*Foglio2!F387, NA())","v":{"$error":"#N/A"}},{"$f":" -30.5+ G387*10^-3","v":{"$error":"#N/A"}},3430,{"$f":"LN(I387)","v":8.1403155401599854},{"$f":" IF(Foglio1!$C$11 <> \"\", 8.314472*Foglio1!$C$11*Foglio2!J387, NA())","v":{"$error":"#N/A"}},{"$f":" -30.5+ K387*10^-3","v":{"$error":"#N/A"}},3430,{"$f":"LN(M387)","v":8.1403155401599854},{"$f":" IF(Foglio1!$C$12 <> \"\", 8.314472*Foglio1!$C$12*Foglio2!N387, NA())","v":{"$error":"#N/A"}},{"$f":" -30.5+ O387*10^-3","v":{"$error":"#N/A"}},3430,{"$f":"LN(Q387)","v":8.1403155401599854},{"$f":" IF(Foglio1!$C$13 <> \"\", 8.314472*Foglio1!$C$13*Foglio2!R387, NA())","v":{"$error":"#N/A"}},{"$f":" -30.5+S387*10^-3","v":{"$error":"#N/A"}}]
[3439,8.1429360104322654,{"$f":" IF(Foglio1!$C$9 <> \"\", 8.314472*Foglio1!$C$9*Foglio2!B388, NA())","v":{"$error":"#N/A"}},{"$error":"#N/A"},3439,8.1429360104322654,{"$f":" IF(Foglio1!$C$10 <> \"\", 8.314472*Foglio1!$C$10*Foglio2!F388, NA())","v":{"$error":"#N/A"}},{"$error":"#N/A"},3439,8.1429360104322654,{"$f":" IF(Foglio1!$C$11 <> \"\", 8.314472*Foglio1!$C$11*Foglio2!J388, NA())","v":{"$error":"#N/A"}},{"$error":"#N/A"},3439,8.1429360104322654,{"$f":" IF(Foglio1!$C$12 <> \"\", 8.314472*Foglio1!$C$12*Foglio2!N388, NA())","v":{"$error":"#N/A"}},{"$error":"#N/A"},3439,8.1429360104322654,{"$f":" IF(Foglio1!$C$13 <> \"\", 8.314472*Foglio1!$C$13*Foglio2!R388, NA())","v":{"$error":"#N/A"}},{"$error":"#N/A"}]
[3448,8.1455496317835845,{"$f":" IF(Foglio1!$C$9 <> \"\", 8.314472*Foglio1!$C$9*Foglio2!B389, NA())","v":{"$error":"#N/A"}},{"$error":"#N/A"},3448,8.1455496317835845,{"$f":" IF(Foglio1!$C$10 <> \"\", 8.314472*Foglio1!$C$10*Foglio2!F389, NA())","v":{"$error":"#N/A"}},{"$error":"#N/A"},3448,8.1455496317835845,{"$f":" IF(Foglio1!$C$11 <> \"\", 8.314472*Foglio1!$C$11*Foglio2!J389, NA())","v":{"$error":"#N/A"}},{"$error":"#N/A"},3448,8.1455496317835845,{"$f":" IF(Foglio1!$C$12 <> \"\", 8.314472*Foglio1!$C$12*Foglio2!N389, NA())","v":{"$error":"#N/A"}},{"$error":"#N/A"},3448,8.1455496317835845,{"$f":" IF(Foglio1!$C$13 <> \"\", 8.314472*Foglio1!$C$13*Foglio2!R389, NA())","v":{"$error":"#N/A"}},{"$error":"#N/A"}]
[3457,8.1481564399216246,{"$f":" IF(Foglio1!$C$9 <> \"\", 8.314472*Foglio1!$C$9*Foglio2!B390, NA())","v":{"$error":"#N/A"}},{"$error":"#N/A"},3457,8.1481564399216246,{"$f":" IF(Foglio1!$C$10 <> \"\", 8.314472*Foglio1!$C$10*Foglio2!F390, NA())","v":{"$error":"#N/A"}},{"$error":"#N/A"},3457,8.1481564399216246,{"$f":" IF(Foglio1!$C$11 <> \"\", 8.314472*Foglio1!$C$11*Foglio2!J390, NA())","v":{"$error":"#N/A"}},{"$error":"#N/A"},3457,8.1481564399216246,{"$f":" IF(Foglio1!$C$12 <> \"\", 8.314472*Foglio1!$C$12*Foglio2!N390, NA())","v":{"$error":"#N/A"}},{"$error":"#N/A"},3457,8.1481564399216246,{"$f":" IF(Foglio1!$C$13 <> \"\", 8.314472*Foglio1!$C$13*Foglio2!R390, NA())","v":{"$error":"#N/A"}},{"$error":"#N/A"}]
[3466,8.1507564702755513,{"$f":" IF(Foglio1!$C$9 <> \"\", 8.314472*Foglio1!$C$9*Foglio2!B391, NA())","v":{"$error":"#N/A"}},{"$error":"#N/A"},3466,8.1507564702755513,{"$f":" IF(Foglio1!$C$10 <> \"\", 8.314472*Foglio1!$C$10*Foglio2!F391, NA())","v":{"$error":"#N/A"}},{"$error":"#N/A"},3466,8.1507564702755513,{"$f":" IF(Foglio1!$C$11 <> \"\", 8.314472*Foglio1!$C$11*Foglio2!J391, NA())","v":{"$error":"#N/A"}},{"$error":"#N/A"},3466,8.1507564702755513,{"$f":" IF(Foglio1!$C$12 <> \"\", 8.314472*Foglio1!$C$12*Foglio2!N391, NA())","v":{"$error":"#N/A"}},{"$error":"#N/A"},3466,8.1507564702755513,{"$f":" IF(Foglio1!$C$13 <> \"\", 8.314472*Foglio1!$C$13*Foglio2!R391, NA())","v":{"$error":"#N/A"}},{"$error":"#N/A"}]
[3475,8.1533497579988925,{"$f":" IF(Foglio1!$C$9 <> \"\", 8.314472*Foglio1!$C$9*Foglio2!B392, NA())","v":{"$error":"#N/A"}},{"$error":"#N/A"},3475,8.1533497579988925,{"$f":" IF(Foglio1!$C$10 <> \"\", 8.314472*Foglio1!$C$10*Foglio2!F392, NA())","v":{"$error":"#N/A"}},{"$error":"#N/A"},3475,8.1533497579988925,{"$f":" IF(Foglio1!$C$11 <> \"\", 8.314472*Foglio1!$C$11*Foglio2!J392, NA())","v":{"$error":"#N/A"}},{"$error":"#N/A"},3475,8.1533497579988925,{"$f":" IF(Foglio1!$C$12 <> \"\", 8.314472*Foglio1!$C$12*Foglio2!N392, NA())","v":{"$error":"#N/A"}},{"$error":"#N/A"},3475,8.1533497579988925,{"$f":" IF(Foglio1!$C$13 <> \"\", 8.314472*Foglio1!$C$13*Foglio2!R392, NA())","v":{"$error":"#N/A"}},{"$error":"#N/A"}]
[3484,8.1559363379723937,{"$f":" IF(Foglio1!$C$9 <> \"\", 8.314472*Foglio1!$C$9*Foglio2!B393, NA())","v":{"$error":"#N/A"}},{"$error":"#N/A"},3484,8.1559363379723937,{"$f":" IF(Foglio1!$C$10 <> \"\", 8.314472*Foglio1!$C$10*Foglio2!F393, NA())","v":{"$error":"#N/A"}},{"$error":"#N/A"},3484,8.1559363379723937,{"$f":" IF(Foglio1!$C$11 <> \"\", 8.314472*Foglio1!$C$11*Foglio2!J393, NA())","v":{"$error":"#N/A"}},{"$error":"#N/A"},3484,8.1559363379723937,{"$f":" IF(Foglio1!$C$12 <> \"\", 8.314472*Foglio1!$C$12*Foglio2!N393, NA())","v":{"$error":"#N/A"}},{"$error":"#N/A"},3484,8.1559363379723937,{"$f":" IF(Foglio1!$C$13 <> \"\", 8.314472*Foglio1!$C$13*Foglio2!R393, NA())","v":{"$error":"#N/A"}},{"$error":"#N/A"}]
[3493,8.1585162448068314,{"$f":" IF(Foglio1!$C$9 <> \"\", 8.314472*Foglio1!$C$9*Foglio2!B394, NA())","v":{"$error":"#N/A"}},{"$error":"#N/A"},3493,8.1585162448068314,{"$f":" IF(Foglio1!$C$10 <> \"\", 8.314472*Foglio1!$C$10*Foglio2!F394, NA())","v":{"$error":"#N/A"}},{"$error":"#N/A"},3493,8.1585162448068314,{"$f":" IF(Foglio1!$C$11 <> \"\", 8.314472*Foglio1!$C$11*Foglio2!J394, NA())","v":{"$error":"#N/A"}},{"$error":"#N/A"},3493,8.1585162448068314,{"$f":" IF(Foglio1!$C$12 <> \"\", 8.314472*Foglio1!$C$12*Foglio2!N394, NA())","v":{"$error":"#N/A"}},{"$error":"#N/A"},3493,8.1585162448068314,{"$f":" IF(Foglio1!$C$13 <> \"\", 8.314472*Foglio1!$C$13*Foglio2!R394, NA())","v":{"$error":"#N/A"}},{"$error":"#N/A"}]
[3502,8.1610895128457965,{"$f":" IF(Foglio1!$C$9 <> \"\", 8.314472*Foglio1!$C$9*Foglio2!B395, NA())","v":{"$error":"#N/A"}},{"$error":"#N/A"},3502,8.1610895128457965,{"$f":" IF(Foglio1!$C$10 <> \"\", 8.314472*Foglio1!$C$10*Foglio2!F395, NA())","v":{"$error":"#N/A"}},{"$error":"#N/A"},3502,8.1610895128457965,{"$f":" IF(Foglio1!$C$11 <> \"\", 8.314472*Foglio1!$C$11*Foglio2!J395, NA())","v":{"$error":"#N/A"}},{"$error":"#N/A"},3502,8.1610895128457965,{"$f":" IF(Foglio1!$C$12 <> \"\", 8.314472*Foglio1!$C$12*Foglio2!N395, NA())","v":{"$error":"#N/A"}},{"$error":"#N/A"},3502,8.1610895128457965,{"$f":" IF(Foglio1!$C$13 <> \"\", 8.314472*Foglio1!$C$13*Foglio2!R395, NA())","v":{"$error":"#N/A"}},{"$error":"#N/A"}]
[3511,8.1636561761684323,{"$f":" IF(Foglio1!$C$9 <> \"\", 8.314472*Foglio1!$C$9*Foglio2!B396, NA())","v":{"$error":"#N/A"}},{"$error":"#N/A"},3511,8.1636561761684323,{"$f":" IF(Foglio1!$C$10 <> \"\", 8.314472*Foglio1!$C$10*Foglio2!F396, NA())","v":{"$error":"#N/A"}},{"$error":"#N/A"},3511,8.1636561761684323,{"$f":" IF(Foglio1!$C$11 <> \"\", 8.314472*Foglio1!$C$11*Foglio2!J396, NA())","v":{"$error":"#N/A"}},{"$error":"#N/A"},3511,8.1636561761684323,{"$f":" IF(Foglio1!$C$12 <> \"\", 8.314472*Foglio1!$C$12*Foglio2!N396, NA())","v":{"$error":"#N/A"}},{"$error":"#N/A"},3511,8.1636561761684323,{"$f":" IF(Foglio1!$C$13 <> \"\", 8.314472*Foglio1!$C$13*Foglio2!R396, NA())","v":{"$error":"#N/A"}},{"$error":"#N/A"}]
[3520,8.1662162685921427,{"$f":" IF(Foglio1!$C$9 <> \"\", 8.314472*Foglio1!$C$9*Foglio2!B397, NA())","v":{"$error":"#N/A"}},{"$error":"#N/A"},3520,8.1662162685921427,{"$f":" IF(Foglio1!$C$10 <> \"\", 8.314472*Foglio1!$C$10*Foglio2!F397, NA())","v":{"$error":"#N/A"}},{"$error":"#N/A"},3520,8.1662162685921427,{"$f":" IF(Foglio1!$C$11 <> \"\", 8.314472*Foglio1!$C$11*Foglio2!J397, NA())","v":{"$error":"#N/A"}},{"$error":"#N/A"},3520,8.1662162685921427,{"$f":" IF(Foglio1!$C$12 <> \"\", 8.314472*Foglio1!$C$12*Foglio2!N397, NA())","v":{"$error":"#N/A"}},{"$error":"#N/A"},3520,8.1662162685921427,{"$f":" IF(Foglio1!$C$13 <> \"\", 8.314472*Foglio1!$C$13*Foglio2!R397, NA())","v":{"$error":"#N/A"}},{"$error":"#N/A"}]
[3529,8.1687698236752695,{"$f":" IF(Foglio1!$C$9 <> \"\", 8.314472*Foglio1!$C$9*Foglio2!B398, NA())","v":{"$error":"#N/A"}},{"$error":"#N/A"},3529,8.1687698236752695,{"$f":" IF(Foglio1!$C$10 <> \"\", 8.314472*Foglio1!$C$10*Foglio2!F398, NA())","v":{"$error":"#N/A"}},{"$error":"#N/A"},3529,8.1687698236752695,{"$f":" IF(Foglio1!$C$11 <> \"\", 8.314472*Foglio1!$C$11*Foglio2!J398, NA())","v":{"$error":"#N/A"}},{"$error":"#N/A"},3529,8.1687698236752695,{"$f":" IF(Foglio1!$C$12 <> \"\", 8.314472*Foglio1!$C$12*Foglio2!N398, NA())","v":{"$error":"#N/A"}},{"$error":"#N/A"},3529,8.1687698236752695,{"$f":" IF(Foglio1!$C$13 <> \"\", 8.314472*Foglio1!$C$13*Foglio2!R398, NA())","v":{"$error":"#N/A"}},{"$error":"#N/A"}]
[3538,8.1713168747197304,{"$f":" IF(Foglio1!$C$9 <> \"\", 8.314472*Foglio1!$C$9*Foglio2!B399, NA())","v":{"$error":"#N/A"}},{"$error":"#N/A"},3538,8.1713168747197304,{"$f":" IF(Foglio1!$C$10 <> \"\", 8.314472*Foglio1!$C$10*Foglio2!F399, NA())","v":{"$error":"#N/A"}},{"$error":"#N/A"},3538,8.1713168747197304,{"$f":" IF(Foglio1!$C$11 <> \"\", 8.314472*Foglio1!$C$11*Foglio2!J399, NA())","v":{"$error":"#N/A"}},{"$error":"#N/A"},3538,8.1713168747197304,{"$f":" IF(Foglio1!$C$12 <> \"\", 8.314472*Foglio1!$C$12*Foglio2!N399, NA())","v":{"$error":"#N/A"}},{"$error":"#N/A"},3538,8.1713168747197304,{"$f":" IF(Foglio1!$C$13 <> \"\", 8.314472*Foglio1!$C$13*Foglio2!R399, NA())","v":{"$error":"#N/A"}},{"$error":"#N/A"}]
[3547,8.1738574547736214,{"$f":" IF(Foglio1!$C$9 <> \"\", 8.314472*Foglio1!$C$9*Foglio2!B400, NA())","v":{"$error":"#N/A"}},{"$error":"#N/A"},3547,8.1738574547736214,{"$f":" IF(Foglio1!$C$10 <> \"\", 8.314472*Foglio1!$C$10*Foglio2!F400, NA())","v":{"$error":"#N/A"}},{"$error":"#N/A"},3547,8.1738574547736214,{"$f":" IF(Foglio1!$C$11 <> \"\", 8.314472*Foglio1!$C$11*Foglio2!J400, NA())","v":{"$error":"#N/A"}},{"$error":"#N/A"},3547,8.1738574547736214,{"$f":" IF(Foglio1!$C$12 <> \"\", 8.314472*Foglio1!$C$12*Foglio2!N400, NA())","v":{"$error":"#N/A"}},{"$error":"#N/A"},3547,8.1738574547736214,{"$f":" IF(Foglio1!$C$13 <> \"\", 8.314472*Foglio1!$C$13*Foglio2!R400, NA())","v":{"$error":"#N/A"}},{"$error":"#N/A"}]
[3556,8.1763915966337954,{"$f":" IF(Foglio1!$C$9 <> \"\", 8.314472*Foglio1!$C$9*Foglio2!B401, NA())","v":{"$error":"#N/A"}},{"$error":"#N/A"},3556,8.1763915966337954,{"$f":" IF(Foglio1!$C$10 <> \"\", 8.314472*Foglio1!$C$10*Foglio2!F401, NA())","v":{"$error":"#N/A"}},{"$error":"#N/A"},3556,8.1763915966337954,{"$f":" IF(Foglio1!$C$11 <> \"\", 8.314472*Foglio1!$C$11*Foglio2!J401, NA())","v":{"$error":"#N/A"}},{"$error":"#N/A"},3556,8.1763915966337954,{"$f":" IF(Foglio1!$C$12 <> \"\", 8.314472*Foglio1!$C$12*Foglio2!N401, NA())","v":{"$error":"#N/A"}},{"$error":"#N/A"},3556,8.1763915966337954,{"$f":" IF(Foglio1!$C$13 <> \"\", 8.314472*Foglio1!$C$13*Foglio2!R401, NA())","v":{"$error":"#N/A"}},{"$error":"#N/A"}]
[3565,8.1789193328483965,{"$f":" IF(Foglio1!$C$9 <> \"\", 8.314472*Foglio1!$C$9*Foglio2!B402, NA())","v":{"$error":"#N/A"}},{"$error":"#N/A"},3565,8.1789193328483965,{"$f":" IF(Foglio1!$C$10 <> \"\", 8.314472*Foglio1!$C$10*Foglio2!F402, NA())","v":{"$error":"#N/A"}},{"$error":"#N/A"},3565,8.1789193328483965,{"$f":" IF(Foglio1!$C$11 <> \"\", 8.314472*Foglio1!$C$11*Foglio2!J402, NA())","v":{"$error":"#N/A"}},{"$error":"#N/A"},3565,8.1789193328483965,{"$f":" IF(Foglio1!$C$12 <> \"\", 8.314472*Foglio1!$C$12*Foglio2!N402, NA())","v":{"$error":"#N/A"}},{"$error":"#N/A"},3565,8.1789193328483965,{"$f":" IF(Foglio1!$C$13 <> \"\", 8.314472*Foglio1!$C$13*Foglio2!R402, NA())","v":{"$error":"#N/A"}},{"$error":"#N/A"}]
[3574,8.1814406957193739,{"$f":" IF(Foglio1!$C$9 <> \"\", 8.314472*Foglio1!$C$9*Foglio2!B403, NA())","v":{"$error":"#N/A"}},{"$error":"#N/A"},3574,8.1814406957193739,{"$f":" IF(Foglio1!$C$10 <> \"\", 8.314472*Foglio1!$C$10*Foglio2!F403, NA())","v":{"$error":"#N/A"}},{"$error":"#N/A"},3574,8.1814406957193739,{"$f":" IF(Foglio1!$C$11 <> \"\", 8.314472*Foglio1!$C$11*Foglio2!J403, NA())","v":{"$error":"#N/A"}},{"$error":"#N/A"},3574,8.1814406957193739,{"$f":" IF(Foglio1!$C$12 <> \"\", 8.314472*Foglio1!$C$12*Foglio2!N403, NA())","v":{"$error":"#N/A"}},{"$error":"#N/A"},3574,8.1814406957193739,{"$f":" IF(Foglio1!$C$13 <> \"\", 8.314472*Foglio1!$C$13*Foglio2!R403, NA())","v":{"$error":"#N/A"}},{"$error":"#N/A"}]
[3583,8.1839557173049542,{"$f":" IF(Foglio1!$C$9 <> \"\", 8.314472*Foglio1!$C$9*Foglio2!B404, NA())","v":{"$error":"#N/A"}},{"$error":"#N/A"},3583,8.1839557173049542,{"$f":" IF(Foglio1!$C$10 <> \"\", 8.314472*Foglio1!$C$10*Foglio2!F404, NA())","v":{"$error":"#N/A"}},{"$error":"#N/A"},3583,8.1839557173049542,{"$f":" IF(Foglio1!$C$11 <> \"\", 8.314472*Foglio1!$C$11*Foglio2!J404, NA())","v":{"$error":"#N/A"}},{"$error":"#N/A"},3583,8.1839557173049542,{"$f":" IF(Foglio1!$C$12 <> \"\", 8.314472*Foglio1!$C$12*Foglio2!N404, NA())","v":{"$error":"#N/A"}},{"$error":"#N/A"},3583,8.1839557173049542,{"$f":" IF(Foglio1!$C$13 <> \"\", 8.314472*Foglio1!$C$13*Foglio2!R404, NA())","v":{"$error":"#N/A"}},{"$error":"#N/A"}]
[3592,8.1864644294220899,{"$f":" IF(Foglio1!$C$9 <> \"\", 8.314472*Foglio1!$C$9*Foglio2!B405, NA())","v":{"$error":"#N/A"}},{"$error":"#N/A"},3592,8.1864644294220899,{"$f":" IF(Foglio1!$C$10 <> \"\", 8.314472*Foglio1!$C$10*Foglio2!F405, NA())","v":{"$error":"#N/A"}},{"$error":"#N/A"},3592,8.1864644294220899,{"$f":" IF(Foglio1!$C$11 <> \"\", 8.314472*Foglio1!$C$11*Foglio2!J405, NA())","v":{"$error":"#N/A"}},{"$error":"#N/A"},3592,8.1864644294220899,{"$f":" IF(Foglio1!$C$12 <> \"\", 8.314472*Foglio1!$C$12*Foglio2!N405, NA())","v":{"$error":"#N/A"}},{"$error":"#N/A"},3592,8.1864644294220899,{"$f":" IF(Foglio1!$C$13 <> \"\", 8.314472*Foglio1!$C$13*Foglio2!R405, NA())","v":{"$error":"#N/A"}},{"$error":"#N/A"}]
[3601,8.1889668636488757,{"$f":" IF(Foglio1!$C$9 <> \"\", 8.314472*Foglio1!$C$9*Foglio2!B406, NA())","v":{"$error":"#N/A"}},{"$error":"#N/A"},3601,8.1889668636488757,{"$f":" IF(Foglio1!$C$10 <> \"\", 8.314472*Foglio1!$C$10*Foglio2!F406, NA())","v":{"$error":"#N/A"}},{"$error":"#N/A"},3601,8.1889668636488757,{"$f":" IF(Foglio1!$C$11 <> \"\", 8.314472*Foglio1!$C$11*Foglio2!J406, NA())","v":{"$error":"#N/A"}},{"$error":"#N/A"},3601,8.1889668636488757,{"$f":" IF(Foglio1!$C$12 <> \"\", 8.314472*Foglio1!$C$12*Foglio2!N406, NA())","v":{"$error":"#N/A"}},{"$error":"#N/A"},3601,8.1889668636488757,{"$f":" IF(Foglio1!$C$13 <> \"\", 8.314472*Foglio1!$C$13*Foglio2!R406, NA())","v":{"$error":"#N/A"}},{"$error":"#N/A"}]
[3610,8.1914630513269273,{"$f":" IF(Foglio1!$C$9 <> \"\", 8.314472*Foglio1!$C$9*Foglio2!B407, NA())","v":{"$error":"#N/A"}},{"$error":"#N/A"},3610,8.1914630513269273,{"$f":" IF(Foglio1!$C$10 <> \"\", 8.314472*Foglio1!$C$10*Foglio2!F407, NA())","v":{"$error":"#N/A"}},{"$error":"#N/A"},3610,8.1914630513269273,{"$f":" IF(Foglio1!$C$11 <> \"\", 8.314472*Foglio1!$C$11*Foglio2!J407, NA())","v":{"$error":"#N/A"}},{"$error":"#N/A"},3610,8.1914630513269273,{"$f":" IF(Foglio1!$C$12 <> \"\", 8.314472*Foglio1!$C$12*Foglio2!N407, NA())","v":{"$error":"#N/A"}},{"$error":"#N/A"},3610,8.1914630513269273,{"$f":" IF(Foglio1!$C$13 <> \"\", 8.314472*Foglio1!$C$13*Foglio2!R407, NA())","v":{"$error":"#N/A"}},{"$error":"#N/A"}]
[3619,8.1939530235637417,{"$f":" IF(Foglio1!$C$9 <> \"\", 8.314472*Foglio1!$C$9*Foglio2!B408, NA())","v":{"$error":"#N/A"}},{"$error":"#N/A"},3619,8.1939530235637417,{"$f":" IF(Foglio1!$C$10 <> \"\", 8.314472*Foglio1!$C$10*Foglio2!F408, NA())","v":{"$error":"#N/A"}},{"$error":"#N/A"},3619,8.1939530235637417,{"$f":" IF(Foglio1!$C$11 <> \"\", 8.314472*Foglio1!$C$11*Foglio2!J408, NA())","v":{"$error":"#N/A"}},{"$error":"#N/A"},3619,8.1939530235637417,{"$f":" IF(Foglio1!$C$12 <> \"\", 8.314472*Foglio1!$C$12*Foglio2!N408, NA())","v":{"$error":"#N/A"}},{"$error":"#N/A"},3619,8.1939530235637417,{"$f":" IF(Foglio1!$C$13 <> \"\", 8.314472*Foglio1!$C$13*Foglio2!R408, NA())","v":{"$error":"#N/A"}},{"$error":"#N/A"}]
[3628,8.1964368112350279,{"$f":" IF(Foglio1!$C$9 <> \"\", 8.314472*Foglio1!$C$9*Foglio2!B409, NA())","v":{"$error":"#N/A"}},{"$error":"#N/A"},3628,8.1964368112350279,{"$f":" IF(Foglio1!$C$10 <> \"\", 8.314472*Foglio1!$C$10*Foglio2!F409, NA())","v":{"$error":"#N/A"}},{"$error":"#N/A"},3628,8.1964368112350279,{"$f":" IF(Foglio1!$C$11 <> \"\", 8.314472*Foglio1!$C$11*Foglio2!J409, NA())","v":{"$error":"#N/A"}},{"$error":"#N/A"},3628,8.1964368112350279,{"$f":" IF(Foglio1!$C$12 <> \"\", 8.314472*Foglio1!$C$12*Foglio2!N409, NA())","v":{"$error":"#N/A"}},{"$error":"#N/A"},3628,8.1964368112350279,{"$f":" IF(Foglio1!$C$13 <> \"\", 8.314472*Foglio1!$C$13*Foglio2!R409, NA())","v":{"$error":"#N/A"}},{"$error":"#N/A"}]
[3637,8.1989144449869897,{"$f":" IF(Foglio1!$C$9 <> \"\", 8.314472*Foglio1!$C$9*Foglio2!B410, NA())","v":{"$error":"#N/A"}},{"$error":"#N/A"},3637,8.1989144449869897,{"$f":" IF(Foglio1!$C$10 <> \"\", 8.314472*Foglio1!$C$10*Foglio2!F410, NA())","v":{"$error":"#N/A"}},{"$error":"#N/A"},3637,8.1989144449869897,{"$f":" IF(Foglio1!$C$11 <> \"\", 8.314472*Foglio1!$C$11*Foglio2!J410, NA())","v":{"$error":"#N/A"}},{"$error":"#N/A"},3637,8.1989144449869897,{"$f":" IF(Foglio1!$C$12 <> \"\", 8.314472*Foglio1!$C$12*Foglio2!N410, NA())","v":{"$error":"#N/A"}},{"$error":"#N/A"},3637,8.1989144449869897,{"$f":" IF(Foglio1!$C$13 <> \"\", 8.314472*Foglio1!$C$13*Foglio2!R410, NA())","v":{"$error":"#N/A"}},{"$error":"#N/A"}]
[3646,8.2013859552386084,{"$f":" IF(Foglio1!$C$9 <> \"\", 8.314472*Foglio1!$C$9*Foglio2!B411, NA())","v":{"$error":"#N/A"}},{"$error":"#N/A"},3646,8.2013859552386084,{"$f":" IF(Foglio1!$C$10 <> \"\", 8.314472*Foglio1!$C$10*Foglio2!F411, NA())","v":{"$error":"#N/A"}},{"$error":"#N/A"},3646,8.2013859552386084,{"$f":" IF(Foglio1!$C$11 <> \"\", 8.314472*Foglio1!$C$11*Foglio2!J411, NA())","v":{"$error":"#N/A"}},{"$error":"#N/A"},3646,8.2013859552386084,{"$f":" IF(Foglio1!$C$12 <> \"\", 8.314472*Foglio1!$C$12*Foglio2!N411, NA())","v":{"$error":"#N/A"}},{"$error":"#N/A"},3646,8.2013859552386084,{"$f":" IF(Foglio1!$C$13 <> \"\", 8.314472*Foglio1!$C$13*Foglio2!R411, NA())","v":{"$error":"#N/A"}},{"$error":"#N/A"}]
[3655,8.2038513721838786,{"$f":" IF(Foglio1!$C$9 <> \"\", 8.314472*Foglio1!$C$9*Foglio2!B412, NA())","v":{"$error":"#N/A"}},{"$error":"#N/A"},3655,8.2038513721838786,{"$f":" IF(Foglio1!$C$10 <> \"\", 8.314472*Foglio1!$C$10*Foglio2!F412, NA())","v":{"$error":"#N/A"}},{"$error":"#N/A"},3655,8.2038513721838786,{"$f":" IF(Foglio1!$C$11 <> \"\", 8.314472*Foglio1!$C$11*Foglio2!J412, NA())","v":{"$error":"#N/A"}},{"$error":"#N/A"},3655,8.2038513721838786,{"$f":" IF(Foglio1!$C$12 <> \"\", 8.314472*Foglio1!$C$12*Foglio2!N412, NA())","v":{"$error":"#N/A"}},{"$error":"#N/A"},3655,8.2038513721838786,{"$f":" IF(Foglio1!$C$13 <> \"\", 8.314472*Foglio1!$C$13*Foglio2!R412, NA())","v":{"$error":"#N/A"}},{"$error":"#N/A"}]
[3664,8.2063107257940207,{"$f":" IF(Foglio1!$C$9 <> \"\", 8.314472*Foglio1!$C$9*Foglio2!B413, NA())","v":{"$error":"#N/A"}},{"$error":"#N/A"},3664,8.2063107257940207,{"$f":" IF(Foglio1!$C$10 <> \"\", 8.314472*Foglio1!$C$10*Foglio2!F413, NA())","v":{"$error":"#N/A"}},{"$error":"#N/A"},3664,8.2063107257940207,{"$f":" IF(Foglio1!$C$11 <> \"\", 8.314472*Foglio1!$C$11*Foglio2!J413, NA())","v":{"$error":"#N/A"}},{"$error":"#N/A"},3664,8.2063107257940207,{"$f":" IF(Foglio1!$C$12 <> \"\", 8.314472*Foglio1!$C$12*Foglio2!N413, NA())","v":{"$error":"#N/A"}},{"$error":"#N/A"},3664,8.2063107257940207,{"$f":" IF(Foglio1!$C$13 <> \"\", 8.314472*Foglio1!$C$13*Foglio2!R413, NA())","v":{"$error":"#N/A"}},{"$error":"#N/A"}]
[3673,8.2087640458196667,{"$f":" IF(Foglio1!$C$9 <> \"\", 8.314472*Foglio1!$C$9*Foglio2!B414, NA())","v":{"$error":"#N/A"}},{"$error":"#N/A"},3673,8.2087640458196667,{"$f":" IF(Foglio1!$C$10 <> \"\", 8.314472*Foglio1!$C$10*Foglio2!F414, NA())","v":{"$error":"#N/A"}},{"$error":"#N/A"},3673,8.2087640458196667,{"$f":" IF(Foglio1!$C$11 <> \"\", 8.314472*Foglio1!$C$11*Foglio2!J414, NA())","v":{"$error":"#N/A"}},{"$error":"#N/A"},3673,8.2087640458196667,{"$f":" IF(Foglio1!$C$12 <> \"\", 8.314472*Foglio1!$C$12*Foglio2!N414, NA())","v":{"$error":"#N/A"}},{"$error":"#N/A"},3673,8.2087640458196667,{"$f":" IF(Foglio1!$C$13 <> \"\", 8.314472*Foglio1!$C$13*Foglio2!R414, NA())","v":{"$error":"#N/A"}},{"$error":"#N/A"}]
[3682,8.2112113617930227,{"$f":" IF(Foglio1!$C$9 <> \"\", 8.314472*Foglio1!$C$9*Foglio2!B415, NA())","v":{"$error":"#N/A"}},{"$error":"#N/A"},3682,8.2112113617930227,{"$f":" IF(Foglio1!$C$10 <> \"\", 8.314472*Foglio1!$C$10*Foglio2!F415, NA())","v":{"$error":"#N/A"}},{"$error":"#N/A"},3682,8.2112113617930227,{"$f":" IF(Foglio1!$C$11 <> \"\", 8.314472*Foglio1!$C$11*Foglio2!J415, NA())","v":{"$error":"#N/A"}},{"$error":"#N/A"},3682,8.2112113617930227,{"$f":" IF(Foglio1!$C$12 <> \"\", 8.314472*Foglio1!$C$12*Foglio2!N415, NA())","v":{"$error":"#N/A"}},{"$error":"#N/A"},3682,8.2112113617930227,{"$f":" IF(Foglio1!$C$13 <> \"\", 8.314472*Foglio1!$C$13*Foglio2!R415, NA())","v":{"$error":"#N/A"}},{"$error":"#N/A"}]
[3691,8.2136527030299984,{"$f":" IF(Foglio1!$C$9 <> \"\", 8.314472*Foglio1!$C$9*Foglio2!B416, NA())","v":{"$error":"#N/A"}},{"$error":"#N/A"},3691,8.2136527030299984,{"$f":" IF(Foglio1!$C$10 <> \"\", 8.314472*Foglio1!$C$10*Foglio2!F416, NA())","v":{"$error":"#N/A"}},{"$error":"#N/A"},3691,8.2136527030299984,{"$f":" IF(Foglio1!$C$11 <> \"\", 8.314472*Foglio1!$C$11*Foglio2!J416, NA())","v":{"$error":"#N/A"}},{"$error":"#N/A"},3691,8.2136527030299984,{"$f":" IF(Foglio1!$C$12 <> \"\", 8.314472*Foglio1!$C$12*Foglio2!N416, NA())","v":{"$error":"#N/A"}},{"$error":"#N/A"},3691,8.2136527030299984,{"$f":" IF(Foglio1!$C$13 <> \"\", 8.314472*Foglio1!$C$13*Foglio2!R416, NA())","v":{"$error":"#N/A"}},{"$error":"#N/A"}]
[3700,8.2160880986323157,{"$f":" IF(Foglio1!$C$9 <> \"\", 8.314472*Foglio1!$C$9*Foglio2!B417, NA())","v":{"$error":"#N/A"}},{"$error":"#N/A"},3700,8.2160880986323157,{"$f":" IF(Foglio1!$C$10 <> \"\", 8.314472*Foglio1!$C$10*Foglio2!F417, NA())","v":{"$error":"#N/A"}},{"$error":"#N/A"},3700,8.2160880986323157,{"$f":" IF(Foglio1!$C$11 <> \"\", 8.314472*Foglio1!$C$11*Foglio2!J417, NA())","v":{"$error":"#N/A"}},{"$error":"#N/A"},3700,8.2160880986323157,{"$f":" IF(Foglio1!$C$12 <> \"\", 8.314472*Foglio1!$C$12*Foglio2!N417, NA())","v":{"$error":"#N/A"}},{"$error":"#N/A"},3700,8.2160880986323157,{"$f":" IF(Foglio1!$C$13 <> \"\", 8.314472*Foglio1!$C$13*Foglio2!R417, NA())","v":{"$error":"#N/A"}},{"$error":"#N/A"}]
[3709,8.2185175774895907,{"$f":" IF(Foglio1!$C$9 <> \"\", 8.314472*Foglio1!$C$9*Foglio2!B418, NA())","v":{"$error":"#N/A"}},{"$error":"#N/A"},3709,8.2185175774895907,{"$f":" IF(Foglio1!$C$10 <> \"\", 8.314472*Foglio1!$C$10*Foglio2!F418, NA())","v":{"$error":"#N/A"}},{"$error":"#N/A"},3709,8.2185175774895907,{"$f":" IF(Foglio1!$C$11 <> \"\", 8.314472*Foglio1!$C$11*Foglio2!J418, NA())","v":{"$error":"#N/A"}},{"$error":"#N/A"},3709,8.2185175774895907,{"$f":" IF(Foglio1!$C$12 <> \"\", 8.314472*Foglio1!$C$12*Foglio2!N418, NA())","v":{"$error":"#N/A"}},{"$error":"#N/A"},3709,8.2185175774895907,{"$f":" IF(Foglio1!$C$13 <> \"\", 8.314472*Foglio1!$C$13*Foglio2!R418, NA())","v":{"$error":"#N/A"}},{"$error":"#N/A"}]
[3718,8.2209411682813887,{"$f":" IF(Foglio1!$C$9 <> \"\", 8.314472*Foglio1!$C$9*Foglio2!B419, NA())","v":{"$error":"#N/A"}},{"$error":"#N/A"},3718,8.2209411682813887,{"$f":" IF(Foglio1!$C$10 <> \"\", 8.314472*Foglio1!$C$10*Foglio2!F419, NA())","v":{"$error":"#N/A"}},{"$error":"#N/A"},3718,8.2209411682813887,{"$f":" IF(Foglio1!$C$11 <> \"\", 8.314472*Foglio1!$C$11*Foglio2!J419, NA())","v":{"$error":"#N/A"}},{"$error":"#N/A"},3718,8.2209411682813887,{"$f":" IF(Foglio1!$C$12 <> \"\", 8.314472*Foglio1!$C$12*Foglio2!N419, NA())","v":{"$error":"#N/A"}},{"$error":"#N/A"},3718,8.2209411682813887,{"$f":" IF(Foglio1!$C$13 <> \"\", 8.314472*Foglio1!$C$13*Foglio2!R419, NA())","v":{"$error":"#N/A"}},{"$error":"#N/A"}]
[3727,8.2233588994792584,{"$f":" IF(Foglio1!$C$9 <> \"\", 8.314472*Foglio1!$C$9*Foglio2!B420, NA())","v":{"$error":"#N/A"}},{"$error":"#N/A"},3727,8.2233588994792584,{"$f":" IF(Foglio1!$C$10 <> \"\", 8.314472*Foglio1!$C$10*Foglio2!F420, NA())","v":{"$error":"#N/A"}},{"$error":"#N/A"},3727,8.2233588994792584,{"$f":" IF(Foglio1!$C$11 <> \"\", 8.314472*Foglio1!$C$11*Foglio2!J420, NA())","v":{"$error":"#N/A"}},{"$error":"#N/A"},3727,8.2233588994792584,{"$f":" IF(Foglio1!$C$12 <> \"\", 8.314472*Foglio1!$C$12*Foglio2!N420, NA())","v":{"$error":"#N/A"}},{"$error":"#N/A"},3727,8.2233588994792584,{"$f":" IF(Foglio1!$C$13 <> \"\", 8.314472*Foglio1!$C$13*Foglio2!R420, NA())","v":{"$error":"#N/A"}},{"$error":"#N/A"}]
[3736,8.2257707993487337,{"$f":" IF(Foglio1!$C$9 <> \"\", 8.314472*Foglio1!$C$9*Foglio2!B421, NA())","v":{"$error":"#N/A"}},{"$error":"#N/A"},3736,8.2257707993487337,{"$f":" IF(Foglio1!$C$10 <> \"\", 8.314472*Foglio1!$C$10*Foglio2!F421, NA())","v":{"$error":"#N/A"}},{"$error":"#N/A"},3736,8.2257707993487337,{"$f":" IF(Foglio1!$C$11 <> \"\", 8.314472*Foglio1!$C$11*Foglio2!J421, NA())","v":{"$error":"#N/A"}},{"$error":"#N/A"},3736,8.2257707993487337,{"$f":" IF(Foglio1!$C$12 <> \"\", 8.314472*Foglio1!$C$12*Foglio2!N421, NA())","v":{"$error":"#N/A"}},{"$error":"#N/A"},3736,8.2257707993487337,{"$f":" IF(Foglio1!$C$13 <> \"\", 8.314472*Foglio1!$C$13*Foglio2!R421, NA())","v":{"$error":"#N/A"}},{"$error":"#N/A"}]
[3745,8.2281768959513197,{"$f":" IF(Foglio1!$C$9 <> \"\", 8.314472*Foglio1!$C$9*Foglio2!B422, NA())","v":{"$error":"#N/A"}},{"$error":"#N/A"},3745,8.2281768959513197,{"$f":" IF(Foglio1!$C$10 <> \"\", 8.314472*Foglio1!$C$10*Foglio2!F422, NA())","v":{"$error":"#N/A"}},{"$error":"#N/A"},3745,8.2281768959513197,{"$f":" IF(Foglio1!$C$11 <> \"\", 8.314472*Foglio1!$C$11*Foglio2!J422, NA())","v":{"$error":"#N/A"}},{"$error":"#N/A"},3745,8.2281768959513197,{"$f":" IF(Foglio1!$C$12 <> \"\", 8.314472*Foglio1!$C$12*Foglio2!N422, NA())","v":{"$error":"#N/A"}},{"$error":"#N/A"},3745,8.2281768959513197,{"$f":" IF(Foglio1!$C$13 <> \"\", 8.314472*Foglio1!$C$13*Foglio2!R422, NA())","v":{"$error":"#N/A"}},{"$error":"#N/A"}]
[3754,8.230577217146454,{"$f":" IF(Foglio1!$C$9 <> \"\", 8.314472*Foglio1!$C$9*Foglio2!B423, NA())","v":{"$error":"#N/A"}},{"$error":"#N/A"},3754,8.230577217146454,{"$f":" IF(Foglio1!$C$10 <> \"\", 8.314472*Foglio1!$C$10*Foglio2!F423, NA())","v":{"$error":"#N/A"}},{"$error":"#N/A"},3754,8.230577217146454,{"$f":" IF(Foglio1!$C$11 <> \"\", 8.314472*Foglio1!$C$11*Foglio2!J423, NA())","v":{"$error":"#N/A"}},{"$error":"#N/A"},3754,8.230577217146454,{"$f":" IF(Foglio1!$C$12 <> \"\", 8.314472*Foglio1!$C$12*Foglio2!N423, NA())","v":{"$error":"#N/A"}},{"$error":"#N/A"},3754,8.230577217146454,{"$f":" IF(Foglio1!$C$13 <> \"\", 8.314472*Foglio1!$C$13*Foglio2!R423, NA())","v":{"$error":"#N/A"}},{"$error":"#N/A"}]
[3763,8.232971790593437,{"$f":" IF(Foglio1!$C$9 <> \"\", 8.314472*Foglio1!$C$9*Foglio2!B424, NA())","v":{"$error":"#N/A"}},{"$error":"#N/A"},3763,8.232971790593437,{"$f":" IF(Foglio1!$C$10 <> \"\", 8.314472*Foglio1!$C$10*Foglio2!F424, NA())","v":{"$error":"#N/A"}},{"$error":"#N/A"},3763,8.232971790593437,{"$f":" IF(Foglio1!$C$11 <> \"\", 8.314472*Foglio1!$C$11*Foglio2!J424, NA())","v":{"$error":"#N/A"}},{"$error":"#N/A"},3763,8.232971790593437,{"$f":" IF(Foglio1!$C$12 <> \"\", 8.314472*Foglio1!$C$12*Foglio2!N424, NA())","v":{"$error":"#N/A"}},{"$error":"#N/A"},3763,8.232971790593437,{"$f":" IF(Foglio1!$C$13 <> \"\", 8.314472*Foglio1!$C$13*Foglio2!R424, NA())","v":{"$error":"#N/A"}},{"$error":"#N/A"}]
[3772,8.2353606437533475,{"$f":" IF(Foglio1!$C$9 <> \"\", 8.314472*Foglio1!$C$9*Foglio2!B425, NA())","v":{"$error":"#N/A"}},{"$error":"#N/A"},3772,8.2353606437533475,{"$f":" IF(Foglio1!$C$10 <> \"\", 8.314472*Foglio1!$C$10*Foglio2!F425, NA())","v":{"$error":"#N/A"}},{"$error":"#N/A"},3772,8.2353606437533475,{"$f":" IF(Foglio1!$C$11 <> \"\", 8.314472*Foglio1!$C$11*Foglio2!J425, NA())","v":{"$error":"#N/A"}},{"$error":"#N/A"},3772,8.2353606437533475,{"$f":" IF(Foglio1!$C$12 <> \"\", 8.314472*Foglio1!$C$12*Foglio2!N425, NA())","v":{"$error":"#N/A"}},{"$error":"#N/A"},3772,8.2353606437533475,{"$f":" IF(Foglio1!$C$13 <> \"\", 8.314472*Foglio1!$C$13*Foglio2!R425, NA())","v":{"$error":"#N/A"}},{"$error":"#N/A"}]
[3781,8.2377438038909325,{"$f":" IF(Foglio1!$C$9 <> \"\", 8.314472*Foglio1!$C$9*Foglio2!B426, NA())","v":{"$error":"#N/A"}},{"$error":"#N/A"},3781,8.2377438038909325,{"$f":" IF(Foglio1!$C$10 <> \"\", 8.314472*Foglio1!$C$10*Foglio2!F426, NA())","v":{"$error":"#N/A"}},{"$error":"#N/A"},3781,8.2377438038909325,{"$f":" IF(Foglio1!$C$11 <> \"\", 8.314472*Foglio1!$C$11*Foglio2!J426, NA())","v":{"$error":"#N/A"}},{"$error":"#N/A"},3781,8.2377438038909325,{"$f":" IF(Foglio1!$C$12 <> \"\", 8.314472*Foglio1!$C$12*Foglio2!N426, NA())","v":{"$error":"#N/A"}},{"$error":"#N/A"},3781,8.2377438038909325,{"$f":" IF(Foglio1!$C$13 <> \"\", 8.314472*Foglio1!$C$13*Foglio2!R426, NA())","v":{"$error":"#N/A"}},{"$error":"#N/A"}]
[3790,8.2401212980764722,{"$f":" IF(Foglio1!$C$9 <> \"\", 8.314472*Foglio1!$C$9*Foglio2!B427, NA())","v":{"$error":"#N/A"}},{"$error":"#N/A"},3790,8.2401212980764722,{"$f":" IF(Foglio1!$C$10 <> \"\", 8.314472*Foglio1!$C$10*Foglio2!F427, NA())","v":{"$error":"#N/A"}},{"$error":"#N/A"},3790,8.2401212980764722,{"$f":" IF(Foglio1!$C$11 <> \"\", 8.314472*Foglio1!$C$11*Foglio2!J427, NA())","v":{"$error":"#N/A"}},{"$error":"#N/A"},3790,8.2401212980764722,{"$f":" IF(Foglio1!$C$12 <> \"\", 8.314472*Foglio1!$C$12*Foglio2!N427, NA())","v":{"$error":"#N/A"}},{"$error":"#N/A"},3790,8.2401212980764722,{"$f":" IF(Foglio1!$C$13 <> \"\", 8.314472*Foglio1!$C$13*Foglio2!R427, NA())","v":{"$error":"#N/A"}},{"$error":"#N/A"}]
[3799,8.2424931531876258,{"$f":" IF(Foglio1!$C$9 <> \"\", 8.314472*Foglio1!$C$9*Foglio2!B428, NA())","v":{"$error":"#N/A"}},{"$error":"#N/A"},3799,8.2424931531876258,{"$f":" IF(Foglio1!$C$10 <> \"\", 8.314472*Foglio1!$C$10*Foglio2!F428, NA())","v":{"$error":"#N/A"}},{"$error":"#N/A"},3799,8.2424931531876258,{"$f":" IF(Foglio1!$C$11 <> \"\", 8.314472*Foglio1!$C$11*Foglio2!J428, NA())","v":{"$error":"#N/A"}},{"$error":"#N/A"},3799,8.2424931531876258,{"$f":" IF(Foglio1!$C$12 <> \"\", 8.314472*Foglio1!$C$12*Foglio2!N428, NA())","v":{"$error":"#N/A"}},{"$error":"#N/A"},3799,8.2424931531876258,{"$f":" IF(Foglio1!$C$13 <> \"\", 8.314472*Foglio1!$C$13*Foglio2!R428, NA())","v":{"$error":"#N/A"}},{"$error":"#N/A"}]
[3808,8.2448593959112557,{"$f":" IF(Foglio1!$C$9 <> \"\", 8.314472*Foglio1!$C$9*Foglio2!B429, NA())","v":{"$error":"#N/A"}},{"$error":"#N/A"},3808,8.2448593959112557,{"$f":" IF(Foglio1!$C$10 <> \"\", 8.314472*Foglio1!$C$10*Foglio2!F429, NA())","v":{"$error":"#N/A"}},{"$error":"#N/A"},3808,8.2448593959112557,{"$f":" IF(Foglio1!$C$11 <> \"\", 8.314472*Foglio1!$C$11*Foglio2!J429, NA())","v":{"$error":"#N/A"}},{"$error":"#N/A"},3808,8.2448593959112557,{"$f":" IF(Foglio1!$C$12 <> \"\", 8.314472*Foglio1!$C$12*Foglio2!N429, NA())","v":{"$error":"#N/A"}},{"$error":"#N/A"},3808,8.2448593959112557,{"$f":" IF(Foglio1!$C$13 <> \"\", 8.314472*Foglio1!$C$13*Foglio2!R429, NA())","v":{"$error":"#N/A"}},{"$error":"#N/A"}]
[3817,8.2472200527452291,{"$f":" IF(Foglio1!$C$9 <> \"\", 8.314472*Foglio1!$C$9*Foglio2!B430, NA())","v":{"$error":"#N/A"}},{"$error":"#N/A"},3817,8.2472200527452291,{"$f":" IF(Foglio1!$C$10 <> \"\", 8.314472*Foglio1!$C$10*Foglio2!F430, NA())","v":{"$error":"#N/A"}},{"$error":"#N/A"},3817,8.2472200527452291,{"$f":" IF(Foglio1!$C$11 <> \"\", 8.314472*Foglio1!$C$11*Foglio2!J430, NA())","v":{"$error":"#N/A"}},{"$error":"#N/A"},3817,8.2472200527452291,{"$f":" IF(Foglio1!$C$12 <> \"\", 8.314472*Foglio1!$C$12*Foglio2!N430, NA())","v":{"$error":"#N/A"}},{"$error":"#N/A"},3817,8.2472200527452291,{"$f":" IF(Foglio1!$C$13 <> \"\", 8.314472*Foglio1!$C$13*Foglio2!R430, NA())","v":{"$error":"#N/A"}},{"$error":"#N/A"}]
[3826,8.249575150000199,{"$f":" IF(Foglio1!$C$9 <> \"\", 8.314472*Foglio1!$C$9*Foglio2!B431, NA())","v":{"$error":"#N/A"}},{"$error":"#N/A"},3826,8.249575150000199,{"$f":" IF(Foglio1!$C$10 <> \"\", 8.314472*Foglio1!$C$10*Foglio2!F431, NA())","v":{"$error":"#N/A"}},{"$error":"#N/A"},3826,8.249575150000199,{"$f":" IF(Foglio1!$C$11 <> \"\", 8.314472*Foglio1!$C$11*Foglio2!J431, NA())","v":{"$error":"#N/A"}},{"$error":"#N/A"},3826,8.249575150000199,{"$f":" IF(Foglio1!$C$12 <> \"\", 8.314472*Foglio1!$C$12*Foglio2!N431, NA())","v":{"$error":"#N/A"}},{"$error":"#N/A"},3826,8.249575150000199,{"$f":" IF(Foglio1!$C$13 <> \"\", 8.314472*Foglio1!$C$13*Foglio2!R431, NA())","v":{"$error":"#N/A"}},{"$error":"#N/A"}]
[3835,8.2519247138013565,{"$f":" IF(Foglio1!$C$9 <> \"\", 8.314472*Foglio1!$C$9*Foglio2!B432, NA())","v":{"$error":"#N/A"}},{"$error":"#N/A"},3835,8.2519247138013565,{"$f":" IF(Foglio1!$C$10 <> \"\", 8.314472*Foglio1!$C$10*Foglio2!F432, NA())","v":{"$error":"#N/A"}},{"$error":"#N/A"},3835,8.2519247138013565,{"$f":" IF(Foglio1!$C$11 <> \"\", 8.314472*Foglio1!$C$11*Foglio2!J432, NA())","v":{"$error":"#N/A"}},{"$error":"#N/A"},3835,8.2519247138013565,{"$f":" IF(Foglio1!$C$12 <> \"\", 8.314472*Foglio1!$C$12*Foglio2!N432, NA())","v":{"$error":"#N/A"}},{"$error":"#N/A"},3835,8.2519247138013565,{"$f":" IF(Foglio1!$C$13 <> \"\", 8.314472*Foglio1!$C$13*Foglio2!R432, NA())","v":{"$error":"#N/A"}},{"$error":"#N/A"}]
[3844,8.2542687700901833,{"$f":" IF(Foglio1!$C$9 <> \"\", 8.314472*Foglio1!$C$9*Foglio2!B433, NA())","v":{"$error":"#N/A"}},{"$error":"#N/A"},3844,8.2542687700901833,{"$f":" IF(Foglio1!$C$10 <> \"\", 8.314472*Foglio1!$C$10*Foglio2!F433, NA())","v":{"$error":"#N/A"}},{"$error":"#N/A"},3844,8.2542687700901833,{"$f":" IF(Foglio1!$C$11 <> \"\", 8.314472*Foglio1!$C$11*Foglio2!J433, NA())","v":{"$error":"#N/A"}},{"$error":"#N/A"},3844,8.2542687700901833,{"$f":" IF(Foglio1!$C$12 <> \"\", 8.314472*Foglio1!$C$12*Foglio2!N433, NA())","v":{"$error":"#N/A"}},{"$error":"#N/A"},3844,8.2542687700901833,{"$f":" IF(Foglio1!$C$13 <> \"\", 8.314472*Foglio1!$C$13*Foglio2!R433, NA())","v":{"$error":"#N/A"}},{"$error":"#N/A"}]
[3853,8.2566073446261576,{"$f":" IF(Foglio1!$C$9 <> \"\", 8.314472*Foglio1!$C$9*Foglio2!B434, NA())","v":{"$error":"#N/A"}},{"$error":"#N/A"},3853,8.2566073446261576,{"$f":" IF(Foglio1!$C$10 <> \"\", 8.314472*Foglio1!$C$10*Foglio2!F434, NA())","v":{"$error":"#N/A"}},{"$error":"#N/A"},3853,8.2566073446261576,{"$f":" IF(Foglio1!$C$11 <> \"\", 8.314472*Foglio1!$C$11*Foglio2!J434, NA())","v":{"$error":"#N/A"}},{"$error":"#N/A"},3853,8.2566073446261576,{"$f":" IF(Foglio1!$C$12 <> \"\", 8.314472*Foglio1!$C$12*Foglio2!N434, NA())","v":{"$error":"#N/A"}},{"$error":"#N/A"},3853,8.2566073446261576,{"$f":" IF(Foglio1!$C$13 <> \"\", 8.314472*Foglio1!$C$13*Foglio2!R434, NA())","v":{"$error":"#N/A"}},{"$error":"#N/A"}]
[3862,8.2589404629884591,{"$f":" IF(Foglio1!$C$9 <> \"\", 8.314472*Foglio1!$C$9*Foglio2!B435, NA())","v":{"$error":"#N/A"}},{"$error":"#N/A"},3862,8.2589404629884591,{"$f":" IF(Foglio1!$C$10 <> \"\", 8.314472*Foglio1!$C$10*Foglio2!F435, NA())","v":{"$error":"#N/A"}},{"$error":"#N/A"},3862,8.2589404629884591,{"$f":" IF(Foglio1!$C$11 <> \"\", 8.314472*Foglio1!$C$11*Foglio2!J435, NA())","v":{"$error":"#N/A"}},{"$error":"#N/A"},3862,8.2589404629884591,{"$f":" IF(Foglio1!$C$12 <> \"\", 8.314472*Foglio1!$C$12*Foglio2!N435, NA())","v":{"$error":"#N/A"}},{"$error":"#N/A"},3862,8.2589404629884591,{"$f":" IF(Foglio1!$C$13 <> \"\", 8.314472*Foglio1!$C$13*Foglio2!R435, NA())","v":{"$error":"#N/A"}},{"$error":"#N/A"}]
[3871,8.2612681505776475,{"$f":" IF(Foglio1!$C$9 <> \"\", 8.314472*Foglio1!$C$9*Foglio2!B436, NA())","v":{"$error":"#N/A"}},{"$error":"#N/A"},3871,8.2612681505776475,{"$f":" IF(Foglio1!$C$10 <> \"\", 8.314472*Foglio1!$C$10*Foglio2!F436, NA())","v":{"$error":"#N/A"}},{"$error":"#N/A"},3871,8.2612681505776475,{"$f":" IF(Foglio1!$C$11 <> \"\", 8.314472*Foglio1!$C$11*Foglio2!J436, NA())","v":{"$error":"#N/A"}},{"$error":"#N/A"},3871,8.2612681505776475,{"$f":" IF(Foglio1!$C$12 <> \"\", 8.314472*Foglio1!$C$12*Foglio2!N436, NA())","v":{"$error":"#N/A"}},{"$error":"#N/A"},3871,8.2612681505776475,{"$f":" IF(Foglio1!$C$13 <> \"\", 8.314472*Foglio1!$C$13*Foglio2!R436, NA())","v":{"$error":"#N/A"}},{"$error":"#N/A"}]
[3880,8.2635904326173186,{"$f":" IF(Foglio1!$C$9 <> \"\", 8.314472*Foglio1!$C$9*Foglio2!B437, NA())","v":{"$error":"#N/A"}},{"$error":"#N/A"},3880,8.2635904326173186,{"$f":" IF(Foglio1!$C$10 <> \"\", 8.314472*Foglio1!$C$10*Foglio2!F437, NA())","v":{"$error":"#N/A"}},{"$error":"#N/A"},3880,8.2635904326173186,{"$f":" IF(Foglio1!$C$11 <> \"\", 8.314472*Foglio1!$C$11*Foglio2!J437, NA())","v":{"$error":"#N/A"}},{"$error":"#N/A"},3880,8.2635904326173186,{"$f":" IF(Foglio1!$C$12 <> \"\", 8.314472*Foglio1!$C$12*Foglio2!N437, NA())","v":{"$error":"#N/A"}},{"$error":"#N/A"},3880,8.2635904326173186,{"$f":" IF(Foglio1!$C$13 <> \"\", 8.314472*Foglio1!$C$13*Foglio2!R437, NA())","v":{"$error":"#N/A"}},{"$error":"#N/A"}]
[3889,8.265907334155747,{"$f":" IF(Foglio1!$C$9 <> \"\", 8.314472*Foglio1!$C$9*Foglio2!B438, NA())","v":{"$error":"#N/A"}},{"$error":"#N/A"},3889,8.265907334155747,{"$f":" IF(Foglio1!$C$10 <> \"\", 8.314472*Foglio1!$C$10*Foglio2!F438, NA())","v":{"$error":"#N/A"}},{"$error":"#N/A"},3889,8.265907334155747,{"$f":" IF(Foglio1!$C$11 <> \"\", 8.314472*Foglio1!$C$11*Foglio2!J438, NA())","v":{"$error":"#N/A"}},{"$error":"#N/A"},3889,8.265907334155747,{"$f":" IF(Foglio1!$C$12 <> \"\", 8.314472*Foglio1!$C$12*Foglio2!N438, NA())","v":{"$error":"#N/A"}},{"$error":"#N/A"},3889,8.265907334155747,{"$f":" IF(Foglio1!$C$13 <> \"\", 8.314472*Foglio1!$C$13*Foglio2!R438, NA())","v":{"$error":"#N/A"}},{"$error":"#N/A"}]
[3898,8.268218880067506,{"$f":" IF(Foglio1!$C$9 <> \"\", 8.314472*Foglio1!$C$9*Foglio2!B439, NA())","v":{"$error":"#N/A"}},{"$error":"#N/A"},3898,8.268218880067506,{"$f":" IF(Foglio1!$C$10 <> \"\", 8.314472*Foglio1!$C$10*Foglio2!F439, NA())","v":{"$error":"#N/A"}},{"$error":"#N/A"},3898,8.268218880067506,{"$f":" IF(Foglio1!$C$11 <> \"\", 8.314472*Foglio1!$C$11*Foglio2!J439, NA())","v":{"$error":"#N/A"}},{"$error":"#N/A"},3898,8.268218880067506,{"$f":" IF(Foglio1!$C$12 <> \"\", 8.314472*Foglio1!$C$12*Foglio2!N439, NA())","v":{"$error":"#N/A"}},{"$error":"#N/A"},3898,8.268218880067506,{"$f":" IF(Foglio1!$C$13 <> \"\", 8.314472*Foglio1!$C$13*Foglio2!R439, NA())","v":{"$error":"#N/A"}},{"$error":"#N/A"}]
[3907,8.2705250950550706,{"$f":" IF(Foglio1!$C$9 <> \"\", 8.314472*Foglio1!$C$9*Foglio2!B440, NA())","v":{"$error":"#N/A"}},{"$error":"#N/A"},3907,8.2705250950550706,{"$f":" IF(Foglio1!$C$10 <> \"\", 8.314472*Foglio1!$C$10*Foglio2!F440, NA())","v":{"$error":"#N/A"}},{"$error":"#N/A"},3907,8.2705250950550706,{"$f":" IF(Foglio1!$C$11 <> \"\", 8.314472*Foglio1!$C$11*Foglio2!J440, NA())","v":{"$error":"#N/A"}},{"$error":"#N/A"},3907,8.2705250950550706,{"$f":" IF(Foglio1!$C$12 <> \"\", 8.314472*Foglio1!$C$12*Foglio2!N440, NA())","v":{"$error":"#N/A"}},{"$error":"#N/A"},3907,8.2705250950550706,{"$f":" IF(Foglio1!$C$13 <> \"\", 8.314472*Foglio1!$C$13*Foglio2!R440, NA())","v":{"$error":"#N/A"}},{"$error":"#N/A"}]
[3916,8.2728260036504011,{"$f":" IF(Foglio1!$C$9 <> \"\", 8.314472*Foglio1!$C$9*Foglio2!B441, NA())","v":{"$error":"#N/A"}},{"$error":"#N/A"},3916,8.2728260036504011,{"$f":" IF(Foglio1!$C$10 <> \"\", 8.314472*Foglio1!$C$10*Foglio2!F441, NA())","v":{"$error":"#N/A"}},{"$error":"#N/A"},3916,8.2728260036504011,{"$f":" IF(Foglio1!$C$11 <> \"\", 8.314472*Foglio1!$C$11*Foglio2!J441, NA())","v":{"$error":"#N/A"}},{"$error":"#N/A"},3916,8.2728260036504011,{"$f":" IF(Foglio1!$C$12 <> \"\", 8.314472*Foglio1!$C$12*Foglio2!N441, NA())","v":{"$error":"#N/A"}},{"$error":"#N/A"},3916,8.2728260036504011,{"$f":" IF(Foglio1!$C$13 <> \"\", 8.314472*Foglio1!$C$13*Foglio2!R441, NA())","v":{"$error":"#N/A"}},{"$error":"#N/A"}]
[3925,8.2751216302165087,{"$f":" IF(Foglio1!$C$9 <> \"\", 8.314472*Foglio1!$C$9*Foglio2!B442, NA())","v":{"$error":"#N/A"}},{"$error":"#N/A"},3925,8.2751216302165087,{"$f":" IF(Foglio1!$C$10 <> \"\", 8.314472*Foglio1!$C$10*Foglio2!F442, NA())","v":{"$error":"#N/A"}},{"$error":"#N/A"},3925,8.2751216302165087,{"$f":" IF(Foglio1!$C$11 <> \"\", 8.314472*Foglio1!$C$11*Foglio2!J442, NA())","v":{"$error":"#N/A"}},{"$error":"#N/A"},3925,8.2751216302165087,{"$f":" IF(Foglio1!$C$12 <> \"\", 8.314472*Foglio1!$C$12*Foglio2!N442, NA())","v":{"$error":"#N/A"}},{"$error":"#N/A"},3925,8.2751216302165087,{"$f":" IF(Foglio1!$C$13 <> \"\", 8.314472*Foglio1!$C$13*Foglio2!R442, NA())","v":{"$error":"#N/A"}},{"$error":"#N/A"}]
[3934,8.2774119989490043,{"$f":" IF(Foglio1!$C$9 <> \"\", 8.314472*Foglio1!$C$9*Foglio2!B443, NA())","v":{"$error":"#N/A"}},{"$error":"#N/A"},3934,8.2774119989490043,{"$f":" IF(Foglio1!$C$10 <> \"\", 8.314472*Foglio1!$C$10*Foglio2!F443, NA())","v":{"$error":"#N/A"}},{"$error":"#N/A"},3934,8.2774119989490043,{"$f":" IF(Foglio1!$C$11 <> \"\", 8.314472*Foglio1!$C$11*Foglio2!J443, NA())","v":{"$error":"#N/A"}},{"$error":"#N/A"},3934,8.2774119989490043,{"$f":" IF(Foglio1!$C$12 <> \"\", 8.314472*Foglio1!$C$12*Foglio2!N443, NA())","v":{"$error":"#N/A"}},{"$error":"#N/A"},3934,8.2774119989490043,{"$f":" IF(Foglio1!$C$13 <> \"\", 8.314472*Foglio1!$C$13*Foglio2!R443, NA())","v":{"$error":"#N/A"}},{"$error":"#N/A"}]
[3943,8.2796971338776277,{"$f":" IF(Foglio1!$C$9 <> \"\", 8.314472*Foglio1!$C$9*Foglio2!B444, NA())","v":{"$error":"#N/A"}},{"$error":"#N/A"},3943,8.2796971338776277,{"$f":" IF(Foglio1!$C$10 <> \"\", 8.314472*Foglio1!$C$10*Foglio2!F444, NA())","v":{"$error":"#N/A"}},{"$error":"#N/A"},3943,8.2796971338776277,{"$f":" IF(Foglio1!$C$11 <> \"\", 8.314472*Foglio1!$C$11*Foglio2!J444, NA())","v":{"$error":"#N/A"}},{"$error":"#N/A"},3943,8.2796971338776277,{"$f":" IF(Foglio1!$C$12 <> \"\", 8.314472*Foglio1!$C$12*Foglio2!N444, NA())","v":{"$error":"#N/A"}},{"$error":"#N/A"},3943,8.2796971338776277,{"$f":" IF(Foglio1!$C$13 <> \"\", 8.314472*Foglio1!$C$13*Foglio2!R444, NA())","v":{"$error":"#N/A"}},{"$error":"#N/A"}]
[3952,8.2819770588677581,{"$f":" IF(Foglio1!$C$9 <> \"\", 8.314472*Foglio1!$C$9*Foglio2!B445, NA())","v":{"$error":"#N/A"}},{"$error":"#N/A"},3952,8.2819770588677581,{"$f":" IF(Foglio1!$C$10 <> \"\", 8.314472*Foglio1!$C$10*Foglio2!F445, NA())","v":{"$error":"#N/A"}},{"$error":"#N/A"},3952,8.2819770588677581,{"$f":" IF(Foglio1!$C$11 <> \"\", 8.314472*Foglio1!$C$11*Foglio2!J445, NA())","v":{"$error":"#N/A"}},{"$error":"#N/A"},3952,8.2819770588677581,{"$f":" IF(Foglio1!$C$12 <> \"\", 8.314472*Foglio1!$C$12*Foglio2!N445, NA())","v":{"$error":"#N/A"}},{"$error":"#N/A"},3952,8.2819770588677581,{"$f":" IF(Foglio1!$C$13 <> \"\", 8.314472*Foglio1!$C$13*Foglio2!R445, NA())","v":{"$error":"#N/A"}},{"$error":"#N/A"}]
[3961,8.2842517976219163,{"$f":" IF(Foglio1!$C$9 <> \"\", 8.314472*Foglio1!$C$9*Foglio2!B446, NA())","v":{"$error":"#N/A"}},{"$error":"#N/A"},3961,8.2842517976219163,{"$f":" IF(Foglio1!$C$10 <> \"\", 8.314472*Foglio1!$C$10*Foglio2!F446, NA())","v":{"$error":"#N/A"}},{"$error":"#N/A"},3961,8.2842517976219163,{"$f":" IF(Foglio1!$C$11 <> \"\", 8.314472*Foglio1!$C$11*Foglio2!J446, NA())","v":{"$error":"#N/A"}},{"$error":"#N/A"},3961,8.2842517976219163,{"$f":" IF(Foglio1!$C$12 <> \"\", 8.314472*Foglio1!$C$12*Foglio2!N446, NA())","v":{"$error":"#N/A"}},{"$error":"#N/A"},3961,8.2842517976219163,{"$f":" IF(Foglio1!$C$13 <> \"\", 8.314472*Foglio1!$C$13*Foglio2!R446, NA())","v":{"$error":"#N/A"}},{"$error":"#N/A"}]
[3970,8.2865213736812358,{"$f":" IF(Foglio1!$C$9 <> \"\", 8.314472*Foglio1!$C$9*Foglio2!B447, NA())","v":{"$error":"#N/A"}},{"$error":"#N/A"},3970,8.2865213736812358,{"$f":" IF(Foglio1!$C$10 <> \"\", 8.314472*Foglio1!$C$10*Foglio2!F447, NA())","v":{"$error":"#N/A"}},{"$error":"#N/A"},3970,8.2865213736812358,{"$f":" IF(Foglio1!$C$11 <> \"\", 8.314472*Foglio1!$C$11*Foglio2!J447, NA())","v":{"$error":"#N/A"}},{"$error":"#N/A"},3970,8.2865213736812358,{"$f":" IF(Foglio1!$C$12 <> \"\", 8.314472*Foglio1!$C$12*Foglio2!N447, NA())","v":{"$error":"#N/A"}},{"$error":"#N/A"},3970,8.2865213736812358,{"$f":" IF(Foglio1!$C$13 <> \"\", 8.314472*Foglio1!$C$13*Foglio2!R447, NA())","v":{"$error":"#N/A"}},{"$error":"#N/A"}]
[3979,8.2887858104269281,{"$f":" IF(Foglio1!$C$9 <> \"\", 8.314472*Foglio1!$C$9*Foglio2!B448, NA())","v":{"$error":"#N/A"}},{"$error":"#N/A"},3979,8.2887858104269281,{"$f":" IF(Foglio1!$C$10 <> \"\", 8.314472*Foglio1!$C$10*Foglio2!F448, NA())","v":{"$error":"#N/A"}},{"$error":"#N/A"},3979,8.2887858104269281,{"$f":" IF(Foglio1!$C$11 <> \"\", 8.314472*Foglio1!$C$11*Foglio2!J448, NA())","v":{"$error":"#N/A"}},{"$error":"#N/A"},3979,8.2887858104269281,{"$f":" IF(Foglio1!$C$12 <> \"\", 8.314472*Foglio1!$C$12*Foglio2!N448, NA())","v":{"$error":"#N/A"}},{"$error":"#N/A"},3979,8.2887858104269281,{"$f":" IF(Foglio1!$C$13 <> \"\", 8.314472*Foglio1!$C$13*Foglio2!R448, NA())","v":{"$error":"#N/A"}},{"$error":"#N/A"}]
[3988,8.291045131081729,{"$f":" IF(Foglio1!$C$9 <> \"\", 8.314472*Foglio1!$C$9*Foglio2!B449, NA())","v":{"$error":"#N/A"}},{"$error":"#N/A"},3988,8.291045131081729,{"$f":" IF(Foglio1!$C$10 <> \"\", 8.314472*Foglio1!$C$10*Foglio2!F449, NA())","v":{"$error":"#N/A"}},{"$error":"#N/A"},3988,8.291045131081729,{"$f":" IF(Foglio1!$C$11 <> \"\", 8.314472*Foglio1!$C$11*Foglio2!J449, NA())","v":{"$error":"#N/A"}},{"$error":"#N/A"},3988,8.291045131081729,{"$f":" IF(Foglio1!$C$12 <> \"\", 8.314472*Foglio1!$C$12*Foglio2!N449, NA())","v":{"$error":"#N/A"}},{"$error":"#N/A"},3988,8.291045131081729,{"$f":" IF(Foglio1!$C$13 <> \"\", 8.314472*Foglio1!$C$13*Foglio2!R449, NA())","v":{"$error":"#N/A"}},{"$error":"#N/A"}]
[3997,8.2932993587113231,{"$f":" IF(Foglio1!$C$9 <> \"\", 8.314472*Foglio1!$C$9*Foglio2!B450, NA())","v":{"$error":"#N/A"}},{"$error":"#N/A"},3997,8.2932993587113231,{"$f":" IF(Foglio1!$C$10 <> \"\", 8.314472*Foglio1!$C$10*Foglio2!F450, NA())","v":{"$error":"#N/A"}},{"$error":"#N/A"},3997,8.2932993587113231,{"$f":" IF(Foglio1!$C$11 <> \"\", 8.314472*Foglio1!$C$11*Foglio2!J450, NA())","v":{"$error":"#N/A"}},{"$error":"#N/A"},3997,8.2932993587113231,{"$f":" IF(Foglio1!$C$12 <> \"\", 8.314472*Foglio1!$C$12*Foglio2!N450, NA())","v":{"$error":"#N/A"}},{"$error":"#N/A"},3997,8.2932993587113231,{"$f":" IF(Foglio1!$C$13 <> \"\", 8.314472*Foglio1!$C$13*Foglio2!R450, NA())","v":{"$error":"#N/A"}},{"$error":"#N/A"}]
[4006,{"$f":"LN(A451)","v":8.2955485162257627},{"$f":" IF(Foglio1!$C$9 <> \"\", 8.314472*Foglio1!$C$9*Foglio2!B451, NA())","v":{"$error":"#N/A"}},{"$f":"  -30.5 + C451*10^-3","v":{"$error":"#N/A"}},4006,{"$f":"LN(E451)","v":8.2955485162257627},{"$f":" IF(Foglio1!$C$10 <> \"\", 8.314472*Foglio1!$C$10*Foglio2!F451, NA())","v":{"$error":"#N/A"}},{"$f":" -30.5+ G451*10^-3","v":{"$error":"#N/A"}},4006,{"$f":"LN(I451)","v":8.2955485162257627},{"$f":" IF(Foglio1!$C$11 <> \"\", 8.314472*Foglio1!$C$11*Foglio2!J451, NA())","v":{"$error":"#N/A"}},{"$f":" -30.5+ K451*10^-3","v":{"$error":"#N/A"}},4006,{"$f":"LN(M451)","v":8.2955485162257627},{"$f":" IF(Foglio1!$C$12 <> \"\", 8.314472*Foglio1!$C$12*Foglio2!N451, NA())","v":{"$error":"#N/A"}},{"$f":" -30.5+ O451*10^-3","v":{"$error":"#N/A"}},4006,{"$f":"LN(Q451)","v":8.2955485162257627},{"$f":" IF(Foglio1!$C$13 <> \"\", 8.314472*Foglio1!$C$13*Foglio2!R451, NA())","v":{"$error":"#N/A"}},{"$f":" -30.5+S451*10^-3","v":{"$error":"#N/A"}}]
[4015,8.2977926263808612,{"$f":" IF(Foglio1!$C$9 <> \"\", 8.314472*Foglio1!$C$9*Foglio2!B452, NA())","v":{"$error":"#N/A"}},{"$error":"#N/A"},4015,8.2977926263808612,{"$f":" IF(Foglio1!$C$10 <> \"\", 8.314472*Foglio1!$C$10*Foglio2!F452, NA())","v":{"$error":"#N/A"}},{"$error":"#N/A"},4015,8.2977926263808612,{"$f":" IF(Foglio1!$C$11 <> \"\", 8.314472*Foglio1!$C$11*Foglio2!J452, NA())","v":{"$error":"#N/A"}},{"$error":"#N/A"},4015,8.2977926263808612,{"$f":" IF(Foglio1!$C$12 <> \"\", 8.314472*Foglio1!$C$12*Foglio2!N452, NA())","v":{"$error":"#N/A"}},{"$error":"#N/A"},4015,8.2977926263808612,{"$f":" IF(Foglio1!$C$13 <> \"\", 8.314472*Foglio1!$C$13*Foglio2!R452, NA())","v":{"$error":"#N/A"}},{"$error":"#N/A"}]
[4024,8.3000317117795746,{"$f":" IF(Foglio1!$C$9 <> \"\", 8.314472*Foglio1!$C$9*Foglio2!B453, NA())","v":{"$error":"#N/A"}},{"$error":"#N/A"},4024,8.3000317117795746,{"$f":" IF(Foglio1!$C$10 <> \"\", 8.314472*Foglio1!$C$10*Foglio2!F453, NA())","v":{"$error":"#N/A"}},{"$error":"#N/A"},4024,8.3000317117795746,{"$f":" IF(Foglio1!$C$11 <> \"\", 8.314472*Foglio1!$C$11*Foglio2!J453, NA())","v":{"$error":"#N/A"}},{"$error":"#N/A"},4024,8.3000317117795746,{"$f":" IF(Foglio1!$C$12 <> \"\", 8.314472*Foglio1!$C$12*Foglio2!N453, NA())","v":{"$error":"#N/A"}},{"$error":"#N/A"},4024,8.3000317117795746,{"$f":" IF(Foglio1!$C$13 <> \"\", 8.314472*Foglio1!$C$13*Foglio2!R453, NA())","v":{"$error":"#N/A"}},{"$error":"#N/A"}]
[4033,8.3022657948733674,{"$f":" IF(Foglio1!$C$9 <> \"\", 8.314472*Foglio1!$C$9*Foglio2!B454, NA())","v":{"$error":"#N/A"}},{"$error":"#N/A"},4033,8.3022657948733674,{"$f":" IF(Foglio1!$C$10 <> \"\", 8.314472*Foglio1!$C$10*Foglio2!F454, NA())","v":{"$error":"#N/A"}},{"$error":"#N/A"},4033,8.3022657948733674,{"$f":" IF(Foglio1!$C$11 <> \"\", 8.314472*Foglio1!$C$11*Foglio2!J454, NA())","v":{"$error":"#N/A"}},{"$error":"#N/A"},4033,8.3022657948733674,{"$f":" IF(Foglio1!$C$12 <> \"\", 8.314472*Foglio1!$C$12*Foglio2!N454, NA())","v":{"$error":"#N/A"}},{"$error":"#N/A"},4033,8.3022657948733674,{"$f":" IF(Foglio1!$C$13 <> \"\", 8.314472*Foglio1!$C$13*Foglio2!R454, NA())","v":{"$error":"#N/A"}},{"$error":"#N/A"}]
[4042,8.3044948979635667,{"$f":" IF(Foglio1!$C$9 <> \"\", 8.314472*Foglio1!$C$9*Foglio2!B455, NA())","v":{"$error":"#N/A"}},{"$error":"#N/A"},4042,8.3044948979635667,{"$f":" IF(Foglio1!$C$10 <> \"\", 8.314472*Foglio1!$C$10*Foglio2!F455, NA())","v":{"$error":"#N/A"}},{"$error":"#N/A"},4042,8.3044948979635667,{"$f":" IF(Foglio1!$C$11 <> \"\", 8.314472*Foglio1!$C$11*Foglio2!J455, NA())","v":{"$error":"#N/A"}},{"$error":"#N/A"},4042,8.3044948979635667,{"$f":" IF(Foglio1!$C$12 <> \"\", 8.314472*Foglio1!$C$12*Foglio2!N455, NA())","v":{"$error":"#N/A"}},{"$error":"#N/A"},4042,8.3044948979635667,{"$f":" IF(Foglio1!$C$13 <> \"\", 8.314472*Foglio1!$C$13*Foglio2!R455, NA())","v":{"$error":"#N/A"}},{"$error":"#N/A"}]
[4051,8.3067190432026905,{"$f":" IF(Foglio1!$C$9 <> \"\", 8.314472*Foglio1!$C$9*Foglio2!B456, NA())","v":{"$error":"#N/A"}},{"$error":"#N/A"},4051,8.3067190432026905,{"$f":" IF(Foglio1!$C$10 <> \"\", 8.314472*Foglio1!$C$10*Foglio2!F456, NA())","v":{"$error":"#N/A"}},{"$error":"#N/A"},4051,8.3067190432026905,{"$f":" IF(Foglio1!$C$11 <> \"\", 8.314472*Foglio1!$C$11*Foglio2!J456, NA())","v":{"$error":"#N/A"}},{"$error":"#N/A"},4051,8.3067190432026905,{"$f":" IF(Foglio1!$C$12 <> \"\", 8.314472*Foglio1!$C$12*Foglio2!N456, NA())","v":{"$error":"#N/A"}},{"$error":"#N/A"},4051,8.3067190432026905,{"$f":" IF(Foglio1!$C$13 <> \"\", 8.314472*Foglio1!$C$13*Foglio2!R456, NA())","v":{"$error":"#N/A"}},{"$error":"#N/A"}]
[4060,8.3089382525957785,{"$f":" IF(Foglio1!$C$9 <> \"\", 8.314472*Foglio1!$C$9*Foglio2!B457, NA())","v":{"$error":"#N/A"}},{"$error":"#N/A"},4060,8.3089382525957785,{"$f":" IF(Foglio1!$C$10 <> \"\", 8.314472*Foglio1!$C$10*Foglio2!F457, NA())","v":{"$error":"#N/A"}},{"$error":"#N/A"},4060,8.3089382525957785,{"$f":" IF(Foglio1!$C$11 <> \"\", 8.314472*Foglio1!$C$11*Foglio2!J457, NA())","v":{"$error":"#N/A"}},{"$error":"#N/A"},4060,8.3089382525957785,{"$f":" IF(Foglio1!$C$12 <> \"\", 8.314472*Foglio1!$C$12*Foglio2!N457, NA())","v":{"$error":"#N/A"}},{"$error":"#N/A"},4060,8.3089382525957785,{"$f":" IF(Foglio1!$C$13 <> \"\", 8.314472*Foglio1!$C$13*Foglio2!R457, NA())","v":{"$error":"#N/A"}},{"$error":"#N/A"}]
[4069,8.3111525480016901,{"$f":" IF(Foglio1!$C$9 <> \"\", 8.314472*Foglio1!$C$9*Foglio2!B458, NA())","v":{"$error":"#N/A"}},{"$error":"#N/A"},4069,8.3111525480016901,{"$f":" IF(Foglio1!$C$10 <> \"\", 8.314472*Foglio1!$C$10*Foglio2!F458, NA())","v":{"$error":"#N/A"}},{"$error":"#N/A"},4069,8.3111525480016901,{"$f":" IF(Foglio1!$C$11 <> \"\", 8.314472*Foglio1!$C$11*Foglio2!J458, NA())","v":{"$error":"#N/A"}},{"$error":"#N/A"},4069,8.3111525480016901,{"$f":" IF(Foglio1!$C$12 <> \"\", 8.314472*Foglio1!$C$12*Foglio2!N458, NA())","v":{"$error":"#N/A"}},{"$error":"#N/A"},4069,8.3111525480016901,{"$f":" IF(Foglio1!$C$13 <> \"\", 8.314472*Foglio1!$C$13*Foglio2!R458, NA())","v":{"$error":"#N/A"}},{"$error":"#N/A"}]
[4078,8.3133619511344001,{"$f":" IF(Foglio1!$C$9 <> \"\", 8.314472*Foglio1!$C$9*Foglio2!B459, NA())","v":{"$error":"#N/A"}},{"$error":"#N/A"},4078,8.3133619511344001,{"$f":" IF(Foglio1!$C$10 <> \"\", 8.314472*Foglio1!$C$10*Foglio2!F459, NA())","v":{"$error":"#N/A"}},{"$error":"#N/A"},4078,8.3133619511344001,{"$f":" IF(Foglio1!$C$11 <> \"\", 8.314472*Foglio1!$C$11*Foglio2!J459, NA())","v":{"$error":"#N/A"}},{"$error":"#N/A"},4078,8.3133619511344001,{"$f":" IF(Foglio1!$C$12 <> \"\", 8.314472*Foglio1!$C$12*Foglio2!N459, NA())","v":{"$error":"#N/A"}},{"$error":"#N/A"},4078,8.3133619511344001,{"$f":" IF(Foglio1!$C$13 <> \"\", 8.314472*Foglio1!$C$13*Foglio2!R459, NA())","v":{"$error":"#N/A"}},{"$error":"#N/A"}]
[4087,8.3155664835642771,{"$f":" IF(Foglio1!$C$9 <> \"\", 8.314472*Foglio1!$C$9*Foglio2!B460, NA())","v":{"$error":"#N/A"}},{"$error":"#N/A"},4087,8.3155664835642771,{"$f":" IF(Foglio1!$C$10 <> \"\", 8.314472*Foglio1!$C$10*Foglio2!F460, NA())","v":{"$error":"#N/A"}},{"$error":"#N/A"},4087,8.3155664835642771,{"$f":" IF(Foglio1!$C$11 <> \"\", 8.314472*Foglio1!$C$11*Foglio2!J460, NA())","v":{"$error":"#N/A"}},{"$error":"#N/A"},4087,8.3155664835642771,{"$f":" IF(Foglio1!$C$12 <> \"\", 8.314472*Foglio1!$C$12*Foglio2!N460, NA())","v":{"$error":"#N/A"}},{"$error":"#N/A"},4087,8.3155664835642771,{"$f":" IF(Foglio1!$C$13 <> \"\", 8.314472*Foglio1!$C$13*Foglio2!R460, NA())","v":{"$error":"#N/A"}},{"$error":"#N/A"}]
[4096,8.317766166719343,{"$f":" IF(Foglio1!$C$9 <> \"\", 8.314472*Foglio1!$C$9*Foglio2!B461, NA())","v":{"$error":"#N/A"}},{"$error":"#N/A"},4096,8.317766166719343,{"$f":" IF(Foglio1!$C$10 <> \"\", 8.314472*Foglio1!$C$10*Foglio2!F461, NA())","v":{"$error":"#N/A"}},{"$error":"#N/A"},4096,8.317766166719343,{"$f":" IF(Foglio1!$C$11 <> \"\", 8.314472*Foglio1!$C$11*Foglio2!J461, NA())","v":{"$error":"#N/A"}},{"$error":"#N/A"},4096,8.317766166719343,{"$f":" IF(Foglio1!$C$12 <> \"\", 8.314472*Foglio1!$C$12*Foglio2!N461, NA())","v":{"$error":"#N/A"}},{"$error":"#N/A"},4096,8.317766166719343,{"$f":" IF(Foglio1!$C$13 <> \"\", 8.314472*Foglio1!$C$13*Foglio2!R461, NA())","v":{"$error":"#N/A"}},{"$error":"#N/A"}]
[4105,8.3199610218865292,{"$f":" IF(Foglio1!$C$9 <> \"\", 8.314472*Foglio1!$C$9*Foglio2!B462, NA())","v":{"$error":"#N/A"}},{"$error":"#N/A"},4105,8.3199610218865292,{"$f":" IF(Foglio1!$C$10 <> \"\", 8.314472*Foglio1!$C$10*Foglio2!F462, NA())","v":{"$error":"#N/A"}},{"$error":"#N/A"},4105,8.3199610218865292,{"$f":" IF(Foglio1!$C$11 <> \"\", 8.314472*Foglio1!$C$11*Foglio2!J462, NA())","v":{"$error":"#N/A"}},{"$error":"#N/A"},4105,8.3199610218865292,{"$f":" IF(Foglio1!$C$12 <> \"\", 8.314472*Foglio1!$C$12*Foglio2!N462, NA())","v":{"$error":"#N/A"}},{"$error":"#N/A"},4105,8.3199610218865292,{"$f":" IF(Foglio1!$C$13 <> \"\", 8.314472*Foglio1!$C$13*Foglio2!R462, NA())","v":{"$error":"#N/A"}},{"$error":"#N/A"}]
[4114,8.322151070212902,{"$f":" IF(Foglio1!$C$9 <> \"\", 8.314472*Foglio1!$C$9*Foglio2!B463, NA())","v":{"$error":"#N/A"}},{"$error":"#N/A"},4114,8.322151070212902,{"$f":" IF(Foglio1!$C$10 <> \"\", 8.314472*Foglio1!$C$10*Foglio2!F463, NA())","v":{"$error":"#N/A"}},{"$error":"#N/A"},4114,8.322151070212902,{"$f":" IF(Foglio1!$C$11 <> \"\", 8.314472*Foglio1!$C$11*Foglio2!J463, NA())","v":{"$error":"#N/A"}},{"$error":"#N/A"},4114,8.322151070212902,{"$f":" IF(Foglio1!$C$12 <> \"\", 8.314472*Foglio1!$C$12*Foglio2!N463, NA())","v":{"$error":"#N/A"}},{"$error":"#N/A"},4114,8.322151070212902,{"$f":" IF(Foglio1!$C$13 <> \"\", 8.314472*Foglio1!$C$13*Foglio2!R463, NA())","v":{"$error":"#N/A"}},{"$error":"#N/A"}]
[4123,8.3243363327069009,{"$f":" IF(Foglio1!$C$9 <> \"\", 8.314472*Foglio1!$C$9*Foglio2!B464, NA())","v":{"$error":"#N/A"}},{"$error":"#N/A"},4123,8.3243363327069009,{"$f":" IF(Foglio1!$C$10 <> \"\", 8.314472*Foglio1!$C$10*Foglio2!F464, NA())","v":{"$error":"#N/A"}},{"$error":"#N/A"},4123,8.3243363327069009,{"$f":" IF(Foglio1!$C$11 <> \"\", 8.314472*Foglio1!$C$11*Foglio2!J464, NA())","v":{"$error":"#N/A"}},{"$error":"#N/A"},4123,8.3243363327069009,{"$f":" IF(Foglio1!$C$12 <> \"\", 8.314472*Foglio1!$C$12*Foglio2!N464, NA())","v":{"$error":"#N/A"}},{"$error":"#N/A"},4123,8.3243363327069009,{"$f":" IF(Foglio1!$C$13 <> \"\", 8.314472*Foglio1!$C$13*Foglio2!R464, NA())","v":{"$error":"#N/A"}},{"$error":"#N/A"}]
[4132,8.3265168302395285,{"$f":" IF(Foglio1!$C$9 <> \"\", 8.314472*Foglio1!$C$9*Foglio2!B465, NA())","v":{"$error":"#N/A"}},{"$error":"#N/A"},4132,8.3265168302395285,{"$f":" IF(Foglio1!$C$10 <> \"\", 8.314472*Foglio1!$C$10*Foglio2!F465, NA())","v":{"$error":"#N/A"}},{"$error":"#N/A"},4132,8.3265168302395285,{"$f":" IF(Foglio1!$C$11 <> \"\", 8.314472*Foglio1!$C$11*Foglio2!J465, NA())","v":{"$error":"#N/A"}},{"$error":"#N/A"},4132,8.3265168302395285,{"$f":" IF(Foglio1!$C$12 <> \"\", 8.314472*Foglio1!$C$12*Foglio2!N465, NA())","v":{"$error":"#N/A"}},{"$error":"#N/A"},4132,8.3265168302395285,{"$f":" IF(Foglio1!$C$13 <> \"\", 8.314472*Foglio1!$C$13*Foglio2!R465, NA())","v":{"$error":"#N/A"}},{"$error":"#N/A"}]
[4141,8.3286925835455676,{"$f":" IF(Foglio1!$C$9 <> \"\", 8.314472*Foglio1!$C$9*Foglio2!B466, NA())","v":{"$error":"#N/A"}},{"$error":"#N/A"},4141,8.3286925835455676,{"$f":" IF(Foglio1!$C$10 <> \"\", 8.314472*Foglio1!$C$10*Foglio2!F466, NA())","v":{"$error":"#N/A"}},{"$error":"#N/A"},4141,8.3286925835455676,{"$f":" IF(Foglio1!$C$11 <> \"\", 8.314472*Foglio1!$C$11*Foglio2!J466, NA())","v":{"$error":"#N/A"}},{"$error":"#N/A"},4141,8.3286925835455676,{"$f":" IF(Foglio1!$C$12 <> \"\", 8.314472*Foglio1!$C$12*Foglio2!N466, NA())","v":{"$error":"#N/A"}},{"$error":"#N/A"},4141,8.3286925835455676,{"$f":" IF(Foglio1!$C$13 <> \"\", 8.314472*Foglio1!$C$13*Foglio2!R466, NA())","v":{"$error":"#N/A"}},{"$error":"#N/A"}]
[4150,8.3308636132247447,{"$f":" IF(Foglio1!$C$9 <> \"\", 8.314472*Foglio1!$C$9*Foglio2!B467, NA())","v":{"$error":"#N/A"}},{"$error":"#N/A"},4150,8.3308636132247447,{"$f":" IF(Foglio1!$C$10 <> \"\", 8.314472*Foglio1!$C$10*Foglio2!F467, NA())","v":{"$error":"#N/A"}},{"$error":"#N/A"},4150,8.3308636132247447,{"$f":" IF(Foglio1!$C$11 <> \"\", 8.314472*Foglio1!$C$11*Foglio2!J467, NA())","v":{"$error":"#N/A"}},{"$error":"#N/A"},4150,8.3308636132247447,{"$f":" IF(Foglio1!$C$12 <> \"\", 8.314472*Foglio1!$C$12*Foglio2!N467, NA())","v":{"$error":"#N/A"}},{"$error":"#N/A"},4150,8.3308636132247447,{"$f":" IF(Foglio1!$C$13 <> \"\", 8.314472*Foglio1!$C$13*Foglio2!R467, NA())","v":{"$error":"#N/A"}},{"$error":"#N/A"}]
[4159,8.3330299397429108,{"$f":" IF(Foglio1!$C$9 <> \"\", 8.314472*Foglio1!$C$9*Foglio2!B468, NA())","v":{"$error":"#N/A"}},{"$error":"#N/A"},4159,8.3330299397429108,{"$f":" IF(Foglio1!$C$10 <> \"\", 8.314472*Foglio1!$C$10*Foglio2!F468, NA())","v":{"$error":"#N/A"}},{"$error":"#N/A"},4159,8.3330299397429108,{"$f":" IF(Foglio1!$C$11 <> \"\", 8.314472*Foglio1!$C$11*Foglio2!J468, NA())","v":{"$error":"#N/A"}},{"$error":"#N/A"},4159,8.3330299397429108,{"$f":" IF(Foglio1!$C$12 <> \"\", 8.314472*Foglio1!$C$12*Foglio2!N468, NA())","v":{"$error":"#N/A"}},{"$error":"#N/A"},4159,8.3330299397429108,{"$f":" IF(Foglio1!$C$13 <> \"\", 8.314472*Foglio1!$C$13*Foglio2!R468, NA())","v":{"$error":"#N/A"}},{"$error":"#N/A"}]
[4168,8.3351915834332022,{"$f":" IF(Foglio1!$C$9 <> \"\", 8.314472*Foglio1!$C$9*Foglio2!B469, NA())","v":{"$error":"#N/A"}},{"$error":"#N/A"},4168,8.3351915834332022,{"$f":" IF(Foglio1!$C$10 <> \"\", 8.314472*Foglio1!$C$10*Foglio2!F469, NA())","v":{"$error":"#N/A"}},{"$error":"#N/A"},4168,8.3351915834332022,{"$f":" IF(Foglio1!$C$11 <> \"\", 8.314472*Foglio1!$C$11*Foglio2!J469, NA())","v":{"$error":"#N/A"}},{"$error":"#N/A"},4168,8.3351915834332022,{"$f":" IF(Foglio1!$C$12 <> \"\", 8.314472*Foglio1!$C$12*Foglio2!N469, NA())","v":{"$error":"#N/A"}},{"$error":"#N/A"},4168,8.3351915834332022,{"$f":" IF(Foglio1!$C$13 <> \"\", 8.314472*Foglio1!$C$13*Foglio2!R469, NA())","v":{"$error":"#N/A"}},{"$error":"#N/A"}]
[4177,8.3373485644971748,{"$f":" IF(Foglio1!$C$9 <> \"\", 8.314472*Foglio1!$C$9*Foglio2!B470, NA())","v":{"$error":"#N/A"}},{"$error":"#N/A"},4177,8.3373485644971748,{"$f":" IF(Foglio1!$C$10 <> \"\", 8.314472*Foglio1!$C$10*Foglio2!F470, NA())","v":{"$error":"#N/A"}},{"$error":"#N/A"},4177,8.3373485644971748,{"$f":" IF(Foglio1!$C$11 <> \"\", 8.314472*Foglio1!$C$11*Foglio2!J470, NA())","v":{"$error":"#N/A"}},{"$error":"#N/A"},4177,8.3373485644971748,{"$f":" IF(Foglio1!$C$12 <> \"\", 8.314472*Foglio1!$C$12*Foglio2!N470, NA())","v":{"$error":"#N/A"}},{"$error":"#N/A"},4177,8.3373485644971748,{"$f":" IF(Foglio1!$C$13 <> \"\", 8.314472*Foglio1!$C$13*Foglio2!R470, NA())","v":{"$error":"#N/A"}},{"$error":"#N/A"}]
[4186,8.3395009030059448,{"$f":" IF(Foglio1!$C$9 <> \"\", 8.314472*Foglio1!$C$9*Foglio2!B471, NA())","v":{"$error":"#N/A"}},{"$error":"#N/A"},4186,8.3395009030059448,{"$f":" IF(Foglio1!$C$10 <> \"\", 8.314472*Foglio1!$C$10*Foglio2!F471, NA())","v":{"$error":"#N/A"}},{"$error":"#N/A"},4186,8.3395009030059448,{"$f":" IF(Foglio1!$C$11 <> \"\", 8.314472*Foglio1!$C$11*Foglio2!J471, NA())","v":{"$error":"#N/A"}},{"$error":"#N/A"},4186,8.3395009030059448,{"$f":" IF(Foglio1!$C$12 <> \"\", 8.314472*Foglio1!$C$12*Foglio2!N471, NA())","v":{"$error":"#N/A"}},{"$error":"#N/A"},4186,8.3395009030059448,{"$f":" IF(Foglio1!$C$13 <> \"\", 8.314472*Foglio1!$C$13*Foglio2!R471, NA())","v":{"$error":"#N/A"}},{"$error":"#N/A"}]
[4195,8.3416486189013064,{"$f":" IF(Foglio1!$C$9 <> \"\", 8.314472*Foglio1!$C$9*Foglio2!B472, NA())","v":{"$error":"#N/A"}},{"$error":"#N/A"},4195,8.3416486189013064,{"$f":" IF(Foglio1!$C$10 <> \"\", 8.314472*Foglio1!$C$10*Foglio2!F472, NA())","v":{"$error":"#N/A"}},{"$error":"#N/A"},4195,8.3416486189013064,{"$f":" IF(Foglio1!$C$11 <> \"\", 8.314472*Foglio1!$C$11*Foglio2!J472, NA())","v":{"$error":"#N/A"}},{"$error":"#N/A"},4195,8.3416486189013064,{"$f":" IF(Foglio1!$C$12 <> \"\", 8.314472*Foglio1!$C$12*Foglio2!N472, NA())","v":{"$error":"#N/A"}},{"$error":"#N/A"},4195,8.3416486189013064,{"$f":" IF(Foglio1!$C$13 <> \"\", 8.314472*Foglio1!$C$13*Foglio2!R472, NA())","v":{"$error":"#N/A"}},{"$error":"#N/A"}]
[4204,8.3437917319968413,{"$f":" IF(Foglio1!$C$9 <> \"\", 8.314472*Foglio1!$C$9*Foglio2!B473, NA())","v":{"$error":"#N/A"}},{"$error":"#N/A"},4204,8.3437917319968413,{"$f":" IF(Foglio1!$C$10 <> \"\", 8.314472*Foglio1!$C$10*Foglio2!F473, NA())","v":{"$error":"#N/A"}},{"$error":"#N/A"},4204,8.3437917319968413,{"$f":" IF(Foglio1!$C$11 <> \"\", 8.314472*Foglio1!$C$11*Foglio2!J473, NA())","v":{"$error":"#N/A"}},{"$error":"#N/A"},4204,8.3437917319968413,{"$f":" IF(Foglio1!$C$12 <> \"\", 8.314472*Foglio1!$C$12*Foglio2!N473, NA())","v":{"$error":"#N/A"}},{"$error":"#N/A"},4204,8.3437917319968413,{"$f":" IF(Foglio1!$C$13 <> \"\", 8.314472*Foglio1!$C$13*Foglio2!R473, NA())","v":{"$error":"#N/A"}},{"$error":"#N/A"}]
[4213,8.3459302619790172,{"$f":" IF(Foglio1!$C$9 <> \"\", 8.314472*Foglio1!$C$9*Foglio2!B474, NA())","v":{"$error":"#N/A"}},{"$error":"#N/A"},4213,8.3459302619790172,{"$f":" IF(Foglio1!$C$10 <> \"\", 8.314472*Foglio1!$C$10*Foglio2!F474, NA())","v":{"$error":"#N/A"}},{"$error":"#N/A"},4213,8.3459302619790172,{"$f":" IF(Foglio1!$C$11 <> \"\", 8.314472*Foglio1!$C$11*Foglio2!J474, NA())","v":{"$error":"#N/A"}},{"$error":"#N/A"},4213,8.3459302619790172,{"$f":" IF(Foglio1!$C$12 <> \"\", 8.314472*Foglio1!$C$12*Foglio2!N474, NA())","v":{"$error":"#N/A"}},{"$error":"#N/A"},4213,8.3459302619790172,{"$f":" IF(Foglio1!$C$13 <> \"\", 8.314472*Foglio1!$C$13*Foglio2!R474, NA())","v":{"$error":"#N/A"}},{"$error":"#N/A"}]
[4222,8.3480642284082656,{"$f":" IF(Foglio1!$C$9 <> \"\", 8.314472*Foglio1!$C$9*Foglio2!B475, NA())","v":{"$error":"#N/A"}},{"$error":"#N/A"},4222,8.3480642284082656,{"$f":" IF(Foglio1!$C$10 <> \"\", 8.314472*Foglio1!$C$10*Foglio2!F475, NA())","v":{"$error":"#N/A"}},{"$error":"#N/A"},4222,8.3480642284082656,{"$f":" IF(Foglio1!$C$11 <> \"\", 8.314472*Foglio1!$C$11*Foglio2!J475, NA())","v":{"$error":"#N/A"}},{"$error":"#N/A"},4222,8.3480642284082656,{"$f":" IF(Foglio1!$C$12 <> \"\", 8.314472*Foglio1!$C$12*Foglio2!N475, NA())","v":{"$error":"#N/A"}},{"$error":"#N/A"},4222,8.3480642284082656,{"$f":" IF(Foglio1!$C$13 <> \"\", 8.314472*Foglio1!$C$13*Foglio2!R475, NA())","v":{"$error":"#N/A"}},{"$error":"#N/A"}]
[4231,8.3501936507200671,{"$f":" IF(Foglio1!$C$9 <> \"\", 8.314472*Foglio1!$C$9*Foglio2!B476, NA())","v":{"$error":"#N/A"}},{"$error":"#N/A"},4231,8.3501936507200671,{"$f":" IF(Foglio1!$C$10 <> \"\", 8.314472*Foglio1!$C$10*Foglio2!F476, NA())","v":{"$error":"#N/A"}},{"$error":"#N/A"},4231,8.3501936507200671,{"$f":" IF(Foglio1!$C$11 <> \"\", 8.314472*Foglio1!$C$11*Foglio2!J476, NA())","v":{"$error":"#N/A"}},{"$error":"#N/A"},4231,8.3501936507200671,{"$f":" IF(Foglio1!$C$12 <> \"\", 8.314472*Foglio1!$C$12*Foglio2!N476, NA())","v":{"$error":"#N/A"}},{"$error":"#N/A"},4231,8.3501936507200671,{"$f":" IF(Foglio1!$C$13 <> \"\", 8.314472*Foglio1!$C$13*Foglio2!R476, NA())","v":{"$error":"#N/A"}},{"$error":"#N/A"}]
[4240,8.3523185482260036,{"$f":" IF(Foglio1!$C$9 <> \"\", 8.314472*Foglio1!$C$9*Foglio2!B477, NA())","v":{"$error":"#N/A"}},{"$error":"#N/A"},4240,8.3523185482260036,{"$f":" IF(Foglio1!$C$10 <> \"\", 8.314472*Foglio1!$C$10*Foglio2!F477, NA())","v":{"$error":"#N/A"}},{"$error":"#N/A"},4240,8.3523185482260036,{"$f":" IF(Foglio1!$C$11 <> \"\", 8.314472*Foglio1!$C$11*Foglio2!J477, NA())","v":{"$error":"#N/A"}},{"$error":"#N/A"},4240,8.3523185482260036,{"$f":" IF(Foglio1!$C$12 <> \"\", 8.314472*Foglio1!$C$12*Foglio2!N477, NA())","v":{"$error":"#N/A"}},{"$error":"#N/A"},4240,8.3523185482260036,{"$f":" IF(Foglio1!$C$13 <> \"\", 8.314472*Foglio1!$C$13*Foglio2!R477, NA())","v":{"$error":"#N/A"}},{"$error":"#N/A"}]
[4249,8.3544389401148109,{"$f":" IF(Foglio1!$C$9 <> \"\", 8.314472*Foglio1!$C$9*Foglio2!B478, NA())","v":{"$error":"#N/A"}},{"$error":"#N/A"},4249,8.3544389401148109,{"$f":" IF(Foglio1!$C$10 <> \"\", 8.314472*Foglio1!$C$10*Foglio2!F478, NA())","v":{"$error":"#N/A"}},{"$error":"#N/A"},4249,8.3544389401148109,{"$f":" IF(Foglio1!$C$11 <> \"\", 8.314472*Foglio1!$C$11*Foglio2!J478, NA())","v":{"$error":"#N/A"}},{"$error":"#N/A"},4249,8.3544389401148109,{"$f":" IF(Foglio1!$C$12 <> \"\", 8.314472*Foglio1!$C$12*Foglio2!N478, NA())","v":{"$error":"#N/A"}},{"$error":"#N/A"},4249,8.3544389401148109,{"$f":" IF(Foglio1!$C$13 <> \"\", 8.314472*Foglio1!$C$13*Foglio2!R478, NA())","v":{"$error":"#N/A"}},{"$error":"#N/A"}]
[4258,8.3565548454534255,{"$f":" IF(Foglio1!$C$9 <> \"\", 8.314472*Foglio1!$C$9*Foglio2!B479, NA())","v":{"$error":"#N/A"}},{"$error":"#N/A"},4258,8.3565548454534255,{"$f":" IF(Foglio1!$C$10 <> \"\", 8.314472*Foglio1!$C$10*Foglio2!F479, NA())","v":{"$error":"#N/A"}},{"$error":"#N/A"},4258,8.3565548454534255,{"$f":" IF(Foglio1!$C$11 <> \"\", 8.314472*Foglio1!$C$11*Foglio2!J479, NA())","v":{"$error":"#N/A"}},{"$error":"#N/A"},4258,8.3565548454534255,{"$f":" IF(Foglio1!$C$12 <> \"\", 8.314472*Foglio1!$C$12*Foglio2!N479, NA())","v":{"$error":"#N/A"}},{"$error":"#N/A"},4258,8.3565548454534255,{"$f":" IF(Foglio1!$C$13 <> \"\", 8.314472*Foglio1!$C$13*Foglio2!R479, NA())","v":{"$error":"#N/A"}},{"$error":"#N/A"}]
[4267,8.3586662831880005,{"$f":" IF(Foglio1!$C$9 <> \"\", 8.314472*Foglio1!$C$9*Foglio2!B480, NA())","v":{"$error":"#N/A"}},{"$error":"#N/A"},4267,8.3586662831880005,{"$f":" IF(Foglio1!$C$10 <> \"\", 8.314472*Foglio1!$C$10*Foglio2!F480, NA())","v":{"$error":"#N/A"}},{"$error":"#N/A"},4267,8.3586662831880005,{"$f":" IF(Foglio1!$C$11 <> \"\", 8.314472*Foglio1!$C$11*Foglio2!J480, NA())","v":{"$error":"#N/A"}},{"$error":"#N/A"},4267,8.3586662831880005,{"$f":" IF(Foglio1!$C$12 <> \"\", 8.314472*Foglio1!$C$12*Foglio2!N480, NA())","v":{"$error":"#N/A"}},{"$error":"#N/A"},4267,8.3586662831880005,{"$f":" IF(Foglio1!$C$13 <> \"\", 8.314472*Foglio1!$C$13*Foglio2!R480, NA())","v":{"$error":"#N/A"}},{"$error":"#N/A"}]
[4276,8.3607732721449359,{"$f":" IF(Foglio1!$C$9 <> \"\", 8.314472*Foglio1!$C$9*Foglio2!B481, NA())","v":{"$error":"#N/A"}},{"$error":"#N/A"},4276,8.3607732721449359,{"$f":" IF(Foglio1!$C$10 <> \"\", 8.314472*Foglio1!$C$10*Foglio2!F481, NA())","v":{"$error":"#N/A"}},{"$error":"#N/A"},4276,8.3607732721449359,{"$f":" IF(Foglio1!$C$11 <> \"\", 8.314472*Foglio1!$C$11*Foglio2!J481, NA())","v":{"$error":"#N/A"}},{"$error":"#N/A"},4276,8.3607732721449359,{"$f":" IF(Foglio1!$C$12 <> \"\", 8.314472*Foglio1!$C$12*Foglio2!N481, NA())","v":{"$error":"#N/A"}},{"$error":"#N/A"},4276,8.3607732721449359,{"$f":" IF(Foglio1!$C$13 <> \"\", 8.314472*Foglio1!$C$13*Foglio2!R481, NA())","v":{"$error":"#N/A"}},{"$error":"#N/A"}]
[4285,8.3628758310318805,{"$f":" IF(Foglio1!$C$9 <> \"\", 8.314472*Foglio1!$C$9*Foglio2!B482, NA())","v":{"$error":"#N/A"}},{"$error":"#N/A"},4285,8.3628758310318805,{"$f":" IF(Foglio1!$C$10 <> \"\", 8.314472*Foglio1!$C$10*Foglio2!F482, NA())","v":{"$error":"#N/A"}},{"$error":"#N/A"},4285,8.3628758310318805,{"$f":" IF(Foglio1!$C$11 <> \"\", 8.314472*Foglio1!$C$11*Foglio2!J482, NA())","v":{"$error":"#N/A"}},{"$error":"#N/A"},4285,8.3628758310318805,{"$f":" IF(Foglio1!$C$12 <> \"\", 8.314472*Foglio1!$C$12*Foglio2!N482, NA())","v":{"$error":"#N/A"}},{"$error":"#N/A"},4285,8.3628758310318805,{"$f":" IF(Foglio1!$C$13 <> \"\", 8.314472*Foglio1!$C$13*Foglio2!R482, NA())","v":{"$error":"#N/A"}},{"$error":"#N/A"}]
[4294,8.3649739784387265,{"$f":" IF(Foglio1!$C$9 <> \"\", 8.314472*Foglio1!$C$9*Foglio2!B483, NA())","v":{"$error":"#N/A"}},{"$error":"#N/A"},4294,8.3649739784387265,{"$f":" IF(Foglio1!$C$10 <> \"\", 8.314472*Foglio1!$C$10*Foglio2!F483, NA())","v":{"$error":"#N/A"}},{"$error":"#N/A"},4294,8.3649739784387265,{"$f":" IF(Foglio1!$C$11 <> \"\", 8.314472*Foglio1!$C$11*Foglio2!J483, NA())","v":{"$error":"#N/A"}},{"$error":"#N/A"},4294,8.3649739784387265,{"$f":" IF(Foglio1!$C$12 <> \"\", 8.314472*Foglio1!$C$12*Foglio2!N483, NA())","v":{"$error":"#N/A"}},{"$error":"#N/A"},4294,8.3649739784387265,{"$f":" IF(Foglio1!$C$13 <> \"\", 8.314472*Foglio1!$C$13*Foglio2!R483, NA())","v":{"$error":"#N/A"}},{"$error":"#N/A"}]
[4303,8.3670677328385992,{"$f":" IF(Foglio1!$C$9 <> \"\", 8.314472*Foglio1!$C$9*Foglio2!B484, NA())","v":{"$error":"#N/A"}},{"$error":"#N/A"},4303,8.3670677328385992,{"$f":" IF(Foglio1!$C$10 <> \"\", 8.314472*Foglio1!$C$10*Foglio2!F484, NA())","v":{"$error":"#N/A"}},{"$error":"#N/A"},4303,8.3670677328385992,{"$f":" IF(Foglio1!$C$11 <> \"\", 8.314472*Foglio1!$C$11*Foglio2!J484, NA())","v":{"$error":"#N/A"}},{"$error":"#N/A"},4303,8.3670677328385992,{"$f":" IF(Foglio1!$C$12 <> \"\", 8.314472*Foglio1!$C$12*Foglio2!N484, NA())","v":{"$error":"#N/A"}},{"$error":"#N/A"},4303,8.3670677328385992,{"$f":" IF(Foglio1!$C$13 <> \"\", 8.314472*Foglio1!$C$13*Foglio2!R484, NA())","v":{"$error":"#N/A"}},{"$error":"#N/A"}]
[4312,8.3691571125888338,{"$f":" IF(Foglio1!$C$9 <> \"\", 8.314472*Foglio1!$C$9*Foglio2!B485, NA())","v":{"$error":"#N/A"}},{"$error":"#N/A"},4312,8.3691571125888338,{"$f":" IF(Foglio1!$C$10 <> \"\", 8.314472*Foglio1!$C$10*Foglio2!F485, NA())","v":{"$error":"#N/A"}},{"$error":"#N/A"},4312,8.3691571125888338,{"$f":" IF(Foglio1!$C$11 <> \"\", 8.314472*Foglio1!$C$11*Foglio2!J485, NA())","v":{"$error":"#N/A"}},{"$error":"#N/A"},4312,8.3691571125888338,{"$f":" IF(Foglio1!$C$12 <> \"\", 8.314472*Foglio1!$C$12*Foglio2!N485, NA())","v":{"$error":"#N/A"}},{"$error":"#N/A"},4312,8.3691571125888338,{"$f":" IF(Foglio1!$C$13 <> \"\", 8.314472*Foglio1!$C$13*Foglio2!R485, NA())","v":{"$error":"#N/A"}},{"$error":"#N/A"}]
[4321,8.3712421359319329,{"$f":" IF(Foglio1!$C$9 <> \"\", 8.314472*Foglio1!$C$9*Foglio2!B486, NA())","v":{"$error":"#N/A"}},{"$error":"#N/A"},4321,8.3712421359319329,{"$f":" IF(Foglio1!$C$10 <> \"\", 8.314472*Foglio1!$C$10*Foglio2!F486, NA())","v":{"$error":"#N/A"}},{"$error":"#N/A"},4321,8.3712421359319329,{"$f":" IF(Foglio1!$C$11 <> \"\", 8.314472*Foglio1!$C$11*Foglio2!J486, NA())","v":{"$error":"#N/A"}},{"$error":"#N/A"},4321,8.3712421359319329,{"$f":" IF(Foglio1!$C$12 <> \"\", 8.314472*Foglio1!$C$12*Foglio2!N486, NA())","v":{"$error":"#N/A"}},{"$error":"#N/A"},4321,8.3712421359319329,{"$f":" IF(Foglio1!$C$13 <> \"\", 8.314472*Foglio1!$C$13*Foglio2!R486, NA())","v":{"$error":"#N/A"}},{"$error":"#N/A"}]
[4330,8.3733228209965347,{"$f":" IF(Foglio1!$C$9 <> \"\", 8.314472*Foglio1!$C$9*Foglio2!B487, NA())","v":{"$error":"#N/A"}},{"$error":"#N/A"},4330,8.3733228209965347,{"$f":" IF(Foglio1!$C$10 <> \"\", 8.314472*Foglio1!$C$10*Foglio2!F487, NA())","v":{"$error":"#N/A"}},{"$error":"#N/A"},4330,8.3733228209965347,{"$f":" IF(Foglio1!$C$11 <> \"\", 8.314472*Foglio1!$C$11*Foglio2!J487, NA())","v":{"$error":"#N/A"}},{"$error":"#N/A"},4330,8.3733228209965347,{"$f":" IF(Foglio1!$C$12 <> \"\", 8.314472*Foglio1!$C$12*Foglio2!N487, NA())","v":{"$error":"#N/A"}},{"$error":"#N/A"},4330,8.3733228209965347,{"$f":" IF(Foglio1!$C$13 <> \"\", 8.314472*Foglio1!$C$13*Foglio2!R487, NA())","v":{"$error":"#N/A"}},{"$error":"#N/A"}]
[4339,8.3753991857983507,{"$f":" IF(Foglio1!$C$9 <> \"\", 8.314472*Foglio1!$C$9*Foglio2!B488, NA())","v":{"$error":"#N/A"}},{"$error":"#N/A"},4339,8.3753991857983507,{"$f":" IF(Foglio1!$C$10 <> \"\", 8.314472*Foglio1!$C$10*Foglio2!F488, NA())","v":{"$error":"#N/A"}},{"$error":"#N/A"},4339,8.3753991857983507,{"$f":" IF(Foglio1!$C$11 <> \"\", 8.314472*Foglio1!$C$11*Foglio2!J488, NA())","v":{"$error":"#N/A"}},{"$error":"#N/A"},4339,8.3753991857983507,{"$f":" IF(Foglio1!$C$12 <> \"\", 8.314472*Foglio1!$C$12*Foglio2!N488, NA())","v":{"$error":"#N/A"}},{"$error":"#N/A"},4339,8.3753991857983507,{"$f":" IF(Foglio1!$C$13 <> \"\", 8.314472*Foglio1!$C$13*Foglio2!R488, NA())","v":{"$error":"#N/A"}},{"$error":"#N/A"}]
[4348,8.3774712482411005,{"$f":" IF(Foglio1!$C$9 <> \"\", 8.314472*Foglio1!$C$9*Foglio2!B489, NA())","v":{"$error":"#N/A"}},{"$error":"#N/A"},4348,8.3774712482411005,{"$f":" IF(Foglio1!$C$10 <> \"\", 8.314472*Foglio1!$C$10*Foglio2!F489, NA())","v":{"$error":"#N/A"}},{"$error":"#N/A"},4348,8.3774712482411005,{"$f":" IF(Foglio1!$C$11 <> \"\", 8.314472*Foglio1!$C$11*Foglio2!J489, NA())","v":{"$error":"#N/A"}},{"$error":"#N/A"},4348,8.3774712482411005,{"$f":" IF(Foglio1!$C$12 <> \"\", 8.314472*Foglio1!$C$12*Foglio2!N489, NA())","v":{"$error":"#N/A"}},{"$error":"#N/A"},4348,8.3774712482411005,{"$f":" IF(Foglio1!$C$13 <> \"\", 8.314472*Foglio1!$C$13*Foglio2!R489, NA())","v":{"$error":"#N/A"}},{"$error":"#N/A"}]
[4357,8.3795390261174418,{"$f":" IF(Foglio1!$C$9 <> \"\", 8.314472*Foglio1!$C$9*Foglio2!B490, NA())","v":{"$error":"#N/A"}},{"$error":"#N/A"},4357,8.3795390261174418,{"$f":" IF(Foglio1!$C$10 <> \"\", 8.314472*Foglio1!$C$10*Foglio2!F490, NA())","v":{"$error":"#N/A"}},{"$error":"#N/A"},4357,8.3795390261174418,{"$f":" IF(Foglio1!$C$11 <> \"\", 8.314472*Foglio1!$C$11*Foglio2!J490, NA())","v":{"$error":"#N/A"}},{"$error":"#N/A"},4357,8.3795390261174418,{"$f":" IF(Foglio1!$C$12 <> \"\", 8.314472*Foglio1!$C$12*Foglio2!N490, NA())","v":{"$error":"#N/A"}},{"$error":"#N/A"},4357,8.3795390261174418,{"$f":" IF(Foglio1!$C$13 <> \"\", 8.314472*Foglio1!$C$13*Foglio2!R490, NA())","v":{"$error":"#N/A"}},{"$error":"#N/A"}]
[4366,8.3816025371098899,{"$f":" IF(Foglio1!$C$9 <> \"\", 8.314472*Foglio1!$C$9*Foglio2!B491, NA())","v":{"$error":"#N/A"}},{"$error":"#N/A"},4366,8.3816025371098899,{"$f":" IF(Foglio1!$C$10 <> \"\", 8.314472*Foglio1!$C$10*Foglio2!F491, NA())","v":{"$error":"#N/A"}},{"$error":"#N/A"},4366,8.3816025371098899,{"$f":" IF(Foglio1!$C$11 <> \"\", 8.314472*Foglio1!$C$11*Foglio2!J491, NA())","v":{"$error":"#N/A"}},{"$error":"#N/A"},4366,8.3816025371098899,{"$f":" IF(Foglio1!$C$12 <> \"\", 8.314472*Foglio1!$C$12*Foglio2!N491, NA())","v":{"$error":"#N/A"}},{"$error":"#N/A"},4366,8.3816025371098899,{"$f":" IF(Foglio1!$C$13 <> \"\", 8.314472*Foglio1!$C$13*Foglio2!R491, NA())","v":{"$error":"#N/A"}},{"$error":"#N/A"}]
[4375,8.3836617987917155,{"$f":" IF(Foglio1!$C$9 <> \"\", 8.314472*Foglio1!$C$9*Foglio2!B492, NA())","v":{"$error":"#N/A"}},{"$error":"#N/A"},4375,8.3836617987917155,{"$f":" IF(Foglio1!$C$10 <> \"\", 8.314472*Foglio1!$C$10*Foglio2!F492, NA())","v":{"$error":"#N/A"}},{"$error":"#N/A"},4375,8.3836617987917155,{"$f":" IF(Foglio1!$C$11 <> \"\", 8.314472*Foglio1!$C$11*Foglio2!J492, NA())","v":{"$error":"#N/A"}},{"$error":"#N/A"},4375,8.3836617987917155,{"$f":" IF(Foglio1!$C$12 <> \"\", 8.314472*Foglio1!$C$12*Foglio2!N492, NA())","v":{"$error":"#N/A"}},{"$error":"#N/A"},4375,8.3836617987917155,{"$f":" IF(Foglio1!$C$13 <> \"\", 8.314472*Foglio1!$C$13*Foglio2!R492, NA())","v":{"$error":"#N/A"}},{"$error":"#N/A"}]
[4384,8.3857168286278512,{"$f":" IF(Foglio1!$C$9 <> \"\", 8.314472*Foglio1!$C$9*Foglio2!B493, NA())","v":{"$error":"#N/A"}},{"$error":"#N/A"},4384,8.3857168286278512,{"$f":" IF(Foglio1!$C$10 <> \"\", 8.314472*Foglio1!$C$10*Foglio2!F493, NA())","v":{"$error":"#N/A"}},{"$error":"#N/A"},4384,8.3857168286278512,{"$f":" IF(Foglio1!$C$11 <> \"\", 8.314472*Foglio1!$C$11*Foglio2!J493, NA())","v":{"$error":"#N/A"}},{"$error":"#N/A"},4384,8.3857168286278512,{"$f":" IF(Foglio1!$C$12 <> \"\", 8.314472*Foglio1!$C$12*Foglio2!N493, NA())","v":{"$error":"#N/A"}},{"$error":"#N/A"},4384,8.3857168286278512,{"$f":" IF(Foglio1!$C$13 <> \"\", 8.314472*Foglio1!$C$13*Foglio2!R493, NA())","v":{"$error":"#N/A"}},{"$error":"#N/A"}]
[4393,8.3877676439757796,{"$f":" IF(Foglio1!$C$9 <> \"\", 8.314472*Foglio1!$C$9*Foglio2!B494, NA())","v":{"$error":"#N/A"}},{"$error":"#N/A"},4393,8.3877676439757796,{"$f":" IF(Foglio1!$C$10 <> \"\", 8.314472*Foglio1!$C$10*Foglio2!F494, NA())","v":{"$error":"#N/A"}},{"$error":"#N/A"},4393,8.3877676439757796,{"$f":" IF(Foglio1!$C$11 <> \"\", 8.314472*Foglio1!$C$11*Foglio2!J494, NA())","v":{"$error":"#N/A"}},{"$error":"#N/A"},4393,8.3877676439757796,{"$f":" IF(Foglio1!$C$12 <> \"\", 8.314472*Foglio1!$C$12*Foglio2!N494, NA())","v":{"$error":"#N/A"}},{"$error":"#N/A"},4393,8.3877676439757796,{"$f":" IF(Foglio1!$C$13 <> \"\", 8.314472*Foglio1!$C$13*Foglio2!R494, NA())","v":{"$error":"#N/A"}},{"$error":"#N/A"}]
[4402,8.3898142620864071,{"$f":" IF(Foglio1!$C$9 <> \"\", 8.314472*Foglio1!$C$9*Foglio2!B495, NA())","v":{"$error":"#N/A"}},{"$error":"#N/A"},4402,8.3898142620864071,{"$f":" IF(Foglio1!$C$10 <> \"\", 8.314472*Foglio1!$C$10*Foglio2!F495, NA())","v":{"$error":"#N/A"}},{"$error":"#N/A"},4402,8.3898142620864071,{"$f":" IF(Foglio1!$C$11 <> \"\", 8.314472*Foglio1!$C$11*Foglio2!J495, NA())","v":{"$error":"#N/A"}},{"$error":"#N/A"},4402,8.3898142620864071,{"$f":" IF(Foglio1!$C$12 <> \"\", 8.314472*Foglio1!$C$12*Foglio2!N495, NA())","v":{"$error":"#N/A"}},{"$error":"#N/A"},4402,8.3898142620864071,{"$f":" IF(Foglio1!$C$13 <> \"\", 8.314472*Foglio1!$C$13*Foglio2!R495, NA())","v":{"$error":"#N/A"}},{"$error":"#N/A"}]
[4411,8.39185670010494,{"$f":" IF(Foglio1!$C$9 <> \"\", 8.314472*Foglio1!$C$9*Foglio2!B496, NA())","v":{"$error":"#N/A"}},{"$error":"#N/A"},4411,8.39185670010494,{"$f":" IF(Foglio1!$C$10 <> \"\", 8.314472*Foglio1!$C$10*Foglio2!F496, NA())","v":{"$error":"#N/A"}},{"$error":"#N/A"},4411,8.39185670010494,{"$f":" IF(Foglio1!$C$11 <> \"\", 8.314472*Foglio1!$C$11*Foglio2!J496, NA())","v":{"$error":"#N/A"}},{"$error":"#N/A"},4411,8.39185670010494,{"$f":" IF(Foglio1!$C$12 <> \"\", 8.314472*Foglio1!$C$12*Foglio2!N496, NA())","v":{"$error":"#N/A"}},{"$error":"#N/A"},4411,8.39185670010494,{"$f":" IF(Foglio1!$C$13 <> \"\", 8.314472*Foglio1!$C$13*Foglio2!R496, NA())","v":{"$error":"#N/A"}},{"$error":"#N/A"}]
[4420,8.3938949750717438,{"$f":" IF(Foglio1!$C$9 <> \"\", 8.314472*Foglio1!$C$9*Foglio2!B497, NA())","v":{"$error":"#N/A"}},{"$error":"#N/A"},4420,8.3938949750717438,{"$f":" IF(Foglio1!$C$10 <> \"\", 8.314472*Foglio1!$C$10*Foglio2!F497, NA())","v":{"$error":"#N/A"}},{"$error":"#N/A"},4420,8.3938949750717438,{"$f":" IF(Foglio1!$C$11 <> \"\", 8.314472*Foglio1!$C$11*Foglio2!J497, NA())","v":{"$error":"#N/A"}},{"$error":"#N/A"},4420,8.3938949750717438,{"$f":" IF(Foglio1!$C$12 <> \"\", 8.314472*Foglio1!$C$12*Foglio2!N497, NA())","v":{"$error":"#N/A"}},{"$error":"#N/A"},4420,8.3938949750717438,{"$f":" IF(Foglio1!$C$13 <> \"\", 8.314472*Foglio1!$C$13*Foglio2!R497, NA())","v":{"$error":"#N/A"}},{"$error":"#N/A"}]
[4429,8.3959291039231978,{"$f":" IF(Foglio1!$C$9 <> \"\", 8.314472*Foglio1!$C$9*Foglio2!B498, NA())","v":{"$error":"#N/A"}},{"$error":"#N/A"},4429,8.3959291039231978,{"$f":" IF(Foglio1!$C$10 <> \"\", 8.314472*Foglio1!$C$10*Foglio2!F498, NA())","v":{"$error":"#N/A"}},{"$error":"#N/A"},4429,8.3959291039231978,{"$f":" IF(Foglio1!$C$11 <> \"\", 8.314472*Foglio1!$C$11*Foglio2!J498, NA())","v":{"$error":"#N/A"}},{"$error":"#N/A"},4429,8.3959291039231978,{"$f":" IF(Foglio1!$C$12 <> \"\", 8.314472*Foglio1!$C$12*Foglio2!N498, NA())","v":{"$error":"#N/A"}},{"$error":"#N/A"},4429,8.3959291039231978,{"$f":" IF(Foglio1!$C$13 <> \"\", 8.314472*Foglio1!$C$13*Foglio2!R498, NA())","v":{"$error":"#N/A"}},{"$error":"#N/A"}]
[4438,8.3979591034925392,{"$f":" IF(Foglio1!$C$9 <> \"\", 8.314472*Foglio1!$C$9*Foglio2!B499, NA())","v":{"$error":"#N/A"}},{"$error":"#N/A"},4438,8.3979591034925392,{"$f":" IF(Foglio1!$C$10 <> \"\", 8.314472*Foglio1!$C$10*Foglio2!F499, NA())","v":{"$error":"#N/A"}},{"$error":"#N/A"},4438,8.3979591034925392,{"$f":" IF(Foglio1!$C$11 <> \"\", 8.314472*Foglio1!$C$11*Foglio2!J499, NA())","v":{"$error":"#N/A"}},{"$error":"#N/A"},4438,8.3979591034925392,{"$f":" IF(Foglio1!$C$12 <> \"\", 8.314472*Foglio1!$C$12*Foglio2!N499, NA())","v":{"$error":"#N/A"}},{"$error":"#N/A"},4438,8.3979591034925392,{"$f":" IF(Foglio1!$C$13 <> \"\", 8.314472*Foglio1!$C$13*Foglio2!R499, NA())","v":{"$error":"#N/A"}},{"$error":"#N/A"}]
[4447,8.3999849905106956,{"$f":" IF(Foglio1!$C$9 <> \"\", 8.314472*Foglio1!$C$9*Foglio2!B500, NA())","v":{"$error":"#N/A"}},{"$error":"#N/A"},4447,8.3999849905106956,{"$f":" IF(Foglio1!$C$10 <> \"\", 8.314472*Foglio1!$C$10*Foglio2!F500, NA())","v":{"$error":"#N/A"}},{"$error":"#N/A"},4447,8.3999849905106956,{"$f":" IF(Foglio1!$C$11 <> \"\", 8.314472*Foglio1!$C$11*Foglio2!J500, NA())","v":{"$error":"#N/A"}},{"$error":"#N/A"},4447,8.3999849905106956,{"$f":" IF(Foglio1!$C$12 <> \"\", 8.314472*Foglio1!$C$12*Foglio2!N500, NA())","v":{"$error":"#N/A"}},{"$error":"#N/A"},4447,8.3999849905106956,{"$f":" IF(Foglio1!$C$13 <> \"\", 8.314472*Foglio1!$C$13*Foglio2!R500, NA())","v":{"$error":"#N/A"}},{"$error":"#N/A"}]
[4456,8.4020067816071204,{"$f":" IF(Foglio1!$C$9 <> \"\", 8.314472*Foglio1!$C$9*Foglio2!B501, NA())","v":{"$error":"#N/A"}},{"$error":"#N/A"},4456,8.4020067816071204,{"$f":" IF(Foglio1!$C$10 <> \"\", 8.314472*Foglio1!$C$10*Foglio2!F501, NA())","v":{"$error":"#N/A"}},{"$error":"#N/A"},4456,8.4020067816071204,{"$f":" IF(Foglio1!$C$11 <> \"\", 8.314472*Foglio1!$C$11*Foglio2!J501, NA())","v":{"$error":"#N/A"}},{"$error":"#N/A"},4456,8.4020067816071204,{"$f":" IF(Foglio1!$C$12 <> \"\", 8.314472*Foglio1!$C$12*Foglio2!N501, NA())","v":{"$error":"#N/A"}},{"$error":"#N/A"},4456,8.4020067816071204,{"$f":" IF(Foglio1!$C$13 <> \"\", 8.314472*Foglio1!$C$13*Foglio2!R501, NA())","v":{"$error":"#N/A"}},{"$error":"#N/A"}]
[4465,8.4040244933105992,{"$f":" IF(Foglio1!$C$9 <> \"\", 8.314472*Foglio1!$C$9*Foglio2!B502, NA())","v":{"$error":"#N/A"}},{"$error":"#N/A"},4465,8.4040244933105992,{"$f":" IF(Foglio1!$C$10 <> \"\", 8.314472*Foglio1!$C$10*Foglio2!F502, NA())","v":{"$error":"#N/A"}},{"$error":"#N/A"},4465,8.4040244933105992,{"$f":" IF(Foglio1!$C$11 <> \"\", 8.314472*Foglio1!$C$11*Foglio2!J502, NA())","v":{"$error":"#N/A"}},{"$error":"#N/A"},4465,8.4040244933105992,{"$f":" IF(Foglio1!$C$12 <> \"\", 8.314472*Foglio1!$C$12*Foglio2!N502, NA())","v":{"$error":"#N/A"}},{"$error":"#N/A"},4465,8.4040244933105992,{"$f":" IF(Foglio1!$C$13 <> \"\", 8.314472*Foglio1!$C$13*Foglio2!R502, NA())","v":{"$error":"#N/A"}},{"$error":"#N/A"}]
[4474,8.4060381420500754,{"$f":" IF(Foglio1!$C$9 <> \"\", 8.314472*Foglio1!$C$9*Foglio2!B503, NA())","v":{"$error":"#N/A"}},{"$error":"#N/A"},4474,8.4060381420500754,{"$f":" IF(Foglio1!$C$10 <> \"\", 8.314472*Foglio1!$C$10*Foglio2!F503, NA())","v":{"$error":"#N/A"}},{"$error":"#N/A"},4474,8.4060381420500754,{"$f":" IF(Foglio1!$C$11 <> \"\", 8.314472*Foglio1!$C$11*Foglio2!J503, NA())","v":{"$error":"#N/A"}},{"$error":"#N/A"},4474,8.4060381420500754,{"$f":" IF(Foglio1!$C$12 <> \"\", 8.314472*Foglio1!$C$12*Foglio2!N503, NA())","v":{"$error":"#N/A"}},{"$error":"#N/A"},4474,8.4060381420500754,{"$f":" IF(Foglio1!$C$13 <> \"\", 8.314472*Foglio1!$C$13*Foglio2!R503, NA())","v":{"$error":"#N/A"}},{"$error":"#N/A"}]
[4483,8.4080477441554393,{"$f":" IF(Foglio1!$C$9 <> \"\", 8.314472*Foglio1!$C$9*Foglio2!B504, NA())","v":{"$error":"#N/A"}},{"$error":"#N/A"},4483,8.4080477441554393,{"$f":" IF(Foglio1!$C$10 <> \"\", 8.314472*Foglio1!$C$10*Foglio2!F504, NA())","v":{"$error":"#N/A"}},{"$error":"#N/A"},4483,8.4080477441554393,{"$f":" IF(Foglio1!$C$11 <> \"\", 8.314472*Foglio1!$C$11*Foglio2!J504, NA())","v":{"$error":"#N/A"}},{"$error":"#N/A"},4483,8.4080477441554393,{"$f":" IF(Foglio1!$C$12 <> \"\", 8.314472*Foglio1!$C$12*Foglio2!N504, NA())","v":{"$error":"#N/A"}},{"$error":"#N/A"},4483,8.4080477441554393,{"$f":" IF(Foglio1!$C$13 <> \"\", 8.314472*Foglio1!$C$13*Foglio2!R504, NA())","v":{"$error":"#N/A"}},{"$error":"#N/A"}]
[4492,8.4100533158583346,{"$f":" IF(Foglio1!$C$9 <> \"\", 8.314472*Foglio1!$C$9*Foglio2!B505, NA())","v":{"$error":"#N/A"}},{"$error":"#N/A"},4492,8.4100533158583346,{"$f":" IF(Foglio1!$C$10 <> \"\", 8.314472*Foglio1!$C$10*Foglio2!F505, NA())","v":{"$error":"#N/A"}},{"$error":"#N/A"},4492,8.4100533158583346,{"$f":" IF(Foglio1!$C$11 <> \"\", 8.314472*Foglio1!$C$11*Foglio2!J505, NA())","v":{"$error":"#N/A"}},{"$error":"#N/A"},4492,8.4100533158583346,{"$f":" IF(Foglio1!$C$12 <> \"\", 8.314472*Foglio1!$C$12*Foglio2!N505, NA())","v":{"$error":"#N/A"}},{"$error":"#N/A"},4492,8.4100533158583346,{"$f":" IF(Foglio1!$C$13 <> \"\", 8.314472*Foglio1!$C$13*Foglio2!R505, NA())","v":{"$error":"#N/A"}},{"$error":"#N/A"}]
[4501,8.4120548732929326,{"$f":" IF(Foglio1!$C$9 <> \"\", 8.314472*Foglio1!$C$9*Foglio2!B506, NA())","v":{"$error":"#N/A"}},{"$error":"#N/A"},4501,8.4120548732929326,{"$f":" IF(Foglio1!$C$10 <> \"\", 8.314472*Foglio1!$C$10*Foglio2!F506, NA())","v":{"$error":"#N/A"}},{"$error":"#N/A"},4501,8.4120548732929326,{"$f":" IF(Foglio1!$C$11 <> \"\", 8.314472*Foglio1!$C$11*Foglio2!J506, NA())","v":{"$error":"#N/A"}},{"$error":"#N/A"},4501,8.4120548732929326,{"$f":" IF(Foglio1!$C$12 <> \"\", 8.314472*Foglio1!$C$12*Foglio2!N506, NA())","v":{"$error":"#N/A"}},{"$error":"#N/A"},4501,8.4120548732929326,{"$f":" IF(Foglio1!$C$13 <> \"\", 8.314472*Foglio1!$C$13*Foglio2!R506, NA())","v":{"$error":"#N/A"}},{"$error":"#N/A"}]
[4510,8.4140524324967245,{"$f":" IF(Foglio1!$C$9 <> \"\", 8.314472*Foglio1!$C$9*Foglio2!B507, NA())","v":{"$error":"#N/A"}},{"$error":"#N/A"},4510,8.4140524324967245,{"$f":" IF(Foglio1!$C$10 <> \"\", 8.314472*Foglio1!$C$10*Foglio2!F507, NA())","v":{"$error":"#N/A"}},{"$error":"#N/A"},4510,8.4140524324967245,{"$f":" IF(Foglio1!$C$11 <> \"\", 8.314472*Foglio1!$C$11*Foglio2!J507, NA())","v":{"$error":"#N/A"}},{"$error":"#N/A"},4510,8.4140524324967245,{"$f":" IF(Foglio1!$C$12 <> \"\", 8.314472*Foglio1!$C$12*Foglio2!N507, NA())","v":{"$error":"#N/A"}},{"$error":"#N/A"},4510,8.4140524324967245,{"$f":" IF(Foglio1!$C$13 <> \"\", 8.314472*Foglio1!$C$13*Foglio2!R507, NA())","v":{"$error":"#N/A"}},{"$error":"#N/A"}]
[4519,8.4160460094112803,{"$f":" IF(Foglio1!$C$9 <> \"\", 8.314472*Foglio1!$C$9*Foglio2!B508, NA())","v":{"$error":"#N/A"}},{"$error":"#N/A"},4519,8.4160460094112803,{"$f":" IF(Foglio1!$C$10 <> \"\", 8.314472*Foglio1!$C$10*Foglio2!F508, NA())","v":{"$error":"#N/A"}},{"$error":"#N/A"},4519,8.4160460094112803,{"$f":" IF(Foglio1!$C$11 <> \"\", 8.314472*Foglio1!$C$11*Foglio2!J508, NA())","v":{"$error":"#N/A"}},{"$error":"#N/A"},4519,8.4160460094112803,{"$f":" IF(Foglio1!$C$12 <> \"\", 8.314472*Foglio1!$C$12*Foglio2!N508, NA())","v":{"$error":"#N/A"}},{"$error":"#N/A"},4519,8.4160460094112803,{"$f":" IF(Foglio1!$C$13 <> \"\", 8.314472*Foglio1!$C$13*Foglio2!R508, NA())","v":{"$error":"#N/A"}},{"$error":"#N/A"}]
[4528,8.4180356198830193,{"$f":" IF(Foglio1!$C$9 <> \"\", 8.314472*Foglio1!$C$9*Foglio2!B509, NA())","v":{"$error":"#N/A"}},{"$error":"#N/A"},4528,8.4180356198830193,{"$f":" IF(Foglio1!$C$10 <> \"\", 8.314472*Foglio1!$C$10*Foglio2!F509, NA())","v":{"$error":"#N/A"}},{"$error":"#N/A"},4528,8.4180356198830193,{"$f":" IF(Foglio1!$C$11 <> \"\", 8.314472*Foglio1!$C$11*Foglio2!J509, NA())","v":{"$error":"#N/A"}},{"$error":"#N/A"},4528,8.4180356198830193,{"$f":" IF(Foglio1!$C$12 <> \"\", 8.314472*Foglio1!$C$12*Foglio2!N509, NA())","v":{"$error":"#N/A"}},{"$error":"#N/A"},4528,8.4180356198830193,{"$f":" IF(Foglio1!$C$13 <> \"\", 8.314472*Foglio1!$C$13*Foglio2!R509, NA())","v":{"$error":"#N/A"}},{"$error":"#N/A"}]
[4537,8.4200212796639633,{"$f":" IF(Foglio1!$C$9 <> \"\", 8.314472*Foglio1!$C$9*Foglio2!B510, NA())","v":{"$error":"#N/A"}},{"$error":"#N/A"},4537,8.4200212796639633,{"$f":" IF(Foglio1!$C$10 <> \"\", 8.314472*Foglio1!$C$10*Foglio2!F510, NA())","v":{"$error":"#N/A"}},{"$error":"#N/A"},4537,8.4200212796639633,{"$f":" IF(Foglio1!$C$11 <> \"\", 8.314472*Foglio1!$C$11*Foglio2!J510, NA())","v":{"$error":"#N/A"}},{"$error":"#N/A"},4537,8.4200212796639633,{"$f":" IF(Foglio1!$C$12 <> \"\", 8.314472*Foglio1!$C$12*Foglio2!N510, NA())","v":{"$error":"#N/A"}},{"$error":"#N/A"},4537,8.4200212796639633,{"$f":" IF(Foglio1!$C$13 <> \"\", 8.314472*Foglio1!$C$13*Foglio2!R510, NA())","v":{"$error":"#N/A"}},{"$error":"#N/A"}]
[4546,8.4220030044124883,{"$f":" IF(Foglio1!$C$9 <> \"\", 8.314472*Foglio1!$C$9*Foglio2!B511, NA())","v":{"$error":"#N/A"}},{"$error":"#N/A"},4546,8.4220030044124883,{"$f":" IF(Foglio1!$C$10 <> \"\", 8.314472*Foglio1!$C$10*Foglio2!F511, NA())","v":{"$error":"#N/A"}},{"$error":"#N/A"},4546,8.4220030044124883,{"$f":" IF(Foglio1!$C$11 <> \"\", 8.314472*Foglio1!$C$11*Foglio2!J511, NA())","v":{"$error":"#N/A"}},{"$error":"#N/A"},4546,8.4220030044124883,{"$f":" IF(Foglio1!$C$12 <> \"\", 8.314472*Foglio1!$C$12*Foglio2!N511, NA())","v":{"$error":"#N/A"}},{"$error":"#N/A"},4546,8.4220030044124883,{"$f":" IF(Foglio1!$C$13 <> \"\", 8.314472*Foglio1!$C$13*Foglio2!R511, NA())","v":{"$error":"#N/A"}},{"$error":"#N/A"}]
[4555,8.4239808096940578,{"$f":" IF(Foglio1!$C$9 <> \"\", 8.314472*Foglio1!$C$9*Foglio2!B512, NA())","v":{"$error":"#N/A"}},{"$error":"#N/A"},4555,8.4239808096940578,{"$f":" IF(Foglio1!$C$10 <> \"\", 8.314472*Foglio1!$C$10*Foglio2!F512, NA())","v":{"$error":"#N/A"}},{"$error":"#N/A"},4555,8.4239808096940578,{"$f":" IF(Foglio1!$C$11 <> \"\", 8.314472*Foglio1!$C$11*Foglio2!J512, NA())","v":{"$error":"#N/A"}},{"$error":"#N/A"},4555,8.4239808096940578,{"$f":" IF(Foglio1!$C$12 <> \"\", 8.314472*Foglio1!$C$12*Foglio2!N512, NA())","v":{"$error":"#N/A"}},{"$error":"#N/A"},4555,8.4239808096940578,{"$f":" IF(Foglio1!$C$13 <> \"\", 8.314472*Foglio1!$C$13*Foglio2!R512, NA())","v":{"$error":"#N/A"}},{"$error":"#N/A"}]
[4564,8.4259547109819657,{"$f":" IF(Foglio1!$C$9 <> \"\", 8.314472*Foglio1!$C$9*Foglio2!B513, NA())","v":{"$error":"#N/A"}},{"$error":"#N/A"},4564,8.4259547109819657,{"$f":" IF(Foglio1!$C$10 <> \"\", 8.314472*Foglio1!$C$10*Foglio2!F513, NA())","v":{"$error":"#N/A"}},{"$error":"#N/A"},4564,8.4259547109819657,{"$f":" IF(Foglio1!$C$11 <> \"\", 8.314472*Foglio1!$C$11*Foglio2!J513, NA())","v":{"$error":"#N/A"}},{"$error":"#N/A"},4564,8.4259547109819657,{"$f":" IF(Foglio1!$C$12 <> \"\", 8.314472*Foglio1!$C$12*Foglio2!N513, NA())","v":{"$error":"#N/A"}},{"$error":"#N/A"},4564,8.4259547109819657,{"$f":" IF(Foglio1!$C$13 <> \"\", 8.314472*Foglio1!$C$13*Foglio2!R513, NA())","v":{"$error":"#N/A"}},{"$error":"#N/A"}]
[4573,8.4279247236580552,{"$f":" IF(Foglio1!$C$9 <> \"\", 8.314472*Foglio1!$C$9*Foglio2!B514, NA())","v":{"$error":"#N/A"}},{"$error":"#N/A"},4573,8.4279247236580552,{"$f":" IF(Foglio1!$C$10 <> \"\", 8.314472*Foglio1!$C$10*Foglio2!F514, NA())","v":{"$error":"#N/A"}},{"$error":"#N/A"},4573,8.4279247236580552,{"$f":" IF(Foglio1!$C$11 <> \"\", 8.314472*Foglio1!$C$11*Foglio2!J514, NA())","v":{"$error":"#N/A"}},{"$error":"#N/A"},4573,8.4279247236580552,{"$f":" IF(Foglio1!$C$12 <> \"\", 8.314472*Foglio1!$C$12*Foglio2!N514, NA())","v":{"$error":"#N/A"}},{"$error":"#N/A"},4573,8.4279247236580552,{"$f":" IF(Foglio1!$C$13 <> \"\", 8.314472*Foglio1!$C$13*Foglio2!R514, NA())","v":{"$error":"#N/A"}},{"$error":"#N/A"}]
[4582,{"$f":"LN(A515)","v":8.4298908630134406},{"$f":" IF(Foglio1!$C$9 <> \"\", 8.314472*Foglio1!$C$9*Foglio2!B515, NA())","v":{"$error":"#N/A"}},{"$f":"  -30.5 + C515*10^-3","v":{"$error":"#N/A"}},4582,{"$f":"LN(E515)","v":8.4298908630134406},{"$f":" IF(Foglio1!$C$10 <> \"\", 8.314472*Foglio1!$C$10*Foglio2!F515, NA())","v":{"$error":"#N/A"}},{"$f":" -30.5+ G515*10^-3","v":{"$error":"#N/A"}},4582,{"$f":"LN(I515)","v":8.4298908630134406},{"$f":" IF(Foglio1!$C$11 <> \"\", 8.314472*Foglio1!$C$11*Foglio2!J515, NA())","v":{"$error":"#N/A"}},{"$f":" -30.5+ K515*10^-3","v":{"$error":"#N/A"}},4582,{"$f":"LN(M515)","v":8.4298908630134406},{"$f":" IF(Foglio1!$C$12 <> \"\", 8.314472*Foglio1!$C$12*Foglio2!N515, NA())","v":{"$error":"#N/A"}},{"$f":" -30.5+ O515*10^-3","v":{"$error":"#N/A"}},4582,{"$f":"LN(Q515)","v":8.4298908630134406},{"$f":" IF(Foglio1!$C$13 <> \"\", 8.314472*Foglio1!$C$13*Foglio2!R515, NA())","v":{"$error":"#N/A"}},{"$f":" -30.5+S515*10^-3","v":{"$error":"#N/A"}}]
[4591,8.4318531442492226,{"$f":" IF(Foglio1!$C$9 <> \"\", 8.314472*Foglio1!$C$9*Foglio2!B516, NA())","v":{"$error":"#N/A"}},{"$error":"#N/A"},4591,8.4318531442492226,{"$f":" IF(Foglio1!$C$10 <> \"\", 8.314472*Foglio1!$C$10*Foglio2!F516, NA())","v":{"$error":"#N/A"}},{"$error":"#N/A"},4591,8.4318531442492226,{"$f":" IF(Foglio1!$C$11 <> \"\", 8.314472*Foglio1!$C$11*Foglio2!J516, NA())","v":{"$error":"#N/A"}},{"$error":"#N/A"},4591,8.4318531442492226,{"$f":" IF(Foglio1!$C$12 <> \"\", 8.314472*Foglio1!$C$12*Foglio2!N516, NA())","v":{"$error":"#N/A"}},{"$error":"#N/A"},4591,8.4318531442492226,{"$f":" IF(Foglio1!$C$13 <> \"\", 8.314472*Foglio1!$C$13*Foglio2!R516, NA())","v":{"$error":"#N/A"}},{"$error":"#N/A"}]
[4600,8.4338115824771869,{"$f":" IF(Foglio1!$C$9 <> \"\", 8.314472*Foglio1!$C$9*Foglio2!B517, NA())","v":{"$error":"#N/A"}},{"$error":"#N/A"},4600,8.4338115824771869,{"$f":" IF(Foglio1!$C$10 <> \"\", 8.314472*Foglio1!$C$10*Foglio2!F517, NA())","v":{"$error":"#N/A"}},{"$error":"#N/A"},4600,8.4338115824771869,{"$f":" IF(Foglio1!$C$11 <> \"\", 8.314472*Foglio1!$C$11*Foglio2!J517, NA())","v":{"$error":"#N/A"}},{"$error":"#N/A"},4600,8.4338115824771869,{"$f":" IF(Foglio1!$C$12 <> \"\", 8.314472*Foglio1!$C$12*Foglio2!N517, NA())","v":{"$error":"#N/A"}},{"$error":"#N/A"},4600,8.4338115824771869,{"$f":" IF(Foglio1!$C$13 <> \"\", 8.314472*Foglio1!$C$13*Foglio2!R517, NA())","v":{"$error":"#N/A"}},{"$error":"#N/A"}]
[4609,8.435766192720509,{"$f":" IF(Foglio1!$C$9 <> \"\", 8.314472*Foglio1!$C$9*Foglio2!B518, NA())","v":{"$error":"#N/A"}},{"$error":"#N/A"},4609,8.435766192720509,{"$f":" IF(Foglio1!$C$10 <> \"\", 8.314472*Foglio1!$C$10*Foglio2!F518, NA())","v":{"$error":"#N/A"}},{"$error":"#N/A"},4609,8.435766192720509,{"$f":" IF(Foglio1!$C$11 <> \"\", 8.314472*Foglio1!$C$11*Foglio2!J518, NA())","v":{"$error":"#N/A"}},{"$error":"#N/A"},4609,8.435766192720509,{"$f":" IF(Foglio1!$C$12 <> \"\", 8.314472*Foglio1!$C$12*Foglio2!N518, NA())","v":{"$error":"#N/A"}},{"$error":"#N/A"},4609,8.435766192720509,{"$f":" IF(Foglio1!$C$13 <> \"\", 8.314472*Foglio1!$C$13*Foglio2!R518, NA())","v":{"$error":"#N/A"}},{"$error":"#N/A"}]
[4618,8.4377169899144402,{"$f":" IF(Foglio1!$C$9 <> \"\", 8.314472*Foglio1!$C$9*Foglio2!B519, NA())","v":{"$error":"#N/A"}},{"$error":"#N/A"},4618,8.4377169899144402,{"$f":" IF(Foglio1!$C$10 <> \"\", 8.314472*Foglio1!$C$10*Foglio2!F519, NA())","v":{"$error":"#N/A"}},{"$error":"#N/A"},4618,8.4377169899144402,{"$f":" IF(Foglio1!$C$11 <> \"\", 8.314472*Foglio1!$C$11*Foglio2!J519, NA())","v":{"$error":"#N/A"}},{"$error":"#N/A"},4618,8.4377169899144402,{"$f":" IF(Foglio1!$C$12 <> \"\", 8.314472*Foglio1!$C$12*Foglio2!N519, NA())","v":{"$error":"#N/A"}},{"$error":"#N/A"},4618,8.4377169899144402,{"$f":" IF(Foglio1!$C$13 <> \"\", 8.314472*Foglio1!$C$13*Foglio2!R519, NA())","v":{"$error":"#N/A"}},{"$error":"#N/A"}]
[4627,8.4396639889070002,{"$f":" IF(Foglio1!$C$9 <> \"\", 8.314472*Foglio1!$C$9*Foglio2!B520, NA())","v":{"$error":"#N/A"}},{"$error":"#N/A"},4627,8.4396639889070002,{"$f":" IF(Foglio1!$C$10 <> \"\", 8.314472*Foglio1!$C$10*Foglio2!F520, NA())","v":{"$error":"#N/A"}},{"$error":"#N/A"},4627,8.4396639889070002,{"$f":" IF(Foglio1!$C$11 <> \"\", 8.314472*Foglio1!$C$11*Foglio2!J520, NA())","v":{"$error":"#N/A"}},{"$error":"#N/A"},4627,8.4396639889070002,{"$f":" IF(Foglio1!$C$12 <> \"\", 8.314472*Foglio1!$C$12*Foglio2!N520, NA())","v":{"$error":"#N/A"}},{"$error":"#N/A"},4627,8.4396639889070002,{"$f":" IF(Foglio1!$C$13 <> \"\", 8.314472*Foglio1!$C$13*Foglio2!R520, NA())","v":{"$error":"#N/A"}},{"$error":"#N/A"}]
[4636,8.4416072044596415,{"$f":" IF(Foglio1!$C$9 <> \"\", 8.314472*Foglio1!$C$9*Foglio2!B521, NA())","v":{"$error":"#N/A"}},{"$error":"#N/A"},4636,8.4416072044596415,{"$f":" IF(Foglio1!$C$10 <> \"\", 8.314472*Foglio1!$C$10*Foglio2!F521, NA())","v":{"$error":"#N/A"}},{"$error":"#N/A"},4636,8.4416072044596415,{"$f":" IF(Foglio1!$C$11 <> \"\", 8.314472*Foglio1!$C$11*Foglio2!J521, NA())","v":{"$error":"#N/A"}},{"$error":"#N/A"},4636,8.4416072044596415,{"$f":" IF(Foglio1!$C$12 <> \"\", 8.314472*Foglio1!$C$12*Foglio2!N521, NA())","v":{"$error":"#N/A"}},{"$error":"#N/A"},4636,8.4416072044596415,{"$f":" IF(Foglio1!$C$13 <> \"\", 8.314472*Foglio1!$C$13*Foglio2!R521, NA())","v":{"$error":"#N/A"}},{"$error":"#N/A"}]
[4645,8.4435466512479387,{"$f":" IF(Foglio1!$C$9 <> \"\", 8.314472*Foglio1!$C$9*Foglio2!B522, NA())","v":{"$error":"#N/A"}},{"$error":"#N/A"},4645,8.4435466512479387,{"$f":" IF(Foglio1!$C$10 <> \"\", 8.314472*Foglio1!$C$10*Foglio2!F522, NA())","v":{"$error":"#N/A"}},{"$error":"#N/A"},4645,8.4435466512479387,{"$f":" IF(Foglio1!$C$11 <> \"\", 8.314472*Foglio1!$C$11*Foglio2!J522, NA())","v":{"$error":"#N/A"}},{"$error":"#N/A"},4645,8.4435466512479387,{"$f":" IF(Foglio1!$C$12 <> \"\", 8.314472*Foglio1!$C$12*Foglio2!N522, NA())","v":{"$error":"#N/A"}},{"$error":"#N/A"},4645,8.4435466512479387,{"$f":" IF(Foglio1!$C$13 <> \"\", 8.314472*Foglio1!$C$13*Foglio2!R522, NA())","v":{"$error":"#N/A"}},{"$error":"#N/A"}]
[4654,8.4454823438622366,{"$f":" IF(Foglio1!$C$9 <> \"\", 8.314472*Foglio1!$C$9*Foglio2!B523, NA())","v":{"$error":"#N/A"}},{"$error":"#N/A"},4654,8.4454823438622366,{"$f":" IF(Foglio1!$C$10 <> \"\", 8.314472*Foglio1!$C$10*Foglio2!F523, NA())","v":{"$error":"#N/A"}},{"$error":"#N/A"},4654,8.4454823438622366,{"$f":" IF(Foglio1!$C$11 <> \"\", 8.314472*Foglio1!$C$11*Foglio2!J523, NA())","v":{"$error":"#N/A"}},{"$error":"#N/A"},4654,8.4454823438622366,{"$f":" IF(Foglio1!$C$12 <> \"\", 8.314472*Foglio1!$C$12*Foglio2!N523, NA())","v":{"$error":"#N/A"}},{"$error":"#N/A"},4654,8.4454823438622366,{"$f":" IF(Foglio1!$C$13 <> \"\", 8.314472*Foglio1!$C$13*Foglio2!R523, NA())","v":{"$error":"#N/A"}},{"$error":"#N/A"}]
[4663,8.4474142968083203,{"$f":" IF(Foglio1!$C$9 <> \"\", 8.314472*Foglio1!$C$9*Foglio2!B524, NA())","v":{"$error":"#N/A"}},{"$error":"#N/A"},4663,8.4474142968083203,{"$f":" IF(Foglio1!$C$10 <> \"\", 8.314472*Foglio1!$C$10*Foglio2!F524, NA())","v":{"$error":"#N/A"}},{"$error":"#N/A"},4663,8.4474142968083203,{"$f":" IF(Foglio1!$C$11 <> \"\", 8.314472*Foglio1!$C$11*Foglio2!J524, NA())","v":{"$error":"#N/A"}},{"$error":"#N/A"},4663,8.4474142968083203,{"$f":" IF(Foglio1!$C$12 <> \"\", 8.314472*Foglio1!$C$12*Foglio2!N524, NA())","v":{"$error":"#N/A"}},{"$error":"#N/A"},4663,8.4474142968083203,{"$f":" IF(Foglio1!$C$13 <> \"\", 8.314472*Foglio1!$C$13*Foglio2!R524, NA())","v":{"$error":"#N/A"}},{"$error":"#N/A"}]
[4672,8.4493425245080633,{"$f":" IF(Foglio1!$C$9 <> \"\", 8.314472*Foglio1!$C$9*Foglio2!B525, NA())","v":{"$error":"#N/A"}},{"$error":"#N/A"},4672,8.4493425245080633,{"$f":" IF(Foglio1!$C$10 <> \"\", 8.314472*Foglio1!$C$10*Foglio2!F525, NA())","v":{"$error":"#N/A"}},{"$error":"#N/A"},4672,8.4493425245080633,{"$f":" IF(Foglio1!$C$11 <> \"\", 8.314472*Foglio1!$C$11*Foglio2!J525, NA())","v":{"$error":"#N/A"}},{"$error":"#N/A"},4672,8.4493425245080633,{"$f":" IF(Foglio1!$C$12 <> \"\", 8.314472*Foglio1!$C$12*Foglio2!N525, NA())","v":{"$error":"#N/A"}},{"$error":"#N/A"},4672,8.4493425245080633,{"$f":" IF(Foglio1!$C$13 <> \"\", 8.314472*Foglio1!$C$13*Foglio2!R525, NA())","v":{"$error":"#N/A"}},{"$error":"#N/A"}]
[4681,8.4512670413000706,{"$f":" IF(Foglio1!$C$9 <> \"\", 8.314472*Foglio1!$C$9*Foglio2!B526, NA())","v":{"$error":"#N/A"}},{"$error":"#N/A"},4681,8.4512670413000706,{"$f":" IF(Foglio1!$C$10 <> \"\", 8.314472*Foglio1!$C$10*Foglio2!F526, NA())","v":{"$error":"#N/A"}},{"$error":"#N/A"},4681,8.4512670413000706,{"$f":" IF(Foglio1!$C$11 <> \"\", 8.314472*Foglio1!$C$11*Foglio2!J526, NA())","v":{"$error":"#N/A"}},{"$error":"#N/A"},4681,8.4512670413000706,{"$f":" IF(Foglio1!$C$12 <> \"\", 8.314472*Foglio1!$C$12*Foglio2!N526, NA())","v":{"$error":"#N/A"}},{"$error":"#N/A"},4681,8.4512670413000706,{"$f":" IF(Foglio1!$C$13 <> \"\", 8.314472*Foglio1!$C$13*Foglio2!R526, NA())","v":{"$error":"#N/A"}},{"$error":"#N/A"}]
[4690,8.4531878614403251,{"$f":" IF(Foglio1!$C$9 <> \"\", 8.314472*Foglio1!$C$9*Foglio2!B527, NA())","v":{"$error":"#N/A"}},{"$error":"#N/A"},4690,8.4531878614403251,{"$f":" IF(Foglio1!$C$10 <> \"\", 8.314472*Foglio1!$C$10*Foglio2!F527, NA())","v":{"$error":"#N/A"}},{"$error":"#N/A"},4690,8.4531878614403251,{"$f":" IF(Foglio1!$C$11 <> \"\", 8.314472*Foglio1!$C$11*Foglio2!J527, NA())","v":{"$error":"#N/A"}},{"$error":"#N/A"},4690,8.4531878614403251,{"$f":" IF(Foglio1!$C$12 <> \"\", 8.314472*Foglio1!$C$12*Foglio2!N527, NA())","v":{"$error":"#N/A"}},{"$error":"#N/A"},4690,8.4531878614403251,{"$f":" IF(Foglio1!$C$13 <> \"\", 8.314472*Foglio1!$C$13*Foglio2!R527, NA())","v":{"$error":"#N/A"}},{"$error":"#N/A"}]
[4699,8.4551049991028151,{"$f":" IF(Foglio1!$C$9 <> \"\", 8.314472*Foglio1!$C$9*Foglio2!B528, NA())","v":{"$error":"#N/A"}},{"$error":"#N/A"},4699,8.4551049991028151,{"$f":" IF(Foglio1!$C$10 <> \"\", 8.314472*Foglio1!$C$10*Foglio2!F528, NA())","v":{"$error":"#N/A"}},{"$error":"#N/A"},4699,8.4551049991028151,{"$f":" IF(Foglio1!$C$11 <> \"\", 8.314472*Foglio1!$C$11*Foglio2!J528, NA())","v":{"$error":"#N/A"}},{"$error":"#N/A"},4699,8.4551049991028151,{"$f":" IF(Foglio1!$C$12 <> \"\", 8.314472*Foglio1!$C$12*Foglio2!N528, NA())","v":{"$error":"#N/A"}},{"$error":"#N/A"},4699,8.4551049991028151,{"$f":" IF(Foglio1!$C$13 <> \"\", 8.314472*Foglio1!$C$13*Foglio2!R528, NA())","v":{"$error":"#N/A"}},{"$error":"#N/A"}]
[4708,8.4570184683801681,{"$f":" IF(Foglio1!$C$9 <> \"\", 8.314472*Foglio1!$C$9*Foglio2!B529, NA())","v":{"$error":"#N/A"}},{"$error":"#N/A"},4708,8.4570184683801681,{"$f":" IF(Foglio1!$C$10 <> \"\", 8.314472*Foglio1!$C$10*Foglio2!F529, NA())","v":{"$error":"#N/A"}},{"$error":"#N/A"},4708,8.4570184683801681,{"$f":" IF(Foglio1!$C$11 <> \"\", 8.314472*Foglio1!$C$11*Foglio2!J529, NA())","v":{"$error":"#N/A"}},{"$error":"#N/A"},4708,8.4570184683801681,{"$f":" IF(Foglio1!$C$12 <> \"\", 8.314472*Foglio1!$C$12*Foglio2!N529, NA())","v":{"$error":"#N/A"}},{"$error":"#N/A"},4708,8.4570184683801681,{"$f":" IF(Foglio1!$C$13 <> \"\", 8.314472*Foglio1!$C$13*Foglio2!R529, NA())","v":{"$error":"#N/A"}},{"$error":"#N/A"}]
[4717,8.4589282832842621,{"$f":" IF(Foglio1!$C$9 <> \"\", 8.314472*Foglio1!$C$9*Foglio2!B530, NA())","v":{"$error":"#N/A"}},{"$error":"#N/A"},4717,8.4589282832842621,{"$f":" IF(Foglio1!$C$10 <> \"\", 8.314472*Foglio1!$C$10*Foglio2!F530, NA())","v":{"$error":"#N/A"}},{"$error":"#N/A"},4717,8.4589282832842621,{"$f":" IF(Foglio1!$C$11 <> \"\", 8.314472*Foglio1!$C$11*Foglio2!J530, NA())","v":{"$error":"#N/A"}},{"$error":"#N/A"},4717,8.4589282832842621,{"$f":" IF(Foglio1!$C$12 <> \"\", 8.314472*Foglio1!$C$12*Foglio2!N530, NA())","v":{"$error":"#N/A"}},{"$error":"#N/A"},4717,8.4589282832842621,{"$f":" IF(Foglio1!$C$13 <> \"\", 8.314472*Foglio1!$C$13*Foglio2!R530, NA())","v":{"$error":"#N/A"}},{"$error":"#N/A"}]
[4726,8.4608344577468539,{"$f":" IF(Foglio1!$C$9 <> \"\", 8.314472*Foglio1!$C$9*Foglio2!B531, NA())","v":{"$error":"#N/A"}},{"$error":"#N/A"},4726,8.4608344577468539,{"$f":" IF(Foglio1!$C$10 <> \"\", 8.314472*Foglio1!$C$10*Foglio2!F531, NA())","v":{"$error":"#N/A"}},{"$error":"#N/A"},4726,8.4608344577468539,{"$f":" IF(Foglio1!$C$11 <> \"\", 8.314472*Foglio1!$C$11*Foglio2!J531, NA())","v":{"$error":"#N/A"}},{"$error":"#N/A"},4726,8.4608344577468539,{"$f":" IF(Foglio1!$C$12 <> \"\", 8.314472*Foglio1!$C$12*Foglio2!N531, NA())","v":{"$error":"#N/A"}},{"$error":"#N/A"},4726,8.4608344577468539,{"$f":" IF(Foglio1!$C$13 <> \"\", 8.314472*Foglio1!$C$13*Foglio2!R531, NA())","v":{"$error":"#N/A"}},{"$error":"#N/A"}]
[4735,8.4627370056201787,{"$f":" IF(Foglio1!$C$9 <> \"\", 8.314472*Foglio1!$C$9*Foglio2!B532, NA())","v":{"$error":"#N/A"}},{"$error":"#N/A"},4735,8.4627370056201787,{"$f":" IF(Foglio1!$C$10 <> \"\", 8.314472*Foglio1!$C$10*Foglio2!F532, NA())","v":{"$error":"#N/A"}},{"$error":"#N/A"},4735,8.4627370056201787,{"$f":" IF(Foglio1!$C$11 <> \"\", 8.314472*Foglio1!$C$11*Foglio2!J532, NA())","v":{"$error":"#N/A"}},{"$error":"#N/A"},4735,8.4627370056201787,{"$f":" IF(Foglio1!$C$12 <> \"\", 8.314472*Foglio1!$C$12*Foglio2!N532, NA())","v":{"$error":"#N/A"}},{"$error":"#N/A"},4735,8.4627370056201787,{"$f":" IF(Foglio1!$C$13 <> \"\", 8.314472*Foglio1!$C$13*Foglio2!R532, NA())","v":{"$error":"#N/A"}},{"$error":"#N/A"}]
[4744,8.464635940677562,{"$f":" IF(Foglio1!$C$9 <> \"\", 8.314472*Foglio1!$C$9*Foglio2!B533, NA())","v":{"$error":"#N/A"}},{"$error":"#N/A"},4744,8.464635940677562,{"$f":" IF(Foglio1!$C$10 <> \"\", 8.314472*Foglio1!$C$10*Foglio2!F533, NA())","v":{"$error":"#N/A"}},{"$error":"#N/A"},4744,8.464635940677562,{"$f":" IF(Foglio1!$C$11 <> \"\", 8.314472*Foglio1!$C$11*Foglio2!J533, NA())","v":{"$error":"#N/A"}},{"$error":"#N/A"},4744,8.464635940677562,{"$f":" IF(Foglio1!$C$12 <> \"\", 8.314472*Foglio1!$C$12*Foglio2!N533, NA())","v":{"$error":"#N/A"}},{"$error":"#N/A"},4744,8.464635940677562,{"$f":" IF(Foglio1!$C$13 <> \"\", 8.314472*Foglio1!$C$13*Foglio2!R533, NA())","v":{"$error":"#N/A"}},{"$error":"#N/A"}]
[4753,8.4665312766140097,{"$f":" IF(Foglio1!$C$9 <> \"\", 8.314472*Foglio1!$C$9*Foglio2!B534, NA())","v":{"$error":"#N/A"}},{"$error":"#N/A"},4753,8.4665312766140097,{"$f":" IF(Foglio1!$C$10 <> \"\", 8.314472*Foglio1!$C$10*Foglio2!F534, NA())","v":{"$error":"#N/A"}},{"$error":"#N/A"},4753,8.4665312766140097,{"$f":" IF(Foglio1!$C$11 <> \"\", 8.314472*Foglio1!$C$11*Foglio2!J534, NA())","v":{"$error":"#N/A"}},{"$error":"#N/A"},4753,8.4665312766140097,{"$f":" IF(Foglio1!$C$12 <> \"\", 8.314472*Foglio1!$C$12*Foglio2!N534, NA())","v":{"$error":"#N/A"}},{"$error":"#N/A"},4753,8.4665312766140097,{"$f":" IF(Foglio1!$C$13 <> \"\", 8.314472*Foglio1!$C$13*Foglio2!R534, NA())","v":{"$error":"#N/A"}},{"$error":"#N/A"}]
[4762,8.4684230270468088,{"$f":" IF(Foglio1!$C$9 <> \"\", 8.314472*Foglio1!$C$9*Foglio2!B535, NA())","v":{"$error":"#N/A"}},{"$error":"#N/A"},4762,8.4684230270468088,{"$f":" IF(Foglio1!$C$10 <> \"\", 8.314472*Foglio1!$C$10*Foglio2!F535, NA())","v":{"$error":"#N/A"}},{"$error":"#N/A"},4762,8.4684230270468088,{"$f":" IF(Foglio1!$C$11 <> \"\", 8.314472*Foglio1!$C$11*Foglio2!J535, NA())","v":{"$error":"#N/A"}},{"$error":"#N/A"},4762,8.4684230270468088,{"$f":" IF(Foglio1!$C$12 <> \"\", 8.314472*Foglio1!$C$12*Foglio2!N535, NA())","v":{"$error":"#N/A"}},{"$error":"#N/A"},4762,8.4684230270468088,{"$f":" IF(Foglio1!$C$13 <> \"\", 8.314472*Foglio1!$C$13*Foglio2!R535, NA())","v":{"$error":"#N/A"}},{"$error":"#N/A"}]
[4771,8.4703112055161078,{"$f":" IF(Foglio1!$C$9 <> \"\", 8.314472*Foglio1!$C$9*Foglio2!B536, NA())","v":{"$error":"#N/A"}},{"$error":"#N/A"},4771,8.4703112055161078,{"$f":" IF(Foglio1!$C$10 <> \"\", 8.314472*Foglio1!$C$10*Foglio2!F536, NA())","v":{"$error":"#N/A"}},{"$error":"#N/A"},4771,8.4703112055161078,{"$f":" IF(Foglio1!$C$11 <> \"\", 8.314472*Foglio1!$C$11*Foglio2!J536, NA())","v":{"$error":"#N/A"}},{"$error":"#N/A"},4771,8.4703112055161078,{"$f":" IF(Foglio1!$C$12 <> \"\", 8.314472*Foglio1!$C$12*Foglio2!N536, NA())","v":{"$error":"#N/A"}},{"$error":"#N/A"},4771,8.4703112055161078,{"$f":" IF(Foglio1!$C$13 <> \"\", 8.314472*Foglio1!$C$13*Foglio2!R536, NA())","v":{"$error":"#N/A"}},{"$error":"#N/A"}]
[4780,8.4721958254855014,{"$f":" IF(Foglio1!$C$9 <> \"\", 8.314472*Foglio1!$C$9*Foglio2!B537, NA())","v":{"$error":"#N/A"}},{"$error":"#N/A"},4780,8.4721958254855014,{"$f":" IF(Foglio1!$C$10 <> \"\", 8.314472*Foglio1!$C$10*Foglio2!F537, NA())","v":{"$error":"#N/A"}},{"$error":"#N/A"},4780,8.4721958254855014,{"$f":" IF(Foglio1!$C$11 <> \"\", 8.314472*Foglio1!$C$11*Foglio2!J537, NA())","v":{"$error":"#N/A"}},{"$error":"#N/A"},4780,8.4721958254855014,{"$f":" IF(Foglio1!$C$12 <> \"\", 8.314472*Foglio1!$C$12*Foglio2!N537, NA())","v":{"$error":"#N/A"}},{"$error":"#N/A"},4780,8.4721958254855014,{"$f":" IF(Foglio1!$C$13 <> \"\", 8.314472*Foglio1!$C$13*Foglio2!R537, NA())","v":{"$error":"#N/A"}},{"$error":"#N/A"}]
[4789,8.4740769003426095,{"$f":" IF(Foglio1!$C$9 <> \"\", 8.314472*Foglio1!$C$9*Foglio2!B538, NA())","v":{"$error":"#N/A"}},{"$error":"#N/A"},4789,8.4740769003426095,{"$f":" IF(Foglio1!$C$10 <> \"\", 8.314472*Foglio1!$C$10*Foglio2!F538, NA())","v":{"$error":"#N/A"}},{"$error":"#N/A"},4789,8.4740769003426095,{"$f":" IF(Foglio1!$C$11 <> \"\", 8.314472*Foglio1!$C$11*Foglio2!J538, NA())","v":{"$error":"#N/A"}},{"$error":"#N/A"},4789,8.4740769003426095,{"$f":" IF(Foglio1!$C$12 <> \"\", 8.314472*Foglio1!$C$12*Foglio2!N538, NA())","v":{"$error":"#N/A"}},{"$error":"#N/A"},4789,8.4740769003426095,{"$f":" IF(Foglio1!$C$13 <> \"\", 8.314472*Foglio1!$C$13*Foglio2!R538, NA())","v":{"$error":"#N/A"}},{"$error":"#N/A"}]
[4798,8.4759544433996403,{"$f":" IF(Foglio1!$C$9 <> \"\", 8.314472*Foglio1!$C$9*Foglio2!B539, NA())","v":{"$error":"#N/A"}},{"$error":"#N/A"},4798,8.4759544433996403,{"$f":" IF(Foglio1!$C$10 <> \"\", 8.314472*Foglio1!$C$10*Foglio2!F539, NA())","v":{"$error":"#N/A"}},{"$error":"#N/A"},4798,8.4759544433996403,{"$f":" IF(Foglio1!$C$11 <> \"\", 8.314472*Foglio1!$C$11*Foglio2!J539, NA())","v":{"$error":"#N/A"}},{"$error":"#N/A"},4798,8.4759544433996403,{"$f":" IF(Foglio1!$C$12 <> \"\", 8.314472*Foglio1!$C$12*Foglio2!N539, NA())","v":{"$error":"#N/A"}},{"$error":"#N/A"},4798,8.4759544433996403,{"$f":" IF(Foglio1!$C$13 <> \"\", 8.314472*Foglio1!$C$13*Foglio2!R539, NA())","v":{"$error":"#N/A"}},{"$error":"#N/A"}]
[4807,8.4778284678939606,{"$f":" IF(Foglio1!$C$9 <> \"\", 8.314472*Foglio1!$C$9*Foglio2!B540, NA())","v":{"$error":"#N/A"}},{"$error":"#N/A"},4807,8.4778284678939606,{"$f":" IF(Foglio1!$C$10 <> \"\", 8.314472*Foglio1!$C$10*Foglio2!F540, NA())","v":{"$error":"#N/A"}},{"$error":"#N/A"},4807,8.4778284678939606,{"$f":" IF(Foglio1!$C$11 <> \"\", 8.314472*Foglio1!$C$11*Foglio2!J540, NA())","v":{"$error":"#N/A"}},{"$error":"#N/A"},4807,8.4778284678939606,{"$f":" IF(Foglio1!$C$12 <> \"\", 8.314472*Foglio1!$C$12*Foglio2!N540, NA())","v":{"$error":"#N/A"}},{"$error":"#N/A"},4807,8.4778284678939606,{"$f":" IF(Foglio1!$C$13 <> \"\", 8.314472*Foglio1!$C$13*Foglio2!R540, NA())","v":{"$error":"#N/A"}},{"$error":"#N/A"}]
[4816,8.479698986988657,{"$f":" IF(Foglio1!$C$9 <> \"\", 8.314472*Foglio1!$C$9*Foglio2!B541, NA())","v":{"$error":"#N/A"}},{"$error":"#N/A"},4816,8.479698986988657,{"$f":" IF(Foglio1!$C$10 <> \"\", 8.314472*Foglio1!$C$10*Foglio2!F541, NA())","v":{"$error":"#N/A"}},{"$error":"#N/A"},4816,8.479698986988657,{"$f":" IF(Foglio1!$C$11 <> \"\", 8.314472*Foglio1!$C$11*Foglio2!J541, NA())","v":{"$error":"#N/A"}},{"$error":"#N/A"},4816,8.479698986988657,{"$f":" IF(Foglio1!$C$12 <> \"\", 8.314472*Foglio1!$C$12*Foglio2!N541, NA())","v":{"$error":"#N/A"}},{"$error":"#N/A"},4816,8.479698986988657,{"$f":" IF(Foglio1!$C$13 <> \"\", 8.314472*Foglio1!$C$13*Foglio2!R541, NA())","v":{"$error":"#N/A"}},{"$error":"#N/A"}]
[4825,8.4815660137730866,{"$f":" IF(Foglio1!$C$9 <> \"\", 8.314472*Foglio1!$C$9*Foglio2!B542, NA())","v":{"$error":"#N/A"}},{"$error":"#N/A"},4825,8.4815660137730866,{"$f":" IF(Foglio1!$C$10 <> \"\", 8.314472*Foglio1!$C$10*Foglio2!F542, NA())","v":{"$error":"#N/A"}},{"$error":"#N/A"},4825,8.4815660137730866,{"$f":" IF(Foglio1!$C$11 <> \"\", 8.314472*Foglio1!$C$11*Foglio2!J542, NA())","v":{"$error":"#N/A"}},{"$error":"#N/A"},4825,8.4815660137730866,{"$f":" IF(Foglio1!$C$12 <> \"\", 8.314472*Foglio1!$C$12*Foglio2!N542, NA())","v":{"$error":"#N/A"}},{"$error":"#N/A"},4825,8.4815660137730866,{"$f":" IF(Foglio1!$C$13 <> \"\", 8.314472*Foglio1!$C$13*Foglio2!R542, NA())","v":{"$error":"#N/A"}},{"$error":"#N/A"}]
[4834,8.4834295612634278,{"$f":" IF(Foglio1!$C$9 <> \"\", 8.314472*Foglio1!$C$9*Foglio2!B543, NA())","v":{"$error":"#N/A"}},{"$error":"#N/A"},4834,8.4834295612634278,{"$f":" IF(Foglio1!$C$10 <> \"\", 8.314472*Foglio1!$C$10*Foglio2!F543, NA())","v":{"$error":"#N/A"}},{"$error":"#N/A"},4834,8.4834295612634278,{"$f":" IF(Foglio1!$C$11 <> \"\", 8.314472*Foglio1!$C$11*Foglio2!J543, NA())","v":{"$error":"#N/A"}},{"$error":"#N/A"},4834,8.4834295612634278,{"$f":" IF(Foglio1!$C$12 <> \"\", 8.314472*Foglio1!$C$12*Foglio2!N543, NA())","v":{"$error":"#N/A"}},{"$error":"#N/A"},4834,8.4834295612634278,{"$f":" IF(Foglio1!$C$13 <> \"\", 8.314472*Foglio1!$C$13*Foglio2!R543, NA())","v":{"$error":"#N/A"}},{"$error":"#N/A"}]
[4843,8.4852896424032291,{"$f":" IF(Foglio1!$C$9 <> \"\", 8.314472*Foglio1!$C$9*Foglio2!B544, NA())","v":{"$error":"#N/A"}},{"$error":"#N/A"},4843,8.4852896424032291,{"$f":" IF(Foglio1!$C$10 <> \"\", 8.314472*Foglio1!$C$10*Foglio2!F544, NA())","v":{"$error":"#N/A"}},{"$error":"#N/A"},4843,8.4852896424032291,{"$f":" IF(Foglio1!$C$11 <> \"\", 8.314472*Foglio1!$C$11*Foglio2!J544, NA())","v":{"$error":"#N/A"}},{"$error":"#N/A"},4843,8.4852896424032291,{"$f":" IF(Foglio1!$C$12 <> \"\", 8.314472*Foglio1!$C$12*Foglio2!N544, NA())","v":{"$error":"#N/A"}},{"$error":"#N/A"},4843,8.4852896424032291,{"$f":" IF(Foglio1!$C$13 <> \"\", 8.314472*Foglio1!$C$13*Foglio2!R544, NA())","v":{"$error":"#N/A"}},{"$error":"#N/A"}]
[4852,8.4871462700639402,{"$f":" IF(Foglio1!$C$9 <> \"\", 8.314472*Foglio1!$C$9*Foglio2!B545, NA())","v":{"$error":"#N/A"}},{"$error":"#N/A"},4852,8.4871462700639402,{"$f":" IF(Foglio1!$C$10 <> \"\", 8.314472*Foglio1!$C$10*Foglio2!F545, NA())","v":{"$error":"#N/A"}},{"$error":"#N/A"},4852,8.4871462700639402,{"$f":" IF(Foglio1!$C$11 <> \"\", 8.314472*Foglio1!$C$11*Foglio2!J545, NA())","v":{"$error":"#N/A"}},{"$error":"#N/A"},4852,8.4871462700639402,{"$f":" IF(Foglio1!$C$12 <> \"\", 8.314472*Foglio1!$C$12*Foglio2!N545, NA())","v":{"$error":"#N/A"}},{"$error":"#N/A"},4852,8.4871462700639402,{"$f":" IF(Foglio1!$C$13 <> \"\", 8.314472*Foglio1!$C$13*Foglio2!R545, NA())","v":{"$error":"#N/A"}},{"$error":"#N/A"}]
[4861,8.4889994570454554,{"$f":" IF(Foglio1!$C$9 <> \"\", 8.314472*Foglio1!$C$9*Foglio2!B546, NA())","v":{"$error":"#N/A"}},{"$error":"#N/A"},4861,8.4889994570454554,{"$f":" IF(Foglio1!$C$10 <> \"\", 8.314472*Foglio1!$C$10*Foglio2!F546, NA())","v":{"$error":"#N/A"}},{"$error":"#N/A"},4861,8.4889994570454554,{"$f":" IF(Foglio1!$C$11 <> \"\", 8.314472*Foglio1!$C$11*Foglio2!J546, NA())","v":{"$error":"#N/A"}},{"$error":"#N/A"},4861,8.4889994570454554,{"$f":" IF(Foglio1!$C$12 <> \"\", 8.314472*Foglio1!$C$12*Foglio2!N546, NA())","v":{"$error":"#N/A"}},{"$error":"#N/A"},4861,8.4889994570454554,{"$f":" IF(Foglio1!$C$13 <> \"\", 8.314472*Foglio1!$C$13*Foglio2!R546, NA())","v":{"$error":"#N/A"}},{"$error":"#N/A"}]
[4870,8.4908492160766347,{"$f":" IF(Foglio1!$C$9 <> \"\", 8.314472*Foglio1!$C$9*Foglio2!B547, NA())","v":{"$error":"#N/A"}},{"$error":"#N/A"},4870,8.4908492160766347,{"$f":" IF(Foglio1!$C$10 <> \"\", 8.314472*Foglio1!$C$10*Foglio2!F547, NA())","v":{"$error":"#N/A"}},{"$error":"#N/A"},4870,8.4908492160766347,{"$f":" IF(Foglio1!$C$11 <> \"\", 8.314472*Foglio1!$C$11*Foglio2!J547, NA())","v":{"$error":"#N/A"}},{"$error":"#N/A"},4870,8.4908492160766347,{"$f":" IF(Foglio1!$C$12 <> \"\", 8.314472*Foglio1!$C$12*Foglio2!N547, NA())","v":{"$error":"#N/A"}},{"$error":"#N/A"},4870,8.4908492160766347,{"$f":" IF(Foglio1!$C$13 <> \"\", 8.314472*Foglio1!$C$13*Foglio2!R547, NA())","v":{"$error":"#N/A"}},{"$error":"#N/A"}]
[4879,8.4926955598158376,{"$f":" IF(Foglio1!$C$9 <> \"\", 8.314472*Foglio1!$C$9*Foglio2!B548, NA())","v":{"$error":"#N/A"}},{"$error":"#N/A"},4879,8.4926955598158376,{"$f":" IF(Foglio1!$C$10 <> \"\", 8.314472*Foglio1!$C$10*Foglio2!F548, NA())","v":{"$error":"#N/A"}},{"$error":"#N/A"},4879,8.4926955598158376,{"$f":" IF(Foglio1!$C$11 <> \"\", 8.314472*Foglio1!$C$11*Foglio2!J548, NA())","v":{"$error":"#N/A"}},{"$error":"#N/A"},4879,8.4926955598158376,{"$f":" IF(Foglio1!$C$12 <> \"\", 8.314472*Foglio1!$C$12*Foglio2!N548, NA())","v":{"$error":"#N/A"}},{"$error":"#N/A"},4879,8.4926955598158376,{"$f":" IF(Foglio1!$C$13 <> \"\", 8.314472*Foglio1!$C$13*Foglio2!R548, NA())","v":{"$error":"#N/A"}},{"$error":"#N/A"}]
[4888,8.4945385008514318,{"$f":" IF(Foglio1!$C$9 <> \"\", 8.314472*Foglio1!$C$9*Foglio2!B549, NA())","v":{"$error":"#N/A"}},{"$error":"#N/A"},4888,8.4945385008514318,{"$f":" IF(Foglio1!$C$10 <> \"\", 8.314472*Foglio1!$C$10*Foglio2!F549, NA())","v":{"$error":"#N/A"}},{"$error":"#N/A"},4888,8.4945385008514318,{"$f":" IF(Foglio1!$C$11 <> \"\", 8.314472*Foglio1!$C$11*Foglio2!J549, NA())","v":{"$error":"#N/A"}},{"$error":"#N/A"},4888,8.4945385008514318,{"$f":" IF(Foglio1!$C$12 <> \"\", 8.314472*Foglio1!$C$12*Foglio2!N549, NA())","v":{"$error":"#N/A"}},{"$error":"#N/A"},4888,8.4945385008514318,{"$f":" IF(Foglio1!$C$13 <> \"\", 8.314472*Foglio1!$C$13*Foglio2!R549, NA())","v":{"$error":"#N/A"}},{"$error":"#N/A"}]
[4897,8.4963780517023171,{"$f":" IF(Foglio1!$C$9 <> \"\", 8.314472*Foglio1!$C$9*Foglio2!B550, NA())","v":{"$error":"#N/A"}},{"$error":"#N/A"},4897,8.4963780517023171,{"$f":" IF(Foglio1!$C$10 <> \"\", 8.314472*Foglio1!$C$10*Foglio2!F550, NA())","v":{"$error":"#N/A"}},{"$error":"#N/A"},4897,8.4963780517023171,{"$f":" IF(Foglio1!$C$11 <> \"\", 8.314472*Foglio1!$C$11*Foglio2!J550, NA())","v":{"$error":"#N/A"}},{"$error":"#N/A"},4897,8.4963780517023171,{"$f":" IF(Foglio1!$C$12 <> \"\", 8.314472*Foglio1!$C$12*Foglio2!N550, NA())","v":{"$error":"#N/A"}},{"$error":"#N/A"},4897,8.4963780517023171,{"$f":" IF(Foglio1!$C$13 <> \"\", 8.314472*Foglio1!$C$13*Foglio2!R550, NA())","v":{"$error":"#N/A"}},{"$error":"#N/A"}]
[4906,8.4982142248184349,{"$f":" IF(Foglio1!$C$9 <> \"\", 8.314472*Foglio1!$C$9*Foglio2!B551, NA())","v":{"$error":"#N/A"}},{"$error":"#N/A"},4906,8.4982142248184349,{"$f":" IF(Foglio1!$C$10 <> \"\", 8.314472*Foglio1!$C$10*Foglio2!F551, NA())","v":{"$error":"#N/A"}},{"$error":"#N/A"},4906,8.4982142248184349,{"$f":" IF(Foglio1!$C$11 <> \"\", 8.314472*Foglio1!$C$11*Foglio2!J551, NA())","v":{"$error":"#N/A"}},{"$error":"#N/A"},4906,8.4982142248184349,{"$f":" IF(Foglio1!$C$12 <> \"\", 8.314472*Foglio1!$C$12*Foglio2!N551, NA())","v":{"$error":"#N/A"}},{"$error":"#N/A"},4906,8.4982142248184349,{"$f":" IF(Foglio1!$C$13 <> \"\", 8.314472*Foglio1!$C$13*Foglio2!R551, NA())","v":{"$error":"#N/A"}},{"$error":"#N/A"}]
[4915,8.5000470325812678,{"$f":" IF(Foglio1!$C$9 <> \"\", 8.314472*Foglio1!$C$9*Foglio2!B552, NA())","v":{"$error":"#N/A"}},{"$error":"#N/A"},4915,8.5000470325812678,{"$f":" IF(Foglio1!$C$10 <> \"\", 8.314472*Foglio1!$C$10*Foglio2!F552, NA())","v":{"$error":"#N/A"}},{"$error":"#N/A"},4915,8.5000470325812678,{"$f":" IF(Foglio1!$C$11 <> \"\", 8.314472*Foglio1!$C$11*Foglio2!J552, NA())","v":{"$error":"#N/A"}},{"$error":"#N/A"},4915,8.5000470325812678,{"$f":" IF(Foglio1!$C$12 <> \"\", 8.314472*Foglio1!$C$12*Foglio2!N552, NA())","v":{"$error":"#N/A"}},{"$error":"#N/A"},4915,8.5000470325812678,{"$f":" IF(Foglio1!$C$13 <> \"\", 8.314472*Foglio1!$C$13*Foglio2!R552, NA())","v":{"$error":"#N/A"}},{"$error":"#N/A"}]
[4924,8.5018764873043438,{"$f":" IF(Foglio1!$C$9 <> \"\", 8.314472*Foglio1!$C$9*Foglio2!B553, NA())","v":{"$error":"#N/A"}},{"$error":"#N/A"},4924,8.5018764873043438,{"$f":" IF(Foglio1!$C$10 <> \"\", 8.314472*Foglio1!$C$10*Foglio2!F553, NA())","v":{"$error":"#N/A"}},{"$error":"#N/A"},4924,8.5018764873043438,{"$f":" IF(Foglio1!$C$11 <> \"\", 8.314472*Foglio1!$C$11*Foglio2!J553, NA())","v":{"$error":"#N/A"}},{"$error":"#N/A"},4924,8.5018764873043438,{"$f":" IF(Foglio1!$C$12 <> \"\", 8.314472*Foglio1!$C$12*Foglio2!N553, NA())","v":{"$error":"#N/A"}},{"$error":"#N/A"},4924,8.5018764873043438,{"$f":" IF(Foglio1!$C$13 <> \"\", 8.314472*Foglio1!$C$13*Foglio2!R553, NA())","v":{"$error":"#N/A"}},{"$error":"#N/A"}]
[4933,8.5037026012337389,{"$f":" IF(Foglio1!$C$9 <> \"\", 8.314472*Foglio1!$C$9*Foglio2!B554, NA())","v":{"$error":"#N/A"}},{"$error":"#N/A"},4933,8.5037026012337389,{"$f":" IF(Foglio1!$C$10 <> \"\", 8.314472*Foglio1!$C$10*Foglio2!F554, NA())","v":{"$error":"#N/A"}},{"$error":"#N/A"},4933,8.5037026012337389,{"$f":" IF(Foglio1!$C$11 <> \"\", 8.314472*Foglio1!$C$11*Foglio2!J554, NA())","v":{"$error":"#N/A"}},{"$error":"#N/A"},4933,8.5037026012337389,{"$f":" IF(Foglio1!$C$12 <> \"\", 8.314472*Foglio1!$C$12*Foglio2!N554, NA())","v":{"$error":"#N/A"}},{"$error":"#N/A"},4933,8.5037026012337389,{"$f":" IF(Foglio1!$C$13 <> \"\", 8.314472*Foglio1!$C$13*Foglio2!R554, NA())","v":{"$error":"#N/A"}},{"$error":"#N/A"}]
[4942,8.5055253865485554,{"$f":" IF(Foglio1!$C$9 <> \"\", 8.314472*Foglio1!$C$9*Foglio2!B555, NA())","v":{"$error":"#N/A"}},{"$error":"#N/A"},4942,8.5055253865485554,{"$f":" IF(Foglio1!$C$10 <> \"\", 8.314472*Foglio1!$C$10*Foglio2!F555, NA())","v":{"$error":"#N/A"}},{"$error":"#N/A"},4942,8.5055253865485554,{"$f":" IF(Foglio1!$C$11 <> \"\", 8.314472*Foglio1!$C$11*Foglio2!J555, NA())","v":{"$error":"#N/A"}},{"$error":"#N/A"},4942,8.5055253865485554,{"$f":" IF(Foglio1!$C$12 <> \"\", 8.314472*Foglio1!$C$12*Foglio2!N555, NA())","v":{"$error":"#N/A"}},{"$error":"#N/A"},4942,8.5055253865485554,{"$f":" IF(Foglio1!$C$13 <> \"\", 8.314472*Foglio1!$C$13*Foglio2!R555, NA())","v":{"$error":"#N/A"}},{"$error":"#N/A"}]
[4951,8.5073448553614224,{"$f":" IF(Foglio1!$C$9 <> \"\", 8.314472*Foglio1!$C$9*Foglio2!B556, NA())","v":{"$error":"#N/A"}},{"$error":"#N/A"},4951,8.5073448553614224,{"$f":" IF(Foglio1!$C$10 <> \"\", 8.314472*Foglio1!$C$10*Foglio2!F556, NA())","v":{"$error":"#N/A"}},{"$error":"#N/A"},4951,8.5073448553614224,{"$f":" IF(Foglio1!$C$11 <> \"\", 8.314472*Foglio1!$C$11*Foglio2!J556, NA())","v":{"$error":"#N/A"}},{"$error":"#N/A"},4951,8.5073448553614224,{"$f":" IF(Foglio1!$C$12 <> \"\", 8.314472*Foglio1!$C$12*Foglio2!N556, NA())","v":{"$error":"#N/A"}},{"$error":"#N/A"},4951,8.5073448553614224,{"$f":" IF(Foglio1!$C$13 <> \"\", 8.314472*Foglio1!$C$13*Foglio2!R556, NA())","v":{"$error":"#N/A"}},{"$error":"#N/A"}]
[4960,8.5091610197189738,{"$f":" IF(Foglio1!$C$9 <> \"\", 8.314472*Foglio1!$C$9*Foglio2!B557, NA())","v":{"$error":"#N/A"}},{"$error":"#N/A"},4960,8.5091610197189738,{"$f":" IF(Foglio1!$C$10 <> \"\", 8.314472*Foglio1!$C$10*Foglio2!F557, NA())","v":{"$error":"#N/A"}},{"$error":"#N/A"},4960,8.5091610197189738,{"$f":" IF(Foglio1!$C$11 <> \"\", 8.314472*Foglio1!$C$11*Foglio2!J557, NA())","v":{"$error":"#N/A"}},{"$error":"#N/A"},4960,8.5091610197189738,{"$f":" IF(Foglio1!$C$12 <> \"\", 8.314472*Foglio1!$C$12*Foglio2!N557, NA())","v":{"$error":"#N/A"}},{"$error":"#N/A"},4960,8.5091610197189738,{"$f":" IF(Foglio1!$C$13 <> \"\", 8.314472*Foglio1!$C$13*Foglio2!R557, NA())","v":{"$error":"#N/A"}},{"$error":"#N/A"}]
[4969,8.5109738916023208,{"$f":" IF(Foglio1!$C$9 <> \"\", 8.314472*Foglio1!$C$9*Foglio2!B558, NA())","v":{"$error":"#N/A"}},{"$error":"#N/A"},4969,8.5109738916023208,{"$f":" IF(Foglio1!$C$10 <> \"\", 8.314472*Foglio1!$C$10*Foglio2!F558, NA())","v":{"$error":"#N/A"}},{"$error":"#N/A"},4969,8.5109738916023208,{"$f":" IF(Foglio1!$C$11 <> \"\", 8.314472*Foglio1!$C$11*Foglio2!J558, NA())","v":{"$error":"#N/A"}},{"$error":"#N/A"},4969,8.5109738916023208,{"$f":" IF(Foglio1!$C$12 <> \"\", 8.314472*Foglio1!$C$12*Foglio2!N558, NA())","v":{"$error":"#N/A"}},{"$error":"#N/A"},4969,8.5109738916023208,{"$f":" IF(Foglio1!$C$13 <> \"\", 8.314472*Foglio1!$C$13*Foglio2!R558, NA())","v":{"$error":"#N/A"}},{"$error":"#N/A"}]
[4978,8.5127834829275368,{"$f":" IF(Foglio1!$C$9 <> \"\", 8.314472*Foglio1!$C$9*Foglio2!B559, NA())","v":{"$error":"#N/A"}},{"$error":"#N/A"},4978,8.5127834829275368,{"$f":" IF(Foglio1!$C$10 <> \"\", 8.314472*Foglio1!$C$10*Foglio2!F559, NA())","v":{"$error":"#N/A"}},{"$error":"#N/A"},4978,8.5127834829275368,{"$f":" IF(Foglio1!$C$11 <> \"\", 8.314472*Foglio1!$C$11*Foglio2!J559, NA())","v":{"$error":"#N/A"}},{"$error":"#N/A"},4978,8.5127834829275368,{"$f":" IF(Foglio1!$C$12 <> \"\", 8.314472*Foglio1!$C$12*Foglio2!N559, NA())","v":{"$error":"#N/A"}},{"$error":"#N/A"},4978,8.5127834829275368,{"$f":" IF(Foglio1!$C$13 <> \"\", 8.314472*Foglio1!$C$13*Foglio2!R559, NA())","v":{"$error":"#N/A"}},{"$error":"#N/A"}]
[4987,8.5145898055461231,{"$f":" IF(Foglio1!$C$9 <> \"\", 8.314472*Foglio1!$C$9*Foglio2!B560, NA())","v":{"$error":"#N/A"}},{"$error":"#N/A"},4987,8.5145898055461231,{"$f":" IF(Foglio1!$C$10 <> \"\", 8.314472*Foglio1!$C$10*Foglio2!F560, NA())","v":{"$error":"#N/A"}},{"$error":"#N/A"},4987,8.5145898055461231,{"$f":" IF(Foglio1!$C$11 <> \"\", 8.314472*Foglio1!$C$11*Foglio2!J560, NA())","v":{"$error":"#N/A"}},{"$error":"#N/A"},4987,8.5145898055461231,{"$f":" IF(Foglio1!$C$12 <> \"\", 8.314472*Foglio1!$C$12*Foglio2!N560, NA())","v":{"$error":"#N/A"}},{"$error":"#N/A"},4987,8.5145898055461231,{"$f":" IF(Foglio1!$C$13 <> \"\", 8.314472*Foglio1!$C$13*Foglio2!R560, NA())","v":{"$error":"#N/A"}},{"$error":"#N/A"}]
[4996,8.5163928712454684,{"$f":" IF(Foglio1!$C$9 <> \"\", 8.314472*Foglio1!$C$9*Foglio2!B561, NA())","v":{"$error":"#N/A"}},{"$error":"#N/A"},4996,8.5163928712454684,{"$f":" IF(Foglio1!$C$10 <> \"\", 8.314472*Foglio1!$C$10*Foglio2!F561, NA())","v":{"$error":"#N/A"}},{"$error":"#N/A"},4996,8.5163928712454684,{"$f":" IF(Foglio1!$C$11 <> \"\", 8.314472*Foglio1!$C$11*Foglio2!J561, NA())","v":{"$error":"#N/A"}},{"$error":"#N/A"},4996,8.5163928712454684,{"$f":" IF(Foglio1!$C$12 <> \"\", 8.314472*Foglio1!$C$12*Foglio2!N561, NA())","v":{"$error":"#N/A"}},{"$error":"#N/A"},4996,8.5163928712454684,{"$f":" IF(Foglio1!$C$13 <> \"\", 8.314472*Foglio1!$C$13*Foglio2!R561, NA())","v":{"$error":"#N/A"}},{"$error":"#N/A"}]
[5005,8.5181926917493218,{"$f":" IF(Foglio1!$C$9 <> \"\", 8.314472*Foglio1!$C$9*Foglio2!B562, NA())","v":{"$error":"#N/A"}},{"$error":"#N/A"},5005,8.5181926917493218,{"$f":" IF(Foglio1!$C$10 <> \"\", 8.314472*Foglio1!$C$10*Foglio2!F562, NA())","v":{"$error":"#N/A"}},{"$error":"#N/A"},5005,8.5181926917493218,{"$f":" IF(Foglio1!$C$11 <> \"\", 8.314472*Foglio1!$C$11*Foglio2!J562, NA())","v":{"$error":"#N/A"}},{"$error":"#N/A"},5005,8.5181926917493218,{"$f":" IF(Foglio1!$C$12 <> \"\", 8.314472*Foglio1!$C$12*Foglio2!N562, NA())","v":{"$error":"#N/A"}},{"$error":"#N/A"},5005,8.5181926917493218,{"$f":" IF(Foglio1!$C$13 <> \"\", 8.314472*Foglio1!$C$13*Foglio2!R562, NA())","v":{"$error":"#N/A"}},{"$error":"#N/A"}]
[5014,8.5199892787182385,{"$f":" IF(Foglio1!$C$9 <> \"\", 8.314472*Foglio1!$C$9*Foglio2!B563, NA())","v":{"$error":"#N/A"}},{"$error":"#N/A"},5014,8.5199892787182385,{"$f":" IF(Foglio1!$C$10 <> \"\", 8.314472*Foglio1!$C$10*Foglio2!F563, NA())","v":{"$error":"#N/A"}},{"$error":"#N/A"},5014,8.5199892787182385,{"$f":" IF(Foglio1!$C$11 <> \"\", 8.314472*Foglio1!$C$11*Foglio2!J563, NA())","v":{"$error":"#N/A"}},{"$error":"#N/A"},5014,8.5199892787182385,{"$f":" IF(Foglio1!$C$12 <> \"\", 8.314472*Foglio1!$C$12*Foglio2!N563, NA())","v":{"$error":"#N/A"}},{"$error":"#N/A"},5014,8.5199892787182385,{"$f":" IF(Foglio1!$C$13 <> \"\", 8.314472*Foglio1!$C$13*Foglio2!R563, NA())","v":{"$error":"#N/A"}},{"$error":"#N/A"}]
[5023,8.5217826437500452,{"$f":" IF(Foglio1!$C$9 <> \"\", 8.314472*Foglio1!$C$9*Foglio2!B564, NA())","v":{"$error":"#N/A"}},{"$error":"#N/A"},5023,8.5217826437500452,{"$f":" IF(Foglio1!$C$10 <> \"\", 8.314472*Foglio1!$C$10*Foglio2!F564, NA())","v":{"$error":"#N/A"}},{"$error":"#N/A"},5023,8.5217826437500452,{"$f":" IF(Foglio1!$C$11 <> \"\", 8.314472*Foglio1!$C$11*Foglio2!J564, NA())","v":{"$error":"#N/A"}},{"$error":"#N/A"},5023,8.5217826437500452,{"$f":" IF(Foglio1!$C$12 <> \"\", 8.314472*Foglio1!$C$12*Foglio2!N564, NA())","v":{"$error":"#N/A"}},{"$error":"#N/A"},5023,8.5217826437500452,{"$f":" IF(Foglio1!$C$13 <> \"\", 8.314472*Foglio1!$C$13*Foglio2!R564, NA())","v":{"$error":"#N/A"}},{"$error":"#N/A"}]
[5032,8.5235727983802771,{"$f":" IF(Foglio1!$C$9 <> \"\", 8.314472*Foglio1!$C$9*Foglio2!B565, NA())","v":{"$error":"#N/A"}},{"$error":"#N/A"},5032,8.5235727983802771,{"$f":" IF(Foglio1!$C$10 <> \"\", 8.314472*Foglio1!$C$10*Foglio2!F565, NA())","v":{"$error":"#N/A"}},{"$error":"#N/A"},5032,8.5235727983802771,{"$f":" IF(Foglio1!$C$11 <> \"\", 8.314472*Foglio1!$C$11*Foglio2!J565, NA())","v":{"$error":"#N/A"}},{"$error":"#N/A"},5032,8.5235727983802771,{"$f":" IF(Foglio1!$C$12 <> \"\", 8.314472*Foglio1!$C$12*Foglio2!N565, NA())","v":{"$error":"#N/A"}},{"$error":"#N/A"},5032,8.5235727983802771,{"$f":" IF(Foglio1!$C$13 <> \"\", 8.314472*Foglio1!$C$13*Foglio2!R565, NA())","v":{"$error":"#N/A"}},{"$error":"#N/A"}]
[5041,8.5253597540826309,{"$f":" IF(Foglio1!$C$9 <> \"\", 8.314472*Foglio1!$C$9*Foglio2!B566, NA())","v":{"$error":"#N/A"}},{"$error":"#N/A"},5041,8.5253597540826309,{"$f":" IF(Foglio1!$C$10 <> \"\", 8.314472*Foglio1!$C$10*Foglio2!F566, NA())","v":{"$error":"#N/A"}},{"$error":"#N/A"},5041,8.5253597540826309,{"$f":" IF(Foglio1!$C$11 <> \"\", 8.314472*Foglio1!$C$11*Foglio2!J566, NA())","v":{"$error":"#N/A"}},{"$error":"#N/A"},5041,8.5253597540826309,{"$f":" IF(Foglio1!$C$12 <> \"\", 8.314472*Foglio1!$C$12*Foglio2!N566, NA())","v":{"$error":"#N/A"}},{"$error":"#N/A"},5041,8.5253597540826309,{"$f":" IF(Foglio1!$C$13 <> \"\", 8.314472*Foglio1!$C$13*Foglio2!R566, NA())","v":{"$error":"#N/A"}},{"$error":"#N/A"}]
[5050,8.5271435222694052,{"$f":" IF(Foglio1!$C$9 <> \"\", 8.314472*Foglio1!$C$9*Foglio2!B567, NA())","v":{"$error":"#N/A"}},{"$error":"#N/A"},5050,8.5271435222694052,{"$f":" IF(Foglio1!$C$10 <> \"\", 8.314472*Foglio1!$C$10*Foglio2!F567, NA())","v":{"$error":"#N/A"}},{"$error":"#N/A"},5050,8.5271435222694052,{"$f":" IF(Foglio1!$C$11 <> \"\", 8.314472*Foglio1!$C$11*Foglio2!J567, NA())","v":{"$error":"#N/A"}},{"$error":"#N/A"},5050,8.5271435222694052,{"$f":" IF(Foglio1!$C$12 <> \"\", 8.314472*Foglio1!$C$12*Foglio2!N567, NA())","v":{"$error":"#N/A"}},{"$error":"#N/A"},5050,8.5271435222694052,{"$f":" IF(Foglio1!$C$13 <> \"\", 8.314472*Foglio1!$C$13*Foglio2!R567, NA())","v":{"$error":"#N/A"}},{"$error":"#N/A"}]
[5059,8.5289241142919359,{"$f":" IF(Foglio1!$C$9 <> \"\", 8.314472*Foglio1!$C$9*Foglio2!B568, NA())","v":{"$error":"#N/A"}},{"$error":"#N/A"},5059,8.5289241142919359,{"$f":" IF(Foglio1!$C$10 <> \"\", 8.314472*Foglio1!$C$10*Foglio2!F568, NA())","v":{"$error":"#N/A"}},{"$error":"#N/A"},5059,8.5289241142919359,{"$f":" IF(Foglio1!$C$11 <> \"\", 8.314472*Foglio1!$C$11*Foglio2!J568, NA())","v":{"$error":"#N/A"}},{"$error":"#N/A"},5059,8.5289241142919359,{"$f":" IF(Foglio1!$C$12 <> \"\", 8.314472*Foglio1!$C$12*Foglio2!N568, NA())","v":{"$error":"#N/A"}},{"$error":"#N/A"},5059,8.5289241142919359,{"$f":" IF(Foglio1!$C$13 <> \"\", 8.314472*Foglio1!$C$13*Foglio2!R568, NA())","v":{"$error":"#N/A"}},{"$error":"#N/A"}]
[5068,8.5307015414410294,{"$f":" IF(Foglio1!$C$9 <> \"\", 8.314472*Foglio1!$C$9*Foglio2!B569, NA())","v":{"$error":"#N/A"}},{"$error":"#N/A"},5068,8.5307015414410294,{"$f":" IF(Foglio1!$C$10 <> \"\", 8.314472*Foglio1!$C$10*Foglio2!F569, NA())","v":{"$error":"#N/A"}},{"$error":"#N/A"},5068,8.5307015414410294,{"$f":" IF(Foglio1!$C$11 <> \"\", 8.314472*Foglio1!$C$11*Foglio2!J569, NA())","v":{"$error":"#N/A"}},{"$error":"#N/A"},5068,8.5307015414410294,{"$f":" IF(Foglio1!$C$12 <> \"\", 8.314472*Foglio1!$C$12*Foglio2!N569, NA())","v":{"$error":"#N/A"}},{"$error":"#N/A"},5068,8.5307015414410294,{"$f":" IF(Foglio1!$C$13 <> \"\", 8.314472*Foglio1!$C$13*Foglio2!R569, NA())","v":{"$error":"#N/A"}},{"$error":"#N/A"}]
[5077,8.5324758149473947,{"$f":" IF(Foglio1!$C$9 <> \"\", 8.314472*Foglio1!$C$9*Foglio2!B570, NA())","v":{"$error":"#N/A"}},{"$error":"#N/A"},5077,8.5324758149473947,{"$f":" IF(Foglio1!$C$10 <> \"\", 8.314472*Foglio1!$C$10*Foglio2!F570, NA())","v":{"$error":"#N/A"}},{"$error":"#N/A"},5077,8.5324758149473947,{"$f":" IF(Foglio1!$C$11 <> \"\", 8.314472*Foglio1!$C$11*Foglio2!J570, NA())","v":{"$error":"#N/A"}},{"$error":"#N/A"},5077,8.5324758149473947,{"$f":" IF(Foglio1!$C$12 <> \"\", 8.314472*Foglio1!$C$12*Foglio2!N570, NA())","v":{"$error":"#N/A"}},{"$error":"#N/A"},5077,8.5324758149473947,{"$f":" IF(Foglio1!$C$13 <> \"\", 8.314472*Foglio1!$C$13*Foglio2!R570, NA())","v":{"$error":"#N/A"}},{"$error":"#N/A"}]
[5086,8.5342469459820656,{"$f":" IF(Foglio1!$C$9 <> \"\", 8.314472*Foglio1!$C$9*Foglio2!B571, NA())","v":{"$error":"#N/A"}},{"$error":"#N/A"},5086,8.5342469459820656,{"$f":" IF(Foglio1!$C$10 <> \"\", 8.314472*Foglio1!$C$10*Foglio2!F571, NA())","v":{"$error":"#N/A"}},{"$error":"#N/A"},5086,8.5342469459820656,{"$f":" IF(Foglio1!$C$11 <> \"\", 8.314472*Foglio1!$C$11*Foglio2!J571, NA())","v":{"$error":"#N/A"}},{"$error":"#N/A"},5086,8.5342469459820656,{"$f":" IF(Foglio1!$C$12 <> \"\", 8.314472*Foglio1!$C$12*Foglio2!N571, NA())","v":{"$error":"#N/A"}},{"$error":"#N/A"},5086,8.5342469459820656,{"$f":" IF(Foglio1!$C$13 <> \"\", 8.314472*Foglio1!$C$13*Foglio2!R571, NA())","v":{"$error":"#N/A"}},{"$error":"#N/A"}]
[5095,8.5360149456568255,{"$f":" IF(Foglio1!$C$9 <> \"\", 8.314472*Foglio1!$C$9*Foglio2!B572, NA())","v":{"$error":"#N/A"}},{"$error":"#N/A"},5095,8.5360149456568255,{"$f":" IF(Foglio1!$C$10 <> \"\", 8.314472*Foglio1!$C$10*Foglio2!F572, NA())","v":{"$error":"#N/A"}},{"$error":"#N/A"},5095,8.5360149456568255,{"$f":" IF(Foglio1!$C$11 <> \"\", 8.314472*Foglio1!$C$11*Foglio2!J572, NA())","v":{"$error":"#N/A"}},{"$error":"#N/A"},5095,8.5360149456568255,{"$f":" IF(Foglio1!$C$12 <> \"\", 8.314472*Foglio1!$C$12*Foglio2!N572, NA())","v":{"$error":"#N/A"}},{"$error":"#N/A"},5095,8.5360149456568255,{"$f":" IF(Foglio1!$C$13 <> \"\", 8.314472*Foglio1!$C$13*Foglio2!R572, NA())","v":{"$error":"#N/A"}},{"$error":"#N/A"}]
[5104,8.5377798250246251,{"$f":" IF(Foglio1!$C$9 <> \"\", 8.314472*Foglio1!$C$9*Foglio2!B573, NA())","v":{"$error":"#N/A"}},{"$error":"#N/A"},5104,8.5377798250246251,{"$f":" IF(Foglio1!$C$10 <> \"\", 8.314472*Foglio1!$C$10*Foglio2!F573, NA())","v":{"$error":"#N/A"}},{"$error":"#N/A"},5104,8.5377798250246251,{"$f":" IF(Foglio1!$C$11 <> \"\", 8.314472*Foglio1!$C$11*Foglio2!J573, NA())","v":{"$error":"#N/A"}},{"$error":"#N/A"},5104,8.5377798250246251,{"$f":" IF(Foglio1!$C$12 <> \"\", 8.314472*Foglio1!$C$12*Foglio2!N573, NA())","v":{"$error":"#N/A"}},{"$error":"#N/A"},5104,8.5377798250246251,{"$f":" IF(Foglio1!$C$13 <> \"\", 8.314472*Foglio1!$C$13*Foglio2!R573, NA())","v":{"$error":"#N/A"}},{"$error":"#N/A"}]
[5113,8.5395415950799993,{"$f":" IF(Foglio1!$C$9 <> \"\", 8.314472*Foglio1!$C$9*Foglio2!B574, NA())","v":{"$error":"#N/A"}},{"$error":"#N/A"},5113,8.5395415950799993,{"$f":" IF(Foglio1!$C$10 <> \"\", 8.314472*Foglio1!$C$10*Foglio2!F574, NA())","v":{"$error":"#N/A"}},{"$error":"#N/A"},5113,8.5395415950799993,{"$f":" IF(Foglio1!$C$11 <> \"\", 8.314472*Foglio1!$C$11*Foglio2!J574, NA())","v":{"$error":"#N/A"}},{"$error":"#N/A"},5113,8.5395415950799993,{"$f":" IF(Foglio1!$C$12 <> \"\", 8.314472*Foglio1!$C$12*Foglio2!N574, NA())","v":{"$error":"#N/A"}},{"$error":"#N/A"},5113,8.5395415950799993,{"$f":" IF(Foglio1!$C$13 <> \"\", 8.314472*Foglio1!$C$13*Foglio2!R574, NA())","v":{"$error":"#N/A"}},{"$error":"#N/A"}]
[5122,8.5413002667594711,{"$f":" IF(Foglio1!$C$9 <> \"\", 8.314472*Foglio1!$C$9*Foglio2!B575, NA())","v":{"$error":"#N/A"}},{"$error":"#N/A"},5122,8.5413002667594711,{"$f":" IF(Foglio1!$C$10 <> \"\", 8.314472*Foglio1!$C$10*Foglio2!F575, NA())","v":{"$error":"#N/A"}},{"$error":"#N/A"},5122,8.5413002667594711,{"$f":" IF(Foglio1!$C$11 <> \"\", 8.314472*Foglio1!$C$11*Foglio2!J575, NA())","v":{"$error":"#N/A"}},{"$error":"#N/A"},5122,8.5413002667594711,{"$f":" IF(Foglio1!$C$12 <> \"\", 8.314472*Foglio1!$C$12*Foglio2!N575, NA())","v":{"$error":"#N/A"}},{"$error":"#N/A"},5122,8.5413002667594711,{"$f":" IF(Foglio1!$C$13 <> \"\", 8.314472*Foglio1!$C$13*Foglio2!R575, NA())","v":{"$error":"#N/A"}},{"$error":"#N/A"}]
[5131,8.5430558509419647,{"$f":" IF(Foglio1!$C$9 <> \"\", 8.314472*Foglio1!$C$9*Foglio2!B576, NA())","v":{"$error":"#N/A"}},{"$error":"#N/A"},5131,8.5430558509419647,{"$f":" IF(Foglio1!$C$10 <> \"\", 8.314472*Foglio1!$C$10*Foglio2!F576, NA())","v":{"$error":"#N/A"}},{"$error":"#N/A"},5131,8.5430558509419647,{"$f":" IF(Foglio1!$C$11 <> \"\", 8.314472*Foglio1!$C$11*Foglio2!J576, NA())","v":{"$error":"#N/A"}},{"$error":"#N/A"},5131,8.5430558509419647,{"$f":" IF(Foglio1!$C$12 <> \"\", 8.314472*Foglio1!$C$12*Foglio2!N576, NA())","v":{"$error":"#N/A"}},{"$error":"#N/A"},5131,8.5430558509419647,{"$f":" IF(Foglio1!$C$13 <> \"\", 8.314472*Foglio1!$C$13*Foglio2!R576, NA())","v":{"$error":"#N/A"}},{"$error":"#N/A"}]
[5140,8.5448083584492114,{"$f":" IF(Foglio1!$C$9 <> \"\", 8.314472*Foglio1!$C$9*Foglio2!B577, NA())","v":{"$error":"#N/A"}},{"$error":"#N/A"},5140,8.5448083584492114,{"$f":" IF(Foglio1!$C$10 <> \"\", 8.314472*Foglio1!$C$10*Foglio2!F577, NA())","v":{"$error":"#N/A"}},{"$error":"#N/A"},5140,8.5448083584492114,{"$f":" IF(Foglio1!$C$11 <> \"\", 8.314472*Foglio1!$C$11*Foglio2!J577, NA())","v":{"$error":"#N/A"}},{"$error":"#N/A"},5140,8.5448083584492114,{"$f":" IF(Foglio1!$C$12 <> \"\", 8.314472*Foglio1!$C$12*Foglio2!N577, NA())","v":{"$error":"#N/A"}},{"$error":"#N/A"},5140,8.5448083584492114,{"$f":" IF(Foglio1!$C$13 <> \"\", 8.314472*Foglio1!$C$13*Foglio2!R577, NA())","v":{"$error":"#N/A"}},{"$error":"#N/A"}]
[5149,8.5465578000461413,{"$f":" IF(Foglio1!$C$9 <> \"\", 8.314472*Foglio1!$C$9*Foglio2!B578, NA())","v":{"$error":"#N/A"}},{"$error":"#N/A"},5149,8.5465578000461413,{"$f":" IF(Foglio1!$C$10 <> \"\", 8.314472*Foglio1!$C$10*Foglio2!F578, NA())","v":{"$error":"#N/A"}},{"$error":"#N/A"},5149,8.5465578000461413,{"$f":" IF(Foglio1!$C$11 <> \"\", 8.314472*Foglio1!$C$11*Foglio2!J578, NA())","v":{"$error":"#N/A"}},{"$error":"#N/A"},5149,8.5465578000461413,{"$f":" IF(Foglio1!$C$12 <> \"\", 8.314472*Foglio1!$C$12*Foglio2!N578, NA())","v":{"$error":"#N/A"}},{"$error":"#N/A"},5149,8.5465578000461413,{"$f":" IF(Foglio1!$C$13 <> \"\", 8.314472*Foglio1!$C$13*Foglio2!R578, NA())","v":{"$error":"#N/A"}},{"$error":"#N/A"}]
[5158,{"$f":"LN(A579)","v":8.5483041864412908},{"$f":" IF(Foglio1!$C$9 <> \"\", 8.314472*Foglio1!$C$9*Foglio2!B579, NA())","v":{"$error":"#N/A"}},{"$f":"  -30.5 + C579*10^-3","v":{"$error":"#N/A"}},5158,{"$f":"LN(E579)","v":8.5483041864412908},{"$f":" IF(Foglio1!$C$10 <> \"\", 8.314472*Foglio1!$C$10*Foglio2!F579, NA())","v":{"$error":"#N/A"}},{"$f":" -30.5+ G579*10^-3","v":{"$error":"#N/A"}},5158,{"$f":"LN(I579)","v":8.5483041864412908},{"$f":" IF(Foglio1!$C$11 <> \"\", 8.314472*Foglio1!$C$11*Foglio2!J579, NA())","v":{"$error":"#N/A"}},{"$f":" -30.5+ K579*10^-3","v":{"$error":"#N/A"}},5158,{"$f":"LN(M579)","v":8.5483041864412908},{"$f":" IF(Foglio1!$C$12 <> \"\", 8.314472*Foglio1!$C$12*Foglio2!N579, NA())","v":{"$error":"#N/A"}},{"$f":" -30.5+ O579*10^-3","v":{"$error":"#N/A"}},5158,{"$f":"LN(Q579)","v":8.5483041864412908},{"$f":" IF(Foglio1!$C$13 <> \"\", 8.314472*Foglio1!$C$13*Foglio2!R579, NA())","v":{"$error":"#N/A"}},{"$f":" -30.5+S579*10^-3","v":{"$error":"#N/A"}}]
[5167,8.550047528287184,{"$f":" IF(Foglio1!$C$9 <> \"\", 8.314472*Foglio1!$C$9*Foglio2!B580, NA())","v":{"$error":"#N/A"}},{"$error":"#N/A"},5167,8.550047528287184,{"$f":" IF(Foglio1!$C$10 <> \"\", 8.314472*Foglio1!$C$10*Foglio2!F580, NA())","v":{"$error":"#N/A"}},{"$error":"#N/A"},5167,8.550047528287184,{"$f":" IF(Foglio1!$C$11 <> \"\", 8.314472*Foglio1!$C$11*Foglio2!J580, NA())","v":{"$error":"#N/A"}},{"$error":"#N/A"},5167,8.550047528287184,{"$f":" IF(Foglio1!$C$12 <> \"\", 8.314472*Foglio1!$C$12*Foglio2!N580, NA())","v":{"$error":"#N/A"}},{"$error":"#N/A"},5167,8.550047528287184,{"$f":" IF(Foglio1!$C$13 <> \"\", 8.314472*Foglio1!$C$13*Foglio2!R580, NA())","v":{"$error":"#N/A"}},{"$error":"#N/A"}]
[5176,8.5517878361807362,{"$f":" IF(Foglio1!$C$9 <> \"\", 8.314472*Foglio1!$C$9*Foglio2!B581, NA())","v":{"$error":"#N/A"}},{"$error":"#N/A"},5176,8.5517878361807362,{"$f":" IF(Foglio1!$C$10 <> \"\", 8.314472*Foglio1!$C$10*Foglio2!F581, NA())","v":{"$error":"#N/A"}},{"$error":"#N/A"},5176,8.5517878361807362,{"$f":" IF(Foglio1!$C$11 <> \"\", 8.314472*Foglio1!$C$11*Foglio2!J581, NA())","v":{"$error":"#N/A"}},{"$error":"#N/A"},5176,8.5517878361807362,{"$f":" IF(Foglio1!$C$12 <> \"\", 8.314472*Foglio1!$C$12*Foglio2!N581, NA())","v":{"$error":"#N/A"}},{"$error":"#N/A"},5176,8.5517878361807362,{"$f":" IF(Foglio1!$C$13 <> \"\", 8.314472*Foglio1!$C$13*Foglio2!R581, NA())","v":{"$error":"#N/A"}},{"$error":"#N/A"}]
[5185,8.5535251206636271,{"$f":" IF(Foglio1!$C$9 <> \"\", 8.314472*Foglio1!$C$9*Foglio2!B582, NA())","v":{"$error":"#N/A"}},{"$error":"#N/A"},5185,8.5535251206636271,{"$f":" IF(Foglio1!$C$10 <> \"\", 8.314472*Foglio1!$C$10*Foglio2!F582, NA())","v":{"$error":"#N/A"}},{"$error":"#N/A"},5185,8.5535251206636271,{"$f":" IF(Foglio1!$C$11 <> \"\", 8.314472*Foglio1!$C$11*Foglio2!J582, NA())","v":{"$error":"#N/A"}},{"$error":"#N/A"},5185,8.5535251206636271,{"$f":" IF(Foglio1!$C$12 <> \"\", 8.314472*Foglio1!$C$12*Foglio2!N582, NA())","v":{"$error":"#N/A"}},{"$error":"#N/A"},5185,8.5535251206636271,{"$f":" IF(Foglio1!$C$13 <> \"\", 8.314472*Foglio1!$C$13*Foglio2!R582, NA())","v":{"$error":"#N/A"}},{"$error":"#N/A"}]
[5194,8.5552593922226929,{"$f":" IF(Foglio1!$C$9 <> \"\", 8.314472*Foglio1!$C$9*Foglio2!B583, NA())","v":{"$error":"#N/A"}},{"$error":"#N/A"},5194,8.5552593922226929,{"$f":" IF(Foglio1!$C$10 <> \"\", 8.314472*Foglio1!$C$10*Foglio2!F583, NA())","v":{"$error":"#N/A"}},{"$error":"#N/A"},5194,8.5552593922226929,{"$f":" IF(Foglio1!$C$11 <> \"\", 8.314472*Foglio1!$C$11*Foglio2!J583, NA())","v":{"$error":"#N/A"}},{"$error":"#N/A"},5194,8.5552593922226929,{"$f":" IF(Foglio1!$C$12 <> \"\", 8.314472*Foglio1!$C$12*Foglio2!N583, NA())","v":{"$error":"#N/A"}},{"$error":"#N/A"},5194,8.5552593922226929,{"$f":" IF(Foglio1!$C$13 <> \"\", 8.314472*Foglio1!$C$13*Foglio2!R583, NA())","v":{"$error":"#N/A"}},{"$error":"#N/A"}]
[5203,8.5569906612903033,{"$f":" IF(Foglio1!$C$9 <> \"\", 8.314472*Foglio1!$C$9*Foglio2!B584, NA())","v":{"$error":"#N/A"}},{"$error":"#N/A"},5203,8.5569906612903033,{"$f":" IF(Foglio1!$C$10 <> \"\", 8.314472*Foglio1!$C$10*Foglio2!F584, NA())","v":{"$error":"#N/A"}},{"$error":"#N/A"},5203,8.5569906612903033,{"$f":" IF(Foglio1!$C$11 <> \"\", 8.314472*Foglio1!$C$11*Foglio2!J584, NA())","v":{"$error":"#N/A"}},{"$error":"#N/A"},5203,8.5569906612903033,{"$f":" IF(Foglio1!$C$12 <> \"\", 8.314472*Foglio1!$C$12*Foglio2!N584, NA())","v":{"$error":"#N/A"}},{"$error":"#N/A"},5203,8.5569906612903033,{"$f":" IF(Foglio1!$C$13 <> \"\", 8.314472*Foglio1!$C$13*Foglio2!R584, NA())","v":{"$error":"#N/A"}},{"$error":"#N/A"}]
[5212,8.558718938244736,{"$f":" IF(Foglio1!$C$9 <> \"\", 8.314472*Foglio1!$C$9*Foglio2!B585, NA())","v":{"$error":"#N/A"}},{"$error":"#N/A"},5212,8.558718938244736,{"$f":" IF(Foglio1!$C$10 <> \"\", 8.314472*Foglio1!$C$10*Foglio2!F585, NA())","v":{"$error":"#N/A"}},{"$error":"#N/A"},5212,8.558718938244736,{"$f":" IF(Foglio1!$C$11 <> \"\", 8.314472*Foglio1!$C$11*Foglio2!J585, NA())","v":{"$error":"#N/A"}},{"$error":"#N/A"},5212,8.558718938244736,{"$f":" IF(Foglio1!$C$12 <> \"\", 8.314472*Foglio1!$C$12*Foglio2!N585, NA())","v":{"$error":"#N/A"}},{"$error":"#N/A"},5212,8.558718938244736,{"$f":" IF(Foglio1!$C$13 <> \"\", 8.314472*Foglio1!$C$13*Foglio2!R585, NA())","v":{"$error":"#N/A"}},{"$error":"#N/A"}]
[5221,8.5604442334105517,{"$f":" IF(Foglio1!$C$9 <> \"\", 8.314472*Foglio1!$C$9*Foglio2!B586, NA())","v":{"$error":"#N/A"}},{"$error":"#N/A"},5221,8.5604442334105517,{"$f":" IF(Foglio1!$C$10 <> \"\", 8.314472*Foglio1!$C$10*Foglio2!F586, NA())","v":{"$error":"#N/A"}},{"$error":"#N/A"},5221,8.5604442334105517,{"$f":" IF(Foglio1!$C$11 <> \"\", 8.314472*Foglio1!$C$11*Foglio2!J586, NA())","v":{"$error":"#N/A"}},{"$error":"#N/A"},5221,8.5604442334105517,{"$f":" IF(Foglio1!$C$12 <> \"\", 8.314472*Foglio1!$C$12*Foglio2!N586, NA())","v":{"$error":"#N/A"}},{"$error":"#N/A"},5221,8.5604442334105517,{"$f":" IF(Foglio1!$C$13 <> \"\", 8.314472*Foglio1!$C$13*Foglio2!R586, NA())","v":{"$error":"#N/A"}},{"$error":"#N/A"}]
[5230,8.5621665570589691,{"$f":" IF(Foglio1!$C$9 <> \"\", 8.314472*Foglio1!$C$9*Foglio2!B587, NA())","v":{"$error":"#N/A"}},{"$error":"#N/A"},5230,8.5621665570589691,{"$f":" IF(Foglio1!$C$10 <> \"\", 8.314472*Foglio1!$C$10*Foglio2!F587, NA())","v":{"$error":"#N/A"}},{"$error":"#N/A"},5230,8.5621665570589691,{"$f":" IF(Foglio1!$C$11 <> \"\", 8.314472*Foglio1!$C$11*Foglio2!J587, NA())","v":{"$error":"#N/A"}},{"$error":"#N/A"},5230,8.5621665570589691,{"$f":" IF(Foglio1!$C$12 <> \"\", 8.314472*Foglio1!$C$12*Foglio2!N587, NA())","v":{"$error":"#N/A"}},{"$error":"#N/A"},5230,8.5621665570589691,{"$f":" IF(Foglio1!$C$13 <> \"\", 8.314472*Foglio1!$C$13*Foglio2!R587, NA())","v":{"$error":"#N/A"}},{"$error":"#N/A"}]
[5239,8.5638859194082197,{"$f":" IF(Foglio1!$C$9 <> \"\", 8.314472*Foglio1!$C$9*Foglio2!B588, NA())","v":{"$error":"#N/A"}},{"$error":"#N/A"},5239,8.5638859194082197,{"$f":" IF(Foglio1!$C$10 <> \"\", 8.314472*Foglio1!$C$10*Foglio2!F588, NA())","v":{"$error":"#N/A"}},{"$error":"#N/A"},5239,8.5638859194082197,{"$f":" IF(Foglio1!$C$11 <> \"\", 8.314472*Foglio1!$C$11*Foglio2!J588, NA())","v":{"$error":"#N/A"}},{"$error":"#N/A"},5239,8.5638859194082197,{"$f":" IF(Foglio1!$C$12 <> \"\", 8.314472*Foglio1!$C$12*Foglio2!N588, NA())","v":{"$error":"#N/A"}},{"$error":"#N/A"},5239,8.5638859194082197,{"$f":" IF(Foglio1!$C$13 <> \"\", 8.314472*Foglio1!$C$13*Foglio2!R588, NA())","v":{"$error":"#N/A"}},{"$error":"#N/A"}]
[5248,8.5656023306239248,{"$f":" IF(Foglio1!$C$9 <> \"\", 8.314472*Foglio1!$C$9*Foglio2!B589, NA())","v":{"$error":"#N/A"}},{"$error":"#N/A"},5248,8.5656023306239248,{"$f":" IF(Foglio1!$C$10 <> \"\", 8.314472*Foglio1!$C$10*Foglio2!F589, NA())","v":{"$error":"#N/A"}},{"$error":"#N/A"},5248,8.5656023306239248,{"$f":" IF(Foglio1!$C$11 <> \"\", 8.314472*Foglio1!$C$11*Foglio2!J589, NA())","v":{"$error":"#N/A"}},{"$error":"#N/A"},5248,8.5656023306239248,{"$f":" IF(Foglio1!$C$12 <> \"\", 8.314472*Foglio1!$C$12*Foglio2!N589, NA())","v":{"$error":"#N/A"}},{"$error":"#N/A"},5248,8.5656023306239248,{"$f":" IF(Foglio1!$C$13 <> \"\", 8.314472*Foglio1!$C$13*Foglio2!R589, NA())","v":{"$error":"#N/A"}},{"$error":"#N/A"}]
[5257,8.5673158008194488,{"$f":" IF(Foglio1!$C$9 <> \"\", 8.314472*Foglio1!$C$9*Foglio2!B590, NA())","v":{"$error":"#N/A"}},{"$error":"#N/A"},5257,8.5673158008194488,{"$f":" IF(Foglio1!$C$10 <> \"\", 8.314472*Foglio1!$C$10*Foglio2!F590, NA())","v":{"$error":"#N/A"}},{"$error":"#N/A"},5257,8.5673158008194488,{"$f":" IF(Foglio1!$C$11 <> \"\", 8.314472*Foglio1!$C$11*Foglio2!J590, NA())","v":{"$error":"#N/A"}},{"$error":"#N/A"},5257,8.5673158008194488,{"$f":" IF(Foglio1!$C$12 <> \"\", 8.314472*Foglio1!$C$12*Foglio2!N590, NA())","v":{"$error":"#N/A"}},{"$error":"#N/A"},5257,8.5673158008194488,{"$f":" IF(Foglio1!$C$13 <> \"\", 8.314472*Foglio1!$C$13*Foglio2!R590, NA())","v":{"$error":"#N/A"}},{"$error":"#N/A"}]
[5266,8.5690263400562543,{"$f":" IF(Foglio1!$C$9 <> \"\", 8.314472*Foglio1!$C$9*Foglio2!B591, NA())","v":{"$error":"#N/A"}},{"$error":"#N/A"},5266,8.5690263400562543,{"$f":" IF(Foglio1!$C$10 <> \"\", 8.314472*Foglio1!$C$10*Foglio2!F591, NA())","v":{"$error":"#N/A"}},{"$error":"#N/A"},5266,8.5690263400562543,{"$f":" IF(Foglio1!$C$11 <> \"\", 8.314472*Foglio1!$C$11*Foglio2!J591, NA())","v":{"$error":"#N/A"}},{"$error":"#N/A"},5266,8.5690263400562543,{"$f":" IF(Foglio1!$C$12 <> \"\", 8.314472*Foglio1!$C$12*Foglio2!N591, NA())","v":{"$error":"#N/A"}},{"$error":"#N/A"},5266,8.5690263400562543,{"$f":" IF(Foglio1!$C$13 <> \"\", 8.314472*Foglio1!$C$13*Foglio2!R591, NA())","v":{"$error":"#N/A"}},{"$error":"#N/A"}]
[5275,8.5707339583442668,{"$f":" IF(Foglio1!$C$9 <> \"\", 8.314472*Foglio1!$C$9*Foglio2!B592, NA())","v":{"$error":"#N/A"}},{"$error":"#N/A"},5275,8.5707339583442668,{"$f":" IF(Foglio1!$C$10 <> \"\", 8.314472*Foglio1!$C$10*Foglio2!F592, NA())","v":{"$error":"#N/A"}},{"$error":"#N/A"},5275,8.5707339583442668,{"$f":" IF(Foglio1!$C$11 <> \"\", 8.314472*Foglio1!$C$11*Foglio2!J592, NA())","v":{"$error":"#N/A"}},{"$error":"#N/A"},5275,8.5707339583442668,{"$f":" IF(Foglio1!$C$12 <> \"\", 8.314472*Foglio1!$C$12*Foglio2!N592, NA())","v":{"$error":"#N/A"}},{"$error":"#N/A"},5275,8.5707339583442668,{"$f":" IF(Foglio1!$C$13 <> \"\", 8.314472*Foglio1!$C$13*Foglio2!R592, NA())","v":{"$error":"#N/A"}},{"$error":"#N/A"}]
[5284,8.5724386656422151,{"$f":" IF(Foglio1!$C$9 <> \"\", 8.314472*Foglio1!$C$9*Foglio2!B593, NA())","v":{"$error":"#N/A"}},{"$error":"#N/A"},5284,8.5724386656422151,{"$f":" IF(Foglio1!$C$10 <> \"\", 8.314472*Foglio1!$C$10*Foglio2!F593, NA())","v":{"$error":"#N/A"}},{"$error":"#N/A"},5284,8.5724386656422151,{"$f":" IF(Foglio1!$C$11 <> \"\", 8.314472*Foglio1!$C$11*Foglio2!J593, NA())","v":{"$error":"#N/A"}},{"$error":"#N/A"},5284,8.5724386656422151,{"$f":" IF(Foglio1!$C$12 <> \"\", 8.314472*Foglio1!$C$12*Foglio2!N593, NA())","v":{"$error":"#N/A"}},{"$error":"#N/A"},5284,8.5724386656422151,{"$f":" IF(Foglio1!$C$13 <> \"\", 8.314472*Foglio1!$C$13*Foglio2!R593, NA())","v":{"$error":"#N/A"}},{"$error":"#N/A"}]
[5293,8.5741404718579872,{"$f":" IF(Foglio1!$C$9 <> \"\", 8.314472*Foglio1!$C$9*Foglio2!B594, NA())","v":{"$error":"#N/A"}},{"$error":"#N/A"},5293,8.5741404718579872,{"$f":" IF(Foglio1!$C$10 <> \"\", 8.314472*Foglio1!$C$10*Foglio2!F594, NA())","v":{"$error":"#N/A"}},{"$error":"#N/A"},5293,8.5741404718579872,{"$f":" IF(Foglio1!$C$11 <> \"\", 8.314472*Foglio1!$C$11*Foglio2!J594, NA())","v":{"$error":"#N/A"}},{"$error":"#N/A"},5293,8.5741404718579872,{"$f":" IF(Foglio1!$C$12 <> \"\", 8.314472*Foglio1!$C$12*Foglio2!N594, NA())","v":{"$error":"#N/A"}},{"$error":"#N/A"},5293,8.5741404718579872,{"$f":" IF(Foglio1!$C$13 <> \"\", 8.314472*Foglio1!$C$13*Foglio2!R594, NA())","v":{"$error":"#N/A"}},{"$error":"#N/A"}]
[5302,8.5758393868489708,{"$f":" IF(Foglio1!$C$9 <> \"\", 8.314472*Foglio1!$C$9*Foglio2!B595, NA())","v":{"$error":"#N/A"}},{"$error":"#N/A"},5302,8.5758393868489708,{"$f":" IF(Foglio1!$C$10 <> \"\", 8.314472*Foglio1!$C$10*Foglio2!F595, NA())","v":{"$error":"#N/A"}},{"$error":"#N/A"},5302,8.5758393868489708,{"$f":" IF(Foglio1!$C$11 <> \"\", 8.314472*Foglio1!$C$11*Foglio2!J595, NA())","v":{"$error":"#N/A"}},{"$error":"#N/A"},5302,8.5758393868489708,{"$f":" IF(Foglio1!$C$12 <> \"\", 8.314472*Foglio1!$C$12*Foglio2!N595, NA())","v":{"$error":"#N/A"}},{"$error":"#N/A"},5302,8.5758393868489708,{"$f":" IF(Foglio1!$C$13 <> \"\", 8.314472*Foglio1!$C$13*Foglio2!R595, NA())","v":{"$error":"#N/A"}},{"$error":"#N/A"}]
[5311,8.5775354204223984,{"$f":" IF(Foglio1!$C$9 <> \"\", 8.314472*Foglio1!$C$9*Foglio2!B596, NA())","v":{"$error":"#N/A"}},{"$error":"#N/A"},5311,8.5775354204223984,{"$f":" IF(Foglio1!$C$10 <> \"\", 8.314472*Foglio1!$C$10*Foglio2!F596, NA())","v":{"$error":"#N/A"}},{"$error":"#N/A"},5311,8.5775354204223984,{"$f":" IF(Foglio1!$C$11 <> \"\", 8.314472*Foglio1!$C$11*Foglio2!J596, NA())","v":{"$error":"#N/A"}},{"$error":"#N/A"},5311,8.5775354204223984,{"$f":" IF(Foglio1!$C$12 <> \"\", 8.314472*Foglio1!$C$12*Foglio2!N596, NA())","v":{"$error":"#N/A"}},{"$error":"#N/A"},5311,8.5775354204223984,{"$f":" IF(Foglio1!$C$13 <> \"\", 8.314472*Foglio1!$C$13*Foglio2!R596, NA())","v":{"$error":"#N/A"}},{"$error":"#N/A"}]
[5320,8.5792285823356895,{"$f":" IF(Foglio1!$C$9 <> \"\", 8.314472*Foglio1!$C$9*Foglio2!B597, NA())","v":{"$error":"#N/A"}},{"$error":"#N/A"},5320,8.5792285823356895,{"$f":" IF(Foglio1!$C$10 <> \"\", 8.314472*Foglio1!$C$10*Foglio2!F597, NA())","v":{"$error":"#N/A"}},{"$error":"#N/A"},5320,8.5792285823356895,{"$f":" IF(Foglio1!$C$11 <> \"\", 8.314472*Foglio1!$C$11*Foglio2!J597, NA())","v":{"$error":"#N/A"}},{"$error":"#N/A"},5320,8.5792285823356895,{"$f":" IF(Foglio1!$C$12 <> \"\", 8.314472*Foglio1!$C$12*Foglio2!N597, NA())","v":{"$error":"#N/A"}},{"$error":"#N/A"},5320,8.5792285823356895,{"$f":" IF(Foglio1!$C$13 <> \"\", 8.314472*Foglio1!$C$13*Foglio2!R597, NA())","v":{"$error":"#N/A"}},{"$error":"#N/A"}]
[5329,8.5809188822967819,{"$f":" IF(Foglio1!$C$9 <> \"\", 8.314472*Foglio1!$C$9*Foglio2!B598, NA())","v":{"$error":"#N/A"}},{"$error":"#N/A"},5329,8.5809188822967819,{"$f":" IF(Foglio1!$C$10 <> \"\", 8.314472*Foglio1!$C$10*Foglio2!F598, NA())","v":{"$error":"#N/A"}},{"$error":"#N/A"},5329,8.5809188822967819,{"$f":" IF(Foglio1!$C$11 <> \"\", 8.314472*Foglio1!$C$11*Foglio2!J598, NA())","v":{"$error":"#N/A"}},{"$error":"#N/A"},5329,8.5809188822967819,{"$f":" IF(Foglio1!$C$12 <> \"\", 8.314472*Foglio1!$C$12*Foglio2!N598, NA())","v":{"$error":"#N/A"}},{"$error":"#N/A"},5329,8.5809188822967819,{"$f":" IF(Foglio1!$C$13 <> \"\", 8.314472*Foglio1!$C$13*Foglio2!R598, NA())","v":{"$error":"#N/A"}},{"$error":"#N/A"}]
[5338,8.5826063299644701,{"$f":" IF(Foglio1!$C$9 <> \"\", 8.314472*Foglio1!$C$9*Foglio2!B599, NA())","v":{"$error":"#N/A"}},{"$error":"#N/A"},5338,8.5826063299644701,{"$f":" IF(Foglio1!$C$10 <> \"\", 8.314472*Foglio1!$C$10*Foglio2!F599, NA())","v":{"$error":"#N/A"}},{"$error":"#N/A"},5338,8.5826063299644701,{"$f":" IF(Foglio1!$C$11 <> \"\", 8.314472*Foglio1!$C$11*Foglio2!J599, NA())","v":{"$error":"#N/A"}},{"$error":"#N/A"},5338,8.5826063299644701,{"$f":" IF(Foglio1!$C$12 <> \"\", 8.314472*Foglio1!$C$12*Foglio2!N599, NA())","v":{"$error":"#N/A"}},{"$error":"#N/A"},5338,8.5826063299644701,{"$f":" IF(Foglio1!$C$13 <> \"\", 8.314472*Foglio1!$C$13*Foglio2!R599, NA())","v":{"$error":"#N/A"}},{"$error":"#N/A"}]
[5347,8.5842909349487311,{"$f":" IF(Foglio1!$C$9 <> \"\", 8.314472*Foglio1!$C$9*Foglio2!B600, NA())","v":{"$error":"#N/A"}},{"$error":"#N/A"},5347,8.5842909349487311,{"$f":" IF(Foglio1!$C$10 <> \"\", 8.314472*Foglio1!$C$10*Foglio2!F600, NA())","v":{"$error":"#N/A"}},{"$error":"#N/A"},5347,8.5842909349487311,{"$f":" IF(Foglio1!$C$11 <> \"\", 8.314472*Foglio1!$C$11*Foglio2!J600, NA())","v":{"$error":"#N/A"}},{"$error":"#N/A"},5347,8.5842909349487311,{"$f":" IF(Foglio1!$C$12 <> \"\", 8.314472*Foglio1!$C$12*Foglio2!N600, NA())","v":{"$error":"#N/A"}},{"$error":"#N/A"},5347,8.5842909349487311,{"$f":" IF(Foglio1!$C$13 <> \"\", 8.314472*Foglio1!$C$13*Foglio2!R600, NA())","v":{"$error":"#N/A"}},{"$error":"#N/A"}]
[5356,8.5859727068110629,{"$f":" IF(Foglio1!$C$9 <> \"\", 8.314472*Foglio1!$C$9*Foglio2!B601, NA())","v":{"$error":"#N/A"}},{"$error":"#N/A"},5356,8.5859727068110629,{"$f":" IF(Foglio1!$C$10 <> \"\", 8.314472*Foglio1!$C$10*Foglio2!F601, NA())","v":{"$error":"#N/A"}},{"$error":"#N/A"},5356,8.5859727068110629,{"$f":" IF(Foglio1!$C$11 <> \"\", 8.314472*Foglio1!$C$11*Foglio2!J601, NA())","v":{"$error":"#N/A"}},{"$error":"#N/A"},5356,8.5859727068110629,{"$f":" IF(Foglio1!$C$12 <> \"\", 8.314472*Foglio1!$C$12*Foglio2!N601, NA())","v":{"$error":"#N/A"}},{"$error":"#N/A"},5356,8.5859727068110629,{"$f":" IF(Foglio1!$C$13 <> \"\", 8.314472*Foglio1!$C$13*Foglio2!R601, NA())","v":{"$error":"#N/A"}},{"$error":"#N/A"}]
[5365,8.5876516550647981,{"$f":" IF(Foglio1!$C$9 <> \"\", 8.314472*Foglio1!$C$9*Foglio2!B602, NA())","v":{"$error":"#N/A"}},{"$error":"#N/A"},5365,8.5876516550647981,{"$f":" IF(Foglio1!$C$10 <> \"\", 8.314472*Foglio1!$C$10*Foglio2!F602, NA())","v":{"$error":"#N/A"}},{"$error":"#N/A"},5365,8.5876516550647981,{"$f":" IF(Foglio1!$C$11 <> \"\", 8.314472*Foglio1!$C$11*Foglio2!J602, NA())","v":{"$error":"#N/A"}},{"$error":"#N/A"},5365,8.5876516550647981,{"$f":" IF(Foglio1!$C$12 <> \"\", 8.314472*Foglio1!$C$12*Foglio2!N602, NA())","v":{"$error":"#N/A"}},{"$error":"#N/A"},5365,8.5876516550647981,{"$f":" IF(Foglio1!$C$13 <> \"\", 8.314472*Foglio1!$C$13*Foglio2!R602, NA())","v":{"$error":"#N/A"}},{"$error":"#N/A"}]
[5374,8.5893277891754369,{"$f":" IF(Foglio1!$C$9 <> \"\", 8.314472*Foglio1!$C$9*Foglio2!B603, NA())","v":{"$error":"#N/A"}},{"$error":"#N/A"},5374,8.5893277891754369,{"$f":" IF(Foglio1!$C$10 <> \"\", 8.314472*Foglio1!$C$10*Foglio2!F603, NA())","v":{"$error":"#N/A"}},{"$error":"#N/A"},5374,8.5893277891754369,{"$f":" IF(Foglio1!$C$11 <> \"\", 8.314472*Foglio1!$C$11*Foglio2!J603, NA())","v":{"$error":"#N/A"}},{"$error":"#N/A"},5374,8.5893277891754369,{"$f":" IF(Foglio1!$C$12 <> \"\", 8.314472*Foglio1!$C$12*Foglio2!N603, NA())","v":{"$error":"#N/A"}},{"$error":"#N/A"},5374,8.5893277891754369,{"$f":" IF(Foglio1!$C$13 <> \"\", 8.314472*Foglio1!$C$13*Foglio2!R603, NA())","v":{"$error":"#N/A"}},{"$error":"#N/A"}]
[5383,8.5910011185609569,{"$f":" IF(Foglio1!$C$9 <> \"\", 8.314472*Foglio1!$C$9*Foglio2!B604, NA())","v":{"$error":"#N/A"}},{"$error":"#N/A"},5383,8.5910011185609569,{"$f":" IF(Foglio1!$C$10 <> \"\", 8.314472*Foglio1!$C$10*Foglio2!F604, NA())","v":{"$error":"#N/A"}},{"$error":"#N/A"},5383,8.5910011185609569,{"$f":" IF(Foglio1!$C$11 <> \"\", 8.314472*Foglio1!$C$11*Foglio2!J604, NA())","v":{"$error":"#N/A"}},{"$error":"#N/A"},5383,8.5910011185609569,{"$f":" IF(Foglio1!$C$12 <> \"\", 8.314472*Foglio1!$C$12*Foglio2!N604, NA())","v":{"$error":"#N/A"}},{"$error":"#N/A"},5383,8.5910011185609569,{"$f":" IF(Foglio1!$C$13 <> \"\", 8.314472*Foglio1!$C$13*Foglio2!R604, NA())","v":{"$error":"#N/A"}},{"$error":"#N/A"}]
[5392,8.5926716525921432,{"$f":" IF(Foglio1!$C$9 <> \"\", 8.314472*Foglio1!$C$9*Foglio2!B605, NA())","v":{"$error":"#N/A"}},{"$error":"#N/A"},5392,8.5926716525921432,{"$f":" IF(Foglio1!$C$10 <> \"\", 8.314472*Foglio1!$C$10*Foglio2!F605, NA())","v":{"$error":"#N/A"}},{"$error":"#N/A"},5392,8.5926716525921432,{"$f":" IF(Foglio1!$C$11 <> \"\", 8.314472*Foglio1!$C$11*Foglio2!J605, NA())","v":{"$error":"#N/A"}},{"$error":"#N/A"},5392,8.5926716525921432,{"$f":" IF(Foglio1!$C$12 <> \"\", 8.314472*Foglio1!$C$12*Foglio2!N605, NA())","v":{"$error":"#N/A"}},{"$error":"#N/A"},5392,8.5926716525921432,{"$f":" IF(Foglio1!$C$13 <> \"\", 8.314472*Foglio1!$C$13*Foglio2!R605, NA())","v":{"$error":"#N/A"}},{"$error":"#N/A"}]
[5401,8.5943394005928919,{"$f":" IF(Foglio1!$C$9 <> \"\", 8.314472*Foglio1!$C$9*Foglio2!B606, NA())","v":{"$error":"#N/A"}},{"$error":"#N/A"},5401,8.5943394005928919,{"$f":" IF(Foglio1!$C$10 <> \"\", 8.314472*Foglio1!$C$10*Foglio2!F606, NA())","v":{"$error":"#N/A"}},{"$error":"#N/A"},5401,8.5943394005928919,{"$f":" IF(Foglio1!$C$11 <> \"\", 8.314472*Foglio1!$C$11*Foglio2!J606, NA())","v":{"$error":"#N/A"}},{"$error":"#N/A"},5401,8.5943394005928919,{"$f":" IF(Foglio1!$C$12 <> \"\", 8.314472*Foglio1!$C$12*Foglio2!N606, NA())","v":{"$error":"#N/A"}},{"$error":"#N/A"},5401,8.5943394005928919,{"$f":" IF(Foglio1!$C$13 <> \"\", 8.314472*Foglio1!$C$13*Foglio2!R606, NA())","v":{"$error":"#N/A"}},{"$error":"#N/A"}]
[5410,8.596004371840527,{"$f":" IF(Foglio1!$C$9 <> \"\", 8.314472*Foglio1!$C$9*Foglio2!B607, NA())","v":{"$error":"#N/A"}},{"$error":"#N/A"},5410,8.596004371840527,{"$f":" IF(Foglio1!$C$10 <> \"\", 8.314472*Foglio1!$C$10*Foglio2!F607, NA())","v":{"$error":"#N/A"}},{"$error":"#N/A"},5410,8.596004371840527,{"$f":" IF(Foglio1!$C$11 <> \"\", 8.314472*Foglio1!$C$11*Foglio2!J607, NA())","v":{"$error":"#N/A"}},{"$error":"#N/A"},5410,8.596004371840527,{"$f":" IF(Foglio1!$C$12 <> \"\", 8.314472*Foglio1!$C$12*Foglio2!N607, NA())","v":{"$error":"#N/A"}},{"$error":"#N/A"},5410,8.596004371840527,{"$f":" IF(Foglio1!$C$13 <> \"\", 8.314472*Foglio1!$C$13*Foglio2!R607, NA())","v":{"$error":"#N/A"}},{"$error":"#N/A"}]
[5419,8.5976665755661141,{"$f":" IF(Foglio1!$C$9 <> \"\", 8.314472*Foglio1!$C$9*Foglio2!B608, NA())","v":{"$error":"#N/A"}},{"$error":"#N/A"},5419,8.5976665755661141,{"$f":" IF(Foglio1!$C$10 <> \"\", 8.314472*Foglio1!$C$10*Foglio2!F608, NA())","v":{"$error":"#N/A"}},{"$error":"#N/A"},5419,8.5976665755661141,{"$f":" IF(Foglio1!$C$11 <> \"\", 8.314472*Foglio1!$C$11*Foglio2!J608, NA())","v":{"$error":"#N/A"}},{"$error":"#N/A"},5419,8.5976665755661141,{"$f":" IF(Foglio1!$C$12 <> \"\", 8.314472*Foglio1!$C$12*Foglio2!N608, NA())","v":{"$error":"#N/A"}},{"$error":"#N/A"},5419,8.5976665755661141,{"$f":" IF(Foglio1!$C$13 <> \"\", 8.314472*Foglio1!$C$13*Foglio2!R608, NA())","v":{"$error":"#N/A"}},{"$error":"#N/A"}]
[5428,8.5993260209547593,{"$f":" IF(Foglio1!$C$9 <> \"\", 8.314472*Foglio1!$C$9*Foglio2!B609, NA())","v":{"$error":"#N/A"}},{"$error":"#N/A"},5428,8.5993260209547593,{"$f":" IF(Foglio1!$C$10 <> \"\", 8.314472*Foglio1!$C$10*Foglio2!F609, NA())","v":{"$error":"#N/A"}},{"$error":"#N/A"},5428,8.5993260209547593,{"$f":" IF(Foglio1!$C$11 <> \"\", 8.314472*Foglio1!$C$11*Foglio2!J609, NA())","v":{"$error":"#N/A"}},{"$error":"#N/A"},5428,8.5993260209547593,{"$f":" IF(Foglio1!$C$12 <> \"\", 8.314472*Foglio1!$C$12*Foglio2!N609, NA())","v":{"$error":"#N/A"}},{"$error":"#N/A"},5428,8.5993260209547593,{"$f":" IF(Foglio1!$C$13 <> \"\", 8.314472*Foglio1!$C$13*Foglio2!R609, NA())","v":{"$error":"#N/A"}},{"$error":"#N/A"}]
[5437,8.6009827171459214,{"$f":" IF(Foglio1!$C$9 <> \"\", 8.314472*Foglio1!$C$9*Foglio2!B610, NA())","v":{"$error":"#N/A"}},{"$error":"#N/A"},5437,8.6009827171459214,{"$f":" IF(Foglio1!$C$10 <> \"\", 8.314472*Foglio1!$C$10*Foglio2!F610, NA())","v":{"$error":"#N/A"}},{"$error":"#N/A"},5437,8.6009827171459214,{"$f":" IF(Foglio1!$C$11 <> \"\", 8.314472*Foglio1!$C$11*Foglio2!J610, NA())","v":{"$error":"#N/A"}},{"$error":"#N/A"},5437,8.6009827171459214,{"$f":" IF(Foglio1!$C$12 <> \"\", 8.314472*Foglio1!$C$12*Foglio2!N610, NA())","v":{"$error":"#N/A"}},{"$error":"#N/A"},5437,8.6009827171459214,{"$f":" IF(Foglio1!$C$13 <> \"\", 8.314472*Foglio1!$C$13*Foglio2!R610, NA())","v":{"$error":"#N/A"}},{"$error":"#N/A"}]
[5446,8.6026366732337056,{"$f":" IF(Foglio1!$C$9 <> \"\", 8.314472*Foglio1!$C$9*Foglio2!B611, NA())","v":{"$error":"#N/A"}},{"$error":"#N/A"},5446,8.6026366732337056,{"$f":" IF(Foglio1!$C$10 <> \"\", 8.314472*Foglio1!$C$10*Foglio2!F611, NA())","v":{"$error":"#N/A"}},{"$error":"#N/A"},5446,8.6026366732337056,{"$f":" IF(Foglio1!$C$11 <> \"\", 8.314472*Foglio1!$C$11*Foglio2!J611, NA())","v":{"$error":"#N/A"}},{"$error":"#N/A"},5446,8.6026366732337056,{"$f":" IF(Foglio1!$C$12 <> \"\", 8.314472*Foglio1!$C$12*Foglio2!N611, NA())","v":{"$error":"#N/A"}},{"$error":"#N/A"},5446,8.6026366732337056,{"$f":" IF(Foglio1!$C$13 <> \"\", 8.314472*Foglio1!$C$13*Foglio2!R611, NA())","v":{"$error":"#N/A"}},{"$error":"#N/A"}]
[5455,8.604287898267172,{"$f":" IF(Foglio1!$C$9 <> \"\", 8.314472*Foglio1!$C$9*Foglio2!B612, NA())","v":{"$error":"#N/A"}},{"$error":"#N/A"},5455,8.604287898267172,{"$f":" IF(Foglio1!$C$10 <> \"\", 8.314472*Foglio1!$C$10*Foglio2!F612, NA())","v":{"$error":"#N/A"}},{"$error":"#N/A"},5455,8.604287898267172,{"$f":" IF(Foglio1!$C$11 <> \"\", 8.314472*Foglio1!$C$11*Foglio2!J612, NA())","v":{"$error":"#N/A"}},{"$error":"#N/A"},5455,8.604287898267172,{"$f":" IF(Foglio1!$C$12 <> \"\", 8.314472*Foglio1!$C$12*Foglio2!N612, NA())","v":{"$error":"#N/A"}},{"$error":"#N/A"},5455,8.604287898267172,{"$f":" IF(Foglio1!$C$13 <> \"\", 8.314472*Foglio1!$C$13*Foglio2!R612, NA())","v":{"$error":"#N/A"}},{"$error":"#N/A"}]
[5464,8.6059364012506254,{"$f":" IF(Foglio1!$C$9 <> \"\", 8.314472*Foglio1!$C$9*Foglio2!B613, NA())","v":{"$error":"#N/A"}},{"$error":"#N/A"},5464,8.6059364012506254,{"$f":" IF(Foglio1!$C$10 <> \"\", 8.314472*Foglio1!$C$10*Foglio2!F613, NA())","v":{"$error":"#N/A"}},{"$error":"#N/A"},5464,8.6059364012506254,{"$f":" IF(Foglio1!$C$11 <> \"\", 8.314472*Foglio1!$C$11*Foglio2!J613, NA())","v":{"$error":"#N/A"}},{"$error":"#N/A"},5464,8.6059364012506254,{"$f":" IF(Foglio1!$C$12 <> \"\", 8.314472*Foglio1!$C$12*Foglio2!N613, NA())","v":{"$error":"#N/A"}},{"$error":"#N/A"},5464,8.6059364012506254,{"$f":" IF(Foglio1!$C$13 <> \"\", 8.314472*Foglio1!$C$13*Foglio2!R613, NA())","v":{"$error":"#N/A"}},{"$error":"#N/A"}]
[5473,8.6075821911439174,{"$f":" IF(Foglio1!$C$9 <> \"\", 8.314472*Foglio1!$C$9*Foglio2!B614, NA())","v":{"$error":"#N/A"}},{"$error":"#N/A"},5473,8.6075821911439174,{"$f":" IF(Foglio1!$C$10 <> \"\", 8.314472*Foglio1!$C$10*Foglio2!F614, NA())","v":{"$error":"#N/A"}},{"$error":"#N/A"},5473,8.6075821911439174,{"$f":" IF(Foglio1!$C$11 <> \"\", 8.314472*Foglio1!$C$11*Foglio2!J614, NA())","v":{"$error":"#N/A"}},{"$error":"#N/A"},5473,8.6075821911439174,{"$f":" IF(Foglio1!$C$12 <> \"\", 8.314472*Foglio1!$C$12*Foglio2!N614, NA())","v":{"$error":"#N/A"}},{"$error":"#N/A"},5473,8.6075821911439174,{"$f":" IF(Foglio1!$C$13 <> \"\", 8.314472*Foglio1!$C$13*Foglio2!R614, NA())","v":{"$error":"#N/A"}},{"$error":"#N/A"}]
[5482,8.6092252768627304,{"$f":" IF(Foglio1!$C$9 <> \"\", 8.314472*Foglio1!$C$9*Foglio2!B615, NA())","v":{"$error":"#N/A"}},{"$error":"#N/A"},5482,8.6092252768627304,{"$f":" IF(Foglio1!$C$10 <> \"\", 8.314472*Foglio1!$C$10*Foglio2!F615, NA())","v":{"$error":"#N/A"}},{"$error":"#N/A"},5482,8.6092252768627304,{"$f":" IF(Foglio1!$C$11 <> \"\", 8.314472*Foglio1!$C$11*Foglio2!J615, NA())","v":{"$error":"#N/A"}},{"$error":"#N/A"},5482,8.6092252768627304,{"$f":" IF(Foglio1!$C$12 <> \"\", 8.314472*Foglio1!$C$12*Foglio2!N615, NA())","v":{"$error":"#N/A"}},{"$error":"#N/A"},5482,8.6092252768627304,{"$f":" IF(Foglio1!$C$13 <> \"\", 8.314472*Foglio1!$C$13*Foglio2!R615, NA())","v":{"$error":"#N/A"}},{"$error":"#N/A"}]
[5491,8.6108656672788726,{"$f":" IF(Foglio1!$C$9 <> \"\", 8.314472*Foglio1!$C$9*Foglio2!B616, NA())","v":{"$error":"#N/A"}},{"$error":"#N/A"},5491,8.6108656672788726,{"$f":" IF(Foglio1!$C$10 <> \"\", 8.314472*Foglio1!$C$10*Foglio2!F616, NA())","v":{"$error":"#N/A"}},{"$error":"#N/A"},5491,8.6108656672788726,{"$f":" IF(Foglio1!$C$11 <> \"\", 8.314472*Foglio1!$C$11*Foglio2!J616, NA())","v":{"$error":"#N/A"}},{"$error":"#N/A"},5491,8.6108656672788726,{"$f":" IF(Foglio1!$C$12 <> \"\", 8.314472*Foglio1!$C$12*Foglio2!N616, NA())","v":{"$error":"#N/A"}},{"$error":"#N/A"},5491,8.6108656672788726,{"$f":" IF(Foglio1!$C$13 <> \"\", 8.314472*Foglio1!$C$13*Foglio2!R616, NA())","v":{"$error":"#N/A"}},{"$error":"#N/A"}]
[5500,8.6125033712205621,{"$f":" IF(Foglio1!$C$9 <> \"\", 8.314472*Foglio1!$C$9*Foglio2!B617, NA())","v":{"$error":"#N/A"}},{"$error":"#N/A"},5500,8.6125033712205621,{"$f":" IF(Foglio1!$C$10 <> \"\", 8.314472*Foglio1!$C$10*Foglio2!F617, NA())","v":{"$error":"#N/A"}},{"$error":"#N/A"},5500,8.6125033712205621,{"$f":" IF(Foglio1!$C$11 <> \"\", 8.314472*Foglio1!$C$11*Foglio2!J617, NA())","v":{"$error":"#N/A"}},{"$error":"#N/A"},5500,8.6125033712205621,{"$f":" IF(Foglio1!$C$12 <> \"\", 8.314472*Foglio1!$C$12*Foglio2!N617, NA())","v":{"$error":"#N/A"}},{"$error":"#N/A"},5500,8.6125033712205621,{"$f":" IF(Foglio1!$C$13 <> \"\", 8.314472*Foglio1!$C$13*Foglio2!R617, NA())","v":{"$error":"#N/A"}},{"$error":"#N/A"}]
[5509,8.6141383974727166,{"$f":" IF(Foglio1!$C$9 <> \"\", 8.314472*Foglio1!$C$9*Foglio2!B618, NA())","v":{"$error":"#N/A"}},{"$error":"#N/A"},5509,8.6141383974727166,{"$f":" IF(Foglio1!$C$10 <> \"\", 8.314472*Foglio1!$C$10*Foglio2!F618, NA())","v":{"$error":"#N/A"}},{"$error":"#N/A"},5509,8.6141383974727166,{"$f":" IF(Foglio1!$C$11 <> \"\", 8.314472*Foglio1!$C$11*Foglio2!J618, NA())","v":{"$error":"#N/A"}},{"$error":"#N/A"},5509,8.6141383974727166,{"$f":" IF(Foglio1!$C$12 <> \"\", 8.314472*Foglio1!$C$12*Foglio2!N618, NA())","v":{"$error":"#N/A"}},{"$error":"#N/A"},5509,8.6141383974727166,{"$f":" IF(Foglio1!$C$13 <> \"\", 8.314472*Foglio1!$C$13*Foglio2!R618, NA())","v":{"$error":"#N/A"}},{"$error":"#N/A"}]
[5518,8.6157707547772322,{"$f":" IF(Foglio1!$C$9 <> \"\", 8.314472*Foglio1!$C$9*Foglio2!B619, NA())","v":{"$error":"#N/A"}},{"$error":"#N/A"},5518,8.6157707547772322,{"$f":" IF(Foglio1!$C$10 <> \"\", 8.314472*Foglio1!$C$10*Foglio2!F619, NA())","v":{"$error":"#N/A"}},{"$error":"#N/A"},5518,8.6157707547772322,{"$f":" IF(Foglio1!$C$11 <> \"\", 8.314472*Foglio1!$C$11*Foglio2!J619, NA())","v":{"$error":"#N/A"}},{"$error":"#N/A"},5518,8.6157707547772322,{"$f":" IF(Foglio1!$C$12 <> \"\", 8.314472*Foglio1!$C$12*Foglio2!N619, NA())","v":{"$error":"#N/A"}},{"$error":"#N/A"},5518,8.6157707547772322,{"$f":" IF(Foglio1!$C$13 <> \"\", 8.314472*Foglio1!$C$13*Foglio2!R619, NA())","v":{"$error":"#N/A"}},{"$error":"#N/A"}]
[5527,8.6174004518332623,{"$f":" IF(Foglio1!$C$9 <> \"\", 8.314472*Foglio1!$C$9*Foglio2!B620, NA())","v":{"$error":"#N/A"}},{"$error":"#N/A"},5527,8.6174004518332623,{"$f":" IF(Foglio1!$C$10 <> \"\", 8.314472*Foglio1!$C$10*Foglio2!F620, NA())","v":{"$error":"#N/A"}},{"$error":"#N/A"},5527,8.6174004518332623,{"$f":" IF(Foglio1!$C$11 <> \"\", 8.314472*Foglio1!$C$11*Foglio2!J620, NA())","v":{"$error":"#N/A"}},{"$error":"#N/A"},5527,8.6174004518332623,{"$f":" IF(Foglio1!$C$12 <> \"\", 8.314472*Foglio1!$C$12*Foglio2!N620, NA())","v":{"$error":"#N/A"}},{"$error":"#N/A"},5527,8.6174004518332623,{"$f":" IF(Foglio1!$C$13 <> \"\", 8.314472*Foglio1!$C$13*Foglio2!R620, NA())","v":{"$error":"#N/A"}},{"$error":"#N/A"}]
[5536,8.6190274972975054,{"$f":" IF(Foglio1!$C$9 <> \"\", 8.314472*Foglio1!$C$9*Foglio2!B621, NA())","v":{"$error":"#N/A"}},{"$error":"#N/A"},5536,8.6190274972975054,{"$f":" IF(Foglio1!$C$10 <> \"\", 8.314472*Foglio1!$C$10*Foglio2!F621, NA())","v":{"$error":"#N/A"}},{"$error":"#N/A"},5536,8.6190274972975054,{"$f":" IF(Foglio1!$C$11 <> \"\", 8.314472*Foglio1!$C$11*Foglio2!J621, NA())","v":{"$error":"#N/A"}},{"$error":"#N/A"},5536,8.6190274972975054,{"$f":" IF(Foglio1!$C$12 <> \"\", 8.314472*Foglio1!$C$12*Foglio2!N621, NA())","v":{"$error":"#N/A"}},{"$error":"#N/A"},5536,8.6190274972975054,{"$f":" IF(Foglio1!$C$13 <> \"\", 8.314472*Foglio1!$C$13*Foglio2!R621, NA())","v":{"$error":"#N/A"}},{"$error":"#N/A"}]
[5545,8.6206518997844679,{"$f":" IF(Foglio1!$C$9 <> \"\", 8.314472*Foglio1!$C$9*Foglio2!B622, NA())","v":{"$error":"#N/A"}},{"$error":"#N/A"},5545,8.6206518997844679,{"$f":" IF(Foglio1!$C$10 <> \"\", 8.314472*Foglio1!$C$10*Foglio2!F622, NA())","v":{"$error":"#N/A"}},{"$error":"#N/A"},5545,8.6206518997844679,{"$f":" IF(Foglio1!$C$11 <> \"\", 8.314472*Foglio1!$C$11*Foglio2!J622, NA())","v":{"$error":"#N/A"}},{"$error":"#N/A"},5545,8.6206518997844679,{"$f":" IF(Foglio1!$C$12 <> \"\", 8.314472*Foglio1!$C$12*Foglio2!N622, NA())","v":{"$error":"#N/A"}},{"$error":"#N/A"},5545,8.6206518997844679,{"$f":" IF(Foglio1!$C$13 <> \"\", 8.314472*Foglio1!$C$13*Foglio2!R622, NA())","v":{"$error":"#N/A"}},{"$error":"#N/A"}]
[5554,8.6222736678667449,{"$f":" IF(Foglio1!$C$9 <> \"\", 8.314472*Foglio1!$C$9*Foglio2!B623, NA())","v":{"$error":"#N/A"}},{"$error":"#N/A"},5554,8.6222736678667449,{"$f":" IF(Foglio1!$C$10 <> \"\", 8.314472*Foglio1!$C$10*Foglio2!F623, NA())","v":{"$error":"#N/A"}},{"$error":"#N/A"},5554,8.6222736678667449,{"$f":" IF(Foglio1!$C$11 <> \"\", 8.314472*Foglio1!$C$11*Foglio2!J623, NA())","v":{"$error":"#N/A"}},{"$error":"#N/A"},5554,8.6222736678667449,{"$f":" IF(Foglio1!$C$12 <> \"\", 8.314472*Foglio1!$C$12*Foglio2!N623, NA())","v":{"$error":"#N/A"}},{"$error":"#N/A"},5554,8.6222736678667449,{"$f":" IF(Foglio1!$C$13 <> \"\", 8.314472*Foglio1!$C$13*Foglio2!R623, NA())","v":{"$error":"#N/A"}},{"$error":"#N/A"}]
[5563,8.6238928100752936,{"$f":" IF(Foglio1!$C$9 <> \"\", 8.314472*Foglio1!$C$9*Foglio2!B624, NA())","v":{"$error":"#N/A"}},{"$error":"#N/A"},5563,8.6238928100752936,{"$f":" IF(Foglio1!$C$10 <> \"\", 8.314472*Foglio1!$C$10*Foglio2!F624, NA())","v":{"$error":"#N/A"}},{"$error":"#N/A"},5563,8.6238928100752936,{"$f":" IF(Foglio1!$C$11 <> \"\", 8.314472*Foglio1!$C$11*Foglio2!J624, NA())","v":{"$error":"#N/A"}},{"$error":"#N/A"},5563,8.6238928100752936,{"$f":" IF(Foglio1!$C$12 <> \"\", 8.314472*Foglio1!$C$12*Foglio2!N624, NA())","v":{"$error":"#N/A"}},{"$error":"#N/A"},5563,8.6238928100752936,{"$f":" IF(Foglio1!$C$13 <> \"\", 8.314472*Foglio1!$C$13*Foglio2!R624, NA())","v":{"$error":"#N/A"}},{"$error":"#N/A"}]
[5572,8.6255093348996965,{"$f":" IF(Foglio1!$C$9 <> \"\", 8.314472*Foglio1!$C$9*Foglio2!B625, NA())","v":{"$error":"#N/A"}},{"$error":"#N/A"},5572,8.6255093348996965,{"$f":" IF(Foglio1!$C$10 <> \"\", 8.314472*Foglio1!$C$10*Foglio2!F625, NA())","v":{"$error":"#N/A"}},{"$error":"#N/A"},5572,8.6255093348996965,{"$f":" IF(Foglio1!$C$11 <> \"\", 8.314472*Foglio1!$C$11*Foglio2!J625, NA())","v":{"$error":"#N/A"}},{"$error":"#N/A"},5572,8.6255093348996965,{"$f":" IF(Foglio1!$C$12 <> \"\", 8.314472*Foglio1!$C$12*Foglio2!N625, NA())","v":{"$error":"#N/A"}},{"$error":"#N/A"},5572,8.6255093348996965,{"$f":" IF(Foglio1!$C$13 <> \"\", 8.314472*Foglio1!$C$13*Foglio2!R625, NA())","v":{"$error":"#N/A"}},{"$error":"#N/A"}]
[5581,8.6271232507884328,{"$f":" IF(Foglio1!$C$9 <> \"\", 8.314472*Foglio1!$C$9*Foglio2!B626, NA())","v":{"$error":"#N/A"}},{"$error":"#N/A"},5581,8.6271232507884328,{"$f":" IF(Foglio1!$C$10 <> \"\", 8.314472*Foglio1!$C$10*Foglio2!F626, NA())","v":{"$error":"#N/A"}},{"$error":"#N/A"},5581,8.6271232507884328,{"$f":" IF(Foglio1!$C$11 <> \"\", 8.314472*Foglio1!$C$11*Foglio2!J626, NA())","v":{"$error":"#N/A"}},{"$error":"#N/A"},5581,8.6271232507884328,{"$f":" IF(Foglio1!$C$12 <> \"\", 8.314472*Foglio1!$C$12*Foglio2!N626, NA())","v":{"$error":"#N/A"}},{"$error":"#N/A"},5581,8.6271232507884328,{"$f":" IF(Foglio1!$C$13 <> \"\", 8.314472*Foglio1!$C$13*Foglio2!R626, NA())","v":{"$error":"#N/A"}},{"$error":"#N/A"}]
[5590,8.628734566149145,{"$f":" IF(Foglio1!$C$9 <> \"\", 8.314472*Foglio1!$C$9*Foglio2!B627, NA())","v":{"$error":"#N/A"}},{"$error":"#N/A"},5590,8.628734566149145,{"$f":" IF(Foglio1!$C$10 <> \"\", 8.314472*Foglio1!$C$10*Foglio2!F627, NA())","v":{"$error":"#N/A"}},{"$error":"#N/A"},5590,8.628734566149145,{"$f":" IF(Foglio1!$C$11 <> \"\", 8.314472*Foglio1!$C$11*Foglio2!J627, NA())","v":{"$error":"#N/A"}},{"$error":"#N/A"},5590,8.628734566149145,{"$f":" IF(Foglio1!$C$12 <> \"\", 8.314472*Foglio1!$C$12*Foglio2!N627, NA())","v":{"$error":"#N/A"}},{"$error":"#N/A"},5590,8.628734566149145,{"$f":" IF(Foglio1!$C$13 <> \"\", 8.314472*Foglio1!$C$13*Foglio2!R627, NA())","v":{"$error":"#N/A"}},{"$error":"#N/A"}]
[5599,8.6303432893488932,{"$f":" IF(Foglio1!$C$9 <> \"\", 8.314472*Foglio1!$C$9*Foglio2!B628, NA())","v":{"$error":"#N/A"}},{"$error":"#N/A"},5599,8.6303432893488932,{"$f":" IF(Foglio1!$C$10 <> \"\", 8.314472*Foglio1!$C$10*Foglio2!F628, NA())","v":{"$error":"#N/A"}},{"$error":"#N/A"},5599,8.6303432893488932,{"$f":" IF(Foglio1!$C$11 <> \"\", 8.314472*Foglio1!$C$11*Foglio2!J628, NA())","v":{"$error":"#N/A"}},{"$error":"#N/A"},5599,8.6303432893488932,{"$f":" IF(Foglio1!$C$12 <> \"\", 8.314472*Foglio1!$C$12*Foglio2!N628, NA())","v":{"$error":"#N/A"}},{"$error":"#N/A"},5599,8.6303432893488932,{"$f":" IF(Foglio1!$C$13 <> \"\", 8.314472*Foglio1!$C$13*Foglio2!R628, NA())","v":{"$error":"#N/A"}},{"$error":"#N/A"}]
[5608,8.6319494287144263,{"$f":" IF(Foglio1!$C$9 <> \"\", 8.314472*Foglio1!$C$9*Foglio2!B629, NA())","v":{"$error":"#N/A"}},{"$error":"#N/A"},5608,8.6319494287144263,{"$f":" IF(Foglio1!$C$10 <> \"\", 8.314472*Foglio1!$C$10*Foglio2!F629, NA())","v":{"$error":"#N/A"}},{"$error":"#N/A"},5608,8.6319494287144263,{"$f":" IF(Foglio1!$C$11 <> \"\", 8.314472*Foglio1!$C$11*Foglio2!J629, NA())","v":{"$error":"#N/A"}},{"$error":"#N/A"},5608,8.6319494287144263,{"$f":" IF(Foglio1!$C$12 <> \"\", 8.314472*Foglio1!$C$12*Foglio2!N629, NA())","v":{"$error":"#N/A"}},{"$error":"#N/A"},5608,8.6319494287144263,{"$f":" IF(Foglio1!$C$13 <> \"\", 8.314472*Foglio1!$C$13*Foglio2!R629, NA())","v":{"$error":"#N/A"}},{"$error":"#N/A"}]
[5617,8.633552992532433,{"$f":" IF(Foglio1!$C$9 <> \"\", 8.314472*Foglio1!$C$9*Foglio2!B630, NA())","v":{"$error":"#N/A"}},{"$error":"#N/A"},5617,8.633552992532433,{"$f":" IF(Foglio1!$C$10 <> \"\", 8.314472*Foglio1!$C$10*Foglio2!F630, NA())","v":{"$error":"#N/A"}},{"$error":"#N/A"},5617,8.633552992532433,{"$f":" IF(Foglio1!$C$11 <> \"\", 8.314472*Foglio1!$C$11*Foglio2!J630, NA())","v":{"$error":"#N/A"}},{"$error":"#N/A"},5617,8.633552992532433,{"$f":" IF(Foglio1!$C$12 <> \"\", 8.314472*Foglio1!$C$12*Foglio2!N630, NA())","v":{"$error":"#N/A"}},{"$error":"#N/A"},5617,8.633552992532433,{"$f":" IF(Foglio1!$C$13 <> \"\", 8.314472*Foglio1!$C$13*Foglio2!R630, NA())","v":{"$error":"#N/A"}},{"$error":"#N/A"}]
[5626,8.6351539890498028,{"$f":" IF(Foglio1!$C$9 <> \"\", 8.314472*Foglio1!$C$9*Foglio2!B631, NA())","v":{"$error":"#N/A"}},{"$error":"#N/A"},5626,8.6351539890498028,{"$f":" IF(Foglio1!$C$10 <> \"\", 8.314472*Foglio1!$C$10*Foglio2!F631, NA())","v":{"$error":"#N/A"}},{"$error":"#N/A"},5626,8.6351539890498028,{"$f":" IF(Foglio1!$C$11 <> \"\", 8.314472*Foglio1!$C$11*Foglio2!J631, NA())","v":{"$error":"#N/A"}},{"$error":"#N/A"},5626,8.6351539890498028,{"$f":" IF(Foglio1!$C$12 <> \"\", 8.314472*Foglio1!$C$12*Foglio2!N631, NA())","v":{"$error":"#N/A"}},{"$error":"#N/A"},5626,8.6351539890498028,{"$f":" IF(Foglio1!$C$13 <> \"\", 8.314472*Foglio1!$C$13*Foglio2!R631, NA())","v":{"$error":"#N/A"}},{"$error":"#N/A"}]
[5635,8.6367524264738762,{"$f":" IF(Foglio1!$C$9 <> \"\", 8.314472*Foglio1!$C$9*Foglio2!B632, NA())","v":{"$error":"#N/A"}},{"$error":"#N/A"},5635,8.6367524264738762,{"$f":" IF(Foglio1!$C$10 <> \"\", 8.314472*Foglio1!$C$10*Foglio2!F632, NA())","v":{"$error":"#N/A"}},{"$error":"#N/A"},5635,8.6367524264738762,{"$f":" IF(Foglio1!$C$11 <> \"\", 8.314472*Foglio1!$C$11*Foglio2!J632, NA())","v":{"$error":"#N/A"}},{"$error":"#N/A"},5635,8.6367524264738762,{"$f":" IF(Foglio1!$C$12 <> \"\", 8.314472*Foglio1!$C$12*Foglio2!N632, NA())","v":{"$error":"#N/A"}},{"$error":"#N/A"},5635,8.6367524264738762,{"$f":" IF(Foglio1!$C$13 <> \"\", 8.314472*Foglio1!$C$13*Foglio2!R632, NA())","v":{"$error":"#N/A"}},{"$error":"#N/A"}]
[5644,8.6383483129727043,{"$f":" IF(Foglio1!$C$9 <> \"\", 8.314472*Foglio1!$C$9*Foglio2!B633, NA())","v":{"$error":"#N/A"}},{"$error":"#N/A"},5644,8.6383483129727043,{"$f":" IF(Foglio1!$C$10 <> \"\", 8.314472*Foglio1!$C$10*Foglio2!F633, NA())","v":{"$error":"#N/A"}},{"$error":"#N/A"},5644,8.6383483129727043,{"$f":" IF(Foglio1!$C$11 <> \"\", 8.314472*Foglio1!$C$11*Foglio2!J633, NA())","v":{"$error":"#N/A"}},{"$error":"#N/A"},5644,8.6383483129727043,{"$f":" IF(Foglio1!$C$12 <> \"\", 8.314472*Foglio1!$C$12*Foglio2!N633, NA())","v":{"$error":"#N/A"}},{"$error":"#N/A"},5644,8.6383483129727043,{"$f":" IF(Foglio1!$C$13 <> \"\", 8.314472*Foglio1!$C$13*Foglio2!R633, NA())","v":{"$error":"#N/A"}},{"$error":"#N/A"}]
[5653,8.6399416566752905,{"$f":" IF(Foglio1!$C$9 <> \"\", 8.314472*Foglio1!$C$9*Foglio2!B634, NA())","v":{"$error":"#N/A"}},{"$error":"#N/A"},5653,8.6399416566752905,{"$f":" IF(Foglio1!$C$10 <> \"\", 8.314472*Foglio1!$C$10*Foglio2!F634, NA())","v":{"$error":"#N/A"}},{"$error":"#N/A"},5653,8.6399416566752905,{"$f":" IF(Foglio1!$C$11 <> \"\", 8.314472*Foglio1!$C$11*Foglio2!J634, NA())","v":{"$error":"#N/A"}},{"$error":"#N/A"},5653,8.6399416566752905,{"$f":" IF(Foglio1!$C$12 <> \"\", 8.314472*Foglio1!$C$12*Foglio2!N634, NA())","v":{"$error":"#N/A"}},{"$error":"#N/A"},5653,8.6399416566752905,{"$f":" IF(Foglio1!$C$13 <> \"\", 8.314472*Foglio1!$C$13*Foglio2!R634, NA())","v":{"$error":"#N/A"}},{"$error":"#N/A"}]
[5662,8.6415324656718457,{"$f":" IF(Foglio1!$C$9 <> \"\", 8.314472*Foglio1!$C$9*Foglio2!B635, NA())","v":{"$error":"#N/A"}},{"$error":"#N/A"},5662,8.6415324656718457,{"$f":" IF(Foglio1!$C$10 <> \"\", 8.314472*Foglio1!$C$10*Foglio2!F635, NA())","v":{"$error":"#N/A"}},{"$error":"#N/A"},5662,8.6415324656718457,{"$f":" IF(Foglio1!$C$11 <> \"\", 8.314472*Foglio1!$C$11*Foglio2!J635, NA())","v":{"$error":"#N/A"}},{"$error":"#N/A"},5662,8.6415324656718457,{"$f":" IF(Foglio1!$C$12 <> \"\", 8.314472*Foglio1!$C$12*Foglio2!N635, NA())","v":{"$error":"#N/A"}},{"$error":"#N/A"},5662,8.6415324656718457,{"$f":" IF(Foglio1!$C$13 <> \"\", 8.314472*Foglio1!$C$13*Foglio2!R635, NA())","v":{"$error":"#N/A"}},{"$error":"#N/A"}]
[5671,8.6431207480140273,{"$f":" IF(Foglio1!$C$9 <> \"\", 8.314472*Foglio1!$C$9*Foglio2!B636, NA())","v":{"$error":"#N/A"}},{"$error":"#N/A"},5671,8.6431207480140273,{"$f":" IF(Foglio1!$C$10 <> \"\", 8.314472*Foglio1!$C$10*Foglio2!F636, NA())","v":{"$error":"#N/A"}},{"$error":"#N/A"},5671,8.6431207480140273,{"$f":" IF(Foglio1!$C$11 <> \"\", 8.314472*Foglio1!$C$11*Foglio2!J636, NA())","v":{"$error":"#N/A"}},{"$error":"#N/A"},5671,8.6431207480140273,{"$f":" IF(Foglio1!$C$12 <> \"\", 8.314472*Foglio1!$C$12*Foglio2!N636, NA())","v":{"$error":"#N/A"}},{"$error":"#N/A"},5671,8.6431207480140273,{"$f":" IF(Foglio1!$C$13 <> \"\", 8.314472*Foglio1!$C$13*Foglio2!R636, NA())","v":{"$error":"#N/A"}},{"$error":"#N/A"}]
[5680,8.6447065117151975,{"$f":" IF(Foglio1!$C$9 <> \"\", 8.314472*Foglio1!$C$9*Foglio2!B637, NA())","v":{"$error":"#N/A"}},{"$error":"#N/A"},5680,8.6447065117151975,{"$f":" IF(Foglio1!$C$10 <> \"\", 8.314472*Foglio1!$C$10*Foglio2!F637, NA())","v":{"$error":"#N/A"}},{"$error":"#N/A"},5680,8.6447065117151975,{"$f":" IF(Foglio1!$C$11 <> \"\", 8.314472*Foglio1!$C$11*Foglio2!J637, NA())","v":{"$error":"#N/A"}},{"$error":"#N/A"},5680,8.6447065117151975,{"$f":" IF(Foglio1!$C$12 <> \"\", 8.314472*Foglio1!$C$12*Foglio2!N637, NA())","v":{"$error":"#N/A"}},{"$error":"#N/A"},5680,8.6447065117151975,{"$f":" IF(Foglio1!$C$13 <> \"\", 8.314472*Foglio1!$C$13*Foglio2!R637, NA())","v":{"$error":"#N/A"}},{"$error":"#N/A"}]
[5689,8.646289764750648,{"$f":" IF(Foglio1!$C$9 <> \"\", 8.314472*Foglio1!$C$9*Foglio2!B638, NA())","v":{"$error":"#N/A"}},{"$error":"#N/A"},5689,8.646289764750648,{"$f":" IF(Foglio1!$C$10 <> \"\", 8.314472*Foglio1!$C$10*Foglio2!F638, NA())","v":{"$error":"#N/A"}},{"$error":"#N/A"},5689,8.646289764750648,{"$f":" IF(Foglio1!$C$11 <> \"\", 8.314472*Foglio1!$C$11*Foglio2!J638, NA())","v":{"$error":"#N/A"}},{"$error":"#N/A"},5689,8.646289764750648,{"$f":" IF(Foglio1!$C$12 <> \"\", 8.314472*Foglio1!$C$12*Foglio2!N638, NA())","v":{"$error":"#N/A"}},{"$error":"#N/A"},5689,8.646289764750648,{"$f":" IF(Foglio1!$C$13 <> \"\", 8.314472*Foglio1!$C$13*Foglio2!R638, NA())","v":{"$error":"#N/A"}},{"$error":"#N/A"}]
[5698,8.6478705150578534,{"$f":" IF(Foglio1!$C$9 <> \"\", 8.314472*Foglio1!$C$9*Foglio2!B639, NA())","v":{"$error":"#N/A"}},{"$error":"#N/A"},5698,8.6478705150578534,{"$f":" IF(Foglio1!$C$10 <> \"\", 8.314472*Foglio1!$C$10*Foglio2!F639, NA())","v":{"$error":"#N/A"}},{"$error":"#N/A"},5698,8.6478705150578534,{"$f":" IF(Foglio1!$C$11 <> \"\", 8.314472*Foglio1!$C$11*Foglio2!J639, NA())","v":{"$error":"#N/A"}},{"$error":"#N/A"},5698,8.6478705150578534,{"$f":" IF(Foglio1!$C$12 <> \"\", 8.314472*Foglio1!$C$12*Foglio2!N639, NA())","v":{"$error":"#N/A"}},{"$error":"#N/A"},5698,8.6478705150578534,{"$f":" IF(Foglio1!$C$13 <> \"\", 8.314472*Foglio1!$C$13*Foglio2!R639, NA())","v":{"$error":"#N/A"}},{"$error":"#N/A"}]
[5707,8.6494487705367078,{"$f":" IF(Foglio1!$C$9 <> \"\", 8.314472*Foglio1!$C$9*Foglio2!B640, NA())","v":{"$error":"#N/A"}},{"$error":"#N/A"},5707,8.6494487705367078,{"$f":" IF(Foglio1!$C$10 <> \"\", 8.314472*Foglio1!$C$10*Foglio2!F640, NA())","v":{"$error":"#N/A"}},{"$error":"#N/A"},5707,8.6494487705367078,{"$f":" IF(Foglio1!$C$11 <> \"\", 8.314472*Foglio1!$C$11*Foglio2!J640, NA())","v":{"$error":"#N/A"}},{"$error":"#N/A"},5707,8.6494487705367078,{"$f":" IF(Foglio1!$C$12 <> \"\", 8.314472*Foglio1!$C$12*Foglio2!N640, NA())","v":{"$error":"#N/A"}},{"$error":"#N/A"},5707,8.6494487705367078,{"$f":" IF(Foglio1!$C$13 <> \"\", 8.314472*Foglio1!$C$13*Foglio2!R640, NA())","v":{"$error":"#N/A"}},{"$error":"#N/A"}]
[5716,8.6510245390497573,{"$f":" IF(Foglio1!$C$9 <> \"\", 8.314472*Foglio1!$C$9*Foglio2!B641, NA())","v":{"$error":"#N/A"}},{"$error":"#N/A"},5716,8.6510245390497573,{"$f":" IF(Foglio1!$C$10 <> \"\", 8.314472*Foglio1!$C$10*Foglio2!F641, NA())","v":{"$error":"#N/A"}},{"$error":"#N/A"},5716,8.6510245390497573,{"$f":" IF(Foglio1!$C$11 <> \"\", 8.314472*Foglio1!$C$11*Foglio2!J641, NA())","v":{"$error":"#N/A"}},{"$error":"#N/A"},5716,8.6510245390497573,{"$f":" IF(Foglio1!$C$12 <> \"\", 8.314472*Foglio1!$C$12*Foglio2!N641, NA())","v":{"$error":"#N/A"}},{"$error":"#N/A"},5716,8.6510245390497573,{"$f":" IF(Foglio1!$C$13 <> \"\", 8.314472*Foglio1!$C$13*Foglio2!R641, NA())","v":{"$error":"#N/A"}},{"$error":"#N/A"}]
[5725,8.6525978284224401,{"$f":" IF(Foglio1!$C$9 <> \"\", 8.314472*Foglio1!$C$9*Foglio2!B642, NA())","v":{"$error":"#N/A"}},{"$error":"#N/A"},5725,8.6525978284224401,{"$f":" IF(Foglio1!$C$10 <> \"\", 8.314472*Foglio1!$C$10*Foglio2!F642, NA())","v":{"$error":"#N/A"}},{"$error":"#N/A"},5725,8.6525978284224401,{"$f":" IF(Foglio1!$C$11 <> \"\", 8.314472*Foglio1!$C$11*Foglio2!J642, NA())","v":{"$error":"#N/A"}},{"$error":"#N/A"},5725,8.6525978284224401,{"$f":" IF(Foglio1!$C$12 <> \"\", 8.314472*Foglio1!$C$12*Foglio2!N642, NA())","v":{"$error":"#N/A"}},{"$error":"#N/A"},5725,8.6525978284224401,{"$f":" IF(Foglio1!$C$13 <> \"\", 8.314472*Foglio1!$C$13*Foglio2!R642, NA())","v":{"$error":"#N/A"}},{"$error":"#N/A"}]
[5734,{"$f":"LN(A643)","v":8.6541686464433152},{"$f":" IF(Foglio1!$C$9 <> \"\", 8.314472*Foglio1!$C$9*Foglio2!B643, NA())","v":{"$error":"#N/A"}},{"$f":"  -30.5 + C643*10^-3","v":{"$error":"#N/A"}},5734,{"$f":"LN(E643)","v":8.6541686464433152},{"$f":" IF(Foglio1!$C$10 <> \"\", 8.314472*Foglio1!$C$10*Foglio2!F643, NA())","v":{"$error":"#N/A"}},{"$f":" -30.5+ G643*10^-3","v":{"$error":"#N/A"}},5734,{"$f":"LN(I643)","v":8.6541686464433152},{"$f":" IF(Foglio1!$C$11 <> \"\", 8.314472*Foglio1!$C$11*Foglio2!J643, NA())","v":{"$error":"#N/A"}},{"$f":" -30.5+ K643*10^-3","v":{"$error":"#N/A"}},5734,{"$f":"LN(M643)","v":8.6541686464433152},{"$f":" IF(Foglio1!$C$12 <> \"\", 8.314472*Foglio1!$C$12*Foglio2!N643, NA())","v":{"$error":"#N/A"}},{"$f":" -30.5+ O643*10^-3","v":{"$error":"#N/A"}},5734,{"$f":"LN(Q643)","v":8.6541686464433152},{"$f":" IF(Foglio1!$C$13 <> \"\", 8.314472*Foglio1!$C$13*Foglio2!R643, NA())","v":{"$error":"#N/A"}},{"$f":" -30.5+S643*10^-3","v":{"$error":"#N/A"}}]
[5743,8.6557370008642973,{"$f":" IF(Foglio1!$C$9 <> \"\", 8.314472*Foglio1!$C$9*Foglio2!B644, NA())","v":{"$error":"#N/A"}},{"$error":"#N/A"},5743,8.6557370008642973,{"$f":" IF(Foglio1!$C$10 <> \"\", 8.314472*Foglio1!$C$10*Foglio2!F644, NA())","v":{"$error":"#N/A"}},{"$error":"#N/A"},5743,8.6557370008642973,{"$f":" IF(Foglio1!$C$11 <> \"\", 8.314472*Foglio1!$C$11*Foglio2!J644, NA())","v":{"$error":"#N/A"}},{"$error":"#N/A"},5743,8.6557370008642973,{"$f":" IF(Foglio1!$C$12 <> \"\", 8.314472*Foglio1!$C$12*Foglio2!N644, NA())","v":{"$error":"#N/A"}},{"$error":"#N/A"},5743,8.6557370008642973,{"$f":" IF(Foglio1!$C$13 <> \"\", 8.314472*Foglio1!$C$13*Foglio2!R644, NA())","v":{"$error":"#N/A"}},{"$error":"#N/A"}]
[5752,8.6573028994008823,{"$f":" IF(Foglio1!$C$9 <> \"\", 8.314472*Foglio1!$C$9*Foglio2!B645, NA())","v":{"$error":"#N/A"}},{"$error":"#N/A"},5752,8.6573028994008823,{"$f":" IF(Foglio1!$C$10 <> \"\", 8.314472*Foglio1!$C$10*Foglio2!F645, NA())","v":{"$error":"#N/A"}},{"$error":"#N/A"},5752,8.6573028994008823,{"$f":" IF(Foglio1!$C$11 <> \"\", 8.314472*Foglio1!$C$11*Foglio2!J645, NA())","v":{"$error":"#N/A"}},{"$error":"#N/A"},5752,8.6573028994008823,{"$f":" IF(Foglio1!$C$12 <> \"\", 8.314472*Foglio1!$C$12*Foglio2!N645, NA())","v":{"$error":"#N/A"}},{"$error":"#N/A"},5752,8.6573028994008823,{"$f":" IF(Foglio1!$C$13 <> \"\", 8.314472*Foglio1!$C$13*Foglio2!R645, NA())","v":{"$error":"#N/A"}},{"$error":"#N/A"}]
[5761,8.6588663497323832,{"$f":" IF(Foglio1!$C$9 <> \"\", 8.314472*Foglio1!$C$9*Foglio2!B646, NA())","v":{"$error":"#N/A"}},{"$error":"#N/A"},5761,8.6588663497323832,{"$f":" IF(Foglio1!$C$10 <> \"\", 8.314472*Foglio1!$C$10*Foglio2!F646, NA())","v":{"$error":"#N/A"}},{"$error":"#N/A"},5761,8.6588663497323832,{"$f":" IF(Foglio1!$C$11 <> \"\", 8.314472*Foglio1!$C$11*Foglio2!J646, NA())","v":{"$error":"#N/A"}},{"$error":"#N/A"},5761,8.6588663497323832,{"$f":" IF(Foglio1!$C$12 <> \"\", 8.314472*Foglio1!$C$12*Foglio2!N646, NA())","v":{"$error":"#N/A"}},{"$error":"#N/A"},5761,8.6588663497323832,{"$f":" IF(Foglio1!$C$13 <> \"\", 8.314472*Foglio1!$C$13*Foglio2!R646, NA())","v":{"$error":"#N/A"}},{"$error":"#N/A"}]
[5770,8.6604273595021457,{"$f":" IF(Foglio1!$C$9 <> \"\", 8.314472*Foglio1!$C$9*Foglio2!B647, NA())","v":{"$error":"#N/A"}},{"$error":"#N/A"},5770,8.6604273595021457,{"$f":" IF(Foglio1!$C$10 <> \"\", 8.314472*Foglio1!$C$10*Foglio2!F647, NA())","v":{"$error":"#N/A"}},{"$error":"#N/A"},5770,8.6604273595021457,{"$f":" IF(Foglio1!$C$11 <> \"\", 8.314472*Foglio1!$C$11*Foglio2!J647, NA())","v":{"$error":"#N/A"}},{"$error":"#N/A"},5770,8.6604273595021457,{"$f":" IF(Foglio1!$C$12 <> \"\", 8.314472*Foglio1!$C$12*Foglio2!N647, NA())","v":{"$error":"#N/A"}},{"$error":"#N/A"},5770,8.6604273595021457,{"$f":" IF(Foglio1!$C$13 <> \"\", 8.314472*Foglio1!$C$13*Foglio2!R647, NA())","v":{"$error":"#N/A"}},{"$error":"#N/A"}]
[5779,8.6619859363177785,{"$f":" IF(Foglio1!$C$9 <> \"\", 8.314472*Foglio1!$C$9*Foglio2!B648, NA())","v":{"$error":"#N/A"}},{"$error":"#N/A"},5779,8.6619859363177785,{"$f":" IF(Foglio1!$C$10 <> \"\", 8.314472*Foglio1!$C$10*Foglio2!F648, NA())","v":{"$error":"#N/A"}},{"$error":"#N/A"},5779,8.6619859363177785,{"$f":" IF(Foglio1!$C$11 <> \"\", 8.314472*Foglio1!$C$11*Foglio2!J648, NA())","v":{"$error":"#N/A"}},{"$error":"#N/A"},5779,8.6619859363177785,{"$f":" IF(Foglio1!$C$12 <> \"\", 8.314472*Foglio1!$C$12*Foglio2!N648, NA())","v":{"$error":"#N/A"}},{"$error":"#N/A"},5779,8.6619859363177785,{"$f":" IF(Foglio1!$C$13 <> \"\", 8.314472*Foglio1!$C$13*Foglio2!R648, NA())","v":{"$error":"#N/A"}},{"$error":"#N/A"}]
[5788,8.6635420877513738,{"$f":" IF(Foglio1!$C$9 <> \"\", 8.314472*Foglio1!$C$9*Foglio2!B649, NA())","v":{"$error":"#N/A"}},{"$error":"#N/A"},5788,8.6635420877513738,{"$f":" IF(Foglio1!$C$10 <> \"\", 8.314472*Foglio1!$C$10*Foglio2!F649, NA())","v":{"$error":"#N/A"}},{"$error":"#N/A"},5788,8.6635420877513738,{"$f":" IF(Foglio1!$C$11 <> \"\", 8.314472*Foglio1!$C$11*Foglio2!J649, NA())","v":{"$error":"#N/A"}},{"$error":"#N/A"},5788,8.6635420877513738,{"$f":" IF(Foglio1!$C$12 <> \"\", 8.314472*Foglio1!$C$12*Foglio2!N649, NA())","v":{"$error":"#N/A"}},{"$error":"#N/A"},5788,8.6635420877513738,{"$f":" IF(Foglio1!$C$13 <> \"\", 8.314472*Foglio1!$C$13*Foglio2!R649, NA())","v":{"$error":"#N/A"}},{"$error":"#N/A"}]
[5797,8.6650958213397331,{"$f":" IF(Foglio1!$C$9 <> \"\", 8.314472*Foglio1!$C$9*Foglio2!B650, NA())","v":{"$error":"#N/A"}},{"$error":"#N/A"},5797,8.6650958213397331,{"$f":" IF(Foglio1!$C$10 <> \"\", 8.314472*Foglio1!$C$10*Foglio2!F650, NA())","v":{"$error":"#N/A"}},{"$error":"#N/A"},5797,8.6650958213397331,{"$f":" IF(Foglio1!$C$11 <> \"\", 8.314472*Foglio1!$C$11*Foglio2!J650, NA())","v":{"$error":"#N/A"}},{"$error":"#N/A"},5797,8.6650958213397331,{"$f":" IF(Foglio1!$C$12 <> \"\", 8.314472*Foglio1!$C$12*Foglio2!N650, NA())","v":{"$error":"#N/A"}},{"$error":"#N/A"},5797,8.6650958213397331,{"$f":" IF(Foglio1!$C$13 <> \"\", 8.314472*Foglio1!$C$13*Foglio2!R650, NA())","v":{"$error":"#N/A"}},{"$error":"#N/A"}]
[5806,8.6666471445845747,{"$f":" IF(Foglio1!$C$9 <> \"\", 8.314472*Foglio1!$C$9*Foglio2!B651, NA())","v":{"$error":"#N/A"}},{"$error":"#N/A"},5806,8.6666471445845747,{"$f":" IF(Foglio1!$C$10 <> \"\", 8.314472*Foglio1!$C$10*Foglio2!F651, NA())","v":{"$error":"#N/A"}},{"$error":"#N/A"},5806,8.6666471445845747,{"$f":" IF(Foglio1!$C$11 <> \"\", 8.314472*Foglio1!$C$11*Foglio2!J651, NA())","v":{"$error":"#N/A"}},{"$error":"#N/A"},5806,8.6666471445845747,{"$f":" IF(Foglio1!$C$12 <> \"\", 8.314472*Foglio1!$C$12*Foglio2!N651, NA())","v":{"$error":"#N/A"}},{"$error":"#N/A"},5806,8.6666471445845747,{"$f":" IF(Foglio1!$C$13 <> \"\", 8.314472*Foglio1!$C$13*Foglio2!R651, NA())","v":{"$error":"#N/A"}},{"$error":"#N/A"}]
[5815,8.668196064952765,{"$f":" IF(Foglio1!$C$9 <> \"\", 8.314472*Foglio1!$C$9*Foglio2!B652, NA())","v":{"$error":"#N/A"}},{"$error":"#N/A"},5815,8.668196064952765,{"$f":" IF(Foglio1!$C$10 <> \"\", 8.314472*Foglio1!$C$10*Foglio2!F652, NA())","v":{"$error":"#N/A"}},{"$error":"#N/A"},5815,8.668196064952765,{"$f":" IF(Foglio1!$C$11 <> \"\", 8.314472*Foglio1!$C$11*Foglio2!J652, NA())","v":{"$error":"#N/A"}},{"$error":"#N/A"},5815,8.668196064952765,{"$f":" IF(Foglio1!$C$12 <> \"\", 8.314472*Foglio1!$C$12*Foglio2!N652, NA())","v":{"$error":"#N/A"}},{"$error":"#N/A"},5815,8.668196064952765,{"$f":" IF(Foglio1!$C$13 <> \"\", 8.314472*Foglio1!$C$13*Foglio2!R652, NA())","v":{"$error":"#N/A"}},{"$error":"#N/A"}]
[5824,8.6697425898765221,{"$f":" IF(Foglio1!$C$9 <> \"\", 8.314472*Foglio1!$C$9*Foglio2!B653, NA())","v":{"$error":"#N/A"}},{"$error":"#N/A"},5824,8.6697425898765221,{"$f":" IF(Foglio1!$C$10 <> \"\", 8.314472*Foglio1!$C$10*Foglio2!F653, NA())","v":{"$error":"#N/A"}},{"$error":"#N/A"},5824,8.6697425898765221,{"$f":" IF(Foglio1!$C$11 <> \"\", 8.314472*Foglio1!$C$11*Foglio2!J653, NA())","v":{"$error":"#N/A"}},{"$error":"#N/A"},5824,8.6697425898765221,{"$f":" IF(Foglio1!$C$12 <> \"\", 8.314472*Foglio1!$C$12*Foglio2!N653, NA())","v":{"$error":"#N/A"}},{"$error":"#N/A"},5824,8.6697425898765221,{"$f":" IF(Foglio1!$C$13 <> \"\", 8.314472*Foglio1!$C$13*Foglio2!R653, NA())","v":{"$error":"#N/A"}},{"$error":"#N/A"}]
[5833,8.6712867267536371,{"$f":" IF(Foglio1!$C$9 <> \"\", 8.314472*Foglio1!$C$9*Foglio2!B654, NA())","v":{"$error":"#N/A"}},{"$error":"#N/A"},5833,8.6712867267536371,{"$f":" IF(Foglio1!$C$10 <> \"\", 8.314472*Foglio1!$C$10*Foglio2!F654, NA())","v":{"$error":"#N/A"}},{"$error":"#N/A"},5833,8.6712867267536371,{"$f":" IF(Foglio1!$C$11 <> \"\", 8.314472*Foglio1!$C$11*Foglio2!J654, NA())","v":{"$error":"#N/A"}},{"$error":"#N/A"},5833,8.6712867267536371,{"$f":" IF(Foglio1!$C$12 <> \"\", 8.314472*Foglio1!$C$12*Foglio2!N654, NA())","v":{"$error":"#N/A"}},{"$error":"#N/A"},5833,8.6712867267536371,{"$f":" IF(Foglio1!$C$13 <> \"\", 8.314472*Foglio1!$C$13*Foglio2!R654, NA())","v":{"$error":"#N/A"}},{"$error":"#N/A"}]
[5842,8.6728284829476863,{"$f":" IF(Foglio1!$C$9 <> \"\", 8.314472*Foglio1!$C$9*Foglio2!B655, NA())","v":{"$error":"#N/A"}},{"$error":"#N/A"},5842,8.6728284829476863,{"$f":" IF(Foglio1!$C$10 <> \"\", 8.314472*Foglio1!$C$10*Foglio2!F655, NA())","v":{"$error":"#N/A"}},{"$error":"#N/A"},5842,8.6728284829476863,{"$f":" IF(Foglio1!$C$11 <> \"\", 8.314472*Foglio1!$C$11*Foglio2!J655, NA())","v":{"$error":"#N/A"}},{"$error":"#N/A"},5842,8.6728284829476863,{"$f":" IF(Foglio1!$C$12 <> \"\", 8.314472*Foglio1!$C$12*Foglio2!N655, NA())","v":{"$error":"#N/A"}},{"$error":"#N/A"},5842,8.6728284829476863,{"$f":" IF(Foglio1!$C$13 <> \"\", 8.314472*Foglio1!$C$13*Foglio2!R655, NA())","v":{"$error":"#N/A"}},{"$error":"#N/A"}]
[5851,8.6743678657882359,{"$f":" IF(Foglio1!$C$9 <> \"\", 8.314472*Foglio1!$C$9*Foglio2!B656, NA())","v":{"$error":"#N/A"}},{"$error":"#N/A"},5851,8.6743678657882359,{"$f":" IF(Foglio1!$C$10 <> \"\", 8.314472*Foglio1!$C$10*Foglio2!F656, NA())","v":{"$error":"#N/A"}},{"$error":"#N/A"},5851,8.6743678657882359,{"$f":" IF(Foglio1!$C$11 <> \"\", 8.314472*Foglio1!$C$11*Foglio2!J656, NA())","v":{"$error":"#N/A"}},{"$error":"#N/A"},5851,8.6743678657882359,{"$f":" IF(Foglio1!$C$12 <> \"\", 8.314472*Foglio1!$C$12*Foglio2!N656, NA())","v":{"$error":"#N/A"}},{"$error":"#N/A"},5851,8.6743678657882359,{"$f":" IF(Foglio1!$C$13 <> \"\", 8.314472*Foglio1!$C$13*Foglio2!R656, NA())","v":{"$error":"#N/A"}},{"$error":"#N/A"}]
[5860,8.675904882571059,{"$f":" IF(Foglio1!$C$9 <> \"\", 8.314472*Foglio1!$C$9*Foglio2!B657, NA())","v":{"$error":"#N/A"}},{"$error":"#N/A"},5860,8.675904882571059,{"$f":" IF(Foglio1!$C$10 <> \"\", 8.314472*Foglio1!$C$10*Foglio2!F657, NA())","v":{"$error":"#N/A"}},{"$error":"#N/A"},5860,8.675904882571059,{"$f":" IF(Foglio1!$C$11 <> \"\", 8.314472*Foglio1!$C$11*Foglio2!J657, NA())","v":{"$error":"#N/A"}},{"$error":"#N/A"},5860,8.675904882571059,{"$f":" IF(Foglio1!$C$12 <> \"\", 8.314472*Foglio1!$C$12*Foglio2!N657, NA())","v":{"$error":"#N/A"}},{"$error":"#N/A"},5860,8.675904882571059,{"$f":" IF(Foglio1!$C$13 <> \"\", 8.314472*Foglio1!$C$13*Foglio2!R657, NA())","v":{"$error":"#N/A"}},{"$error":"#N/A"}]
[5869,8.6774395405583338,{"$f":" IF(Foglio1!$C$9 <> \"\", 8.314472*Foglio1!$C$9*Foglio2!B658, NA())","v":{"$error":"#N/A"}},{"$error":"#N/A"},5869,8.6774395405583338,{"$f":" IF(Foglio1!$C$10 <> \"\", 8.314472*Foglio1!$C$10*Foglio2!F658, NA())","v":{"$error":"#N/A"}},{"$error":"#N/A"},5869,8.6774395405583338,{"$f":" IF(Foglio1!$C$11 <> \"\", 8.314472*Foglio1!$C$11*Foglio2!J658, NA())","v":{"$error":"#N/A"}},{"$error":"#N/A"},5869,8.6774395405583338,{"$f":" IF(Foglio1!$C$12 <> \"\", 8.314472*Foglio1!$C$12*Foglio2!N658, NA())","v":{"$error":"#N/A"}},{"$error":"#N/A"},5869,8.6774395405583338,{"$f":" IF(Foglio1!$C$13 <> \"\", 8.314472*Foglio1!$C$13*Foglio2!R658, NA())","v":{"$error":"#N/A"}},{"$error":"#N/A"}]
[5878,8.6789718469788628,{"$f":" IF(Foglio1!$C$9 <> \"\", 8.314472*Foglio1!$C$9*Foglio2!B659, NA())","v":{"$error":"#N/A"}},{"$error":"#N/A"},5878,8.6789718469788628,{"$f":" IF(Foglio1!$C$10 <> \"\", 8.314472*Foglio1!$C$10*Foglio2!F659, NA())","v":{"$error":"#N/A"}},{"$error":"#N/A"},5878,8.6789718469788628,{"$f":" IF(Foglio1!$C$11 <> \"\", 8.314472*Foglio1!$C$11*Foglio2!J659, NA())","v":{"$error":"#N/A"}},{"$error":"#N/A"},5878,8.6789718469788628,{"$f":" IF(Foglio1!$C$12 <> \"\", 8.314472*Foglio1!$C$12*Foglio2!N659, NA())","v":{"$error":"#N/A"}},{"$error":"#N/A"},5878,8.6789718469788628,{"$f":" IF(Foglio1!$C$13 <> \"\", 8.314472*Foglio1!$C$13*Foglio2!R659, NA())","v":{"$error":"#N/A"}},{"$error":"#N/A"}]
[5887,8.6805018090282609,{"$f":" IF(Foglio1!$C$9 <> \"\", 8.314472*Foglio1!$C$9*Foglio2!B660, NA())","v":{"$error":"#N/A"}},{"$error":"#N/A"},5887,8.6805018090282609,{"$f":" IF(Foglio1!$C$10 <> \"\", 8.314472*Foglio1!$C$10*Foglio2!F660, NA())","v":{"$error":"#N/A"}},{"$error":"#N/A"},5887,8.6805018090282609,{"$f":" IF(Foglio1!$C$11 <> \"\", 8.314472*Foglio1!$C$11*Foglio2!J660, NA())","v":{"$error":"#N/A"}},{"$error":"#N/A"},5887,8.6805018090282609,{"$f":" IF(Foglio1!$C$12 <> \"\", 8.314472*Foglio1!$C$12*Foglio2!N660, NA())","v":{"$error":"#N/A"}},{"$error":"#N/A"},5887,8.6805018090282609,{"$f":" IF(Foglio1!$C$13 <> \"\", 8.314472*Foglio1!$C$13*Foglio2!R660, NA())","v":{"$error":"#N/A"}},{"$error":"#N/A"}]
[5896,8.6820294338691717,{"$f":" IF(Foglio1!$C$9 <> \"\", 8.314472*Foglio1!$C$9*Foglio2!B661, NA())","v":{"$error":"#N/A"}},{"$error":"#N/A"},5896,8.6820294338691717,{"$f":" IF(Foglio1!$C$10 <> \"\", 8.314472*Foglio1!$C$10*Foglio2!F661, NA())","v":{"$error":"#N/A"}},{"$error":"#N/A"},5896,8.6820294338691717,{"$f":" IF(Foglio1!$C$11 <> \"\", 8.314472*Foglio1!$C$11*Foglio2!J661, NA())","v":{"$error":"#N/A"}},{"$error":"#N/A"},5896,8.6820294338691717,{"$f":" IF(Foglio1!$C$12 <> \"\", 8.314472*Foglio1!$C$12*Foglio2!N661, NA())","v":{"$error":"#N/A"}},{"$error":"#N/A"},5896,8.6820294338691717,{"$f":" IF(Foglio1!$C$13 <> \"\", 8.314472*Foglio1!$C$13*Foglio2!R661, NA())","v":{"$error":"#N/A"}},{"$error":"#N/A"}]
[5905,8.6835547286314618,{"$f":" IF(Foglio1!$C$9 <> \"\", 8.314472*Foglio1!$C$9*Foglio2!B662, NA())","v":{"$error":"#N/A"}},{"$error":"#N/A"},5905,8.6835547286314618,{"$f":" IF(Foglio1!$C$10 <> \"\", 8.314472*Foglio1!$C$10*Foglio2!F662, NA())","v":{"$error":"#N/A"}},{"$error":"#N/A"},5905,8.6835547286314618,{"$f":" IF(Foglio1!$C$11 <> \"\", 8.314472*Foglio1!$C$11*Foglio2!J662, NA())","v":{"$error":"#N/A"}},{"$error":"#N/A"},5905,8.6835547286314618,{"$f":" IF(Foglio1!$C$12 <> \"\", 8.314472*Foglio1!$C$12*Foglio2!N662, NA())","v":{"$error":"#N/A"}},{"$error":"#N/A"},5905,8.6835547286314618,{"$f":" IF(Foglio1!$C$13 <> \"\", 8.314472*Foglio1!$C$13*Foglio2!R662, NA())","v":{"$error":"#N/A"}},{"$error":"#N/A"}]
[5914,8.6850777004124229,{"$f":" IF(Foglio1!$C$9 <> \"\", 8.314472*Foglio1!$C$9*Foglio2!B663, NA())","v":{"$error":"#N/A"}},{"$error":"#N/A"},5914,8.6850777004124229,{"$f":" IF(Foglio1!$C$10 <> \"\", 8.314472*Foglio1!$C$10*Foglio2!F663, NA())","v":{"$error":"#N/A"}},{"$error":"#N/A"},5914,8.6850777004124229,{"$f":" IF(Foglio1!$C$11 <> \"\", 8.314472*Foglio1!$C$11*Foglio2!J663, NA())","v":{"$error":"#N/A"}},{"$error":"#N/A"},5914,8.6850777004124229,{"$f":" IF(Foglio1!$C$12 <> \"\", 8.314472*Foglio1!$C$12*Foglio2!N663, NA())","v":{"$error":"#N/A"}},{"$error":"#N/A"},5914,8.6850777004124229,{"$f":" IF(Foglio1!$C$13 <> \"\", 8.314472*Foglio1!$C$13*Foglio2!R663, NA())","v":{"$error":"#N/A"}},{"$error":"#N/A"}]
[5923,8.6865983562769653,{"$f":" IF(Foglio1!$C$9 <> \"\", 8.314472*Foglio1!$C$9*Foglio2!B664, NA())","v":{"$error":"#N/A"}},{"$error":"#N/A"},5923,8.6865983562769653,{"$f":" IF(Foglio1!$C$10 <> \"\", 8.314472*Foglio1!$C$10*Foglio2!F664, NA())","v":{"$error":"#N/A"}},{"$error":"#N/A"},5923,8.6865983562769653,{"$f":" IF(Foglio1!$C$11 <> \"\", 8.314472*Foglio1!$C$11*Foglio2!J664, NA())","v":{"$error":"#N/A"}},{"$error":"#N/A"},5923,8.6865983562769653,{"$f":" IF(Foglio1!$C$12 <> \"\", 8.314472*Foglio1!$C$12*Foglio2!N664, NA())","v":{"$error":"#N/A"}},{"$error":"#N/A"},5923,8.6865983562769653,{"$f":" IF(Foglio1!$C$13 <> \"\", 8.314472*Foglio1!$C$13*Foglio2!R664, NA())","v":{"$error":"#N/A"}},{"$error":"#N/A"}]
[5932,8.6881167032578226,{"$f":" IF(Foglio1!$C$9 <> \"\", 8.314472*Foglio1!$C$9*Foglio2!B665, NA())","v":{"$error":"#N/A"}},{"$error":"#N/A"},5932,8.6881167032578226,{"$f":" IF(Foglio1!$C$10 <> \"\", 8.314472*Foglio1!$C$10*Foglio2!F665, NA())","v":{"$error":"#N/A"}},{"$error":"#N/A"},5932,8.6881167032578226,{"$f":" IF(Foglio1!$C$11 <> \"\", 8.314472*Foglio1!$C$11*Foglio2!J665, NA())","v":{"$error":"#N/A"}},{"$error":"#N/A"},5932,8.6881167032578226,{"$f":" IF(Foglio1!$C$12 <> \"\", 8.314472*Foglio1!$C$12*Foglio2!N665, NA())","v":{"$error":"#N/A"}},{"$error":"#N/A"},5932,8.6881167032578226,{"$f":" IF(Foglio1!$C$13 <> \"\", 8.314472*Foglio1!$C$13*Foglio2!R665, NA())","v":{"$error":"#N/A"}},{"$error":"#N/A"}]
[5941,8.6896327483557414,{"$f":" IF(Foglio1!$C$9 <> \"\", 8.314472*Foglio1!$C$9*Foglio2!B666, NA())","v":{"$error":"#N/A"}},{"$error":"#N/A"},5941,8.6896327483557414,{"$f":" IF(Foglio1!$C$10 <> \"\", 8.314472*Foglio1!$C$10*Foglio2!F666, NA())","v":{"$error":"#N/A"}},{"$error":"#N/A"},5941,8.6896327483557414,{"$f":" IF(Foglio1!$C$11 <> \"\", 8.314472*Foglio1!$C$11*Foglio2!J666, NA())","v":{"$error":"#N/A"}},{"$error":"#N/A"},5941,8.6896327483557414,{"$f":" IF(Foglio1!$C$12 <> \"\", 8.314472*Foglio1!$C$12*Foglio2!N666, NA())","v":{"$error":"#N/A"}},{"$error":"#N/A"},5941,8.6896327483557414,{"$f":" IF(Foglio1!$C$13 <> \"\", 8.314472*Foglio1!$C$13*Foglio2!R666, NA())","v":{"$error":"#N/A"}},{"$error":"#N/A"}]
[5950,8.6911464985396751,{"$f":" IF(Foglio1!$C$9 <> \"\", 8.314472*Foglio1!$C$9*Foglio2!B667, NA())","v":{"$error":"#N/A"}},{"$error":"#N/A"},5950,8.6911464985396751,{"$f":" IF(Foglio1!$C$10 <> \"\", 8.314472*Foglio1!$C$10*Foglio2!F667, NA())","v":{"$error":"#N/A"}},{"$error":"#N/A"},5950,8.6911464985396751,{"$f":" IF(Foglio1!$C$11 <> \"\", 8.314472*Foglio1!$C$11*Foglio2!J667, NA())","v":{"$error":"#N/A"}},{"$error":"#N/A"},5950,8.6911464985396751,{"$f":" IF(Foglio1!$C$12 <> \"\", 8.314472*Foglio1!$C$12*Foglio2!N667, NA())","v":{"$error":"#N/A"}},{"$error":"#N/A"},5950,8.6911464985396751,{"$f":" IF(Foglio1!$C$13 <> \"\", 8.314472*Foglio1!$C$13*Foglio2!R667, NA())","v":{"$error":"#N/A"}},{"$error":"#N/A"}]
[5959,8.6926579607469794,{"$f":" IF(Foglio1!$C$9 <> \"\", 8.314472*Foglio1!$C$9*Foglio2!B668, NA())","v":{"$error":"#N/A"}},{"$error":"#N/A"},5959,8.6926579607469794,{"$f":" IF(Foglio1!$C$10 <> \"\", 8.314472*Foglio1!$C$10*Foglio2!F668, NA())","v":{"$error":"#N/A"}},{"$error":"#N/A"},5959,8.6926579607469794,{"$f":" IF(Foglio1!$C$11 <> \"\", 8.314472*Foglio1!$C$11*Foglio2!J668, NA())","v":{"$error":"#N/A"}},{"$error":"#N/A"},5959,8.6926579607469794,{"$f":" IF(Foglio1!$C$12 <> \"\", 8.314472*Foglio1!$C$12*Foglio2!N668, NA())","v":{"$error":"#N/A"}},{"$error":"#N/A"},5959,8.6926579607469794,{"$f":" IF(Foglio1!$C$13 <> \"\", 8.314472*Foglio1!$C$13*Foglio2!R668, NA())","v":{"$error":"#N/A"}},{"$error":"#N/A"}]
[5968,8.6941671418835966,{"$f":" IF(Foglio1!$C$9 <> \"\", 8.314472*Foglio1!$C$9*Foglio2!B669, NA())","v":{"$error":"#N/A"}},{"$error":"#N/A"},5968,8.6941671418835966,{"$f":" IF(Foglio1!$C$10 <> \"\", 8.314472*Foglio1!$C$10*Foglio2!F669, NA())","v":{"$error":"#N/A"}},{"$error":"#N/A"},5968,8.6941671418835966,{"$f":" IF(Foglio1!$C$11 <> \"\", 8.314472*Foglio1!$C$11*Foglio2!J669, NA())","v":{"$error":"#N/A"}},{"$error":"#N/A"},5968,8.6941671418835966,{"$f":" IF(Foglio1!$C$12 <> \"\", 8.314472*Foglio1!$C$12*Foglio2!N669, NA())","v":{"$error":"#N/A"}},{"$error":"#N/A"},5968,8.6941671418835966,{"$f":" IF(Foglio1!$C$13 <> \"\", 8.314472*Foglio1!$C$13*Foglio2!R669, NA())","v":{"$error":"#N/A"}},{"$error":"#N/A"}]
[5977,8.6956740488242534,{"$f":" IF(Foglio1!$C$9 <> \"\", 8.314472*Foglio1!$C$9*Foglio2!B670, NA())","v":{"$error":"#N/A"}},{"$error":"#N/A"},5977,8.6956740488242534,{"$f":" IF(Foglio1!$C$10 <> \"\", 8.314472*Foglio1!$C$10*Foglio2!F670, NA())","v":{"$error":"#N/A"}},{"$error":"#N/A"},5977,8.6956740488242534,{"$f":" IF(Foglio1!$C$11 <> \"\", 8.314472*Foglio1!$C$11*Foglio2!J670, NA())","v":{"$error":"#N/A"}},{"$error":"#N/A"},5977,8.6956740488242534,{"$f":" IF(Foglio1!$C$12 <> \"\", 8.314472*Foglio1!$C$12*Foglio2!N670, NA())","v":{"$error":"#N/A"}},{"$error":"#N/A"},5977,8.6956740488242534,{"$f":" IF(Foglio1!$C$13 <> \"\", 8.314472*Foglio1!$C$13*Foglio2!R670, NA())","v":{"$error":"#N/A"}},{"$error":"#N/A"}]
[5986,8.6971786884126434,{"$f":" IF(Foglio1!$C$9 <> \"\", 8.314472*Foglio1!$C$9*Foglio2!B671, NA())","v":{"$error":"#N/A"}},{"$error":"#N/A"},5986,8.6971786884126434,{"$f":" IF(Foglio1!$C$10 <> \"\", 8.314472*Foglio1!$C$10*Foglio2!F671, NA())","v":{"$error":"#N/A"}},{"$error":"#N/A"},5986,8.6971786884126434,{"$f":" IF(Foglio1!$C$11 <> \"\", 8.314472*Foglio1!$C$11*Foglio2!J671, NA())","v":{"$error":"#N/A"}},{"$error":"#N/A"},5986,8.6971786884126434,{"$f":" IF(Foglio1!$C$12 <> \"\", 8.314472*Foglio1!$C$12*Foglio2!N671, NA())","v":{"$error":"#N/A"}},{"$error":"#N/A"},5986,8.6971786884126434,{"$f":" IF(Foglio1!$C$13 <> \"\", 8.314472*Foglio1!$C$13*Foglio2!R671, NA())","v":{"$error":"#N/A"}},{"$error":"#N/A"}]
[5995,8.6986810674616137,{"$f":" IF(Foglio1!$C$9 <> \"\", 8.314472*Foglio1!$C$9*Foglio2!B672, NA())","v":{"$error":"#N/A"}},{"$error":"#N/A"},5995,8.6986810674616137,{"$f":" IF(Foglio1!$C$10 <> \"\", 8.314472*Foglio1!$C$10*Foglio2!F672, NA())","v":{"$error":"#N/A"}},{"$error":"#N/A"},5995,8.6986810674616137,{"$f":" IF(Foglio1!$C$11 <> \"\", 8.314472*Foglio1!$C$11*Foglio2!J672, NA())","v":{"$error":"#N/A"}},{"$error":"#N/A"},5995,8.6986810674616137,{"$f":" IF(Foglio1!$C$12 <> \"\", 8.314472*Foglio1!$C$12*Foglio2!N672, NA())","v":{"$error":"#N/A"}},{"$error":"#N/A"},5995,8.6986810674616137,{"$f":" IF(Foglio1!$C$13 <> \"\", 8.314472*Foglio1!$C$13*Foglio2!R672, NA())","v":{"$error":"#N/A"}},{"$error":"#N/A"}]
[6004,8.7001811927533534,{"$f":" IF(Foglio1!$C$9 <> \"\", 8.314472*Foglio1!$C$9*Foglio2!B673, NA())","v":{"$error":"#N/A"}},{"$error":"#N/A"},6004,8.7001811927533534,{"$f":" IF(Foglio1!$C$10 <> \"\", 8.314472*Foglio1!$C$10*Foglio2!F673, NA())","v":{"$error":"#N/A"}},{"$error":"#N/A"},6004,8.7001811927533534,{"$f":" IF(Foglio1!$C$11 <> \"\", 8.314472*Foglio1!$C$11*Foglio2!J673, NA())","v":{"$error":"#N/A"}},{"$error":"#N/A"},6004,8.7001811927533534,{"$f":" IF(Foglio1!$C$12 <> \"\", 8.314472*Foglio1!$C$12*Foglio2!N673, NA())","v":{"$error":"#N/A"}},{"$error":"#N/A"},6004,8.7001811927533534,{"$f":" IF(Foglio1!$C$13 <> \"\", 8.314472*Foglio1!$C$13*Foglio2!R673, NA())","v":{"$error":"#N/A"}},{"$error":"#N/A"}]
[6013,8.7016790710395693,{"$f":" IF(Foglio1!$C$9 <> \"\", 8.314472*Foglio1!$C$9*Foglio2!B674, NA())","v":{"$error":"#N/A"}},{"$error":"#N/A"},6013,8.7016790710395693,{"$f":" IF(Foglio1!$C$10 <> \"\", 8.314472*Foglio1!$C$10*Foglio2!F674, NA())","v":{"$error":"#N/A"}},{"$error":"#N/A"},6013,8.7016790710395693,{"$f":" IF(Foglio1!$C$11 <> \"\", 8.314472*Foglio1!$C$11*Foglio2!J674, NA())","v":{"$error":"#N/A"}},{"$error":"#N/A"},6013,8.7016790710395693,{"$f":" IF(Foglio1!$C$12 <> \"\", 8.314472*Foglio1!$C$12*Foglio2!N674, NA())","v":{"$error":"#N/A"}},{"$error":"#N/A"},6013,8.7016790710395693,{"$f":" IF(Foglio1!$C$13 <> \"\", 8.314472*Foglio1!$C$13*Foglio2!R674, NA())","v":{"$error":"#N/A"}},{"$error":"#N/A"}]
[6022,8.7031747090416793,{"$f":" IF(Foglio1!$C$9 <> \"\", 8.314472*Foglio1!$C$9*Foglio2!B675, NA())","v":{"$error":"#N/A"}},{"$error":"#N/A"},6022,8.7031747090416793,{"$f":" IF(Foglio1!$C$10 <> \"\", 8.314472*Foglio1!$C$10*Foglio2!F675, NA())","v":{"$error":"#N/A"}},{"$error":"#N/A"},6022,8.7031747090416793,{"$f":" IF(Foglio1!$C$11 <> \"\", 8.314472*Foglio1!$C$11*Foglio2!J675, NA())","v":{"$error":"#N/A"}},{"$error":"#N/A"},6022,8.7031747090416793,{"$f":" IF(Foglio1!$C$12 <> \"\", 8.314472*Foglio1!$C$12*Foglio2!N675, NA())","v":{"$error":"#N/A"}},{"$error":"#N/A"},6022,8.7031747090416793,{"$f":" IF(Foglio1!$C$13 <> \"\", 8.314472*Foglio1!$C$13*Foglio2!R675, NA())","v":{"$error":"#N/A"}},{"$error":"#N/A"}]
[6031,8.7046681134509871,{"$f":" IF(Foglio1!$C$9 <> \"\", 8.314472*Foglio1!$C$9*Foglio2!B676, NA())","v":{"$error":"#N/A"}},{"$error":"#N/A"},6031,8.7046681134509871,{"$f":" IF(Foglio1!$C$10 <> \"\", 8.314472*Foglio1!$C$10*Foglio2!F676, NA())","v":{"$error":"#N/A"}},{"$error":"#N/A"},6031,8.7046681134509871,{"$f":" IF(Foglio1!$C$11 <> \"\", 8.314472*Foglio1!$C$11*Foglio2!J676, NA())","v":{"$error":"#N/A"}},{"$error":"#N/A"},6031,8.7046681134509871,{"$f":" IF(Foglio1!$C$12 <> \"\", 8.314472*Foglio1!$C$12*Foglio2!N676, NA())","v":{"$error":"#N/A"}},{"$error":"#N/A"},6031,8.7046681134509871,{"$f":" IF(Foglio1!$C$13 <> \"\", 8.314472*Foglio1!$C$13*Foglio2!R676, NA())","v":{"$error":"#N/A"}},{"$error":"#N/A"}]
[6040,8.706159290928861,{"$f":" IF(Foglio1!$C$9 <> \"\", 8.314472*Foglio1!$C$9*Foglio2!B677, NA())","v":{"$error":"#N/A"}},{"$error":"#N/A"},6040,8.706159290928861,{"$f":" IF(Foglio1!$C$10 <> \"\", 8.314472*Foglio1!$C$10*Foglio2!F677, NA())","v":{"$error":"#N/A"}},{"$error":"#N/A"},6040,8.706159290928861,{"$f":" IF(Foglio1!$C$11 <> \"\", 8.314472*Foglio1!$C$11*Foglio2!J677, NA())","v":{"$error":"#N/A"}},{"$error":"#N/A"},6040,8.706159290928861,{"$f":" IF(Foglio1!$C$12 <> \"\", 8.314472*Foglio1!$C$12*Foglio2!N677, NA())","v":{"$error":"#N/A"}},{"$error":"#N/A"},6040,8.706159290928861,{"$f":" IF(Foglio1!$C$13 <> \"\", 8.314472*Foglio1!$C$13*Foglio2!R677, NA())","v":{"$error":"#N/A"}},{"$error":"#N/A"}]
[6049,8.7076482481069135,{"$f":" IF(Foglio1!$C$9 <> \"\", 8.314472*Foglio1!$C$9*Foglio2!B678, NA())","v":{"$error":"#N/A"}},{"$error":"#N/A"},6049,8.7076482481069135,{"$f":" IF(Foglio1!$C$10 <> \"\", 8.314472*Foglio1!$C$10*Foglio2!F678, NA())","v":{"$error":"#N/A"}},{"$error":"#N/A"},6049,8.7076482481069135,{"$f":" IF(Foglio1!$C$11 <> \"\", 8.314472*Foglio1!$C$11*Foglio2!J678, NA())","v":{"$error":"#N/A"}},{"$error":"#N/A"},6049,8.7076482481069135,{"$f":" IF(Foglio1!$C$12 <> \"\", 8.314472*Foglio1!$C$12*Foglio2!N678, NA())","v":{"$error":"#N/A"}},{"$error":"#N/A"},6049,8.7076482481069135,{"$f":" IF(Foglio1!$C$13 <> \"\", 8.314472*Foglio1!$C$13*Foglio2!R678, NA())","v":{"$error":"#N/A"}},{"$error":"#N/A"}]
[6058,8.7091349915871827,{"$f":" IF(Foglio1!$C$9 <> \"\", 8.314472*Foglio1!$C$9*Foglio2!B679, NA())","v":{"$error":"#N/A"}},{"$error":"#N/A"},6058,8.7091349915871827,{"$f":" IF(Foglio1!$C$10 <> \"\", 8.314472*Foglio1!$C$10*Foglio2!F679, NA())","v":{"$error":"#N/A"}},{"$error":"#N/A"},6058,8.7091349915871827,{"$f":" IF(Foglio1!$C$11 <> \"\", 8.314472*Foglio1!$C$11*Foglio2!J679, NA())","v":{"$error":"#N/A"}},{"$error":"#N/A"},6058,8.7091349915871827,{"$f":" IF(Foglio1!$C$12 <> \"\", 8.314472*Foglio1!$C$12*Foglio2!N679, NA())","v":{"$error":"#N/A"}},{"$error":"#N/A"},6058,8.7091349915871827,{"$f":" IF(Foglio1!$C$13 <> \"\", 8.314472*Foglio1!$C$13*Foglio2!R679, NA())","v":{"$error":"#N/A"}},{"$error":"#N/A"}]
[6067,8.7106195279422973,{"$f":" IF(Foglio1!$C$9 <> \"\", 8.314472*Foglio1!$C$9*Foglio2!B680, NA())","v":{"$error":"#N/A"}},{"$error":"#N/A"},6067,8.7106195279422973,{"$f":" IF(Foglio1!$C$10 <> \"\", 8.314472*Foglio1!$C$10*Foglio2!F680, NA())","v":{"$error":"#N/A"}},{"$error":"#N/A"},6067,8.7106195279422973,{"$f":" IF(Foglio1!$C$11 <> \"\", 8.314472*Foglio1!$C$11*Foglio2!J680, NA())","v":{"$error":"#N/A"}},{"$error":"#N/A"},6067,8.7106195279422973,{"$f":" IF(Foglio1!$C$12 <> \"\", 8.314472*Foglio1!$C$12*Foglio2!N680, NA())","v":{"$error":"#N/A"}},{"$error":"#N/A"},6067,8.7106195279422973,{"$f":" IF(Foglio1!$C$13 <> \"\", 8.314472*Foglio1!$C$13*Foglio2!R680, NA())","v":{"$error":"#N/A"}},{"$error":"#N/A"}]
[6076,8.7121018637156631,{"$f":" IF(Foglio1!$C$9 <> \"\", 8.314472*Foglio1!$C$9*Foglio2!B681, NA())","v":{"$error":"#N/A"}},{"$error":"#N/A"},6076,8.7121018637156631,{"$f":" IF(Foglio1!$C$10 <> \"\", 8.314472*Foglio1!$C$10*Foglio2!F681, NA())","v":{"$error":"#N/A"}},{"$error":"#N/A"},6076,8.7121018637156631,{"$f":" IF(Foglio1!$C$11 <> \"\", 8.314472*Foglio1!$C$11*Foglio2!J681, NA())","v":{"$error":"#N/A"}},{"$error":"#N/A"},6076,8.7121018637156631,{"$f":" IF(Foglio1!$C$12 <> \"\", 8.314472*Foglio1!$C$12*Foglio2!N681, NA())","v":{"$error":"#N/A"}},{"$error":"#N/A"},6076,8.7121018637156631,{"$f":" IF(Foglio1!$C$13 <> \"\", 8.314472*Foglio1!$C$13*Foglio2!R681, NA())","v":{"$error":"#N/A"}},{"$error":"#N/A"}]
[6085,8.7135820054216282,{"$f":" IF(Foglio1!$C$9 <> \"\", 8.314472*Foglio1!$C$9*Foglio2!B682, NA())","v":{"$error":"#N/A"}},{"$error":"#N/A"},6085,8.7135820054216282,{"$f":" IF(Foglio1!$C$10 <> \"\", 8.314472*Foglio1!$C$10*Foglio2!F682, NA())","v":{"$error":"#N/A"}},{"$error":"#N/A"},6085,8.7135820054216282,{"$f":" IF(Foglio1!$C$11 <> \"\", 8.314472*Foglio1!$C$11*Foglio2!J682, NA())","v":{"$error":"#N/A"}},{"$error":"#N/A"},6085,8.7135820054216282,{"$f":" IF(Foglio1!$C$12 <> \"\", 8.314472*Foglio1!$C$12*Foglio2!N682, NA())","v":{"$error":"#N/A"}},{"$error":"#N/A"},6085,8.7135820054216282,{"$f":" IF(Foglio1!$C$13 <> \"\", 8.314472*Foglio1!$C$13*Foglio2!R682, NA())","v":{"$error":"#N/A"}},{"$error":"#N/A"}]
[6094,8.7150599595456537,{"$f":" IF(Foglio1!$C$9 <> \"\", 8.314472*Foglio1!$C$9*Foglio2!B683, NA())","v":{"$error":"#N/A"}},{"$error":"#N/A"},6094,8.7150599595456537,{"$f":" IF(Foglio1!$C$10 <> \"\", 8.314472*Foglio1!$C$10*Foglio2!F683, NA())","v":{"$error":"#N/A"}},{"$error":"#N/A"},6094,8.7150599595456537,{"$f":" IF(Foglio1!$C$11 <> \"\", 8.314472*Foglio1!$C$11*Foglio2!J683, NA())","v":{"$error":"#N/A"}},{"$error":"#N/A"},6094,8.7150599595456537,{"$f":" IF(Foglio1!$C$12 <> \"\", 8.314472*Foglio1!$C$12*Foglio2!N683, NA())","v":{"$error":"#N/A"}},{"$error":"#N/A"},6094,8.7150599595456537,{"$f":" IF(Foglio1!$C$13 <> \"\", 8.314472*Foglio1!$C$13*Foglio2!R683, NA())","v":{"$error":"#N/A"}},{"$error":"#N/A"}]
[6103,8.7165357325444948,{"$f":" IF(Foglio1!$C$9 <> \"\", 8.314472*Foglio1!$C$9*Foglio2!B684, NA())","v":{"$error":"#N/A"}},{"$error":"#N/A"},6103,8.7165357325444948,{"$f":" IF(Foglio1!$C$10 <> \"\", 8.314472*Foglio1!$C$10*Foglio2!F684, NA())","v":{"$error":"#N/A"}},{"$error":"#N/A"},6103,8.7165357325444948,{"$f":" IF(Foglio1!$C$11 <> \"\", 8.314472*Foglio1!$C$11*Foglio2!J684, NA())","v":{"$error":"#N/A"}},{"$error":"#N/A"},6103,8.7165357325444948,{"$f":" IF(Foglio1!$C$12 <> \"\", 8.314472*Foglio1!$C$12*Foglio2!N684, NA())","v":{"$error":"#N/A"}},{"$error":"#N/A"},6103,8.7165357325444948,{"$f":" IF(Foglio1!$C$13 <> \"\", 8.314472*Foglio1!$C$13*Foglio2!R684, NA())","v":{"$error":"#N/A"}},{"$error":"#N/A"}]
[6112,8.7180093308463569,{"$f":" IF(Foglio1!$C$9 <> \"\", 8.314472*Foglio1!$C$9*Foglio2!B685, NA())","v":{"$error":"#N/A"}},{"$error":"#N/A"},6112,8.7180093308463569,{"$f":" IF(Foglio1!$C$10 <> \"\", 8.314472*Foglio1!$C$10*Foglio2!F685, NA())","v":{"$error":"#N/A"}},{"$error":"#N/A"},6112,8.7180093308463569,{"$f":" IF(Foglio1!$C$11 <> \"\", 8.314472*Foglio1!$C$11*Foglio2!J685, NA())","v":{"$error":"#N/A"}},{"$error":"#N/A"},6112,8.7180093308463569,{"$f":" IF(Foglio1!$C$12 <> \"\", 8.314472*Foglio1!$C$12*Foglio2!N685, NA())","v":{"$error":"#N/A"}},{"$error":"#N/A"},6112,8.7180093308463569,{"$f":" IF(Foglio1!$C$13 <> \"\", 8.314472*Foglio1!$C$13*Foglio2!R685, NA())","v":{"$error":"#N/A"}},{"$error":"#N/A"}]
[6121,8.71948076085107,{"$f":" IF(Foglio1!$C$9 <> \"\", 8.314472*Foglio1!$C$9*Foglio2!B686, NA())","v":{"$error":"#N/A"}},{"$error":"#N/A"},6121,8.71948076085107,{"$f":" IF(Foglio1!$C$10 <> \"\", 8.314472*Foglio1!$C$10*Foglio2!F686, NA())","v":{"$error":"#N/A"}},{"$error":"#N/A"},6121,8.71948076085107,{"$f":" IF(Foglio1!$C$11 <> \"\", 8.314472*Foglio1!$C$11*Foglio2!J686, NA())","v":{"$error":"#N/A"}},{"$error":"#N/A"},6121,8.71948076085107,{"$f":" IF(Foglio1!$C$12 <> \"\", 8.314472*Foglio1!$C$12*Foglio2!N686, NA())","v":{"$error":"#N/A"}},{"$error":"#N/A"},6121,8.71948076085107,{"$f":" IF(Foglio1!$C$13 <> \"\", 8.314472*Foglio1!$C$13*Foglio2!R686, NA())","v":{"$error":"#N/A"}},{"$error":"#N/A"}]
[6130,8.7209500289302575,{"$f":" IF(Foglio1!$C$9 <> \"\", 8.314472*Foglio1!$C$9*Foglio2!B687, NA())","v":{"$error":"#N/A"}},{"$error":"#N/A"},6130,8.7209500289302575,{"$f":" IF(Foglio1!$C$10 <> \"\", 8.314472*Foglio1!$C$10*Foglio2!F687, NA())","v":{"$error":"#N/A"}},{"$error":"#N/A"},6130,8.7209500289302575,{"$f":" IF(Foglio1!$C$11 <> \"\", 8.314472*Foglio1!$C$11*Foglio2!J687, NA())","v":{"$error":"#N/A"}},{"$error":"#N/A"},6130,8.7209500289302575,{"$f":" IF(Foglio1!$C$12 <> \"\", 8.314472*Foglio1!$C$12*Foglio2!N687, NA())","v":{"$error":"#N/A"}},{"$error":"#N/A"},6130,8.7209500289302575,{"$f":" IF(Foglio1!$C$13 <> \"\", 8.314472*Foglio1!$C$13*Foglio2!R687, NA())","v":{"$error":"#N/A"}},{"$error":"#N/A"}]
[6139,8.7224171414274956,{"$f":" IF(Foglio1!$C$9 <> \"\", 8.314472*Foglio1!$C$9*Foglio2!B688, NA())","v":{"$error":"#N/A"}},{"$error":"#N/A"},6139,8.7224171414274956,{"$f":" IF(Foglio1!$C$10 <> \"\", 8.314472*Foglio1!$C$10*Foglio2!F688, NA())","v":{"$error":"#N/A"}},{"$error":"#N/A"},6139,8.7224171414274956,{"$f":" IF(Foglio1!$C$11 <> \"\", 8.314472*Foglio1!$C$11*Foglio2!J688, NA())","v":{"$error":"#N/A"}},{"$error":"#N/A"},6139,8.7224171414274956,{"$f":" IF(Foglio1!$C$12 <> \"\", 8.314472*Foglio1!$C$12*Foglio2!N688, NA())","v":{"$error":"#N/A"}},{"$error":"#N/A"},6139,8.7224171414274956,{"$f":" IF(Foglio1!$C$13 <> \"\", 8.314472*Foglio1!$C$13*Foglio2!R688, NA())","v":{"$error":"#N/A"}},{"$error":"#N/A"}]
[6148,8.723882104658486,{"$f":" IF(Foglio1!$C$9 <> \"\", 8.314472*Foglio1!$C$9*Foglio2!B689, NA())","v":{"$error":"#N/A"}},{"$error":"#N/A"},6148,8.723882104658486,{"$f":" IF(Foglio1!$C$10 <> \"\", 8.314472*Foglio1!$C$10*Foglio2!F689, NA())","v":{"$error":"#N/A"}},{"$error":"#N/A"},6148,8.723882104658486,{"$f":" IF(Foglio1!$C$11 <> \"\", 8.314472*Foglio1!$C$11*Foglio2!J689, NA())","v":{"$error":"#N/A"}},{"$error":"#N/A"},6148,8.723882104658486,{"$f":" IF(Foglio1!$C$12 <> \"\", 8.314472*Foglio1!$C$12*Foglio2!N689, NA())","v":{"$error":"#N/A"}},{"$error":"#N/A"},6148,8.723882104658486,{"$f":" IF(Foglio1!$C$13 <> \"\", 8.314472*Foglio1!$C$13*Foglio2!R689, NA())","v":{"$error":"#N/A"}},{"$error":"#N/A"}]
[6157,8.7253449249112105,{"$f":" IF(Foglio1!$C$9 <> \"\", 8.314472*Foglio1!$C$9*Foglio2!B690, NA())","v":{"$error":"#N/A"}},{"$error":"#N/A"},6157,8.7253449249112105,{"$f":" IF(Foglio1!$C$10 <> \"\", 8.314472*Foglio1!$C$10*Foglio2!F690, NA())","v":{"$error":"#N/A"}},{"$error":"#N/A"},6157,8.7253449249112105,{"$f":" IF(Foglio1!$C$11 <> \"\", 8.314472*Foglio1!$C$11*Foglio2!J690, NA())","v":{"$error":"#N/A"}},{"$error":"#N/A"},6157,8.7253449249112105,{"$f":" IF(Foglio1!$C$12 <> \"\", 8.314472*Foglio1!$C$12*Foglio2!N690, NA())","v":{"$error":"#N/A"}},{"$error":"#N/A"},6157,8.7253449249112105,{"$f":" IF(Foglio1!$C$13 <> \"\", 8.314472*Foglio1!$C$13*Foglio2!R690, NA())","v":{"$error":"#N/A"}},{"$error":"#N/A"}]
[6166,8.7268056084460959,{"$f":" IF(Foglio1!$C$9 <> \"\", 8.314472*Foglio1!$C$9*Foglio2!B691, NA())","v":{"$error":"#N/A"}},{"$error":"#N/A"},6166,8.7268056084460959,{"$f":" IF(Foglio1!$C$10 <> \"\", 8.314472*Foglio1!$C$10*Foglio2!F691, NA())","v":{"$error":"#N/A"}},{"$error":"#N/A"},6166,8.7268056084460959,{"$f":" IF(Foglio1!$C$11 <> \"\", 8.314472*Foglio1!$C$11*Foglio2!J691, NA())","v":{"$error":"#N/A"}},{"$error":"#N/A"},6166,8.7268056084460959,{"$f":" IF(Foglio1!$C$12 <> \"\", 8.314472*Foglio1!$C$12*Foglio2!N691, NA())","v":{"$error":"#N/A"}},{"$error":"#N/A"},6166,8.7268056084460959,{"$f":" IF(Foglio1!$C$13 <> \"\", 8.314472*Foglio1!$C$13*Foglio2!R691, NA())","v":{"$error":"#N/A"}},{"$error":"#N/A"}]
[6175,8.7282641614961776,{"$f":" IF(Foglio1!$C$9 <> \"\", 8.314472*Foglio1!$C$9*Foglio2!B692, NA())","v":{"$error":"#N/A"}},{"$error":"#N/A"},6175,8.7282641614961776,{"$f":" IF(Foglio1!$C$10 <> \"\", 8.314472*Foglio1!$C$10*Foglio2!F692, NA())","v":{"$error":"#N/A"}},{"$error":"#N/A"},6175,8.7282641614961776,{"$f":" IF(Foglio1!$C$11 <> \"\", 8.314472*Foglio1!$C$11*Foglio2!J692, NA())","v":{"$error":"#N/A"}},{"$error":"#N/A"},6175,8.7282641614961776,{"$f":" IF(Foglio1!$C$12 <> \"\", 8.314472*Foglio1!$C$12*Foglio2!N692, NA())","v":{"$error":"#N/A"}},{"$error":"#N/A"},6175,8.7282641614961776,{"$f":" IF(Foglio1!$C$13 <> \"\", 8.314472*Foglio1!$C$13*Foglio2!R692, NA())","v":{"$error":"#N/A"}},{"$error":"#N/A"}]
[6184,8.7297205902672577,{"$f":" IF(Foglio1!$C$9 <> \"\", 8.314472*Foglio1!$C$9*Foglio2!B693, NA())","v":{"$error":"#N/A"}},{"$error":"#N/A"},6184,8.7297205902672577,{"$f":" IF(Foglio1!$C$10 <> \"\", 8.314472*Foglio1!$C$10*Foglio2!F693, NA())","v":{"$error":"#N/A"}},{"$error":"#N/A"},6184,8.7297205902672577,{"$f":" IF(Foglio1!$C$11 <> \"\", 8.314472*Foglio1!$C$11*Foglio2!J693, NA())","v":{"$error":"#N/A"}},{"$error":"#N/A"},6184,8.7297205902672577,{"$f":" IF(Foglio1!$C$12 <> \"\", 8.314472*Foglio1!$C$12*Foglio2!N693, NA())","v":{"$error":"#N/A"}},{"$error":"#N/A"},6184,8.7297205902672577,{"$f":" IF(Foglio1!$C$13 <> \"\", 8.314472*Foglio1!$C$13*Foglio2!R693, NA())","v":{"$error":"#N/A"}},{"$error":"#N/A"}]
[6193,8.7311749009380613,{"$f":" IF(Foglio1!$C$9 <> \"\", 8.314472*Foglio1!$C$9*Foglio2!B694, NA())","v":{"$error":"#N/A"}},{"$error":"#N/A"},6193,8.7311749009380613,{"$f":" IF(Foglio1!$C$10 <> \"\", 8.314472*Foglio1!$C$10*Foglio2!F694, NA())","v":{"$error":"#N/A"}},{"$error":"#N/A"},6193,8.7311749009380613,{"$f":" IF(Foglio1!$C$11 <> \"\", 8.314472*Foglio1!$C$11*Foglio2!J694, NA())","v":{"$error":"#N/A"}},{"$error":"#N/A"},6193,8.7311749009380613,{"$f":" IF(Foglio1!$C$12 <> \"\", 8.314472*Foglio1!$C$12*Foglio2!N694, NA())","v":{"$error":"#N/A"}},{"$error":"#N/A"},6193,8.7311749009380613,{"$f":" IF(Foglio1!$C$13 <> \"\", 8.314472*Foglio1!$C$13*Foglio2!R694, NA())","v":{"$error":"#N/A"}},{"$error":"#N/A"}]
[6202,8.7326270996603945,{"$f":" IF(Foglio1!$C$9 <> \"\", 8.314472*Foglio1!$C$9*Foglio2!B695, NA())","v":{"$error":"#N/A"}},{"$error":"#N/A"},6202,8.7326270996603945,{"$f":" IF(Foglio1!$C$10 <> \"\", 8.314472*Foglio1!$C$10*Foglio2!F695, NA())","v":{"$error":"#N/A"}},{"$error":"#N/A"},6202,8.7326270996603945,{"$f":" IF(Foglio1!$C$11 <> \"\", 8.314472*Foglio1!$C$11*Foglio2!J695, NA())","v":{"$error":"#N/A"}},{"$error":"#N/A"},6202,8.7326270996603945,{"$f":" IF(Foglio1!$C$12 <> \"\", 8.314472*Foglio1!$C$12*Foglio2!N695, NA())","v":{"$error":"#N/A"}},{"$error":"#N/A"},6202,8.7326270996603945,{"$f":" IF(Foglio1!$C$13 <> \"\", 8.314472*Foglio1!$C$13*Foglio2!R695, NA())","v":{"$error":"#N/A"}},{"$error":"#N/A"}]
[6211,8.7340771925593028,{"$f":" IF(Foglio1!$C$9 <> \"\", 8.314472*Foglio1!$C$9*Foglio2!B696, NA())","v":{"$error":"#N/A"}},{"$error":"#N/A"},6211,8.7340771925593028,{"$f":" IF(Foglio1!$C$10 <> \"\", 8.314472*Foglio1!$C$10*Foglio2!F696, NA())","v":{"$error":"#N/A"}},{"$error":"#N/A"},6211,8.7340771925593028,{"$f":" IF(Foglio1!$C$11 <> \"\", 8.314472*Foglio1!$C$11*Foglio2!J696, NA())","v":{"$error":"#N/A"}},{"$error":"#N/A"},6211,8.7340771925593028,{"$f":" IF(Foglio1!$C$12 <> \"\", 8.314472*Foglio1!$C$12*Foglio2!N696, NA())","v":{"$error":"#N/A"}},{"$error":"#N/A"},6211,8.7340771925593028,{"$f":" IF(Foglio1!$C$13 <> \"\", 8.314472*Foglio1!$C$13*Foglio2!R696, NA())","v":{"$error":"#N/A"}},{"$error":"#N/A"}]
[6220,8.7355251857332252,{"$f":" IF(Foglio1!$C$9 <> \"\", 8.314472*Foglio1!$C$9*Foglio2!B697, NA())","v":{"$error":"#N/A"}},{"$error":"#N/A"},6220,8.7355251857332252,{"$f":" IF(Foglio1!$C$10 <> \"\", 8.314472*Foglio1!$C$10*Foglio2!F697, NA())","v":{"$error":"#N/A"}},{"$error":"#N/A"},6220,8.7355251857332252,{"$f":" IF(Foglio1!$C$11 <> \"\", 8.314472*Foglio1!$C$11*Foglio2!J697, NA())","v":{"$error":"#N/A"}},{"$error":"#N/A"},6220,8.7355251857332252,{"$f":" IF(Foglio1!$C$12 <> \"\", 8.314472*Foglio1!$C$12*Foglio2!N697, NA())","v":{"$error":"#N/A"}},{"$error":"#N/A"},6220,8.7355251857332252,{"$f":" IF(Foglio1!$C$13 <> \"\", 8.314472*Foglio1!$C$13*Foglio2!R697, NA())","v":{"$error":"#N/A"}},{"$error":"#N/A"}]
[6229,8.7369710852541456,{"$f":" IF(Foglio1!$C$9 <> \"\", 8.314472*Foglio1!$C$9*Foglio2!B698, NA())","v":{"$error":"#N/A"}},{"$error":"#N/A"},6229,8.7369710852541456,{"$f":" IF(Foglio1!$C$10 <> \"\", 8.314472*Foglio1!$C$10*Foglio2!F698, NA())","v":{"$error":"#N/A"}},{"$error":"#N/A"},6229,8.7369710852541456,{"$f":" IF(Foglio1!$C$11 <> \"\", 8.314472*Foglio1!$C$11*Foglio2!J698, NA())","v":{"$error":"#N/A"}},{"$error":"#N/A"},6229,8.7369710852541456,{"$f":" IF(Foglio1!$C$12 <> \"\", 8.314472*Foglio1!$C$12*Foglio2!N698, NA())","v":{"$error":"#N/A"}},{"$error":"#N/A"},6229,8.7369710852541456,{"$f":" IF(Foglio1!$C$13 <> \"\", 8.314472*Foglio1!$C$13*Foglio2!R698, NA())","v":{"$error":"#N/A"}},{"$error":"#N/A"}]
[6238,8.7384148971677487,{"$f":" IF(Foglio1!$C$9 <> \"\", 8.314472*Foglio1!$C$9*Foglio2!B699, NA())","v":{"$error":"#N/A"}},{"$error":"#N/A"},6238,8.7384148971677487,{"$f":" IF(Foglio1!$C$10 <> \"\", 8.314472*Foglio1!$C$10*Foglio2!F699, NA())","v":{"$error":"#N/A"}},{"$error":"#N/A"},6238,8.7384148971677487,{"$f":" IF(Foglio1!$C$11 <> \"\", 8.314472*Foglio1!$C$11*Foglio2!J699, NA())","v":{"$error":"#N/A"}},{"$error":"#N/A"},6238,8.7384148971677487,{"$f":" IF(Foglio1!$C$12 <> \"\", 8.314472*Foglio1!$C$12*Foglio2!N699, NA())","v":{"$error":"#N/A"}},{"$error":"#N/A"},6238,8.7384148971677487,{"$f":" IF(Foglio1!$C$13 <> \"\", 8.314472*Foglio1!$C$13*Foglio2!R699, NA())","v":{"$error":"#N/A"}},{"$error":"#N/A"}]
[6247,8.7398566274935696,{"$f":" IF(Foglio1!$C$9 <> \"\", 8.314472*Foglio1!$C$9*Foglio2!B700, NA())","v":{"$error":"#N/A"}},{"$error":"#N/A"},6247,8.7398566274935696,{"$f":" IF(Foglio1!$C$10 <> \"\", 8.314472*Foglio1!$C$10*Foglio2!F700, NA())","v":{"$error":"#N/A"}},{"$error":"#N/A"},6247,8.7398566274935696,{"$f":" IF(Foglio1!$C$11 <> \"\", 8.314472*Foglio1!$C$11*Foglio2!J700, NA())","v":{"$error":"#N/A"}},{"$error":"#N/A"},6247,8.7398566274935696,{"$f":" IF(Foglio1!$C$12 <> \"\", 8.314472*Foglio1!$C$12*Foglio2!N700, NA())","v":{"$error":"#N/A"}},{"$error":"#N/A"},6247,8.7398566274935696,{"$f":" IF(Foglio1!$C$13 <> \"\", 8.314472*Foglio1!$C$13*Foglio2!R700, NA())","v":{"$error":"#N/A"}},{"$error":"#N/A"}]
[6256,8.7412962822251465,{"$f":" IF(Foglio1!$C$9 <> \"\", 8.314472*Foglio1!$C$9*Foglio2!B701, NA())","v":{"$error":"#N/A"}},{"$error":"#N/A"},6256,8.7412962822251465,{"$f":" IF(Foglio1!$C$10 <> \"\", 8.314472*Foglio1!$C$10*Foglio2!F701, NA())","v":{"$error":"#N/A"}},{"$error":"#N/A"},6256,8.7412962822251465,{"$f":" IF(Foglio1!$C$11 <> \"\", 8.314472*Foglio1!$C$11*Foglio2!J701, NA())","v":{"$error":"#N/A"}},{"$error":"#N/A"},6256,8.7412962822251465,{"$f":" IF(Foglio1!$C$12 <> \"\", 8.314472*Foglio1!$C$12*Foglio2!N701, NA())","v":{"$error":"#N/A"}},{"$error":"#N/A"},6256,8.7412962822251465,{"$f":" IF(Foglio1!$C$13 <> \"\", 8.314472*Foglio1!$C$13*Foglio2!R701, NA())","v":{"$error":"#N/A"}},{"$error":"#N/A"}]
[6265,8.742733867330168,{"$f":" IF(Foglio1!$C$9 <> \"\", 8.314472*Foglio1!$C$9*Foglio2!B702, NA())","v":{"$error":"#N/A"}},{"$error":"#N/A"},6265,8.742733867330168,{"$f":" IF(Foglio1!$C$10 <> \"\", 8.314472*Foglio1!$C$10*Foglio2!F702, NA())","v":{"$error":"#N/A"}},{"$error":"#N/A"},6265,8.742733867330168,{"$f":" IF(Foglio1!$C$11 <> \"\", 8.314472*Foglio1!$C$11*Foglio2!J702, NA())","v":{"$error":"#N/A"}},{"$error":"#N/A"},6265,8.742733867330168,{"$f":" IF(Foglio1!$C$12 <> \"\", 8.314472*Foglio1!$C$12*Foglio2!N702, NA())","v":{"$error":"#N/A"}},{"$error":"#N/A"},6265,8.742733867330168,{"$f":" IF(Foglio1!$C$13 <> \"\", 8.314472*Foglio1!$C$13*Foglio2!R702, NA())","v":{"$error":"#N/A"}},{"$error":"#N/A"}]
[6274,8.744169388750624,{"$f":" IF(Foglio1!$C$9 <> \"\", 8.314472*Foglio1!$C$9*Foglio2!B703, NA())","v":{"$error":"#N/A"}},{"$error":"#N/A"},6274,8.744169388750624,{"$f":" IF(Foglio1!$C$10 <> \"\", 8.314472*Foglio1!$C$10*Foglio2!F703, NA())","v":{"$error":"#N/A"}},{"$error":"#N/A"},6274,8.744169388750624,{"$f":" IF(Foglio1!$C$11 <> \"\", 8.314472*Foglio1!$C$11*Foglio2!J703, NA())","v":{"$error":"#N/A"}},{"$error":"#N/A"},6274,8.744169388750624,{"$f":" IF(Foglio1!$C$12 <> \"\", 8.314472*Foglio1!$C$12*Foglio2!N703, NA())","v":{"$error":"#N/A"}},{"$error":"#N/A"},6274,8.744169388750624,{"$f":" IF(Foglio1!$C$13 <> \"\", 8.314472*Foglio1!$C$13*Foglio2!R703, NA())","v":{"$error":"#N/A"}},{"$error":"#N/A"}]
[6283,8.7456028524029463,{"$f":" IF(Foglio1!$C$9 <> \"\", 8.314472*Foglio1!$C$9*Foglio2!B704, NA())","v":{"$error":"#N/A"}},{"$error":"#N/A"},6283,8.7456028524029463,{"$f":" IF(Foglio1!$C$10 <> \"\", 8.314472*Foglio1!$C$10*Foglio2!F704, NA())","v":{"$error":"#N/A"}},{"$error":"#N/A"},6283,8.7456028524029463,{"$f":" IF(Foglio1!$C$11 <> \"\", 8.314472*Foglio1!$C$11*Foglio2!J704, NA())","v":{"$error":"#N/A"}},{"$error":"#N/A"},6283,8.7456028524029463,{"$f":" IF(Foglio1!$C$12 <> \"\", 8.314472*Foglio1!$C$12*Foglio2!N704, NA())","v":{"$error":"#N/A"}},{"$error":"#N/A"},6283,8.7456028524029463,{"$f":" IF(Foglio1!$C$13 <> \"\", 8.314472*Foglio1!$C$13*Foglio2!R704, NA())","v":{"$error":"#N/A"}},{"$error":"#N/A"}]
[6292,8.7470342641781684,{"$f":" IF(Foglio1!$C$9 <> \"\", 8.314472*Foglio1!$C$9*Foglio2!B705, NA())","v":{"$error":"#N/A"}},{"$error":"#N/A"},6292,8.7470342641781684,{"$f":" IF(Foglio1!$C$10 <> \"\", 8.314472*Foglio1!$C$10*Foglio2!F705, NA())","v":{"$error":"#N/A"}},{"$error":"#N/A"},6292,8.7470342641781684,{"$f":" IF(Foglio1!$C$11 <> \"\", 8.314472*Foglio1!$C$11*Foglio2!J705, NA())","v":{"$error":"#N/A"}},{"$error":"#N/A"},6292,8.7470342641781684,{"$f":" IF(Foglio1!$C$12 <> \"\", 8.314472*Foglio1!$C$12*Foglio2!N705, NA())","v":{"$error":"#N/A"}},{"$error":"#N/A"},6292,8.7470342641781684,{"$f":" IF(Foglio1!$C$13 <> \"\", 8.314472*Foglio1!$C$13*Foglio2!R705, NA())","v":{"$error":"#N/A"}},{"$error":"#N/A"}]
[6301,8.7484636299420551,{"$f":" IF(Foglio1!$C$9 <> \"\", 8.314472*Foglio1!$C$9*Foglio2!B706, NA())","v":{"$error":"#N/A"}},{"$error":"#N/A"},6301,8.7484636299420551,{"$f":" IF(Foglio1!$C$10 <> \"\", 8.314472*Foglio1!$C$10*Foglio2!F706, NA())","v":{"$error":"#N/A"}},{"$error":"#N/A"},6301,8.7484636299420551,{"$f":" IF(Foglio1!$C$11 <> \"\", 8.314472*Foglio1!$C$11*Foglio2!J706, NA())","v":{"$error":"#N/A"}},{"$error":"#N/A"},6301,8.7484636299420551,{"$f":" IF(Foglio1!$C$12 <> \"\", 8.314472*Foglio1!$C$12*Foglio2!N706, NA())","v":{"$error":"#N/A"}},{"$error":"#N/A"},6301,8.7484636299420551,{"$f":" IF(Foglio1!$C$13 <> \"\", 8.314472*Foglio1!$C$13*Foglio2!R706, NA())","v":{"$error":"#N/A"}},{"$error":"#N/A"}]
[6310,{"$f":"LN(A707)","v":8.7498909555352586},{"$f":" IF(Foglio1!$C$9 <> \"\", 8.314472*Foglio1!$C$9*Foglio2!B707, NA())","v":{"$error":"#N/A"}},{"$f":"  -30.5 + C707*10^-3","v":{"$error":"#N/A"}},6310,{"$f":"LN(E707)","v":8.7498909555352586},{"$f":" IF(Foglio1!$C$10 <> \"\", 8.314472*Foglio1!$C$10*Foglio2!F707, NA())","v":{"$error":"#N/A"}},{"$f":" -30.5+ G707*10^-3","v":{"$error":"#N/A"}},6310,{"$f":"LN(I707)","v":8.7498909555352586},{"$f":" IF(Foglio1!$C$11 <> \"\", 8.314472*Foglio1!$C$11*Foglio2!J707, NA())","v":{"$error":"#N/A"}},{"$f":" -30.5+ K707*10^-3","v":{"$error":"#N/A"}},6310,{"$f":"LN(M707)","v":8.7498909555352586},{"$f":" IF(Foglio1!$C$12 <> \"\", 8.314472*Foglio1!$C$12*Foglio2!N707, NA())","v":{"$error":"#N/A"}},{"$f":" -30.5+ O707*10^-3","v":{"$error":"#N/A"}},6310,{"$f":"LN(Q707)","v":8.7498909555352586},{"$f":" IF(Foglio1!$C$13 <> \"\", 8.314472*Foglio1!$C$13*Foglio2!R707, NA())","v":{"$error":"#N/A"}},{"$f":" -30.5+S707*10^-3","v":{"$error":"#N/A"}}]
[6319,8.751316246773456,{"$f":" IF(Foglio1!$C$9 <> \"\", 8.314472*Foglio1!$C$9*Foglio2!B708, NA())","v":{"$error":"#N/A"}},{"$error":"#N/A"},6319,8.751316246773456,{"$f":" IF(Foglio1!$C$10 <> \"\", 8.314472*Foglio1!$C$10*Foglio2!F708, NA())","v":{"$error":"#N/A"}},{"$error":"#N/A"},6319,8.751316246773456,{"$f":" IF(Foglio1!$C$11 <> \"\", 8.314472*Foglio1!$C$11*Foglio2!J708, NA())","v":{"$error":"#N/A"}},{"$error":"#N/A"},6319,8.751316246773456,{"$f":" IF(Foglio1!$C$12 <> \"\", 8.314472*Foglio1!$C$12*Foglio2!N708, NA())","v":{"$error":"#N/A"}},{"$error":"#N/A"},6319,8.751316246773456,{"$f":" IF(Foglio1!$C$13 <> \"\", 8.314472*Foglio1!$C$13*Foglio2!R708, NA())","v":{"$error":"#N/A"}},{"$error":"#N/A"}]
[6328,8.7527395094474905,{"$f":" IF(Foglio1!$C$9 <> \"\", 8.314472*Foglio1!$C$9*Foglio2!B709, NA())","v":{"$error":"#N/A"}},{"$error":"#N/A"},6328,8.7527395094474905,{"$f":" IF(Foglio1!$C$10 <> \"\", 8.314472*Foglio1!$C$10*Foglio2!F709, NA())","v":{"$error":"#N/A"}},{"$error":"#N/A"},6328,8.7527395094474905,{"$f":" IF(Foglio1!$C$11 <> \"\", 8.314472*Foglio1!$C$11*Foglio2!J709, NA())","v":{"$error":"#N/A"}},{"$error":"#N/A"},6328,8.7527395094474905,{"$f":" IF(Foglio1!$C$12 <> \"\", 8.314472*Foglio1!$C$12*Foglio2!N709, NA())","v":{"$error":"#N/A"}},{"$error":"#N/A"},6328,8.7527395094474905,{"$f":" IF(Foglio1!$C$13 <> \"\", 8.314472*Foglio1!$C$13*Foglio2!R709, NA())","v":{"$error":"#N/A"}},{"$error":"#N/A"}]
[6337,8.7541607493235176,{"$f":" IF(Foglio1!$C$9 <> \"\", 8.314472*Foglio1!$C$9*Foglio2!B710, NA())","v":{"$error":"#N/A"}},{"$error":"#N/A"},6337,8.7541607493235176,{"$f":" IF(Foglio1!$C$10 <> \"\", 8.314472*Foglio1!$C$10*Foglio2!F710, NA())","v":{"$error":"#N/A"}},{"$error":"#N/A"},6337,8.7541607493235176,{"$f":" IF(Foglio1!$C$11 <> \"\", 8.314472*Foglio1!$C$11*Foglio2!J710, NA())","v":{"$error":"#N/A"}},{"$error":"#N/A"},6337,8.7541607493235176,{"$f":" IF(Foglio1!$C$12 <> \"\", 8.314472*Foglio1!$C$12*Foglio2!N710, NA())","v":{"$error":"#N/A"}},{"$error":"#N/A"},6337,8.7541607493235176,{"$f":" IF(Foglio1!$C$13 <> \"\", 8.314472*Foglio1!$C$13*Foglio2!R710, NA())","v":{"$error":"#N/A"}},{"$error":"#N/A"}]
[6346,8.7555799721431402,{"$f":" IF(Foglio1!$C$9 <> \"\", 8.314472*Foglio1!$C$9*Foglio2!B711, NA())","v":{"$error":"#N/A"}},{"$error":"#N/A"},6346,8.7555799721431402,{"$f":" IF(Foglio1!$C$10 <> \"\", 8.314472*Foglio1!$C$10*Foglio2!F711, NA())","v":{"$error":"#N/A"}},{"$error":"#N/A"},6346,8.7555799721431402,{"$f":" IF(Foglio1!$C$11 <> \"\", 8.314472*Foglio1!$C$11*Foglio2!J711, NA())","v":{"$error":"#N/A"}},{"$error":"#N/A"},6346,8.7555799721431402,{"$f":" IF(Foglio1!$C$12 <> \"\", 8.314472*Foglio1!$C$12*Foglio2!N711, NA())","v":{"$error":"#N/A"}},{"$error":"#N/A"},6346,8.7555799721431402,{"$f":" IF(Foglio1!$C$13 <> \"\", 8.314472*Foglio1!$C$13*Foglio2!R711, NA())","v":{"$error":"#N/A"}},{"$error":"#N/A"}]
[6355,8.7569971836235538,{"$f":" IF(Foglio1!$C$9 <> \"\", 8.314472*Foglio1!$C$9*Foglio2!B712, NA())","v":{"$error":"#N/A"}},{"$error":"#N/A"},6355,8.7569971836235538,{"$f":" IF(Foglio1!$C$10 <> \"\", 8.314472*Foglio1!$C$10*Foglio2!F712, NA())","v":{"$error":"#N/A"}},{"$error":"#N/A"},6355,8.7569971836235538,{"$f":" IF(Foglio1!$C$11 <> \"\", 8.314472*Foglio1!$C$11*Foglio2!J712, NA())","v":{"$error":"#N/A"}},{"$error":"#N/A"},6355,8.7569971836235538,{"$f":" IF(Foglio1!$C$12 <> \"\", 8.314472*Foglio1!$C$12*Foglio2!N712, NA())","v":{"$error":"#N/A"}},{"$error":"#N/A"},6355,8.7569971836235538,{"$f":" IF(Foglio1!$C$13 <> \"\", 8.314472*Foglio1!$C$13*Foglio2!R712, NA())","v":{"$error":"#N/A"}},{"$error":"#N/A"}]
[6364,8.7584123894576766,{"$f":" IF(Foglio1!$C$9 <> \"\", 8.314472*Foglio1!$C$9*Foglio2!B713, NA())","v":{"$error":"#N/A"}},{"$error":"#N/A"},6364,8.7584123894576766,{"$f":" IF(Foglio1!$C$10 <> \"\", 8.314472*Foglio1!$C$10*Foglio2!F713, NA())","v":{"$error":"#N/A"}},{"$error":"#N/A"},6364,8.7584123894576766,{"$f":" IF(Foglio1!$C$11 <> \"\", 8.314472*Foglio1!$C$11*Foglio2!J713, NA())","v":{"$error":"#N/A"}},{"$error":"#N/A"},6364,8.7584123894576766,{"$f":" IF(Foglio1!$C$12 <> \"\", 8.314472*Foglio1!$C$12*Foglio2!N713, NA())","v":{"$error":"#N/A"}},{"$error":"#N/A"},6364,8.7584123894576766,{"$f":" IF(Foglio1!$C$13 <> \"\", 8.314472*Foglio1!$C$13*Foglio2!R713, NA())","v":{"$error":"#N/A"}},{"$error":"#N/A"}]
[6373,8.7598255953142949,{"$f":" IF(Foglio1!$C$9 <> \"\", 8.314472*Foglio1!$C$9*Foglio2!B714, NA())","v":{"$error":"#N/A"}},{"$error":"#N/A"},6373,8.7598255953142949,{"$f":" IF(Foglio1!$C$10 <> \"\", 8.314472*Foglio1!$C$10*Foglio2!F714, NA())","v":{"$error":"#N/A"}},{"$error":"#N/A"},6373,8.7598255953142949,{"$f":" IF(Foglio1!$C$11 <> \"\", 8.314472*Foglio1!$C$11*Foglio2!J714, NA())","v":{"$error":"#N/A"}},{"$error":"#N/A"},6373,8.7598255953142949,{"$f":" IF(Foglio1!$C$12 <> \"\", 8.314472*Foglio1!$C$12*Foglio2!N714, NA())","v":{"$error":"#N/A"}},{"$error":"#N/A"},6373,8.7598255953142949,{"$f":" IF(Foglio1!$C$13 <> \"\", 8.314472*Foglio1!$C$13*Foglio2!R714, NA())","v":{"$error":"#N/A"}},{"$error":"#N/A"}]
[6382,8.7612368068381894,{"$f":" IF(Foglio1!$C$9 <> \"\", 8.314472*Foglio1!$C$9*Foglio2!B715, NA())","v":{"$error":"#N/A"}},{"$error":"#N/A"},6382,8.7612368068381894,{"$f":" IF(Foglio1!$C$10 <> \"\", 8.314472*Foglio1!$C$10*Foglio2!F715, NA())","v":{"$error":"#N/A"}},{"$error":"#N/A"},6382,8.7612368068381894,{"$f":" IF(Foglio1!$C$11 <> \"\", 8.314472*Foglio1!$C$11*Foglio2!J715, NA())","v":{"$error":"#N/A"}},{"$error":"#N/A"},6382,8.7612368068381894,{"$f":" IF(Foglio1!$C$12 <> \"\", 8.314472*Foglio1!$C$12*Foglio2!N715, NA())","v":{"$error":"#N/A"}},{"$error":"#N/A"},6382,8.7612368068381894,{"$f":" IF(Foglio1!$C$13 <> \"\", 8.314472*Foglio1!$C$13*Foglio2!R715, NA())","v":{"$error":"#N/A"}},{"$error":"#N/A"}]
[6391,8.7626460296502824,{"$f":" IF(Foglio1!$C$9 <> \"\", 8.314472*Foglio1!$C$9*Foglio2!B716, NA())","v":{"$error":"#N/A"}},{"$error":"#N/A"},6391,8.7626460296502824,{"$f":" IF(Foglio1!$C$10 <> \"\", 8.314472*Foglio1!$C$10*Foglio2!F716, NA())","v":{"$error":"#N/A"}},{"$error":"#N/A"},6391,8.7626460296502824,{"$f":" IF(Foglio1!$C$11 <> \"\", 8.314472*Foglio1!$C$11*Foglio2!J716, NA())","v":{"$error":"#N/A"}},{"$error":"#N/A"},6391,8.7626460296502824,{"$f":" IF(Foglio1!$C$12 <> \"\", 8.314472*Foglio1!$C$12*Foglio2!N716, NA())","v":{"$error":"#N/A"}},{"$error":"#N/A"},6391,8.7626460296502824,{"$f":" IF(Foglio1!$C$13 <> \"\", 8.314472*Foglio1!$C$13*Foglio2!R716, NA())","v":{"$error":"#N/A"}},{"$error":"#N/A"}]
[6400,8.7640532693477624,{"$f":" IF(Foglio1!$C$9 <> \"\", 8.314472*Foglio1!$C$9*Foglio2!B717, NA())","v":{"$error":"#N/A"}},{"$error":"#N/A"},6400,8.7640532693477624,{"$f":" IF(Foglio1!$C$10 <> \"\", 8.314472*Foglio1!$C$10*Foglio2!F717, NA())","v":{"$error":"#N/A"}},{"$error":"#N/A"},6400,8.7640532693477624,{"$f":" IF(Foglio1!$C$11 <> \"\", 8.314472*Foglio1!$C$11*Foglio2!J717, NA())","v":{"$error":"#N/A"}},{"$error":"#N/A"},6400,8.7640532693477624,{"$f":" IF(Foglio1!$C$12 <> \"\", 8.314472*Foglio1!$C$12*Foglio2!N717, NA())","v":{"$error":"#N/A"}},{"$error":"#N/A"},6400,8.7640532693477624,{"$f":" IF(Foglio1!$C$13 <> \"\", 8.314472*Foglio1!$C$13*Foglio2!R717, NA())","v":{"$error":"#N/A"}},{"$error":"#N/A"}]
[6409,8.7654585315042262,{"$f":" IF(Foglio1!$C$9 <> \"\", 8.314472*Foglio1!$C$9*Foglio2!B718, NA())","v":{"$error":"#N/A"}},{"$error":"#N/A"},6409,8.7654585315042262,{"$f":" IF(Foglio1!$C$10 <> \"\", 8.314472*Foglio1!$C$10*Foglio2!F718, NA())","v":{"$error":"#N/A"}},{"$error":"#N/A"},6409,8.7654585315042262,{"$f":" IF(Foglio1!$C$11 <> \"\", 8.314472*Foglio1!$C$11*Foglio2!J718, NA())","v":{"$error":"#N/A"}},{"$error":"#N/A"},6409,8.7654585315042262,{"$f":" IF(Foglio1!$C$12 <> \"\", 8.314472*Foglio1!$C$12*Foglio2!N718, NA())","v":{"$error":"#N/A"}},{"$error":"#N/A"},6409,8.7654585315042262,{"$f":" IF(Foglio1!$C$13 <> \"\", 8.314472*Foglio1!$C$13*Foglio2!R718, NA())","v":{"$error":"#N/A"}},{"$error":"#N/A"}]
[6418,8.7668618216698029,{"$f":" IF(Foglio1!$C$9 <> \"\", 8.314472*Foglio1!$C$9*Foglio2!B719, NA())","v":{"$error":"#N/A"}},{"$error":"#N/A"},6418,8.7668618216698029,{"$f":" IF(Foglio1!$C$10 <> \"\", 8.314472*Foglio1!$C$10*Foglio2!F719, NA())","v":{"$error":"#N/A"}},{"$error":"#N/A"},6418,8.7668618216698029,{"$f":" IF(Foglio1!$C$11 <> \"\", 8.314472*Foglio1!$C$11*Foglio2!J719, NA())","v":{"$error":"#N/A"}},{"$error":"#N/A"},6418,8.7668618216698029,{"$f":" IF(Foglio1!$C$12 <> \"\", 8.314472*Foglio1!$C$12*Foglio2!N719, NA())","v":{"$error":"#N/A"}},{"$error":"#N/A"},6418,8.7668618216698029,{"$f":" IF(Foglio1!$C$13 <> \"\", 8.314472*Foglio1!$C$13*Foglio2!R719, NA())","v":{"$error":"#N/A"}},{"$error":"#N/A"}]
[6427,8.7682631453712858,{"$f":" IF(Foglio1!$C$9 <> \"\", 8.314472*Foglio1!$C$9*Foglio2!B720, NA())","v":{"$error":"#N/A"}},{"$error":"#N/A"},6427,8.7682631453712858,{"$f":" IF(Foglio1!$C$10 <> \"\", 8.314472*Foglio1!$C$10*Foglio2!F720, NA())","v":{"$error":"#N/A"}},{"$error":"#N/A"},6427,8.7682631453712858,{"$f":" IF(Foglio1!$C$11 <> \"\", 8.314472*Foglio1!$C$11*Foglio2!J720, NA())","v":{"$error":"#N/A"}},{"$error":"#N/A"},6427,8.7682631453712858,{"$f":" IF(Foglio1!$C$12 <> \"\", 8.314472*Foglio1!$C$12*Foglio2!N720, NA())","v":{"$error":"#N/A"}},{"$error":"#N/A"},6427,8.7682631453712858,{"$f":" IF(Foglio1!$C$13 <> \"\", 8.314472*Foglio1!$C$13*Foglio2!R720, NA())","v":{"$error":"#N/A"}},{"$error":"#N/A"}]
[6436,8.7696625081122743,{"$f":" IF(Foglio1!$C$9 <> \"\", 8.314472*Foglio1!$C$9*Foglio2!B721, NA())","v":{"$error":"#N/A"}},{"$error":"#N/A"},6436,8.7696625081122743,{"$f":" IF(Foglio1!$C$10 <> \"\", 8.314472*Foglio1!$C$10*Foglio2!F721, NA())","v":{"$error":"#N/A"}},{"$error":"#N/A"},6436,8.7696625081122743,{"$f":" IF(Foglio1!$C$11 <> \"\", 8.314472*Foglio1!$C$11*Foglio2!J721, NA())","v":{"$error":"#N/A"}},{"$error":"#N/A"},6436,8.7696625081122743,{"$f":" IF(Foglio1!$C$12 <> \"\", 8.314472*Foglio1!$C$12*Foglio2!N721, NA())","v":{"$error":"#N/A"}},{"$error":"#N/A"},6436,8.7696625081122743,{"$f":" IF(Foglio1!$C$13 <> \"\", 8.314472*Foglio1!$C$13*Foglio2!R721, NA())","v":{"$error":"#N/A"}},{"$error":"#N/A"}]
[6445,8.7710599153732876,{"$f":" IF(Foglio1!$C$9 <> \"\", 8.314472*Foglio1!$C$9*Foglio2!B722, NA())","v":{"$error":"#N/A"}},{"$error":"#N/A"},6445,8.7710599153732876,{"$f":" IF(Foglio1!$C$10 <> \"\", 8.314472*Foglio1!$C$10*Foglio2!F722, NA())","v":{"$error":"#N/A"}},{"$error":"#N/A"},6445,8.7710599153732876,{"$f":" IF(Foglio1!$C$11 <> \"\", 8.314472*Foglio1!$C$11*Foglio2!J722, NA())","v":{"$error":"#N/A"}},{"$error":"#N/A"},6445,8.7710599153732876,{"$f":" IF(Foglio1!$C$12 <> \"\", 8.314472*Foglio1!$C$12*Foglio2!N722, NA())","v":{"$error":"#N/A"}},{"$error":"#N/A"},6445,8.7710599153732876,{"$f":" IF(Foglio1!$C$13 <> \"\", 8.314472*Foglio1!$C$13*Foglio2!R722, NA())","v":{"$error":"#N/A"}},{"$error":"#N/A"}]
[6454,8.7724553726119066,{"$f":" IF(Foglio1!$C$9 <> \"\", 8.314472*Foglio1!$C$9*Foglio2!B723, NA())","v":{"$error":"#N/A"}},{"$error":"#N/A"},6454,8.7724553726119066,{"$f":" IF(Foglio1!$C$10 <> \"\", 8.314472*Foglio1!$C$10*Foglio2!F723, NA())","v":{"$error":"#N/A"}},{"$error":"#N/A"},6454,8.7724553726119066,{"$f":" IF(Foglio1!$C$11 <> \"\", 8.314472*Foglio1!$C$11*Foglio2!J723, NA())","v":{"$error":"#N/A"}},{"$error":"#N/A"},6454,8.7724553726119066,{"$f":" IF(Foglio1!$C$12 <> \"\", 8.314472*Foglio1!$C$12*Foglio2!N723, NA())","v":{"$error":"#N/A"}},{"$error":"#N/A"},6454,8.7724553726119066,{"$f":" IF(Foglio1!$C$13 <> \"\", 8.314472*Foglio1!$C$13*Foglio2!R723, NA())","v":{"$error":"#N/A"}},{"$error":"#N/A"}]
[6463,8.7738488852628951,{"$f":" IF(Foglio1!$C$9 <> \"\", 8.314472*Foglio1!$C$9*Foglio2!B724, NA())","v":{"$error":"#N/A"}},{"$error":"#N/A"},6463,8.7738488852628951,{"$f":" IF(Foglio1!$C$10 <> \"\", 8.314472*Foglio1!$C$10*Foglio2!F724, NA())","v":{"$error":"#N/A"}},{"$error":"#N/A"},6463,8.7738488852628951,{"$f":" IF(Foglio1!$C$11 <> \"\", 8.314472*Foglio1!$C$11*Foglio2!J724, NA())","v":{"$error":"#N/A"}},{"$error":"#N/A"},6463,8.7738488852628951,{"$f":" IF(Foglio1!$C$12 <> \"\", 8.314472*Foglio1!$C$12*Foglio2!N724, NA())","v":{"$error":"#N/A"}},{"$error":"#N/A"},6463,8.7738488852628951,{"$f":" IF(Foglio1!$C$13 <> \"\", 8.314472*Foglio1!$C$13*Foglio2!R724, NA())","v":{"$error":"#N/A"}},{"$error":"#N/A"}]
[6472,8.7752404587383275,{"$f":" IF(Foglio1!$C$9 <> \"\", 8.314472*Foglio1!$C$9*Foglio2!B725, NA())","v":{"$error":"#N/A"}},{"$error":"#N/A"},6472,8.7752404587383275,{"$f":" IF(Foglio1!$C$10 <> \"\", 8.314472*Foglio1!$C$10*Foglio2!F725, NA())","v":{"$error":"#N/A"}},{"$error":"#N/A"},6472,8.7752404587383275,{"$f":" IF(Foglio1!$C$11 <> \"\", 8.314472*Foglio1!$C$11*Foglio2!J725, NA())","v":{"$error":"#N/A"}},{"$error":"#N/A"},6472,8.7752404587383275,{"$f":" IF(Foglio1!$C$12 <> \"\", 8.314472*Foglio1!$C$12*Foglio2!N725, NA())","v":{"$error":"#N/A"}},{"$error":"#N/A"},6472,8.7752404587383275,{"$f":" IF(Foglio1!$C$13 <> \"\", 8.314472*Foglio1!$C$13*Foglio2!R725, NA())","v":{"$error":"#N/A"}},{"$error":"#N/A"}]
[6481,8.7766300984277166,{"$f":" IF(Foglio1!$C$9 <> \"\", 8.314472*Foglio1!$C$9*Foglio2!B726, NA())","v":{"$error":"#N/A"}},{"$error":"#N/A"},6481,8.7766300984277166,{"$f":" IF(Foglio1!$C$10 <> \"\", 8.314472*Foglio1!$C$10*Foglio2!F726, NA())","v":{"$error":"#N/A"}},{"$error":"#N/A"},6481,8.7766300984277166,{"$f":" IF(Foglio1!$C$11 <> \"\", 8.314472*Foglio1!$C$11*Foglio2!J726, NA())","v":{"$error":"#N/A"}},{"$error":"#N/A"},6481,8.7766300984277166,{"$f":" IF(Foglio1!$C$12 <> \"\", 8.314472*Foglio1!$C$12*Foglio2!N726, NA())","v":{"$error":"#N/A"}},{"$error":"#N/A"},6481,8.7766300984277166,{"$f":" IF(Foglio1!$C$13 <> \"\", 8.314472*Foglio1!$C$13*Foglio2!R726, NA())","v":{"$error":"#N/A"}},{"$error":"#N/A"}]
[6490,8.7780178096981363,{"$f":" IF(Foglio1!$C$9 <> \"\", 8.314472*Foglio1!$C$9*Foglio2!B727, NA())","v":{"$error":"#N/A"}},{"$error":"#N/A"},6490,8.7780178096981363,{"$f":" IF(Foglio1!$C$10 <> \"\", 8.314472*Foglio1!$C$10*Foglio2!F727, NA())","v":{"$error":"#N/A"}},{"$error":"#N/A"},6490,8.7780178096981363,{"$f":" IF(Foglio1!$C$11 <> \"\", 8.314472*Foglio1!$C$11*Foglio2!J727, NA())","v":{"$error":"#N/A"}},{"$error":"#N/A"},6490,8.7780178096981363,{"$f":" IF(Foglio1!$C$12 <> \"\", 8.314472*Foglio1!$C$12*Foglio2!N727, NA())","v":{"$error":"#N/A"}},{"$error":"#N/A"},6490,8.7780178096981363,{"$f":" IF(Foglio1!$C$13 <> \"\", 8.314472*Foglio1!$C$13*Foglio2!R727, NA())","v":{"$error":"#N/A"}},{"$error":"#N/A"}]
[6499,8.7794035978943494,{"$f":" IF(Foglio1!$C$9 <> \"\", 8.314472*Foglio1!$C$9*Foglio2!B728, NA())","v":{"$error":"#N/A"}},{"$error":"#N/A"},6499,8.7794035978943494,{"$f":" IF(Foglio1!$C$10 <> \"\", 8.314472*Foglio1!$C$10*Foglio2!F728, NA())","v":{"$error":"#N/A"}},{"$error":"#N/A"},6499,8.7794035978943494,{"$f":" IF(Foglio1!$C$11 <> \"\", 8.314472*Foglio1!$C$11*Foglio2!J728, NA())","v":{"$error":"#N/A"}},{"$error":"#N/A"},6499,8.7794035978943494,{"$f":" IF(Foglio1!$C$12 <> \"\", 8.314472*Foglio1!$C$12*Foglio2!N728, NA())","v":{"$error":"#N/A"}},{"$error":"#N/A"},6499,8.7794035978943494,{"$f":" IF(Foglio1!$C$13 <> \"\", 8.314472*Foglio1!$C$13*Foglio2!R728, NA())","v":{"$error":"#N/A"}},{"$error":"#N/A"}]
[6508,8.7807874683389286,{"$f":" IF(Foglio1!$C$9 <> \"\", 8.314472*Foglio1!$C$9*Foglio2!B729, NA())","v":{"$error":"#N/A"}},{"$error":"#N/A"},6508,8.7807874683389286,{"$f":" IF(Foglio1!$C$10 <> \"\", 8.314472*Foglio1!$C$10*Foglio2!F729, NA())","v":{"$error":"#N/A"}},{"$error":"#N/A"},6508,8.7807874683389286,{"$f":" IF(Foglio1!$C$11 <> \"\", 8.314472*Foglio1!$C$11*Foglio2!J729, NA())","v":{"$error":"#N/A"}},{"$error":"#N/A"},6508,8.7807874683389286,{"$f":" IF(Foglio1!$C$12 <> \"\", 8.314472*Foglio1!$C$12*Foglio2!N729, NA())","v":{"$error":"#N/A"}},{"$error":"#N/A"},6508,8.7807874683389286,{"$f":" IF(Foglio1!$C$13 <> \"\", 8.314472*Foglio1!$C$13*Foglio2!R729, NA())","v":{"$error":"#N/A"}},{"$error":"#N/A"}]
[6517,8.7821694263323806,{"$f":" IF(Foglio1!$C$9 <> \"\", 8.314472*Foglio1!$C$9*Foglio2!B730, NA())","v":{"$error":"#N/A"}},{"$error":"#N/A"},6517,8.7821694263323806,{"$f":" IF(Foglio1!$C$10 <> \"\", 8.314472*Foglio1!$C$10*Foglio2!F730, NA())","v":{"$error":"#N/A"}},{"$error":"#N/A"},6517,8.7821694263323806,{"$f":" IF(Foglio1!$C$11 <> \"\", 8.314472*Foglio1!$C$11*Foglio2!J730, NA())","v":{"$error":"#N/A"}},{"$error":"#N/A"},6517,8.7821694263323806,{"$f":" IF(Foglio1!$C$12 <> \"\", 8.314472*Foglio1!$C$12*Foglio2!N730, NA())","v":{"$error":"#N/A"}},{"$error":"#N/A"},6517,8.7821694263323806,{"$f":" IF(Foglio1!$C$13 <> \"\", 8.314472*Foglio1!$C$13*Foglio2!R730, NA())","v":{"$error":"#N/A"}},{"$error":"#N/A"}]
[6526,8.7835494771532652,{"$f":" IF(Foglio1!$C$9 <> \"\", 8.314472*Foglio1!$C$9*Foglio2!B731, NA())","v":{"$error":"#N/A"}},{"$error":"#N/A"},6526,8.7835494771532652,{"$f":" IF(Foglio1!$C$10 <> \"\", 8.314472*Foglio1!$C$10*Foglio2!F731, NA())","v":{"$error":"#N/A"}},{"$error":"#N/A"},6526,8.7835494771532652,{"$f":" IF(Foglio1!$C$11 <> \"\", 8.314472*Foglio1!$C$11*Foglio2!J731, NA())","v":{"$error":"#N/A"}},{"$error":"#N/A"},6526,8.7835494771532652,{"$f":" IF(Foglio1!$C$12 <> \"\", 8.314472*Foglio1!$C$12*Foglio2!N731, NA())","v":{"$error":"#N/A"}},{"$error":"#N/A"},6526,8.7835494771532652,{"$f":" IF(Foglio1!$C$13 <> \"\", 8.314472*Foglio1!$C$13*Foglio2!R731, NA())","v":{"$error":"#N/A"}},{"$error":"#N/A"}]
[6535,8.7849276260583231,{"$f":" IF(Foglio1!$C$9 <> \"\", 8.314472*Foglio1!$C$9*Foglio2!B732, NA())","v":{"$error":"#N/A"}},{"$error":"#N/A"},6535,8.7849276260583231,{"$f":" IF(Foglio1!$C$10 <> \"\", 8.314472*Foglio1!$C$10*Foglio2!F732, NA())","v":{"$error":"#N/A"}},{"$error":"#N/A"},6535,8.7849276260583231,{"$f":" IF(Foglio1!$C$11 <> \"\", 8.314472*Foglio1!$C$11*Foglio2!J732, NA())","v":{"$error":"#N/A"}},{"$error":"#N/A"},6535,8.7849276260583231,{"$f":" IF(Foglio1!$C$12 <> \"\", 8.314472*Foglio1!$C$12*Foglio2!N732, NA())","v":{"$error":"#N/A"}},{"$error":"#N/A"},6535,8.7849276260583231,{"$f":" IF(Foglio1!$C$13 <> \"\", 8.314472*Foglio1!$C$13*Foglio2!R732, NA())","v":{"$error":"#N/A"}},{"$error":"#N/A"}]
[6544,8.7863038782825829,{"$f":" IF(Foglio1!$C$9 <> \"\", 8.314472*Foglio1!$C$9*Foglio2!B733, NA())","v":{"$error":"#N/A"}},{"$error":"#N/A"},6544,8.7863038782825829,{"$f":" IF(Foglio1!$C$10 <> \"\", 8.314472*Foglio1!$C$10*Foglio2!F733, NA())","v":{"$error":"#N/A"}},{"$error":"#N/A"},6544,8.7863038782825829,{"$f":" IF(Foglio1!$C$11 <> \"\", 8.314472*Foglio1!$C$11*Foglio2!J733, NA())","v":{"$error":"#N/A"}},{"$error":"#N/A"},6544,8.7863038782825829,{"$f":" IF(Foglio1!$C$12 <> \"\", 8.314472*Foglio1!$C$12*Foglio2!N733, NA())","v":{"$error":"#N/A"}},{"$error":"#N/A"},6544,8.7863038782825829,{"$f":" IF(Foglio1!$C$13 <> \"\", 8.314472*Foglio1!$C$13*Foglio2!R733, NA())","v":{"$error":"#N/A"}},{"$error":"#N/A"}]
[6553,8.7876782390394972,{"$f":" IF(Foglio1!$C$9 <> \"\", 8.314472*Foglio1!$C$9*Foglio2!B734, NA())","v":{"$error":"#N/A"}},{"$error":"#N/A"},6553,8.7876782390394972,{"$f":" IF(Foglio1!$C$10 <> \"\", 8.314472*Foglio1!$C$10*Foglio2!F734, NA())","v":{"$error":"#N/A"}},{"$error":"#N/A"},6553,8.7876782390394972,{"$f":" IF(Foglio1!$C$11 <> \"\", 8.314472*Foglio1!$C$11*Foglio2!J734, NA())","v":{"$error":"#N/A"}},{"$error":"#N/A"},6553,8.7876782390394972,{"$f":" IF(Foglio1!$C$12 <> \"\", 8.314472*Foglio1!$C$12*Foglio2!N734, NA())","v":{"$error":"#N/A"}},{"$error":"#N/A"},6553,8.7876782390394972,{"$f":" IF(Foglio1!$C$13 <> \"\", 8.314472*Foglio1!$C$13*Foglio2!R734, NA())","v":{"$error":"#N/A"}},{"$error":"#N/A"}]
[6562,8.7890507135210463,{"$f":" IF(Foglio1!$C$9 <> \"\", 8.314472*Foglio1!$C$9*Foglio2!B735, NA())","v":{"$error":"#N/A"}},{"$error":"#N/A"},6562,8.7890507135210463,{"$f":" IF(Foglio1!$C$10 <> \"\", 8.314472*Foglio1!$C$10*Foglio2!F735, NA())","v":{"$error":"#N/A"}},{"$error":"#N/A"},6562,8.7890507135210463,{"$f":" IF(Foglio1!$C$11 <> \"\", 8.314472*Foglio1!$C$11*Foglio2!J735, NA())","v":{"$error":"#N/A"}},{"$error":"#N/A"},6562,8.7890507135210463,{"$f":" IF(Foglio1!$C$12 <> \"\", 8.314472*Foglio1!$C$12*Foglio2!N735, NA())","v":{"$error":"#N/A"}},{"$error":"#N/A"},6562,8.7890507135210463,{"$f":" IF(Foglio1!$C$13 <> \"\", 8.314472*Foglio1!$C$13*Foglio2!R735, NA())","v":{"$error":"#N/A"}},{"$error":"#N/A"}]
[6571,8.7904213068978674,{"$f":" IF(Foglio1!$C$9 <> \"\", 8.314472*Foglio1!$C$9*Foglio2!B736, NA())","v":{"$error":"#N/A"}},{"$error":"#N/A"},6571,8.7904213068978674,{"$f":" IF(Foglio1!$C$10 <> \"\", 8.314472*Foglio1!$C$10*Foglio2!F736, NA())","v":{"$error":"#N/A"}},{"$error":"#N/A"},6571,8.7904213068978674,{"$f":" IF(Foglio1!$C$11 <> \"\", 8.314472*Foglio1!$C$11*Foglio2!J736, NA())","v":{"$error":"#N/A"}},{"$error":"#N/A"},6571,8.7904213068978674,{"$f":" IF(Foglio1!$C$12 <> \"\", 8.314472*Foglio1!$C$12*Foglio2!N736, NA())","v":{"$error":"#N/A"}},{"$error":"#N/A"},6571,8.7904213068978674,{"$f":" IF(Foglio1!$C$13 <> \"\", 8.314472*Foglio1!$C$13*Foglio2!R736, NA())","v":{"$error":"#N/A"}},{"$error":"#N/A"}]
[6580,8.7917900243193632,{"$f":" IF(Foglio1!$C$9 <> \"\", 8.314472*Foglio1!$C$9*Foglio2!B737, NA())","v":{"$error":"#N/A"}},{"$error":"#N/A"},6580,8.7917900243193632,{"$f":" IF(Foglio1!$C$10 <> \"\", 8.314472*Foglio1!$C$10*Foglio2!F737, NA())","v":{"$error":"#N/A"}},{"$error":"#N/A"},6580,8.7917900243193632,{"$f":" IF(Foglio1!$C$11 <> \"\", 8.314472*Foglio1!$C$11*Foglio2!J737, NA())","v":{"$error":"#N/A"}},{"$error":"#N/A"},6580,8.7917900243193632,{"$f":" IF(Foglio1!$C$12 <> \"\", 8.314472*Foglio1!$C$12*Foglio2!N737, NA())","v":{"$error":"#N/A"}},{"$error":"#N/A"},6580,8.7917900243193632,{"$f":" IF(Foglio1!$C$13 <> \"\", 8.314472*Foglio1!$C$13*Foglio2!R737, NA())","v":{"$error":"#N/A"}},{"$error":"#N/A"}]
[6589,8.793156870913819,{"$f":" IF(Foglio1!$C$9 <> \"\", 8.314472*Foglio1!$C$9*Foglio2!B738, NA())","v":{"$error":"#N/A"}},{"$error":"#N/A"},6589,8.793156870913819,{"$f":" IF(Foglio1!$C$10 <> \"\", 8.314472*Foglio1!$C$10*Foglio2!F738, NA())","v":{"$error":"#N/A"}},{"$error":"#N/A"},6589,8.793156870913819,{"$f":" IF(Foglio1!$C$11 <> \"\", 8.314472*Foglio1!$C$11*Foglio2!J738, NA())","v":{"$error":"#N/A"}},{"$error":"#N/A"},6589,8.793156870913819,{"$f":" IF(Foglio1!$C$12 <> \"\", 8.314472*Foglio1!$C$12*Foglio2!N738, NA())","v":{"$error":"#N/A"}},{"$error":"#N/A"},6589,8.793156870913819,{"$f":" IF(Foglio1!$C$13 <> \"\", 8.314472*Foglio1!$C$13*Foglio2!R738, NA())","v":{"$error":"#N/A"}},{"$error":"#N/A"}]
[6598,8.7945218517885273,{"$f":" IF(Foglio1!$C$9 <> \"\", 8.314472*Foglio1!$C$9*Foglio2!B739, NA())","v":{"$error":"#N/A"}},{"$error":"#N/A"},6598,8.7945218517885273,{"$f":" IF(Foglio1!$C$10 <> \"\", 8.314472*Foglio1!$C$10*Foglio2!F739, NA())","v":{"$error":"#N/A"}},{"$error":"#N/A"},6598,8.7945218517885273,{"$f":" IF(Foglio1!$C$11 <> \"\", 8.314472*Foglio1!$C$11*Foglio2!J739, NA())","v":{"$error":"#N/A"}},{"$error":"#N/A"},6598,8.7945218517885273,{"$f":" IF(Foglio1!$C$12 <> \"\", 8.314472*Foglio1!$C$12*Foglio2!N739, NA())","v":{"$error":"#N/A"}},{"$error":"#N/A"},6598,8.7945218517885273,{"$f":" IF(Foglio1!$C$13 <> \"\", 8.314472*Foglio1!$C$13*Foglio2!R739, NA())","v":{"$error":"#N/A"}},{"$error":"#N/A"}]
[6607,8.7958849720298851,{"$f":" IF(Foglio1!$C$9 <> \"\", 8.314472*Foglio1!$C$9*Foglio2!B740, NA())","v":{"$error":"#N/A"}},{"$error":"#N/A"},6607,8.7958849720298851,{"$f":" IF(Foglio1!$C$10 <> \"\", 8.314472*Foglio1!$C$10*Foglio2!F740, NA())","v":{"$error":"#N/A"}},{"$error":"#N/A"},6607,8.7958849720298851,{"$f":" IF(Foglio1!$C$11 <> \"\", 8.314472*Foglio1!$C$11*Foglio2!J740, NA())","v":{"$error":"#N/A"}},{"$error":"#N/A"},6607,8.7958849720298851,{"$f":" IF(Foglio1!$C$12 <> \"\", 8.314472*Foglio1!$C$12*Foglio2!N740, NA())","v":{"$error":"#N/A"}},{"$error":"#N/A"},6607,8.7958849720298851,{"$f":" IF(Foglio1!$C$13 <> \"\", 8.314472*Foglio1!$C$13*Foglio2!R740, NA())","v":{"$error":"#N/A"}},{"$error":"#N/A"}]
[6616,8.7972462367035273,{"$f":" IF(Foglio1!$C$9 <> \"\", 8.314472*Foglio1!$C$9*Foglio2!B741, NA())","v":{"$error":"#N/A"}},{"$error":"#N/A"},6616,8.7972462367035273,{"$f":" IF(Foglio1!$C$10 <> \"\", 8.314472*Foglio1!$C$10*Foglio2!F741, NA())","v":{"$error":"#N/A"}},{"$error":"#N/A"},6616,8.7972462367035273,{"$f":" IF(Foglio1!$C$11 <> \"\", 8.314472*Foglio1!$C$11*Foglio2!J741, NA())","v":{"$error":"#N/A"}},{"$error":"#N/A"},6616,8.7972462367035273,{"$f":" IF(Foglio1!$C$12 <> \"\", 8.314472*Foglio1!$C$12*Foglio2!N741, NA())","v":{"$error":"#N/A"}},{"$error":"#N/A"},6616,8.7972462367035273,{"$f":" IF(Foglio1!$C$13 <> \"\", 8.314472*Foglio1!$C$13*Foglio2!R741, NA())","v":{"$error":"#N/A"}},{"$error":"#N/A"}]
[6625,8.798605650854423,{"$f":" IF(Foglio1!$C$9 <> \"\", 8.314472*Foglio1!$C$9*Foglio2!B742, NA())","v":{"$error":"#N/A"}},{"$error":"#N/A"},6625,8.798605650854423,{"$f":" IF(Foglio1!$C$10 <> \"\", 8.314472*Foglio1!$C$10*Foglio2!F742, NA())","v":{"$error":"#N/A"}},{"$error":"#N/A"},6625,8.798605650854423,{"$f":" IF(Foglio1!$C$11 <> \"\", 8.314472*Foglio1!$C$11*Foglio2!J742, NA())","v":{"$error":"#N/A"}},{"$error":"#N/A"},6625,8.798605650854423,{"$f":" IF(Foglio1!$C$12 <> \"\", 8.314472*Foglio1!$C$12*Foglio2!N742, NA())","v":{"$error":"#N/A"}},{"$error":"#N/A"},6625,8.798605650854423,{"$f":" IF(Foglio1!$C$13 <> \"\", 8.314472*Foglio1!$C$13*Foglio2!R742, NA())","v":{"$error":"#N/A"}},{"$error":"#N/A"}]
[6634,8.7999632195069974,{"$f":" IF(Foglio1!$C$9 <> \"\", 8.314472*Foglio1!$C$9*Foglio2!B743, NA())","v":{"$error":"#N/A"}},{"$error":"#N/A"},6634,8.7999632195069974,{"$f":" IF(Foglio1!$C$10 <> \"\", 8.314472*Foglio1!$C$10*Foglio2!F743, NA())","v":{"$error":"#N/A"}},{"$error":"#N/A"},6634,8.7999632195069974,{"$f":" IF(Foglio1!$C$11 <> \"\", 8.314472*Foglio1!$C$11*Foglio2!J743, NA())","v":{"$error":"#N/A"}},{"$error":"#N/A"},6634,8.7999632195069974,{"$f":" IF(Foglio1!$C$12 <> \"\", 8.314472*Foglio1!$C$12*Foglio2!N743, NA())","v":{"$error":"#N/A"}},{"$error":"#N/A"},6634,8.7999632195069974,{"$f":" IF(Foglio1!$C$13 <> \"\", 8.314472*Foglio1!$C$13*Foglio2!R743, NA())","v":{"$error":"#N/A"}},{"$error":"#N/A"}]
[6643,8.8013189476652407,{"$f":" IF(Foglio1!$C$9 <> \"\", 8.314472*Foglio1!$C$9*Foglio2!B744, NA())","v":{"$error":"#N/A"}},{"$error":"#N/A"},6643,8.8013189476652407,{"$f":" IF(Foglio1!$C$10 <> \"\", 8.314472*Foglio1!$C$10*Foglio2!F744, NA())","v":{"$error":"#N/A"}},{"$error":"#N/A"},6643,8.8013189476652407,{"$f":" IF(Foglio1!$C$11 <> \"\", 8.314472*Foglio1!$C$11*Foglio2!J744, NA())","v":{"$error":"#N/A"}},{"$error":"#N/A"},6643,8.8013189476652407,{"$f":" IF(Foglio1!$C$12 <> \"\", 8.314472*Foglio1!$C$12*Foglio2!N744, NA())","v":{"$error":"#N/A"}},{"$error":"#N/A"},6643,8.8013189476652407,{"$f":" IF(Foglio1!$C$13 <> \"\", 8.314472*Foglio1!$C$13*Foglio2!R744, NA())","v":{"$error":"#N/A"}},{"$error":"#N/A"}]
[6652,8.8026728403128178,{"$f":" IF(Foglio1!$C$9 <> \"\", 8.314472*Foglio1!$C$9*Foglio2!B745, NA())","v":{"$error":"#N/A"}},{"$error":"#N/A"},6652,8.8026728403128178,{"$f":" IF(Foglio1!$C$10 <> \"\", 8.314472*Foglio1!$C$10*Foglio2!F745, NA())","v":{"$error":"#N/A"}},{"$error":"#N/A"},6652,8.8026728403128178,{"$f":" IF(Foglio1!$C$11 <> \"\", 8.314472*Foglio1!$C$11*Foglio2!J745, NA())","v":{"$error":"#N/A"}},{"$error":"#N/A"},6652,8.8026728403128178,{"$f":" IF(Foglio1!$C$12 <> \"\", 8.314472*Foglio1!$C$12*Foglio2!N745, NA())","v":{"$error":"#N/A"}},{"$error":"#N/A"},6652,8.8026728403128178,{"$f":" IF(Foglio1!$C$13 <> \"\", 8.314472*Foglio1!$C$13*Foglio2!R745, NA())","v":{"$error":"#N/A"}},{"$error":"#N/A"}]
[6661,8.8040249024131789,{"$f":" IF(Foglio1!$C$9 <> \"\", 8.314472*Foglio1!$C$9*Foglio2!B746, NA())","v":{"$error":"#N/A"}},{"$error":"#N/A"},6661,8.8040249024131789,{"$f":" IF(Foglio1!$C$10 <> \"\", 8.314472*Foglio1!$C$10*Foglio2!F746, NA())","v":{"$error":"#N/A"}},{"$error":"#N/A"},6661,8.8040249024131789,{"$f":" IF(Foglio1!$C$11 <> \"\", 8.314472*Foglio1!$C$11*Foglio2!J746, NA())","v":{"$error":"#N/A"}},{"$error":"#N/A"},6661,8.8040249024131789,{"$f":" IF(Foglio1!$C$12 <> \"\", 8.314472*Foglio1!$C$12*Foglio2!N746, NA())","v":{"$error":"#N/A"}},{"$error":"#N/A"},6661,8.8040249024131789,{"$f":" IF(Foglio1!$C$13 <> \"\", 8.314472*Foglio1!$C$13*Foglio2!R746, NA())","v":{"$error":"#N/A"}},{"$error":"#N/A"}]
[6670,8.8053751389096693,{"$f":" IF(Foglio1!$C$9 <> \"\", 8.314472*Foglio1!$C$9*Foglio2!B747, NA())","v":{"$error":"#N/A"}},{"$error":"#N/A"},6670,8.8053751389096693,{"$f":" IF(Foglio1!$C$10 <> \"\", 8.314472*Foglio1!$C$10*Foglio2!F747, NA())","v":{"$error":"#N/A"}},{"$error":"#N/A"},6670,8.8053751389096693,{"$f":" IF(Foglio1!$C$11 <> \"\", 8.314472*Foglio1!$C$11*Foglio2!J747, NA())","v":{"$error":"#N/A"}},{"$error":"#N/A"},6670,8.8053751389096693,{"$f":" IF(Foglio1!$C$12 <> \"\", 8.314472*Foglio1!$C$12*Foglio2!N747, NA())","v":{"$error":"#N/A"}},{"$error":"#N/A"},6670,8.8053751389096693,{"$f":" IF(Foglio1!$C$13 <> \"\", 8.314472*Foglio1!$C$13*Foglio2!R747, NA())","v":{"$error":"#N/A"}},{"$error":"#N/A"}]
[6679,8.8067235547256359,{"$f":" IF(Foglio1!$C$9 <> \"\", 8.314472*Foglio1!$C$9*Foglio2!B748, NA())","v":{"$error":"#N/A"}},{"$error":"#N/A"},6679,8.8067235547256359,{"$f":" IF(Foglio1!$C$10 <> \"\", 8.314472*Foglio1!$C$10*Foglio2!F748, NA())","v":{"$error":"#N/A"}},{"$error":"#N/A"},6679,8.8067235547256359,{"$f":" IF(Foglio1!$C$11 <> \"\", 8.314472*Foglio1!$C$11*Foglio2!J748, NA())","v":{"$error":"#N/A"}},{"$error":"#N/A"},6679,8.8067235547256359,{"$f":" IF(Foglio1!$C$12 <> \"\", 8.314472*Foglio1!$C$12*Foglio2!N748, NA())","v":{"$error":"#N/A"}},{"$error":"#N/A"},6679,8.8067235547256359,{"$f":" IF(Foglio1!$C$13 <> \"\", 8.314472*Foglio1!$C$13*Foglio2!R748, NA())","v":{"$error":"#N/A"}},{"$error":"#N/A"}]
[6688,8.8080701547645379,{"$f":" IF(Foglio1!$C$9 <> \"\", 8.314472*Foglio1!$C$9*Foglio2!B749, NA())","v":{"$error":"#N/A"}},{"$error":"#N/A"},6688,8.8080701547645379,{"$f":" IF(Foglio1!$C$10 <> \"\", 8.314472*Foglio1!$C$10*Foglio2!F749, NA())","v":{"$error":"#N/A"}},{"$error":"#N/A"},6688,8.8080701547645379,{"$f":" IF(Foglio1!$C$11 <> \"\", 8.314472*Foglio1!$C$11*Foglio2!J749, NA())","v":{"$error":"#N/A"}},{"$error":"#N/A"},6688,8.8080701547645379,{"$f":" IF(Foglio1!$C$12 <> \"\", 8.314472*Foglio1!$C$12*Foglio2!N749, NA())","v":{"$error":"#N/A"}},{"$error":"#N/A"},6688,8.8080701547645379,{"$f":" IF(Foglio1!$C$13 <> \"\", 8.314472*Foglio1!$C$13*Foglio2!R749, NA())","v":{"$error":"#N/A"}},{"$error":"#N/A"}]
[6697,8.8094149439100509,{"$f":" IF(Foglio1!$C$9 <> \"\", 8.314472*Foglio1!$C$9*Foglio2!B750, NA())","v":{"$error":"#N/A"}},{"$error":"#N/A"},6697,8.8094149439100509,{"$f":" IF(Foglio1!$C$10 <> \"\", 8.314472*Foglio1!$C$10*Foglio2!F750, NA())","v":{"$error":"#N/A"}},{"$error":"#N/A"},6697,8.8094149439100509,{"$f":" IF(Foglio1!$C$11 <> \"\", 8.314472*Foglio1!$C$11*Foglio2!J750, NA())","v":{"$error":"#N/A"}},{"$error":"#N/A"},6697,8.8094149439100509,{"$f":" IF(Foglio1!$C$12 <> \"\", 8.314472*Foglio1!$C$12*Foglio2!N750, NA())","v":{"$error":"#N/A"}},{"$error":"#N/A"},6697,8.8094149439100509,{"$f":" IF(Foglio1!$C$13 <> \"\", 8.314472*Foglio1!$C$13*Foglio2!R750, NA())","v":{"$error":"#N/A"}},{"$error":"#N/A"}]
[6706,8.8107579270261738,{"$f":" IF(Foglio1!$C$9 <> \"\", 8.314472*Foglio1!$C$9*Foglio2!B751, NA())","v":{"$error":"#N/A"}},{"$error":"#N/A"},6706,8.8107579270261738,{"$f":" IF(Foglio1!$C$10 <> \"\", 8.314472*Foglio1!$C$10*Foglio2!F751, NA())","v":{"$error":"#N/A"}},{"$error":"#N/A"},6706,8.8107579270261738,{"$f":" IF(Foglio1!$C$11 <> \"\", 8.314472*Foglio1!$C$11*Foglio2!J751, NA())","v":{"$error":"#N/A"}},{"$error":"#N/A"},6706,8.8107579270261738,{"$f":" IF(Foglio1!$C$12 <> \"\", 8.314472*Foglio1!$C$12*Foglio2!N751, NA())","v":{"$error":"#N/A"}},{"$error":"#N/A"},6706,8.8107579270261738,{"$f":" IF(Foglio1!$C$13 <> \"\", 8.314472*Foglio1!$C$13*Foglio2!R751, NA())","v":{"$error":"#N/A"}},{"$error":"#N/A"}]
[6715,8.8120991089573373,{"$f":" IF(Foglio1!$C$9 <> \"\", 8.314472*Foglio1!$C$9*Foglio2!B752, NA())","v":{"$error":"#N/A"}},{"$error":"#N/A"},6715,8.8120991089573373,{"$f":" IF(Foglio1!$C$10 <> \"\", 8.314472*Foglio1!$C$10*Foglio2!F752, NA())","v":{"$error":"#N/A"}},{"$error":"#N/A"},6715,8.8120991089573373,{"$f":" IF(Foglio1!$C$11 <> \"\", 8.314472*Foglio1!$C$11*Foglio2!J752, NA())","v":{"$error":"#N/A"}},{"$error":"#N/A"},6715,8.8120991089573373,{"$f":" IF(Foglio1!$C$12 <> \"\", 8.314472*Foglio1!$C$12*Foglio2!N752, NA())","v":{"$error":"#N/A"}},{"$error":"#N/A"},6715,8.8120991089573373,{"$f":" IF(Foglio1!$C$13 <> \"\", 8.314472*Foglio1!$C$13*Foglio2!R752, NA())","v":{"$error":"#N/A"}},{"$error":"#N/A"}]
[6724,8.8134384945285067,{"$f":" IF(Foglio1!$C$9 <> \"\", 8.314472*Foglio1!$C$9*Foglio2!B753, NA())","v":{"$error":"#N/A"}},{"$error":"#N/A"},6724,8.8134384945285067,{"$f":" IF(Foglio1!$C$10 <> \"\", 8.314472*Foglio1!$C$10*Foglio2!F753, NA())","v":{"$error":"#N/A"}},{"$error":"#N/A"},6724,8.8134384945285067,{"$f":" IF(Foglio1!$C$11 <> \"\", 8.314472*Foglio1!$C$11*Foglio2!J753, NA())","v":{"$error":"#N/A"}},{"$error":"#N/A"},6724,8.8134384945285067,{"$f":" IF(Foglio1!$C$12 <> \"\", 8.314472*Foglio1!$C$12*Foglio2!N753, NA())","v":{"$error":"#N/A"}},{"$error":"#N/A"},6724,8.8134384945285067,{"$f":" IF(Foglio1!$C$13 <> \"\", 8.314472*Foglio1!$C$13*Foglio2!R753, NA())","v":{"$error":"#N/A"}},{"$error":"#N/A"}]
[6733,8.8147760885452815,{"$f":" IF(Foglio1!$C$9 <> \"\", 8.314472*Foglio1!$C$9*Foglio2!B754, NA())","v":{"$error":"#N/A"}},{"$error":"#N/A"},6733,8.8147760885452815,{"$f":" IF(Foglio1!$C$10 <> \"\", 8.314472*Foglio1!$C$10*Foglio2!F754, NA())","v":{"$error":"#N/A"}},{"$error":"#N/A"},6733,8.8147760885452815,{"$f":" IF(Foglio1!$C$11 <> \"\", 8.314472*Foglio1!$C$11*Foglio2!J754, NA())","v":{"$error":"#N/A"}},{"$error":"#N/A"},6733,8.8147760885452815,{"$f":" IF(Foglio1!$C$12 <> \"\", 8.314472*Foglio1!$C$12*Foglio2!N754, NA())","v":{"$error":"#N/A"}},{"$error":"#N/A"},6733,8.8147760885452815,{"$f":" IF(Foglio1!$C$13 <> \"\", 8.314472*Foglio1!$C$13*Foglio2!R754, NA())","v":{"$error":"#N/A"}},{"$error":"#N/A"}]
[6742,8.8161118957940054,{"$f":" IF(Foglio1!$C$9 <> \"\", 8.314472*Foglio1!$C$9*Foglio2!B755, NA())","v":{"$error":"#N/A"}},{"$error":"#N/A"},6742,8.8161118957940054,{"$f":" IF(Foglio1!$C$10 <> \"\", 8.314472*Foglio1!$C$10*Foglio2!F755, NA())","v":{"$error":"#N/A"}},{"$error":"#N/A"},6742,8.8161118957940054,{"$f":" IF(Foglio1!$C$11 <> \"\", 8.314472*Foglio1!$C$11*Foglio2!J755, NA())","v":{"$error":"#N/A"}},{"$error":"#N/A"},6742,8.8161118957940054,{"$f":" IF(Foglio1!$C$12 <> \"\", 8.314472*Foglio1!$C$12*Foglio2!N755, NA())","v":{"$error":"#N/A"}},{"$error":"#N/A"},6742,8.8161118957940054,{"$f":" IF(Foglio1!$C$13 <> \"\", 8.314472*Foglio1!$C$13*Foglio2!R755, NA())","v":{"$error":"#N/A"}},{"$error":"#N/A"}]
[6751,8.8174459210418696,{"$f":" IF(Foglio1!$C$9 <> \"\", 8.314472*Foglio1!$C$9*Foglio2!B756, NA())","v":{"$error":"#N/A"}},{"$error":"#N/A"},6751,8.8174459210418696,{"$f":" IF(Foglio1!$C$10 <> \"\", 8.314472*Foglio1!$C$10*Foglio2!F756, NA())","v":{"$error":"#N/A"}},{"$error":"#N/A"},6751,8.8174459210418696,{"$f":" IF(Foglio1!$C$11 <> \"\", 8.314472*Foglio1!$C$11*Foglio2!J756, NA())","v":{"$error":"#N/A"}},{"$error":"#N/A"},6751,8.8174459210418696,{"$f":" IF(Foglio1!$C$12 <> \"\", 8.314472*Foglio1!$C$12*Foglio2!N756, NA())","v":{"$error":"#N/A"}},{"$error":"#N/A"},6751,8.8174459210418696,{"$f":" IF(Foglio1!$C$13 <> \"\", 8.314472*Foglio1!$C$13*Foglio2!R756, NA())","v":{"$error":"#N/A"}},{"$error":"#N/A"}]
[6760,8.8187781690370102,{"$f":" IF(Foglio1!$C$9 <> \"\", 8.314472*Foglio1!$C$9*Foglio2!B757, NA())","v":{"$error":"#N/A"}},{"$error":"#N/A"},6760,8.8187781690370102,{"$f":" IF(Foglio1!$C$10 <> \"\", 8.314472*Foglio1!$C$10*Foglio2!F757, NA())","v":{"$error":"#N/A"}},{"$error":"#N/A"},6760,8.8187781690370102,{"$f":" IF(Foglio1!$C$11 <> \"\", 8.314472*Foglio1!$C$11*Foglio2!J757, NA())","v":{"$error":"#N/A"}},{"$error":"#N/A"},6760,8.8187781690370102,{"$f":" IF(Foglio1!$C$12 <> \"\", 8.314472*Foglio1!$C$12*Foglio2!N757, NA())","v":{"$error":"#N/A"}},{"$error":"#N/A"},6760,8.8187781690370102,{"$f":" IF(Foglio1!$C$13 <> \"\", 8.314472*Foglio1!$C$13*Foglio2!R757, NA())","v":{"$error":"#N/A"}},{"$error":"#N/A"}]
[6769,8.8201086445086077,{"$f":" IF(Foglio1!$C$9 <> \"\", 8.314472*Foglio1!$C$9*Foglio2!B758, NA())","v":{"$error":"#N/A"}},{"$error":"#N/A"},6769,8.8201086445086077,{"$f":" IF(Foglio1!$C$10 <> \"\", 8.314472*Foglio1!$C$10*Foglio2!F758, NA())","v":{"$error":"#N/A"}},{"$error":"#N/A"},6769,8.8201086445086077,{"$f":" IF(Foglio1!$C$11 <> \"\", 8.314472*Foglio1!$C$11*Foglio2!J758, NA())","v":{"$error":"#N/A"}},{"$error":"#N/A"},6769,8.8201086445086077,{"$f":" IF(Foglio1!$C$12 <> \"\", 8.314472*Foglio1!$C$12*Foglio2!N758, NA())","v":{"$error":"#N/A"}},{"$error":"#N/A"},6769,8.8201086445086077,{"$f":" IF(Foglio1!$C$13 <> \"\", 8.314472*Foglio1!$C$13*Foglio2!R758, NA())","v":{"$error":"#N/A"}},{"$error":"#N/A"}]
[6778,8.8214373521669973,{"$f":" IF(Foglio1!$C$9 <> \"\", 8.314472*Foglio1!$C$9*Foglio2!B759, NA())","v":{"$error":"#N/A"}},{"$error":"#N/A"},6778,8.8214373521669973,{"$f":" IF(Foglio1!$C$10 <> \"\", 8.314472*Foglio1!$C$10*Foglio2!F759, NA())","v":{"$error":"#N/A"}},{"$error":"#N/A"},6778,8.8214373521669973,{"$f":" IF(Foglio1!$C$11 <> \"\", 8.314472*Foglio1!$C$11*Foglio2!J759, NA())","v":{"$error":"#N/A"}},{"$error":"#N/A"},6778,8.8214373521669973,{"$f":" IF(Foglio1!$C$12 <> \"\", 8.314472*Foglio1!$C$12*Foglio2!N759, NA())","v":{"$error":"#N/A"}},{"$error":"#N/A"},6778,8.8214373521669973,{"$f":" IF(Foglio1!$C$13 <> \"\", 8.314472*Foglio1!$C$13*Foglio2!R759, NA())","v":{"$error":"#N/A"}},{"$error":"#N/A"}]
[6787,8.8227642967037578,{"$f":" IF(Foglio1!$C$9 <> \"\", 8.314472*Foglio1!$C$9*Foglio2!B760, NA())","v":{"$error":"#N/A"}},{"$error":"#N/A"},6787,8.8227642967037578,{"$f":" IF(Foglio1!$C$10 <> \"\", 8.314472*Foglio1!$C$10*Foglio2!F760, NA())","v":{"$error":"#N/A"}},{"$error":"#N/A"},6787,8.8227642967037578,{"$f":" IF(Foglio1!$C$11 <> \"\", 8.314472*Foglio1!$C$11*Foglio2!J760, NA())","v":{"$error":"#N/A"}},{"$error":"#N/A"},6787,8.8227642967037578,{"$f":" IF(Foglio1!$C$12 <> \"\", 8.314472*Foglio1!$C$12*Foglio2!N760, NA())","v":{"$error":"#N/A"}},{"$error":"#N/A"},6787,8.8227642967037578,{"$f":" IF(Foglio1!$C$13 <> \"\", 8.314472*Foglio1!$C$13*Foglio2!R760, NA())","v":{"$error":"#N/A"}},{"$error":"#N/A"}]
[6796,8.8240894827918233,{"$f":" IF(Foglio1!$C$9 <> \"\", 8.314472*Foglio1!$C$9*Foglio2!B761, NA())","v":{"$error":"#N/A"}},{"$error":"#N/A"},6796,8.8240894827918233,{"$f":" IF(Foglio1!$C$10 <> \"\", 8.314472*Foglio1!$C$10*Foglio2!F761, NA())","v":{"$error":"#N/A"}},{"$error":"#N/A"},6796,8.8240894827918233,{"$f":" IF(Foglio1!$C$11 <> \"\", 8.314472*Foglio1!$C$11*Foglio2!J761, NA())","v":{"$error":"#N/A"}},{"$error":"#N/A"},6796,8.8240894827918233,{"$f":" IF(Foglio1!$C$12 <> \"\", 8.314472*Foglio1!$C$12*Foglio2!N761, NA())","v":{"$error":"#N/A"}},{"$error":"#N/A"},6796,8.8240894827918233,{"$f":" IF(Foglio1!$C$13 <> \"\", 8.314472*Foglio1!$C$13*Foglio2!R761, NA())","v":{"$error":"#N/A"}},{"$error":"#N/A"}]
[6805,8.8254129150855665,{"$f":" IF(Foglio1!$C$9 <> \"\", 8.314472*Foglio1!$C$9*Foglio2!B762, NA())","v":{"$error":"#N/A"}},{"$error":"#N/A"},6805,8.8254129150855665,{"$f":" IF(Foglio1!$C$10 <> \"\", 8.314472*Foglio1!$C$10*Foglio2!F762, NA())","v":{"$error":"#N/A"}},{"$error":"#N/A"},6805,8.8254129150855665,{"$f":" IF(Foglio1!$C$11 <> \"\", 8.314472*Foglio1!$C$11*Foglio2!J762, NA())","v":{"$error":"#N/A"}},{"$error":"#N/A"},6805,8.8254129150855665,{"$f":" IF(Foglio1!$C$12 <> \"\", 8.314472*Foglio1!$C$12*Foglio2!N762, NA())","v":{"$error":"#N/A"}},{"$error":"#N/A"},6805,8.8254129150855665,{"$f":" IF(Foglio1!$C$13 <> \"\", 8.314472*Foglio1!$C$13*Foglio2!R762, NA())","v":{"$error":"#N/A"}},{"$error":"#N/A"}]
[6814,8.8267345982209111,{"$f":" IF(Foglio1!$C$9 <> \"\", 8.314472*Foglio1!$C$9*Foglio2!B763, NA())","v":{"$error":"#N/A"}},{"$error":"#N/A"},6814,8.8267345982209111,{"$f":" IF(Foglio1!$C$10 <> \"\", 8.314472*Foglio1!$C$10*Foglio2!F763, NA())","v":{"$error":"#N/A"}},{"$error":"#N/A"},6814,8.8267345982209111,{"$f":" IF(Foglio1!$C$11 <> \"\", 8.314472*Foglio1!$C$11*Foglio2!J763, NA())","v":{"$error":"#N/A"}},{"$error":"#N/A"},6814,8.8267345982209111,{"$f":" IF(Foglio1!$C$12 <> \"\", 8.314472*Foglio1!$C$12*Foglio2!N763, NA())","v":{"$error":"#N/A"}},{"$error":"#N/A"},6814,8.8267345982209111,{"$f":" IF(Foglio1!$C$13 <> \"\", 8.314472*Foglio1!$C$13*Foglio2!R763, NA())","v":{"$error":"#N/A"}},{"$error":"#N/A"}]
[6823,8.828054536815424,{"$f":" IF(Foglio1!$C$9 <> \"\", 8.314472*Foglio1!$C$9*Foglio2!B764, NA())","v":{"$error":"#N/A"}},{"$error":"#N/A"},6823,8.828054536815424,{"$f":" IF(Foglio1!$C$10 <> \"\", 8.314472*Foglio1!$C$10*Foglio2!F764, NA())","v":{"$error":"#N/A"}},{"$error":"#N/A"},6823,8.828054536815424,{"$f":" IF(Foglio1!$C$11 <> \"\", 8.314472*Foglio1!$C$11*Foglio2!J764, NA())","v":{"$error":"#N/A"}},{"$error":"#N/A"},6823,8.828054536815424,{"$f":" IF(Foglio1!$C$12 <> \"\", 8.314472*Foglio1!$C$12*Foglio2!N764, NA())","v":{"$error":"#N/A"}},{"$error":"#N/A"},6823,8.828054536815424,{"$f":" IF(Foglio1!$C$13 <> \"\", 8.314472*Foglio1!$C$13*Foglio2!R764, NA())","v":{"$error":"#N/A"}},{"$error":"#N/A"}]
[6832,8.8293727354684055,{"$f":" IF(Foglio1!$C$9 <> \"\", 8.314472*Foglio1!$C$9*Foglio2!B765, NA())","v":{"$error":"#N/A"}},{"$error":"#N/A"},6832,8.8293727354684055,{"$f":" IF(Foglio1!$C$10 <> \"\", 8.314472*Foglio1!$C$10*Foglio2!F765, NA())","v":{"$error":"#N/A"}},{"$error":"#N/A"},6832,8.8293727354684055,{"$f":" IF(Foglio1!$C$11 <> \"\", 8.314472*Foglio1!$C$11*Foglio2!J765, NA())","v":{"$error":"#N/A"}},{"$error":"#N/A"},6832,8.8293727354684055,{"$f":" IF(Foglio1!$C$12 <> \"\", 8.314472*Foglio1!$C$12*Foglio2!N765, NA())","v":{"$error":"#N/A"}},{"$error":"#N/A"},6832,8.8293727354684055,{"$f":" IF(Foglio1!$C$13 <> \"\", 8.314472*Foglio1!$C$13*Foglio2!R765, NA())","v":{"$error":"#N/A"}},{"$error":"#N/A"}]
[6841,8.8306891987609983,{"$f":" IF(Foglio1!$C$9 <> \"\", 8.314472*Foglio1!$C$9*Foglio2!B766, NA())","v":{"$error":"#N/A"}},{"$error":"#N/A"},6841,8.8306891987609983,{"$f":" IF(Foglio1!$C$10 <> \"\", 8.314472*Foglio1!$C$10*Foglio2!F766, NA())","v":{"$error":"#N/A"}},{"$error":"#N/A"},6841,8.8306891987609983,{"$f":" IF(Foglio1!$C$11 <> \"\", 8.314472*Foglio1!$C$11*Foglio2!J766, NA())","v":{"$error":"#N/A"}},{"$error":"#N/A"},6841,8.8306891987609983,{"$f":" IF(Foglio1!$C$12 <> \"\", 8.314472*Foglio1!$C$12*Foglio2!N766, NA())","v":{"$error":"#N/A"}},{"$error":"#N/A"},6841,8.8306891987609983,{"$f":" IF(Foglio1!$C$13 <> \"\", 8.314472*Foglio1!$C$13*Foglio2!R766, NA())","v":{"$error":"#N/A"}},{"$error":"#N/A"}]
[6850,8.8320039312562706,{"$f":" IF(Foglio1!$C$9 <> \"\", 8.314472*Foglio1!$C$9*Foglio2!B767, NA())","v":{"$error":"#N/A"}},{"$error":"#N/A"},6850,8.8320039312562706,{"$f":" IF(Foglio1!$C$10 <> \"\", 8.314472*Foglio1!$C$10*Foglio2!F767, NA())","v":{"$error":"#N/A"}},{"$error":"#N/A"},6850,8.8320039312562706,{"$f":" IF(Foglio1!$C$11 <> \"\", 8.314472*Foglio1!$C$11*Foglio2!J767, NA())","v":{"$error":"#N/A"}},{"$error":"#N/A"},6850,8.8320039312562706,{"$f":" IF(Foglio1!$C$12 <> \"\", 8.314472*Foglio1!$C$12*Foglio2!N767, NA())","v":{"$error":"#N/A"}},{"$error":"#N/A"},6850,8.8320039312562706,{"$f":" IF(Foglio1!$C$13 <> \"\", 8.314472*Foglio1!$C$13*Foglio2!R767, NA())","v":{"$error":"#N/A"}},{"$error":"#N/A"}]
[6859,8.8333169374993208,{"$f":" IF(Foglio1!$C$9 <> \"\", 8.314472*Foglio1!$C$9*Foglio2!B768, NA())","v":{"$error":"#N/A"}},{"$error":"#N/A"},6859,8.8333169374993208,{"$f":" IF(Foglio1!$C$10 <> \"\", 8.314472*Foglio1!$C$10*Foglio2!F768, NA())","v":{"$error":"#N/A"}},{"$error":"#N/A"},6859,8.8333169374993208,{"$f":" IF(Foglio1!$C$11 <> \"\", 8.314472*Foglio1!$C$11*Foglio2!J768, NA())","v":{"$error":"#N/A"}},{"$error":"#N/A"},6859,8.8333169374993208,{"$f":" IF(Foglio1!$C$12 <> \"\", 8.314472*Foglio1!$C$12*Foglio2!N768, NA())","v":{"$error":"#N/A"}},{"$error":"#N/A"},6859,8.8333169374993208,{"$f":" IF(Foglio1!$C$13 <> \"\", 8.314472*Foglio1!$C$13*Foglio2!R768, NA())","v":{"$error":"#N/A"}},{"$error":"#N/A"}]
[6868,8.8346282220173666,{"$f":" IF(Foglio1!$C$9 <> \"\", 8.314472*Foglio1!$C$9*Foglio2!B769, NA())","v":{"$error":"#N/A"}},{"$error":"#N/A"},6868,8.8346282220173666,{"$f":" IF(Foglio1!$C$10 <> \"\", 8.314472*Foglio1!$C$10*Foglio2!F769, NA())","v":{"$error":"#N/A"}},{"$error":"#N/A"},6868,8.8346282220173666,{"$f":" IF(Foglio1!$C$11 <> \"\", 8.314472*Foglio1!$C$11*Foglio2!J769, NA())","v":{"$error":"#N/A"}},{"$error":"#N/A"},6868,8.8346282220173666,{"$f":" IF(Foglio1!$C$12 <> \"\", 8.314472*Foglio1!$C$12*Foglio2!N769, NA())","v":{"$error":"#N/A"}},{"$error":"#N/A"},6868,8.8346282220173666,{"$f":" IF(Foglio1!$C$13 <> \"\", 8.314472*Foglio1!$C$13*Foglio2!R769, NA())","v":{"$error":"#N/A"}},{"$error":"#N/A"}]
[6877,8.8359377893198356,{"$f":" IF(Foglio1!$C$9 <> \"\", 8.314472*Foglio1!$C$9*Foglio2!B770, NA())","v":{"$error":"#N/A"}},{"$error":"#N/A"},6877,8.8359377893198356,{"$f":" IF(Foglio1!$C$10 <> \"\", 8.314472*Foglio1!$C$10*Foglio2!F770, NA())","v":{"$error":"#N/A"}},{"$error":"#N/A"},6877,8.8359377893198356,{"$f":" IF(Foglio1!$C$11 <> \"\", 8.314472*Foglio1!$C$11*Foglio2!J770, NA())","v":{"$error":"#N/A"}},{"$error":"#N/A"},6877,8.8359377893198356,{"$f":" IF(Foglio1!$C$12 <> \"\", 8.314472*Foglio1!$C$12*Foglio2!N770, NA())","v":{"$error":"#N/A"}},{"$error":"#N/A"},6877,8.8359377893198356,{"$f":" IF(Foglio1!$C$13 <> \"\", 8.314472*Foglio1!$C$13*Foglio2!R770, NA())","v":{"$error":"#N/A"}},{"$error":"#N/A"}]
[6886,{"$f":"LN(A771)","v":8.8372456438984699},{"$f":" IF(Foglio1!$C$9 <> \"\", 8.314472*Foglio1!$C$9*Foglio2!B771, NA())","v":{"$error":"#N/A"}},{"$f":"  -30.5 + C771*10^-3","v":{"$error":"#N/A"}},6886,{"$f":"LN(E771)","v":8.8372456438984699},{"$f":" IF(Foglio1!$C$10 <> \"\", 8.314472*Foglio1!$C$10*Foglio2!F771, NA())","v":{"$error":"#N/A"}},{"$f":" -30.5+ G771*10^-3","v":{"$error":"#N/A"}},6886,{"$f":"LN(I771)","v":8.8372456438984699},{"$f":" IF(Foglio1!$C$11 <> \"\", 8.314472*Foglio1!$C$11*Foglio2!J771, NA())","v":{"$error":"#N/A"}},{"$f":" -30.5+ K771*10^-3","v":{"$error":"#N/A"}},6886,{"$f":"LN(M771)","v":8.8372456438984699},{"$f":" IF(Foglio1!$C$12 <> \"\", 8.314472*Foglio1!$C$12*Foglio2!N771, NA())","v":{"$error":"#N/A"}},{"$f":" -30.5+ O771*10^-3","v":{"$error":"#N/A"}},6886,{"$f":"LN(Q771)","v":8.8372456438984699},{"$f":" IF(Foglio1!$C$13 <> \"\", 8.314472*Foglio1!$C$13*Foglio2!R771, NA())","v":{"$error":"#N/A"}},{"$f":" -30.5+S771*10^-3","v":{"$error":"#N/A"}}]
[6895,8.8385517902274024,{"$f":" IF(Foglio1!$C$9 <> \"\", 8.314472*Foglio1!$C$9*Foglio2!B772, NA())","v":{"$error":"#N/A"}},{"$error":"#N/A"},6895,8.8385517902274024,{"$f":" IF(Foglio1!$C$10 <> \"\", 8.314472*Foglio1!$C$10*Foglio2!F772, NA())","v":{"$error":"#N/A"}},{"$error":"#N/A"},6895,8.8385517902274024,{"$f":" IF(Foglio1!$C$11 <> \"\", 8.314472*Foglio1!$C$11*Foglio2!J772, NA())","v":{"$error":"#N/A"}},{"$error":"#N/A"},6895,8.8385517902274024,{"$f":" IF(Foglio1!$C$12 <> \"\", 8.314472*Foglio1!$C$12*Foglio2!N772, NA())","v":{"$error":"#N/A"}},{"$error":"#N/A"},6895,8.8385517902274024,{"$f":" IF(Foglio1!$C$13 <> \"\", 8.314472*Foglio1!$C$13*Foglio2!R772, NA())","v":{"$error":"#N/A"}},{"$error":"#N/A"}]
[6904,8.8398562327632639,{"$f":" IF(Foglio1!$C$9 <> \"\", 8.314472*Foglio1!$C$9*Foglio2!B773, NA())","v":{"$error":"#N/A"}},{"$error":"#N/A"},6904,8.8398562327632639,{"$f":" IF(Foglio1!$C$10 <> \"\", 8.314472*Foglio1!$C$10*Foglio2!F773, NA())","v":{"$error":"#N/A"}},{"$error":"#N/A"},6904,8.8398562327632639,{"$f":" IF(Foglio1!$C$11 <> \"\", 8.314472*Foglio1!$C$11*Foglio2!J773, NA())","v":{"$error":"#N/A"}},{"$error":"#N/A"},6904,8.8398562327632639,{"$f":" IF(Foglio1!$C$12 <> \"\", 8.314472*Foglio1!$C$12*Foglio2!N773, NA())","v":{"$error":"#N/A"}},{"$error":"#N/A"},6904,8.8398562327632639,{"$f":" IF(Foglio1!$C$13 <> \"\", 8.314472*Foglio1!$C$13*Foglio2!R773, NA())","v":{"$error":"#N/A"}},{"$error":"#N/A"}]
[6913,8.8411589759452642,{"$f":" IF(Foglio1!$C$9 <> \"\", 8.314472*Foglio1!$C$9*Foglio2!B774, NA())","v":{"$error":"#N/A"}},{"$error":"#N/A"},6913,8.8411589759452642,{"$f":" IF(Foglio1!$C$10 <> \"\", 8.314472*Foglio1!$C$10*Foglio2!F774, NA())","v":{"$error":"#N/A"}},{"$error":"#N/A"},6913,8.8411589759452642,{"$f":" IF(Foglio1!$C$11 <> \"\", 8.314472*Foglio1!$C$11*Foglio2!J774, NA())","v":{"$error":"#N/A"}},{"$error":"#N/A"},6913,8.8411589759452642,{"$f":" IF(Foglio1!$C$12 <> \"\", 8.314472*Foglio1!$C$12*Foglio2!N774, NA())","v":{"$error":"#N/A"}},{"$error":"#N/A"},6913,8.8411589759452642,{"$f":" IF(Foglio1!$C$13 <> \"\", 8.314472*Foglio1!$C$13*Foglio2!R774, NA())","v":{"$error":"#N/A"}},{"$error":"#N/A"}]
[6922,8.8424600241952902,{"$f":" IF(Foglio1!$C$9 <> \"\", 8.314472*Foglio1!$C$9*Foglio2!B775, NA())","v":{"$error":"#N/A"}},{"$error":"#N/A"},6922,8.8424600241952902,{"$f":" IF(Foglio1!$C$10 <> \"\", 8.314472*Foglio1!$C$10*Foglio2!F775, NA())","v":{"$error":"#N/A"}},{"$error":"#N/A"},6922,8.8424600241952902,{"$f":" IF(Foglio1!$C$11 <> \"\", 8.314472*Foglio1!$C$11*Foglio2!J775, NA())","v":{"$error":"#N/A"}},{"$error":"#N/A"},6922,8.8424600241952902,{"$f":" IF(Foglio1!$C$12 <> \"\", 8.314472*Foglio1!$C$12*Foglio2!N775, NA())","v":{"$error":"#N/A"}},{"$error":"#N/A"},6922,8.8424600241952902,{"$f":" IF(Foglio1!$C$13 <> \"\", 8.314472*Foglio1!$C$13*Foglio2!R775, NA())","v":{"$error":"#N/A"}},{"$error":"#N/A"}]
[6931,8.8437593819179838,{"$f":" IF(Foglio1!$C$9 <> \"\", 8.314472*Foglio1!$C$9*Foglio2!B776, NA())","v":{"$error":"#N/A"}},{"$error":"#N/A"},6931,8.8437593819179838,{"$f":" IF(Foglio1!$C$10 <> \"\", 8.314472*Foglio1!$C$10*Foglio2!F776, NA())","v":{"$error":"#N/A"}},{"$error":"#N/A"},6931,8.8437593819179838,{"$f":" IF(Foglio1!$C$11 <> \"\", 8.314472*Foglio1!$C$11*Foglio2!J776, NA())","v":{"$error":"#N/A"}},{"$error":"#N/A"},6931,8.8437593819179838,{"$f":" IF(Foglio1!$C$12 <> \"\", 8.314472*Foglio1!$C$12*Foglio2!N776, NA())","v":{"$error":"#N/A"}},{"$error":"#N/A"},6931,8.8437593819179838,{"$f":" IF(Foglio1!$C$13 <> \"\", 8.314472*Foglio1!$C$13*Foglio2!R776, NA())","v":{"$error":"#N/A"}},{"$error":"#N/A"}]
[6940,8.8450570535008506,{"$f":" IF(Foglio1!$C$9 <> \"\", 8.314472*Foglio1!$C$9*Foglio2!B777, NA())","v":{"$error":"#N/A"}},{"$error":"#N/A"},6940,8.8450570535008506,{"$f":" IF(Foglio1!$C$10 <> \"\", 8.314472*Foglio1!$C$10*Foglio2!F777, NA())","v":{"$error":"#N/A"}},{"$error":"#N/A"},6940,8.8450570535008506,{"$f":" IF(Foglio1!$C$11 <> \"\", 8.314472*Foglio1!$C$11*Foglio2!J777, NA())","v":{"$error":"#N/A"}},{"$error":"#N/A"},6940,8.8450570535008506,{"$f":" IF(Foglio1!$C$12 <> \"\", 8.314472*Foglio1!$C$12*Foglio2!N777, NA())","v":{"$error":"#N/A"}},{"$error":"#N/A"},6940,8.8450570535008506,{"$f":" IF(Foglio1!$C$13 <> \"\", 8.314472*Foglio1!$C$13*Foglio2!R777, NA())","v":{"$error":"#N/A"}},{"$error":"#N/A"}]
[6949,8.8463530433143269,{"$f":" IF(Foglio1!$C$9 <> \"\", 8.314472*Foglio1!$C$9*Foglio2!B778, NA())","v":{"$error":"#N/A"}},{"$error":"#N/A"},6949,8.8463530433143269,{"$f":" IF(Foglio1!$C$10 <> \"\", 8.314472*Foglio1!$C$10*Foglio2!F778, NA())","v":{"$error":"#N/A"}},{"$error":"#N/A"},6949,8.8463530433143269,{"$f":" IF(Foglio1!$C$11 <> \"\", 8.314472*Foglio1!$C$11*Foglio2!J778, NA())","v":{"$error":"#N/A"}},{"$error":"#N/A"},6949,8.8463530433143269,{"$f":" IF(Foglio1!$C$12 <> \"\", 8.314472*Foglio1!$C$12*Foglio2!N778, NA())","v":{"$error":"#N/A"}},{"$error":"#N/A"},6949,8.8463530433143269,{"$f":" IF(Foglio1!$C$13 <> \"\", 8.314472*Foglio1!$C$13*Foglio2!R778, NA())","v":{"$error":"#N/A"}},{"$error":"#N/A"}]
[6958,8.8476473557118869,{"$f":" IF(Foglio1!$C$9 <> \"\", 8.314472*Foglio1!$C$9*Foglio2!B779, NA())","v":{"$error":"#N/A"}},{"$error":"#N/A"},6958,8.8476473557118869,{"$f":" IF(Foglio1!$C$10 <> \"\", 8.314472*Foglio1!$C$10*Foglio2!F779, NA())","v":{"$error":"#N/A"}},{"$error":"#N/A"},6958,8.8476473557118869,{"$f":" IF(Foglio1!$C$11 <> \"\", 8.314472*Foglio1!$C$11*Foglio2!J779, NA())","v":{"$error":"#N/A"}},{"$error":"#N/A"},6958,8.8476473557118869,{"$f":" IF(Foglio1!$C$12 <> \"\", 8.314472*Foglio1!$C$12*Foglio2!N779, NA())","v":{"$error":"#N/A"}},{"$error":"#N/A"},6958,8.8476473557118869,{"$f":" IF(Foglio1!$C$13 <> \"\", 8.314472*Foglio1!$C$13*Foglio2!R779, NA())","v":{"$error":"#N/A"}},{"$error":"#N/A"}]
[6967,8.8489399950301184,{"$f":" IF(Foglio1!$C$9 <> \"\", 8.314472*Foglio1!$C$9*Foglio2!B780, NA())","v":{"$error":"#N/A"}},{"$error":"#N/A"},6967,8.8489399950301184,{"$f":" IF(Foglio1!$C$10 <> \"\", 8.314472*Foglio1!$C$10*Foglio2!F780, NA())","v":{"$error":"#N/A"}},{"$error":"#N/A"},6967,8.8489399950301184,{"$f":" IF(Foglio1!$C$11 <> \"\", 8.314472*Foglio1!$C$11*Foglio2!J780, NA())","v":{"$error":"#N/A"}},{"$error":"#N/A"},6967,8.8489399950301184,{"$f":" IF(Foglio1!$C$12 <> \"\", 8.314472*Foglio1!$C$12*Foglio2!N780, NA())","v":{"$error":"#N/A"}},{"$error":"#N/A"},6967,8.8489399950301184,{"$f":" IF(Foglio1!$C$13 <> \"\", 8.314472*Foglio1!$C$13*Foglio2!R780, NA())","v":{"$error":"#N/A"}},{"$error":"#N/A"}]
[6976,8.8502309655888158,{"$f":" IF(Foglio1!$C$9 <> \"\", 8.314472*Foglio1!$C$9*Foglio2!B781, NA())","v":{"$error":"#N/A"}},{"$error":"#N/A"},6976,8.8502309655888158,{"$f":" IF(Foglio1!$C$10 <> \"\", 8.314472*Foglio1!$C$10*Foglio2!F781, NA())","v":{"$error":"#N/A"}},{"$error":"#N/A"},6976,8.8502309655888158,{"$f":" IF(Foglio1!$C$11 <> \"\", 8.314472*Foglio1!$C$11*Foglio2!J781, NA())","v":{"$error":"#N/A"}},{"$error":"#N/A"},6976,8.8502309655888158,{"$f":" IF(Foglio1!$C$12 <> \"\", 8.314472*Foglio1!$C$12*Foglio2!N781, NA())","v":{"$error":"#N/A"}},{"$error":"#N/A"},6976,8.8502309655888158,{"$f":" IF(Foglio1!$C$13 <> \"\", 8.314472*Foglio1!$C$13*Foglio2!R781, NA())","v":{"$error":"#N/A"}},{"$error":"#N/A"}]
[6985,8.8515202716910615,{"$f":" IF(Foglio1!$C$9 <> \"\", 8.314472*Foglio1!$C$9*Foglio2!B782, NA())","v":{"$error":"#N/A"}},{"$error":"#N/A"},6985,8.8515202716910615,{"$f":" IF(Foglio1!$C$10 <> \"\", 8.314472*Foglio1!$C$10*Foglio2!F782, NA())","v":{"$error":"#N/A"}},{"$error":"#N/A"},6985,8.8515202716910615,{"$f":" IF(Foglio1!$C$11 <> \"\", 8.314472*Foglio1!$C$11*Foglio2!J782, NA())","v":{"$error":"#N/A"}},{"$error":"#N/A"},6985,8.8515202716910615,{"$f":" IF(Foglio1!$C$12 <> \"\", 8.314472*Foglio1!$C$12*Foglio2!N782, NA())","v":{"$error":"#N/A"}},{"$error":"#N/A"},6985,8.8515202716910615,{"$f":" IF(Foglio1!$C$13 <> \"\", 8.314472*Foglio1!$C$13*Foglio2!R782, NA())","v":{"$error":"#N/A"}},{"$error":"#N/A"}]
[6994,8.8528079176233216,{"$f":" IF(Foglio1!$C$9 <> \"\", 8.314472*Foglio1!$C$9*Foglio2!B783, NA())","v":{"$error":"#N/A"}},{"$error":"#N/A"},6994,8.8528079176233216,{"$f":" IF(Foglio1!$C$10 <> \"\", 8.314472*Foglio1!$C$10*Foglio2!F783, NA())","v":{"$error":"#N/A"}},{"$error":"#N/A"},6994,8.8528079176233216,{"$f":" IF(Foglio1!$C$11 <> \"\", 8.314472*Foglio1!$C$11*Foglio2!J783, NA())","v":{"$error":"#N/A"}},{"$error":"#N/A"},6994,8.8528079176233216,{"$f":" IF(Foglio1!$C$12 <> \"\", 8.314472*Foglio1!$C$12*Foglio2!N783, NA())","v":{"$error":"#N/A"}},{"$error":"#N/A"},6994,8.8528079176233216,{"$f":" IF(Foglio1!$C$13 <> \"\", 8.314472*Foglio1!$C$13*Foglio2!R783, NA())","v":{"$error":"#N/A"}},{"$error":"#N/A"}]
[7003,8.8540939076555176,{"$f":" IF(Foglio1!$C$9 <> \"\", 8.314472*Foglio1!$C$9*Foglio2!B784, NA())","v":{"$error":"#N/A"}},{"$error":"#N/A"},7003,8.8540939076555176,{"$f":" IF(Foglio1!$C$10 <> \"\", 8.314472*Foglio1!$C$10*Foglio2!F784, NA())","v":{"$error":"#N/A"}},{"$error":"#N/A"},7003,8.8540939076555176,{"$f":" IF(Foglio1!$C$11 <> \"\", 8.314472*Foglio1!$C$11*Foglio2!J784, NA())","v":{"$error":"#N/A"}},{"$error":"#N/A"},7003,8.8540939076555176,{"$f":" IF(Foglio1!$C$12 <> \"\", 8.314472*Foglio1!$C$12*Foglio2!N784, NA())","v":{"$error":"#N/A"}},{"$error":"#N/A"},7003,8.8540939076555176,{"$f":" IF(Foglio1!$C$13 <> \"\", 8.314472*Foglio1!$C$13*Foglio2!R784, NA())","v":{"$error":"#N/A"}},{"$error":"#N/A"}]
[7012,8.8553782460411252,{"$f":" IF(Foglio1!$C$9 <> \"\", 8.314472*Foglio1!$C$9*Foglio2!B785, NA())","v":{"$error":"#N/A"}},{"$error":"#N/A"},7012,8.8553782460411252,{"$f":" IF(Foglio1!$C$10 <> \"\", 8.314472*Foglio1!$C$10*Foglio2!F785, NA())","v":{"$error":"#N/A"}},{"$error":"#N/A"},7012,8.8553782460411252,{"$f":" IF(Foglio1!$C$11 <> \"\", 8.314472*Foglio1!$C$11*Foglio2!J785, NA())","v":{"$error":"#N/A"}},{"$error":"#N/A"},7012,8.8553782460411252,{"$f":" IF(Foglio1!$C$12 <> \"\", 8.314472*Foglio1!$C$12*Foglio2!N785, NA())","v":{"$error":"#N/A"}},{"$error":"#N/A"},7012,8.8553782460411252,{"$f":" IF(Foglio1!$C$13 <> \"\", 8.314472*Foglio1!$C$13*Foglio2!R785, NA())","v":{"$error":"#N/A"}},{"$error":"#N/A"}]
[7021,8.8566609370172493,{"$f":" IF(Foglio1!$C$9 <> \"\", 8.314472*Foglio1!$C$9*Foglio2!B786, NA())","v":{"$error":"#N/A"}},{"$error":"#N/A"},7021,8.8566609370172493,{"$f":" IF(Foglio1!$C$10 <> \"\", 8.314472*Foglio1!$C$10*Foglio2!F786, NA())","v":{"$error":"#N/A"}},{"$error":"#N/A"},7021,8.8566609370172493,{"$f":" IF(Foglio1!$C$11 <> \"\", 8.314472*Foglio1!$C$11*Foglio2!J786, NA())","v":{"$error":"#N/A"}},{"$error":"#N/A"},7021,8.8566609370172493,{"$f":" IF(Foglio1!$C$12 <> \"\", 8.314472*Foglio1!$C$12*Foglio2!N786, NA())","v":{"$error":"#N/A"}},{"$error":"#N/A"},7021,8.8566609370172493,{"$f":" IF(Foglio1!$C$13 <> \"\", 8.314472*Foglio1!$C$13*Foglio2!R786, NA())","v":{"$error":"#N/A"}},{"$error":"#N/A"}]
[7030,8.857941984804711,{"$f":" IF(Foglio1!$C$9 <> \"\", 8.314472*Foglio1!$C$9*Foglio2!B787, NA())","v":{"$error":"#N/A"}},{"$error":"#N/A"},7030,8.857941984804711,{"$f":" IF(Foglio1!$C$10 <> \"\", 8.314472*Foglio1!$C$10*Foglio2!F787, NA())","v":{"$error":"#N/A"}},{"$error":"#N/A"},7030,8.857941984804711,{"$f":" IF(Foglio1!$C$11 <> \"\", 8.314472*Foglio1!$C$11*Foglio2!J787, NA())","v":{"$error":"#N/A"}},{"$error":"#N/A"},7030,8.857941984804711,{"$f":" IF(Foglio1!$C$12 <> \"\", 8.314472*Foglio1!$C$12*Foglio2!N787, NA())","v":{"$error":"#N/A"}},{"$error":"#N/A"},7030,8.857941984804711,{"$f":" IF(Foglio1!$C$13 <> \"\", 8.314472*Foglio1!$C$13*Foglio2!R787, NA())","v":{"$error":"#N/A"}},{"$error":"#N/A"}]
[7039,8.8592213936081308,{"$f":" IF(Foglio1!$C$9 <> \"\", 8.314472*Foglio1!$C$9*Foglio2!B788, NA())","v":{"$error":"#N/A"}},{"$error":"#N/A"},7039,8.8592213936081308,{"$f":" IF(Foglio1!$C$10 <> \"\", 8.314472*Foglio1!$C$10*Foglio2!F788, NA())","v":{"$error":"#N/A"}},{"$error":"#N/A"},7039,8.8592213936081308,{"$f":" IF(Foglio1!$C$11 <> \"\", 8.314472*Foglio1!$C$11*Foglio2!J788, NA())","v":{"$error":"#N/A"}},{"$error":"#N/A"},7039,8.8592213936081308,{"$f":" IF(Foglio1!$C$12 <> \"\", 8.314472*Foglio1!$C$12*Foglio2!N788, NA())","v":{"$error":"#N/A"}},{"$error":"#N/A"},7039,8.8592213936081308,{"$f":" IF(Foglio1!$C$13 <> \"\", 8.314472*Foglio1!$C$13*Foglio2!R788, NA())","v":{"$error":"#N/A"}},{"$error":"#N/A"}]
[7048,8.8604991676160161,{"$f":" IF(Foglio1!$C$9 <> \"\", 8.314472*Foglio1!$C$9*Foglio2!B789, NA())","v":{"$error":"#N/A"}},{"$error":"#N/A"},7048,8.8604991676160161,{"$f":" IF(Foglio1!$C$10 <> \"\", 8.314472*Foglio1!$C$10*Foglio2!F789, NA())","v":{"$error":"#N/A"}},{"$error":"#N/A"},7048,8.8604991676160161,{"$f":" IF(Foglio1!$C$11 <> \"\", 8.314472*Foglio1!$C$11*Foglio2!J789, NA())","v":{"$error":"#N/A"}},{"$error":"#N/A"},7048,8.8604991676160161,{"$f":" IF(Foglio1!$C$12 <> \"\", 8.314472*Foglio1!$C$12*Foglio2!N789, NA())","v":{"$error":"#N/A"}},{"$error":"#N/A"},7048,8.8604991676160161,{"$f":" IF(Foglio1!$C$13 <> \"\", 8.314472*Foglio1!$C$13*Foglio2!R789, NA())","v":{"$error":"#N/A"}},{"$error":"#N/A"}]
[7057,8.8617753110008302,{"$f":" IF(Foglio1!$C$9 <> \"\", 8.314472*Foglio1!$C$9*Foglio2!B790, NA())","v":{"$error":"#N/A"}},{"$error":"#N/A"},7057,8.8617753110008302,{"$f":" IF(Foglio1!$C$10 <> \"\", 8.314472*Foglio1!$C$10*Foglio2!F790, NA())","v":{"$error":"#N/A"}},{"$error":"#N/A"},7057,8.8617753110008302,{"$f":" IF(Foglio1!$C$11 <> \"\", 8.314472*Foglio1!$C$11*Foglio2!J790, NA())","v":{"$error":"#N/A"}},{"$error":"#N/A"},7057,8.8617753110008302,{"$f":" IF(Foglio1!$C$12 <> \"\", 8.314472*Foglio1!$C$12*Foglio2!N790, NA())","v":{"$error":"#N/A"}},{"$error":"#N/A"},7057,8.8617753110008302,{"$f":" IF(Foglio1!$C$13 <> \"\", 8.314472*Foglio1!$C$13*Foglio2!R790, NA())","v":{"$error":"#N/A"}},{"$error":"#N/A"}]
[7066,8.8630498279190899,{"$f":" IF(Foglio1!$C$9 <> \"\", 8.314472*Foglio1!$C$9*Foglio2!B791, NA())","v":{"$error":"#N/A"}},{"$error":"#N/A"},7066,8.8630498279190899,{"$f":" IF(Foglio1!$C$10 <> \"\", 8.314472*Foglio1!$C$10*Foglio2!F791, NA())","v":{"$error":"#N/A"}},{"$error":"#N/A"},7066,8.8630498279190899,{"$f":" IF(Foglio1!$C$11 <> \"\", 8.314472*Foglio1!$C$11*Foglio2!J791, NA())","v":{"$error":"#N/A"}},{"$error":"#N/A"},7066,8.8630498279190899,{"$f":" IF(Foglio1!$C$12 <> \"\", 8.314472*Foglio1!$C$12*Foglio2!N791, NA())","v":{"$error":"#N/A"}},{"$error":"#N/A"},7066,8.8630498279190899,{"$f":" IF(Foglio1!$C$13 <> \"\", 8.314472*Foglio1!$C$13*Foglio2!R791, NA())","v":{"$error":"#N/A"}},{"$error":"#N/A"}]
[7075,8.8643227225114387,{"$f":" IF(Foglio1!$C$9 <> \"\", 8.314472*Foglio1!$C$9*Foglio2!B792, NA())","v":{"$error":"#N/A"}},{"$error":"#N/A"},7075,8.8643227225114387,{"$f":" IF(Foglio1!$C$10 <> \"\", 8.314472*Foglio1!$C$10*Foglio2!F792, NA())","v":{"$error":"#N/A"}},{"$error":"#N/A"},7075,8.8643227225114387,{"$f":" IF(Foglio1!$C$11 <> \"\", 8.314472*Foglio1!$C$11*Foglio2!J792, NA())","v":{"$error":"#N/A"}},{"$error":"#N/A"},7075,8.8643227225114387,{"$f":" IF(Foglio1!$C$12 <> \"\", 8.314472*Foglio1!$C$12*Foglio2!N792, NA())","v":{"$error":"#N/A"}},{"$error":"#N/A"},7075,8.8643227225114387,{"$f":" IF(Foglio1!$C$13 <> \"\", 8.314472*Foglio1!$C$13*Foglio2!R792, NA())","v":{"$error":"#N/A"}},{"$error":"#N/A"}]
[7084,8.8655939989027246,{"$f":" IF(Foglio1!$C$9 <> \"\", 8.314472*Foglio1!$C$9*Foglio2!B793, NA())","v":{"$error":"#N/A"}},{"$error":"#N/A"},7084,8.8655939989027246,{"$f":" IF(Foglio1!$C$10 <> \"\", 8.314472*Foglio1!$C$10*Foglio2!F793, NA())","v":{"$error":"#N/A"}},{"$error":"#N/A"},7084,8.8655939989027246,{"$f":" IF(Foglio1!$C$11 <> \"\", 8.314472*Foglio1!$C$11*Foglio2!J793, NA())","v":{"$error":"#N/A"}},{"$error":"#N/A"},7084,8.8655939989027246,{"$f":" IF(Foglio1!$C$12 <> \"\", 8.314472*Foglio1!$C$12*Foglio2!N793, NA())","v":{"$error":"#N/A"}},{"$error":"#N/A"},7084,8.8655939989027246,{"$f":" IF(Foglio1!$C$13 <> \"\", 8.314472*Foglio1!$C$13*Foglio2!R793, NA())","v":{"$error":"#N/A"}},{"$error":"#N/A"}]
[7093,8.8668636612020872,{"$f":" IF(Foglio1!$C$9 <> \"\", 8.314472*Foglio1!$C$9*Foglio2!B794, NA())","v":{"$error":"#N/A"}},{"$error":"#N/A"},7093,8.8668636612020872,{"$f":" IF(Foglio1!$C$10 <> \"\", 8.314472*Foglio1!$C$10*Foglio2!F794, NA())","v":{"$error":"#N/A"}},{"$error":"#N/A"},7093,8.8668636612020872,{"$f":" IF(Foglio1!$C$11 <> \"\", 8.314472*Foglio1!$C$11*Foglio2!J794, NA())","v":{"$error":"#N/A"}},{"$error":"#N/A"},7093,8.8668636612020872,{"$f":" IF(Foglio1!$C$12 <> \"\", 8.314472*Foglio1!$C$12*Foglio2!N794, NA())","v":{"$error":"#N/A"}},{"$error":"#N/A"},7093,8.8668636612020872,{"$f":" IF(Foglio1!$C$13 <> \"\", 8.314472*Foglio1!$C$13*Foglio2!R794, NA())","v":{"$error":"#N/A"}},{"$error":"#N/A"}]
[7102,8.8681317135030326,{"$f":" IF(Foglio1!$C$9 <> \"\", 8.314472*Foglio1!$C$9*Foglio2!B795, NA())","v":{"$error":"#N/A"}},{"$error":"#N/A"},7102,8.8681317135030326,{"$f":" IF(Foglio1!$C$10 <> \"\", 8.314472*Foglio1!$C$10*Foglio2!F795, NA())","v":{"$error":"#N/A"}},{"$error":"#N/A"},7102,8.8681317135030326,{"$f":" IF(Foglio1!$C$11 <> \"\", 8.314472*Foglio1!$C$11*Foglio2!J795, NA())","v":{"$error":"#N/A"}},{"$error":"#N/A"},7102,8.8681317135030326,{"$f":" IF(Foglio1!$C$12 <> \"\", 8.314472*Foglio1!$C$12*Foglio2!N795, NA())","v":{"$error":"#N/A"}},{"$error":"#N/A"},7102,8.8681317135030326,{"$f":" IF(Foglio1!$C$13 <> \"\", 8.314472*Foglio1!$C$13*Foglio2!R795, NA())","v":{"$error":"#N/A"}},{"$error":"#N/A"}]
[7111,8.8693981598835183,{"$f":" IF(Foglio1!$C$9 <> \"\", 8.314472*Foglio1!$C$9*Foglio2!B796, NA())","v":{"$error":"#N/A"}},{"$error":"#N/A"},7111,8.8693981598835183,{"$f":" IF(Foglio1!$C$10 <> \"\", 8.314472*Foglio1!$C$10*Foglio2!F796, NA())","v":{"$error":"#N/A"}},{"$error":"#N/A"},7111,8.8693981598835183,{"$f":" IF(Foglio1!$C$11 <> \"\", 8.314472*Foglio1!$C$11*Foglio2!J796, NA())","v":{"$error":"#N/A"}},{"$error":"#N/A"},7111,8.8693981598835183,{"$f":" IF(Foglio1!$C$12 <> \"\", 8.314472*Foglio1!$C$12*Foglio2!N796, NA())","v":{"$error":"#N/A"}},{"$error":"#N/A"},7111,8.8693981598835183,{"$f":" IF(Foglio1!$C$13 <> \"\", 8.314472*Foglio1!$C$13*Foglio2!R796, NA())","v":{"$error":"#N/A"}},{"$error":"#N/A"}]
[7120,8.8706630044060208,{"$f":" IF(Foglio1!$C$9 <> \"\", 8.314472*Foglio1!$C$9*Foglio2!B797, NA())","v":{"$error":"#N/A"}},{"$error":"#N/A"},7120,8.8706630044060208,{"$f":" IF(Foglio1!$C$10 <> \"\", 8.314472*Foglio1!$C$10*Foglio2!F797, NA())","v":{"$error":"#N/A"}},{"$error":"#N/A"},7120,8.8706630044060208,{"$f":" IF(Foglio1!$C$11 <> \"\", 8.314472*Foglio1!$C$11*Foglio2!J797, NA())","v":{"$error":"#N/A"}},{"$error":"#N/A"},7120,8.8706630044060208,{"$f":" IF(Foglio1!$C$12 <> \"\", 8.314472*Foglio1!$C$12*Foglio2!N797, NA())","v":{"$error":"#N/A"}},{"$error":"#N/A"},7120,8.8706630044060208,{"$f":" IF(Foglio1!$C$13 <> \"\", 8.314472*Foglio1!$C$13*Foglio2!R797, NA())","v":{"$error":"#N/A"}},{"$error":"#N/A"}]
[7129,8.8719262511176282,{"$f":" IF(Foglio1!$C$9 <> \"\", 8.314472*Foglio1!$C$9*Foglio2!B798, NA())","v":{"$error":"#N/A"}},{"$error":"#N/A"},7129,8.8719262511176282,{"$f":" IF(Foglio1!$C$10 <> \"\", 8.314472*Foglio1!$C$10*Foglio2!F798, NA())","v":{"$error":"#N/A"}},{"$error":"#N/A"},7129,8.8719262511176282,{"$f":" IF(Foglio1!$C$11 <> \"\", 8.314472*Foglio1!$C$11*Foglio2!J798, NA())","v":{"$error":"#N/A"}},{"$error":"#N/A"},7129,8.8719262511176282,{"$f":" IF(Foglio1!$C$12 <> \"\", 8.314472*Foglio1!$C$12*Foglio2!N798, NA())","v":{"$error":"#N/A"}},{"$error":"#N/A"},7129,8.8719262511176282,{"$f":" IF(Foglio1!$C$13 <> \"\", 8.314472*Foglio1!$C$13*Foglio2!R798, NA())","v":{"$error":"#N/A"}},{"$error":"#N/A"}]
[7138,8.8731879040501056,{"$f":" IF(Foglio1!$C$9 <> \"\", 8.314472*Foglio1!$C$9*Foglio2!B799, NA())","v":{"$error":"#N/A"}},{"$error":"#N/A"},7138,8.8731879040501056,{"$f":" IF(Foglio1!$C$10 <> \"\", 8.314472*Foglio1!$C$10*Foglio2!F799, NA())","v":{"$error":"#N/A"}},{"$error":"#N/A"},7138,8.8731879040501056,{"$f":" IF(Foglio1!$C$11 <> \"\", 8.314472*Foglio1!$C$11*Foglio2!J799, NA())","v":{"$error":"#N/A"}},{"$error":"#N/A"},7138,8.8731879040501056,{"$f":" IF(Foglio1!$C$12 <> \"\", 8.314472*Foglio1!$C$12*Foglio2!N799, NA())","v":{"$error":"#N/A"}},{"$error":"#N/A"},7138,8.8731879040501056,{"$f":" IF(Foglio1!$C$13 <> \"\", 8.314472*Foglio1!$C$13*Foglio2!R799, NA())","v":{"$error":"#N/A"}},{"$error":"#N/A"}]
[7147,8.8744479672199788,{"$f":" IF(Foglio1!$C$9 <> \"\", 8.314472*Foglio1!$C$9*Foglio2!B800, NA())","v":{"$error":"#N/A"}},{"$error":"#N/A"},7147,8.8744479672199788,{"$f":" IF(Foglio1!$C$10 <> \"\", 8.314472*Foglio1!$C$10*Foglio2!F800, NA())","v":{"$error":"#N/A"}},{"$error":"#N/A"},7147,8.8744479672199788,{"$f":" IF(Foglio1!$C$11 <> \"\", 8.314472*Foglio1!$C$11*Foglio2!J800, NA())","v":{"$error":"#N/A"}},{"$error":"#N/A"},7147,8.8744479672199788,{"$f":" IF(Foglio1!$C$12 <> \"\", 8.314472*Foglio1!$C$12*Foglio2!N800, NA())","v":{"$error":"#N/A"}},{"$error":"#N/A"},7147,8.8744479672199788,{"$f":" IF(Foglio1!$C$13 <> \"\", 8.314472*Foglio1!$C$13*Foglio2!R800, NA())","v":{"$error":"#N/A"}},{"$error":"#N/A"}]
[7156,8.8757064446286105,{"$f":" IF(Foglio1!$C$9 <> \"\", 8.314472*Foglio1!$C$9*Foglio2!B801, NA())","v":{"$error":"#N/A"}},{"$error":"#N/A"},7156,8.8757064446286105,{"$f":" IF(Foglio1!$C$10 <> \"\", 8.314472*Foglio1!$C$10*Foglio2!F801, NA())","v":{"$error":"#N/A"}},{"$error":"#N/A"},7156,8.8757064446286105,{"$f":" IF(Foglio1!$C$11 <> \"\", 8.314472*Foglio1!$C$11*Foglio2!J801, NA())","v":{"$error":"#N/A"}},{"$error":"#N/A"},7156,8.8757064446286105,{"$f":" IF(Foglio1!$C$12 <> \"\", 8.314472*Foglio1!$C$12*Foglio2!N801, NA())","v":{"$error":"#N/A"}},{"$error":"#N/A"},7156,8.8757064446286105,{"$f":" IF(Foglio1!$C$13 <> \"\", 8.314472*Foglio1!$C$13*Foglio2!R801, NA())","v":{"$error":"#N/A"}},{"$error":"#N/A"}]
[7165,8.8769633402622716,{"$f":" IF(Foglio1!$C$9 <> \"\", 8.314472*Foglio1!$C$9*Foglio2!B802, NA())","v":{"$error":"#N/A"}},{"$error":"#N/A"},7165,8.8769633402622716,{"$f":" IF(Foglio1!$C$10 <> \"\", 8.314472*Foglio1!$C$10*Foglio2!F802, NA())","v":{"$error":"#N/A"}},{"$error":"#N/A"},7165,8.8769633402622716,{"$f":" IF(Foglio1!$C$11 <> \"\", 8.314472*Foglio1!$C$11*Foglio2!J802, NA())","v":{"$error":"#N/A"}},{"$error":"#N/A"},7165,8.8769633402622716,{"$f":" IF(Foglio1!$C$12 <> \"\", 8.314472*Foglio1!$C$12*Foglio2!N802, NA())","v":{"$error":"#N/A"}},{"$error":"#N/A"},7165,8.8769633402622716,{"$f":" IF(Foglio1!$C$13 <> \"\", 8.314472*Foglio1!$C$13*Foglio2!R802, NA())","v":{"$error":"#N/A"}},{"$error":"#N/A"}]
[7174,8.8782186580922282,{"$f":" IF(Foglio1!$C$9 <> \"\", 8.314472*Foglio1!$C$9*Foglio2!B803, NA())","v":{"$error":"#N/A"}},{"$error":"#N/A"},7174,8.8782186580922282,{"$f":" IF(Foglio1!$C$10 <> \"\", 8.314472*Foglio1!$C$10*Foglio2!F803, NA())","v":{"$error":"#N/A"}},{"$error":"#N/A"},7174,8.8782186580922282,{"$f":" IF(Foglio1!$C$11 <> \"\", 8.314472*Foglio1!$C$11*Foglio2!J803, NA())","v":{"$error":"#N/A"}},{"$error":"#N/A"},7174,8.8782186580922282,{"$f":" IF(Foglio1!$C$12 <> \"\", 8.314472*Foglio1!$C$12*Foglio2!N803, NA())","v":{"$error":"#N/A"}},{"$error":"#N/A"},7174,8.8782186580922282,{"$f":" IF(Foglio1!$C$13 <> \"\", 8.314472*Foglio1!$C$13*Foglio2!R803, NA())","v":{"$error":"#N/A"}},{"$error":"#N/A"}]
[7183,8.8794724020748017,{"$f":" IF(Foglio1!$C$9 <> \"\", 8.314472*Foglio1!$C$9*Foglio2!B804, NA())","v":{"$error":"#N/A"}},{"$error":"#N/A"},7183,8.8794724020748017,{"$f":" IF(Foglio1!$C$10 <> \"\", 8.314472*Foglio1!$C$10*Foglio2!F804, NA())","v":{"$error":"#N/A"}},{"$error":"#N/A"},7183,8.8794724020748017,{"$f":" IF(Foglio1!$C$11 <> \"\", 8.314472*Foglio1!$C$11*Foglio2!J804, NA())","v":{"$error":"#N/A"}},{"$error":"#N/A"},7183,8.8794724020748017,{"$f":" IF(Foglio1!$C$12 <> \"\", 8.314472*Foglio1!$C$12*Foglio2!N804, NA())","v":{"$error":"#N/A"}},{"$error":"#N/A"},7183,8.8794724020748017,{"$f":" IF(Foglio1!$C$13 <> \"\", 8.314472*Foglio1!$C$13*Foglio2!R804, NA())","v":{"$error":"#N/A"}},{"$error":"#N/A"}]
[7192,8.8807245761514562,{"$f":" IF(Foglio1!$C$9 <> \"\", 8.314472*Foglio1!$C$9*Foglio2!B805, NA())","v":{"$error":"#N/A"}},{"$error":"#N/A"},7192,8.8807245761514562,{"$f":" IF(Foglio1!$C$10 <> \"\", 8.314472*Foglio1!$C$10*Foglio2!F805, NA())","v":{"$error":"#N/A"}},{"$error":"#N/A"},7192,8.8807245761514562,{"$f":" IF(Foglio1!$C$11 <> \"\", 8.314472*Foglio1!$C$11*Foglio2!J805, NA())","v":{"$error":"#N/A"}},{"$error":"#N/A"},7192,8.8807245761514562,{"$f":" IF(Foglio1!$C$12 <> \"\", 8.314472*Foglio1!$C$12*Foglio2!N805, NA())","v":{"$error":"#N/A"}},{"$error":"#N/A"},7192,8.8807245761514562,{"$f":" IF(Foglio1!$C$13 <> \"\", 8.314472*Foglio1!$C$13*Foglio2!R805, NA())","v":{"$error":"#N/A"}},{"$error":"#N/A"}]
[7201,8.8819751842488674,{"$f":" IF(Foglio1!$C$9 <> \"\", 8.314472*Foglio1!$C$9*Foglio2!B806, NA())","v":{"$error":"#N/A"}},{"$error":"#N/A"},7201,8.8819751842488674,{"$f":" IF(Foglio1!$C$10 <> \"\", 8.314472*Foglio1!$C$10*Foglio2!F806, NA())","v":{"$error":"#N/A"}},{"$error":"#N/A"},7201,8.8819751842488674,{"$f":" IF(Foglio1!$C$11 <> \"\", 8.314472*Foglio1!$C$11*Foglio2!J806, NA())","v":{"$error":"#N/A"}},{"$error":"#N/A"},7201,8.8819751842488674,{"$f":" IF(Foglio1!$C$12 <> \"\", 8.314472*Foglio1!$C$12*Foglio2!N806, NA())","v":{"$error":"#N/A"}},{"$error":"#N/A"},7201,8.8819751842488674,{"$f":" IF(Foglio1!$C$13 <> \"\", 8.314472*Foglio1!$C$13*Foglio2!R806, NA())","v":{"$error":"#N/A"}},{"$error":"#N/A"}]
[7210,8.8832242302789943,{"$f":" IF(Foglio1!$C$9 <> \"\", 8.314472*Foglio1!$C$9*Foglio2!B807, NA())","v":{"$error":"#N/A"}},{"$error":"#N/A"},7210,8.8832242302789943,{"$f":" IF(Foglio1!$C$10 <> \"\", 8.314472*Foglio1!$C$10*Foglio2!F807, NA())","v":{"$error":"#N/A"}},{"$error":"#N/A"},7210,8.8832242302789943,{"$f":" IF(Foglio1!$C$11 <> \"\", 8.314472*Foglio1!$C$11*Foglio2!J807, NA())","v":{"$error":"#N/A"}},{"$error":"#N/A"},7210,8.8832242302789943,{"$f":" IF(Foglio1!$C$12 <> \"\", 8.314472*Foglio1!$C$12*Foglio2!N807, NA())","v":{"$error":"#N/A"}},{"$error":"#N/A"},7210,8.8832242302789943,{"$f":" IF(Foglio1!$C$13 <> \"\", 8.314472*Foglio1!$C$13*Foglio2!R807, NA())","v":{"$error":"#N/A"}},{"$error":"#N/A"}]
[7219,8.8844717181391601,{"$f":" IF(Foglio1!$C$9 <> \"\", 8.314472*Foglio1!$C$9*Foglio2!B808, NA())","v":{"$error":"#N/A"}},{"$error":"#N/A"},7219,8.8844717181391601,{"$f":" IF(Foglio1!$C$10 <> \"\", 8.314472*Foglio1!$C$10*Foglio2!F808, NA())","v":{"$error":"#N/A"}},{"$error":"#N/A"},7219,8.8844717181391601,{"$f":" IF(Foglio1!$C$11 <> \"\", 8.314472*Foglio1!$C$11*Foglio2!J808, NA())","v":{"$error":"#N/A"}},{"$error":"#N/A"},7219,8.8844717181391601,{"$f":" IF(Foglio1!$C$12 <> \"\", 8.314472*Foglio1!$C$12*Foglio2!N808, NA())","v":{"$error":"#N/A"}},{"$error":"#N/A"},7219,8.8844717181391601,{"$f":" IF(Foglio1!$C$13 <> \"\", 8.314472*Foglio1!$C$13*Foglio2!R808, NA())","v":{"$error":"#N/A"}},{"$error":"#N/A"}]
[7228,8.8857176517121186,{"$f":" IF(Foglio1!$C$9 <> \"\", 8.314472*Foglio1!$C$9*Foglio2!B809, NA())","v":{"$error":"#N/A"}},{"$error":"#N/A"},7228,8.8857176517121186,{"$f":" IF(Foglio1!$C$10 <> \"\", 8.314472*Foglio1!$C$10*Foglio2!F809, NA())","v":{"$error":"#N/A"}},{"$error":"#N/A"},7228,8.8857176517121186,{"$f":" IF(Foglio1!$C$11 <> \"\", 8.314472*Foglio1!$C$11*Foglio2!J809, NA())","v":{"$error":"#N/A"}},{"$error":"#N/A"},7228,8.8857176517121186,{"$f":" IF(Foglio1!$C$12 <> \"\", 8.314472*Foglio1!$C$12*Foglio2!N809, NA())","v":{"$error":"#N/A"}},{"$error":"#N/A"},7228,8.8857176517121186,{"$f":" IF(Foglio1!$C$13 <> \"\", 8.314472*Foglio1!$C$13*Foglio2!R809, NA())","v":{"$error":"#N/A"}},{"$error":"#N/A"}]
[7237,8.8869620348661282,{"$f":" IF(Foglio1!$C$9 <> \"\", 8.314472*Foglio1!$C$9*Foglio2!B810, NA())","v":{"$error":"#N/A"}},{"$error":"#N/A"},7237,8.8869620348661282,{"$f":" IF(Foglio1!$C$10 <> \"\", 8.314472*Foglio1!$C$10*Foglio2!F810, NA())","v":{"$error":"#N/A"}},{"$error":"#N/A"},7237,8.8869620348661282,{"$f":" IF(Foglio1!$C$11 <> \"\", 8.314472*Foglio1!$C$11*Foglio2!J810, NA())","v":{"$error":"#N/A"}},{"$error":"#N/A"},7237,8.8869620348661282,{"$f":" IF(Foglio1!$C$12 <> \"\", 8.314472*Foglio1!$C$12*Foglio2!N810, NA())","v":{"$error":"#N/A"}},{"$error":"#N/A"},7237,8.8869620348661282,{"$f":" IF(Foglio1!$C$13 <> \"\", 8.314472*Foglio1!$C$13*Foglio2!R810, NA())","v":{"$error":"#N/A"}},{"$error":"#N/A"}]
[7246,8.8882048714550219,{"$f":" IF(Foglio1!$C$9 <> \"\", 8.314472*Foglio1!$C$9*Foglio2!B811, NA())","v":{"$error":"#N/A"}},{"$error":"#N/A"},7246,8.8882048714550219,{"$f":" IF(Foglio1!$C$10 <> \"\", 8.314472*Foglio1!$C$10*Foglio2!F811, NA())","v":{"$error":"#N/A"}},{"$error":"#N/A"},7246,8.8882048714550219,{"$f":" IF(Foglio1!$C$11 <> \"\", 8.314472*Foglio1!$C$11*Foglio2!J811, NA())","v":{"$error":"#N/A"}},{"$error":"#N/A"},7246,8.8882048714550219,{"$f":" IF(Foglio1!$C$12 <> \"\", 8.314472*Foglio1!$C$12*Foglio2!N811, NA())","v":{"$error":"#N/A"}},{"$error":"#N/A"},7246,8.8882048714550219,{"$f":" IF(Foglio1!$C$13 <> \"\", 8.314472*Foglio1!$C$13*Foglio2!R811, NA())","v":{"$error":"#N/A"}},{"$error":"#N/A"}]
[7255,8.8894461653182884,{"$f":" IF(Foglio1!$C$9 <> \"\", 8.314472*Foglio1!$C$9*Foglio2!B812, NA())","v":{"$error":"#N/A"}},{"$error":"#N/A"},7255,8.8894461653182884,{"$f":" IF(Foglio1!$C$10 <> \"\", 8.314472*Foglio1!$C$10*Foglio2!F812, NA())","v":{"$error":"#N/A"}},{"$error":"#N/A"},7255,8.8894461653182884,{"$f":" IF(Foglio1!$C$11 <> \"\", 8.314472*Foglio1!$C$11*Foglio2!J812, NA())","v":{"$error":"#N/A"}},{"$error":"#N/A"},7255,8.8894461653182884,{"$f":" IF(Foglio1!$C$12 <> \"\", 8.314472*Foglio1!$C$12*Foglio2!N812, NA())","v":{"$error":"#N/A"}},{"$error":"#N/A"},7255,8.8894461653182884,{"$f":" IF(Foglio1!$C$13 <> \"\", 8.314472*Foglio1!$C$13*Foglio2!R812, NA())","v":{"$error":"#N/A"}},{"$error":"#N/A"}]
[7264,8.890685920281129,{"$f":" IF(Foglio1!$C$9 <> \"\", 8.314472*Foglio1!$C$9*Foglio2!B813, NA())","v":{"$error":"#N/A"}},{"$error":"#N/A"},7264,8.890685920281129,{"$f":" IF(Foglio1!$C$10 <> \"\", 8.314472*Foglio1!$C$10*Foglio2!F813, NA())","v":{"$error":"#N/A"}},{"$error":"#N/A"},7264,8.890685920281129,{"$f":" IF(Foglio1!$C$11 <> \"\", 8.314472*Foglio1!$C$11*Foglio2!J813, NA())","v":{"$error":"#N/A"}},{"$error":"#N/A"},7264,8.890685920281129,{"$f":" IF(Foglio1!$C$12 <> \"\", 8.314472*Foglio1!$C$12*Foglio2!N813, NA())","v":{"$error":"#N/A"}},{"$error":"#N/A"},7264,8.890685920281129,{"$f":" IF(Foglio1!$C$13 <> \"\", 8.314472*Foglio1!$C$13*Foglio2!R813, NA())","v":{"$error":"#N/A"}},{"$error":"#N/A"}]
[7273,8.8919241401545399,{"$f":" IF(Foglio1!$C$9 <> \"\", 8.314472*Foglio1!$C$9*Foglio2!B814, NA())","v":{"$error":"#N/A"}},{"$error":"#N/A"},7273,8.8919241401545399,{"$f":" IF(Foglio1!$C$10 <> \"\", 8.314472*Foglio1!$C$10*Foglio2!F814, NA())","v":{"$error":"#N/A"}},{"$error":"#N/A"},7273,8.8919241401545399,{"$f":" IF(Foglio1!$C$11 <> \"\", 8.314472*Foglio1!$C$11*Foglio2!J814, NA())","v":{"$error":"#N/A"}},{"$error":"#N/A"},7273,8.8919241401545399,{"$f":" IF(Foglio1!$C$12 <> \"\", 8.314472*Foglio1!$C$12*Foglio2!N814, NA())","v":{"$error":"#N/A"}},{"$error":"#N/A"},7273,8.8919241401545399,{"$f":" IF(Foglio1!$C$13 <> \"\", 8.314472*Foglio1!$C$13*Foglio2!R814, NA())","v":{"$error":"#N/A"}},{"$error":"#N/A"}]
[7282,8.8931608287353789,{"$f":" IF(Foglio1!$C$9 <> \"\", 8.314472*Foglio1!$C$9*Foglio2!B815, NA())","v":{"$error":"#N/A"}},{"$error":"#N/A"},7282,8.8931608287353789,{"$f":" IF(Foglio1!$C$10 <> \"\", 8.314472*Foglio1!$C$10*Foglio2!F815, NA())","v":{"$error":"#N/A"}},{"$error":"#N/A"},7282,8.8931608287353789,{"$f":" IF(Foglio1!$C$11 <> \"\", 8.314472*Foglio1!$C$11*Foglio2!J815, NA())","v":{"$error":"#N/A"}},{"$error":"#N/A"},7282,8.8931608287353789,{"$f":" IF(Foglio1!$C$12 <> \"\", 8.314472*Foglio1!$C$12*Foglio2!N815, NA())","v":{"$error":"#N/A"}},{"$error":"#N/A"},7282,8.8931608287353789,{"$f":" IF(Foglio1!$C$13 <> \"\", 8.314472*Foglio1!$C$13*Foglio2!R815, NA())","v":{"$error":"#N/A"}},{"$error":"#N/A"}]
[7291,8.89439598980643,{"$f":" IF(Foglio1!$C$9 <> \"\", 8.314472*Foglio1!$C$9*Foglio2!B816, NA())","v":{"$error":"#N/A"}},{"$error":"#N/A"},7291,8.89439598980643,{"$f":" IF(Foglio1!$C$10 <> \"\", 8.314472*Foglio1!$C$10*Foglio2!F816, NA())","v":{"$error":"#N/A"}},{"$error":"#N/A"},7291,8.89439598980643,{"$f":" IF(Foglio1!$C$11 <> \"\", 8.314472*Foglio1!$C$11*Foglio2!J816, NA())","v":{"$error":"#N/A"}},{"$error":"#N/A"},7291,8.89439598980643,{"$f":" IF(Foglio1!$C$12 <> \"\", 8.314472*Foglio1!$C$12*Foglio2!N816, NA())","v":{"$error":"#N/A"}},{"$error":"#N/A"},7291,8.89439598980643,{"$f":" IF(Foglio1!$C$13 <> \"\", 8.314472*Foglio1!$C$13*Foglio2!R816, NA())","v":{"$error":"#N/A"}},{"$error":"#N/A"}]
[7300,8.8956296271364828,{"$f":" IF(Foglio1!$C$9 <> \"\", 8.314472*Foglio1!$C$9*Foglio2!B817, NA())","v":{"$error":"#N/A"}},{"$error":"#N/A"},7300,8.8956296271364828,{"$f":" IF(Foglio1!$C$10 <> \"\", 8.314472*Foglio1!$C$10*Foglio2!F817, NA())","v":{"$error":"#N/A"}},{"$error":"#N/A"},7300,8.8956296271364828,{"$f":" IF(Foglio1!$C$11 <> \"\", 8.314472*Foglio1!$C$11*Foglio2!J817, NA())","v":{"$error":"#N/A"}},{"$error":"#N/A"},7300,8.8956296271364828,{"$f":" IF(Foglio1!$C$12 <> \"\", 8.314472*Foglio1!$C$12*Foglio2!N817, NA())","v":{"$error":"#N/A"}},{"$error":"#N/A"},7300,8.8956296271364828,{"$f":" IF(Foglio1!$C$13 <> \"\", 8.314472*Foglio1!$C$13*Foglio2!R817, NA())","v":{"$error":"#N/A"}},{"$error":"#N/A"}]
[7309,8.8968617444803915,{"$f":" IF(Foglio1!$C$9 <> \"\", 8.314472*Foglio1!$C$9*Foglio2!B818, NA())","v":{"$error":"#N/A"}},{"$error":"#N/A"},7309,8.8968617444803915,{"$f":" IF(Foglio1!$C$10 <> \"\", 8.314472*Foglio1!$C$10*Foglio2!F818, NA())","v":{"$error":"#N/A"}},{"$error":"#N/A"},7309,8.8968617444803915,{"$f":" IF(Foglio1!$C$11 <> \"\", 8.314472*Foglio1!$C$11*Foglio2!J818, NA())","v":{"$error":"#N/A"}},{"$error":"#N/A"},7309,8.8968617444803915,{"$f":" IF(Foglio1!$C$12 <> \"\", 8.314472*Foglio1!$C$12*Foglio2!N818, NA())","v":{"$error":"#N/A"}},{"$error":"#N/A"},7309,8.8968617444803915,{"$f":" IF(Foglio1!$C$13 <> \"\", 8.314472*Foglio1!$C$13*Foglio2!R818, NA())","v":{"$error":"#N/A"}},{"$error":"#N/A"}]
[7318,8.898092345579153,{"$f":" IF(Foglio1!$C$9 <> \"\", 8.314472*Foglio1!$C$9*Foglio2!B819, NA())","v":{"$error":"#N/A"}},{"$error":"#N/A"},7318,8.898092345579153,{"$f":" IF(Foglio1!$C$10 <> \"\", 8.314472*Foglio1!$C$10*Foglio2!F819, NA())","v":{"$error":"#N/A"}},{"$error":"#N/A"},7318,8.898092345579153,{"$f":" IF(Foglio1!$C$11 <> \"\", 8.314472*Foglio1!$C$11*Foglio2!J819, NA())","v":{"$error":"#N/A"}},{"$error":"#N/A"},7318,8.898092345579153,{"$f":" IF(Foglio1!$C$12 <> \"\", 8.314472*Foglio1!$C$12*Foglio2!N819, NA())","v":{"$error":"#N/A"}},{"$error":"#N/A"},7318,8.898092345579153,{"$f":" IF(Foglio1!$C$13 <> \"\", 8.314472*Foglio1!$C$13*Foglio2!R819, NA())","v":{"$error":"#N/A"}},{"$error":"#N/A"}]
[7327,8.8993214341599636,{"$f":" IF(Foglio1!$C$9 <> \"\", 8.314472*Foglio1!$C$9*Foglio2!B820, NA())","v":{"$error":"#N/A"}},{"$error":"#N/A"},7327,8.8993214341599636,{"$f":" IF(Foglio1!$C$10 <> \"\", 8.314472*Foglio1!$C$10*Foglio2!F820, NA())","v":{"$error":"#N/A"}},{"$error":"#N/A"},7327,8.8993214341599636,{"$f":" IF(Foglio1!$C$11 <> \"\", 8.314472*Foglio1!$C$11*Foglio2!J820, NA())","v":{"$error":"#N/A"}},{"$error":"#N/A"},7327,8.8993214341599636,{"$f":" IF(Foglio1!$C$12 <> \"\", 8.314472*Foglio1!$C$12*Foglio2!N820, NA())","v":{"$error":"#N/A"}},{"$error":"#N/A"},7327,8.8993214341599636,{"$f":" IF(Foglio1!$C$13 <> \"\", 8.314472*Foglio1!$C$13*Foglio2!R820, NA())","v":{"$error":"#N/A"}},{"$error":"#N/A"}]
[7336,8.9005490139363008,{"$f":" IF(Foglio1!$C$9 <> \"\", 8.314472*Foglio1!$C$9*Foglio2!B821, NA())","v":{"$error":"#N/A"}},{"$error":"#N/A"},7336,8.9005490139363008,{"$f":" IF(Foglio1!$C$10 <> \"\", 8.314472*Foglio1!$C$10*Foglio2!F821, NA())","v":{"$error":"#N/A"}},{"$error":"#N/A"},7336,8.9005490139363008,{"$f":" IF(Foglio1!$C$11 <> \"\", 8.314472*Foglio1!$C$11*Foglio2!J821, NA())","v":{"$error":"#N/A"}},{"$error":"#N/A"},7336,8.9005490139363008,{"$f":" IF(Foglio1!$C$12 <> \"\", 8.314472*Foglio1!$C$12*Foglio2!N821, NA())","v":{"$error":"#N/A"}},{"$error":"#N/A"},7336,8.9005490139363008,{"$f":" IF(Foglio1!$C$13 <> \"\", 8.314472*Foglio1!$C$13*Foglio2!R821, NA())","v":{"$error":"#N/A"}},{"$error":"#N/A"}]
[7345,8.9017750886079785,{"$f":" IF(Foglio1!$C$9 <> \"\", 8.314472*Foglio1!$C$9*Foglio2!B822, NA())","v":{"$error":"#N/A"}},{"$error":"#N/A"},7345,8.9017750886079785,{"$f":" IF(Foglio1!$C$10 <> \"\", 8.314472*Foglio1!$C$10*Foglio2!F822, NA())","v":{"$error":"#N/A"}},{"$error":"#N/A"},7345,8.9017750886079785,{"$f":" IF(Foglio1!$C$11 <> \"\", 8.314472*Foglio1!$C$11*Foglio2!J822, NA())","v":{"$error":"#N/A"}},{"$error":"#N/A"},7345,8.9017750886079785,{"$f":" IF(Foglio1!$C$12 <> \"\", 8.314472*Foglio1!$C$12*Foglio2!N822, NA())","v":{"$error":"#N/A"}},{"$error":"#N/A"},7345,8.9017750886079785,{"$f":" IF(Foglio1!$C$13 <> \"\", 8.314472*Foglio1!$C$13*Foglio2!R822, NA())","v":{"$error":"#N/A"}},{"$error":"#N/A"}]
[7354,8.9029996618612177,{"$f":" IF(Foglio1!$C$9 <> \"\", 8.314472*Foglio1!$C$9*Foglio2!B823, NA())","v":{"$error":"#N/A"}},{"$error":"#N/A"},7354,8.9029996618612177,{"$f":" IF(Foglio1!$C$10 <> \"\", 8.314472*Foglio1!$C$10*Foglio2!F823, NA())","v":{"$error":"#N/A"}},{"$error":"#N/A"},7354,8.9029996618612177,{"$f":" IF(Foglio1!$C$11 <> \"\", 8.314472*Foglio1!$C$11*Foglio2!J823, NA())","v":{"$error":"#N/A"}},{"$error":"#N/A"},7354,8.9029996618612177,{"$f":" IF(Foglio1!$C$12 <> \"\", 8.314472*Foglio1!$C$12*Foglio2!N823, NA())","v":{"$error":"#N/A"}},{"$error":"#N/A"},7354,8.9029996618612177,{"$f":" IF(Foglio1!$C$13 <> \"\", 8.314472*Foglio1!$C$13*Foglio2!R823, NA())","v":{"$error":"#N/A"}},{"$error":"#N/A"}]
[7363,8.9042227373687162,{"$f":" IF(Foglio1!$C$9 <> \"\", 8.314472*Foglio1!$C$9*Foglio2!B824, NA())","v":{"$error":"#N/A"}},{"$error":"#N/A"},7363,8.9042227373687162,{"$f":" IF(Foglio1!$C$10 <> \"\", 8.314472*Foglio1!$C$10*Foglio2!F824, NA())","v":{"$error":"#N/A"}},{"$error":"#N/A"},7363,8.9042227373687162,{"$f":" IF(Foglio1!$C$11 <> \"\", 8.314472*Foglio1!$C$11*Foglio2!J824, NA())","v":{"$error":"#N/A"}},{"$error":"#N/A"},7363,8.9042227373687162,{"$f":" IF(Foglio1!$C$12 <> \"\", 8.314472*Foglio1!$C$12*Foglio2!N824, NA())","v":{"$error":"#N/A"}},{"$error":"#N/A"},7363,8.9042227373687162,{"$f":" IF(Foglio1!$C$13 <> \"\", 8.314472*Foglio1!$C$13*Foglio2!R824, NA())","v":{"$error":"#N/A"}},{"$error":"#N/A"}]
[7372,8.9054443187897139,{"$f":" IF(Foglio1!$C$9 <> \"\", 8.314472*Foglio1!$C$9*Foglio2!B825, NA())","v":{"$error":"#N/A"}},{"$error":"#N/A"},7372,8.9054443187897139,{"$f":" IF(Foglio1!$C$10 <> \"\", 8.314472*Foglio1!$C$10*Foglio2!F825, NA())","v":{"$error":"#N/A"}},{"$error":"#N/A"},7372,8.9054443187897139,{"$f":" IF(Foglio1!$C$11 <> \"\", 8.314472*Foglio1!$C$11*Foglio2!J825, NA())","v":{"$error":"#N/A"}},{"$error":"#N/A"},7372,8.9054443187897139,{"$f":" IF(Foglio1!$C$12 <> \"\", 8.314472*Foglio1!$C$12*Foglio2!N825, NA())","v":{"$error":"#N/A"}},{"$error":"#N/A"},7372,8.9054443187897139,{"$f":" IF(Foglio1!$C$13 <> \"\", 8.314472*Foglio1!$C$13*Foglio2!R825, NA())","v":{"$error":"#N/A"}},{"$error":"#N/A"}]
[7381,8.9066644097700518,{"$f":" IF(Foglio1!$C$9 <> \"\", 8.314472*Foglio1!$C$9*Foglio2!B826, NA())","v":{"$error":"#N/A"}},{"$error":"#N/A"},7381,8.9066644097700518,{"$f":" IF(Foglio1!$C$10 <> \"\", 8.314472*Foglio1!$C$10*Foglio2!F826, NA())","v":{"$error":"#N/A"}},{"$error":"#N/A"},7381,8.9066644097700518,{"$f":" IF(Foglio1!$C$11 <> \"\", 8.314472*Foglio1!$C$11*Foglio2!J826, NA())","v":{"$error":"#N/A"}},{"$error":"#N/A"},7381,8.9066644097700518,{"$f":" IF(Foglio1!$C$12 <> \"\", 8.314472*Foglio1!$C$12*Foglio2!N826, NA())","v":{"$error":"#N/A"}},{"$error":"#N/A"},7381,8.9066644097700518,{"$f":" IF(Foglio1!$C$13 <> \"\", 8.314472*Foglio1!$C$13*Foglio2!R826, NA())","v":{"$error":"#N/A"}},{"$error":"#N/A"}]
[7390,8.9078830139422482,{"$f":" IF(Foglio1!$C$9 <> \"\", 8.314472*Foglio1!$C$9*Foglio2!B827, NA())","v":{"$error":"#N/A"}},{"$error":"#N/A"},7390,8.9078830139422482,{"$f":" IF(Foglio1!$C$10 <> \"\", 8.314472*Foglio1!$C$10*Foglio2!F827, NA())","v":{"$error":"#N/A"}},{"$error":"#N/A"},7390,8.9078830139422482,{"$f":" IF(Foglio1!$C$11 <> \"\", 8.314472*Foglio1!$C$11*Foglio2!J827, NA())","v":{"$error":"#N/A"}},{"$error":"#N/A"},7390,8.9078830139422482,{"$f":" IF(Foglio1!$C$12 <> \"\", 8.314472*Foglio1!$C$12*Foglio2!N827, NA())","v":{"$error":"#N/A"}},{"$error":"#N/A"},7390,8.9078830139422482,{"$f":" IF(Foglio1!$C$13 <> \"\", 8.314472*Foglio1!$C$13*Foglio2!R827, NA())","v":{"$error":"#N/A"}},{"$error":"#N/A"}]
[7399,8.9091001349255503,{"$f":" IF(Foglio1!$C$9 <> \"\", 8.314472*Foglio1!$C$9*Foglio2!B828, NA())","v":{"$error":"#N/A"}},{"$error":"#N/A"},7399,8.9091001349255503,{"$f":" IF(Foglio1!$C$10 <> \"\", 8.314472*Foglio1!$C$10*Foglio2!F828, NA())","v":{"$error":"#N/A"}},{"$error":"#N/A"},7399,8.9091001349255503,{"$f":" IF(Foglio1!$C$11 <> \"\", 8.314472*Foglio1!$C$11*Foglio2!J828, NA())","v":{"$error":"#N/A"}},{"$error":"#N/A"},7399,8.9091001349255503,{"$f":" IF(Foglio1!$C$12 <> \"\", 8.314472*Foglio1!$C$12*Foglio2!N828, NA())","v":{"$error":"#N/A"}},{"$error":"#N/A"},7399,8.9091001349255503,{"$f":" IF(Foglio1!$C$13 <> \"\", 8.314472*Foglio1!$C$13*Foglio2!R828, NA())","v":{"$error":"#N/A"}},{"$error":"#N/A"}]
[7408,8.9103157763260157,{"$f":" IF(Foglio1!$C$9 <> \"\", 8.314472*Foglio1!$C$9*Foglio2!B829, NA())","v":{"$error":"#N/A"}},{"$error":"#N/A"},7408,8.9103157763260157,{"$f":" IF(Foglio1!$C$10 <> \"\", 8.314472*Foglio1!$C$10*Foglio2!F829, NA())","v":{"$error":"#N/A"}},{"$error":"#N/A"},7408,8.9103157763260157,{"$f":" IF(Foglio1!$C$11 <> \"\", 8.314472*Foglio1!$C$11*Foglio2!J829, NA())","v":{"$error":"#N/A"}},{"$error":"#N/A"},7408,8.9103157763260157,{"$f":" IF(Foglio1!$C$12 <> \"\", 8.314472*Foglio1!$C$12*Foglio2!N829, NA())","v":{"$error":"#N/A"}},{"$error":"#N/A"},7408,8.9103157763260157,{"$f":" IF(Foglio1!$C$13 <> \"\", 8.314472*Foglio1!$C$13*Foglio2!R829, NA())","v":{"$error":"#N/A"}},{"$error":"#N/A"}]
[7417,8.9115299417365588,{"$f":" IF(Foglio1!$C$9 <> \"\", 8.314472*Foglio1!$C$9*Foglio2!B830, NA())","v":{"$error":"#N/A"}},{"$error":"#N/A"},7417,8.9115299417365588,{"$f":" IF(Foglio1!$C$10 <> \"\", 8.314472*Foglio1!$C$10*Foglio2!F830, NA())","v":{"$error":"#N/A"}},{"$error":"#N/A"},7417,8.9115299417365588,{"$f":" IF(Foglio1!$C$11 <> \"\", 8.314472*Foglio1!$C$11*Foglio2!J830, NA())","v":{"$error":"#N/A"}},{"$error":"#N/A"},7417,8.9115299417365588,{"$f":" IF(Foglio1!$C$12 <> \"\", 8.314472*Foglio1!$C$12*Foglio2!N830, NA())","v":{"$error":"#N/A"}},{"$error":"#N/A"},7417,8.9115299417365588,{"$f":" IF(Foglio1!$C$13 <> \"\", 8.314472*Foglio1!$C$13*Foglio2!R830, NA())","v":{"$error":"#N/A"}},{"$error":"#N/A"}]
[7426,8.9127426347370253,{"$f":" IF(Foglio1!$C$9 <> \"\", 8.314472*Foglio1!$C$9*Foglio2!B831, NA())","v":{"$error":"#N/A"}},{"$error":"#N/A"},7426,8.9127426347370253,{"$f":" IF(Foglio1!$C$10 <> \"\", 8.314472*Foglio1!$C$10*Foglio2!F831, NA())","v":{"$error":"#N/A"}},{"$error":"#N/A"},7426,8.9127426347370253,{"$f":" IF(Foglio1!$C$11 <> \"\", 8.314472*Foglio1!$C$11*Foglio2!J831, NA())","v":{"$error":"#N/A"}},{"$error":"#N/A"},7426,8.9127426347370253,{"$f":" IF(Foglio1!$C$12 <> \"\", 8.314472*Foglio1!$C$12*Foglio2!N831, NA())","v":{"$error":"#N/A"}},{"$error":"#N/A"},7426,8.9127426347370253,{"$f":" IF(Foglio1!$C$13 <> \"\", 8.314472*Foglio1!$C$13*Foglio2!R831, NA())","v":{"$error":"#N/A"}},{"$error":"#N/A"}]
[7435,8.9139538588942546,{"$f":" IF(Foglio1!$C$9 <> \"\", 8.314472*Foglio1!$C$9*Foglio2!B832, NA())","v":{"$error":"#N/A"}},{"$error":"#N/A"},7435,8.9139538588942546,{"$f":" IF(Foglio1!$C$10 <> \"\", 8.314472*Foglio1!$C$10*Foglio2!F832, NA())","v":{"$error":"#N/A"}},{"$error":"#N/A"},7435,8.9139538588942546,{"$f":" IF(Foglio1!$C$11 <> \"\", 8.314472*Foglio1!$C$11*Foglio2!J832, NA())","v":{"$error":"#N/A"}},{"$error":"#N/A"},7435,8.9139538588942546,{"$f":" IF(Foglio1!$C$12 <> \"\", 8.314472*Foglio1!$C$12*Foglio2!N832, NA())","v":{"$error":"#N/A"}},{"$error":"#N/A"},7435,8.9139538588942546,{"$f":" IF(Foglio1!$C$13 <> \"\", 8.314472*Foglio1!$C$13*Foglio2!R832, NA())","v":{"$error":"#N/A"}},{"$error":"#N/A"}]
[7444,8.9151636177621416,{"$f":" IF(Foglio1!$C$9 <> \"\", 8.314472*Foglio1!$C$9*Foglio2!B833, NA())","v":{"$error":"#N/A"}},{"$error":"#N/A"},7444,8.9151636177621416,{"$f":" IF(Foglio1!$C$10 <> \"\", 8.314472*Foglio1!$C$10*Foglio2!F833, NA())","v":{"$error":"#N/A"}},{"$error":"#N/A"},7444,8.9151636177621416,{"$f":" IF(Foglio1!$C$11 <> \"\", 8.314472*Foglio1!$C$11*Foglio2!J833, NA())","v":{"$error":"#N/A"}},{"$error":"#N/A"},7444,8.9151636177621416,{"$f":" IF(Foglio1!$C$12 <> \"\", 8.314472*Foglio1!$C$12*Foglio2!N833, NA())","v":{"$error":"#N/A"}},{"$error":"#N/A"},7444,8.9151636177621416,{"$f":" IF(Foglio1!$C$13 <> \"\", 8.314472*Foglio1!$C$13*Foglio2!R833, NA())","v":{"$error":"#N/A"}},{"$error":"#N/A"}]
[7453,8.9163719148816938,{"$f":" IF(Foglio1!$C$9 <> \"\", 8.314472*Foglio1!$C$9*Foglio2!B834, NA())","v":{"$error":"#N/A"}},{"$error":"#N/A"},7453,8.9163719148816938,{"$f":" IF(Foglio1!$C$10 <> \"\", 8.314472*Foglio1!$C$10*Foglio2!F834, NA())","v":{"$error":"#N/A"}},{"$error":"#N/A"},7453,8.9163719148816938,{"$f":" IF(Foglio1!$C$11 <> \"\", 8.314472*Foglio1!$C$11*Foglio2!J834, NA())","v":{"$error":"#N/A"}},{"$error":"#N/A"},7453,8.9163719148816938,{"$f":" IF(Foglio1!$C$12 <> \"\", 8.314472*Foglio1!$C$12*Foglio2!N834, NA())","v":{"$error":"#N/A"}},{"$error":"#N/A"},7453,8.9163719148816938,{"$f":" IF(Foglio1!$C$13 <> \"\", 8.314472*Foglio1!$C$13*Foglio2!R834, NA())","v":{"$error":"#N/A"}},{"$error":"#N/A"}]
[7462,{"$f":"LN(A835)","v":8.917578753781104},{"$f":" IF(Foglio1!$C$9 <> \"\", 8.314472*Foglio1!$C$9*Foglio2!B835, NA())","v":{"$error":"#N/A"}},{"$f":"  -30.5 + C835*10^-3","v":{"$error":"#N/A"}},7462,{"$f":"LN(E835)","v":8.917578753781104},{"$f":" IF(Foglio1!$C$10 <> \"\", 8.314472*Foglio1!$C$10*Foglio2!F835, NA())","v":{"$error":"#N/A"}},{"$f":" -30.5+ G835*10^-3","v":{"$error":"#N/A"}},7462,{"$f":"LN(I835)","v":8.917578753781104},{"$f":" IF(Foglio1!$C$11 <> \"\", 8.314472*Foglio1!$C$11*Foglio2!J835, NA())","v":{"$error":"#N/A"}},{"$f":" -30.5+ K835*10^-3","v":{"$error":"#N/A"}},7462,{"$f":"LN(M835)","v":8.917578753781104},{"$f":" IF(Foglio1!$C$12 <> \"\", 8.314472*Foglio1!$C$12*Foglio2!N835, NA())","v":{"$error":"#N/A"}},{"$f":" -30.5+ O835*10^-3","v":{"$error":"#N/A"}},7462,{"$f":"LN(Q835)","v":8.917578753781104},{"$f":" IF(Foglio1!$C$13 <> \"\", 8.314472*Foglio1!$C$13*Foglio2!R835, NA())","v":{"$error":"#N/A"}},{"$f":" -30.5+S835*10^-3","v":{"$error":"#N/A"}}]
[7471,8.9187841379758019,{"$f":" IF(Foglio1!$C$9 <> \"\", 8.314472*Foglio1!$C$9*Foglio2!B836, NA())","v":{"$error":"#N/A"}},{"$error":"#N/A"},7471,8.9187841379758019,{"$f":" IF(Foglio1!$C$10 <> \"\", 8.314472*Foglio1!$C$10*Foglio2!F836, NA())","v":{"$error":"#N/A"}},{"$error":"#N/A"},7471,8.9187841379758019,{"$f":" IF(Foglio1!$C$11 <> \"\", 8.314472*Foglio1!$C$11*Foglio2!J836, NA())","v":{"$error":"#N/A"}},{"$error":"#N/A"},7471,8.9187841379758019,{"$f":" IF(Foglio1!$C$12 <> \"\", 8.314472*Foglio1!$C$12*Foglio2!N836, NA())","v":{"$error":"#N/A"}},{"$error":"#N/A"},7471,8.9187841379758019,{"$f":" IF(Foglio1!$C$13 <> \"\", 8.314472*Foglio1!$C$13*Foglio2!R836, NA())","v":{"$error":"#N/A"}},{"$error":"#N/A"}]
[7480,8.9199880709685235,{"$f":" IF(Foglio1!$C$9 <> \"\", 8.314472*Foglio1!$C$9*Foglio2!B837, NA())","v":{"$error":"#N/A"}},{"$error":"#N/A"},7480,8.9199880709685235,{"$f":" IF(Foglio1!$C$10 <> \"\", 8.314472*Foglio1!$C$10*Foglio2!F837, NA())","v":{"$error":"#N/A"}},{"$error":"#N/A"},7480,8.9199880709685235,{"$f":" IF(Foglio1!$C$11 <> \"\", 8.314472*Foglio1!$C$11*Foglio2!J837, NA())","v":{"$error":"#N/A"}},{"$error":"#N/A"},7480,8.9199880709685235,{"$f":" IF(Foglio1!$C$12 <> \"\", 8.314472*Foglio1!$C$12*Foglio2!N837, NA())","v":{"$error":"#N/A"}},{"$error":"#N/A"},7480,8.9199880709685235,{"$f":" IF(Foglio1!$C$13 <> \"\", 8.314472*Foglio1!$C$13*Foglio2!R837, NA())","v":{"$error":"#N/A"}},{"$error":"#N/A"}]
[7489,8.9211905562493676,{"$f":" IF(Foglio1!$C$9 <> \"\", 8.314472*Foglio1!$C$9*Foglio2!B838, NA())","v":{"$error":"#N/A"}},{"$error":"#N/A"},7489,8.9211905562493676,{"$f":" IF(Foglio1!$C$10 <> \"\", 8.314472*Foglio1!$C$10*Foglio2!F838, NA())","v":{"$error":"#N/A"}},{"$error":"#N/A"},7489,8.9211905562493676,{"$f":" IF(Foglio1!$C$11 <> \"\", 8.314472*Foglio1!$C$11*Foglio2!J838, NA())","v":{"$error":"#N/A"}},{"$error":"#N/A"},7489,8.9211905562493676,{"$f":" IF(Foglio1!$C$12 <> \"\", 8.314472*Foglio1!$C$12*Foglio2!N838, NA())","v":{"$error":"#N/A"}},{"$error":"#N/A"},7489,8.9211905562493676,{"$f":" IF(Foglio1!$C$13 <> \"\", 8.314472*Foglio1!$C$13*Foglio2!R838, NA())","v":{"$error":"#N/A"}},{"$error":"#N/A"}]
[7498,8.9223915972958565,{"$f":" IF(Foglio1!$C$9 <> \"\", 8.314472*Foglio1!$C$9*Foglio2!B839, NA())","v":{"$error":"#N/A"}},{"$error":"#N/A"},7498,8.9223915972958565,{"$f":" IF(Foglio1!$C$10 <> \"\", 8.314472*Foglio1!$C$10*Foglio2!F839, NA())","v":{"$error":"#N/A"}},{"$error":"#N/A"},7498,8.9223915972958565,{"$f":" IF(Foglio1!$C$11 <> \"\", 8.314472*Foglio1!$C$11*Foglio2!J839, NA())","v":{"$error":"#N/A"}},{"$error":"#N/A"},7498,8.9223915972958565,{"$f":" IF(Foglio1!$C$12 <> \"\", 8.314472*Foglio1!$C$12*Foglio2!N839, NA())","v":{"$error":"#N/A"}},{"$error":"#N/A"},7498,8.9223915972958565,{"$f":" IF(Foglio1!$C$13 <> \"\", 8.314472*Foglio1!$C$13*Foglio2!R839, NA())","v":{"$error":"#N/A"}},{"$error":"#N/A"}]
[7507,8.9235911975730016,{"$f":" IF(Foglio1!$C$9 <> \"\", 8.314472*Foglio1!$C$9*Foglio2!B840, NA())","v":{"$error":"#N/A"}},{"$error":"#N/A"},7507,8.9235911975730016,{"$f":" IF(Foglio1!$C$10 <> \"\", 8.314472*Foglio1!$C$10*Foglio2!F840, NA())","v":{"$error":"#N/A"}},{"$error":"#N/A"},7507,8.9235911975730016,{"$f":" IF(Foglio1!$C$11 <> \"\", 8.314472*Foglio1!$C$11*Foglio2!J840, NA())","v":{"$error":"#N/A"}},{"$error":"#N/A"},7507,8.9235911975730016,{"$f":" IF(Foglio1!$C$12 <> \"\", 8.314472*Foglio1!$C$12*Foglio2!N840, NA())","v":{"$error":"#N/A"}},{"$error":"#N/A"},7507,8.9235911975730016,{"$f":" IF(Foglio1!$C$13 <> \"\", 8.314472*Foglio1!$C$13*Foglio2!R840, NA())","v":{"$error":"#N/A"}},{"$error":"#N/A"}]
[7516,8.9247893605333566,{"$f":" IF(Foglio1!$C$9 <> \"\", 8.314472*Foglio1!$C$9*Foglio2!B841, NA())","v":{"$error":"#N/A"}},{"$error":"#N/A"},7516,8.9247893605333566,{"$f":" IF(Foglio1!$C$10 <> \"\", 8.314472*Foglio1!$C$10*Foglio2!F841, NA())","v":{"$error":"#N/A"}},{"$error":"#N/A"},7516,8.9247893605333566,{"$f":" IF(Foglio1!$C$11 <> \"\", 8.314472*Foglio1!$C$11*Foglio2!J841, NA())","v":{"$error":"#N/A"}},{"$error":"#N/A"},7516,8.9247893605333566,{"$f":" IF(Foglio1!$C$12 <> \"\", 8.314472*Foglio1!$C$12*Foglio2!N841, NA())","v":{"$error":"#N/A"}},{"$error":"#N/A"},7516,8.9247893605333566,{"$f":" IF(Foglio1!$C$13 <> \"\", 8.314472*Foglio1!$C$13*Foglio2!R841, NA())","v":{"$error":"#N/A"}},{"$error":"#N/A"}]
[7525,8.9259860896170764,{"$f":" IF(Foglio1!$C$9 <> \"\", 8.314472*Foglio1!$C$9*Foglio2!B842, NA())","v":{"$error":"#N/A"}},{"$error":"#N/A"},7525,8.9259860896170764,{"$f":" IF(Foglio1!$C$10 <> \"\", 8.314472*Foglio1!$C$10*Foglio2!F842, NA())","v":{"$error":"#N/A"}},{"$error":"#N/A"},7525,8.9259860896170764,{"$f":" IF(Foglio1!$C$11 <> \"\", 8.314472*Foglio1!$C$11*Foglio2!J842, NA())","v":{"$error":"#N/A"}},{"$error":"#N/A"},7525,8.9259860896170764,{"$f":" IF(Foglio1!$C$12 <> \"\", 8.314472*Foglio1!$C$12*Foglio2!N842, NA())","v":{"$error":"#N/A"}},{"$error":"#N/A"},7525,8.9259860896170764,{"$f":" IF(Foglio1!$C$13 <> \"\", 8.314472*Foglio1!$C$13*Foglio2!R842, NA())","v":{"$error":"#N/A"}},{"$error":"#N/A"}]
[7534,8.9271813882519861,{"$f":" IF(Foglio1!$C$9 <> \"\", 8.314472*Foglio1!$C$9*Foglio2!B843, NA())","v":{"$error":"#N/A"}},{"$error":"#N/A"},7534,8.9271813882519861,{"$f":" IF(Foglio1!$C$10 <> \"\", 8.314472*Foglio1!$C$10*Foglio2!F843, NA())","v":{"$error":"#N/A"}},{"$error":"#N/A"},7534,8.9271813882519861,{"$f":" IF(Foglio1!$C$11 <> \"\", 8.314472*Foglio1!$C$11*Foglio2!J843, NA())","v":{"$error":"#N/A"}},{"$error":"#N/A"},7534,8.9271813882519861,{"$f":" IF(Foglio1!$C$12 <> \"\", 8.314472*Foglio1!$C$12*Foglio2!N843, NA())","v":{"$error":"#N/A"}},{"$error":"#N/A"},7534,8.9271813882519861,{"$f":" IF(Foglio1!$C$13 <> \"\", 8.314472*Foglio1!$C$13*Foglio2!R843, NA())","v":{"$error":"#N/A"}},{"$error":"#N/A"}]
[7543,8.928375259853631,{"$f":" IF(Foglio1!$C$9 <> \"\", 8.314472*Foglio1!$C$9*Foglio2!B844, NA())","v":{"$error":"#N/A"}},{"$error":"#N/A"},7543,8.928375259853631,{"$f":" IF(Foglio1!$C$10 <> \"\", 8.314472*Foglio1!$C$10*Foglio2!F844, NA())","v":{"$error":"#N/A"}},{"$error":"#N/A"},7543,8.928375259853631,{"$f":" IF(Foglio1!$C$11 <> \"\", 8.314472*Foglio1!$C$11*Foglio2!J844, NA())","v":{"$error":"#N/A"}},{"$error":"#N/A"},7543,8.928375259853631,{"$f":" IF(Foglio1!$C$12 <> \"\", 8.314472*Foglio1!$C$12*Foglio2!N844, NA())","v":{"$error":"#N/A"}},{"$error":"#N/A"},7543,8.928375259853631,{"$f":" IF(Foglio1!$C$13 <> \"\", 8.314472*Foglio1!$C$13*Foglio2!R844, NA())","v":{"$error":"#N/A"}},{"$error":"#N/A"}]
[7552,8.9295677078253366,{"$f":" IF(Foglio1!$C$9 <> \"\", 8.314472*Foglio1!$C$9*Foglio2!B845, NA())","v":{"$error":"#N/A"}},{"$error":"#N/A"},7552,8.9295677078253366,{"$f":" IF(Foglio1!$C$10 <> \"\", 8.314472*Foglio1!$C$10*Foglio2!F845, NA())","v":{"$error":"#N/A"}},{"$error":"#N/A"},7552,8.9295677078253366,{"$f":" IF(Foglio1!$C$11 <> \"\", 8.314472*Foglio1!$C$11*Foglio2!J845, NA())","v":{"$error":"#N/A"}},{"$error":"#N/A"},7552,8.9295677078253366,{"$f":" IF(Foglio1!$C$12 <> \"\", 8.314472*Foglio1!$C$12*Foglio2!N845, NA())","v":{"$error":"#N/A"}},{"$error":"#N/A"},7552,8.9295677078253366,{"$f":" IF(Foglio1!$C$13 <> \"\", 8.314472*Foglio1!$C$13*Foglio2!R845, NA())","v":{"$error":"#N/A"}},{"$error":"#N/A"}]
[7561,8.9307587355582694,{"$f":" IF(Foglio1!$C$9 <> \"\", 8.314472*Foglio1!$C$9*Foglio2!B846, NA())","v":{"$error":"#N/A"}},{"$error":"#N/A"},7561,8.9307587355582694,{"$f":" IF(Foglio1!$C$10 <> \"\", 8.314472*Foglio1!$C$10*Foglio2!F846, NA())","v":{"$error":"#N/A"}},{"$error":"#N/A"},7561,8.9307587355582694,{"$f":" IF(Foglio1!$C$11 <> \"\", 8.314472*Foglio1!$C$11*Foglio2!J846, NA())","v":{"$error":"#N/A"}},{"$error":"#N/A"},7561,8.9307587355582694,{"$f":" IF(Foglio1!$C$12 <> \"\", 8.314472*Foglio1!$C$12*Foglio2!N846, NA())","v":{"$error":"#N/A"}},{"$error":"#N/A"},7561,8.9307587355582694,{"$f":" IF(Foglio1!$C$13 <> \"\", 8.314472*Foglio1!$C$13*Foglio2!R846, NA())","v":{"$error":"#N/A"}},{"$error":"#N/A"}]
[7570,8.9319483464314953,{"$f":" IF(Foglio1!$C$9 <> \"\", 8.314472*Foglio1!$C$9*Foglio2!B847, NA())","v":{"$error":"#N/A"}},{"$error":"#N/A"},7570,8.9319483464314953,{"$f":" IF(Foglio1!$C$10 <> \"\", 8.314472*Foglio1!$C$10*Foglio2!F847, NA())","v":{"$error":"#N/A"}},{"$error":"#N/A"},7570,8.9319483464314953,{"$f":" IF(Foglio1!$C$11 <> \"\", 8.314472*Foglio1!$C$11*Foglio2!J847, NA())","v":{"$error":"#N/A"}},{"$error":"#N/A"},7570,8.9319483464314953,{"$f":" IF(Foglio1!$C$12 <> \"\", 8.314472*Foglio1!$C$12*Foglio2!N847, NA())","v":{"$error":"#N/A"}},{"$error":"#N/A"},7570,8.9319483464314953,{"$f":" IF(Foglio1!$C$13 <> \"\", 8.314472*Foglio1!$C$13*Foglio2!R847, NA())","v":{"$error":"#N/A"}},{"$error":"#N/A"}]
[7579,8.9331365438120294,{"$f":" IF(Foglio1!$C$9 <> \"\", 8.314472*Foglio1!$C$9*Foglio2!B848, NA())","v":{"$error":"#N/A"}},{"$error":"#N/A"},7579,8.9331365438120294,{"$f":" IF(Foglio1!$C$10 <> \"\", 8.314472*Foglio1!$C$10*Foglio2!F848, NA())","v":{"$error":"#N/A"}},{"$error":"#N/A"},7579,8.9331365438120294,{"$f":" IF(Foglio1!$C$11 <> \"\", 8.314472*Foglio1!$C$11*Foglio2!J848, NA())","v":{"$error":"#N/A"}},{"$error":"#N/A"},7579,8.9331365438120294,{"$f":" IF(Foglio1!$C$12 <> \"\", 8.314472*Foglio1!$C$12*Foglio2!N848, NA())","v":{"$error":"#N/A"}},{"$error":"#N/A"},7579,8.9331365438120294,{"$f":" IF(Foglio1!$C$13 <> \"\", 8.314472*Foglio1!$C$13*Foglio2!R848, NA())","v":{"$error":"#N/A"}},{"$error":"#N/A"}]
[7588,8.9343233310549053,{"$f":" IF(Foglio1!$C$9 <> \"\", 8.314472*Foglio1!$C$9*Foglio2!B849, NA())","v":{"$error":"#N/A"}},{"$error":"#N/A"},7588,8.9343233310549053,{"$f":" IF(Foglio1!$C$10 <> \"\", 8.314472*Foglio1!$C$10*Foglio2!F849, NA())","v":{"$error":"#N/A"}},{"$error":"#N/A"},7588,8.9343233310549053,{"$f":" IF(Foglio1!$C$11 <> \"\", 8.314472*Foglio1!$C$11*Foglio2!J849, NA())","v":{"$error":"#N/A"}},{"$error":"#N/A"},7588,8.9343233310549053,{"$f":" IF(Foglio1!$C$12 <> \"\", 8.314472*Foglio1!$C$12*Foglio2!N849, NA())","v":{"$error":"#N/A"}},{"$error":"#N/A"},7588,8.9343233310549053,{"$f":" IF(Foglio1!$C$13 <> \"\", 8.314472*Foglio1!$C$13*Foglio2!R849, NA())","v":{"$error":"#N/A"}},{"$error":"#N/A"}]
[7597,8.9355087115032212,{"$f":" IF(Foglio1!$C$9 <> \"\", 8.314472*Foglio1!$C$9*Foglio2!B850, NA())","v":{"$error":"#N/A"}},{"$error":"#N/A"},7597,8.9355087115032212,{"$f":" IF(Foglio1!$C$10 <> \"\", 8.314472*Foglio1!$C$10*Foglio2!F850, NA())","v":{"$error":"#N/A"}},{"$error":"#N/A"},7597,8.9355087115032212,{"$f":" IF(Foglio1!$C$11 <> \"\", 8.314472*Foglio1!$C$11*Foglio2!J850, NA())","v":{"$error":"#N/A"}},{"$error":"#N/A"},7597,8.9355087115032212,{"$f":" IF(Foglio1!$C$12 <> \"\", 8.314472*Foglio1!$C$12*Foglio2!N850, NA())","v":{"$error":"#N/A"}},{"$error":"#N/A"},7597,8.9355087115032212,{"$f":" IF(Foglio1!$C$13 <> \"\", 8.314472*Foglio1!$C$13*Foglio2!R850, NA())","v":{"$error":"#N/A"}},{"$error":"#N/A"}]
[7606,8.9366926884882041,{"$f":" IF(Foglio1!$C$9 <> \"\", 8.314472*Foglio1!$C$9*Foglio2!B851, NA())","v":{"$error":"#N/A"}},{"$error":"#N/A"},7606,8.9366926884882041,{"$f":" IF(Foglio1!$C$10 <> \"\", 8.314472*Foglio1!$C$10*Foglio2!F851, NA())","v":{"$error":"#N/A"}},{"$error":"#N/A"},7606,8.9366926884882041,{"$f":" IF(Foglio1!$C$11 <> \"\", 8.314472*Foglio1!$C$11*Foglio2!J851, NA())","v":{"$error":"#N/A"}},{"$error":"#N/A"},7606,8.9366926884882041,{"$f":" IF(Foglio1!$C$12 <> \"\", 8.314472*Foglio1!$C$12*Foglio2!N851, NA())","v":{"$error":"#N/A"}},{"$error":"#N/A"},7606,8.9366926884882041,{"$f":" IF(Foglio1!$C$13 <> \"\", 8.314472*Foglio1!$C$13*Foglio2!R851, NA())","v":{"$error":"#N/A"}},{"$error":"#N/A"}]
[7615,8.9378752653292626,{"$f":" IF(Foglio1!$C$9 <> \"\", 8.314472*Foglio1!$C$9*Foglio2!B852, NA())","v":{"$error":"#N/A"}},{"$error":"#N/A"},7615,8.9378752653292626,{"$f":" IF(Foglio1!$C$10 <> \"\", 8.314472*Foglio1!$C$10*Foglio2!F852, NA())","v":{"$error":"#N/A"}},{"$error":"#N/A"},7615,8.9378752653292626,{"$f":" IF(Foglio1!$C$11 <> \"\", 8.314472*Foglio1!$C$11*Foglio2!J852, NA())","v":{"$error":"#N/A"}},{"$error":"#N/A"},7615,8.9378752653292626,{"$f":" IF(Foglio1!$C$12 <> \"\", 8.314472*Foglio1!$C$12*Foglio2!N852, NA())","v":{"$error":"#N/A"}},{"$error":"#N/A"},7615,8.9378752653292626,{"$f":" IF(Foglio1!$C$13 <> \"\", 8.314472*Foglio1!$C$13*Foglio2!R852, NA())","v":{"$error":"#N/A"}},{"$error":"#N/A"}]
[7624,8.9390564453340389,{"$f":" IF(Foglio1!$C$9 <> \"\", 8.314472*Foglio1!$C$9*Foglio2!B853, NA())","v":{"$error":"#N/A"}},{"$error":"#N/A"},7624,8.9390564453340389,{"$f":" IF(Foglio1!$C$10 <> \"\", 8.314472*Foglio1!$C$10*Foglio2!F853, NA())","v":{"$error":"#N/A"}},{"$error":"#N/A"},7624,8.9390564453340389,{"$f":" IF(Foglio1!$C$11 <> \"\", 8.314472*Foglio1!$C$11*Foglio2!J853, NA())","v":{"$error":"#N/A"}},{"$error":"#N/A"},7624,8.9390564453340389,{"$f":" IF(Foglio1!$C$12 <> \"\", 8.314472*Foglio1!$C$12*Foglio2!N853, NA())","v":{"$error":"#N/A"}},{"$error":"#N/A"},7624,8.9390564453340389,{"$f":" IF(Foglio1!$C$13 <> \"\", 8.314472*Foglio1!$C$13*Foglio2!R853, NA())","v":{"$error":"#N/A"}},{"$error":"#N/A"}]
[7633,8.9402362317984707,{"$f":" IF(Foglio1!$C$9 <> \"\", 8.314472*Foglio1!$C$9*Foglio2!B854, NA())","v":{"$error":"#N/A"}},{"$error":"#N/A"},7633,8.9402362317984707,{"$f":" IF(Foglio1!$C$10 <> \"\", 8.314472*Foglio1!$C$10*Foglio2!F854, NA())","v":{"$error":"#N/A"}},{"$error":"#N/A"},7633,8.9402362317984707,{"$f":" IF(Foglio1!$C$11 <> \"\", 8.314472*Foglio1!$C$11*Foglio2!J854, NA())","v":{"$error":"#N/A"}},{"$error":"#N/A"},7633,8.9402362317984707,{"$f":" IF(Foglio1!$C$12 <> \"\", 8.314472*Foglio1!$C$12*Foglio2!N854, NA())","v":{"$error":"#N/A"}},{"$error":"#N/A"},7633,8.9402362317984707,{"$f":" IF(Foglio1!$C$13 <> \"\", 8.314472*Foglio1!$C$13*Foglio2!R854, NA())","v":{"$error":"#N/A"}},{"$error":"#N/A"}]
[7642,8.9414146280068447,{"$f":" IF(Foglio1!$C$9 <> \"\", 8.314472*Foglio1!$C$9*Foglio2!B855, NA())","v":{"$error":"#N/A"}},{"$error":"#N/A"},7642,8.9414146280068447,{"$f":" IF(Foglio1!$C$10 <> \"\", 8.314472*Foglio1!$C$10*Foglio2!F855, NA())","v":{"$error":"#N/A"}},{"$error":"#N/A"},7642,8.9414146280068447,{"$f":" IF(Foglio1!$C$11 <> \"\", 8.314472*Foglio1!$C$11*Foglio2!J855, NA())","v":{"$error":"#N/A"}},{"$error":"#N/A"},7642,8.9414146280068447,{"$f":" IF(Foglio1!$C$12 <> \"\", 8.314472*Foglio1!$C$12*Foglio2!N855, NA())","v":{"$error":"#N/A"}},{"$error":"#N/A"},7642,8.9414146280068447,{"$f":" IF(Foglio1!$C$13 <> \"\", 8.314472*Foglio1!$C$13*Foglio2!R855, NA())","v":{"$error":"#N/A"}},{"$error":"#N/A"}]
[7651,8.9425916372318515,{"$f":" IF(Foglio1!$C$9 <> \"\", 8.314472*Foglio1!$C$9*Foglio2!B856, NA())","v":{"$error":"#N/A"}},{"$error":"#N/A"},7651,8.9425916372318515,{"$f":" IF(Foglio1!$C$10 <> \"\", 8.314472*Foglio1!$C$10*Foglio2!F856, NA())","v":{"$error":"#N/A"}},{"$error":"#N/A"},7651,8.9425916372318515,{"$f":" IF(Foglio1!$C$11 <> \"\", 8.314472*Foglio1!$C$11*Foglio2!J856, NA())","v":{"$error":"#N/A"}},{"$error":"#N/A"},7651,8.9425916372318515,{"$f":" IF(Foglio1!$C$12 <> \"\", 8.314472*Foglio1!$C$12*Foglio2!N856, NA())","v":{"$error":"#N/A"}},{"$error":"#N/A"},7651,8.9425916372318515,{"$f":" IF(Foglio1!$C$13 <> \"\", 8.314472*Foglio1!$C$13*Foglio2!R856, NA())","v":{"$error":"#N/A"}},{"$error":"#N/A"}]
[7660,8.943767262734637,{"$f":" IF(Foglio1!$C$9 <> \"\", 8.314472*Foglio1!$C$9*Foglio2!B857, NA())","v":{"$error":"#N/A"}},{"$error":"#N/A"},7660,8.943767262734637,{"$f":" IF(Foglio1!$C$10 <> \"\", 8.314472*Foglio1!$C$10*Foglio2!F857, NA())","v":{"$error":"#N/A"}},{"$error":"#N/A"},7660,8.943767262734637,{"$f":" IF(Foglio1!$C$11 <> \"\", 8.314472*Foglio1!$C$11*Foglio2!J857, NA())","v":{"$error":"#N/A"}},{"$error":"#N/A"},7660,8.943767262734637,{"$f":" IF(Foglio1!$C$12 <> \"\", 8.314472*Foglio1!$C$12*Foglio2!N857, NA())","v":{"$error":"#N/A"}},{"$error":"#N/A"},7660,8.943767262734637,{"$f":" IF(Foglio1!$C$13 <> \"\", 8.314472*Foglio1!$C$13*Foglio2!R857, NA())","v":{"$error":"#N/A"}},{"$error":"#N/A"}]
[7669,8.9449415077648595,{"$f":" IF(Foglio1!$C$9 <> \"\", 8.314472*Foglio1!$C$9*Foglio2!B858, NA())","v":{"$error":"#N/A"}},{"$error":"#N/A"},7669,8.9449415077648595,{"$f":" IF(Foglio1!$C$10 <> \"\", 8.314472*Foglio1!$C$10*Foglio2!F858, NA())","v":{"$error":"#N/A"}},{"$error":"#N/A"},7669,8.9449415077648595,{"$f":" IF(Foglio1!$C$11 <> \"\", 8.314472*Foglio1!$C$11*Foglio2!J858, NA())","v":{"$error":"#N/A"}},{"$error":"#N/A"},7669,8.9449415077648595,{"$f":" IF(Foglio1!$C$12 <> \"\", 8.314472*Foglio1!$C$12*Foglio2!N858, NA())","v":{"$error":"#N/A"}},{"$error":"#N/A"},7669,8.9449415077648595,{"$f":" IF(Foglio1!$C$13 <> \"\", 8.314472*Foglio1!$C$13*Foglio2!R858, NA())","v":{"$error":"#N/A"}},{"$error":"#N/A"}]
[7678,8.9461143755607431,{"$f":" IF(Foglio1!$C$9 <> \"\", 8.314472*Foglio1!$C$9*Foglio2!B859, NA())","v":{"$error":"#N/A"}},{"$error":"#N/A"},7678,8.9461143755607431,{"$f":" IF(Foglio1!$C$10 <> \"\", 8.314472*Foglio1!$C$10*Foglio2!F859, NA())","v":{"$error":"#N/A"}},{"$error":"#N/A"},7678,8.9461143755607431,{"$f":" IF(Foglio1!$C$11 <> \"\", 8.314472*Foglio1!$C$11*Foglio2!J859, NA())","v":{"$error":"#N/A"}},{"$error":"#N/A"},7678,8.9461143755607431,{"$f":" IF(Foglio1!$C$12 <> \"\", 8.314472*Foglio1!$C$12*Foglio2!N859, NA())","v":{"$error":"#N/A"}},{"$error":"#N/A"},7678,8.9461143755607431,{"$f":" IF(Foglio1!$C$13 <> \"\", 8.314472*Foglio1!$C$13*Foglio2!R859, NA())","v":{"$error":"#N/A"}},{"$error":"#N/A"}]
[7687,8.9472858693491322,{"$f":" IF(Foglio1!$C$9 <> \"\", 8.314472*Foglio1!$C$9*Foglio2!B860, NA())","v":{"$error":"#N/A"}},{"$error":"#N/A"},7687,8.9472858693491322,{"$f":" IF(Foglio1!$C$10 <> \"\", 8.314472*Foglio1!$C$10*Foglio2!F860, NA())","v":{"$error":"#N/A"}},{"$error":"#N/A"},7687,8.9472858693491322,{"$f":" IF(Foglio1!$C$11 <> \"\", 8.314472*Foglio1!$C$11*Foglio2!J860, NA())","v":{"$error":"#N/A"}},{"$error":"#N/A"},7687,8.9472858693491322,{"$f":" IF(Foglio1!$C$12 <> \"\", 8.314472*Foglio1!$C$12*Foglio2!N860, NA())","v":{"$error":"#N/A"}},{"$error":"#N/A"},7687,8.9472858693491322,{"$f":" IF(Foglio1!$C$13 <> \"\", 8.314472*Foglio1!$C$13*Foglio2!R860, NA())","v":{"$error":"#N/A"}},{"$error":"#N/A"}]
[7696,8.9484559923455418,{"$f":" IF(Foglio1!$C$9 <> \"\", 8.314472*Foglio1!$C$9*Foglio2!B861, NA())","v":{"$error":"#N/A"}},{"$error":"#N/A"},7696,8.9484559923455418,{"$f":" IF(Foglio1!$C$10 <> \"\", 8.314472*Foglio1!$C$10*Foglio2!F861, NA())","v":{"$error":"#N/A"}},{"$error":"#N/A"},7696,8.9484559923455418,{"$f":" IF(Foglio1!$C$11 <> \"\", 8.314472*Foglio1!$C$11*Foglio2!J861, NA())","v":{"$error":"#N/A"}},{"$error":"#N/A"},7696,8.9484559923455418,{"$f":" IF(Foglio1!$C$12 <> \"\", 8.314472*Foglio1!$C$12*Foglio2!N861, NA())","v":{"$error":"#N/A"}},{"$error":"#N/A"},7696,8.9484559923455418,{"$f":" IF(Foglio1!$C$13 <> \"\", 8.314472*Foglio1!$C$13*Foglio2!R861, NA())","v":{"$error":"#N/A"}},{"$error":"#N/A"}]
[7705,8.9496247477542159,{"$f":" IF(Foglio1!$C$9 <> \"\", 8.314472*Foglio1!$C$9*Foglio2!B862, NA())","v":{"$error":"#N/A"}},{"$error":"#N/A"},7705,8.9496247477542159,{"$f":" IF(Foglio1!$C$10 <> \"\", 8.314472*Foglio1!$C$10*Foglio2!F862, NA())","v":{"$error":"#N/A"}},{"$error":"#N/A"},7705,8.9496247477542159,{"$f":" IF(Foglio1!$C$11 <> \"\", 8.314472*Foglio1!$C$11*Foglio2!J862, NA())","v":{"$error":"#N/A"}},{"$error":"#N/A"},7705,8.9496247477542159,{"$f":" IF(Foglio1!$C$12 <> \"\", 8.314472*Foglio1!$C$12*Foglio2!N862, NA())","v":{"$error":"#N/A"}},{"$error":"#N/A"},7705,8.9496247477542159,{"$f":" IF(Foglio1!$C$13 <> \"\", 8.314472*Foglio1!$C$13*Foglio2!R862, NA())","v":{"$error":"#N/A"}},{"$error":"#N/A"}]
[7714,8.9507921387681737,{"$f":" IF(Foglio1!$C$9 <> \"\", 8.314472*Foglio1!$C$9*Foglio2!B863, NA())","v":{"$error":"#N/A"}},{"$error":"#N/A"},7714,8.9507921387681737,{"$f":" IF(Foglio1!$C$10 <> \"\", 8.314472*Foglio1!$C$10*Foglio2!F863, NA())","v":{"$error":"#N/A"}},{"$error":"#N/A"},7714,8.9507921387681737,{"$f":" IF(Foglio1!$C$11 <> \"\", 8.314472*Foglio1!$C$11*Foglio2!J863, NA())","v":{"$error":"#N/A"}},{"$error":"#N/A"},7714,8.9507921387681737,{"$f":" IF(Foglio1!$C$12 <> \"\", 8.314472*Foglio1!$C$12*Foglio2!N863, NA())","v":{"$error":"#N/A"}},{"$error":"#N/A"},7714,8.9507921387681737,{"$f":" IF(Foglio1!$C$13 <> \"\", 8.314472*Foglio1!$C$13*Foglio2!R863, NA())","v":{"$error":"#N/A"}},{"$error":"#N/A"}]
[7723,8.9519581685692646,{"$f":" IF(Foglio1!$C$9 <> \"\", 8.314472*Foglio1!$C$9*Foglio2!B864, NA())","v":{"$error":"#N/A"}},{"$error":"#N/A"},7723,8.9519581685692646,{"$f":" IF(Foglio1!$C$10 <> \"\", 8.314472*Foglio1!$C$10*Foglio2!F864, NA())","v":{"$error":"#N/A"}},{"$error":"#N/A"},7723,8.9519581685692646,{"$f":" IF(Foglio1!$C$11 <> \"\", 8.314472*Foglio1!$C$11*Foglio2!J864, NA())","v":{"$error":"#N/A"}},{"$error":"#N/A"},7723,8.9519581685692646,{"$f":" IF(Foglio1!$C$12 <> \"\", 8.314472*Foglio1!$C$12*Foglio2!N864, NA())","v":{"$error":"#N/A"}},{"$error":"#N/A"},7723,8.9519581685692646,{"$f":" IF(Foglio1!$C$13 <> \"\", 8.314472*Foglio1!$C$13*Foglio2!R864, NA())","v":{"$error":"#N/A"}},{"$error":"#N/A"}]
[7732,8.9531228403282217,{"$f":" IF(Foglio1!$C$9 <> \"\", 8.314472*Foglio1!$C$9*Foglio2!B865, NA())","v":{"$error":"#N/A"}},{"$error":"#N/A"},7732,8.9531228403282217,{"$f":" IF(Foglio1!$C$10 <> \"\", 8.314472*Foglio1!$C$10*Foglio2!F865, NA())","v":{"$error":"#N/A"}},{"$error":"#N/A"},7732,8.9531228403282217,{"$f":" IF(Foglio1!$C$11 <> \"\", 8.314472*Foglio1!$C$11*Foglio2!J865, NA())","v":{"$error":"#N/A"}},{"$error":"#N/A"},7732,8.9531228403282217,{"$f":" IF(Foglio1!$C$12 <> \"\", 8.314472*Foglio1!$C$12*Foglio2!N865, NA())","v":{"$error":"#N/A"}},{"$error":"#N/A"},7732,8.9531228403282217,{"$f":" IF(Foglio1!$C$13 <> \"\", 8.314472*Foglio1!$C$13*Foglio2!R865, NA())","v":{"$error":"#N/A"}},{"$error":"#N/A"}]
[7741,8.954286157204713,{"$f":" IF(Foglio1!$C$9 <> \"\", 8.314472*Foglio1!$C$9*Foglio2!B866, NA())","v":{"$error":"#N/A"}},{"$error":"#N/A"},7741,8.954286157204713,{"$f":" IF(Foglio1!$C$10 <> \"\", 8.314472*Foglio1!$C$10*Foglio2!F866, NA())","v":{"$error":"#N/A"}},{"$error":"#N/A"},7741,8.954286157204713,{"$f":" IF(Foglio1!$C$11 <> \"\", 8.314472*Foglio1!$C$11*Foglio2!J866, NA())","v":{"$error":"#N/A"}},{"$error":"#N/A"},7741,8.954286157204713,{"$f":" IF(Foglio1!$C$12 <> \"\", 8.314472*Foglio1!$C$12*Foglio2!N866, NA())","v":{"$error":"#N/A"}},{"$error":"#N/A"},7741,8.954286157204713,{"$f":" IF(Foglio1!$C$13 <> \"\", 8.314472*Foglio1!$C$13*Foglio2!R866, NA())","v":{"$error":"#N/A"}},{"$error":"#N/A"}]
[7750,8.9554481223473932,{"$f":" IF(Foglio1!$C$9 <> \"\", 8.314472*Foglio1!$C$9*Foglio2!B867, NA())","v":{"$error":"#N/A"}},{"$error":"#N/A"},7750,8.9554481223473932,{"$f":" IF(Foglio1!$C$10 <> \"\", 8.314472*Foglio1!$C$10*Foglio2!F867, NA())","v":{"$error":"#N/A"}},{"$error":"#N/A"},7750,8.9554481223473932,{"$f":" IF(Foglio1!$C$11 <> \"\", 8.314472*Foglio1!$C$11*Foglio2!J867, NA())","v":{"$error":"#N/A"}},{"$error":"#N/A"},7750,8.9554481223473932,{"$f":" IF(Foglio1!$C$12 <> \"\", 8.314472*Foglio1!$C$12*Foglio2!N867, NA())","v":{"$error":"#N/A"}},{"$error":"#N/A"},7750,8.9554481223473932,{"$f":" IF(Foglio1!$C$13 <> \"\", 8.314472*Foglio1!$C$13*Foglio2!R867, NA())","v":{"$error":"#N/A"}},{"$error":"#N/A"}]
[7759,8.9566087388939497,{"$f":" IF(Foglio1!$C$9 <> \"\", 8.314472*Foglio1!$C$9*Foglio2!B868, NA())","v":{"$error":"#N/A"}},{"$error":"#N/A"},7759,8.9566087388939497,{"$f":" IF(Foglio1!$C$10 <> \"\", 8.314472*Foglio1!$C$10*Foglio2!F868, NA())","v":{"$error":"#N/A"}},{"$error":"#N/A"},7759,8.9566087388939497,{"$f":" IF(Foglio1!$C$11 <> \"\", 8.314472*Foglio1!$C$11*Foglio2!J868, NA())","v":{"$error":"#N/A"}},{"$error":"#N/A"},7759,8.9566087388939497,{"$f":" IF(Foglio1!$C$12 <> \"\", 8.314472*Foglio1!$C$12*Foglio2!N868, NA())","v":{"$error":"#N/A"}},{"$error":"#N/A"},7759,8.9566087388939497,{"$f":" IF(Foglio1!$C$13 <> \"\", 8.314472*Foglio1!$C$13*Foglio2!R868, NA())","v":{"$error":"#N/A"}},{"$error":"#N/A"}]
[7768,8.9577680099711614,{"$f":" IF(Foglio1!$C$9 <> \"\", 8.314472*Foglio1!$C$9*Foglio2!B869, NA())","v":{"$error":"#N/A"}},{"$error":"#N/A"},7768,8.9577680099711614,{"$f":" IF(Foglio1!$C$10 <> \"\", 8.314472*Foglio1!$C$10*Foglio2!F869, NA())","v":{"$error":"#N/A"}},{"$error":"#N/A"},7768,8.9577680099711614,{"$f":" IF(Foglio1!$C$11 <> \"\", 8.314472*Foglio1!$C$11*Foglio2!J869, NA())","v":{"$error":"#N/A"}},{"$error":"#N/A"},7768,8.9577680099711614,{"$f":" IF(Foglio1!$C$12 <> \"\", 8.314472*Foglio1!$C$12*Foglio2!N869, NA())","v":{"$error":"#N/A"}},{"$error":"#N/A"},7768,8.9577680099711614,{"$f":" IF(Foglio1!$C$13 <> \"\", 8.314472*Foglio1!$C$13*Foglio2!R869, NA())","v":{"$error":"#N/A"}},{"$error":"#N/A"}]
[7777,8.9589259386949429,{"$f":" IF(Foglio1!$C$9 <> \"\", 8.314472*Foglio1!$C$9*Foglio2!B870, NA())","v":{"$error":"#N/A"}},{"$error":"#N/A"},7777,8.9589259386949429,{"$f":" IF(Foglio1!$C$10 <> \"\", 8.314472*Foglio1!$C$10*Foglio2!F870, NA())","v":{"$error":"#N/A"}},{"$error":"#N/A"},7777,8.9589259386949429,{"$f":" IF(Foglio1!$C$11 <> \"\", 8.314472*Foglio1!$C$11*Foglio2!J870, NA())","v":{"$error":"#N/A"}},{"$error":"#N/A"},7777,8.9589259386949429,{"$f":" IF(Foglio1!$C$12 <> \"\", 8.314472*Foglio1!$C$12*Foglio2!N870, NA())","v":{"$error":"#N/A"}},{"$error":"#N/A"},7777,8.9589259386949429,{"$f":" IF(Foglio1!$C$13 <> \"\", 8.314472*Foglio1!$C$13*Foglio2!R870, NA())","v":{"$error":"#N/A"}},{"$error":"#N/A"}]
[7786,8.9600825281704015,{"$f":" IF(Foglio1!$C$9 <> \"\", 8.314472*Foglio1!$C$9*Foglio2!B871, NA())","v":{"$error":"#N/A"}},{"$error":"#N/A"},7786,8.9600825281704015,{"$f":" IF(Foglio1!$C$10 <> \"\", 8.314472*Foglio1!$C$10*Foglio2!F871, NA())","v":{"$error":"#N/A"}},{"$error":"#N/A"},7786,8.9600825281704015,{"$f":" IF(Foglio1!$C$11 <> \"\", 8.314472*Foglio1!$C$11*Foglio2!J871, NA())","v":{"$error":"#N/A"}},{"$error":"#N/A"},7786,8.9600825281704015,{"$f":" IF(Foglio1!$C$12 <> \"\", 8.314472*Foglio1!$C$12*Foglio2!N871, NA())","v":{"$error":"#N/A"}},{"$error":"#N/A"},7786,8.9600825281704015,{"$f":" IF(Foglio1!$C$13 <> \"\", 8.314472*Foglio1!$C$13*Foglio2!R871, NA())","v":{"$error":"#N/A"}},{"$error":"#N/A"}]
[7795,8.9612377814918762,{"$f":" IF(Foglio1!$C$9 <> \"\", 8.314472*Foglio1!$C$9*Foglio2!B872, NA())","v":{"$error":"#N/A"}},{"$error":"#N/A"},7795,8.9612377814918762,{"$f":" IF(Foglio1!$C$10 <> \"\", 8.314472*Foglio1!$C$10*Foglio2!F872, NA())","v":{"$error":"#N/A"}},{"$error":"#N/A"},7795,8.9612377814918762,{"$f":" IF(Foglio1!$C$11 <> \"\", 8.314472*Foglio1!$C$11*Foglio2!J872, NA())","v":{"$error":"#N/A"}},{"$error":"#N/A"},7795,8.9612377814918762,{"$f":" IF(Foglio1!$C$12 <> \"\", 8.314472*Foglio1!$C$12*Foglio2!N872, NA())","v":{"$error":"#N/A"}},{"$error":"#N/A"},7795,8.9612377814918762,{"$f":" IF(Foglio1!$C$13 <> \"\", 8.314472*Foglio1!$C$13*Foglio2!R872, NA())","v":{"$error":"#N/A"}},{"$error":"#N/A"}]
[7804,8.9623917017430017,{"$f":" IF(Foglio1!$C$9 <> \"\", 8.314472*Foglio1!$C$9*Foglio2!B873, NA())","v":{"$error":"#N/A"}},{"$error":"#N/A"},7804,8.9623917017430017,{"$f":" IF(Foglio1!$C$10 <> \"\", 8.314472*Foglio1!$C$10*Foglio2!F873, NA())","v":{"$error":"#N/A"}},{"$error":"#N/A"},7804,8.9623917017430017,{"$f":" IF(Foglio1!$C$11 <> \"\", 8.314472*Foglio1!$C$11*Foglio2!J873, NA())","v":{"$error":"#N/A"}},{"$error":"#N/A"},7804,8.9623917017430017,{"$f":" IF(Foglio1!$C$12 <> \"\", 8.314472*Foglio1!$C$12*Foglio2!N873, NA())","v":{"$error":"#N/A"}},{"$error":"#N/A"},7804,8.9623917017430017,{"$f":" IF(Foglio1!$C$13 <> \"\", 8.314472*Foglio1!$C$13*Foglio2!R873, NA())","v":{"$error":"#N/A"}},{"$error":"#N/A"}]
[7813,8.9635442919967439,{"$f":" IF(Foglio1!$C$9 <> \"\", 8.314472*Foglio1!$C$9*Foglio2!B874, NA())","v":{"$error":"#N/A"}},{"$error":"#N/A"},7813,8.9635442919967439,{"$f":" IF(Foglio1!$C$10 <> \"\", 8.314472*Foglio1!$C$10*Foglio2!F874, NA())","v":{"$error":"#N/A"}},{"$error":"#N/A"},7813,8.9635442919967439,{"$f":" IF(Foglio1!$C$11 <> \"\", 8.314472*Foglio1!$C$11*Foglio2!J874, NA())","v":{"$error":"#N/A"}},{"$error":"#N/A"},7813,8.9635442919967439,{"$f":" IF(Foglio1!$C$12 <> \"\", 8.314472*Foglio1!$C$12*Foglio2!N874, NA())","v":{"$error":"#N/A"}},{"$error":"#N/A"},7813,8.9635442919967439,{"$f":" IF(Foglio1!$C$13 <> \"\", 8.314472*Foglio1!$C$13*Foglio2!R874, NA())","v":{"$error":"#N/A"}},{"$error":"#N/A"}]
[7822,8.9646955553154601,{"$f":" IF(Foglio1!$C$9 <> \"\", 8.314472*Foglio1!$C$9*Foglio2!B875, NA())","v":{"$error":"#N/A"}},{"$error":"#N/A"},7822,8.9646955553154601,{"$f":" IF(Foglio1!$C$10 <> \"\", 8.314472*Foglio1!$C$10*Foglio2!F875, NA())","v":{"$error":"#N/A"}},{"$error":"#N/A"},7822,8.9646955553154601,{"$f":" IF(Foglio1!$C$11 <> \"\", 8.314472*Foglio1!$C$11*Foglio2!J875, NA())","v":{"$error":"#N/A"}},{"$error":"#N/A"},7822,8.9646955553154601,{"$f":" IF(Foglio1!$C$12 <> \"\", 8.314472*Foglio1!$C$12*Foglio2!N875, NA())","v":{"$error":"#N/A"}},{"$error":"#N/A"},7822,8.9646955553154601,{"$f":" IF(Foglio1!$C$13 <> \"\", 8.314472*Foglio1!$C$13*Foglio2!R875, NA())","v":{"$error":"#N/A"}},{"$error":"#N/A"}]
[7831,8.965845494750937,{"$f":" IF(Foglio1!$C$9 <> \"\", 8.314472*Foglio1!$C$9*Foglio2!B876, NA())","v":{"$error":"#N/A"}},{"$error":"#N/A"},7831,8.965845494750937,{"$f":" IF(Foglio1!$C$10 <> \"\", 8.314472*Foglio1!$C$10*Foglio2!F876, NA())","v":{"$error":"#N/A"}},{"$error":"#N/A"},7831,8.965845494750937,{"$f":" IF(Foglio1!$C$11 <> \"\", 8.314472*Foglio1!$C$11*Foglio2!J876, NA())","v":{"$error":"#N/A"}},{"$error":"#N/A"},7831,8.965845494750937,{"$f":" IF(Foglio1!$C$12 <> \"\", 8.314472*Foglio1!$C$12*Foglio2!N876, NA())","v":{"$error":"#N/A"}},{"$error":"#N/A"},7831,8.965845494750937,{"$f":" IF(Foglio1!$C$13 <> \"\", 8.314472*Foglio1!$C$13*Foglio2!R876, NA())","v":{"$error":"#N/A"}},{"$error":"#N/A"}]
[7840,8.9669941133444535,{"$f":" IF(Foglio1!$C$9 <> \"\", 8.314472*Foglio1!$C$9*Foglio2!B877, NA())","v":{"$error":"#N/A"}},{"$error":"#N/A"},7840,8.9669941133444535,{"$f":" IF(Foglio1!$C$10 <> \"\", 8.314472*Foglio1!$C$10*Foglio2!F877, NA())","v":{"$error":"#N/A"}},{"$error":"#N/A"},7840,8.9669941133444535,{"$f":" IF(Foglio1!$C$11 <> \"\", 8.314472*Foglio1!$C$11*Foglio2!J877, NA())","v":{"$error":"#N/A"}},{"$error":"#N/A"},7840,8.9669941133444535,{"$f":" IF(Foglio1!$C$12 <> \"\", 8.314472*Foglio1!$C$12*Foglio2!N877, NA())","v":{"$error":"#N/A"}},{"$error":"#N/A"},7840,8.9669941133444535,{"$f":" IF(Foglio1!$C$13 <> \"\", 8.314472*Foglio1!$C$13*Foglio2!R877, NA())","v":{"$error":"#N/A"}},{"$error":"#N/A"}]
[7849,8.9681414141268139,{"$f":" IF(Foglio1!$C$9 <> \"\", 8.314472*Foglio1!$C$9*Foglio2!B878, NA())","v":{"$error":"#N/A"}},{"$error":"#N/A"},7849,8.9681414141268139,{"$f":" IF(Foglio1!$C$10 <> \"\", 8.314472*Foglio1!$C$10*Foglio2!F878, NA())","v":{"$error":"#N/A"}},{"$error":"#N/A"},7849,8.9681414141268139,{"$f":" IF(Foglio1!$C$11 <> \"\", 8.314472*Foglio1!$C$11*Foglio2!J878, NA())","v":{"$error":"#N/A"}},{"$error":"#N/A"},7849,8.9681414141268139,{"$f":" IF(Foglio1!$C$12 <> \"\", 8.314472*Foglio1!$C$12*Foglio2!N878, NA())","v":{"$error":"#N/A"}},{"$error":"#N/A"},7849,8.9681414141268139,{"$f":" IF(Foglio1!$C$13 <> \"\", 8.314472*Foglio1!$C$13*Foglio2!R878, NA())","v":{"$error":"#N/A"}},{"$error":"#N/A"}]
[7858,8.9692874001184055,{"$f":" IF(Foglio1!$C$9 <> \"\", 8.314472*Foglio1!$C$9*Foglio2!B879, NA())","v":{"$error":"#N/A"}},{"$error":"#N/A"},7858,8.9692874001184055,{"$f":" IF(Foglio1!$C$10 <> \"\", 8.314472*Foglio1!$C$10*Foglio2!F879, NA())","v":{"$error":"#N/A"}},{"$error":"#N/A"},7858,8.9692874001184055,{"$f":" IF(Foglio1!$C$11 <> \"\", 8.314472*Foglio1!$C$11*Foglio2!J879, NA())","v":{"$error":"#N/A"}},{"$error":"#N/A"},7858,8.9692874001184055,{"$f":" IF(Foglio1!$C$12 <> \"\", 8.314472*Foglio1!$C$12*Foglio2!N879, NA())","v":{"$error":"#N/A"}},{"$error":"#N/A"},7858,8.9692874001184055,{"$f":" IF(Foglio1!$C$13 <> \"\", 8.314472*Foglio1!$C$13*Foglio2!R879, NA())","v":{"$error":"#N/A"}},{"$error":"#N/A"}]
[7867,8.9704320743292421,{"$f":" IF(Foglio1!$C$9 <> \"\", 8.314472*Foglio1!$C$9*Foglio2!B880, NA())","v":{"$error":"#N/A"}},{"$error":"#N/A"},7867,8.9704320743292421,{"$f":" IF(Foglio1!$C$10 <> \"\", 8.314472*Foglio1!$C$10*Foglio2!F880, NA())","v":{"$error":"#N/A"}},{"$error":"#N/A"},7867,8.9704320743292421,{"$f":" IF(Foglio1!$C$11 <> \"\", 8.314472*Foglio1!$C$11*Foglio2!J880, NA())","v":{"$error":"#N/A"}},{"$error":"#N/A"},7867,8.9704320743292421,{"$f":" IF(Foglio1!$C$12 <> \"\", 8.314472*Foglio1!$C$12*Foglio2!N880, NA())","v":{"$error":"#N/A"}},{"$error":"#N/A"},7867,8.9704320743292421,{"$f":" IF(Foglio1!$C$13 <> \"\", 8.314472*Foglio1!$C$13*Foglio2!R880, NA())","v":{"$error":"#N/A"}},{"$error":"#N/A"}]
[7876,8.9715754397590164,{"$f":" IF(Foglio1!$C$9 <> \"\", 8.314472*Foglio1!$C$9*Foglio2!B881, NA())","v":{"$error":"#N/A"}},{"$error":"#N/A"},7876,8.9715754397590164,{"$f":" IF(Foglio1!$C$10 <> \"\", 8.314472*Foglio1!$C$10*Foglio2!F881, NA())","v":{"$error":"#N/A"}},{"$error":"#N/A"},7876,8.9715754397590164,{"$f":" IF(Foglio1!$C$11 <> \"\", 8.314472*Foglio1!$C$11*Foglio2!J881, NA())","v":{"$error":"#N/A"}},{"$error":"#N/A"},7876,8.9715754397590164,{"$f":" IF(Foglio1!$C$12 <> \"\", 8.314472*Foglio1!$C$12*Foglio2!N881, NA())","v":{"$error":"#N/A"}},{"$error":"#N/A"},7876,8.9715754397590164,{"$f":" IF(Foglio1!$C$13 <> \"\", 8.314472*Foglio1!$C$13*Foglio2!R881, NA())","v":{"$error":"#N/A"}},{"$error":"#N/A"}]
[7885,8.9727174993971381,{"$f":" IF(Foglio1!$C$9 <> \"\", 8.314472*Foglio1!$C$9*Foglio2!B882, NA())","v":{"$error":"#N/A"}},{"$error":"#N/A"},7885,8.9727174993971381,{"$f":" IF(Foglio1!$C$10 <> \"\", 8.314472*Foglio1!$C$10*Foglio2!F882, NA())","v":{"$error":"#N/A"}},{"$error":"#N/A"},7885,8.9727174993971381,{"$f":" IF(Foglio1!$C$11 <> \"\", 8.314472*Foglio1!$C$11*Foglio2!J882, NA())","v":{"$error":"#N/A"}},{"$error":"#N/A"},7885,8.9727174993971381,{"$f":" IF(Foglio1!$C$12 <> \"\", 8.314472*Foglio1!$C$12*Foglio2!N882, NA())","v":{"$error":"#N/A"}},{"$error":"#N/A"},7885,8.9727174993971381,{"$f":" IF(Foglio1!$C$13 <> \"\", 8.314472*Foglio1!$C$13*Foglio2!R882, NA())","v":{"$error":"#N/A"}},{"$error":"#N/A"}]
[7894,8.9738582562227922,{"$f":" IF(Foglio1!$C$9 <> \"\", 8.314472*Foglio1!$C$9*Foglio2!B883, NA())","v":{"$error":"#N/A"}},{"$error":"#N/A"},7894,8.9738582562227922,{"$f":" IF(Foglio1!$C$10 <> \"\", 8.314472*Foglio1!$C$10*Foglio2!F883, NA())","v":{"$error":"#N/A"}},{"$error":"#N/A"},7894,8.9738582562227922,{"$f":" IF(Foglio1!$C$11 <> \"\", 8.314472*Foglio1!$C$11*Foglio2!J883, NA())","v":{"$error":"#N/A"}},{"$error":"#N/A"},7894,8.9738582562227922,{"$f":" IF(Foglio1!$C$12 <> \"\", 8.314472*Foglio1!$C$12*Foglio2!N883, NA())","v":{"$error":"#N/A"}},{"$error":"#N/A"},7894,8.9738582562227922,{"$f":" IF(Foglio1!$C$13 <> \"\", 8.314472*Foglio1!$C$13*Foglio2!R883, NA())","v":{"$error":"#N/A"}},{"$error":"#N/A"}]
[7903,8.9749977132049761,{"$f":" IF(Foglio1!$C$9 <> \"\", 8.314472*Foglio1!$C$9*Foglio2!B884, NA())","v":{"$error":"#N/A"}},{"$error":"#N/A"},7903,8.9749977132049761,{"$f":" IF(Foglio1!$C$10 <> \"\", 8.314472*Foglio1!$C$10*Foglio2!F884, NA())","v":{"$error":"#N/A"}},{"$error":"#N/A"},7903,8.9749977132049761,{"$f":" IF(Foglio1!$C$11 <> \"\", 8.314472*Foglio1!$C$11*Foglio2!J884, NA())","v":{"$error":"#N/A"}},{"$error":"#N/A"},7903,8.9749977132049761,{"$f":" IF(Foglio1!$C$12 <> \"\", 8.314472*Foglio1!$C$12*Foglio2!N884, NA())","v":{"$error":"#N/A"}},{"$error":"#N/A"},7903,8.9749977132049761,{"$f":" IF(Foglio1!$C$13 <> \"\", 8.314472*Foglio1!$C$13*Foglio2!R884, NA())","v":{"$error":"#N/A"}},{"$error":"#N/A"}]
[7912,8.9761358733025478,{"$f":" IF(Foglio1!$C$9 <> \"\", 8.314472*Foglio1!$C$9*Foglio2!B885, NA())","v":{"$error":"#N/A"}},{"$error":"#N/A"},7912,8.9761358733025478,{"$f":" IF(Foglio1!$C$10 <> \"\", 8.314472*Foglio1!$C$10*Foglio2!F885, NA())","v":{"$error":"#N/A"}},{"$error":"#N/A"},7912,8.9761358733025478,{"$f":" IF(Foglio1!$C$11 <> \"\", 8.314472*Foglio1!$C$11*Foglio2!J885, NA())","v":{"$error":"#N/A"}},{"$error":"#N/A"},7912,8.9761358733025478,{"$f":" IF(Foglio1!$C$12 <> \"\", 8.314472*Foglio1!$C$12*Foglio2!N885, NA())","v":{"$error":"#N/A"}},{"$error":"#N/A"},7912,8.9761358733025478,{"$f":" IF(Foglio1!$C$13 <> \"\", 8.314472*Foglio1!$C$13*Foglio2!R885, NA())","v":{"$error":"#N/A"}},{"$error":"#N/A"}]
[7921,8.9772727394642793,{"$f":" IF(Foglio1!$C$9 <> \"\", 8.314472*Foglio1!$C$9*Foglio2!B886, NA())","v":{"$error":"#N/A"}},{"$error":"#N/A"},7921,8.9772727394642793,{"$f":" IF(Foglio1!$C$10 <> \"\", 8.314472*Foglio1!$C$10*Foglio2!F886, NA())","v":{"$error":"#N/A"}},{"$error":"#N/A"},7921,8.9772727394642793,{"$f":" IF(Foglio1!$C$11 <> \"\", 8.314472*Foglio1!$C$11*Foglio2!J886, NA())","v":{"$error":"#N/A"}},{"$error":"#N/A"},7921,8.9772727394642793,{"$f":" IF(Foglio1!$C$12 <> \"\", 8.314472*Foglio1!$C$12*Foglio2!N886, NA())","v":{"$error":"#N/A"}},{"$error":"#N/A"},7921,8.9772727394642793,{"$f":" IF(Foglio1!$C$13 <> \"\", 8.314472*Foglio1!$C$13*Foglio2!R886, NA())","v":{"$error":"#N/A"}},{"$error":"#N/A"}]
[7930,8.9784083146288935,{"$f":" IF(Foglio1!$C$9 <> \"\", 8.314472*Foglio1!$C$9*Foglio2!B887, NA())","v":{"$error":"#N/A"}},{"$error":"#N/A"},7930,8.9784083146288935,{"$f":" IF(Foglio1!$C$10 <> \"\", 8.314472*Foglio1!$C$10*Foglio2!F887, NA())","v":{"$error":"#N/A"}},{"$error":"#N/A"},7930,8.9784083146288935,{"$f":" IF(Foglio1!$C$11 <> \"\", 8.314472*Foglio1!$C$11*Foglio2!J887, NA())","v":{"$error":"#N/A"}},{"$error":"#N/A"},7930,8.9784083146288935,{"$f":" IF(Foglio1!$C$12 <> \"\", 8.314472*Foglio1!$C$12*Foglio2!N887, NA())","v":{"$error":"#N/A"}},{"$error":"#N/A"},7930,8.9784083146288935,{"$f":" IF(Foglio1!$C$13 <> \"\", 8.314472*Foglio1!$C$13*Foglio2!R887, NA())","v":{"$error":"#N/A"}},{"$error":"#N/A"}]
[7939,8.9795426017251128,{"$f":" IF(Foglio1!$C$9 <> \"\", 8.314472*Foglio1!$C$9*Foglio2!B888, NA())","v":{"$error":"#N/A"}},{"$error":"#N/A"},7939,8.9795426017251128,{"$f":" IF(Foglio1!$C$10 <> \"\", 8.314472*Foglio1!$C$10*Foglio2!F888, NA())","v":{"$error":"#N/A"}},{"$error":"#N/A"},7939,8.9795426017251128,{"$f":" IF(Foglio1!$C$11 <> \"\", 8.314472*Foglio1!$C$11*Foglio2!J888, NA())","v":{"$error":"#N/A"}},{"$error":"#N/A"},7939,8.9795426017251128,{"$f":" IF(Foglio1!$C$12 <> \"\", 8.314472*Foglio1!$C$12*Foglio2!N888, NA())","v":{"$error":"#N/A"}},{"$error":"#N/A"},7939,8.9795426017251128,{"$f":" IF(Foglio1!$C$13 <> \"\", 8.314472*Foglio1!$C$13*Foglio2!R888, NA())","v":{"$error":"#N/A"}},{"$error":"#N/A"}]
[7948,8.9806756036717079,{"$f":" IF(Foglio1!$C$9 <> \"\", 8.314472*Foglio1!$C$9*Foglio2!B889, NA())","v":{"$error":"#N/A"}},{"$error":"#N/A"},7948,8.9806756036717079,{"$f":" IF(Foglio1!$C$10 <> \"\", 8.314472*Foglio1!$C$10*Foglio2!F889, NA())","v":{"$error":"#N/A"}},{"$error":"#N/A"},7948,8.9806756036717079,{"$f":" IF(Foglio1!$C$11 <> \"\", 8.314472*Foglio1!$C$11*Foglio2!J889, NA())","v":{"$error":"#N/A"}},{"$error":"#N/A"},7948,8.9806756036717079,{"$f":" IF(Foglio1!$C$12 <> \"\", 8.314472*Foglio1!$C$12*Foglio2!N889, NA())","v":{"$error":"#N/A"}},{"$error":"#N/A"},7948,8.9806756036717079,{"$f":" IF(Foglio1!$C$13 <> \"\", 8.314472*Foglio1!$C$13*Foglio2!R889, NA())","v":{"$error":"#N/A"}},{"$error":"#N/A"}]
[7957,8.9818073233775344,{"$f":" IF(Foglio1!$C$9 <> \"\", 8.314472*Foglio1!$C$9*Foglio2!B890, NA())","v":{"$error":"#N/A"}},{"$error":"#N/A"},7957,8.9818073233775344,{"$f":" IF(Foglio1!$C$10 <> \"\", 8.314472*Foglio1!$C$10*Foglio2!F890, NA())","v":{"$error":"#N/A"}},{"$error":"#N/A"},7957,8.9818073233775344,{"$f":" IF(Foglio1!$C$11 <> \"\", 8.314472*Foglio1!$C$11*Foglio2!J890, NA())","v":{"$error":"#N/A"}},{"$error":"#N/A"},7957,8.9818073233775344,{"$f":" IF(Foglio1!$C$12 <> \"\", 8.314472*Foglio1!$C$12*Foglio2!N890, NA())","v":{"$error":"#N/A"}},{"$error":"#N/A"},7957,8.9818073233775344,{"$f":" IF(Foglio1!$C$13 <> \"\", 8.314472*Foglio1!$C$13*Foglio2!R890, NA())","v":{"$error":"#N/A"}},{"$error":"#N/A"}]
[7966,8.9829377637415888,{"$f":" IF(Foglio1!$C$9 <> \"\", 8.314472*Foglio1!$C$9*Foglio2!B891, NA())","v":{"$error":"#N/A"}},{"$error":"#N/A"},7966,8.9829377637415888,{"$f":" IF(Foglio1!$C$10 <> \"\", 8.314472*Foglio1!$C$10*Foglio2!F891, NA())","v":{"$error":"#N/A"}},{"$error":"#N/A"},7966,8.9829377637415888,{"$f":" IF(Foglio1!$C$11 <> \"\", 8.314472*Foglio1!$C$11*Foglio2!J891, NA())","v":{"$error":"#N/A"}},{"$error":"#N/A"},7966,8.9829377637415888,{"$f":" IF(Foglio1!$C$12 <> \"\", 8.314472*Foglio1!$C$12*Foglio2!N891, NA())","v":{"$error":"#N/A"}},{"$error":"#N/A"},7966,8.9829377637415888,{"$f":" IF(Foglio1!$C$13 <> \"\", 8.314472*Foglio1!$C$13*Foglio2!R891, NA())","v":{"$error":"#N/A"}},{"$error":"#N/A"}]
[7975,8.9840669276530445,{"$f":" IF(Foglio1!$C$9 <> \"\", 8.314472*Foglio1!$C$9*Foglio2!B892, NA())","v":{"$error":"#N/A"}},{"$error":"#N/A"},7975,8.9840669276530445,{"$f":" IF(Foglio1!$C$10 <> \"\", 8.314472*Foglio1!$C$10*Foglio2!F892, NA())","v":{"$error":"#N/A"}},{"$error":"#N/A"},7975,8.9840669276530445,{"$f":" IF(Foglio1!$C$11 <> \"\", 8.314472*Foglio1!$C$11*Foglio2!J892, NA())","v":{"$error":"#N/A"}},{"$error":"#N/A"},7975,8.9840669276530445,{"$f":" IF(Foglio1!$C$12 <> \"\", 8.314472*Foglio1!$C$12*Foglio2!N892, NA())","v":{"$error":"#N/A"}},{"$error":"#N/A"},7975,8.9840669276530445,{"$f":" IF(Foglio1!$C$13 <> \"\", 8.314472*Foglio1!$C$13*Foglio2!R892, NA())","v":{"$error":"#N/A"}},{"$error":"#N/A"}]
[7984,8.9851948179912995,{"$f":" IF(Foglio1!$C$9 <> \"\", 8.314472*Foglio1!$C$9*Foglio2!B893, NA())","v":{"$error":"#N/A"}},{"$error":"#N/A"},7984,8.9851948179912995,{"$f":" IF(Foglio1!$C$10 <> \"\", 8.314472*Foglio1!$C$10*Foglio2!F893, NA())","v":{"$error":"#N/A"}},{"$error":"#N/A"},7984,8.9851948179912995,{"$f":" IF(Foglio1!$C$11 <> \"\", 8.314472*Foglio1!$C$11*Foglio2!J893, NA())","v":{"$error":"#N/A"}},{"$error":"#N/A"},7984,8.9851948179912995,{"$f":" IF(Foglio1!$C$12 <> \"\", 8.314472*Foglio1!$C$12*Foglio2!N893, NA())","v":{"$error":"#N/A"}},{"$error":"#N/A"},7984,8.9851948179912995,{"$f":" IF(Foglio1!$C$13 <> \"\", 8.314472*Foglio1!$C$13*Foglio2!R893, NA())","v":{"$error":"#N/A"}},{"$error":"#N/A"}]
[7993,8.9863214376260192,{"$f":" IF(Foglio1!$C$9 <> \"\", 8.314472*Foglio1!$C$9*Foglio2!B894, NA())","v":{"$error":"#N/A"}},{"$error":"#N/A"},7993,8.9863214376260192,{"$f":" IF(Foglio1!$C$10 <> \"\", 8.314472*Foglio1!$C$10*Foglio2!F894, NA())","v":{"$error":"#N/A"}},{"$error":"#N/A"},7993,8.9863214376260192,{"$f":" IF(Foglio1!$C$11 <> \"\", 8.314472*Foglio1!$C$11*Foglio2!J894, NA())","v":{"$error":"#N/A"}},{"$error":"#N/A"},7993,8.9863214376260192,{"$f":" IF(Foglio1!$C$12 <> \"\", 8.314472*Foglio1!$C$12*Foglio2!N894, NA())","v":{"$error":"#N/A"}},{"$error":"#N/A"},7993,8.9863214376260192,{"$f":" IF(Foglio1!$C$13 <> \"\", 8.314472*Foglio1!$C$13*Foglio2!R894, NA())","v":{"$error":"#N/A"}},{"$error":"#N/A"}]
[8002,8.9874467894171808,{"$f":" IF(Foglio1!$C$9 <> \"\", 8.314472*Foglio1!$C$9*Foglio2!B895, NA())","v":{"$error":"#N/A"}},{"$error":"#N/A"},8002,8.9874467894171808,{"$f":" IF(Foglio1!$C$10 <> \"\", 8.314472*Foglio1!$C$10*Foglio2!F895, NA())","v":{"$error":"#N/A"}},{"$error":"#N/A"},8002,8.9874467894171808,{"$f":" IF(Foglio1!$C$11 <> \"\", 8.314472*Foglio1!$C$11*Foglio2!J895, NA())","v":{"$error":"#N/A"}},{"$error":"#N/A"},8002,8.9874467894171808,{"$f":" IF(Foglio1!$C$12 <> \"\", 8.314472*Foglio1!$C$12*Foglio2!N895, NA())","v":{"$error":"#N/A"}},{"$error":"#N/A"},8002,8.9874467894171808,{"$f":" IF(Foglio1!$C$13 <> \"\", 8.314472*Foglio1!$C$13*Foglio2!R895, NA())","v":{"$error":"#N/A"}},{"$error":"#N/A"}]
[8011,8.9885708762151175,{"$f":" IF(Foglio1!$C$9 <> \"\", 8.314472*Foglio1!$C$9*Foglio2!B896, NA())","v":{"$error":"#N/A"}},{"$error":"#N/A"},8011,8.9885708762151175,{"$f":" IF(Foglio1!$C$10 <> \"\", 8.314472*Foglio1!$C$10*Foglio2!F896, NA())","v":{"$error":"#N/A"}},{"$error":"#N/A"},8011,8.9885708762151175,{"$f":" IF(Foglio1!$C$11 <> \"\", 8.314472*Foglio1!$C$11*Foglio2!J896, NA())","v":{"$error":"#N/A"}},{"$error":"#N/A"},8011,8.9885708762151175,{"$f":" IF(Foglio1!$C$12 <> \"\", 8.314472*Foglio1!$C$12*Foglio2!N896, NA())","v":{"$error":"#N/A"}},{"$error":"#N/A"},8011,8.9885708762151175,{"$f":" IF(Foglio1!$C$13 <> \"\", 8.314472*Foglio1!$C$13*Foglio2!R896, NA())","v":{"$error":"#N/A"}},{"$error":"#N/A"}]
[8020,8.9896937008605597,{"$f":" IF(Foglio1!$C$9 <> \"\", 8.314472*Foglio1!$C$9*Foglio2!B897, NA())","v":{"$error":"#N/A"}},{"$error":"#N/A"},8020,8.9896937008605597,{"$f":" IF(Foglio1!$C$10 <> \"\", 8.314472*Foglio1!$C$10*Foglio2!F897, NA())","v":{"$error":"#N/A"}},{"$error":"#N/A"},8020,8.9896937008605597,{"$f":" IF(Foglio1!$C$11 <> \"\", 8.314472*Foglio1!$C$11*Foglio2!J897, NA())","v":{"$error":"#N/A"}},{"$error":"#N/A"},8020,8.9896937008605597,{"$f":" IF(Foglio1!$C$12 <> \"\", 8.314472*Foglio1!$C$12*Foglio2!N897, NA())","v":{"$error":"#N/A"}},{"$error":"#N/A"},8020,8.9896937008605597,{"$f":" IF(Foglio1!$C$13 <> \"\", 8.314472*Foglio1!$C$13*Foglio2!R897, NA())","v":{"$error":"#N/A"}},{"$error":"#N/A"}]
[8029,8.9908152661846845,{"$f":" IF(Foglio1!$C$9 <> \"\", 8.314472*Foglio1!$C$9*Foglio2!B898, NA())","v":{"$error":"#N/A"}},{"$error":"#N/A"},8029,8.9908152661846845,{"$f":" IF(Foglio1!$C$10 <> \"\", 8.314472*Foglio1!$C$10*Foglio2!F898, NA())","v":{"$error":"#N/A"}},{"$error":"#N/A"},8029,8.9908152661846845,{"$f":" IF(Foglio1!$C$11 <> \"\", 8.314472*Foglio1!$C$11*Foglio2!J898, NA())","v":{"$error":"#N/A"}},{"$error":"#N/A"},8029,8.9908152661846845,{"$f":" IF(Foglio1!$C$12 <> \"\", 8.314472*Foglio1!$C$12*Foglio2!N898, NA())","v":{"$error":"#N/A"}},{"$error":"#N/A"},8029,8.9908152661846845,{"$f":" IF(Foglio1!$C$13 <> \"\", 8.314472*Foglio1!$C$13*Foglio2!R898, NA())","v":{"$error":"#N/A"}},{"$error":"#N/A"}]
[8038,{"$f":"LN(A899)","v":8.9919355750091459},{"$f":" IF(Foglio1!$C$9 <> \"\", 8.314472*Foglio1!$C$9*Foglio2!B899, NA())","v":{"$error":"#N/A"}},{"$f":"  -30.5 + C899*10^-3","v":{"$error":"#N/A"}},8038,{"$f":"LN(E899)","v":8.9919355750091459},{"$f":" IF(Foglio1!$C$10 <> \"\", 8.314472*Foglio1!$C$10*Foglio2!F899, NA())","v":{"$error":"#N/A"}},{"$f":" -30.5+ G899*10^-3","v":{"$error":"#N/A"}},8038,{"$f":"LN(I899)","v":8.9919355750091459},{"$f":" IF(Foglio1!$C$11 <> \"\", 8.314472*Foglio1!$C$11*Foglio2!J899, NA())","v":{"$error":"#N/A"}},{"$f":" -30.5+ K899*10^-3","v":{"$error":"#N/A"}},8038,{"$f":"LN(M899)","v":8.9919355750091459},{"$f":" IF(Foglio1!$C$12 <> \"\", 8.314472*Foglio1!$C$12*Foglio2!N899, NA())","v":{"$error":"#N/A"}},{"$f":" -30.5+ O899*10^-3","v":{"$error":"#N/A"}},8038,{"$f":"LN(Q899)","v":8.9919355750091459},{"$f":" IF(Foglio1!$C$13 <> \"\", 8.314472*Foglio1!$C$13*Foglio2!R899, NA())","v":{"$error":"#N/A"}},{"$f":" -30.5+S899*10^-3","v":{"$error":"#N/A"}}]
[8047,8.9930546301461334,{"$f":" IF(Foglio1!$C$9 <> \"\", 8.314472*Foglio1!$C$9*Foglio2!B900, NA())","v":{"$error":"#N/A"}},{"$error":"#N/A"},8047,8.9930546301461334,{"$f":" IF(Foglio1!$C$10 <> \"\", 8.314472*Foglio1!$C$10*Foglio2!F900, NA())","v":{"$error":"#N/A"}},{"$error":"#N/A"},8047,8.9930546301461334,{"$f":" IF(Foglio1!$C$11 <> \"\", 8.314472*Foglio1!$C$11*Foglio2!J900, NA())","v":{"$error":"#N/A"}},{"$error":"#N/A"},8047,8.9930546301461334,{"$f":" IF(Foglio1!$C$12 <> \"\", 8.314472*Foglio1!$C$12*Foglio2!N900, NA())","v":{"$error":"#N/A"}},{"$error":"#N/A"},8047,8.9930546301461334,{"$f":" IF(Foglio1!$C$13 <> \"\", 8.314472*Foglio1!$C$13*Foglio2!R900, NA())","v":{"$error":"#N/A"}},{"$error":"#N/A"}]
[8056,8.9941724343983989,{"$f":" IF(Foglio1!$C$9 <> \"\", 8.314472*Foglio1!$C$9*Foglio2!B901, NA())","v":{"$error":"#N/A"}},{"$error":"#N/A"},8056,8.9941724343983989,{"$f":" IF(Foglio1!$C$10 <> \"\", 8.314472*Foglio1!$C$10*Foglio2!F901, NA())","v":{"$error":"#N/A"}},{"$error":"#N/A"},8056,8.9941724343983989,{"$f":" IF(Foglio1!$C$11 <> \"\", 8.314472*Foglio1!$C$11*Foglio2!J901, NA())","v":{"$error":"#N/A"}},{"$error":"#N/A"},8056,8.9941724343983989,{"$f":" IF(Foglio1!$C$12 <> \"\", 8.314472*Foglio1!$C$12*Foglio2!N901, NA())","v":{"$error":"#N/A"}},{"$error":"#N/A"},8056,8.9941724343983989,{"$f":" IF(Foglio1!$C$13 <> \"\", 8.314472*Foglio1!$C$13*Foglio2!R901, NA())","v":{"$error":"#N/A"}},{"$error":"#N/A"}]
[8065,8.9952889905593096,{"$f":" IF(Foglio1!$C$9 <> \"\", 8.314472*Foglio1!$C$9*Foglio2!B902, NA())","v":{"$error":"#N/A"}},{"$error":"#N/A"},8065,8.9952889905593096,{"$f":" IF(Foglio1!$C$10 <> \"\", 8.314472*Foglio1!$C$10*Foglio2!F902, NA())","v":{"$error":"#N/A"}},{"$error":"#N/A"},8065,8.9952889905593096,{"$f":" IF(Foglio1!$C$11 <> \"\", 8.314472*Foglio1!$C$11*Foglio2!J902, NA())","v":{"$error":"#N/A"}},{"$error":"#N/A"},8065,8.9952889905593096,{"$f":" IF(Foglio1!$C$12 <> \"\", 8.314472*Foglio1!$C$12*Foglio2!N902, NA())","v":{"$error":"#N/A"}},{"$error":"#N/A"},8065,8.9952889905593096,{"$f":" IF(Foglio1!$C$13 <> \"\", 8.314472*Foglio1!$C$13*Foglio2!R902, NA())","v":{"$error":"#N/A"}},{"$error":"#N/A"}]
[8074,8.9964043014128858,{"$f":" IF(Foglio1!$C$9 <> \"\", 8.314472*Foglio1!$C$9*Foglio2!B903, NA())","v":{"$error":"#N/A"}},{"$error":"#N/A"},8074,8.9964043014128858,{"$f":" IF(Foglio1!$C$10 <> \"\", 8.314472*Foglio1!$C$10*Foglio2!F903, NA())","v":{"$error":"#N/A"}},{"$error":"#N/A"},8074,8.9964043014128858,{"$f":" IF(Foglio1!$C$11 <> \"\", 8.314472*Foglio1!$C$11*Foglio2!J903, NA())","v":{"$error":"#N/A"}},{"$error":"#N/A"},8074,8.9964043014128858,{"$f":" IF(Foglio1!$C$12 <> \"\", 8.314472*Foglio1!$C$12*Foglio2!N903, NA())","v":{"$error":"#N/A"}},{"$error":"#N/A"},8074,8.9964043014128858,{"$f":" IF(Foglio1!$C$13 <> \"\", 8.314472*Foglio1!$C$13*Foglio2!R903, NA())","v":{"$error":"#N/A"}},{"$error":"#N/A"}]
[8083,8.9975183697338448,{"$f":" IF(Foglio1!$C$9 <> \"\", 8.314472*Foglio1!$C$9*Foglio2!B904, NA())","v":{"$error":"#N/A"}},{"$error":"#N/A"},8083,8.9975183697338448,{"$f":" IF(Foglio1!$C$10 <> \"\", 8.314472*Foglio1!$C$10*Foglio2!F904, NA())","v":{"$error":"#N/A"}},{"$error":"#N/A"},8083,8.9975183697338448,{"$f":" IF(Foglio1!$C$11 <> \"\", 8.314472*Foglio1!$C$11*Foglio2!J904, NA())","v":{"$error":"#N/A"}},{"$error":"#N/A"},8083,8.9975183697338448,{"$f":" IF(Foglio1!$C$12 <> \"\", 8.314472*Foglio1!$C$12*Foglio2!N904, NA())","v":{"$error":"#N/A"}},{"$error":"#N/A"},8083,8.9975183697338448,{"$f":" IF(Foglio1!$C$13 <> \"\", 8.314472*Foglio1!$C$13*Foglio2!R904, NA())","v":{"$error":"#N/A"}},{"$error":"#N/A"}]
[8092,8.9986311982876366,{"$f":" IF(Foglio1!$C$9 <> \"\", 8.314472*Foglio1!$C$9*Foglio2!B905, NA())","v":{"$error":"#N/A"}},{"$error":"#N/A"},8092,8.9986311982876366,{"$f":" IF(Foglio1!$C$10 <> \"\", 8.314472*Foglio1!$C$10*Foglio2!F905, NA())","v":{"$error":"#N/A"}},{"$error":"#N/A"},8092,8.9986311982876366,{"$f":" IF(Foglio1!$C$11 <> \"\", 8.314472*Foglio1!$C$11*Foglio2!J905, NA())","v":{"$error":"#N/A"}},{"$error":"#N/A"},8092,8.9986311982876366,{"$f":" IF(Foglio1!$C$12 <> \"\", 8.314472*Foglio1!$C$12*Foglio2!N905, NA())","v":{"$error":"#N/A"}},{"$error":"#N/A"},8092,8.9986311982876366,{"$f":" IF(Foglio1!$C$13 <> \"\", 8.314472*Foglio1!$C$13*Foglio2!R905, NA())","v":{"$error":"#N/A"}},{"$error":"#N/A"}]
[8101,8.999742789830492,{"$f":" IF(Foglio1!$C$9 <> \"\", 8.314472*Foglio1!$C$9*Foglio2!B906, NA())","v":{"$error":"#N/A"}},{"$error":"#N/A"},8101,8.999742789830492,{"$f":" IF(Foglio1!$C$10 <> \"\", 8.314472*Foglio1!$C$10*Foglio2!F906, NA())","v":{"$error":"#N/A"}},{"$error":"#N/A"},8101,8.999742789830492,{"$f":" IF(Foglio1!$C$11 <> \"\", 8.314472*Foglio1!$C$11*Foglio2!J906, NA())","v":{"$error":"#N/A"}},{"$error":"#N/A"},8101,8.999742789830492,{"$f":" IF(Foglio1!$C$12 <> \"\", 8.314472*Foglio1!$C$12*Foglio2!N906, NA())","v":{"$error":"#N/A"}},{"$error":"#N/A"},8101,8.999742789830492,{"$f":" IF(Foglio1!$C$13 <> \"\", 8.314472*Foglio1!$C$13*Foglio2!R906, NA())","v":{"$error":"#N/A"}},{"$error":"#N/A"}]
[8110,9.0008531471094582,{"$f":" IF(Foglio1!$C$9 <> \"\", 8.314472*Foglio1!$C$9*Foglio2!B907, NA())","v":{"$error":"#N/A"}},{"$error":"#N/A"},8110,9.0008531471094582,{"$f":" IF(Foglio1!$C$10 <> \"\", 8.314472*Foglio1!$C$10*Foglio2!F907, NA())","v":{"$error":"#N/A"}},{"$error":"#N/A"},8110,9.0008531471094582,{"$f":" IF(Foglio1!$C$11 <> \"\", 8.314472*Foglio1!$C$11*Foglio2!J907, NA())","v":{"$error":"#N/A"}},{"$error":"#N/A"},8110,9.0008531471094582,{"$f":" IF(Foglio1!$C$12 <> \"\", 8.314472*Foglio1!$C$12*Foglio2!N907, NA())","v":{"$error":"#N/A"}},{"$error":"#N/A"},8110,9.0008531471094582,{"$f":" IF(Foglio1!$C$13 <> \"\", 8.314472*Foglio1!$C$13*Foglio2!R907, NA())","v":{"$error":"#N/A"}},{"$error":"#N/A"}]
[8119,9.0019622728624462,{"$f":" IF(Foglio1!$C$9 <> \"\", 8.314472*Foglio1!$C$9*Foglio2!B908, NA())","v":{"$error":"#N/A"}},{"$error":"#N/A"},8119,9.0019622728624462,{"$f":" IF(Foglio1!$C$10 <> \"\", 8.314472*Foglio1!$C$10*Foglio2!F908, NA())","v":{"$error":"#N/A"}},{"$error":"#N/A"},8119,9.0019622728624462,{"$f":" IF(Foglio1!$C$11 <> \"\", 8.314472*Foglio1!$C$11*Foglio2!J908, NA())","v":{"$error":"#N/A"}},{"$error":"#N/A"},8119,9.0019622728624462,{"$f":" IF(Foglio1!$C$12 <> \"\", 8.314472*Foglio1!$C$12*Foglio2!N908, NA())","v":{"$error":"#N/A"}},{"$error":"#N/A"},8119,9.0019622728624462,{"$f":" IF(Foglio1!$C$13 <> \"\", 8.314472*Foglio1!$C$13*Foglio2!R908, NA())","v":{"$error":"#N/A"}},{"$error":"#N/A"}]
[8128,9.0030701698182636,{"$f":" IF(Foglio1!$C$9 <> \"\", 8.314472*Foglio1!$C$9*Foglio2!B909, NA())","v":{"$error":"#N/A"}},{"$error":"#N/A"},8128,9.0030701698182636,{"$f":" IF(Foglio1!$C$10 <> \"\", 8.314472*Foglio1!$C$10*Foglio2!F909, NA())","v":{"$error":"#N/A"}},{"$error":"#N/A"},8128,9.0030701698182636,{"$f":" IF(Foglio1!$C$11 <> \"\", 8.314472*Foglio1!$C$11*Foglio2!J909, NA())","v":{"$error":"#N/A"}},{"$error":"#N/A"},8128,9.0030701698182636,{"$f":" IF(Foglio1!$C$12 <> \"\", 8.314472*Foglio1!$C$12*Foglio2!N909, NA())","v":{"$error":"#N/A"}},{"$error":"#N/A"},8128,9.0030701698182636,{"$f":" IF(Foglio1!$C$13 <> \"\", 8.314472*Foglio1!$C$13*Foglio2!R909, NA())","v":{"$error":"#N/A"}},{"$error":"#N/A"}]
[8137,9.0041768406966565,{"$f":" IF(Foglio1!$C$9 <> \"\", 8.314472*Foglio1!$C$9*Foglio2!B910, NA())","v":{"$error":"#N/A"}},{"$error":"#N/A"},8137,9.0041768406966565,{"$f":" IF(Foglio1!$C$10 <> \"\", 8.314472*Foglio1!$C$10*Foglio2!F910, NA())","v":{"$error":"#N/A"}},{"$error":"#N/A"},8137,9.0041768406966565,{"$f":" IF(Foglio1!$C$11 <> \"\", 8.314472*Foglio1!$C$11*Foglio2!J910, NA())","v":{"$error":"#N/A"}},{"$error":"#N/A"},8137,9.0041768406966565,{"$f":" IF(Foglio1!$C$12 <> \"\", 8.314472*Foglio1!$C$12*Foglio2!N910, NA())","v":{"$error":"#N/A"}},{"$error":"#N/A"},8137,9.0041768406966565,{"$f":" IF(Foglio1!$C$13 <> \"\", 8.314472*Foglio1!$C$13*Foglio2!R910, NA())","v":{"$error":"#N/A"}},{"$error":"#N/A"}]
[8146,9.0052822882083579,{"$f":" IF(Foglio1!$C$9 <> \"\", 8.314472*Foglio1!$C$9*Foglio2!B911, NA())","v":{"$error":"#N/A"}},{"$error":"#N/A"},8146,9.0052822882083579,{"$f":" IF(Foglio1!$C$10 <> \"\", 8.314472*Foglio1!$C$10*Foglio2!F911, NA())","v":{"$error":"#N/A"}},{"$error":"#N/A"},8146,9.0052822882083579,{"$f":" IF(Foglio1!$C$11 <> \"\", 8.314472*Foglio1!$C$11*Foglio2!J911, NA())","v":{"$error":"#N/A"}},{"$error":"#N/A"},8146,9.0052822882083579,{"$f":" IF(Foglio1!$C$12 <> \"\", 8.314472*Foglio1!$C$12*Foglio2!N911, NA())","v":{"$error":"#N/A"}},{"$error":"#N/A"},8146,9.0052822882083579,{"$f":" IF(Foglio1!$C$13 <> \"\", 8.314472*Foglio1!$C$13*Foglio2!R911, NA())","v":{"$error":"#N/A"}},{"$error":"#N/A"}]
[8155,9.0063865150551141,{"$f":" IF(Foglio1!$C$9 <> \"\", 8.314472*Foglio1!$C$9*Foglio2!B912, NA())","v":{"$error":"#N/A"}},{"$error":"#N/A"},8155,9.0063865150551141,{"$f":" IF(Foglio1!$C$10 <> \"\", 8.314472*Foglio1!$C$10*Foglio2!F912, NA())","v":{"$error":"#N/A"}},{"$error":"#N/A"},8155,9.0063865150551141,{"$f":" IF(Foglio1!$C$11 <> \"\", 8.314472*Foglio1!$C$11*Foglio2!J912, NA())","v":{"$error":"#N/A"}},{"$error":"#N/A"},8155,9.0063865150551141,{"$f":" IF(Foglio1!$C$12 <> \"\", 8.314472*Foglio1!$C$12*Foglio2!N912, NA())","v":{"$error":"#N/A"}},{"$error":"#N/A"},8155,9.0063865150551141,{"$f":" IF(Foglio1!$C$13 <> \"\", 8.314472*Foglio1!$C$13*Foglio2!R912, NA())","v":{"$error":"#N/A"}},{"$error":"#N/A"}]
[8164,9.0074895239297348,{"$f":" IF(Foglio1!$C$9 <> \"\", 8.314472*Foglio1!$C$9*Foglio2!B913, NA())","v":{"$error":"#N/A"}},{"$error":"#N/A"},8164,9.0074895239297348,{"$f":" IF(Foglio1!$C$10 <> \"\", 8.314472*Foglio1!$C$10*Foglio2!F913, NA())","v":{"$error":"#N/A"}},{"$error":"#N/A"},8164,9.0074895239297348,{"$f":" IF(Foglio1!$C$11 <> \"\", 8.314472*Foglio1!$C$11*Foglio2!J913, NA())","v":{"$error":"#N/A"}},{"$error":"#N/A"},8164,9.0074895239297348,{"$f":" IF(Foglio1!$C$12 <> \"\", 8.314472*Foglio1!$C$12*Foglio2!N913, NA())","v":{"$error":"#N/A"}},{"$error":"#N/A"},8164,9.0074895239297348,{"$f":" IF(Foglio1!$C$13 <> \"\", 8.314472*Foglio1!$C$13*Foglio2!R913, NA())","v":{"$error":"#N/A"}},{"$error":"#N/A"}]
[8173,9.0085913175161298,{"$f":" IF(Foglio1!$C$9 <> \"\", 8.314472*Foglio1!$C$9*Foglio2!B914, NA())","v":{"$error":"#N/A"}},{"$error":"#N/A"},8173,9.0085913175161298,{"$f":" IF(Foglio1!$C$10 <> \"\", 8.314472*Foglio1!$C$10*Foglio2!F914, NA())","v":{"$error":"#N/A"}},{"$error":"#N/A"},8173,9.0085913175161298,{"$f":" IF(Foglio1!$C$11 <> \"\", 8.314472*Foglio1!$C$11*Foglio2!J914, NA())","v":{"$error":"#N/A"}},{"$error":"#N/A"},8173,9.0085913175161298,{"$f":" IF(Foglio1!$C$12 <> \"\", 8.314472*Foglio1!$C$12*Foglio2!N914, NA())","v":{"$error":"#N/A"}},{"$error":"#N/A"},8173,9.0085913175161298,{"$f":" IF(Foglio1!$C$13 <> \"\", 8.314472*Foglio1!$C$13*Foglio2!R914, NA())","v":{"$error":"#N/A"}},{"$error":"#N/A"}]
[8182,9.0096918984893435,{"$f":" IF(Foglio1!$C$9 <> \"\", 8.314472*Foglio1!$C$9*Foglio2!B915, NA())","v":{"$error":"#N/A"}},{"$error":"#N/A"},8182,9.0096918984893435,{"$f":" IF(Foglio1!$C$10 <> \"\", 8.314472*Foglio1!$C$10*Foglio2!F915, NA())","v":{"$error":"#N/A"}},{"$error":"#N/A"},8182,9.0096918984893435,{"$f":" IF(Foglio1!$C$11 <> \"\", 8.314472*Foglio1!$C$11*Foglio2!J915, NA())","v":{"$error":"#N/A"}},{"$error":"#N/A"},8182,9.0096918984893435,{"$f":" IF(Foglio1!$C$12 <> \"\", 8.314472*Foglio1!$C$12*Foglio2!N915, NA())","v":{"$error":"#N/A"}},{"$error":"#N/A"},8182,9.0096918984893435,{"$f":" IF(Foglio1!$C$13 <> \"\", 8.314472*Foglio1!$C$13*Foglio2!R915, NA())","v":{"$error":"#N/A"}},{"$error":"#N/A"}]
[8191,9.0107912695156021,{"$f":" IF(Foglio1!$C$9 <> \"\", 8.314472*Foglio1!$C$9*Foglio2!B916, NA())","v":{"$error":"#N/A"}},{"$error":"#N/A"},8191,9.0107912695156021,{"$f":" IF(Foglio1!$C$10 <> \"\", 8.314472*Foglio1!$C$10*Foglio2!F916, NA())","v":{"$error":"#N/A"}},{"$error":"#N/A"},8191,9.0107912695156021,{"$f":" IF(Foglio1!$C$11 <> \"\", 8.314472*Foglio1!$C$11*Foglio2!J916, NA())","v":{"$error":"#N/A"}},{"$error":"#N/A"},8191,9.0107912695156021,{"$f":" IF(Foglio1!$C$12 <> \"\", 8.314472*Foglio1!$C$12*Foglio2!N916, NA())","v":{"$error":"#N/A"}},{"$error":"#N/A"},8191,9.0107912695156021,{"$f":" IF(Foglio1!$C$13 <> \"\", 8.314472*Foglio1!$C$13*Foglio2!R916, NA())","v":{"$error":"#N/A"}},{"$error":"#N/A"}]
[8200,9.0118894332523443,{"$f":" IF(Foglio1!$C$9 <> \"\", 8.314472*Foglio1!$C$9*Foglio2!B917, NA())","v":{"$error":"#N/A"}},{"$error":"#N/A"},8200,9.0118894332523443,{"$f":" IF(Foglio1!$C$10 <> \"\", 8.314472*Foglio1!$C$10*Foglio2!F917, NA())","v":{"$error":"#N/A"}},{"$error":"#N/A"},8200,9.0118894332523443,{"$f":" IF(Foglio1!$C$11 <> \"\", 8.314472*Foglio1!$C$11*Foglio2!J917, NA())","v":{"$error":"#N/A"}},{"$error":"#N/A"},8200,9.0118894332523443,{"$f":" IF(Foglio1!$C$12 <> \"\", 8.314472*Foglio1!$C$12*Foglio2!N917, NA())","v":{"$error":"#N/A"}},{"$error":"#N/A"},8200,9.0118894332523443,{"$f":" IF(Foglio1!$C$13 <> \"\", 8.314472*Foglio1!$C$13*Foglio2!R917, NA())","v":{"$error":"#N/A"}},{"$error":"#N/A"}]
[8209,9.0129863923482656,{"$f":" IF(Foglio1!$C$9 <> \"\", 8.314472*Foglio1!$C$9*Foglio2!B918, NA())","v":{"$error":"#N/A"}},{"$error":"#N/A"},8209,9.0129863923482656,{"$f":" IF(Foglio1!$C$10 <> \"\", 8.314472*Foglio1!$C$10*Foglio2!F918, NA())","v":{"$error":"#N/A"}},{"$error":"#N/A"},8209,9.0129863923482656,{"$f":" IF(Foglio1!$C$11 <> \"\", 8.314472*Foglio1!$C$11*Foglio2!J918, NA())","v":{"$error":"#N/A"}},{"$error":"#N/A"},8209,9.0129863923482656,{"$f":" IF(Foglio1!$C$12 <> \"\", 8.314472*Foglio1!$C$12*Foglio2!N918, NA())","v":{"$error":"#N/A"}},{"$error":"#N/A"},8209,9.0129863923482656,{"$f":" IF(Foglio1!$C$13 <> \"\", 8.314472*Foglio1!$C$13*Foglio2!R918, NA())","v":{"$error":"#N/A"}},{"$error":"#N/A"}]
[8218,9.0140821494433556,{"$f":" IF(Foglio1!$C$9 <> \"\", 8.314472*Foglio1!$C$9*Foglio2!B919, NA())","v":{"$error":"#N/A"}},{"$error":"#N/A"},8218,9.0140821494433556,{"$f":" IF(Foglio1!$C$10 <> \"\", 8.314472*Foglio1!$C$10*Foglio2!F919, NA())","v":{"$error":"#N/A"}},{"$error":"#N/A"},8218,9.0140821494433556,{"$f":" IF(Foglio1!$C$11 <> \"\", 8.314472*Foglio1!$C$11*Foglio2!J919, NA())","v":{"$error":"#N/A"}},{"$error":"#N/A"},8218,9.0140821494433556,{"$f":" IF(Foglio1!$C$12 <> \"\", 8.314472*Foglio1!$C$12*Foglio2!N919, NA())","v":{"$error":"#N/A"}},{"$error":"#N/A"},8218,9.0140821494433556,{"$f":" IF(Foglio1!$C$13 <> \"\", 8.314472*Foglio1!$C$13*Foglio2!R919, NA())","v":{"$error":"#N/A"}},{"$error":"#N/A"}]
[8227,9.0151767071689299,{"$f":" IF(Foglio1!$C$9 <> \"\", 8.314472*Foglio1!$C$9*Foglio2!B920, NA())","v":{"$error":"#N/A"}},{"$error":"#N/A"},8227,9.0151767071689299,{"$f":" IF(Foglio1!$C$10 <> \"\", 8.314472*Foglio1!$C$10*Foglio2!F920, NA())","v":{"$error":"#N/A"}},{"$error":"#N/A"},8227,9.0151767071689299,{"$f":" IF(Foglio1!$C$11 <> \"\", 8.314472*Foglio1!$C$11*Foglio2!J920, NA())","v":{"$error":"#N/A"}},{"$error":"#N/A"},8227,9.0151767071689299,{"$f":" IF(Foglio1!$C$12 <> \"\", 8.314472*Foglio1!$C$12*Foglio2!N920, NA())","v":{"$error":"#N/A"}},{"$error":"#N/A"},8227,9.0151767071689299,{"$f":" IF(Foglio1!$C$13 <> \"\", 8.314472*Foglio1!$C$13*Foglio2!R920, NA())","v":{"$error":"#N/A"}},{"$error":"#N/A"}]
[8236,9.01627006814768,{"$f":" IF(Foglio1!$C$9 <> \"\", 8.314472*Foglio1!$C$9*Foglio2!B921, NA())","v":{"$error":"#N/A"}},{"$error":"#N/A"},8236,9.01627006814768,{"$f":" IF(Foglio1!$C$10 <> \"\", 8.314472*Foglio1!$C$10*Foglio2!F921, NA())","v":{"$error":"#N/A"}},{"$error":"#N/A"},8236,9.01627006814768,{"$f":" IF(Foglio1!$C$11 <> \"\", 8.314472*Foglio1!$C$11*Foglio2!J921, NA())","v":{"$error":"#N/A"}},{"$error":"#N/A"},8236,9.01627006814768,{"$f":" IF(Foglio1!$C$12 <> \"\", 8.314472*Foglio1!$C$12*Foglio2!N921, NA())","v":{"$error":"#N/A"}},{"$error":"#N/A"},8236,9.01627006814768,{"$f":" IF(Foglio1!$C$13 <> \"\", 8.314472*Foglio1!$C$13*Foglio2!R921, NA())","v":{"$error":"#N/A"}},{"$error":"#N/A"}]
[8245,9.0173622349936995,{"$f":" IF(Foglio1!$C$9 <> \"\", 8.314472*Foglio1!$C$9*Foglio2!B922, NA())","v":{"$error":"#N/A"}},{"$error":"#N/A"},8245,9.0173622349936995,{"$f":" IF(Foglio1!$C$10 <> \"\", 8.314472*Foglio1!$C$10*Foglio2!F922, NA())","v":{"$error":"#N/A"}},{"$error":"#N/A"},8245,9.0173622349936995,{"$f":" IF(Foglio1!$C$11 <> \"\", 8.314472*Foglio1!$C$11*Foglio2!J922, NA())","v":{"$error":"#N/A"}},{"$error":"#N/A"},8245,9.0173622349936995,{"$f":" IF(Foglio1!$C$12 <> \"\", 8.314472*Foglio1!$C$12*Foglio2!N922, NA())","v":{"$error":"#N/A"}},{"$error":"#N/A"},8245,9.0173622349936995,{"$f":" IF(Foglio1!$C$13 <> \"\", 8.314472*Foglio1!$C$13*Foglio2!R922, NA())","v":{"$error":"#N/A"}},{"$error":"#N/A"}]
[8254,9.0184532103125274,{"$f":" IF(Foglio1!$C$9 <> \"\", 8.314472*Foglio1!$C$9*Foglio2!B923, NA())","v":{"$error":"#N/A"}},{"$error":"#N/A"},8254,9.0184532103125274,{"$f":" IF(Foglio1!$C$10 <> \"\", 8.314472*Foglio1!$C$10*Foglio2!F923, NA())","v":{"$error":"#N/A"}},{"$error":"#N/A"},8254,9.0184532103125274,{"$f":" IF(Foglio1!$C$11 <> \"\", 8.314472*Foglio1!$C$11*Foglio2!J923, NA())","v":{"$error":"#N/A"}},{"$error":"#N/A"},8254,9.0184532103125274,{"$f":" IF(Foglio1!$C$12 <> \"\", 8.314472*Foglio1!$C$12*Foglio2!N923, NA())","v":{"$error":"#N/A"}},{"$error":"#N/A"},8254,9.0184532103125274,{"$f":" IF(Foglio1!$C$13 <> \"\", 8.314472*Foglio1!$C$13*Foglio2!R923, NA())","v":{"$error":"#N/A"}},{"$error":"#N/A"}]
[8263,9.0195429967011851,{"$f":" IF(Foglio1!$C$9 <> \"\", 8.314472*Foglio1!$C$9*Foglio2!B924, NA())","v":{"$error":"#N/A"}},{"$error":"#N/A"},8263,9.0195429967011851,{"$f":" IF(Foglio1!$C$10 <> \"\", 8.314472*Foglio1!$C$10*Foglio2!F924, NA())","v":{"$error":"#N/A"}},{"$error":"#N/A"},8263,9.0195429967011851,{"$f":" IF(Foglio1!$C$11 <> \"\", 8.314472*Foglio1!$C$11*Foglio2!J924, NA())","v":{"$error":"#N/A"}},{"$error":"#N/A"},8263,9.0195429967011851,{"$f":" IF(Foglio1!$C$12 <> \"\", 8.314472*Foglio1!$C$12*Foglio2!N924, NA())","v":{"$error":"#N/A"}},{"$error":"#N/A"},8263,9.0195429967011851,{"$f":" IF(Foglio1!$C$13 <> \"\", 8.314472*Foglio1!$C$13*Foglio2!R924, NA())","v":{"$error":"#N/A"}},{"$error":"#N/A"}]
[8272,9.0206315967482098,{"$f":" IF(Foglio1!$C$9 <> \"\", 8.314472*Foglio1!$C$9*Foglio2!B925, NA())","v":{"$error":"#N/A"}},{"$error":"#N/A"},8272,9.0206315967482098,{"$f":" IF(Foglio1!$C$10 <> \"\", 8.314472*Foglio1!$C$10*Foglio2!F925, NA())","v":{"$error":"#N/A"}},{"$error":"#N/A"},8272,9.0206315967482098,{"$f":" IF(Foglio1!$C$11 <> \"\", 8.314472*Foglio1!$C$11*Foglio2!J925, NA())","v":{"$error":"#N/A"}},{"$error":"#N/A"},8272,9.0206315967482098,{"$f":" IF(Foglio1!$C$12 <> \"\", 8.314472*Foglio1!$C$12*Foglio2!N925, NA())","v":{"$error":"#N/A"}},{"$error":"#N/A"},8272,9.0206315967482098,{"$f":" IF(Foglio1!$C$13 <> \"\", 8.314472*Foglio1!$C$13*Foglio2!R925, NA())","v":{"$error":"#N/A"}},{"$error":"#N/A"}]
[8281,9.0217190130336995,{"$f":" IF(Foglio1!$C$9 <> \"\", 8.314472*Foglio1!$C$9*Foglio2!B926, NA())","v":{"$error":"#N/A"}},{"$error":"#N/A"},8281,9.0217190130336995,{"$f":" IF(Foglio1!$C$10 <> \"\", 8.314472*Foglio1!$C$10*Foglio2!F926, NA())","v":{"$error":"#N/A"}},{"$error":"#N/A"},8281,9.0217190130336995,{"$f":" IF(Foglio1!$C$11 <> \"\", 8.314472*Foglio1!$C$11*Foglio2!J926, NA())","v":{"$error":"#N/A"}},{"$error":"#N/A"},8281,9.0217190130336995,{"$f":" IF(Foglio1!$C$12 <> \"\", 8.314472*Foglio1!$C$12*Foglio2!N926, NA())","v":{"$error":"#N/A"}},{"$error":"#N/A"},8281,9.0217190130336995,{"$f":" IF(Foglio1!$C$13 <> \"\", 8.314472*Foglio1!$C$13*Foglio2!R926, NA())","v":{"$error":"#N/A"}},{"$error":"#N/A"}]
[8290,9.022805248129341,{"$f":" IF(Foglio1!$C$9 <> \"\", 8.314472*Foglio1!$C$9*Foglio2!B927, NA())","v":{"$error":"#N/A"}},{"$error":"#N/A"},8290,9.022805248129341,{"$f":" IF(Foglio1!$C$10 <> \"\", 8.314472*Foglio1!$C$10*Foglio2!F927, NA())","v":{"$error":"#N/A"}},{"$error":"#N/A"},8290,9.022805248129341,{"$f":" IF(Foglio1!$C$11 <> \"\", 8.314472*Foglio1!$C$11*Foglio2!J927, NA())","v":{"$error":"#N/A"}},{"$error":"#N/A"},8290,9.022805248129341,{"$f":" IF(Foglio1!$C$12 <> \"\", 8.314472*Foglio1!$C$12*Foglio2!N927, NA())","v":{"$error":"#N/A"}},{"$error":"#N/A"},8290,9.022805248129341,{"$f":" IF(Foglio1!$C$13 <> \"\", 8.314472*Foglio1!$C$13*Foglio2!R927, NA())","v":{"$error":"#N/A"}},{"$error":"#N/A"}]
[8299,9.0238903045984475,{"$f":" IF(Foglio1!$C$9 <> \"\", 8.314472*Foglio1!$C$9*Foglio2!B928, NA())","v":{"$error":"#N/A"}},{"$error":"#N/A"},8299,9.0238903045984475,{"$f":" IF(Foglio1!$C$10 <> \"\", 8.314472*Foglio1!$C$10*Foglio2!F928, NA())","v":{"$error":"#N/A"}},{"$error":"#N/A"},8299,9.0238903045984475,{"$f":" IF(Foglio1!$C$11 <> \"\", 8.314472*Foglio1!$C$11*Foglio2!J928, NA())","v":{"$error":"#N/A"}},{"$error":"#N/A"},8299,9.0238903045984475,{"$f":" IF(Foglio1!$C$12 <> \"\", 8.314472*Foglio1!$C$12*Foglio2!N928, NA())","v":{"$error":"#N/A"}},{"$error":"#N/A"},8299,9.0238903045984475,{"$f":" IF(Foglio1!$C$13 <> \"\", 8.314472*Foglio1!$C$13*Foglio2!R928, NA())","v":{"$error":"#N/A"}},{"$error":"#N/A"}]
[8308,9.0249741849960028,{"$f":" IF(Foglio1!$C$9 <> \"\", 8.314472*Foglio1!$C$9*Foglio2!B929, NA())","v":{"$error":"#N/A"}},{"$error":"#N/A"},8308,9.0249741849960028,{"$f":" IF(Foglio1!$C$10 <> \"\", 8.314472*Foglio1!$C$10*Foglio2!F929, NA())","v":{"$error":"#N/A"}},{"$error":"#N/A"},8308,9.0249741849960028,{"$f":" IF(Foglio1!$C$11 <> \"\", 8.314472*Foglio1!$C$11*Foglio2!J929, NA())","v":{"$error":"#N/A"}},{"$error":"#N/A"},8308,9.0249741849960028,{"$f":" IF(Foglio1!$C$12 <> \"\", 8.314472*Foglio1!$C$12*Foglio2!N929, NA())","v":{"$error":"#N/A"}},{"$error":"#N/A"},8308,9.0249741849960028,{"$f":" IF(Foglio1!$C$13 <> \"\", 8.314472*Foglio1!$C$13*Foglio2!R929, NA())","v":{"$error":"#N/A"}},{"$error":"#N/A"}]
[8317,9.0260568918686879,{"$f":" IF(Foglio1!$C$9 <> \"\", 8.314472*Foglio1!$C$9*Foglio2!B930, NA())","v":{"$error":"#N/A"}},{"$error":"#N/A"},8317,9.0260568918686879,{"$f":" IF(Foglio1!$C$10 <> \"\", 8.314472*Foglio1!$C$10*Foglio2!F930, NA())","v":{"$error":"#N/A"}},{"$error":"#N/A"},8317,9.0260568918686879,{"$f":" IF(Foglio1!$C$11 <> \"\", 8.314472*Foglio1!$C$11*Foglio2!J930, NA())","v":{"$error":"#N/A"}},{"$error":"#N/A"},8317,9.0260568918686879,{"$f":" IF(Foglio1!$C$12 <> \"\", 8.314472*Foglio1!$C$12*Foglio2!N930, NA())","v":{"$error":"#N/A"}},{"$error":"#N/A"},8317,9.0260568918686879,{"$f":" IF(Foglio1!$C$13 <> \"\", 8.314472*Foglio1!$C$13*Foglio2!R930, NA())","v":{"$error":"#N/A"}},{"$error":"#N/A"}]
[8326,9.0271384277549203,{"$f":" IF(Foglio1!$C$9 <> \"\", 8.314472*Foglio1!$C$9*Foglio2!B931, NA())","v":{"$error":"#N/A"}},{"$error":"#N/A"},8326,9.0271384277549203,{"$f":" IF(Foglio1!$C$10 <> \"\", 8.314472*Foglio1!$C$10*Foglio2!F931, NA())","v":{"$error":"#N/A"}},{"$error":"#N/A"},8326,9.0271384277549203,{"$f":" IF(Foglio1!$C$11 <> \"\", 8.314472*Foglio1!$C$11*Foglio2!J931, NA())","v":{"$error":"#N/A"}},{"$error":"#N/A"},8326,9.0271384277549203,{"$f":" IF(Foglio1!$C$12 <> \"\", 8.314472*Foglio1!$C$12*Foglio2!N931, NA())","v":{"$error":"#N/A"}},{"$error":"#N/A"},8326,9.0271384277549203,{"$f":" IF(Foglio1!$C$13 <> \"\", 8.314472*Foglio1!$C$13*Foglio2!R931, NA())","v":{"$error":"#N/A"}},{"$error":"#N/A"}]
[8335,9.0282187951848947,{"$f":" IF(Foglio1!$C$9 <> \"\", 8.314472*Foglio1!$C$9*Foglio2!B932, NA())","v":{"$error":"#N/A"}},{"$error":"#N/A"},8335,9.0282187951848947,{"$f":" IF(Foglio1!$C$10 <> \"\", 8.314472*Foglio1!$C$10*Foglio2!F932, NA())","v":{"$error":"#N/A"}},{"$error":"#N/A"},8335,9.0282187951848947,{"$f":" IF(Foglio1!$C$11 <> \"\", 8.314472*Foglio1!$C$11*Foglio2!J932, NA())","v":{"$error":"#N/A"}},{"$error":"#N/A"},8335,9.0282187951848947,{"$f":" IF(Foglio1!$C$12 <> \"\", 8.314472*Foglio1!$C$12*Foglio2!N932, NA())","v":{"$error":"#N/A"}},{"$error":"#N/A"},8335,9.0282187951848947,{"$f":" IF(Foglio1!$C$13 <> \"\", 8.314472*Foglio1!$C$13*Foglio2!R932, NA())","v":{"$error":"#N/A"}},{"$error":"#N/A"}]
[8344,9.029297996680608,{"$f":" IF(Foglio1!$C$9 <> \"\", 8.314472*Foglio1!$C$9*Foglio2!B933, NA())","v":{"$error":"#N/A"}},{"$error":"#N/A"},8344,9.029297996680608,{"$f":" IF(Foglio1!$C$10 <> \"\", 8.314472*Foglio1!$C$10*Foglio2!F933, NA())","v":{"$error":"#N/A"}},{"$error":"#N/A"},8344,9.029297996680608,{"$f":" IF(Foglio1!$C$11 <> \"\", 8.314472*Foglio1!$C$11*Foglio2!J933, NA())","v":{"$error":"#N/A"}},{"$error":"#N/A"},8344,9.029297996680608,{"$f":" IF(Foglio1!$C$12 <> \"\", 8.314472*Foglio1!$C$12*Foglio2!N933, NA())","v":{"$error":"#N/A"}},{"$error":"#N/A"},8344,9.029297996680608,{"$f":" IF(Foglio1!$C$13 <> \"\", 8.314472*Foglio1!$C$13*Foglio2!R933, NA())","v":{"$error":"#N/A"}},{"$error":"#N/A"}]
[8353,9.030376034755907,{"$f":" IF(Foglio1!$C$9 <> \"\", 8.314472*Foglio1!$C$9*Foglio2!B934, NA())","v":{"$error":"#N/A"}},{"$error":"#N/A"},8353,9.030376034755907,{"$f":" IF(Foglio1!$C$10 <> \"\", 8.314472*Foglio1!$C$10*Foglio2!F934, NA())","v":{"$error":"#N/A"}},{"$error":"#N/A"},8353,9.030376034755907,{"$f":" IF(Foglio1!$C$11 <> \"\", 8.314472*Foglio1!$C$11*Foglio2!J934, NA())","v":{"$error":"#N/A"}},{"$error":"#N/A"},8353,9.030376034755907,{"$f":" IF(Foglio1!$C$12 <> \"\", 8.314472*Foglio1!$C$12*Foglio2!N934, NA())","v":{"$error":"#N/A"}},{"$error":"#N/A"},8353,9.030376034755907,{"$f":" IF(Foglio1!$C$13 <> \"\", 8.314472*Foglio1!$C$13*Foglio2!R934, NA())","v":{"$error":"#N/A"}},{"$error":"#N/A"}]
[8362,9.0314529119165101,{"$f":" IF(Foglio1!$C$9 <> \"\", 8.314472*Foglio1!$C$9*Foglio2!B935, NA())","v":{"$error":"#N/A"}},{"$error":"#N/A"},8362,9.0314529119165101,{"$f":" IF(Foglio1!$C$10 <> \"\", 8.314472*Foglio1!$C$10*Foglio2!F935, NA())","v":{"$error":"#N/A"}},{"$error":"#N/A"},8362,9.0314529119165101,{"$f":" IF(Foglio1!$C$11 <> \"\", 8.314472*Foglio1!$C$11*Foglio2!J935, NA())","v":{"$error":"#N/A"}},{"$error":"#N/A"},8362,9.0314529119165101,{"$f":" IF(Foglio1!$C$12 <> \"\", 8.314472*Foglio1!$C$12*Foglio2!N935, NA())","v":{"$error":"#N/A"}},{"$error":"#N/A"},8362,9.0314529119165101,{"$f":" IF(Foglio1!$C$13 <> \"\", 8.314472*Foglio1!$C$13*Foglio2!R935, NA())","v":{"$error":"#N/A"}},{"$error":"#N/A"}]
[8371,9.0325286306600567,{"$f":" IF(Foglio1!$C$9 <> \"\", 8.314472*Foglio1!$C$9*Foglio2!B936, NA())","v":{"$error":"#N/A"}},{"$error":"#N/A"},8371,9.0325286306600567,{"$f":" IF(Foglio1!$C$10 <> \"\", 8.314472*Foglio1!$C$10*Foglio2!F936, NA())","v":{"$error":"#N/A"}},{"$error":"#N/A"},8371,9.0325286306600567,{"$f":" IF(Foglio1!$C$11 <> \"\", 8.314472*Foglio1!$C$11*Foglio2!J936, NA())","v":{"$error":"#N/A"}},{"$error":"#N/A"},8371,9.0325286306600567,{"$f":" IF(Foglio1!$C$12 <> \"\", 8.314472*Foglio1!$C$12*Foglio2!N936, NA())","v":{"$error":"#N/A"}},{"$error":"#N/A"},8371,9.0325286306600567,{"$f":" IF(Foglio1!$C$13 <> \"\", 8.314472*Foglio1!$C$13*Foglio2!R936, NA())","v":{"$error":"#N/A"}},{"$error":"#N/A"}]
[8380,9.0336031934761287,{"$f":" IF(Foglio1!$C$9 <> \"\", 8.314472*Foglio1!$C$9*Foglio2!B937, NA())","v":{"$error":"#N/A"}},{"$error":"#N/A"},8380,9.0336031934761287,{"$f":" IF(Foglio1!$C$10 <> \"\", 8.314472*Foglio1!$C$10*Foglio2!F937, NA())","v":{"$error":"#N/A"}},{"$error":"#N/A"},8380,9.0336031934761287,{"$f":" IF(Foglio1!$C$11 <> \"\", 8.314472*Foglio1!$C$11*Foglio2!J937, NA())","v":{"$error":"#N/A"}},{"$error":"#N/A"},8380,9.0336031934761287,{"$f":" IF(Foglio1!$C$12 <> \"\", 8.314472*Foglio1!$C$12*Foglio2!N937, NA())","v":{"$error":"#N/A"}},{"$error":"#N/A"},8380,9.0336031934761287,{"$f":" IF(Foglio1!$C$13 <> \"\", 8.314472*Foglio1!$C$13*Foglio2!R937, NA())","v":{"$error":"#N/A"}},{"$error":"#N/A"}]
[8389,9.0346766028462948,{"$f":" IF(Foglio1!$C$9 <> \"\", 8.314472*Foglio1!$C$9*Foglio2!B938, NA())","v":{"$error":"#N/A"}},{"$error":"#N/A"},8389,9.0346766028462948,{"$f":" IF(Foglio1!$C$10 <> \"\", 8.314472*Foglio1!$C$10*Foglio2!F938, NA())","v":{"$error":"#N/A"}},{"$error":"#N/A"},8389,9.0346766028462948,{"$f":" IF(Foglio1!$C$11 <> \"\", 8.314472*Foglio1!$C$11*Foglio2!J938, NA())","v":{"$error":"#N/A"}},{"$error":"#N/A"},8389,9.0346766028462948,{"$f":" IF(Foglio1!$C$12 <> \"\", 8.314472*Foglio1!$C$12*Foglio2!N938, NA())","v":{"$error":"#N/A"}},{"$error":"#N/A"},8389,9.0346766028462948,{"$f":" IF(Foglio1!$C$13 <> \"\", 8.314472*Foglio1!$C$13*Foglio2!R938, NA())","v":{"$error":"#N/A"}},{"$error":"#N/A"}]
[8398,9.035748861244139,{"$f":" IF(Foglio1!$C$9 <> \"\", 8.314472*Foglio1!$C$9*Foglio2!B939, NA())","v":{"$error":"#N/A"}},{"$error":"#N/A"},8398,9.035748861244139,{"$f":" IF(Foglio1!$C$10 <> \"\", 8.314472*Foglio1!$C$10*Foglio2!F939, NA())","v":{"$error":"#N/A"}},{"$error":"#N/A"},8398,9.035748861244139,{"$f":" IF(Foglio1!$C$11 <> \"\", 8.314472*Foglio1!$C$11*Foglio2!J939, NA())","v":{"$error":"#N/A"}},{"$error":"#N/A"},8398,9.035748861244139,{"$f":" IF(Foglio1!$C$12 <> \"\", 8.314472*Foglio1!$C$12*Foglio2!N939, NA())","v":{"$error":"#N/A"}},{"$error":"#N/A"},8398,9.035748861244139,{"$f":" IF(Foglio1!$C$13 <> \"\", 8.314472*Foglio1!$C$13*Foglio2!R939, NA())","v":{"$error":"#N/A"}},{"$error":"#N/A"}]
[8407,9.0368199711352961,{"$f":" IF(Foglio1!$C$9 <> \"\", 8.314472*Foglio1!$C$9*Foglio2!B940, NA())","v":{"$error":"#N/A"}},{"$error":"#N/A"},8407,9.0368199711352961,{"$f":" IF(Foglio1!$C$10 <> \"\", 8.314472*Foglio1!$C$10*Foglio2!F940, NA())","v":{"$error":"#N/A"}},{"$error":"#N/A"},8407,9.0368199711352961,{"$f":" IF(Foglio1!$C$11 <> \"\", 8.314472*Foglio1!$C$11*Foglio2!J940, NA())","v":{"$error":"#N/A"}},{"$error":"#N/A"},8407,9.0368199711352961,{"$f":" IF(Foglio1!$C$12 <> \"\", 8.314472*Foglio1!$C$12*Foglio2!N940, NA())","v":{"$error":"#N/A"}},{"$error":"#N/A"},8407,9.0368199711352961,{"$f":" IF(Foglio1!$C$13 <> \"\", 8.314472*Foglio1!$C$13*Foglio2!R940, NA())","v":{"$error":"#N/A"}},{"$error":"#N/A"}]
[8416,9.0378899349774908,{"$f":" IF(Foglio1!$C$9 <> \"\", 8.314472*Foglio1!$C$9*Foglio2!B941, NA())","v":{"$error":"#N/A"}},{"$error":"#N/A"},8416,9.0378899349774908,{"$f":" IF(Foglio1!$C$10 <> \"\", 8.314472*Foglio1!$C$10*Foglio2!F941, NA())","v":{"$error":"#N/A"}},{"$error":"#N/A"},8416,9.0378899349774908,{"$f":" IF(Foglio1!$C$11 <> \"\", 8.314472*Foglio1!$C$11*Foglio2!J941, NA())","v":{"$error":"#N/A"}},{"$error":"#N/A"},8416,9.0378899349774908,{"$f":" IF(Foglio1!$C$12 <> \"\", 8.314472*Foglio1!$C$12*Foglio2!N941, NA())","v":{"$error":"#N/A"}},{"$error":"#N/A"},8416,9.0378899349774908,{"$f":" IF(Foglio1!$C$13 <> \"\", 8.314472*Foglio1!$C$13*Foglio2!R941, NA())","v":{"$error":"#N/A"}},{"$error":"#N/A"}]
[8425,9.0389587552205626,{"$f":" IF(Foglio1!$C$9 <> \"\", 8.314472*Foglio1!$C$9*Foglio2!B942, NA())","v":{"$error":"#N/A"}},{"$error":"#N/A"},8425,9.0389587552205626,{"$f":" IF(Foglio1!$C$10 <> \"\", 8.314472*Foglio1!$C$10*Foglio2!F942, NA())","v":{"$error":"#N/A"}},{"$error":"#N/A"},8425,9.0389587552205626,{"$f":" IF(Foglio1!$C$11 <> \"\", 8.314472*Foglio1!$C$11*Foglio2!J942, NA())","v":{"$error":"#N/A"}},{"$error":"#N/A"},8425,9.0389587552205626,{"$f":" IF(Foglio1!$C$12 <> \"\", 8.314472*Foglio1!$C$12*Foglio2!N942, NA())","v":{"$error":"#N/A"}},{"$error":"#N/A"},8425,9.0389587552205626,{"$f":" IF(Foglio1!$C$13 <> \"\", 8.314472*Foglio1!$C$13*Foglio2!R942, NA())","v":{"$error":"#N/A"}},{"$error":"#N/A"}]
[8434,9.0400264343065047,{"$f":" IF(Foglio1!$C$9 <> \"\", 8.314472*Foglio1!$C$9*Foglio2!B943, NA())","v":{"$error":"#N/A"}},{"$error":"#N/A"},8434,9.0400264343065047,{"$f":" IF(Foglio1!$C$10 <> \"\", 8.314472*Foglio1!$C$10*Foglio2!F943, NA())","v":{"$error":"#N/A"}},{"$error":"#N/A"},8434,9.0400264343065047,{"$f":" IF(Foglio1!$C$11 <> \"\", 8.314472*Foglio1!$C$11*Foglio2!J943, NA())","v":{"$error":"#N/A"}},{"$error":"#N/A"},8434,9.0400264343065047,{"$f":" IF(Foglio1!$C$12 <> \"\", 8.314472*Foglio1!$C$12*Foglio2!N943, NA())","v":{"$error":"#N/A"}},{"$error":"#N/A"},8434,9.0400264343065047,{"$f":" IF(Foglio1!$C$13 <> \"\", 8.314472*Foglio1!$C$13*Foglio2!R943, NA())","v":{"$error":"#N/A"}},{"$error":"#N/A"}]
[8443,9.0410929746694997,{"$f":" IF(Foglio1!$C$9 <> \"\", 8.314472*Foglio1!$C$9*Foglio2!B944, NA())","v":{"$error":"#N/A"}},{"$error":"#N/A"},8443,9.0410929746694997,{"$f":" IF(Foglio1!$C$10 <> \"\", 8.314472*Foglio1!$C$10*Foglio2!F944, NA())","v":{"$error":"#N/A"}},{"$error":"#N/A"},8443,9.0410929746694997,{"$f":" IF(Foglio1!$C$11 <> \"\", 8.314472*Foglio1!$C$11*Foglio2!J944, NA())","v":{"$error":"#N/A"}},{"$error":"#N/A"},8443,9.0410929746694997,{"$f":" IF(Foglio1!$C$12 <> \"\", 8.314472*Foglio1!$C$12*Foglio2!N944, NA())","v":{"$error":"#N/A"}},{"$error":"#N/A"},8443,9.0410929746694997,{"$f":" IF(Foglio1!$C$13 <> \"\", 8.314472*Foglio1!$C$13*Foglio2!R944, NA())","v":{"$error":"#N/A"}},{"$error":"#N/A"}]
[8452,9.0421583787359481,{"$f":" IF(Foglio1!$C$9 <> \"\", 8.314472*Foglio1!$C$9*Foglio2!B945, NA())","v":{"$error":"#N/A"}},{"$error":"#N/A"},8452,9.0421583787359481,{"$f":" IF(Foglio1!$C$10 <> \"\", 8.314472*Foglio1!$C$10*Foglio2!F945, NA())","v":{"$error":"#N/A"}},{"$error":"#N/A"},8452,9.0421583787359481,{"$f":" IF(Foglio1!$C$11 <> \"\", 8.314472*Foglio1!$C$11*Foglio2!J945, NA())","v":{"$error":"#N/A"}},{"$error":"#N/A"},8452,9.0421583787359481,{"$f":" IF(Foglio1!$C$12 <> \"\", 8.314472*Foglio1!$C$12*Foglio2!N945, NA())","v":{"$error":"#N/A"}},{"$error":"#N/A"},8452,9.0421583787359481,{"$f":" IF(Foglio1!$C$13 <> \"\", 8.314472*Foglio1!$C$13*Foglio2!R945, NA())","v":{"$error":"#N/A"}},{"$error":"#N/A"}]
[8461,9.0432226489245,{"$f":" IF(Foglio1!$C$9 <> \"\", 8.314472*Foglio1!$C$9*Foglio2!B946, NA())","v":{"$error":"#N/A"}},{"$error":"#N/A"},8461,9.0432226489245,{"$f":" IF(Foglio1!$C$10 <> \"\", 8.314472*Foglio1!$C$10*Foglio2!F946, NA())","v":{"$error":"#N/A"}},{"$error":"#N/A"},8461,9.0432226489245,{"$f":" IF(Foglio1!$C$11 <> \"\", 8.314472*Foglio1!$C$11*Foglio2!J946, NA())","v":{"$error":"#N/A"}},{"$error":"#N/A"},8461,9.0432226489245,{"$f":" IF(Foglio1!$C$12 <> \"\", 8.314472*Foglio1!$C$12*Foglio2!N946, NA())","v":{"$error":"#N/A"}},{"$error":"#N/A"},8461,9.0432226489245,{"$f":" IF(Foglio1!$C$13 <> \"\", 8.314472*Foglio1!$C$13*Foglio2!R946, NA())","v":{"$error":"#N/A"}},{"$error":"#N/A"}]
[8470,9.0442857876460998,{"$f":" IF(Foglio1!$C$9 <> \"\", 8.314472*Foglio1!$C$9*Foglio2!B947, NA())","v":{"$error":"#N/A"}},{"$error":"#N/A"},8470,9.0442857876460998,{"$f":" IF(Foglio1!$C$10 <> \"\", 8.314472*Foglio1!$C$10*Foglio2!F947, NA())","v":{"$error":"#N/A"}},{"$error":"#N/A"},8470,9.0442857876460998,{"$f":" IF(Foglio1!$C$11 <> \"\", 8.314472*Foglio1!$C$11*Foglio2!J947, NA())","v":{"$error":"#N/A"}},{"$error":"#N/A"},8470,9.0442857876460998,{"$f":" IF(Foglio1!$C$12 <> \"\", 8.314472*Foglio1!$C$12*Foglio2!N947, NA())","v":{"$error":"#N/A"}},{"$error":"#N/A"},8470,9.0442857876460998,{"$f":" IF(Foglio1!$C$13 <> \"\", 8.314472*Foglio1!$C$13*Foglio2!R947, NA())","v":{"$error":"#N/A"}},{"$error":"#N/A"}]
[8479,9.0453477973040037,{"$f":" IF(Foglio1!$C$9 <> \"\", 8.314472*Foglio1!$C$9*Foglio2!B948, NA())","v":{"$error":"#N/A"}},{"$error":"#N/A"},8479,9.0453477973040037,{"$f":" IF(Foglio1!$C$10 <> \"\", 8.314472*Foglio1!$C$10*Foglio2!F948, NA())","v":{"$error":"#N/A"}},{"$error":"#N/A"},8479,9.0453477973040037,{"$f":" IF(Foglio1!$C$11 <> \"\", 8.314472*Foglio1!$C$11*Foglio2!J948, NA())","v":{"$error":"#N/A"}},{"$error":"#N/A"},8479,9.0453477973040037,{"$f":" IF(Foglio1!$C$12 <> \"\", 8.314472*Foglio1!$C$12*Foglio2!N948, NA())","v":{"$error":"#N/A"}},{"$error":"#N/A"},8479,9.0453477973040037,{"$f":" IF(Foglio1!$C$13 <> \"\", 8.314472*Foglio1!$C$13*Foglio2!R948, NA())","v":{"$error":"#N/A"}},{"$error":"#N/A"}]
[8488,9.0464086802938191,{"$f":" IF(Foglio1!$C$9 <> \"\", 8.314472*Foglio1!$C$9*Foglio2!B949, NA())","v":{"$error":"#N/A"}},{"$error":"#N/A"},8488,9.0464086802938191,{"$f":" IF(Foglio1!$C$10 <> \"\", 8.314472*Foglio1!$C$10*Foglio2!F949, NA())","v":{"$error":"#N/A"}},{"$error":"#N/A"},8488,9.0464086802938191,{"$f":" IF(Foglio1!$C$11 <> \"\", 8.314472*Foglio1!$C$11*Foglio2!J949, NA())","v":{"$error":"#N/A"}},{"$error":"#N/A"},8488,9.0464086802938191,{"$f":" IF(Foglio1!$C$12 <> \"\", 8.314472*Foglio1!$C$12*Foglio2!N949, NA())","v":{"$error":"#N/A"}},{"$error":"#N/A"},8488,9.0464086802938191,{"$f":" IF(Foglio1!$C$13 <> \"\", 8.314472*Foglio1!$C$13*Foglio2!R949, NA())","v":{"$error":"#N/A"}},{"$error":"#N/A"}]
[8497,9.0474684390035414,{"$f":" IF(Foglio1!$C$9 <> \"\", 8.314472*Foglio1!$C$9*Foglio2!B950, NA())","v":{"$error":"#N/A"}},{"$error":"#N/A"},8497,9.0474684390035414,{"$f":" IF(Foglio1!$C$10 <> \"\", 8.314472*Foglio1!$C$10*Foglio2!F950, NA())","v":{"$error":"#N/A"}},{"$error":"#N/A"},8497,9.0474684390035414,{"$f":" IF(Foglio1!$C$11 <> \"\", 8.314472*Foglio1!$C$11*Foglio2!J950, NA())","v":{"$error":"#N/A"}},{"$error":"#N/A"},8497,9.0474684390035414,{"$f":" IF(Foglio1!$C$12 <> \"\", 8.314472*Foglio1!$C$12*Foglio2!N950, NA())","v":{"$error":"#N/A"}},{"$error":"#N/A"},8497,9.0474684390035414,{"$f":" IF(Foglio1!$C$13 <> \"\", 8.314472*Foglio1!$C$13*Foglio2!R950, NA())","v":{"$error":"#N/A"}},{"$error":"#N/A"}]
[8506,9.0485270758135794,{"$f":" IF(Foglio1!$C$9 <> \"\", 8.314472*Foglio1!$C$9*Foglio2!B951, NA())","v":{"$error":"#N/A"}},{"$error":"#N/A"},8506,9.0485270758135794,{"$f":" IF(Foglio1!$C$10 <> \"\", 8.314472*Foglio1!$C$10*Foglio2!F951, NA())","v":{"$error":"#N/A"}},{"$error":"#N/A"},8506,9.0485270758135794,{"$f":" IF(Foglio1!$C$11 <> \"\", 8.314472*Foglio1!$C$11*Foglio2!J951, NA())","v":{"$error":"#N/A"}},{"$error":"#N/A"},8506,9.0485270758135794,{"$f":" IF(Foglio1!$C$12 <> \"\", 8.314472*Foglio1!$C$12*Foglio2!N951, NA())","v":{"$error":"#N/A"}},{"$error":"#N/A"},8506,9.0485270758135794,{"$f":" IF(Foglio1!$C$13 <> \"\", 8.314472*Foglio1!$C$13*Foglio2!R951, NA())","v":{"$error":"#N/A"}},{"$error":"#N/A"}]
[8515,9.0495845930967889,{"$f":" IF(Foglio1!$C$9 <> \"\", 8.314472*Foglio1!$C$9*Foglio2!B952, NA())","v":{"$error":"#N/A"}},{"$error":"#N/A"},8515,9.0495845930967889,{"$f":" IF(Foglio1!$C$10 <> \"\", 8.314472*Foglio1!$C$10*Foglio2!F952, NA())","v":{"$error":"#N/A"}},{"$error":"#N/A"},8515,9.0495845930967889,{"$f":" IF(Foglio1!$C$11 <> \"\", 8.314472*Foglio1!$C$11*Foglio2!J952, NA())","v":{"$error":"#N/A"}},{"$error":"#N/A"},8515,9.0495845930967889,{"$f":" IF(Foglio1!$C$12 <> \"\", 8.314472*Foglio1!$C$12*Foglio2!N952, NA())","v":{"$error":"#N/A"}},{"$error":"#N/A"},8515,9.0495845930967889,{"$f":" IF(Foglio1!$C$13 <> \"\", 8.314472*Foglio1!$C$13*Foglio2!R952, NA())","v":{"$error":"#N/A"}},{"$error":"#N/A"}]
[8524,9.0506409932185079,{"$f":" IF(Foglio1!$C$9 <> \"\", 8.314472*Foglio1!$C$9*Foglio2!B953, NA())","v":{"$error":"#N/A"}},{"$error":"#N/A"},8524,9.0506409932185079,{"$f":" IF(Foglio1!$C$10 <> \"\", 8.314472*Foglio1!$C$10*Foglio2!F953, NA())","v":{"$error":"#N/A"}},{"$error":"#N/A"},8524,9.0506409932185079,{"$f":" IF(Foglio1!$C$11 <> \"\", 8.314472*Foglio1!$C$11*Foglio2!J953, NA())","v":{"$error":"#N/A"}},{"$error":"#N/A"},8524,9.0506409932185079,{"$f":" IF(Foglio1!$C$12 <> \"\", 8.314472*Foglio1!$C$12*Foglio2!N953, NA())","v":{"$error":"#N/A"}},{"$error":"#N/A"},8524,9.0506409932185079,{"$f":" IF(Foglio1!$C$13 <> \"\", 8.314472*Foglio1!$C$13*Foglio2!R953, NA())","v":{"$error":"#N/A"}},{"$error":"#N/A"}]
[8533,9.0516962785365855,{"$f":" IF(Foglio1!$C$9 <> \"\", 8.314472*Foglio1!$C$9*Foglio2!B954, NA())","v":{"$error":"#N/A"}},{"$error":"#N/A"},8533,9.0516962785365855,{"$f":" IF(Foglio1!$C$10 <> \"\", 8.314472*Foglio1!$C$10*Foglio2!F954, NA())","v":{"$error":"#N/A"}},{"$error":"#N/A"},8533,9.0516962785365855,{"$f":" IF(Foglio1!$C$11 <> \"\", 8.314472*Foglio1!$C$11*Foglio2!J954, NA())","v":{"$error":"#N/A"}},{"$error":"#N/A"},8533,9.0516962785365855,{"$f":" IF(Foglio1!$C$12 <> \"\", 8.314472*Foglio1!$C$12*Foglio2!N954, NA())","v":{"$error":"#N/A"}},{"$error":"#N/A"},8533,9.0516962785365855,{"$f":" IF(Foglio1!$C$13 <> \"\", 8.314472*Foglio1!$C$13*Foglio2!R954, NA())","v":{"$error":"#N/A"}},{"$error":"#N/A"}]
[8542,9.0527504514014119,{"$f":" IF(Foglio1!$C$9 <> \"\", 8.314472*Foglio1!$C$9*Foglio2!B955, NA())","v":{"$error":"#N/A"}},{"$error":"#N/A"},8542,9.0527504514014119,{"$f":" IF(Foglio1!$C$10 <> \"\", 8.314472*Foglio1!$C$10*Foglio2!F955, NA())","v":{"$error":"#N/A"}},{"$error":"#N/A"},8542,9.0527504514014119,{"$f":" IF(Foglio1!$C$11 <> \"\", 8.314472*Foglio1!$C$11*Foglio2!J955, NA())","v":{"$error":"#N/A"}},{"$error":"#N/A"},8542,9.0527504514014119,{"$f":" IF(Foglio1!$C$12 <> \"\", 8.314472*Foglio1!$C$12*Foglio2!N955, NA())","v":{"$error":"#N/A"}},{"$error":"#N/A"},8542,9.0527504514014119,{"$f":" IF(Foglio1!$C$13 <> \"\", 8.314472*Foglio1!$C$13*Foglio2!R955, NA())","v":{"$error":"#N/A"}},{"$error":"#N/A"}]
[8551,9.0538035141559554,{"$f":" IF(Foglio1!$C$9 <> \"\", 8.314472*Foglio1!$C$9*Foglio2!B956, NA())","v":{"$error":"#N/A"}},{"$error":"#N/A"},8551,9.0538035141559554,{"$f":" IF(Foglio1!$C$10 <> \"\", 8.314472*Foglio1!$C$10*Foglio2!F956, NA())","v":{"$error":"#N/A"}},{"$error":"#N/A"},8551,9.0538035141559554,{"$f":" IF(Foglio1!$C$11 <> \"\", 8.314472*Foglio1!$C$11*Foglio2!J956, NA())","v":{"$error":"#N/A"}},{"$error":"#N/A"},8551,9.0538035141559554,{"$f":" IF(Foglio1!$C$12 <> \"\", 8.314472*Foglio1!$C$12*Foglio2!N956, NA())","v":{"$error":"#N/A"}},{"$error":"#N/A"},8551,9.0538035141559554,{"$f":" IF(Foglio1!$C$13 <> \"\", 8.314472*Foglio1!$C$13*Foglio2!R956, NA())","v":{"$error":"#N/A"}},{"$error":"#N/A"}]
[8560,9.0548554691357879,{"$f":" IF(Foglio1!$C$9 <> \"\", 8.314472*Foglio1!$C$9*Foglio2!B957, NA())","v":{"$error":"#N/A"}},{"$error":"#N/A"},8560,9.0548554691357879,{"$f":" IF(Foglio1!$C$10 <> \"\", 8.314472*Foglio1!$C$10*Foglio2!F957, NA())","v":{"$error":"#N/A"}},{"$error":"#N/A"},8560,9.0548554691357879,{"$f":" IF(Foglio1!$C$11 <> \"\", 8.314472*Foglio1!$C$11*Foglio2!J957, NA())","v":{"$error":"#N/A"}},{"$error":"#N/A"},8560,9.0548554691357879,{"$f":" IF(Foglio1!$C$12 <> \"\", 8.314472*Foglio1!$C$12*Foglio2!N957, NA())","v":{"$error":"#N/A"}},{"$error":"#N/A"},8560,9.0548554691357879,{"$f":" IF(Foglio1!$C$13 <> \"\", 8.314472*Foglio1!$C$13*Foglio2!R957, NA())","v":{"$error":"#N/A"}},{"$error":"#N/A"}]
[8569,9.055906318669118,{"$f":" IF(Foglio1!$C$9 <> \"\", 8.314472*Foglio1!$C$9*Foglio2!B958, NA())","v":{"$error":"#N/A"}},{"$error":"#N/A"},8569,9.055906318669118,{"$f":" IF(Foglio1!$C$10 <> \"\", 8.314472*Foglio1!$C$10*Foglio2!F958, NA())","v":{"$error":"#N/A"}},{"$error":"#N/A"},8569,9.055906318669118,{"$f":" IF(Foglio1!$C$11 <> \"\", 8.314472*Foglio1!$C$11*Foglio2!J958, NA())","v":{"$error":"#N/A"}},{"$error":"#N/A"},8569,9.055906318669118,{"$f":" IF(Foglio1!$C$12 <> \"\", 8.314472*Foglio1!$C$12*Foglio2!N958, NA())","v":{"$error":"#N/A"}},{"$error":"#N/A"},8569,9.055906318669118,{"$f":" IF(Foglio1!$C$13 <> \"\", 8.314472*Foglio1!$C$13*Foglio2!R958, NA())","v":{"$error":"#N/A"}},{"$error":"#N/A"}]
[8578,9.0569560650768253,{"$f":" IF(Foglio1!$C$9 <> \"\", 8.314472*Foglio1!$C$9*Foglio2!B959, NA())","v":{"$error":"#N/A"}},{"$error":"#N/A"},8578,9.0569560650768253,{"$f":" IF(Foglio1!$C$10 <> \"\", 8.314472*Foglio1!$C$10*Foglio2!F959, NA())","v":{"$error":"#N/A"}},{"$error":"#N/A"},8578,9.0569560650768253,{"$f":" IF(Foglio1!$C$11 <> \"\", 8.314472*Foglio1!$C$11*Foglio2!J959, NA())","v":{"$error":"#N/A"}},{"$error":"#N/A"},8578,9.0569560650768253,{"$f":" IF(Foglio1!$C$12 <> \"\", 8.314472*Foglio1!$C$12*Foglio2!N959, NA())","v":{"$error":"#N/A"}},{"$error":"#N/A"},8578,9.0569560650768253,{"$f":" IF(Foglio1!$C$13 <> \"\", 8.314472*Foglio1!$C$13*Foglio2!R959, NA())","v":{"$error":"#N/A"}},{"$error":"#N/A"}]
[8587,9.0580047106724848,{"$f":" IF(Foglio1!$C$9 <> \"\", 8.314472*Foglio1!$C$9*Foglio2!B960, NA())","v":{"$error":"#N/A"}},{"$error":"#N/A"},8587,9.0580047106724848,{"$f":" IF(Foglio1!$C$10 <> \"\", 8.314472*Foglio1!$C$10*Foglio2!F960, NA())","v":{"$error":"#N/A"}},{"$error":"#N/A"},8587,9.0580047106724848,{"$f":" IF(Foglio1!$C$11 <> \"\", 8.314472*Foglio1!$C$11*Foglio2!J960, NA())","v":{"$error":"#N/A"}},{"$error":"#N/A"},8587,9.0580047106724848,{"$f":" IF(Foglio1!$C$12 <> \"\", 8.314472*Foglio1!$C$12*Foglio2!N960, NA())","v":{"$error":"#N/A"}},{"$error":"#N/A"},8587,9.0580047106724848,{"$f":" IF(Foglio1!$C$13 <> \"\", 8.314472*Foglio1!$C$13*Foglio2!R960, NA())","v":{"$error":"#N/A"}},{"$error":"#N/A"}]
[8596,9.0590522577624011,{"$f":" IF(Foglio1!$C$9 <> \"\", 8.314472*Foglio1!$C$9*Foglio2!B961, NA())","v":{"$error":"#N/A"}},{"$error":"#N/A"},8596,9.0590522577624011,{"$f":" IF(Foglio1!$C$10 <> \"\", 8.314472*Foglio1!$C$10*Foglio2!F961, NA())","v":{"$error":"#N/A"}},{"$error":"#N/A"},8596,9.0590522577624011,{"$f":" IF(Foglio1!$C$11 <> \"\", 8.314472*Foglio1!$C$11*Foglio2!J961, NA())","v":{"$error":"#N/A"}},{"$error":"#N/A"},8596,9.0590522577624011,{"$f":" IF(Foglio1!$C$12 <> \"\", 8.314472*Foglio1!$C$12*Foglio2!N961, NA())","v":{"$error":"#N/A"}},{"$error":"#N/A"},8596,9.0590522577624011,{"$f":" IF(Foglio1!$C$13 <> \"\", 8.314472*Foglio1!$C$13*Foglio2!R961, NA())","v":{"$error":"#N/A"}},{"$error":"#N/A"}]
[8605,9.0600987086456399,{"$f":" IF(Foglio1!$C$9 <> \"\", 8.314472*Foglio1!$C$9*Foglio2!B962, NA())","v":{"$error":"#N/A"}},{"$error":"#N/A"},8605,9.0600987086456399,{"$f":" IF(Foglio1!$C$10 <> \"\", 8.314472*Foglio1!$C$10*Foglio2!F962, NA())","v":{"$error":"#N/A"}},{"$error":"#N/A"},8605,9.0600987086456399,{"$f":" IF(Foglio1!$C$11 <> \"\", 8.314472*Foglio1!$C$11*Foglio2!J962, NA())","v":{"$error":"#N/A"}},{"$error":"#N/A"},8605,9.0600987086456399,{"$f":" IF(Foglio1!$C$12 <> \"\", 8.314472*Foglio1!$C$12*Foglio2!N962, NA())","v":{"$error":"#N/A"}},{"$error":"#N/A"},8605,9.0600987086456399,{"$f":" IF(Foglio1!$C$13 <> \"\", 8.314472*Foglio1!$C$13*Foglio2!R962, NA())","v":{"$error":"#N/A"}},{"$error":"#N/A"}]
[8614,{"$f":"LN(A963)","v":9.0611440656140552},{"$f":" IF(Foglio1!$C$9 <> \"\", 8.314472*Foglio1!$C$9*Foglio2!B963, NA())","v":{"$error":"#N/A"}},{"$f":"  -30.5 + C963*10^-3","v":{"$error":"#N/A"}},8614,{"$f":"LN(E963)","v":9.0611440656140552},{"$f":" IF(Foglio1!$C$10 <> \"\", 8.314472*Foglio1!$C$10*Foglio2!F963, NA())","v":{"$error":"#N/A"}},{"$f":" -30.5+ G963*10^-3","v":{"$error":"#N/A"}},8614,{"$f":"LN(I963)","v":9.0611440656140552},{"$f":" IF(Foglio1!$C$11 <> \"\", 8.314472*Foglio1!$C$11*Foglio2!J963, NA())","v":{"$error":"#N/A"}},{"$f":" -30.5+ K963*10^-3","v":{"$error":"#N/A"}},8614,{"$f":"LN(M963)","v":9.0611440656140552},{"$f":" IF(Foglio1!$C$12 <> \"\", 8.314472*Foglio1!$C$12*Foglio2!N963, NA())","v":{"$error":"#N/A"}},{"$f":" -30.5+ O963*10^-3","v":{"$error":"#N/A"}},8614,{"$f":"LN(Q963)","v":9.0611440656140552},{"$f":" IF(Foglio1!$C$13 <> \"\", 8.314472*Foglio1!$C$13*Foglio2!R963, NA())","v":{"$error":"#N/A"}},{"$f":" -30.5+S963*10^-3","v":{"$error":"#N/A"}}]
[8623,9.0621883309523241,{"$f":" IF(Foglio1!$C$9 <> \"\", 8.314472*Foglio1!$C$9*Foglio2!B964, NA())","v":{"$error":"#N/A"}},{"$error":"#N/A"},8623,9.0621883309523241,{"$f":" IF(Foglio1!$C$10 <> \"\", 8.314472*Foglio1!$C$10*Foglio2!F964, NA())","v":{"$error":"#N/A"}},{"$error":"#N/A"},8623,9.0621883309523241,{"$f":" IF(Foglio1!$C$11 <> \"\", 8.314472*Foglio1!$C$11*Foglio2!J964, NA())","v":{"$error":"#N/A"}},{"$error":"#N/A"},8623,9.0621883309523241,{"$f":" IF(Foglio1!$C$12 <> \"\", 8.314472*Foglio1!$C$12*Foglio2!N964, NA())","v":{"$error":"#N/A"}},{"$error":"#N/A"},8623,9.0621883309523241,{"$f":" IF(Foglio1!$C$13 <> \"\", 8.314472*Foglio1!$C$13*Foglio2!R964, NA())","v":{"$error":"#N/A"}},{"$error":"#N/A"}]
[8632,9.0632315069379707,{"$f":" IF(Foglio1!$C$9 <> \"\", 8.314472*Foglio1!$C$9*Foglio2!B965, NA())","v":{"$error":"#N/A"}},{"$error":"#N/A"},8632,9.0632315069379707,{"$f":" IF(Foglio1!$C$10 <> \"\", 8.314472*Foglio1!$C$10*Foglio2!F965, NA())","v":{"$error":"#N/A"}},{"$error":"#N/A"},8632,9.0632315069379707,{"$f":" IF(Foglio1!$C$11 <> \"\", 8.314472*Foglio1!$C$11*Foglio2!J965, NA())","v":{"$error":"#N/A"}},{"$error":"#N/A"},8632,9.0632315069379707,{"$f":" IF(Foglio1!$C$12 <> \"\", 8.314472*Foglio1!$C$12*Foglio2!N965, NA())","v":{"$error":"#N/A"}},{"$error":"#N/A"},8632,9.0632315069379707,{"$f":" IF(Foglio1!$C$13 <> \"\", 8.314472*Foglio1!$C$13*Foglio2!R965, NA())","v":{"$error":"#N/A"}},{"$error":"#N/A"}]
[8641,9.0642735958413994,{"$f":" IF(Foglio1!$C$9 <> \"\", 8.314472*Foglio1!$C$9*Foglio2!B966, NA())","v":{"$error":"#N/A"}},{"$error":"#N/A"},8641,9.0642735958413994,{"$f":" IF(Foglio1!$C$10 <> \"\", 8.314472*Foglio1!$C$10*Foglio2!F966, NA())","v":{"$error":"#N/A"}},{"$error":"#N/A"},8641,9.0642735958413994,{"$f":" IF(Foglio1!$C$11 <> \"\", 8.314472*Foglio1!$C$11*Foglio2!J966, NA())","v":{"$error":"#N/A"}},{"$error":"#N/A"},8641,9.0642735958413994,{"$f":" IF(Foglio1!$C$12 <> \"\", 8.314472*Foglio1!$C$12*Foglio2!N966, NA())","v":{"$error":"#N/A"}},{"$error":"#N/A"},8641,9.0642735958413994,{"$f":" IF(Foglio1!$C$13 <> \"\", 8.314472*Foglio1!$C$13*Foglio2!R966, NA())","v":{"$error":"#N/A"}},{"$error":"#N/A"}]
[8650,9.0653145999259248,{"$f":" IF(Foglio1!$C$9 <> \"\", 8.314472*Foglio1!$C$9*Foglio2!B967, NA())","v":{"$error":"#N/A"}},{"$error":"#N/A"},8650,9.0653145999259248,{"$f":" IF(Foglio1!$C$10 <> \"\", 8.314472*Foglio1!$C$10*Foglio2!F967, NA())","v":{"$error":"#N/A"}},{"$error":"#N/A"},8650,9.0653145999259248,{"$f":" IF(Foglio1!$C$11 <> \"\", 8.314472*Foglio1!$C$11*Foglio2!J967, NA())","v":{"$error":"#N/A"}},{"$error":"#N/A"},8650,9.0653145999259248,{"$f":" IF(Foglio1!$C$12 <> \"\", 8.314472*Foglio1!$C$12*Foglio2!N967, NA())","v":{"$error":"#N/A"}},{"$error":"#N/A"},8650,9.0653145999259248,{"$f":" IF(Foglio1!$C$13 <> \"\", 8.314472*Foglio1!$C$13*Foglio2!R967, NA())","v":{"$error":"#N/A"}},{"$error":"#N/A"}]
[8659,9.066354521447801,{"$f":" IF(Foglio1!$C$9 <> \"\", 8.314472*Foglio1!$C$9*Foglio2!B968, NA())","v":{"$error":"#N/A"}},{"$error":"#N/A"},8659,9.066354521447801,{"$f":" IF(Foglio1!$C$10 <> \"\", 8.314472*Foglio1!$C$10*Foglio2!F968, NA())","v":{"$error":"#N/A"}},{"$error":"#N/A"},8659,9.066354521447801,{"$f":" IF(Foglio1!$C$11 <> \"\", 8.314472*Foglio1!$C$11*Foglio2!J968, NA())","v":{"$error":"#N/A"}},{"$error":"#N/A"},8659,9.066354521447801,{"$f":" IF(Foglio1!$C$12 <> \"\", 8.314472*Foglio1!$C$12*Foglio2!N968, NA())","v":{"$error":"#N/A"}},{"$error":"#N/A"},8659,9.066354521447801,{"$f":" IF(Foglio1!$C$13 <> \"\", 8.314472*Foglio1!$C$13*Foglio2!R968, NA())","v":{"$error":"#N/A"}},{"$error":"#N/A"}]
[8668,9.0673933626562491,{"$f":" IF(Foglio1!$C$9 <> \"\", 8.314472*Foglio1!$C$9*Foglio2!B969, NA())","v":{"$error":"#N/A"}},{"$error":"#N/A"},8668,9.0673933626562491,{"$f":" IF(Foglio1!$C$10 <> \"\", 8.314472*Foglio1!$C$10*Foglio2!F969, NA())","v":{"$error":"#N/A"}},{"$error":"#N/A"},8668,9.0673933626562491,{"$f":" IF(Foglio1!$C$11 <> \"\", 8.314472*Foglio1!$C$11*Foglio2!J969, NA())","v":{"$error":"#N/A"}},{"$error":"#N/A"},8668,9.0673933626562491,{"$f":" IF(Foglio1!$C$12 <> \"\", 8.314472*Foglio1!$C$12*Foglio2!N969, NA())","v":{"$error":"#N/A"}},{"$error":"#N/A"},8668,9.0673933626562491,{"$f":" IF(Foglio1!$C$13 <> \"\", 8.314472*Foglio1!$C$13*Foglio2!R969, NA())","v":{"$error":"#N/A"}},{"$error":"#N/A"}]
[8677,9.0684311257934898,{"$f":" IF(Foglio1!$C$9 <> \"\", 8.314472*Foglio1!$C$9*Foglio2!B970, NA())","v":{"$error":"#N/A"}},{"$error":"#N/A"},8677,9.0684311257934898,{"$f":" IF(Foglio1!$C$10 <> \"\", 8.314472*Foglio1!$C$10*Foglio2!F970, NA())","v":{"$error":"#N/A"}},{"$error":"#N/A"},8677,9.0684311257934898,{"$f":" IF(Foglio1!$C$11 <> \"\", 8.314472*Foglio1!$C$11*Foglio2!J970, NA())","v":{"$error":"#N/A"}},{"$error":"#N/A"},8677,9.0684311257934898,{"$f":" IF(Foglio1!$C$12 <> \"\", 8.314472*Foglio1!$C$12*Foglio2!N970, NA())","v":{"$error":"#N/A"}},{"$error":"#N/A"},8677,9.0684311257934898,{"$f":" IF(Foglio1!$C$13 <> \"\", 8.314472*Foglio1!$C$13*Foglio2!R970, NA())","v":{"$error":"#N/A"}},{"$error":"#N/A"}]
[8686,9.0694678130947679,{"$f":" IF(Foglio1!$C$9 <> \"\", 8.314472*Foglio1!$C$9*Foglio2!B971, NA())","v":{"$error":"#N/A"}},{"$error":"#N/A"},8686,9.0694678130947679,{"$f":" IF(Foglio1!$C$10 <> \"\", 8.314472*Foglio1!$C$10*Foglio2!F971, NA())","v":{"$error":"#N/A"}},{"$error":"#N/A"},8686,9.0694678130947679,{"$f":" IF(Foglio1!$C$11 <> \"\", 8.314472*Foglio1!$C$11*Foglio2!J971, NA())","v":{"$error":"#N/A"}},{"$error":"#N/A"},8686,9.0694678130947679,{"$f":" IF(Foglio1!$C$12 <> \"\", 8.314472*Foglio1!$C$12*Foglio2!N971, NA())","v":{"$error":"#N/A"}},{"$error":"#N/A"},8686,9.0694678130947679,{"$f":" IF(Foglio1!$C$13 <> \"\", 8.314472*Foglio1!$C$13*Foglio2!R971, NA())","v":{"$error":"#N/A"}},{"$error":"#N/A"}]
[8695,9.0705034267883828,{"$f":" IF(Foglio1!$C$9 <> \"\", 8.314472*Foglio1!$C$9*Foglio2!B972, NA())","v":{"$error":"#N/A"}},{"$error":"#N/A"},8695,9.0705034267883828,{"$f":" IF(Foglio1!$C$10 <> \"\", 8.314472*Foglio1!$C$10*Foglio2!F972, NA())","v":{"$error":"#N/A"}},{"$error":"#N/A"},8695,9.0705034267883828,{"$f":" IF(Foglio1!$C$11 <> \"\", 8.314472*Foglio1!$C$11*Foglio2!J972, NA())","v":{"$error":"#N/A"}},{"$error":"#N/A"},8695,9.0705034267883828,{"$f":" IF(Foglio1!$C$12 <> \"\", 8.314472*Foglio1!$C$12*Foglio2!N972, NA())","v":{"$error":"#N/A"}},{"$error":"#N/A"},8695,9.0705034267883828,{"$f":" IF(Foglio1!$C$13 <> \"\", 8.314472*Foglio1!$C$13*Foglio2!R972, NA())","v":{"$error":"#N/A"}},{"$error":"#N/A"}]
[8704,9.0715379690957239,{"$f":" IF(Foglio1!$C$9 <> \"\", 8.314472*Foglio1!$C$9*Foglio2!B973, NA())","v":{"$error":"#N/A"}},{"$error":"#N/A"},8704,9.0715379690957239,{"$f":" IF(Foglio1!$C$10 <> \"\", 8.314472*Foglio1!$C$10*Foglio2!F973, NA())","v":{"$error":"#N/A"}},{"$error":"#N/A"},8704,9.0715379690957239,{"$f":" IF(Foglio1!$C$11 <> \"\", 8.314472*Foglio1!$C$11*Foglio2!J973, NA())","v":{"$error":"#N/A"}},{"$error":"#N/A"},8704,9.0715379690957239,{"$f":" IF(Foglio1!$C$12 <> \"\", 8.314472*Foglio1!$C$12*Foglio2!N973, NA())","v":{"$error":"#N/A"}},{"$error":"#N/A"},8704,9.0715379690957239,{"$f":" IF(Foglio1!$C$13 <> \"\", 8.314472*Foglio1!$C$13*Foglio2!R973, NA())","v":{"$error":"#N/A"}},{"$error":"#N/A"}]
[8713,9.0725714422312862,{"$f":" IF(Foglio1!$C$9 <> \"\", 8.314472*Foglio1!$C$9*Foglio2!B974, NA())","v":{"$error":"#N/A"}},{"$error":"#N/A"},8713,9.0725714422312862,{"$f":" IF(Foglio1!$C$10 <> \"\", 8.314472*Foglio1!$C$10*Foglio2!F974, NA())","v":{"$error":"#N/A"}},{"$error":"#N/A"},8713,9.0725714422312862,{"$f":" IF(Foglio1!$C$11 <> \"\", 8.314472*Foglio1!$C$11*Foglio2!J974, NA())","v":{"$error":"#N/A"}},{"$error":"#N/A"},8713,9.0725714422312862,{"$f":" IF(Foglio1!$C$12 <> \"\", 8.314472*Foglio1!$C$12*Foglio2!N974, NA())","v":{"$error":"#N/A"}},{"$error":"#N/A"},8713,9.0725714422312862,{"$f":" IF(Foglio1!$C$13 <> \"\", 8.314472*Foglio1!$C$13*Foglio2!R974, NA())","v":{"$error":"#N/A"}},{"$error":"#N/A"}]
[8722,9.0736038484027119,{"$f":" IF(Foglio1!$C$9 <> \"\", 8.314472*Foglio1!$C$9*Foglio2!B975, NA())","v":{"$error":"#N/A"}},{"$error":"#N/A"},8722,9.0736038484027119,{"$f":" IF(Foglio1!$C$10 <> \"\", 8.314472*Foglio1!$C$10*Foglio2!F975, NA())","v":{"$error":"#N/A"}},{"$error":"#N/A"},8722,9.0736038484027119,{"$f":" IF(Foglio1!$C$11 <> \"\", 8.314472*Foglio1!$C$11*Foglio2!J975, NA())","v":{"$error":"#N/A"}},{"$error":"#N/A"},8722,9.0736038484027119,{"$f":" IF(Foglio1!$C$12 <> \"\", 8.314472*Foglio1!$C$12*Foglio2!N975, NA())","v":{"$error":"#N/A"}},{"$error":"#N/A"},8722,9.0736038484027119,{"$f":" IF(Foglio1!$C$13 <> \"\", 8.314472*Foglio1!$C$13*Foglio2!R975, NA())","v":{"$error":"#N/A"}},{"$error":"#N/A"}]
[8731,9.0746351898108077,{"$f":" IF(Foglio1!$C$9 <> \"\", 8.314472*Foglio1!$C$9*Foglio2!B976, NA())","v":{"$error":"#N/A"}},{"$error":"#N/A"},8731,9.0746351898108077,{"$f":" IF(Foglio1!$C$10 <> \"\", 8.314472*Foglio1!$C$10*Foglio2!F976, NA())","v":{"$error":"#N/A"}},{"$error":"#N/A"},8731,9.0746351898108077,{"$f":" IF(Foglio1!$C$11 <> \"\", 8.314472*Foglio1!$C$11*Foglio2!J976, NA())","v":{"$error":"#N/A"}},{"$error":"#N/A"},8731,9.0746351898108077,{"$f":" IF(Foglio1!$C$12 <> \"\", 8.314472*Foglio1!$C$12*Foglio2!N976, NA())","v":{"$error":"#N/A"}},{"$error":"#N/A"},8731,9.0746351898108077,{"$f":" IF(Foglio1!$C$13 <> \"\", 8.314472*Foglio1!$C$13*Foglio2!R976, NA())","v":{"$error":"#N/A"}},{"$error":"#N/A"}]
[8740,9.0756654686495803,{"$f":" IF(Foglio1!$C$9 <> \"\", 8.314472*Foglio1!$C$9*Foglio2!B977, NA())","v":{"$error":"#N/A"}},{"$error":"#N/A"},8740,9.0756654686495803,{"$f":" IF(Foglio1!$C$10 <> \"\", 8.314472*Foglio1!$C$10*Foglio2!F977, NA())","v":{"$error":"#N/A"}},{"$error":"#N/A"},8740,9.0756654686495803,{"$f":" IF(Foglio1!$C$11 <> \"\", 8.314472*Foglio1!$C$11*Foglio2!J977, NA())","v":{"$error":"#N/A"}},{"$error":"#N/A"},8740,9.0756654686495803,{"$f":" IF(Foglio1!$C$12 <> \"\", 8.314472*Foglio1!$C$12*Foglio2!N977, NA())","v":{"$error":"#N/A"}},{"$error":"#N/A"},8740,9.0756654686495803,{"$f":" IF(Foglio1!$C$13 <> \"\", 8.314472*Foglio1!$C$13*Foglio2!R977, NA())","v":{"$error":"#N/A"}},{"$error":"#N/A"}]
[8749,9.076694687106265,{"$f":" IF(Foglio1!$C$9 <> \"\", 8.314472*Foglio1!$C$9*Foglio2!B978, NA())","v":{"$error":"#N/A"}},{"$error":"#N/A"},8749,9.076694687106265,{"$f":" IF(Foglio1!$C$10 <> \"\", 8.314472*Foglio1!$C$10*Foglio2!F978, NA())","v":{"$error":"#N/A"}},{"$error":"#N/A"},8749,9.076694687106265,{"$f":" IF(Foglio1!$C$11 <> \"\", 8.314472*Foglio1!$C$11*Foglio2!J978, NA())","v":{"$error":"#N/A"}},{"$error":"#N/A"},8749,9.076694687106265,{"$f":" IF(Foglio1!$C$12 <> \"\", 8.314472*Foglio1!$C$12*Foglio2!N978, NA())","v":{"$error":"#N/A"}},{"$error":"#N/A"},8749,9.076694687106265,{"$f":" IF(Foglio1!$C$13 <> \"\", 8.314472*Foglio1!$C$13*Foglio2!R978, NA())","v":{"$error":"#N/A"}},{"$error":"#N/A"}]
[8758,9.0777228473613434,{"$f":" IF(Foglio1!$C$9 <> \"\", 8.314472*Foglio1!$C$9*Foglio2!B979, NA())","v":{"$error":"#N/A"}},{"$error":"#N/A"},8758,9.0777228473613434,{"$f":" IF(Foglio1!$C$10 <> \"\", 8.314472*Foglio1!$C$10*Foglio2!F979, NA())","v":{"$error":"#N/A"}},{"$error":"#N/A"},8758,9.0777228473613434,{"$f":" IF(Foglio1!$C$11 <> \"\", 8.314472*Foglio1!$C$11*Foglio2!J979, NA())","v":{"$error":"#N/A"}},{"$error":"#N/A"},8758,9.0777228473613434,{"$f":" IF(Foglio1!$C$12 <> \"\", 8.314472*Foglio1!$C$12*Foglio2!N979, NA())","v":{"$error":"#N/A"}},{"$error":"#N/A"},8758,9.0777228473613434,{"$f":" IF(Foglio1!$C$13 <> \"\", 8.314472*Foglio1!$C$13*Foglio2!R979, NA())","v":{"$error":"#N/A"}},{"$error":"#N/A"}]
[8767,9.0787499515885859,{"$f":" IF(Foglio1!$C$9 <> \"\", 8.314472*Foglio1!$C$9*Foglio2!B980, NA())","v":{"$error":"#N/A"}},{"$error":"#N/A"},8767,9.0787499515885859,{"$f":" IF(Foglio1!$C$10 <> \"\", 8.314472*Foglio1!$C$10*Foglio2!F980, NA())","v":{"$error":"#N/A"}},{"$error":"#N/A"},8767,9.0787499515885859,{"$f":" IF(Foglio1!$C$11 <> \"\", 8.314472*Foglio1!$C$11*Foglio2!J980, NA())","v":{"$error":"#N/A"}},{"$error":"#N/A"},8767,9.0787499515885859,{"$f":" IF(Foglio1!$C$12 <> \"\", 8.314472*Foglio1!$C$12*Foglio2!N980, NA())","v":{"$error":"#N/A"}},{"$error":"#N/A"},8767,9.0787499515885859,{"$f":" IF(Foglio1!$C$13 <> \"\", 8.314472*Foglio1!$C$13*Foglio2!R980, NA())","v":{"$error":"#N/A"}},{"$error":"#N/A"}]
[8776,9.0797760019550662,{"$f":" IF(Foglio1!$C$9 <> \"\", 8.314472*Foglio1!$C$9*Foglio2!B981, NA())","v":{"$error":"#N/A"}},{"$error":"#N/A"},8776,9.0797760019550662,{"$f":" IF(Foglio1!$C$10 <> \"\", 8.314472*Foglio1!$C$10*Foglio2!F981, NA())","v":{"$error":"#N/A"}},{"$error":"#N/A"},8776,9.0797760019550662,{"$f":" IF(Foglio1!$C$11 <> \"\", 8.314472*Foglio1!$C$11*Foglio2!J981, NA())","v":{"$error":"#N/A"}},{"$error":"#N/A"},8776,9.0797760019550662,{"$f":" IF(Foglio1!$C$12 <> \"\", 8.314472*Foglio1!$C$12*Foglio2!N981, NA())","v":{"$error":"#N/A"}},{"$error":"#N/A"},8776,9.0797760019550662,{"$f":" IF(Foglio1!$C$13 <> \"\", 8.314472*Foglio1!$C$13*Foglio2!R981, NA())","v":{"$error":"#N/A"}},{"$error":"#N/A"}]
[8785,9.0808010006211983,{"$f":" IF(Foglio1!$C$9 <> \"\", 8.314472*Foglio1!$C$9*Foglio2!B982, NA())","v":{"$error":"#N/A"}},{"$error":"#N/A"},8785,9.0808010006211983,{"$f":" IF(Foglio1!$C$10 <> \"\", 8.314472*Foglio1!$C$10*Foglio2!F982, NA())","v":{"$error":"#N/A"}},{"$error":"#N/A"},8785,9.0808010006211983,{"$f":" IF(Foglio1!$C$11 <> \"\", 8.314472*Foglio1!$C$11*Foglio2!J982, NA())","v":{"$error":"#N/A"}},{"$error":"#N/A"},8785,9.0808010006211983,{"$f":" IF(Foglio1!$C$12 <> \"\", 8.314472*Foglio1!$C$12*Foglio2!N982, NA())","v":{"$error":"#N/A"}},{"$error":"#N/A"},8785,9.0808010006211983,{"$f":" IF(Foglio1!$C$13 <> \"\", 8.314472*Foglio1!$C$13*Foglio2!R982, NA())","v":{"$error":"#N/A"}},{"$error":"#N/A"}]
[8794,9.0818249497407546,{"$f":" IF(Foglio1!$C$9 <> \"\", 8.314472*Foglio1!$C$9*Foglio2!B983, NA())","v":{"$error":"#N/A"}},{"$error":"#N/A"},8794,9.0818249497407546,{"$f":" IF(Foglio1!$C$10 <> \"\", 8.314472*Foglio1!$C$10*Foglio2!F983, NA())","v":{"$error":"#N/A"}},{"$error":"#N/A"},8794,9.0818249497407546,{"$f":" IF(Foglio1!$C$11 <> \"\", 8.314472*Foglio1!$C$11*Foglio2!J983, NA())","v":{"$error":"#N/A"}},{"$error":"#N/A"},8794,9.0818249497407546,{"$f":" IF(Foglio1!$C$12 <> \"\", 8.314472*Foglio1!$C$12*Foglio2!N983, NA())","v":{"$error":"#N/A"}},{"$error":"#N/A"},8794,9.0818249497407546,{"$f":" IF(Foglio1!$C$13 <> \"\", 8.314472*Foglio1!$C$13*Foglio2!R983, NA())","v":{"$error":"#N/A"}},{"$error":"#N/A"}]
[8803,9.0828478514609063,{"$f":" IF(Foglio1!$C$9 <> \"\", 8.314472*Foglio1!$C$9*Foglio2!B984, NA())","v":{"$error":"#N/A"}},{"$error":"#N/A"},8803,9.0828478514609063,{"$f":" IF(Foglio1!$C$10 <> \"\", 8.314472*Foglio1!$C$10*Foglio2!F984, NA())","v":{"$error":"#N/A"}},{"$error":"#N/A"},8803,9.0828478514609063,{"$f":" IF(Foglio1!$C$11 <> \"\", 8.314472*Foglio1!$C$11*Foglio2!J984, NA())","v":{"$error":"#N/A"}},{"$error":"#N/A"},8803,9.0828478514609063,{"$f":" IF(Foglio1!$C$12 <> \"\", 8.314472*Foglio1!$C$12*Foglio2!N984, NA())","v":{"$error":"#N/A"}},{"$error":"#N/A"},8803,9.0828478514609063,{"$f":" IF(Foglio1!$C$13 <> \"\", 8.314472*Foglio1!$C$13*Foglio2!R984, NA())","v":{"$error":"#N/A"}},{"$error":"#N/A"}]
[8812,9.0838697079222346,{"$f":" IF(Foglio1!$C$9 <> \"\", 8.314472*Foglio1!$C$9*Foglio2!B985, NA())","v":{"$error":"#N/A"}},{"$error":"#N/A"},8812,9.0838697079222346,{"$f":" IF(Foglio1!$C$10 <> \"\", 8.314472*Foglio1!$C$10*Foglio2!F985, NA())","v":{"$error":"#N/A"}},{"$error":"#N/A"},8812,9.0838697079222346,{"$f":" IF(Foglio1!$C$11 <> \"\", 8.314472*Foglio1!$C$11*Foglio2!J985, NA())","v":{"$error":"#N/A"}},{"$error":"#N/A"},8812,9.0838697079222346,{"$f":" IF(Foglio1!$C$12 <> \"\", 8.314472*Foglio1!$C$12*Foglio2!N985, NA())","v":{"$error":"#N/A"}},{"$error":"#N/A"},8812,9.0838697079222346,{"$f":" IF(Foglio1!$C$13 <> \"\", 8.314472*Foglio1!$C$13*Foglio2!R985, NA())","v":{"$error":"#N/A"}},{"$error":"#N/A"}]
[8821,9.0848905212587674,{"$f":" IF(Foglio1!$C$9 <> \"\", 8.314472*Foglio1!$C$9*Foglio2!B986, NA())","v":{"$error":"#N/A"}},{"$error":"#N/A"},8821,9.0848905212587674,{"$f":" IF(Foglio1!$C$10 <> \"\", 8.314472*Foglio1!$C$10*Foglio2!F986, NA())","v":{"$error":"#N/A"}},{"$error":"#N/A"},8821,9.0848905212587674,{"$f":" IF(Foglio1!$C$11 <> \"\", 8.314472*Foglio1!$C$11*Foglio2!J986, NA())","v":{"$error":"#N/A"}},{"$error":"#N/A"},8821,9.0848905212587674,{"$f":" IF(Foglio1!$C$12 <> \"\", 8.314472*Foglio1!$C$12*Foglio2!N986, NA())","v":{"$error":"#N/A"}},{"$error":"#N/A"},8821,9.0848905212587674,{"$f":" IF(Foglio1!$C$13 <> \"\", 8.314472*Foglio1!$C$13*Foglio2!R986, NA())","v":{"$error":"#N/A"}},{"$error":"#N/A"}]
[8830,9.0859102935980065,{"$f":" IF(Foglio1!$C$9 <> \"\", 8.314472*Foglio1!$C$9*Foglio2!B987, NA())","v":{"$error":"#N/A"}},{"$error":"#N/A"},8830,9.0859102935980065,{"$f":" IF(Foglio1!$C$10 <> \"\", 8.314472*Foglio1!$C$10*Foglio2!F987, NA())","v":{"$error":"#N/A"}},{"$error":"#N/A"},8830,9.0859102935980065,{"$f":" IF(Foglio1!$C$11 <> \"\", 8.314472*Foglio1!$C$11*Foglio2!J987, NA())","v":{"$error":"#N/A"}},{"$error":"#N/A"},8830,9.0859102935980065,{"$f":" IF(Foglio1!$C$12 <> \"\", 8.314472*Foglio1!$C$12*Foglio2!N987, NA())","v":{"$error":"#N/A"}},{"$error":"#N/A"},8830,9.0859102935980065,{"$f":" IF(Foglio1!$C$13 <> \"\", 8.314472*Foglio1!$C$13*Foglio2!R987, NA())","v":{"$error":"#N/A"}},{"$error":"#N/A"}]
[8839,9.0869290270609486,{"$f":" IF(Foglio1!$C$9 <> \"\", 8.314472*Foglio1!$C$9*Foglio2!B988, NA())","v":{"$error":"#N/A"}},{"$error":"#N/A"},8839,9.0869290270609486,{"$f":" IF(Foglio1!$C$10 <> \"\", 8.314472*Foglio1!$C$10*Foglio2!F988, NA())","v":{"$error":"#N/A"}},{"$error":"#N/A"},8839,9.0869290270609486,{"$f":" IF(Foglio1!$C$11 <> \"\", 8.314472*Foglio1!$C$11*Foglio2!J988, NA())","v":{"$error":"#N/A"}},{"$error":"#N/A"},8839,9.0869290270609486,{"$f":" IF(Foglio1!$C$12 <> \"\", 8.314472*Foglio1!$C$12*Foglio2!N988, NA())","v":{"$error":"#N/A"}},{"$error":"#N/A"},8839,9.0869290270609486,{"$f":" IF(Foglio1!$C$13 <> \"\", 8.314472*Foglio1!$C$13*Foglio2!R988, NA())","v":{"$error":"#N/A"}},{"$error":"#N/A"}]
[8848,9.0879467237621157,{"$f":" IF(Foglio1!$C$9 <> \"\", 8.314472*Foglio1!$C$9*Foglio2!B989, NA())","v":{"$error":"#N/A"}},{"$error":"#N/A"},8848,9.0879467237621157,{"$f":" IF(Foglio1!$C$10 <> \"\", 8.314472*Foglio1!$C$10*Foglio2!F989, NA())","v":{"$error":"#N/A"}},{"$error":"#N/A"},8848,9.0879467237621157,{"$f":" IF(Foglio1!$C$11 <> \"\", 8.314472*Foglio1!$C$11*Foglio2!J989, NA())","v":{"$error":"#N/A"}},{"$error":"#N/A"},8848,9.0879467237621157,{"$f":" IF(Foglio1!$C$12 <> \"\", 8.314472*Foglio1!$C$12*Foglio2!N989, NA())","v":{"$error":"#N/A"}},{"$error":"#N/A"},8848,9.0879467237621157,{"$f":" IF(Foglio1!$C$13 <> \"\", 8.314472*Foglio1!$C$13*Foglio2!R989, NA())","v":{"$error":"#N/A"}},{"$error":"#N/A"}]
[8857,9.0889633858095831,{"$f":" IF(Foglio1!$C$9 <> \"\", 8.314472*Foglio1!$C$9*Foglio2!B990, NA())","v":{"$error":"#N/A"}},{"$error":"#N/A"},8857,9.0889633858095831,{"$f":" IF(Foglio1!$C$10 <> \"\", 8.314472*Foglio1!$C$10*Foglio2!F990, NA())","v":{"$error":"#N/A"}},{"$error":"#N/A"},8857,9.0889633858095831,{"$f":" IF(Foglio1!$C$11 <> \"\", 8.314472*Foglio1!$C$11*Foglio2!J990, NA())","v":{"$error":"#N/A"}},{"$error":"#N/A"},8857,9.0889633858095831,{"$f":" IF(Foglio1!$C$12 <> \"\", 8.314472*Foglio1!$C$12*Foglio2!N990, NA())","v":{"$error":"#N/A"}},{"$error":"#N/A"},8857,9.0889633858095831,{"$f":" IF(Foglio1!$C$13 <> \"\", 8.314472*Foglio1!$C$13*Foglio2!R990, NA())","v":{"$error":"#N/A"}},{"$error":"#N/A"}]
[8866,9.0899790153049995,{"$f":" IF(Foglio1!$C$9 <> \"\", 8.314472*Foglio1!$C$9*Foglio2!B991, NA())","v":{"$error":"#N/A"}},{"$error":"#N/A"},8866,9.0899790153049995,{"$f":" IF(Foglio1!$C$10 <> \"\", 8.314472*Foglio1!$C$10*Foglio2!F991, NA())","v":{"$error":"#N/A"}},{"$error":"#N/A"},8866,9.0899790153049995,{"$f":" IF(Foglio1!$C$11 <> \"\", 8.314472*Foglio1!$C$11*Foglio2!J991, NA())","v":{"$error":"#N/A"}},{"$error":"#N/A"},8866,9.0899790153049995,{"$f":" IF(Foglio1!$C$12 <> \"\", 8.314472*Foglio1!$C$12*Foglio2!N991, NA())","v":{"$error":"#N/A"}},{"$error":"#N/A"},8866,9.0899790153049995,{"$f":" IF(Foglio1!$C$13 <> \"\", 8.314472*Foglio1!$C$13*Foglio2!R991, NA())","v":{"$error":"#N/A"}},{"$error":"#N/A"}]
[8875,9.090993614343617,{"$f":" IF(Foglio1!$C$9 <> \"\", 8.314472*Foglio1!$C$9*Foglio2!B992, NA())","v":{"$error":"#N/A"}},{"$error":"#N/A"},8875,9.090993614343617,{"$f":" IF(Foglio1!$C$10 <> \"\", 8.314472*Foglio1!$C$10*Foglio2!F992, NA())","v":{"$error":"#N/A"}},{"$error":"#N/A"},8875,9.090993614343617,{"$f":" IF(Foglio1!$C$11 <> \"\", 8.314472*Foglio1!$C$11*Foglio2!J992, NA())","v":{"$error":"#N/A"}},{"$error":"#N/A"},8875,9.090993614343617,{"$f":" IF(Foglio1!$C$12 <> \"\", 8.314472*Foglio1!$C$12*Foglio2!N992, NA())","v":{"$error":"#N/A"}},{"$error":"#N/A"},8875,9.090993614343617,{"$f":" IF(Foglio1!$C$13 <> \"\", 8.314472*Foglio1!$C$13*Foglio2!R992, NA())","v":{"$error":"#N/A"}},{"$error":"#N/A"}]
[8884,9.0920071850143174,{"$f":" IF(Foglio1!$C$9 <> \"\", 8.314472*Foglio1!$C$9*Foglio2!B993, NA())","v":{"$error":"#N/A"}},{"$error":"#N/A"},8884,9.0920071850143174,{"$f":" IF(Foglio1!$C$10 <> \"\", 8.314472*Foglio1!$C$10*Foglio2!F993, NA())","v":{"$error":"#N/A"}},{"$error":"#N/A"},8884,9.0920071850143174,{"$f":" IF(Foglio1!$C$11 <> \"\", 8.314472*Foglio1!$C$11*Foglio2!J993, NA())","v":{"$error":"#N/A"}},{"$error":"#N/A"},8884,9.0920071850143174,{"$f":" IF(Foglio1!$C$12 <> \"\", 8.314472*Foglio1!$C$12*Foglio2!N993, NA())","v":{"$error":"#N/A"}},{"$error":"#N/A"},8884,9.0920071850143174,{"$f":" IF(Foglio1!$C$13 <> \"\", 8.314472*Foglio1!$C$13*Foglio2!R993, NA())","v":{"$error":"#N/A"}},{"$error":"#N/A"}]
[8893,9.0930197293996393,{"$f":" IF(Foglio1!$C$9 <> \"\", 8.314472*Foglio1!$C$9*Foglio2!B994, NA())","v":{"$error":"#N/A"}},{"$error":"#N/A"},8893,9.0930197293996393,{"$f":" IF(Foglio1!$C$10 <> \"\", 8.314472*Foglio1!$C$10*Foglio2!F994, NA())","v":{"$error":"#N/A"}},{"$error":"#N/A"},8893,9.0930197293996393,{"$f":" IF(Foglio1!$C$11 <> \"\", 8.314472*Foglio1!$C$11*Foglio2!J994, NA())","v":{"$error":"#N/A"}},{"$error":"#N/A"},8893,9.0930197293996393,{"$f":" IF(Foglio1!$C$12 <> \"\", 8.314472*Foglio1!$C$12*Foglio2!N994, NA())","v":{"$error":"#N/A"}},{"$error":"#N/A"},8893,9.0930197293996393,{"$f":" IF(Foglio1!$C$13 <> \"\", 8.314472*Foglio1!$C$13*Foglio2!R994, NA())","v":{"$error":"#N/A"}},{"$error":"#N/A"}]
[8902,9.0940312495757993,{"$f":" IF(Foglio1!$C$9 <> \"\", 8.314472*Foglio1!$C$9*Foglio2!B995, NA())","v":{"$error":"#N/A"}},{"$error":"#N/A"},8902,9.0940312495757993,{"$f":" IF(Foglio1!$C$10 <> \"\", 8.314472*Foglio1!$C$10*Foglio2!F995, NA())","v":{"$error":"#N/A"}},{"$error":"#N/A"},8902,9.0940312495757993,{"$f":" IF(Foglio1!$C$11 <> \"\", 8.314472*Foglio1!$C$11*Foglio2!J995, NA())","v":{"$error":"#N/A"}},{"$error":"#N/A"},8902,9.0940312495757993,{"$f":" IF(Foglio1!$C$12 <> \"\", 8.314472*Foglio1!$C$12*Foglio2!N995, NA())","v":{"$error":"#N/A"}},{"$error":"#N/A"},8902,9.0940312495757993,{"$f":" IF(Foglio1!$C$13 <> \"\", 8.314472*Foglio1!$C$13*Foglio2!R995, NA())","v":{"$error":"#N/A"}},{"$error":"#N/A"}]
[8911,9.0950417476127203,{"$f":" IF(Foglio1!$C$9 <> \"\", 8.314472*Foglio1!$C$9*Foglio2!B996, NA())","v":{"$error":"#N/A"}},{"$error":"#N/A"},8911,9.0950417476127203,{"$f":" IF(Foglio1!$C$10 <> \"\", 8.314472*Foglio1!$C$10*Foglio2!F996, NA())","v":{"$error":"#N/A"}},{"$error":"#N/A"},8911,9.0950417476127203,{"$f":" IF(Foglio1!$C$11 <> \"\", 8.314472*Foglio1!$C$11*Foglio2!J996, NA())","v":{"$error":"#N/A"}},{"$error":"#N/A"},8911,9.0950417476127203,{"$f":" IF(Foglio1!$C$12 <> \"\", 8.314472*Foglio1!$C$12*Foglio2!N996, NA())","v":{"$error":"#N/A"}},{"$error":"#N/A"},8911,9.0950417476127203,{"$f":" IF(Foglio1!$C$13 <> \"\", 8.314472*Foglio1!$C$13*Foglio2!R996, NA())","v":{"$error":"#N/A"}},{"$error":"#N/A"}]
[8920,9.0960512255740547,{"$f":" IF(Foglio1!$C$9 <> \"\", 8.314472*Foglio1!$C$9*Foglio2!B997, NA())","v":{"$error":"#N/A"}},{"$error":"#N/A"},8920,9.0960512255740547,{"$f":" IF(Foglio1!$C$10 <> \"\", 8.314472*Foglio1!$C$10*Foglio2!F997, NA())","v":{"$error":"#N/A"}},{"$error":"#N/A"},8920,9.0960512255740547,{"$f":" IF(Foglio1!$C$11 <> \"\", 8.314472*Foglio1!$C$11*Foglio2!J997, NA())","v":{"$error":"#N/A"}},{"$error":"#N/A"},8920,9.0960512255740547,{"$f":" IF(Foglio1!$C$12 <> \"\", 8.314472*Foglio1!$C$12*Foglio2!N997, NA())","v":{"$error":"#N/A"}},{"$error":"#N/A"},8920,9.0960512255740547,{"$f":" IF(Foglio1!$C$13 <> \"\", 8.314472*Foglio1!$C$13*Foglio2!R997, NA())","v":{"$error":"#N/A"}},{"$error":"#N/A"}]
[8929,9.0970596855172161,{"$f":" IF(Foglio1!$C$9 <> \"\", 8.314472*Foglio1!$C$9*Foglio2!B998, NA())","v":{"$error":"#N/A"}},{"$error":"#N/A"},8929,9.0970596855172161,{"$f":" IF(Foglio1!$C$10 <> \"\", 8.314472*Foglio1!$C$10*Foglio2!F998, NA())","v":{"$error":"#N/A"}},{"$error":"#N/A"},8929,9.0970596855172161,{"$f":" IF(Foglio1!$C$11 <> \"\", 8.314472*Foglio1!$C$11*Foglio2!J998, NA())","v":{"$error":"#N/A"}},{"$error":"#N/A"},8929,9.0970596855172161,{"$f":" IF(Foglio1!$C$12 <> \"\", 8.314472*Foglio1!$C$12*Foglio2!N998, NA())","v":{"$error":"#N/A"}},{"$error":"#N/A"},8929,9.0970596855172161,{"$f":" IF(Foglio1!$C$13 <> \"\", 8.314472*Foglio1!$C$13*Foglio2!R998, NA())","v":{"$error":"#N/A"}},{"$error":"#N/A"}]
[8938,9.0980671294933977,{"$f":" IF(Foglio1!$C$9 <> \"\", 8.314472*Foglio1!$C$9*Foglio2!B999, NA())","v":{"$error":"#N/A"}},{"$error":"#N/A"},8938,9.0980671294933977,{"$f":" IF(Foglio1!$C$10 <> \"\", 8.314472*Foglio1!$C$10*Foglio2!F999, NA())","v":{"$error":"#N/A"}},{"$error":"#N/A"},8938,9.0980671294933977,{"$f":" IF(Foglio1!$C$11 <> \"\", 8.314472*Foglio1!$C$11*Foglio2!J999, NA())","v":{"$error":"#N/A"}},{"$error":"#N/A"},8938,9.0980671294933977,{"$f":" IF(Foglio1!$C$12 <> \"\", 8.314472*Foglio1!$C$12*Foglio2!N999, NA())","v":{"$error":"#N/A"}},{"$error":"#N/A"},8938,9.0980671294933977,{"$f":" IF(Foglio1!$C$13 <> \"\", 8.314472*Foglio1!$C$13*Foglio2!R999, NA())","v":{"$error":"#N/A"}},{"$error":"#N/A"}]
[8947,9.0990735595475964,{"$f":" IF(Foglio1!$C$9 <> \"\", 8.314472*Foglio1!$C$9*Foglio2!B1000, NA())","v":{"$error":"#N/A"}},{"$error":"#N/A"},8947,9.0990735595475964,{"$f":" IF(Foglio1!$C$10 <> \"\", 8.314472*Foglio1!$C$10*Foglio2!F1000, NA())","v":{"$error":"#N/A"}},{"$error":"#N/A"},8947,9.0990735595475964,{"$f":" IF(Foglio1!$C$11 <> \"\", 8.314472*Foglio1!$C$11*Foglio2!J1000, NA())","v":{"$error":"#N/A"}},{"$error":"#N/A"},8947,9.0990735595475964,{"$f":" IF(Foglio1!$C$12 <> \"\", 8.314472*Foglio1!$C$12*Foglio2!N1000, NA())","v":{"$error":"#N/A"}},{"$error":"#N/A"},8947,9.0990735595475964,{"$f":" IF(Foglio1!$C$13 <> \"\", 8.314472*Foglio1!$C$13*Foglio2!R1000, NA())","v":{"$error":"#N/A"}},{"$error":"#N/A"}]
[8956,9.1000789777186455,{"$f":" IF(Foglio1!$C$9 <> \"\", 8.314472*Foglio1!$C$9*Foglio2!B1001, NA())","v":{"$error":"#N/A"}},{"$error":"#N/A"},8956,9.1000789777186455,{"$f":" IF(Foglio1!$C$10 <> \"\", 8.314472*Foglio1!$C$10*Foglio2!F1001, NA())","v":{"$error":"#N/A"}},{"$error":"#N/A"},8956,9.1000789777186455,{"$f":" IF(Foglio1!$C$11 <> \"\", 8.314472*Foglio1!$C$11*Foglio2!J1001, NA())","v":{"$error":"#N/A"}},{"$error":"#N/A"},8956,9.1000789777186455,{"$f":" IF(Foglio1!$C$12 <> \"\", 8.314472*Foglio1!$C$12*Foglio2!N1001, NA())","v":{"$error":"#N/A"}},{"$error":"#N/A"},8956,9.1000789777186455,{"$f":" IF(Foglio1!$C$13 <> \"\", 8.314472*Foglio1!$C$13*Foglio2!R1001, NA())","v":{"$error":"#N/A"}},{"$error":"#N/A"}]
[8965,9.1010833860392335,{"$f":" IF(Foglio1!$C$9 <> \"\", 8.314472*Foglio1!$C$9*Foglio2!B1002, NA())","v":{"$error":"#N/A"}},{"$error":"#N/A"},8965,9.1010833860392335,{"$f":" IF(Foglio1!$C$10 <> \"\", 8.314472*Foglio1!$C$10*Foglio2!F1002, NA())","v":{"$error":"#N/A"}},{"$error":"#N/A"},8965,9.1010833860392335,{"$f":" IF(Foglio1!$C$11 <> \"\", 8.314472*Foglio1!$C$11*Foglio2!J1002, NA())","v":{"$error":"#N/A"}},{"$error":"#N/A"},8965,9.1010833860392335,{"$f":" IF(Foglio1!$C$12 <> \"\", 8.314472*Foglio1!$C$12*Foglio2!N1002, NA())","v":{"$error":"#N/A"}},{"$error":"#N/A"},8965,9.1010833860392335,{"$f":" IF(Foglio1!$C$13 <> \"\", 8.314472*Foglio1!$C$13*Foglio2!R1002, NA())","v":{"$error":"#N/A"}},{"$error":"#N/A"}]
[8974,9.1020867865359278,{"$f":" IF(Foglio1!$C$9 <> \"\", 8.314472*Foglio1!$C$9*Foglio2!B1003, NA())","v":{"$error":"#N/A"}},{"$error":"#N/A"},8974,9.1020867865359278,{"$f":" IF(Foglio1!$C$10 <> \"\", 8.314472*Foglio1!$C$10*Foglio2!F1003, NA())","v":{"$error":"#N/A"}},{"$error":"#N/A"},8974,9.1020867865359278,{"$f":" IF(Foglio1!$C$11 <> \"\", 8.314472*Foglio1!$C$11*Foglio2!J1003, NA())","v":{"$error":"#N/A"}},{"$error":"#N/A"},8974,9.1020867865359278,{"$f":" IF(Foglio1!$C$12 <> \"\", 8.314472*Foglio1!$C$12*Foglio2!N1003, NA())","v":{"$error":"#N/A"}},{"$error":"#N/A"},8974,9.1020867865359278,{"$f":" IF(Foglio1!$C$13 <> \"\", 8.314472*Foglio1!$C$13*Foglio2!R1003, NA())","v":{"$error":"#N/A"}},{"$error":"#N/A"}]
[8983,9.1030891812292065,{"$f":" IF(Foglio1!$C$9 <> \"\", 8.314472*Foglio1!$C$9*Foglio2!B1004, NA())","v":{"$error":"#N/A"}},{"$error":"#N/A"},8983,9.1030891812292065,{"$f":" IF(Foglio1!$C$10 <> \"\", 8.314472*Foglio1!$C$10*Foglio2!F1004, NA())","v":{"$error":"#N/A"}},{"$error":"#N/A"},8983,9.1030891812292065,{"$f":" IF(Foglio1!$C$11 <> \"\", 8.314472*Foglio1!$C$11*Foglio2!J1004, NA())","v":{"$error":"#N/A"}},{"$error":"#N/A"},8983,9.1030891812292065,{"$f":" IF(Foglio1!$C$12 <> \"\", 8.314472*Foglio1!$C$12*Foglio2!N1004, NA())","v":{"$error":"#N/A"}},{"$error":"#N/A"},8983,9.1030891812292065,{"$f":" IF(Foglio1!$C$13 <> \"\", 8.314472*Foglio1!$C$13*Foglio2!R1004, NA())","v":{"$error":"#N/A"}},{"$error":"#N/A"}]
[8992,9.1040905721334724,{"$f":" IF(Foglio1!$C$9 <> \"\", 8.314472*Foglio1!$C$9*Foglio2!B1005, NA())","v":{"$error":"#N/A"}},{"$error":"#N/A"},8992,9.1040905721334724,{"$f":" IF(Foglio1!$C$10 <> \"\", 8.314472*Foglio1!$C$10*Foglio2!F1005, NA())","v":{"$error":"#N/A"}},{"$error":"#N/A"},8992,9.1040905721334724,{"$f":" IF(Foglio1!$C$11 <> \"\", 8.314472*Foglio1!$C$11*Foglio2!J1005, NA())","v":{"$error":"#N/A"}},{"$error":"#N/A"},8992,9.1040905721334724,{"$f":" IF(Foglio1!$C$12 <> \"\", 8.314472*Foglio1!$C$12*Foglio2!N1005, NA())","v":{"$error":"#N/A"}},{"$error":"#N/A"},8992,9.1040905721334724,{"$f":" IF(Foglio1!$C$13 <> \"\", 8.314472*Foglio1!$C$13*Foglio2!R1005, NA())","v":{"$error":"#N/A"}},{"$error":"#N/A"}]
[9001,9.1050909612570852,{"$f":" IF(Foglio1!$C$9 <> \"\", 8.314472*Foglio1!$C$9*Foglio2!B1006, NA())","v":{"$error":"#N/A"}},{"$error":"#N/A"},9001,9.1050909612570852,{"$f":" IF(Foglio1!$C$10 <> \"\", 8.314472*Foglio1!$C$10*Foglio2!F1006, NA())","v":{"$error":"#N/A"}},{"$error":"#N/A"},9001,9.1050909612570852,{"$f":" IF(Foglio1!$C$11 <> \"\", 8.314472*Foglio1!$C$11*Foglio2!J1006, NA())","v":{"$error":"#N/A"}},{"$error":"#N/A"},9001,9.1050909612570852,{"$f":" IF(Foglio1!$C$12 <> \"\", 8.314472*Foglio1!$C$12*Foglio2!N1006, NA())","v":{"$error":"#N/A"}},{"$error":"#N/A"},9001,9.1050909612570852,{"$f":" IF(Foglio1!$C$13 <> \"\", 8.314472*Foglio1!$C$13*Foglio2!R1006, NA())","v":{"$error":"#N/A"}},{"$error":"#N/A"}]
[9010,9.1060903506023845,{"$f":" IF(Foglio1!$C$9 <> \"\", 8.314472*Foglio1!$C$9*Foglio2!B1007, NA())","v":{"$error":"#N/A"}},{"$error":"#N/A"},9010,9.1060903506023845,{"$f":" IF(Foglio1!$C$10 <> \"\", 8.314472*Foglio1!$C$10*Foglio2!F1007, NA())","v":{"$error":"#N/A"}},{"$error":"#N/A"},9010,9.1060903506023845,{"$f":" IF(Foglio1!$C$11 <> \"\", 8.314472*Foglio1!$C$11*Foglio2!J1007, NA())","v":{"$error":"#N/A"}},{"$error":"#N/A"},9010,9.1060903506023845,{"$f":" IF(Foglio1!$C$12 <> \"\", 8.314472*Foglio1!$C$12*Foglio2!N1007, NA())","v":{"$error":"#N/A"}},{"$error":"#N/A"},9010,9.1060903506023845,{"$f":" IF(Foglio1!$C$13 <> \"\", 8.314472*Foglio1!$C$13*Foglio2!R1007, NA())","v":{"$error":"#N/A"}},{"$error":"#N/A"}]
[9019,9.1070887421657076,{"$f":" IF(Foglio1!$C$9 <> \"\", 8.314472*Foglio1!$C$9*Foglio2!B1008, NA())","v":{"$error":"#N/A"}},{"$error":"#N/A"},9019,9.1070887421657076,{"$f":" IF(Foglio1!$C$10 <> \"\", 8.314472*Foglio1!$C$10*Foglio2!F1008, NA())","v":{"$error":"#N/A"}},{"$error":"#N/A"},9019,9.1070887421657076,{"$f":" IF(Foglio1!$C$11 <> \"\", 8.314472*Foglio1!$C$11*Foglio2!J1008, NA())","v":{"$error":"#N/A"}},{"$error":"#N/A"},9019,9.1070887421657076,{"$f":" IF(Foglio1!$C$12 <> \"\", 8.314472*Foglio1!$C$12*Foglio2!N1008, NA())","v":{"$error":"#N/A"}},{"$error":"#N/A"},9019,9.1070887421657076,{"$f":" IF(Foglio1!$C$13 <> \"\", 8.314472*Foglio1!$C$13*Foglio2!R1008, NA())","v":{"$error":"#N/A"}},{"$error":"#N/A"}]
[9028,9.1080861379374269,{"$f":" IF(Foglio1!$C$9 <> \"\", 8.314472*Foglio1!$C$9*Foglio2!B1009, NA())","v":{"$error":"#N/A"}},{"$error":"#N/A"},9028,9.1080861379374269,{"$f":" IF(Foglio1!$C$10 <> \"\", 8.314472*Foglio1!$C$10*Foglio2!F1009, NA())","v":{"$error":"#N/A"}},{"$error":"#N/A"},9028,9.1080861379374269,{"$f":" IF(Foglio1!$C$11 <> \"\", 8.314472*Foglio1!$C$11*Foglio2!J1009, NA())","v":{"$error":"#N/A"}},{"$error":"#N/A"},9028,9.1080861379374269,{"$f":" IF(Foglio1!$C$12 <> \"\", 8.314472*Foglio1!$C$12*Foglio2!N1009, NA())","v":{"$error":"#N/A"}},{"$error":"#N/A"},9028,9.1080861379374269,{"$f":" IF(Foglio1!$C$13 <> \"\", 8.314472*Foglio1!$C$13*Foglio2!R1009, NA())","v":{"$error":"#N/A"}},{"$error":"#N/A"}]
[9037,9.109082539901955,{"$f":" IF(Foglio1!$C$9 <> \"\", 8.314472*Foglio1!$C$9*Foglio2!B1010, NA())","v":{"$error":"#N/A"}},{"$error":"#N/A"},9037,9.109082539901955,{"$f":" IF(Foglio1!$C$10 <> \"\", 8.314472*Foglio1!$C$10*Foglio2!F1010, NA())","v":{"$error":"#N/A"}},{"$error":"#N/A"},9037,9.109082539901955,{"$f":" IF(Foglio1!$C$11 <> \"\", 8.314472*Foglio1!$C$11*Foglio2!J1010, NA())","v":{"$error":"#N/A"}},{"$error":"#N/A"},9037,9.109082539901955,{"$f":" IF(Foglio1!$C$12 <> \"\", 8.314472*Foglio1!$C$12*Foglio2!N1010, NA())","v":{"$error":"#N/A"}},{"$error":"#N/A"},9037,9.109082539901955,{"$f":" IF(Foglio1!$C$13 <> \"\", 8.314472*Foglio1!$C$13*Foglio2!R1010, NA())","v":{"$error":"#N/A"}},{"$error":"#N/A"}]
[9046,9.1100779500377893,{"$f":" IF(Foglio1!$C$9 <> \"\", 8.314472*Foglio1!$C$9*Foglio2!B1011, NA())","v":{"$error":"#N/A"}},{"$error":"#N/A"},9046,9.1100779500377893,{"$f":" IF(Foglio1!$C$10 <> \"\", 8.314472*Foglio1!$C$10*Foglio2!F1011, NA())","v":{"$error":"#N/A"}},{"$error":"#N/A"},9046,9.1100779500377893,{"$f":" IF(Foglio1!$C$11 <> \"\", 8.314472*Foglio1!$C$11*Foglio2!J1011, NA())","v":{"$error":"#N/A"}},{"$error":"#N/A"},9046,9.1100779500377893,{"$f":" IF(Foglio1!$C$12 <> \"\", 8.314472*Foglio1!$C$12*Foglio2!N1011, NA())","v":{"$error":"#N/A"}},{"$error":"#N/A"},9046,9.1100779500377893,{"$f":" IF(Foglio1!$C$13 <> \"\", 8.314472*Foglio1!$C$13*Foglio2!R1011, NA())","v":{"$error":"#N/A"}},{"$error":"#N/A"}]
[9055,9.1110723703175136,{"$f":" IF(Foglio1!$C$9 <> \"\", 8.314472*Foglio1!$C$9*Foglio2!B1012, NA())","v":{"$error":"#N/A"}},{"$error":"#N/A"},9055,9.1110723703175136,{"$f":" IF(Foglio1!$C$10 <> \"\", 8.314472*Foglio1!$C$10*Foglio2!F1012, NA())","v":{"$error":"#N/A"}},{"$error":"#N/A"},9055,9.1110723703175136,{"$f":" IF(Foglio1!$C$11 <> \"\", 8.314472*Foglio1!$C$11*Foglio2!J1012, NA())","v":{"$error":"#N/A"}},{"$error":"#N/A"},9055,9.1110723703175136,{"$f":" IF(Foglio1!$C$12 <> \"\", 8.314472*Foglio1!$C$12*Foglio2!N1012, NA())","v":{"$error":"#N/A"}},{"$error":"#N/A"},9055,9.1110723703175136,{"$f":" IF(Foglio1!$C$13 <> \"\", 8.314472*Foglio1!$C$13*Foglio2!R1012, NA())","v":{"$error":"#N/A"}},{"$error":"#N/A"}]
[9064,9.1120658027078427,{"$f":" IF(Foglio1!$C$9 <> \"\", 8.314472*Foglio1!$C$9*Foglio2!B1013, NA())","v":{"$error":"#N/A"}},{"$error":"#N/A"},9064,9.1120658027078427,{"$f":" IF(Foglio1!$C$10 <> \"\", 8.314472*Foglio1!$C$10*Foglio2!F1013, NA())","v":{"$error":"#N/A"}},{"$error":"#N/A"},9064,9.1120658027078427,{"$f":" IF(Foglio1!$C$11 <> \"\", 8.314472*Foglio1!$C$11*Foglio2!J1013, NA())","v":{"$error":"#N/A"}},{"$error":"#N/A"},9064,9.1120658027078427,{"$f":" IF(Foglio1!$C$12 <> \"\", 8.314472*Foglio1!$C$12*Foglio2!N1013, NA())","v":{"$error":"#N/A"}},{"$error":"#N/A"},9064,9.1120658027078427,{"$f":" IF(Foglio1!$C$13 <> \"\", 8.314472*Foglio1!$C$13*Foglio2!R1013, NA())","v":{"$error":"#N/A"}},{"$error":"#N/A"}]
[9073,9.1130582491696295,{"$f":" IF(Foglio1!$C$9 <> \"\", 8.314472*Foglio1!$C$9*Foglio2!B1014, NA())","v":{"$error":"#N/A"}},{"$error":"#N/A"},9073,9.1130582491696295,{"$f":" IF(Foglio1!$C$10 <> \"\", 8.314472*Foglio1!$C$10*Foglio2!F1014, NA())","v":{"$error":"#N/A"}},{"$error":"#N/A"},9073,9.1130582491696295,{"$f":" IF(Foglio1!$C$11 <> \"\", 8.314472*Foglio1!$C$11*Foglio2!J1014, NA())","v":{"$error":"#N/A"}},{"$error":"#N/A"},9073,9.1130582491696295,{"$f":" IF(Foglio1!$C$12 <> \"\", 8.314472*Foglio1!$C$12*Foglio2!N1014, NA())","v":{"$error":"#N/A"}},{"$error":"#N/A"},9073,9.1130582491696295,{"$f":" IF(Foglio1!$C$13 <> \"\", 8.314472*Foglio1!$C$13*Foglio2!R1014, NA())","v":{"$error":"#N/A"}},{"$error":"#N/A"}]
[9082,9.1140497116578967,{"$f":" IF(Foglio1!$C$9 <> \"\", 8.314472*Foglio1!$C$9*Foglio2!B1015, NA())","v":{"$error":"#N/A"}},{"$error":"#N/A"},9082,9.1140497116578967,{"$f":" IF(Foglio1!$C$10 <> \"\", 8.314472*Foglio1!$C$10*Foglio2!F1015, NA())","v":{"$error":"#N/A"}},{"$error":"#N/A"},9082,9.1140497116578967,{"$f":" IF(Foglio1!$C$11 <> \"\", 8.314472*Foglio1!$C$11*Foglio2!J1015, NA())","v":{"$error":"#N/A"}},{"$error":"#N/A"},9082,9.1140497116578967,{"$f":" IF(Foglio1!$C$12 <> \"\", 8.314472*Foglio1!$C$12*Foglio2!N1015, NA())","v":{"$error":"#N/A"}},{"$error":"#N/A"},9082,9.1140497116578967,{"$f":" IF(Foglio1!$C$13 <> \"\", 8.314472*Foglio1!$C$13*Foglio2!R1015, NA())","v":{"$error":"#N/A"}},{"$error":"#N/A"}]
[9091,9.1150401921218585,{"$f":" IF(Foglio1!$C$9 <> \"\", 8.314472*Foglio1!$C$9*Foglio2!B1016, NA())","v":{"$error":"#N/A"}},{"$error":"#N/A"},9091,9.1150401921218585,{"$f":" IF(Foglio1!$C$10 <> \"\", 8.314472*Foglio1!$C$10*Foglio2!F1016, NA())","v":{"$error":"#N/A"}},{"$error":"#N/A"},9091,9.1150401921218585,{"$f":" IF(Foglio1!$C$11 <> \"\", 8.314472*Foglio1!$C$11*Foglio2!J1016, NA())","v":{"$error":"#N/A"}},{"$error":"#N/A"},9091,9.1150401921218585,{"$f":" IF(Foglio1!$C$12 <> \"\", 8.314472*Foglio1!$C$12*Foglio2!N1016, NA())","v":{"$error":"#N/A"}},{"$error":"#N/A"},9091,9.1150401921218585,{"$f":" IF(Foglio1!$C$13 <> \"\", 8.314472*Foglio1!$C$13*Foglio2!R1016, NA())","v":{"$error":"#N/A"}},{"$error":"#N/A"}]
[9100,9.1160296925049416,{"$f":" IF(Foglio1!$C$9 <> \"\", 8.314472*Foglio1!$C$9*Foglio2!B1017, NA())","v":{"$error":"#N/A"}},{"$error":"#N/A"},9100,9.1160296925049416,{"$f":" IF(Foglio1!$C$10 <> \"\", 8.314472*Foglio1!$C$10*Foglio2!F1017, NA())","v":{"$error":"#N/A"}},{"$error":"#N/A"},9100,9.1160296925049416,{"$f":" IF(Foglio1!$C$11 <> \"\", 8.314472*Foglio1!$C$11*Foglio2!J1017, NA())","v":{"$error":"#N/A"}},{"$error":"#N/A"},9100,9.1160296925049416,{"$f":" IF(Foglio1!$C$12 <> \"\", 8.314472*Foglio1!$C$12*Foglio2!N1017, NA())","v":{"$error":"#N/A"}},{"$error":"#N/A"},9100,9.1160296925049416,{"$f":" IF(Foglio1!$C$13 <> \"\", 8.314472*Foglio1!$C$13*Foglio2!R1017, NA())","v":{"$error":"#N/A"}},{"$error":"#N/A"}]
[9109,9.1170182147448102,{"$f":" IF(Foglio1!$C$9 <> \"\", 8.314472*Foglio1!$C$9*Foglio2!B1018, NA())","v":{"$error":"#N/A"}},{"$error":"#N/A"},9109,9.1170182147448102,{"$f":" IF(Foglio1!$C$10 <> \"\", 8.314472*Foglio1!$C$10*Foglio2!F1018, NA())","v":{"$error":"#N/A"}},{"$error":"#N/A"},9109,9.1170182147448102,{"$f":" IF(Foglio1!$C$11 <> \"\", 8.314472*Foglio1!$C$11*Foglio2!J1018, NA())","v":{"$error":"#N/A"}},{"$error":"#N/A"},9109,9.1170182147448102,{"$f":" IF(Foglio1!$C$12 <> \"\", 8.314472*Foglio1!$C$12*Foglio2!N1018, NA())","v":{"$error":"#N/A"}},{"$error":"#N/A"},9109,9.1170182147448102,{"$f":" IF(Foglio1!$C$13 <> \"\", 8.314472*Foglio1!$C$13*Foglio2!R1018, NA())","v":{"$error":"#N/A"}},{"$error":"#N/A"}]
[9118,9.1180057607733875,{"$f":" IF(Foglio1!$C$9 <> \"\", 8.314472*Foglio1!$C$9*Foglio2!B1019, NA())","v":{"$error":"#N/A"}},{"$error":"#N/A"},9118,9.1180057607733875,{"$f":" IF(Foglio1!$C$10 <> \"\", 8.314472*Foglio1!$C$10*Foglio2!F1019, NA())","v":{"$error":"#N/A"}},{"$error":"#N/A"},9118,9.1180057607733875,{"$f":" IF(Foglio1!$C$11 <> \"\", 8.314472*Foglio1!$C$11*Foglio2!J1019, NA())","v":{"$error":"#N/A"}},{"$error":"#N/A"},9118,9.1180057607733875,{"$f":" IF(Foglio1!$C$12 <> \"\", 8.314472*Foglio1!$C$12*Foglio2!N1019, NA())","v":{"$error":"#N/A"}},{"$error":"#N/A"},9118,9.1180057607733875,{"$f":" IF(Foglio1!$C$13 <> \"\", 8.314472*Foglio1!$C$13*Foglio2!R1019, NA())","v":{"$error":"#N/A"}},{"$error":"#N/A"}]
[9127,9.1189923325168767,{"$f":" IF(Foglio1!$C$9 <> \"\", 8.314472*Foglio1!$C$9*Foglio2!B1020, NA())","v":{"$error":"#N/A"}},{"$error":"#N/A"},9127,9.1189923325168767,{"$f":" IF(Foglio1!$C$10 <> \"\", 8.314472*Foglio1!$C$10*Foglio2!F1020, NA())","v":{"$error":"#N/A"}},{"$error":"#N/A"},9127,9.1189923325168767,{"$f":" IF(Foglio1!$C$11 <> \"\", 8.314472*Foglio1!$C$11*Foglio2!J1020, NA())","v":{"$error":"#N/A"}},{"$error":"#N/A"},9127,9.1189923325168767,{"$f":" IF(Foglio1!$C$12 <> \"\", 8.314472*Foglio1!$C$12*Foglio2!N1020, NA())","v":{"$error":"#N/A"}},{"$error":"#N/A"},9127,9.1189923325168767,{"$f":" IF(Foglio1!$C$13 <> \"\", 8.314472*Foglio1!$C$13*Foglio2!R1020, NA())","v":{"$error":"#N/A"}},{"$error":"#N/A"}]
[9136,9.1199779318957912,{"$f":" IF(Foglio1!$C$9 <> \"\", 8.314472*Foglio1!$C$9*Foglio2!B1021, NA())","v":{"$error":"#N/A"}},{"$error":"#N/A"},9136,9.1199779318957912,{"$f":" IF(Foglio1!$C$10 <> \"\", 8.314472*Foglio1!$C$10*Foglio2!F1021, NA())","v":{"$error":"#N/A"}},{"$error":"#N/A"},9136,9.1199779318957912,{"$f":" IF(Foglio1!$C$11 <> \"\", 8.314472*Foglio1!$C$11*Foglio2!J1021, NA())","v":{"$error":"#N/A"}},{"$error":"#N/A"},9136,9.1199779318957912,{"$f":" IF(Foglio1!$C$12 <> \"\", 8.314472*Foglio1!$C$12*Foglio2!N1021, NA())","v":{"$error":"#N/A"}},{"$error":"#N/A"},9136,9.1199779318957912,{"$f":" IF(Foglio1!$C$13 <> \"\", 8.314472*Foglio1!$C$13*Foglio2!R1021, NA())","v":{"$error":"#N/A"}},{"$error":"#N/A"}]
[9145,9.1209625608249656,{"$f":" IF(Foglio1!$C$9 <> \"\", 8.314472*Foglio1!$C$9*Foglio2!B1022, NA())","v":{"$error":"#N/A"}},{"$error":"#N/A"},9145,9.1209625608249656,{"$f":" IF(Foglio1!$C$10 <> \"\", 8.314472*Foglio1!$C$10*Foglio2!F1022, NA())","v":{"$error":"#N/A"}},{"$error":"#N/A"},9145,9.1209625608249656,{"$f":" IF(Foglio1!$C$11 <> \"\", 8.314472*Foglio1!$C$11*Foglio2!J1022, NA())","v":{"$error":"#N/A"}},{"$error":"#N/A"},9145,9.1209625608249656,{"$f":" IF(Foglio1!$C$12 <> \"\", 8.314472*Foglio1!$C$12*Foglio2!N1022, NA())","v":{"$error":"#N/A"}},{"$error":"#N/A"},9145,9.1209625608249656,{"$f":" IF(Foglio1!$C$13 <> \"\", 8.314472*Foglio1!$C$13*Foglio2!R1022, NA())","v":{"$error":"#N/A"}},{"$error":"#N/A"}]
[9154,9.1219462212135873,{"$f":" IF(Foglio1!$C$9 <> \"\", 8.314472*Foglio1!$C$9*Foglio2!B1023, NA())","v":{"$error":"#N/A"}},{"$error":"#N/A"},9154,9.1219462212135873,{"$f":" IF(Foglio1!$C$10 <> \"\", 8.314472*Foglio1!$C$10*Foglio2!F1023, NA())","v":{"$error":"#N/A"}},{"$error":"#N/A"},9154,9.1219462212135873,{"$f":" IF(Foglio1!$C$11 <> \"\", 8.314472*Foglio1!$C$11*Foglio2!J1023, NA())","v":{"$error":"#N/A"}},{"$error":"#N/A"},9154,9.1219462212135873,{"$f":" IF(Foglio1!$C$12 <> \"\", 8.314472*Foglio1!$C$12*Foglio2!N1023, NA())","v":{"$error":"#N/A"}},{"$error":"#N/A"},9154,9.1219462212135873,{"$f":" IF(Foglio1!$C$13 <> \"\", 8.314472*Foglio1!$C$13*Foglio2!R1023, NA())","v":{"$error":"#N/A"}},{"$error":"#N/A"}]
[9163,9.1229289149652129,{"$f":" IF(Foglio1!$C$9 <> \"\", 8.314472*Foglio1!$C$9*Foglio2!B1024, NA())","v":{"$error":"#N/A"}},{"$error":"#N/A"},9163,9.1229289149652129,{"$f":" IF(Foglio1!$C$10 <> \"\", 8.314472*Foglio1!$C$10*Foglio2!F1024, NA())","v":{"$error":"#N/A"}},{"$error":"#N/A"},9163,9.1229289149652129,{"$f":" IF(Foglio1!$C$11 <> \"\", 8.314472*Foglio1!$C$11*Foglio2!J1024, NA())","v":{"$error":"#N/A"}},{"$error":"#N/A"},9163,9.1229289149652129,{"$f":" IF(Foglio1!$C$12 <> \"\", 8.314472*Foglio1!$C$12*Foglio2!N1024, NA())","v":{"$error":"#N/A"}},{"$error":"#N/A"},9163,9.1229289149652129,{"$f":" IF(Foglio1!$C$13 <> \"\", 8.314472*Foglio1!$C$13*Foglio2!R1024, NA())","v":{"$error":"#N/A"}},{"$error":"#N/A"}]
[9172,9.1239106439777959,{"$f":" IF(Foglio1!$C$9 <> \"\", 8.314472*Foglio1!$C$9*Foglio2!B1025, NA())","v":{"$error":"#N/A"}},{"$error":"#N/A"},9172,9.1239106439777959,{"$f":" IF(Foglio1!$C$10 <> \"\", 8.314472*Foglio1!$C$10*Foglio2!F1025, NA())","v":{"$error":"#N/A"}},{"$error":"#N/A"},9172,9.1239106439777959,{"$f":" IF(Foglio1!$C$11 <> \"\", 8.314472*Foglio1!$C$11*Foglio2!J1025, NA())","v":{"$error":"#N/A"}},{"$error":"#N/A"},9172,9.1239106439777959,{"$f":" IF(Foglio1!$C$12 <> \"\", 8.314472*Foglio1!$C$12*Foglio2!N1025, NA())","v":{"$error":"#N/A"}},{"$error":"#N/A"},9172,9.1239106439777959,{"$f":" IF(Foglio1!$C$13 <> \"\", 8.314472*Foglio1!$C$13*Foglio2!R1025, NA())","v":{"$error":"#N/A"}},{"$error":"#N/A"}]
[9181,9.1248914101437002,{"$f":" IF(Foglio1!$C$9 <> \"\", 8.314472*Foglio1!$C$9*Foglio2!B1026, NA())","v":{"$error":"#N/A"}},{"$error":"#N/A"},9181,9.1248914101437002,{"$f":" IF(Foglio1!$C$10 <> \"\", 8.314472*Foglio1!$C$10*Foglio2!F1026, NA())","v":{"$error":"#N/A"}},{"$error":"#N/A"},9181,9.1248914101437002,{"$f":" IF(Foglio1!$C$11 <> \"\", 8.314472*Foglio1!$C$11*Foglio2!J1026, NA())","v":{"$error":"#N/A"}},{"$error":"#N/A"},9181,9.1248914101437002,{"$f":" IF(Foglio1!$C$12 <> \"\", 8.314472*Foglio1!$C$12*Foglio2!N1026, NA())","v":{"$error":"#N/A"}},{"$error":"#N/A"},9181,9.1248914101437002,{"$f":" IF(Foglio1!$C$13 <> \"\", 8.314472*Foglio1!$C$13*Foglio2!R1026, NA())","v":{"$error":"#N/A"}},{"$error":"#N/A"}]
[9190,{"$f":"LN(A1027)","v":9.1258712153497328},{"$f":" IF(Foglio1!$C$9 <> \"\", 8.314472*Foglio1!$C$9*Foglio2!B1027, NA())","v":{"$error":"#N/A"}},{"$f":"  -30.5 + C1027*10^-3","v":{"$error":"#N/A"}},9190,{"$f":"LN(E1027)","v":9.1258712153497328},{"$f":" IF(Foglio1!$C$10 <> \"\", 8.314472*Foglio1!$C$10*Foglio2!F1027, NA())","v":{"$error":"#N/A"}},{"$f":" -30.5+ G1027*10^-3","v":{"$error":"#N/A"}},9190,{"$f":"LN(I1027)","v":9.1258712153497328},{"$f":" IF(Foglio1!$C$11 <> \"\", 8.314472*Foglio1!$C$11*Foglio2!J1027, NA())","v":{"$error":"#N/A"}},{"$f":" -30.5+ K1027*10^-3","v":{"$error":"#N/A"}},9190,{"$f":"LN(M1027)","v":9.1258712153497328},{"$f":" IF(Foglio1!$C$12 <> \"\", 8.314472*Foglio1!$C$12*Foglio2!N1027, NA())","v":{"$error":"#N/A"}},{"$f":" -30.5+ O1027*10^-3","v":{"$error":"#N/A"}},9190,{"$f":"LN(Q1027)","v":9.1258712153497328},{"$f":" IF(Foglio1!$C$13 <> \"\", 8.314472*Foglio1!$C$13*Foglio2!R1027, NA())","v":{"$error":"#N/A"}},{"$f":" -30.5+S1027*10^-3","v":{"$error":"#N/A"}}]
[9199,9.1268500614771568,{"$f":" IF(Foglio1!$C$9 <> \"\", 8.314472*Foglio1!$C$9*Foglio2!B1028, NA())","v":{"$error":"#N/A"}},{"$error":"#N/A"},9199,9.1268500614771568,{"$f":" IF(Foglio1!$C$10 <> \"\", 8.314472*Foglio1!$C$10*Foglio2!F1028, NA())","v":{"$error":"#N/A"}},{"$error":"#N/A"},9199,9.1268500614771568,{"$f":" IF(Foglio1!$C$11 <> \"\", 8.314472*Foglio1!$C$11*Foglio2!J1028, NA())","v":{"$error":"#N/A"}},{"$error":"#N/A"},9199,9.1268500614771568,{"$f":" IF(Foglio1!$C$12 <> \"\", 8.314472*Foglio1!$C$12*Foglio2!N1028, NA())","v":{"$error":"#N/A"}},{"$error":"#N/A"},9199,9.1268500614771568,{"$f":" IF(Foglio1!$C$13 <> \"\", 8.314472*Foglio1!$C$13*Foglio2!R1028, NA())","v":{"$error":"#N/A"}},{"$error":"#N/A"}]
[9208,9.1278279504017181,{"$f":" IF(Foglio1!$C$9 <> \"\", 8.314472*Foglio1!$C$9*Foglio2!B1029, NA())","v":{"$error":"#N/A"}},{"$error":"#N/A"},9208,9.1278279504017181,{"$f":" IF(Foglio1!$C$10 <> \"\", 8.314472*Foglio1!$C$10*Foglio2!F1029, NA())","v":{"$error":"#N/A"}},{"$error":"#N/A"},9208,9.1278279504017181,{"$f":" IF(Foglio1!$C$11 <> \"\", 8.314472*Foglio1!$C$11*Foglio2!J1029, NA())","v":{"$error":"#N/A"}},{"$error":"#N/A"},9208,9.1278279504017181,{"$f":" IF(Foglio1!$C$12 <> \"\", 8.314472*Foglio1!$C$12*Foglio2!N1029, NA())","v":{"$error":"#N/A"}},{"$error":"#N/A"},9208,9.1278279504017181,{"$f":" IF(Foglio1!$C$13 <> \"\", 8.314472*Foglio1!$C$13*Foglio2!R1029, NA())","v":{"$error":"#N/A"}},{"$error":"#N/A"}]
[9217,9.1288048839936646,{"$f":" IF(Foglio1!$C$9 <> \"\", 8.314472*Foglio1!$C$9*Foglio2!B1030, NA())","v":{"$error":"#N/A"}},{"$error":"#N/A"},9217,9.1288048839936646,{"$f":" IF(Foglio1!$C$10 <> \"\", 8.314472*Foglio1!$C$10*Foglio2!F1030, NA())","v":{"$error":"#N/A"}},{"$error":"#N/A"},9217,9.1288048839936646,{"$f":" IF(Foglio1!$C$11 <> \"\", 8.314472*Foglio1!$C$11*Foglio2!J1030, NA())","v":{"$error":"#N/A"}},{"$error":"#N/A"},9217,9.1288048839936646,{"$f":" IF(Foglio1!$C$12 <> \"\", 8.314472*Foglio1!$C$12*Foglio2!N1030, NA())","v":{"$error":"#N/A"}},{"$error":"#N/A"},9217,9.1288048839936646,{"$f":" IF(Foglio1!$C$13 <> \"\", 8.314472*Foglio1!$C$13*Foglio2!R1030, NA())","v":{"$error":"#N/A"}},{"$error":"#N/A"}]
[9226,9.129780864117766,{"$f":" IF(Foglio1!$C$9 <> \"\", 8.314472*Foglio1!$C$9*Foglio2!B1031, NA())","v":{"$error":"#N/A"}},{"$error":"#N/A"},9226,9.129780864117766,{"$f":" IF(Foglio1!$C$10 <> \"\", 8.314472*Foglio1!$C$10*Foglio2!F1031, NA())","v":{"$error":"#N/A"}},{"$error":"#N/A"},9226,9.129780864117766,{"$f":" IF(Foglio1!$C$11 <> \"\", 8.314472*Foglio1!$C$11*Foglio2!J1031, NA())","v":{"$error":"#N/A"}},{"$error":"#N/A"},9226,9.129780864117766,{"$f":" IF(Foglio1!$C$12 <> \"\", 8.314472*Foglio1!$C$12*Foglio2!N1031, NA())","v":{"$error":"#N/A"}},{"$error":"#N/A"},9226,9.129780864117766,{"$f":" IF(Foglio1!$C$13 <> \"\", 8.314472*Foglio1!$C$13*Foglio2!R1031, NA())","v":{"$error":"#N/A"}},{"$error":"#N/A"}]
[9235,9.1307558926333403,{"$f":" IF(Foglio1!$C$9 <> \"\", 8.314472*Foglio1!$C$9*Foglio2!B1032, NA())","v":{"$error":"#N/A"}},{"$error":"#N/A"},9235,9.1307558926333403,{"$f":" IF(Foglio1!$C$10 <> \"\", 8.314472*Foglio1!$C$10*Foglio2!F1032, NA())","v":{"$error":"#N/A"}},{"$error":"#N/A"},9235,9.1307558926333403,{"$f":" IF(Foglio1!$C$11 <> \"\", 8.314472*Foglio1!$C$11*Foglio2!J1032, NA())","v":{"$error":"#N/A"}},{"$error":"#N/A"},9235,9.1307558926333403,{"$f":" IF(Foglio1!$C$12 <> \"\", 8.314472*Foglio1!$C$12*Foglio2!N1032, NA())","v":{"$error":"#N/A"}},{"$error":"#N/A"},9235,9.1307558926333403,{"$f":" IF(Foglio1!$C$13 <> \"\", 8.314472*Foglio1!$C$13*Foglio2!R1032, NA())","v":{"$error":"#N/A"}},{"$error":"#N/A"}]
[9244,9.1317299713942717,{"$f":" IF(Foglio1!$C$9 <> \"\", 8.314472*Foglio1!$C$9*Foglio2!B1033, NA())","v":{"$error":"#N/A"}},{"$error":"#N/A"},9244,9.1317299713942717,{"$f":" IF(Foglio1!$C$10 <> \"\", 8.314472*Foglio1!$C$10*Foglio2!F1033, NA())","v":{"$error":"#N/A"}},{"$error":"#N/A"},9244,9.1317299713942717,{"$f":" IF(Foglio1!$C$11 <> \"\", 8.314472*Foglio1!$C$11*Foglio2!J1033, NA())","v":{"$error":"#N/A"}},{"$error":"#N/A"},9244,9.1317299713942717,{"$f":" IF(Foglio1!$C$12 <> \"\", 8.314472*Foglio1!$C$12*Foglio2!N1033, NA())","v":{"$error":"#N/A"}},{"$error":"#N/A"},9244,9.1317299713942717,{"$f":" IF(Foglio1!$C$13 <> \"\", 8.314472*Foglio1!$C$13*Foglio2!R1033, NA())","v":{"$error":"#N/A"}},{"$error":"#N/A"}]
[9253,9.1327031022490299,{"$f":" IF(Foglio1!$C$9 <> \"\", 8.314472*Foglio1!$C$9*Foglio2!B1034, NA())","v":{"$error":"#N/A"}},{"$error":"#N/A"},9253,9.1327031022490299,{"$f":" IF(Foglio1!$C$10 <> \"\", 8.314472*Foglio1!$C$10*Foglio2!F1034, NA())","v":{"$error":"#N/A"}},{"$error":"#N/A"},9253,9.1327031022490299,{"$f":" IF(Foglio1!$C$11 <> \"\", 8.314472*Foglio1!$C$11*Foglio2!J1034, NA())","v":{"$error":"#N/A"}},{"$error":"#N/A"},9253,9.1327031022490299,{"$f":" IF(Foglio1!$C$12 <> \"\", 8.314472*Foglio1!$C$12*Foglio2!N1034, NA())","v":{"$error":"#N/A"}},{"$error":"#N/A"},9253,9.1327031022490299,{"$f":" IF(Foglio1!$C$13 <> \"\", 8.314472*Foglio1!$C$13*Foglio2!R1034, NA())","v":{"$error":"#N/A"}},{"$error":"#N/A"}]
[9262,9.1336752870406972,{"$f":" IF(Foglio1!$C$9 <> \"\", 8.314472*Foglio1!$C$9*Foglio2!B1035, NA())","v":{"$error":"#N/A"}},{"$error":"#N/A"},9262,9.1336752870406972,{"$f":" IF(Foglio1!$C$10 <> \"\", 8.314472*Foglio1!$C$10*Foglio2!F1035, NA())","v":{"$error":"#N/A"}},{"$error":"#N/A"},9262,9.1336752870406972,{"$f":" IF(Foglio1!$C$11 <> \"\", 8.314472*Foglio1!$C$11*Foglio2!J1035, NA())","v":{"$error":"#N/A"}},{"$error":"#N/A"},9262,9.1336752870406972,{"$f":" IF(Foglio1!$C$12 <> \"\", 8.314472*Foglio1!$C$12*Foglio2!N1035, NA())","v":{"$error":"#N/A"}},{"$error":"#N/A"},9262,9.1336752870406972,{"$f":" IF(Foglio1!$C$13 <> \"\", 8.314472*Foglio1!$C$13*Foglio2!R1035, NA())","v":{"$error":"#N/A"}},{"$error":"#N/A"}]
[9271,9.1346465276069821,{"$f":" IF(Foglio1!$C$9 <> \"\", 8.314472*Foglio1!$C$9*Foglio2!B1036, NA())","v":{"$error":"#N/A"}},{"$error":"#N/A"},9271,9.1346465276069821,{"$f":" IF(Foglio1!$C$10 <> \"\", 8.314472*Foglio1!$C$10*Foglio2!F1036, NA())","v":{"$error":"#N/A"}},{"$error":"#N/A"},9271,9.1346465276069821,{"$f":" IF(Foglio1!$C$11 <> \"\", 8.314472*Foglio1!$C$11*Foglio2!J1036, NA())","v":{"$error":"#N/A"}},{"$error":"#N/A"},9271,9.1346465276069821,{"$f":" IF(Foglio1!$C$12 <> \"\", 8.314472*Foglio1!$C$12*Foglio2!N1036, NA())","v":{"$error":"#N/A"}},{"$error":"#N/A"},9271,9.1346465276069821,{"$f":" IF(Foglio1!$C$13 <> \"\", 8.314472*Foglio1!$C$13*Foglio2!R1036, NA())","v":{"$error":"#N/A"}},{"$error":"#N/A"}]
[9280,9.1356168257802466,{"$f":" IF(Foglio1!$C$9 <> \"\", 8.314472*Foglio1!$C$9*Foglio2!B1037, NA())","v":{"$error":"#N/A"}},{"$error":"#N/A"},9280,9.1356168257802466,{"$f":" IF(Foglio1!$C$10 <> \"\", 8.314472*Foglio1!$C$10*Foglio2!F1037, NA())","v":{"$error":"#N/A"}},{"$error":"#N/A"},9280,9.1356168257802466,{"$f":" IF(Foglio1!$C$11 <> \"\", 8.314472*Foglio1!$C$11*Foglio2!J1037, NA())","v":{"$error":"#N/A"}},{"$error":"#N/A"},9280,9.1356168257802466,{"$f":" IF(Foglio1!$C$12 <> \"\", 8.314472*Foglio1!$C$12*Foglio2!N1037, NA())","v":{"$error":"#N/A"}},{"$error":"#N/A"},9280,9.1356168257802466,{"$f":" IF(Foglio1!$C$13 <> \"\", 8.314472*Foglio1!$C$13*Foglio2!R1037, NA())","v":{"$error":"#N/A"}},{"$error":"#N/A"}]
[9289,9.1365861833875215,{"$f":" IF(Foglio1!$C$9 <> \"\", 8.314472*Foglio1!$C$9*Foglio2!B1038, NA())","v":{"$error":"#N/A"}},{"$error":"#N/A"},9289,9.1365861833875215,{"$f":" IF(Foglio1!$C$10 <> \"\", 8.314472*Foglio1!$C$10*Foglio2!F1038, NA())","v":{"$error":"#N/A"}},{"$error":"#N/A"},9289,9.1365861833875215,{"$f":" IF(Foglio1!$C$11 <> \"\", 8.314472*Foglio1!$C$11*Foglio2!J1038, NA())","v":{"$error":"#N/A"}},{"$error":"#N/A"},9289,9.1365861833875215,{"$f":" IF(Foglio1!$C$12 <> \"\", 8.314472*Foglio1!$C$12*Foglio2!N1038, NA())","v":{"$error":"#N/A"}},{"$error":"#N/A"},9289,9.1365861833875215,{"$f":" IF(Foglio1!$C$13 <> \"\", 8.314472*Foglio1!$C$13*Foglio2!R1038, NA())","v":{"$error":"#N/A"}},{"$error":"#N/A"}]
[9298,9.1375546022505301,{"$f":" IF(Foglio1!$C$9 <> \"\", 8.314472*Foglio1!$C$9*Foglio2!B1039, NA())","v":{"$error":"#N/A"}},{"$error":"#N/A"},9298,9.1375546022505301,{"$f":" IF(Foglio1!$C$10 <> \"\", 8.314472*Foglio1!$C$10*Foglio2!F1039, NA())","v":{"$error":"#N/A"}},{"$error":"#N/A"},9298,9.1375546022505301,{"$f":" IF(Foglio1!$C$11 <> \"\", 8.314472*Foglio1!$C$11*Foglio2!J1039, NA())","v":{"$error":"#N/A"}},{"$error":"#N/A"},9298,9.1375546022505301,{"$f":" IF(Foglio1!$C$12 <> \"\", 8.314472*Foglio1!$C$12*Foglio2!N1039, NA())","v":{"$error":"#N/A"}},{"$error":"#N/A"},9298,9.1375546022505301,{"$f":" IF(Foglio1!$C$13 <> \"\", 8.314472*Foglio1!$C$13*Foglio2!R1039, NA())","v":{"$error":"#N/A"}},{"$error":"#N/A"}]
[9307,9.1385220841857109,{"$f":" IF(Foglio1!$C$9 <> \"\", 8.314472*Foglio1!$C$9*Foglio2!B1040, NA())","v":{"$error":"#N/A"}},{"$error":"#N/A"},9307,9.1385220841857109,{"$f":" IF(Foglio1!$C$10 <> \"\", 8.314472*Foglio1!$C$10*Foglio2!F1040, NA())","v":{"$error":"#N/A"}},{"$error":"#N/A"},9307,9.1385220841857109,{"$f":" IF(Foglio1!$C$11 <> \"\", 8.314472*Foglio1!$C$11*Foglio2!J1040, NA())","v":{"$error":"#N/A"}},{"$error":"#N/A"},9307,9.1385220841857109,{"$f":" IF(Foglio1!$C$12 <> \"\", 8.314472*Foglio1!$C$12*Foglio2!N1040, NA())","v":{"$error":"#N/A"}},{"$error":"#N/A"},9307,9.1385220841857109,{"$f":" IF(Foglio1!$C$13 <> \"\", 8.314472*Foglio1!$C$13*Foglio2!R1040, NA())","v":{"$error":"#N/A"}},{"$error":"#N/A"}]
[9316,9.139488631004232,{"$f":" IF(Foglio1!$C$9 <> \"\", 8.314472*Foglio1!$C$9*Foglio2!B1041, NA())","v":{"$error":"#N/A"}},{"$error":"#N/A"},9316,9.139488631004232,{"$f":" IF(Foglio1!$C$10 <> \"\", 8.314472*Foglio1!$C$10*Foglio2!F1041, NA())","v":{"$error":"#N/A"}},{"$error":"#N/A"},9316,9.139488631004232,{"$f":" IF(Foglio1!$C$11 <> \"\", 8.314472*Foglio1!$C$11*Foglio2!J1041, NA())","v":{"$error":"#N/A"}},{"$error":"#N/A"},9316,9.139488631004232,{"$f":" IF(Foglio1!$C$12 <> \"\", 8.314472*Foglio1!$C$12*Foglio2!N1041, NA())","v":{"$error":"#N/A"}},{"$error":"#N/A"},9316,9.139488631004232,{"$f":" IF(Foglio1!$C$13 <> \"\", 8.314472*Foglio1!$C$13*Foglio2!R1041, NA())","v":{"$error":"#N/A"}},{"$error":"#N/A"}]
[9325,9.140454244512016,{"$f":" IF(Foglio1!$C$9 <> \"\", 8.314472*Foglio1!$C$9*Foglio2!B1042, NA())","v":{"$error":"#N/A"}},{"$error":"#N/A"},9325,9.140454244512016,{"$f":" IF(Foglio1!$C$10 <> \"\", 8.314472*Foglio1!$C$10*Foglio2!F1042, NA())","v":{"$error":"#N/A"}},{"$error":"#N/A"},9325,9.140454244512016,{"$f":" IF(Foglio1!$C$11 <> \"\", 8.314472*Foglio1!$C$11*Foglio2!J1042, NA())","v":{"$error":"#N/A"}},{"$error":"#N/A"},9325,9.140454244512016,{"$f":" IF(Foglio1!$C$12 <> \"\", 8.314472*Foglio1!$C$12*Foglio2!N1042, NA())","v":{"$error":"#N/A"}},{"$error":"#N/A"},9325,9.140454244512016,{"$f":" IF(Foglio1!$C$13 <> \"\", 8.314472*Foglio1!$C$13*Foglio2!R1042, NA())","v":{"$error":"#N/A"}},{"$error":"#N/A"}]
[9334,9.1414189265097612,{"$f":" IF(Foglio1!$C$9 <> \"\", 8.314472*Foglio1!$C$9*Foglio2!B1043, NA())","v":{"$error":"#N/A"}},{"$error":"#N/A"},9334,9.1414189265097612,{"$f":" IF(Foglio1!$C$10 <> \"\", 8.314472*Foglio1!$C$10*Foglio2!F1043, NA())","v":{"$error":"#N/A"}},{"$error":"#N/A"},9334,9.1414189265097612,{"$f":" IF(Foglio1!$C$11 <> \"\", 8.314472*Foglio1!$C$11*Foglio2!J1043, NA())","v":{"$error":"#N/A"}},{"$error":"#N/A"},9334,9.1414189265097612,{"$f":" IF(Foglio1!$C$12 <> \"\", 8.314472*Foglio1!$C$12*Foglio2!N1043, NA())","v":{"$error":"#N/A"}},{"$error":"#N/A"},9334,9.1414189265097612,{"$f":" IF(Foglio1!$C$13 <> \"\", 8.314472*Foglio1!$C$13*Foglio2!R1043, NA())","v":{"$error":"#N/A"}},{"$error":"#N/A"}]
[9343,9.1423826787929556,{"$f":" IF(Foglio1!$C$9 <> \"\", 8.314472*Foglio1!$C$9*Foglio2!B1044, NA())","v":{"$error":"#N/A"}},{"$error":"#N/A"},9343,9.1423826787929556,{"$f":" IF(Foglio1!$C$10 <> \"\", 8.314472*Foglio1!$C$10*Foglio2!F1044, NA())","v":{"$error":"#N/A"}},{"$error":"#N/A"},9343,9.1423826787929556,{"$f":" IF(Foglio1!$C$11 <> \"\", 8.314472*Foglio1!$C$11*Foglio2!J1044, NA())","v":{"$error":"#N/A"}},{"$error":"#N/A"},9343,9.1423826787929556,{"$f":" IF(Foglio1!$C$12 <> \"\", 8.314472*Foglio1!$C$12*Foglio2!N1044, NA())","v":{"$error":"#N/A"}},{"$error":"#N/A"},9343,9.1423826787929556,{"$f":" IF(Foglio1!$C$13 <> \"\", 8.314472*Foglio1!$C$13*Foglio2!R1044, NA())","v":{"$error":"#N/A"}},{"$error":"#N/A"}]
[9352,9.1433455031519042,{"$f":" IF(Foglio1!$C$9 <> \"\", 8.314472*Foglio1!$C$9*Foglio2!B1045, NA())","v":{"$error":"#N/A"}},{"$error":"#N/A"},9352,9.1433455031519042,{"$f":" IF(Foglio1!$C$10 <> \"\", 8.314472*Foglio1!$C$10*Foglio2!F1045, NA())","v":{"$error":"#N/A"}},{"$error":"#N/A"},9352,9.1433455031519042,{"$f":" IF(Foglio1!$C$11 <> \"\", 8.314472*Foglio1!$C$11*Foglio2!J1045, NA())","v":{"$error":"#N/A"}},{"$error":"#N/A"},9352,9.1433455031519042,{"$f":" IF(Foglio1!$C$12 <> \"\", 8.314472*Foglio1!$C$12*Foglio2!N1045, NA())","v":{"$error":"#N/A"}},{"$error":"#N/A"},9352,9.1433455031519042,{"$f":" IF(Foglio1!$C$13 <> \"\", 8.314472*Foglio1!$C$13*Foglio2!R1045, NA())","v":{"$error":"#N/A"}},{"$error":"#N/A"}]
[9361,9.1443074013717442,{"$f":" IF(Foglio1!$C$9 <> \"\", 8.314472*Foglio1!$C$9*Foglio2!B1046, NA())","v":{"$error":"#N/A"}},{"$error":"#N/A"},9361,9.1443074013717442,{"$f":" IF(Foglio1!$C$10 <> \"\", 8.314472*Foglio1!$C$10*Foglio2!F1046, NA())","v":{"$error":"#N/A"}},{"$error":"#N/A"},9361,9.1443074013717442,{"$f":" IF(Foglio1!$C$11 <> \"\", 8.314472*Foglio1!$C$11*Foglio2!J1046, NA())","v":{"$error":"#N/A"}},{"$error":"#N/A"},9361,9.1443074013717442,{"$f":" IF(Foglio1!$C$12 <> \"\", 8.314472*Foglio1!$C$12*Foglio2!N1046, NA())","v":{"$error":"#N/A"}},{"$error":"#N/A"},9361,9.1443074013717442,{"$f":" IF(Foglio1!$C$13 <> \"\", 8.314472*Foglio1!$C$13*Foglio2!R1046, NA())","v":{"$error":"#N/A"}},{"$error":"#N/A"}]
[9370,9.1452683752324671,{"$f":" IF(Foglio1!$C$9 <> \"\", 8.314472*Foglio1!$C$9*Foglio2!B1047, NA())","v":{"$error":"#N/A"}},{"$error":"#N/A"},9370,9.1452683752324671,{"$f":" IF(Foglio1!$C$10 <> \"\", 8.314472*Foglio1!$C$10*Foglio2!F1047, NA())","v":{"$error":"#N/A"}},{"$error":"#N/A"},9370,9.1452683752324671,{"$f":" IF(Foglio1!$C$11 <> \"\", 8.314472*Foglio1!$C$11*Foglio2!J1047, NA())","v":{"$error":"#N/A"}},{"$error":"#N/A"},9370,9.1452683752324671,{"$f":" IF(Foglio1!$C$12 <> \"\", 8.314472*Foglio1!$C$12*Foglio2!N1047, NA())","v":{"$error":"#N/A"}},{"$error":"#N/A"},9370,9.1452683752324671,{"$f":" IF(Foglio1!$C$13 <> \"\", 8.314472*Foglio1!$C$13*Foglio2!R1047, NA())","v":{"$error":"#N/A"}},{"$error":"#N/A"}]
[9379,9.1462284265089391,{"$f":" IF(Foglio1!$C$9 <> \"\", 8.314472*Foglio1!$C$9*Foglio2!B1048, NA())","v":{"$error":"#N/A"}},{"$error":"#N/A"},9379,9.1462284265089391,{"$f":" IF(Foglio1!$C$10 <> \"\", 8.314472*Foglio1!$C$10*Foglio2!F1048, NA())","v":{"$error":"#N/A"}},{"$error":"#N/A"},9379,9.1462284265089391,{"$f":" IF(Foglio1!$C$11 <> \"\", 8.314472*Foglio1!$C$11*Foglio2!J1048, NA())","v":{"$error":"#N/A"}},{"$error":"#N/A"},9379,9.1462284265089391,{"$f":" IF(Foglio1!$C$12 <> \"\", 8.314472*Foglio1!$C$12*Foglio2!N1048, NA())","v":{"$error":"#N/A"}},{"$error":"#N/A"},9379,9.1462284265089391,{"$f":" IF(Foglio1!$C$13 <> \"\", 8.314472*Foglio1!$C$13*Foglio2!R1048, NA())","v":{"$error":"#N/A"}},{"$error":"#N/A"}]
[9388,9.1471875569709145,{"$f":" IF(Foglio1!$C$9 <> \"\", 8.314472*Foglio1!$C$9*Foglio2!B1049, NA())","v":{"$error":"#N/A"}},{"$error":"#N/A"},9388,9.1471875569709145,{"$f":" IF(Foglio1!$C$10 <> \"\", 8.314472*Foglio1!$C$10*Foglio2!F1049, NA())","v":{"$error":"#N/A"}},{"$error":"#N/A"},9388,9.1471875569709145,{"$f":" IF(Foglio1!$C$11 <> \"\", 8.314472*Foglio1!$C$11*Foglio2!J1049, NA())","v":{"$error":"#N/A"}},{"$error":"#N/A"},9388,9.1471875569709145,{"$f":" IF(Foglio1!$C$12 <> \"\", 8.314472*Foglio1!$C$12*Foglio2!N1049, NA())","v":{"$error":"#N/A"}},{"$error":"#N/A"},9388,9.1471875569709145,{"$f":" IF(Foglio1!$C$13 <> \"\", 8.314472*Foglio1!$C$13*Foglio2!R1049, NA())","v":{"$error":"#N/A"}},{"$error":"#N/A"}]
[9397,9.1481457683830651,{"$f":" IF(Foglio1!$C$9 <> \"\", 8.314472*Foglio1!$C$9*Foglio2!B1050, NA())","v":{"$error":"#N/A"}},{"$error":"#N/A"},9397,9.1481457683830651,{"$f":" IF(Foglio1!$C$10 <> \"\", 8.314472*Foglio1!$C$10*Foglio2!F1050, NA())","v":{"$error":"#N/A"}},{"$error":"#N/A"},9397,9.1481457683830651,{"$f":" IF(Foglio1!$C$11 <> \"\", 8.314472*Foglio1!$C$11*Foglio2!J1050, NA())","v":{"$error":"#N/A"}},{"$error":"#N/A"},9397,9.1481457683830651,{"$f":" IF(Foglio1!$C$12 <> \"\", 8.314472*Foglio1!$C$12*Foglio2!N1050, NA())","v":{"$error":"#N/A"}},{"$error":"#N/A"},9397,9.1481457683830651,{"$f":" IF(Foglio1!$C$13 <> \"\", 8.314472*Foglio1!$C$13*Foglio2!R1050, NA())","v":{"$error":"#N/A"}},{"$error":"#N/A"}]
[9406,9.1491030625049934,{"$f":" IF(Foglio1!$C$9 <> \"\", 8.314472*Foglio1!$C$9*Foglio2!B1051, NA())","v":{"$error":"#N/A"}},{"$error":"#N/A"},9406,9.1491030625049934,{"$f":" IF(Foglio1!$C$10 <> \"\", 8.314472*Foglio1!$C$10*Foglio2!F1051, NA())","v":{"$error":"#N/A"}},{"$error":"#N/A"},9406,9.1491030625049934,{"$f":" IF(Foglio1!$C$11 <> \"\", 8.314472*Foglio1!$C$11*Foglio2!J1051, NA())","v":{"$error":"#N/A"}},{"$error":"#N/A"},9406,9.1491030625049934,{"$f":" IF(Foglio1!$C$12 <> \"\", 8.314472*Foglio1!$C$12*Foglio2!N1051, NA())","v":{"$error":"#N/A"}},{"$error":"#N/A"},9406,9.1491030625049934,{"$f":" IF(Foglio1!$C$13 <> \"\", 8.314472*Foglio1!$C$13*Foglio2!R1051, NA())","v":{"$error":"#N/A"}},{"$error":"#N/A"}]
[9415,9.150059441091253,{"$f":" IF(Foglio1!$C$9 <> \"\", 8.314472*Foglio1!$C$9*Foglio2!B1052, NA())","v":{"$error":"#N/A"}},{"$error":"#N/A"},9415,9.150059441091253,{"$f":" IF(Foglio1!$C$10 <> \"\", 8.314472*Foglio1!$C$10*Foglio2!F1052, NA())","v":{"$error":"#N/A"}},{"$error":"#N/A"},9415,9.150059441091253,{"$f":" IF(Foglio1!$C$11 <> \"\", 8.314472*Foglio1!$C$11*Foglio2!J1052, NA())","v":{"$error":"#N/A"}},{"$error":"#N/A"},9415,9.150059441091253,{"$f":" IF(Foglio1!$C$12 <> \"\", 8.314472*Foglio1!$C$12*Foglio2!N1052, NA())","v":{"$error":"#N/A"}},{"$error":"#N/A"},9415,9.150059441091253,{"$f":" IF(Foglio1!$C$13 <> \"\", 8.314472*Foglio1!$C$13*Foglio2!R1052, NA())","v":{"$error":"#N/A"}},{"$error":"#N/A"}]
[9424,9.1510149058913672,{"$f":" IF(Foglio1!$C$9 <> \"\", 8.314472*Foglio1!$C$9*Foglio2!B1053, NA())","v":{"$error":"#N/A"}},{"$error":"#N/A"},9424,9.1510149058913672,{"$f":" IF(Foglio1!$C$10 <> \"\", 8.314472*Foglio1!$C$10*Foglio2!F1053, NA())","v":{"$error":"#N/A"}},{"$error":"#N/A"},9424,9.1510149058913672,{"$f":" IF(Foglio1!$C$11 <> \"\", 8.314472*Foglio1!$C$11*Foglio2!J1053, NA())","v":{"$error":"#N/A"}},{"$error":"#N/A"},9424,9.1510149058913672,{"$f":" IF(Foglio1!$C$12 <> \"\", 8.314472*Foglio1!$C$12*Foglio2!N1053, NA())","v":{"$error":"#N/A"}},{"$error":"#N/A"},9424,9.1510149058913672,{"$f":" IF(Foglio1!$C$13 <> \"\", 8.314472*Foglio1!$C$13*Foglio2!R1053, NA())","v":{"$error":"#N/A"}},{"$error":"#N/A"}]
[9433,9.1519694586498535,{"$f":" IF(Foglio1!$C$9 <> \"\", 8.314472*Foglio1!$C$9*Foglio2!B1054, NA())","v":{"$error":"#N/A"}},{"$error":"#N/A"},9433,9.1519694586498535,{"$f":" IF(Foglio1!$C$10 <> \"\", 8.314472*Foglio1!$C$10*Foglio2!F1054, NA())","v":{"$error":"#N/A"}},{"$error":"#N/A"},9433,9.1519694586498535,{"$f":" IF(Foglio1!$C$11 <> \"\", 8.314472*Foglio1!$C$11*Foglio2!J1054, NA())","v":{"$error":"#N/A"}},{"$error":"#N/A"},9433,9.1519694586498535,{"$f":" IF(Foglio1!$C$12 <> \"\", 8.314472*Foglio1!$C$12*Foglio2!N1054, NA())","v":{"$error":"#N/A"}},{"$error":"#N/A"},9433,9.1519694586498535,{"$f":" IF(Foglio1!$C$13 <> \"\", 8.314472*Foglio1!$C$13*Foglio2!R1054, NA())","v":{"$error":"#N/A"}},{"$error":"#N/A"}]
[9442,9.1529231011062322,{"$f":" IF(Foglio1!$C$9 <> \"\", 8.314472*Foglio1!$C$9*Foglio2!B1055, NA())","v":{"$error":"#N/A"}},{"$error":"#N/A"},9442,9.1529231011062322,{"$f":" IF(Foglio1!$C$10 <> \"\", 8.314472*Foglio1!$C$10*Foglio2!F1055, NA())","v":{"$error":"#N/A"}},{"$error":"#N/A"},9442,9.1529231011062322,{"$f":" IF(Foglio1!$C$11 <> \"\", 8.314472*Foglio1!$C$11*Foglio2!J1055, NA())","v":{"$error":"#N/A"}},{"$error":"#N/A"},9442,9.1529231011062322,{"$f":" IF(Foglio1!$C$12 <> \"\", 8.314472*Foglio1!$C$12*Foglio2!N1055, NA())","v":{"$error":"#N/A"}},{"$error":"#N/A"},9442,9.1529231011062322,{"$f":" IF(Foglio1!$C$13 <> \"\", 8.314472*Foglio1!$C$13*Foglio2!R1055, NA())","v":{"$error":"#N/A"}},{"$error":"#N/A"}]
[9451,9.1538758349950555,{"$f":" IF(Foglio1!$C$9 <> \"\", 8.314472*Foglio1!$C$9*Foglio2!B1056, NA())","v":{"$error":"#N/A"}},{"$error":"#N/A"},9451,9.1538758349950555,{"$f":" IF(Foglio1!$C$10 <> \"\", 8.314472*Foglio1!$C$10*Foglio2!F1056, NA())","v":{"$error":"#N/A"}},{"$error":"#N/A"},9451,9.1538758349950555,{"$f":" IF(Foglio1!$C$11 <> \"\", 8.314472*Foglio1!$C$11*Foglio2!J1056, NA())","v":{"$error":"#N/A"}},{"$error":"#N/A"},9451,9.1538758349950555,{"$f":" IF(Foglio1!$C$12 <> \"\", 8.314472*Foglio1!$C$12*Foglio2!N1056, NA())","v":{"$error":"#N/A"}},{"$error":"#N/A"},9451,9.1538758349950555,{"$f":" IF(Foglio1!$C$13 <> \"\", 8.314472*Foglio1!$C$13*Foglio2!R1056, NA())","v":{"$error":"#N/A"}},{"$error":"#N/A"}]
[9460,9.1548276620459248,{"$f":" IF(Foglio1!$C$9 <> \"\", 8.314472*Foglio1!$C$9*Foglio2!B1057, NA())","v":{"$error":"#N/A"}},{"$error":"#N/A"},9460,9.1548276620459248,{"$f":" IF(Foglio1!$C$10 <> \"\", 8.314472*Foglio1!$C$10*Foglio2!F1057, NA())","v":{"$error":"#N/A"}},{"$error":"#N/A"},9460,9.1548276620459248,{"$f":" IF(Foglio1!$C$11 <> \"\", 8.314472*Foglio1!$C$11*Foglio2!J1057, NA())","v":{"$error":"#N/A"}},{"$error":"#N/A"},9460,9.1548276620459248,{"$f":" IF(Foglio1!$C$12 <> \"\", 8.314472*Foglio1!$C$12*Foglio2!N1057, NA())","v":{"$error":"#N/A"}},{"$error":"#N/A"},9460,9.1548276620459248,{"$f":" IF(Foglio1!$C$13 <> \"\", 8.314472*Foglio1!$C$13*Foglio2!R1057, NA())","v":{"$error":"#N/A"}},{"$error":"#N/A"}]
[9469,9.1557785839834995,{"$f":" IF(Foglio1!$C$9 <> \"\", 8.314472*Foglio1!$C$9*Foglio2!B1058, NA())","v":{"$error":"#N/A"}},{"$error":"#N/A"},9469,9.1557785839834995,{"$f":" IF(Foglio1!$C$10 <> \"\", 8.314472*Foglio1!$C$10*Foglio2!F1058, NA())","v":{"$error":"#N/A"}},{"$error":"#N/A"},9469,9.1557785839834995,{"$f":" IF(Foglio1!$C$11 <> \"\", 8.314472*Foglio1!$C$11*Foglio2!J1058, NA())","v":{"$error":"#N/A"}},{"$error":"#N/A"},9469,9.1557785839834995,{"$f":" IF(Foglio1!$C$12 <> \"\", 8.314472*Foglio1!$C$12*Foglio2!N1058, NA())","v":{"$error":"#N/A"}},{"$error":"#N/A"},9469,9.1557785839834995,{"$f":" IF(Foglio1!$C$13 <> \"\", 8.314472*Foglio1!$C$13*Foglio2!R1058, NA())","v":{"$error":"#N/A"}},{"$error":"#N/A"}]
[9478,9.156728602527533,{"$f":" IF(Foglio1!$C$9 <> \"\", 8.314472*Foglio1!$C$9*Foglio2!B1059, NA())","v":{"$error":"#N/A"}},{"$error":"#N/A"},9478,9.156728602527533,{"$f":" IF(Foglio1!$C$10 <> \"\", 8.314472*Foglio1!$C$10*Foglio2!F1059, NA())","v":{"$error":"#N/A"}},{"$error":"#N/A"},9478,9.156728602527533,{"$f":" IF(Foglio1!$C$11 <> \"\", 8.314472*Foglio1!$C$11*Foglio2!J1059, NA())","v":{"$error":"#N/A"}},{"$error":"#N/A"},9478,9.156728602527533,{"$f":" IF(Foglio1!$C$12 <> \"\", 8.314472*Foglio1!$C$12*Foglio2!N1059, NA())","v":{"$error":"#N/A"}},{"$error":"#N/A"},9478,9.156728602527533,{"$f":" IF(Foglio1!$C$13 <> \"\", 8.314472*Foglio1!$C$13*Foglio2!R1059, NA())","v":{"$error":"#N/A"}},{"$error":"#N/A"}]
[9487,9.1576777193928773,{"$f":" IF(Foglio1!$C$9 <> \"\", 8.314472*Foglio1!$C$9*Foglio2!B1060, NA())","v":{"$error":"#N/A"}},{"$error":"#N/A"},9487,9.1576777193928773,{"$f":" IF(Foglio1!$C$10 <> \"\", 8.314472*Foglio1!$C$10*Foglio2!F1060, NA())","v":{"$error":"#N/A"}},{"$error":"#N/A"},9487,9.1576777193928773,{"$f":" IF(Foglio1!$C$11 <> \"\", 8.314472*Foglio1!$C$11*Foglio2!J1060, NA())","v":{"$error":"#N/A"}},{"$error":"#N/A"},9487,9.1576777193928773,{"$f":" IF(Foglio1!$C$12 <> \"\", 8.314472*Foglio1!$C$12*Foglio2!N1060, NA())","v":{"$error":"#N/A"}},{"$error":"#N/A"},9487,9.1576777193928773,{"$f":" IF(Foglio1!$C$13 <> \"\", 8.314472*Foglio1!$C$13*Foglio2!R1060, NA())","v":{"$error":"#N/A"}},{"$error":"#N/A"}]
[9496,9.1586259362895035,{"$f":" IF(Foglio1!$C$9 <> \"\", 8.314472*Foglio1!$C$9*Foglio2!B1061, NA())","v":{"$error":"#N/A"}},{"$error":"#N/A"},9496,9.1586259362895035,{"$f":" IF(Foglio1!$C$10 <> \"\", 8.314472*Foglio1!$C$10*Foglio2!F1061, NA())","v":{"$error":"#N/A"}},{"$error":"#N/A"},9496,9.1586259362895035,{"$f":" IF(Foglio1!$C$11 <> \"\", 8.314472*Foglio1!$C$11*Foglio2!J1061, NA())","v":{"$error":"#N/A"}},{"$error":"#N/A"},9496,9.1586259362895035,{"$f":" IF(Foglio1!$C$12 <> \"\", 8.314472*Foglio1!$C$12*Foglio2!N1061, NA())","v":{"$error":"#N/A"}},{"$error":"#N/A"},9496,9.1586259362895035,{"$f":" IF(Foglio1!$C$13 <> \"\", 8.314472*Foglio1!$C$13*Foglio2!R1061, NA())","v":{"$error":"#N/A"}},{"$error":"#N/A"}]
[9505,9.1595732549225293,{"$f":" IF(Foglio1!$C$9 <> \"\", 8.314472*Foglio1!$C$9*Foglio2!B1062, NA())","v":{"$error":"#N/A"}},{"$error":"#N/A"},9505,9.1595732549225293,{"$f":" IF(Foglio1!$C$10 <> \"\", 8.314472*Foglio1!$C$10*Foglio2!F1062, NA())","v":{"$error":"#N/A"}},{"$error":"#N/A"},9505,9.1595732549225293,{"$f":" IF(Foglio1!$C$11 <> \"\", 8.314472*Foglio1!$C$11*Foglio2!J1062, NA())","v":{"$error":"#N/A"}},{"$error":"#N/A"},9505,9.1595732549225293,{"$f":" IF(Foglio1!$C$12 <> \"\", 8.314472*Foglio1!$C$12*Foglio2!N1062, NA())","v":{"$error":"#N/A"}},{"$error":"#N/A"},9505,9.1595732549225293,{"$f":" IF(Foglio1!$C$13 <> \"\", 8.314472*Foglio1!$C$13*Foglio2!R1062, NA())","v":{"$error":"#N/A"}},{"$error":"#N/A"}]
[9514,9.1605196769922266,{"$f":" IF(Foglio1!$C$9 <> \"\", 8.314472*Foglio1!$C$9*Foglio2!B1063, NA())","v":{"$error":"#N/A"}},{"$error":"#N/A"},9514,9.1605196769922266,{"$f":" IF(Foglio1!$C$10 <> \"\", 8.314472*Foglio1!$C$10*Foglio2!F1063, NA())","v":{"$error":"#N/A"}},{"$error":"#N/A"},9514,9.1605196769922266,{"$f":" IF(Foglio1!$C$11 <> \"\", 8.314472*Foglio1!$C$11*Foglio2!J1063, NA())","v":{"$error":"#N/A"}},{"$error":"#N/A"},9514,9.1605196769922266,{"$f":" IF(Foglio1!$C$12 <> \"\", 8.314472*Foglio1!$C$12*Foglio2!N1063, NA())","v":{"$error":"#N/A"}},{"$error":"#N/A"},9514,9.1605196769922266,{"$f":" IF(Foglio1!$C$13 <> \"\", 8.314472*Foglio1!$C$13*Foglio2!R1063, NA())","v":{"$error":"#N/A"}},{"$error":"#N/A"}]
[9523,9.1614652041940463,{"$f":" IF(Foglio1!$C$9 <> \"\", 8.314472*Foglio1!$C$9*Foglio2!B1064, NA())","v":{"$error":"#N/A"}},{"$error":"#N/A"},9523,9.1614652041940463,{"$f":" IF(Foglio1!$C$10 <> \"\", 8.314472*Foglio1!$C$10*Foglio2!F1064, NA())","v":{"$error":"#N/A"}},{"$error":"#N/A"},9523,9.1614652041940463,{"$f":" IF(Foglio1!$C$11 <> \"\", 8.314472*Foglio1!$C$11*Foglio2!J1064, NA())","v":{"$error":"#N/A"}},{"$error":"#N/A"},9523,9.1614652041940463,{"$f":" IF(Foglio1!$C$12 <> \"\", 8.314472*Foglio1!$C$12*Foglio2!N1064, NA())","v":{"$error":"#N/A"}},{"$error":"#N/A"},9523,9.1614652041940463,{"$f":" IF(Foglio1!$C$13 <> \"\", 8.314472*Foglio1!$C$13*Foglio2!R1064, NA())","v":{"$error":"#N/A"}},{"$error":"#N/A"}]
[9532,9.1624098382186325,{"$f":" IF(Foglio1!$C$9 <> \"\", 8.314472*Foglio1!$C$9*Foglio2!B1065, NA())","v":{"$error":"#N/A"}},{"$error":"#N/A"},9532,9.1624098382186325,{"$f":" IF(Foglio1!$C$10 <> \"\", 8.314472*Foglio1!$C$10*Foglio2!F1065, NA())","v":{"$error":"#N/A"}},{"$error":"#N/A"},9532,9.1624098382186325,{"$f":" IF(Foglio1!$C$11 <> \"\", 8.314472*Foglio1!$C$11*Foglio2!J1065, NA())","v":{"$error":"#N/A"}},{"$error":"#N/A"},9532,9.1624098382186325,{"$f":" IF(Foglio1!$C$12 <> \"\", 8.314472*Foglio1!$C$12*Foglio2!N1065, NA())","v":{"$error":"#N/A"}},{"$error":"#N/A"},9532,9.1624098382186325,{"$f":" IF(Foglio1!$C$13 <> \"\", 8.314472*Foglio1!$C$13*Foglio2!R1065, NA())","v":{"$error":"#N/A"}},{"$error":"#N/A"}]
[9541,9.1633535807518456,{"$f":" IF(Foglio1!$C$9 <> \"\", 8.314472*Foglio1!$C$9*Foglio2!B1066, NA())","v":{"$error":"#N/A"}},{"$error":"#N/A"},9541,9.1633535807518456,{"$f":" IF(Foglio1!$C$10 <> \"\", 8.314472*Foglio1!$C$10*Foglio2!F1066, NA())","v":{"$error":"#N/A"}},{"$error":"#N/A"},9541,9.1633535807518456,{"$f":" IF(Foglio1!$C$11 <> \"\", 8.314472*Foglio1!$C$11*Foglio2!J1066, NA())","v":{"$error":"#N/A"}},{"$error":"#N/A"},9541,9.1633535807518456,{"$f":" IF(Foglio1!$C$12 <> \"\", 8.314472*Foglio1!$C$12*Foglio2!N1066, NA())","v":{"$error":"#N/A"}},{"$error":"#N/A"},9541,9.1633535807518456,{"$f":" IF(Foglio1!$C$13 <> \"\", 8.314472*Foglio1!$C$13*Foglio2!R1066, NA())","v":{"$error":"#N/A"}},{"$error":"#N/A"}]
[9550,9.1642964334747763,{"$f":" IF(Foglio1!$C$9 <> \"\", 8.314472*Foglio1!$C$9*Foglio2!B1067, NA())","v":{"$error":"#N/A"}},{"$error":"#N/A"},9550,9.1642964334747763,{"$f":" IF(Foglio1!$C$10 <> \"\", 8.314472*Foglio1!$C$10*Foglio2!F1067, NA())","v":{"$error":"#N/A"}},{"$error":"#N/A"},9550,9.1642964334747763,{"$f":" IF(Foglio1!$C$11 <> \"\", 8.314472*Foglio1!$C$11*Foglio2!J1067, NA())","v":{"$error":"#N/A"}},{"$error":"#N/A"},9550,9.1642964334747763,{"$f":" IF(Foglio1!$C$12 <> \"\", 8.314472*Foglio1!$C$12*Foglio2!N1067, NA())","v":{"$error":"#N/A"}},{"$error":"#N/A"},9550,9.1642964334747763,{"$f":" IF(Foglio1!$C$13 <> \"\", 8.314472*Foglio1!$C$13*Foglio2!R1067, NA())","v":{"$error":"#N/A"}},{"$error":"#N/A"}]
[9559,9.1652383980637619,{"$f":" IF(Foglio1!$C$9 <> \"\", 8.314472*Foglio1!$C$9*Foglio2!B1068, NA())","v":{"$error":"#N/A"}},{"$error":"#N/A"},9559,9.1652383980637619,{"$f":" IF(Foglio1!$C$10 <> \"\", 8.314472*Foglio1!$C$10*Foglio2!F1068, NA())","v":{"$error":"#N/A"}},{"$error":"#N/A"},9559,9.1652383980637619,{"$f":" IF(Foglio1!$C$11 <> \"\", 8.314472*Foglio1!$C$11*Foglio2!J1068, NA())","v":{"$error":"#N/A"}},{"$error":"#N/A"},9559,9.1652383980637619,{"$f":" IF(Foglio1!$C$12 <> \"\", 8.314472*Foglio1!$C$12*Foglio2!N1068, NA())","v":{"$error":"#N/A"}},{"$error":"#N/A"},9559,9.1652383980637619,{"$f":" IF(Foglio1!$C$13 <> \"\", 8.314472*Foglio1!$C$13*Foglio2!R1068, NA())","v":{"$error":"#N/A"}},{"$error":"#N/A"}]
[9568,9.166179476190413,{"$f":" IF(Foglio1!$C$9 <> \"\", 8.314472*Foglio1!$C$9*Foglio2!B1069, NA())","v":{"$error":"#N/A"}},{"$error":"#N/A"},9568,9.166179476190413,{"$f":" IF(Foglio1!$C$10 <> \"\", 8.314472*Foglio1!$C$10*Foglio2!F1069, NA())","v":{"$error":"#N/A"}},{"$error":"#N/A"},9568,9.166179476190413,{"$f":" IF(Foglio1!$C$11 <> \"\", 8.314472*Foglio1!$C$11*Foglio2!J1069, NA())","v":{"$error":"#N/A"}},{"$error":"#N/A"},9568,9.166179476190413,{"$f":" IF(Foglio1!$C$12 <> \"\", 8.314472*Foglio1!$C$12*Foglio2!N1069, NA())","v":{"$error":"#N/A"}},{"$error":"#N/A"},9568,9.166179476190413,{"$f":" IF(Foglio1!$C$13 <> \"\", 8.314472*Foglio1!$C$13*Foglio2!R1069, NA())","v":{"$error":"#N/A"}},{"$error":"#N/A"}]
[9577,9.1671196695216199,{"$f":" IF(Foglio1!$C$9 <> \"\", 8.314472*Foglio1!$C$9*Foglio2!B1070, NA())","v":{"$error":"#N/A"}},{"$error":"#N/A"},9577,9.1671196695216199,{"$f":" IF(Foglio1!$C$10 <> \"\", 8.314472*Foglio1!$C$10*Foglio2!F1070, NA())","v":{"$error":"#N/A"}},{"$error":"#N/A"},9577,9.1671196695216199,{"$f":" IF(Foglio1!$C$11 <> \"\", 8.314472*Foglio1!$C$11*Foglio2!J1070, NA())","v":{"$error":"#N/A"}},{"$error":"#N/A"},9577,9.1671196695216199,{"$f":" IF(Foglio1!$C$12 <> \"\", 8.314472*Foglio1!$C$12*Foglio2!N1070, NA())","v":{"$error":"#N/A"}},{"$error":"#N/A"},9577,9.1671196695216199,{"$f":" IF(Foglio1!$C$13 <> \"\", 8.314472*Foglio1!$C$13*Foglio2!R1070, NA())","v":{"$error":"#N/A"}},{"$error":"#N/A"}]
[9586,9.1680589797195768,{"$f":" IF(Foglio1!$C$9 <> \"\", 8.314472*Foglio1!$C$9*Foglio2!B1071, NA())","v":{"$error":"#N/A"}},{"$error":"#N/A"},9586,9.1680589797195768,{"$f":" IF(Foglio1!$C$10 <> \"\", 8.314472*Foglio1!$C$10*Foglio2!F1071, NA())","v":{"$error":"#N/A"}},{"$error":"#N/A"},9586,9.1680589797195768,{"$f":" IF(Foglio1!$C$11 <> \"\", 8.314472*Foglio1!$C$11*Foglio2!J1071, NA())","v":{"$error":"#N/A"}},{"$error":"#N/A"},9586,9.1680589797195768,{"$f":" IF(Foglio1!$C$12 <> \"\", 8.314472*Foglio1!$C$12*Foglio2!N1071, NA())","v":{"$error":"#N/A"}},{"$error":"#N/A"},9586,9.1680589797195768,{"$f":" IF(Foglio1!$C$13 <> \"\", 8.314472*Foglio1!$C$13*Foglio2!R1071, NA())","v":{"$error":"#N/A"}},{"$error":"#N/A"}]
[9595,9.1689974084418004,{"$f":" IF(Foglio1!$C$9 <> \"\", 8.314472*Foglio1!$C$9*Foglio2!B1072, NA())","v":{"$error":"#N/A"}},{"$error":"#N/A"},9595,9.1689974084418004,{"$f":" IF(Foglio1!$C$10 <> \"\", 8.314472*Foglio1!$C$10*Foglio2!F1072, NA())","v":{"$error":"#N/A"}},{"$error":"#N/A"},9595,9.1689974084418004,{"$f":" IF(Foglio1!$C$11 <> \"\", 8.314472*Foglio1!$C$11*Foglio2!J1072, NA())","v":{"$error":"#N/A"}},{"$error":"#N/A"},9595,9.1689974084418004,{"$f":" IF(Foglio1!$C$12 <> \"\", 8.314472*Foglio1!$C$12*Foglio2!N1072, NA())","v":{"$error":"#N/A"}},{"$error":"#N/A"},9595,9.1689974084418004,{"$f":" IF(Foglio1!$C$13 <> \"\", 8.314472*Foglio1!$C$13*Foglio2!R1072, NA())","v":{"$error":"#N/A"}},{"$error":"#N/A"}]
[9604,9.1699349573411446,{"$f":" IF(Foglio1!$C$9 <> \"\", 8.314472*Foglio1!$C$9*Foglio2!B1073, NA())","v":{"$error":"#N/A"}},{"$error":"#N/A"},9604,9.1699349573411446,{"$f":" IF(Foglio1!$C$10 <> \"\", 8.314472*Foglio1!$C$10*Foglio2!F1073, NA())","v":{"$error":"#N/A"}},{"$error":"#N/A"},9604,9.1699349573411446,{"$f":" IF(Foglio1!$C$11 <> \"\", 8.314472*Foglio1!$C$11*Foglio2!J1073, NA())","v":{"$error":"#N/A"}},{"$error":"#N/A"},9604,9.1699349573411446,{"$f":" IF(Foglio1!$C$12 <> \"\", 8.314472*Foglio1!$C$12*Foglio2!N1073, NA())","v":{"$error":"#N/A"}},{"$error":"#N/A"},9604,9.1699349573411446,{"$f":" IF(Foglio1!$C$13 <> \"\", 8.314472*Foglio1!$C$13*Foglio2!R1073, NA())","v":{"$error":"#N/A"}},{"$error":"#N/A"}]
[9613,9.1708716280658162,{"$f":" IF(Foglio1!$C$9 <> \"\", 8.314472*Foglio1!$C$9*Foglio2!B1074, NA())","v":{"$error":"#N/A"}},{"$error":"#N/A"},9613,9.1708716280658162,{"$f":" IF(Foglio1!$C$10 <> \"\", 8.314472*Foglio1!$C$10*Foglio2!F1074, NA())","v":{"$error":"#N/A"}},{"$error":"#N/A"},9613,9.1708716280658162,{"$f":" IF(Foglio1!$C$11 <> \"\", 8.314472*Foglio1!$C$11*Foglio2!J1074, NA())","v":{"$error":"#N/A"}},{"$error":"#N/A"},9613,9.1708716280658162,{"$f":" IF(Foglio1!$C$12 <> \"\", 8.314472*Foglio1!$C$12*Foglio2!N1074, NA())","v":{"$error":"#N/A"}},{"$error":"#N/A"},9613,9.1708716280658162,{"$f":" IF(Foglio1!$C$13 <> \"\", 8.314472*Foglio1!$C$13*Foglio2!R1074, NA())","v":{"$error":"#N/A"}},{"$error":"#N/A"}]
[9622,9.1718074222593984,{"$f":" IF(Foglio1!$C$9 <> \"\", 8.314472*Foglio1!$C$9*Foglio2!B1075, NA())","v":{"$error":"#N/A"}},{"$error":"#N/A"},9622,9.1718074222593984,{"$f":" IF(Foglio1!$C$10 <> \"\", 8.314472*Foglio1!$C$10*Foglio2!F1075, NA())","v":{"$error":"#N/A"}},{"$error":"#N/A"},9622,9.1718074222593984,{"$f":" IF(Foglio1!$C$11 <> \"\", 8.314472*Foglio1!$C$11*Foglio2!J1075, NA())","v":{"$error":"#N/A"}},{"$error":"#N/A"},9622,9.1718074222593984,{"$f":" IF(Foglio1!$C$12 <> \"\", 8.314472*Foglio1!$C$12*Foglio2!N1075, NA())","v":{"$error":"#N/A"}},{"$error":"#N/A"},9622,9.1718074222593984,{"$f":" IF(Foglio1!$C$13 <> \"\", 8.314472*Foglio1!$C$13*Foglio2!R1075, NA())","v":{"$error":"#N/A"}},{"$error":"#N/A"}]
[9631,9.1727423415608644,{"$f":" IF(Foglio1!$C$9 <> \"\", 8.314472*Foglio1!$C$9*Foglio2!B1076, NA())","v":{"$error":"#N/A"}},{"$error":"#N/A"},9631,9.1727423415608644,{"$f":" IF(Foglio1!$C$10 <> \"\", 8.314472*Foglio1!$C$10*Foglio2!F1076, NA())","v":{"$error":"#N/A"}},{"$error":"#N/A"},9631,9.1727423415608644,{"$f":" IF(Foglio1!$C$11 <> \"\", 8.314472*Foglio1!$C$11*Foglio2!J1076, NA())","v":{"$error":"#N/A"}},{"$error":"#N/A"},9631,9.1727423415608644,{"$f":" IF(Foglio1!$C$12 <> \"\", 8.314472*Foglio1!$C$12*Foglio2!N1076, NA())","v":{"$error":"#N/A"}},{"$error":"#N/A"},9631,9.1727423415608644,{"$f":" IF(Foglio1!$C$13 <> \"\", 8.314472*Foglio1!$C$13*Foglio2!R1076, NA())","v":{"$error":"#N/A"}},{"$error":"#N/A"}]
[9640,9.1736763876045906,{"$f":" IF(Foglio1!$C$9 <> \"\", 8.314472*Foglio1!$C$9*Foglio2!B1077, NA())","v":{"$error":"#N/A"}},{"$error":"#N/A"},9640,9.1736763876045906,{"$f":" IF(Foglio1!$C$10 <> \"\", 8.314472*Foglio1!$C$10*Foglio2!F1077, NA())","v":{"$error":"#N/A"}},{"$error":"#N/A"},9640,9.1736763876045906,{"$f":" IF(Foglio1!$C$11 <> \"\", 8.314472*Foglio1!$C$11*Foglio2!J1077, NA())","v":{"$error":"#N/A"}},{"$error":"#N/A"},9640,9.1736763876045906,{"$f":" IF(Foglio1!$C$12 <> \"\", 8.314472*Foglio1!$C$12*Foglio2!N1077, NA())","v":{"$error":"#N/A"}},{"$error":"#N/A"},9640,9.1736763876045906,{"$f":" IF(Foglio1!$C$13 <> \"\", 8.314472*Foglio1!$C$13*Foglio2!R1077, NA())","v":{"$error":"#N/A"}},{"$error":"#N/A"}]
[9649,9.1746095620203842,{"$f":" IF(Foglio1!$C$9 <> \"\", 8.314472*Foglio1!$C$9*Foglio2!B1078, NA())","v":{"$error":"#N/A"}},{"$error":"#N/A"},9649,9.1746095620203842,{"$f":" IF(Foglio1!$C$10 <> \"\", 8.314472*Foglio1!$C$10*Foglio2!F1078, NA())","v":{"$error":"#N/A"}},{"$error":"#N/A"},9649,9.1746095620203842,{"$f":" IF(Foglio1!$C$11 <> \"\", 8.314472*Foglio1!$C$11*Foglio2!J1078, NA())","v":{"$error":"#N/A"}},{"$error":"#N/A"},9649,9.1746095620203842,{"$f":" IF(Foglio1!$C$12 <> \"\", 8.314472*Foglio1!$C$12*Foglio2!N1078, NA())","v":{"$error":"#N/A"}},{"$error":"#N/A"},9649,9.1746095620203842,{"$f":" IF(Foglio1!$C$13 <> \"\", 8.314472*Foglio1!$C$13*Foglio2!R1078, NA())","v":{"$error":"#N/A"}},{"$error":"#N/A"}]
[9658,9.1755418664334876,{"$f":" IF(Foglio1!$C$9 <> \"\", 8.314472*Foglio1!$C$9*Foglio2!B1079, NA())","v":{"$error":"#N/A"}},{"$error":"#N/A"},9658,9.1755418664334876,{"$f":" IF(Foglio1!$C$10 <> \"\", 8.314472*Foglio1!$C$10*Foglio2!F1079, NA())","v":{"$error":"#N/A"}},{"$error":"#N/A"},9658,9.1755418664334876,{"$f":" IF(Foglio1!$C$11 <> \"\", 8.314472*Foglio1!$C$11*Foglio2!J1079, NA())","v":{"$error":"#N/A"}},{"$error":"#N/A"},9658,9.1755418664334876,{"$f":" IF(Foglio1!$C$12 <> \"\", 8.314472*Foglio1!$C$12*Foglio2!N1079, NA())","v":{"$error":"#N/A"}},{"$error":"#N/A"},9658,9.1755418664334876,{"$f":" IF(Foglio1!$C$13 <> \"\", 8.314472*Foglio1!$C$13*Foglio2!R1079, NA())","v":{"$error":"#N/A"}},{"$error":"#N/A"}]
[9667,9.1764733024646059,{"$f":" IF(Foglio1!$C$9 <> \"\", 8.314472*Foglio1!$C$9*Foglio2!B1080, NA())","v":{"$error":"#N/A"}},{"$error":"#N/A"},9667,9.1764733024646059,{"$f":" IF(Foglio1!$C$10 <> \"\", 8.314472*Foglio1!$C$10*Foglio2!F1080, NA())","v":{"$error":"#N/A"}},{"$error":"#N/A"},9667,9.1764733024646059,{"$f":" IF(Foglio1!$C$11 <> \"\", 8.314472*Foglio1!$C$11*Foglio2!J1080, NA())","v":{"$error":"#N/A"}},{"$error":"#N/A"},9667,9.1764733024646059,{"$f":" IF(Foglio1!$C$12 <> \"\", 8.314472*Foglio1!$C$12*Foglio2!N1080, NA())","v":{"$error":"#N/A"}},{"$error":"#N/A"},9667,9.1764733024646059,{"$f":" IF(Foglio1!$C$13 <> \"\", 8.314472*Foglio1!$C$13*Foglio2!R1080, NA())","v":{"$error":"#N/A"}},{"$error":"#N/A"}]
[9676,9.1774038717299184,{"$f":" IF(Foglio1!$C$9 <> \"\", 8.314472*Foglio1!$C$9*Foglio2!B1081, NA())","v":{"$error":"#N/A"}},{"$error":"#N/A"},9676,9.1774038717299184,{"$f":" IF(Foglio1!$C$10 <> \"\", 8.314472*Foglio1!$C$10*Foglio2!F1081, NA())","v":{"$error":"#N/A"}},{"$error":"#N/A"},9676,9.1774038717299184,{"$f":" IF(Foglio1!$C$11 <> \"\", 8.314472*Foglio1!$C$11*Foglio2!J1081, NA())","v":{"$error":"#N/A"}},{"$error":"#N/A"},9676,9.1774038717299184,{"$f":" IF(Foglio1!$C$12 <> \"\", 8.314472*Foglio1!$C$12*Foglio2!N1081, NA())","v":{"$error":"#N/A"}},{"$error":"#N/A"},9676,9.1774038717299184,{"$f":" IF(Foglio1!$C$13 <> \"\", 8.314472*Foglio1!$C$13*Foglio2!R1081, NA())","v":{"$error":"#N/A"}},{"$error":"#N/A"}]
[9685,9.178333575841096,{"$f":" IF(Foglio1!$C$9 <> \"\", 8.314472*Foglio1!$C$9*Foglio2!B1082, NA())","v":{"$error":"#N/A"}},{"$error":"#N/A"},9685,9.178333575841096,{"$f":" IF(Foglio1!$C$10 <> \"\", 8.314472*Foglio1!$C$10*Foglio2!F1082, NA())","v":{"$error":"#N/A"}},{"$error":"#N/A"},9685,9.178333575841096,{"$f":" IF(Foglio1!$C$11 <> \"\", 8.314472*Foglio1!$C$11*Foglio2!J1082, NA())","v":{"$error":"#N/A"}},{"$error":"#N/A"},9685,9.178333575841096,{"$f":" IF(Foglio1!$C$12 <> \"\", 8.314472*Foglio1!$C$12*Foglio2!N1082, NA())","v":{"$error":"#N/A"}},{"$error":"#N/A"},9685,9.178333575841096,{"$f":" IF(Foglio1!$C$13 <> \"\", 8.314472*Foglio1!$C$13*Foglio2!R1082, NA())","v":{"$error":"#N/A"}},{"$error":"#N/A"}]
[9694,9.1792624164053205,{"$f":" IF(Foglio1!$C$9 <> \"\", 8.314472*Foglio1!$C$9*Foglio2!B1083, NA())","v":{"$error":"#N/A"}},{"$error":"#N/A"},9694,9.1792624164053205,{"$f":" IF(Foglio1!$C$10 <> \"\", 8.314472*Foglio1!$C$10*Foglio2!F1083, NA())","v":{"$error":"#N/A"}},{"$error":"#N/A"},9694,9.1792624164053205,{"$f":" IF(Foglio1!$C$11 <> \"\", 8.314472*Foglio1!$C$11*Foglio2!J1083, NA())","v":{"$error":"#N/A"}},{"$error":"#N/A"},9694,9.1792624164053205,{"$f":" IF(Foglio1!$C$12 <> \"\", 8.314472*Foglio1!$C$12*Foglio2!N1083, NA())","v":{"$error":"#N/A"}},{"$error":"#N/A"},9694,9.1792624164053205,{"$f":" IF(Foglio1!$C$13 <> \"\", 8.314472*Foglio1!$C$13*Foglio2!R1083, NA())","v":{"$error":"#N/A"}},{"$error":"#N/A"}]
[9703,9.1801903950252992,{"$f":" IF(Foglio1!$C$9 <> \"\", 8.314472*Foglio1!$C$9*Foglio2!B1084, NA())","v":{"$error":"#N/A"}},{"$error":"#N/A"},9703,9.1801903950252992,{"$f":" IF(Foglio1!$C$10 <> \"\", 8.314472*Foglio1!$C$10*Foglio2!F1084, NA())","v":{"$error":"#N/A"}},{"$error":"#N/A"},9703,9.1801903950252992,{"$f":" IF(Foglio1!$C$11 <> \"\", 8.314472*Foglio1!$C$11*Foglio2!J1084, NA())","v":{"$error":"#N/A"}},{"$error":"#N/A"},9703,9.1801903950252992,{"$f":" IF(Foglio1!$C$12 <> \"\", 8.314472*Foglio1!$C$12*Foglio2!N1084, NA())","v":{"$error":"#N/A"}},{"$error":"#N/A"},9703,9.1801903950252992,{"$f":" IF(Foglio1!$C$13 <> \"\", 8.314472*Foglio1!$C$13*Foglio2!R1084, NA())","v":{"$error":"#N/A"}},{"$error":"#N/A"}]
[9712,9.1811175132992791,{"$f":" IF(Foglio1!$C$9 <> \"\", 8.314472*Foglio1!$C$9*Foglio2!B1085, NA())","v":{"$error":"#N/A"}},{"$error":"#N/A"},9712,9.1811175132992791,{"$f":" IF(Foglio1!$C$10 <> \"\", 8.314472*Foglio1!$C$10*Foglio2!F1085, NA())","v":{"$error":"#N/A"}},{"$error":"#N/A"},9712,9.1811175132992791,{"$f":" IF(Foglio1!$C$11 <> \"\", 8.314472*Foglio1!$C$11*Foglio2!J1085, NA())","v":{"$error":"#N/A"}},{"$error":"#N/A"},9712,9.1811175132992791,{"$f":" IF(Foglio1!$C$12 <> \"\", 8.314472*Foglio1!$C$12*Foglio2!N1085, NA())","v":{"$error":"#N/A"}},{"$error":"#N/A"},9712,9.1811175132992791,{"$f":" IF(Foglio1!$C$13 <> \"\", 8.314472*Foglio1!$C$13*Foglio2!R1085, NA())","v":{"$error":"#N/A"}},{"$error":"#N/A"}]
[9721,9.1820437728210695,{"$f":" IF(Foglio1!$C$9 <> \"\", 8.314472*Foglio1!$C$9*Foglio2!B1086, NA())","v":{"$error":"#N/A"}},{"$error":"#N/A"},9721,9.1820437728210695,{"$f":" IF(Foglio1!$C$10 <> \"\", 8.314472*Foglio1!$C$10*Foglio2!F1086, NA())","v":{"$error":"#N/A"}},{"$error":"#N/A"},9721,9.1820437728210695,{"$f":" IF(Foglio1!$C$11 <> \"\", 8.314472*Foglio1!$C$11*Foglio2!J1086, NA())","v":{"$error":"#N/A"}},{"$error":"#N/A"},9721,9.1820437728210695,{"$f":" IF(Foglio1!$C$12 <> \"\", 8.314472*Foglio1!$C$12*Foglio2!N1086, NA())","v":{"$error":"#N/A"}},{"$error":"#N/A"},9721,9.1820437728210695,{"$f":" IF(Foglio1!$C$13 <> \"\", 8.314472*Foglio1!$C$13*Foglio2!R1086, NA())","v":{"$error":"#N/A"}},{"$error":"#N/A"}]
[9730,9.18296917518005,{"$f":" IF(Foglio1!$C$9 <> \"\", 8.314472*Foglio1!$C$9*Foglio2!B1087, NA())","v":{"$error":"#N/A"}},{"$error":"#N/A"},9730,9.18296917518005,{"$f":" IF(Foglio1!$C$10 <> \"\", 8.314472*Foglio1!$C$10*Foglio2!F1087, NA())","v":{"$error":"#N/A"}},{"$error":"#N/A"},9730,9.18296917518005,{"$f":" IF(Foglio1!$C$11 <> \"\", 8.314472*Foglio1!$C$11*Foglio2!J1087, NA())","v":{"$error":"#N/A"}},{"$error":"#N/A"},9730,9.18296917518005,{"$f":" IF(Foglio1!$C$12 <> \"\", 8.314472*Foglio1!$C$12*Foglio2!N1087, NA())","v":{"$error":"#N/A"}},{"$error":"#N/A"},9730,9.18296917518005,{"$f":" IF(Foglio1!$C$13 <> \"\", 8.314472*Foglio1!$C$13*Foglio2!R1087, NA())","v":{"$error":"#N/A"}},{"$error":"#N/A"}]
[9739,9.1838937219611996,{"$f":" IF(Foglio1!$C$9 <> \"\", 8.314472*Foglio1!$C$9*Foglio2!B1088, NA())","v":{"$error":"#N/A"}},{"$error":"#N/A"},9739,9.1838937219611996,{"$f":" IF(Foglio1!$C$10 <> \"\", 8.314472*Foglio1!$C$10*Foglio2!F1088, NA())","v":{"$error":"#N/A"}},{"$error":"#N/A"},9739,9.1838937219611996,{"$f":" IF(Foglio1!$C$11 <> \"\", 8.314472*Foglio1!$C$11*Foglio2!J1088, NA())","v":{"$error":"#N/A"}},{"$error":"#N/A"},9739,9.1838937219611996,{"$f":" IF(Foglio1!$C$12 <> \"\", 8.314472*Foglio1!$C$12*Foglio2!N1088, NA())","v":{"$error":"#N/A"}},{"$error":"#N/A"},9739,9.1838937219611996,{"$f":" IF(Foglio1!$C$13 <> \"\", 8.314472*Foglio1!$C$13*Foglio2!R1088, NA())","v":{"$error":"#N/A"}},{"$error":"#N/A"}]
[9748,9.1848174147450976,{"$f":" IF(Foglio1!$C$9 <> \"\", 8.314472*Foglio1!$C$9*Foglio2!B1089, NA())","v":{"$error":"#N/A"}},{"$error":"#N/A"},9748,9.1848174147450976,{"$f":" IF(Foglio1!$C$10 <> \"\", 8.314472*Foglio1!$C$10*Foglio2!F1089, NA())","v":{"$error":"#N/A"}},{"$error":"#N/A"},9748,9.1848174147450976,{"$f":" IF(Foglio1!$C$11 <> \"\", 8.314472*Foglio1!$C$11*Foglio2!J1089, NA())","v":{"$error":"#N/A"}},{"$error":"#N/A"},9748,9.1848174147450976,{"$f":" IF(Foglio1!$C$12 <> \"\", 8.314472*Foglio1!$C$12*Foglio2!N1089, NA())","v":{"$error":"#N/A"}},{"$error":"#N/A"},9748,9.1848174147450976,{"$f":" IF(Foglio1!$C$13 <> \"\", 8.314472*Foglio1!$C$13*Foglio2!R1089, NA())","v":{"$error":"#N/A"}},{"$error":"#N/A"}]
[9757,9.1857402551079499,{"$f":" IF(Foglio1!$C$9 <> \"\", 8.314472*Foglio1!$C$9*Foglio2!B1090, NA())","v":{"$error":"#N/A"}},{"$error":"#N/A"},9757,9.1857402551079499,{"$f":" IF(Foglio1!$C$10 <> \"\", 8.314472*Foglio1!$C$10*Foglio2!F1090, NA())","v":{"$error":"#N/A"}},{"$error":"#N/A"},9757,9.1857402551079499,{"$f":" IF(Foglio1!$C$11 <> \"\", 8.314472*Foglio1!$C$11*Foglio2!J1090, NA())","v":{"$error":"#N/A"}},{"$error":"#N/A"},9757,9.1857402551079499,{"$f":" IF(Foglio1!$C$12 <> \"\", 8.314472*Foglio1!$C$12*Foglio2!N1090, NA())","v":{"$error":"#N/A"}},{"$error":"#N/A"},9757,9.1857402551079499,{"$f":" IF(Foglio1!$C$13 <> \"\", 8.314472*Foglio1!$C$13*Foglio2!R1090, NA())","v":{"$error":"#N/A"}},{"$error":"#N/A"}]
[9766,{"$f":"LN(A1091)","v":9.1866622446216049},{"$f":" IF(Foglio1!$C$9 <> \"\", 8.314472*Foglio1!$C$9*Foglio2!B1091, NA())","v":{"$error":"#N/A"}},{"$f":"  -30.5 + C1091*10^-3","v":{"$error":"#N/A"}},9766,{"$f":"LN(E1091)","v":9.1866622446216049},{"$f":" IF(Foglio1!$C$10 <> \"\", 8.314472*Foglio1!$C$10*Foglio2!F1091, NA())","v":{"$error":"#N/A"}},{"$f":" -30.5+ G1091*10^-3","v":{"$error":"#N/A"}},9766,{"$f":"LN(I1091)","v":9.1866622446216049},{"$f":" IF(Foglio1!$C$11 <> \"\", 8.314472*Foglio1!$C$11*Foglio2!J1091, NA())","v":{"$error":"#N/A"}},{"$f":" -30.5+ K1091*10^-3","v":{"$error":"#N/A"}},9766,{"$f":"LN(M1091)","v":9.1866622446216049},{"$f":" IF(Foglio1!$C$12 <> \"\", 8.314472*Foglio1!$C$12*Foglio2!N1091, NA())","v":{"$error":"#N/A"}},{"$f":" -30.5+ O1091*10^-3","v":{"$error":"#N/A"}},9766,{"$f":"LN(Q1091)","v":9.1866622446216049},{"$f":" IF(Foglio1!$C$13 <> \"\", 8.314472*Foglio1!$C$13*Foglio2!R1091, NA())","v":{"$error":"#N/A"}},{"$f":" -30.5+S1091*10^-3","v":{"$error":"#N/A"}}]
[9775,9.187583384853566,{"$f":" IF(Foglio1!$C$9 <> \"\", 8.314472*Foglio1!$C$9*Foglio2!B1092, NA())","v":{"$error":"#N/A"}},{"$error":"#N/A"},9775,9.187583384853566,{"$f":" IF(Foglio1!$C$10 <> \"\", 8.314472*Foglio1!$C$10*Foglio2!F1092, NA())","v":{"$error":"#N/A"}},{"$error":"#N/A"},9775,9.187583384853566,{"$f":" IF(Foglio1!$C$11 <> \"\", 8.314472*Foglio1!$C$11*Foglio2!J1092, NA())","v":{"$error":"#N/A"}},{"$error":"#N/A"},9775,9.187583384853566,{"$f":" IF(Foglio1!$C$12 <> \"\", 8.314472*Foglio1!$C$12*Foglio2!N1092, NA())","v":{"$error":"#N/A"}},{"$error":"#N/A"},9775,9.187583384853566,{"$f":" IF(Foglio1!$C$13 <> \"\", 8.314472*Foglio1!$C$13*Foglio2!R1092, NA())","v":{"$error":"#N/A"}},{"$error":"#N/A"}]
[9784,9.1885036773670077,{"$f":" IF(Foglio1!$C$9 <> \"\", 8.314472*Foglio1!$C$9*Foglio2!B1093, NA())","v":{"$error":"#N/A"}},{"$error":"#N/A"},9784,9.1885036773670077,{"$f":" IF(Foglio1!$C$10 <> \"\", 8.314472*Foglio1!$C$10*Foglio2!F1093, NA())","v":{"$error":"#N/A"}},{"$error":"#N/A"},9784,9.1885036773670077,{"$f":" IF(Foglio1!$C$11 <> \"\", 8.314472*Foglio1!$C$11*Foglio2!J1093, NA())","v":{"$error":"#N/A"}},{"$error":"#N/A"},9784,9.1885036773670077,{"$f":" IF(Foglio1!$C$12 <> \"\", 8.314472*Foglio1!$C$12*Foglio2!N1093, NA())","v":{"$error":"#N/A"}},{"$error":"#N/A"},9784,9.1885036773670077,{"$f":" IF(Foglio1!$C$13 <> \"\", 8.314472*Foglio1!$C$13*Foglio2!R1093, NA())","v":{"$error":"#N/A"}},{"$error":"#N/A"}]
[9793,9.1894231237207951,{"$f":" IF(Foglio1!$C$9 <> \"\", 8.314472*Foglio1!$C$9*Foglio2!B1094, NA())","v":{"$error":"#N/A"}},{"$error":"#N/A"},9793,9.1894231237207951,{"$f":" IF(Foglio1!$C$10 <> \"\", 8.314472*Foglio1!$C$10*Foglio2!F1094, NA())","v":{"$error":"#N/A"}},{"$error":"#N/A"},9793,9.1894231237207951,{"$f":" IF(Foglio1!$C$11 <> \"\", 8.314472*Foglio1!$C$11*Foglio2!J1094, NA())","v":{"$error":"#N/A"}},{"$error":"#N/A"},9793,9.1894231237207951,{"$f":" IF(Foglio1!$C$12 <> \"\", 8.314472*Foglio1!$C$12*Foglio2!N1094, NA())","v":{"$error":"#N/A"}},{"$error":"#N/A"},9793,9.1894231237207951,{"$f":" IF(Foglio1!$C$13 <> \"\", 8.314472*Foglio1!$C$13*Foglio2!R1094, NA())","v":{"$error":"#N/A"}},{"$error":"#N/A"}]
[9802,9.1903417254694926,{"$f":" IF(Foglio1!$C$9 <> \"\", 8.314472*Foglio1!$C$9*Foglio2!B1095, NA())","v":{"$error":"#N/A"}},{"$error":"#N/A"},9802,9.1903417254694926,{"$f":" IF(Foglio1!$C$10 <> \"\", 8.314472*Foglio1!$C$10*Foglio2!F1095, NA())","v":{"$error":"#N/A"}},{"$error":"#N/A"},9802,9.1903417254694926,{"$f":" IF(Foglio1!$C$11 <> \"\", 8.314472*Foglio1!$C$11*Foglio2!J1095, NA())","v":{"$error":"#N/A"}},{"$error":"#N/A"},9802,9.1903417254694926,{"$f":" IF(Foglio1!$C$12 <> \"\", 8.314472*Foglio1!$C$12*Foglio2!N1095, NA())","v":{"$error":"#N/A"}},{"$error":"#N/A"},9802,9.1903417254694926,{"$f":" IF(Foglio1!$C$13 <> \"\", 8.314472*Foglio1!$C$13*Foglio2!R1095, NA())","v":{"$error":"#N/A"}},{"$error":"#N/A"}]
[9811,9.1912594841633908,{"$f":" IF(Foglio1!$C$9 <> \"\", 8.314472*Foglio1!$C$9*Foglio2!B1096, NA())","v":{"$error":"#N/A"}},{"$error":"#N/A"},9811,9.1912594841633908,{"$f":" IF(Foglio1!$C$10 <> \"\", 8.314472*Foglio1!$C$10*Foglio2!F1096, NA())","v":{"$error":"#N/A"}},{"$error":"#N/A"},9811,9.1912594841633908,{"$f":" IF(Foglio1!$C$11 <> \"\", 8.314472*Foglio1!$C$11*Foglio2!J1096, NA())","v":{"$error":"#N/A"}},{"$error":"#N/A"},9811,9.1912594841633908,{"$f":" IF(Foglio1!$C$12 <> \"\", 8.314472*Foglio1!$C$12*Foglio2!N1096, NA())","v":{"$error":"#N/A"}},{"$error":"#N/A"},9811,9.1912594841633908,{"$f":" IF(Foglio1!$C$13 <> \"\", 8.314472*Foglio1!$C$13*Foglio2!R1096, NA())","v":{"$error":"#N/A"}},{"$error":"#N/A"}]
[9820,9.1921764013485117,{"$f":" IF(Foglio1!$C$9 <> \"\", 8.314472*Foglio1!$C$9*Foglio2!B1097, NA())","v":{"$error":"#N/A"}},{"$error":"#N/A"},9820,9.1921764013485117,{"$f":" IF(Foglio1!$C$10 <> \"\", 8.314472*Foglio1!$C$10*Foglio2!F1097, NA())","v":{"$error":"#N/A"}},{"$error":"#N/A"},9820,9.1921764013485117,{"$f":" IF(Foglio1!$C$11 <> \"\", 8.314472*Foglio1!$C$11*Foglio2!J1097, NA())","v":{"$error":"#N/A"}},{"$error":"#N/A"},9820,9.1921764013485117,{"$f":" IF(Foglio1!$C$12 <> \"\", 8.314472*Foglio1!$C$12*Foglio2!N1097, NA())","v":{"$error":"#N/A"}},{"$error":"#N/A"},9820,9.1921764013485117,{"$f":" IF(Foglio1!$C$13 <> \"\", 8.314472*Foglio1!$C$13*Foglio2!R1097, NA())","v":{"$error":"#N/A"}},{"$error":"#N/A"}]
[9829,9.1930924785666299,{"$f":" IF(Foglio1!$C$9 <> \"\", 8.314472*Foglio1!$C$9*Foglio2!B1098, NA())","v":{"$error":"#N/A"}},{"$error":"#N/A"},9829,9.1930924785666299,{"$f":" IF(Foglio1!$C$10 <> \"\", 8.314472*Foglio1!$C$10*Foglio2!F1098, NA())","v":{"$error":"#N/A"}},{"$error":"#N/A"},9829,9.1930924785666299,{"$f":" IF(Foglio1!$C$11 <> \"\", 8.314472*Foglio1!$C$11*Foglio2!J1098, NA())","v":{"$error":"#N/A"}},{"$error":"#N/A"},9829,9.1930924785666299,{"$f":" IF(Foglio1!$C$12 <> \"\", 8.314472*Foglio1!$C$12*Foglio2!N1098, NA())","v":{"$error":"#N/A"}},{"$error":"#N/A"},9829,9.1930924785666299,{"$f":" IF(Foglio1!$C$13 <> \"\", 8.314472*Foglio1!$C$13*Foglio2!R1098, NA())","v":{"$error":"#N/A"}},{"$error":"#N/A"}]
[9838,9.1940077173552854,{"$f":" IF(Foglio1!$C$9 <> \"\", 8.314472*Foglio1!$C$9*Foglio2!B1099, NA())","v":{"$error":"#N/A"}},{"$error":"#N/A"},9838,9.1940077173552854,{"$f":" IF(Foglio1!$C$10 <> \"\", 8.314472*Foglio1!$C$10*Foglio2!F1099, NA())","v":{"$error":"#N/A"}},{"$error":"#N/A"},9838,9.1940077173552854,{"$f":" IF(Foglio1!$C$11 <> \"\", 8.314472*Foglio1!$C$11*Foglio2!J1099, NA())","v":{"$error":"#N/A"}},{"$error":"#N/A"},9838,9.1940077173552854,{"$f":" IF(Foglio1!$C$12 <> \"\", 8.314472*Foglio1!$C$12*Foglio2!N1099, NA())","v":{"$error":"#N/A"}},{"$error":"#N/A"},9838,9.1940077173552854,{"$f":" IF(Foglio1!$C$13 <> \"\", 8.314472*Foglio1!$C$13*Foglio2!R1099, NA())","v":{"$error":"#N/A"}},{"$error":"#N/A"}]
[9847,9.1949221192478028,{"$f":" IF(Foglio1!$C$9 <> \"\", 8.314472*Foglio1!$C$9*Foglio2!B1100, NA())","v":{"$error":"#N/A"}},{"$error":"#N/A"},9847,9.1949221192478028,{"$f":" IF(Foglio1!$C$10 <> \"\", 8.314472*Foglio1!$C$10*Foglio2!F1100, NA())","v":{"$error":"#N/A"}},{"$error":"#N/A"},9847,9.1949221192478028,{"$f":" IF(Foglio1!$C$11 <> \"\", 8.314472*Foglio1!$C$11*Foglio2!J1100, NA())","v":{"$error":"#N/A"}},{"$error":"#N/A"},9847,9.1949221192478028,{"$f":" IF(Foglio1!$C$12 <> \"\", 8.314472*Foglio1!$C$12*Foglio2!N1100, NA())","v":{"$error":"#N/A"}},{"$error":"#N/A"},9847,9.1949221192478028,{"$f":" IF(Foglio1!$C$13 <> \"\", 8.314472*Foglio1!$C$13*Foglio2!R1100, NA())","v":{"$error":"#N/A"}},{"$error":"#N/A"}]
[9856,9.1958356857733001,{"$f":" IF(Foglio1!$C$9 <> \"\", 8.314472*Foglio1!$C$9*Foglio2!B1101, NA())","v":{"$error":"#N/A"}},{"$error":"#N/A"},9856,9.1958356857733001,{"$f":" IF(Foglio1!$C$10 <> \"\", 8.314472*Foglio1!$C$10*Foglio2!F1101, NA())","v":{"$error":"#N/A"}},{"$error":"#N/A"},9856,9.1958356857733001,{"$f":" IF(Foglio1!$C$11 <> \"\", 8.314472*Foglio1!$C$11*Foglio2!J1101, NA())","v":{"$error":"#N/A"}},{"$error":"#N/A"},9856,9.1958356857733001,{"$f":" IF(Foglio1!$C$12 <> \"\", 8.314472*Foglio1!$C$12*Foglio2!N1101, NA())","v":{"$error":"#N/A"}},{"$error":"#N/A"},9856,9.1958356857733001,{"$f":" IF(Foglio1!$C$13 <> \"\", 8.314472*Foglio1!$C$13*Foglio2!R1101, NA())","v":{"$error":"#N/A"}},{"$error":"#N/A"}]
[9865,9.1967484184567159,{"$f":" IF(Foglio1!$C$9 <> \"\", 8.314472*Foglio1!$C$9*Foglio2!B1102, NA())","v":{"$error":"#N/A"}},{"$error":"#N/A"},9865,9.1967484184567159,{"$f":" IF(Foglio1!$C$10 <> \"\", 8.314472*Foglio1!$C$10*Foglio2!F1102, NA())","v":{"$error":"#N/A"}},{"$error":"#N/A"},9865,9.1967484184567159,{"$f":" IF(Foglio1!$C$11 <> \"\", 8.314472*Foglio1!$C$11*Foglio2!J1102, NA())","v":{"$error":"#N/A"}},{"$error":"#N/A"},9865,9.1967484184567159,{"$f":" IF(Foglio1!$C$12 <> \"\", 8.314472*Foglio1!$C$12*Foglio2!N1102, NA())","v":{"$error":"#N/A"}},{"$error":"#N/A"},9865,9.1967484184567159,{"$f":" IF(Foglio1!$C$13 <> \"\", 8.314472*Foglio1!$C$13*Foglio2!R1102, NA())","v":{"$error":"#N/A"}},{"$error":"#N/A"}]
[9874,9.1976603188188086,{"$f":" IF(Foglio1!$C$9 <> \"\", 8.314472*Foglio1!$C$9*Foglio2!B1103, NA())","v":{"$error":"#N/A"}},{"$error":"#N/A"},9874,9.1976603188188086,{"$f":" IF(Foglio1!$C$10 <> \"\", 8.314472*Foglio1!$C$10*Foglio2!F1103, NA())","v":{"$error":"#N/A"}},{"$error":"#N/A"},9874,9.1976603188188086,{"$f":" IF(Foglio1!$C$11 <> \"\", 8.314472*Foglio1!$C$11*Foglio2!J1103, NA())","v":{"$error":"#N/A"}},{"$error":"#N/A"},9874,9.1976603188188086,{"$f":" IF(Foglio1!$C$12 <> \"\", 8.314472*Foglio1!$C$12*Foglio2!N1103, NA())","v":{"$error":"#N/A"}},{"$error":"#N/A"},9874,9.1976603188188086,{"$f":" IF(Foglio1!$C$13 <> \"\", 8.314472*Foglio1!$C$13*Foglio2!R1103, NA())","v":{"$error":"#N/A"}},{"$error":"#N/A"}]
[9883,9.1985713883761839,{"$f":" IF(Foglio1!$C$9 <> \"\", 8.314472*Foglio1!$C$9*Foglio2!B1104, NA())","v":{"$error":"#N/A"}},{"$error":"#N/A"},9883,9.1985713883761839,{"$f":" IF(Foglio1!$C$10 <> \"\", 8.314472*Foglio1!$C$10*Foglio2!F1104, NA())","v":{"$error":"#N/A"}},{"$error":"#N/A"},9883,9.1985713883761839,{"$f":" IF(Foglio1!$C$11 <> \"\", 8.314472*Foglio1!$C$11*Foglio2!J1104, NA())","v":{"$error":"#N/A"}},{"$error":"#N/A"},9883,9.1985713883761839,{"$f":" IF(Foglio1!$C$12 <> \"\", 8.314472*Foglio1!$C$12*Foglio2!N1104, NA())","v":{"$error":"#N/A"}},{"$error":"#N/A"},9883,9.1985713883761839,{"$f":" IF(Foglio1!$C$13 <> \"\", 8.314472*Foglio1!$C$13*Foglio2!R1104, NA())","v":{"$error":"#N/A"}},{"$error":"#N/A"}]
[9892,9.1994816286413066,{"$f":" IF(Foglio1!$C$9 <> \"\", 8.314472*Foglio1!$C$9*Foglio2!B1105, NA())","v":{"$error":"#N/A"}},{"$error":"#N/A"},9892,9.1994816286413066,{"$f":" IF(Foglio1!$C$10 <> \"\", 8.314472*Foglio1!$C$10*Foglio2!F1105, NA())","v":{"$error":"#N/A"}},{"$error":"#N/A"},9892,9.1994816286413066,{"$f":" IF(Foglio1!$C$11 <> \"\", 8.314472*Foglio1!$C$11*Foglio2!J1105, NA())","v":{"$error":"#N/A"}},{"$error":"#N/A"},9892,9.1994816286413066,{"$f":" IF(Foglio1!$C$12 <> \"\", 8.314472*Foglio1!$C$12*Foglio2!N1105, NA())","v":{"$error":"#N/A"}},{"$error":"#N/A"},9892,9.1994816286413066,{"$f":" IF(Foglio1!$C$13 <> \"\", 8.314472*Foglio1!$C$13*Foglio2!R1105, NA())","v":{"$error":"#N/A"}},{"$error":"#N/A"}]
[9901,9.2003910411225149,{"$f":" IF(Foglio1!$C$9 <> \"\", 8.314472*Foglio1!$C$9*Foglio2!B1106, NA())","v":{"$error":"#N/A"}},{"$error":"#N/A"},9901,9.2003910411225149,{"$f":" IF(Foglio1!$C$10 <> \"\", 8.314472*Foglio1!$C$10*Foglio2!F1106, NA())","v":{"$error":"#N/A"}},{"$error":"#N/A"},9901,9.2003910411225149,{"$f":" IF(Foglio1!$C$11 <> \"\", 8.314472*Foglio1!$C$11*Foglio2!J1106, NA())","v":{"$error":"#N/A"}},{"$error":"#N/A"},9901,9.2003910411225149,{"$f":" IF(Foglio1!$C$12 <> \"\", 8.314472*Foglio1!$C$12*Foglio2!N1106, NA())","v":{"$error":"#N/A"}},{"$error":"#N/A"},9901,9.2003910411225149,{"$f":" IF(Foglio1!$C$13 <> \"\", 8.314472*Foglio1!$C$13*Foglio2!R1106, NA())","v":{"$error":"#N/A"}},{"$error":"#N/A"}]
[9910,9.2012996273240333,{"$f":" IF(Foglio1!$C$9 <> \"\", 8.314472*Foglio1!$C$9*Foglio2!B1107, NA())","v":{"$error":"#N/A"}},{"$error":"#N/A"},9910,9.2012996273240333,{"$f":" IF(Foglio1!$C$10 <> \"\", 8.314472*Foglio1!$C$10*Foglio2!F1107, NA())","v":{"$error":"#N/A"}},{"$error":"#N/A"},9910,9.2012996273240333,{"$f":" IF(Foglio1!$C$11 <> \"\", 8.314472*Foglio1!$C$11*Foglio2!J1107, NA())","v":{"$error":"#N/A"}},{"$error":"#N/A"},9910,9.2012996273240333,{"$f":" IF(Foglio1!$C$12 <> \"\", 8.314472*Foglio1!$C$12*Foglio2!N1107, NA())","v":{"$error":"#N/A"}},{"$error":"#N/A"},9910,9.2012996273240333,{"$f":" IF(Foglio1!$C$13 <> \"\", 8.314472*Foglio1!$C$13*Foglio2!R1107, NA())","v":{"$error":"#N/A"}},{"$error":"#N/A"}]
[9919,9.2022073887459932,{"$f":" IF(Foglio1!$C$9 <> \"\", 8.314472*Foglio1!$C$9*Foglio2!B1108, NA())","v":{"$error":"#N/A"}},{"$error":"#N/A"},9919,9.2022073887459932,{"$f":" IF(Foglio1!$C$10 <> \"\", 8.314472*Foglio1!$C$10*Foglio2!F1108, NA())","v":{"$error":"#N/A"}},{"$error":"#N/A"},9919,9.2022073887459932,{"$f":" IF(Foglio1!$C$11 <> \"\", 8.314472*Foglio1!$C$11*Foglio2!J1108, NA())","v":{"$error":"#N/A"}},{"$error":"#N/A"},9919,9.2022073887459932,{"$f":" IF(Foglio1!$C$12 <> \"\", 8.314472*Foglio1!$C$12*Foglio2!N1108, NA())","v":{"$error":"#N/A"}},{"$error":"#N/A"},9919,9.2022073887459932,{"$f":" IF(Foglio1!$C$13 <> \"\", 8.314472*Foglio1!$C$13*Foglio2!R1108, NA())","v":{"$error":"#N/A"}},{"$error":"#N/A"}]
[9928,9.2031143268844424,{"$f":" IF(Foglio1!$C$9 <> \"\", 8.314472*Foglio1!$C$9*Foglio2!B1109, NA())","v":{"$error":"#N/A"}},{"$error":"#N/A"},9928,9.2031143268844424,{"$f":" IF(Foglio1!$C$10 <> \"\", 8.314472*Foglio1!$C$10*Foglio2!F1109, NA())","v":{"$error":"#N/A"}},{"$error":"#N/A"},9928,9.2031143268844424,{"$f":" IF(Foglio1!$C$11 <> \"\", 8.314472*Foglio1!$C$11*Foglio2!J1109, NA())","v":{"$error":"#N/A"}},{"$error":"#N/A"},9928,9.2031143268844424,{"$f":" IF(Foglio1!$C$12 <> \"\", 8.314472*Foglio1!$C$12*Foglio2!N1109, NA())","v":{"$error":"#N/A"}},{"$error":"#N/A"},9928,9.2031143268844424,{"$f":" IF(Foglio1!$C$13 <> \"\", 8.314472*Foglio1!$C$13*Foglio2!R1109, NA())","v":{"$error":"#N/A"}},{"$error":"#N/A"}]
[9937,9.2040204432313626,{"$f":" IF(Foglio1!$C$9 <> \"\", 8.314472*Foglio1!$C$9*Foglio2!B1110, NA())","v":{"$error":"#N/A"}},{"$error":"#N/A"},9937,9.2040204432313626,{"$f":" IF(Foglio1!$C$10 <> \"\", 8.314472*Foglio1!$C$10*Foglio2!F1110, NA())","v":{"$error":"#N/A"}},{"$error":"#N/A"},9937,9.2040204432313626,{"$f":" IF(Foglio1!$C$11 <> \"\", 8.314472*Foglio1!$C$11*Foglio2!J1110, NA())","v":{"$error":"#N/A"}},{"$error":"#N/A"},9937,9.2040204432313626,{"$f":" IF(Foglio1!$C$12 <> \"\", 8.314472*Foglio1!$C$12*Foglio2!N1110, NA())","v":{"$error":"#N/A"}},{"$error":"#N/A"},9937,9.2040204432313626,{"$f":" IF(Foglio1!$C$13 <> \"\", 8.314472*Foglio1!$C$13*Foglio2!R1110, NA())","v":{"$error":"#N/A"}},{"$error":"#N/A"}]
[9946,9.2049257392746835,{"$f":" IF(Foglio1!$C$9 <> \"\", 8.314472*Foglio1!$C$9*Foglio2!B1111, NA())","v":{"$error":"#N/A"}},{"$error":"#N/A"},9946,9.2049257392746835,{"$f":" IF(Foglio1!$C$10 <> \"\", 8.314472*Foglio1!$C$10*Foglio2!F1111, NA())","v":{"$error":"#N/A"}},{"$error":"#N/A"},9946,9.2049257392746835,{"$f":" IF(Foglio1!$C$11 <> \"\", 8.314472*Foglio1!$C$11*Foglio2!J1111, NA())","v":{"$error":"#N/A"}},{"$error":"#N/A"},9946,9.2049257392746835,{"$f":" IF(Foglio1!$C$12 <> \"\", 8.314472*Foglio1!$C$12*Foglio2!N1111, NA())","v":{"$error":"#N/A"}},{"$error":"#N/A"},9946,9.2049257392746835,{"$f":" IF(Foglio1!$C$13 <> \"\", 8.314472*Foglio1!$C$13*Foglio2!R1111, NA())","v":{"$error":"#N/A"}},{"$error":"#N/A"}]
[9955,9.2058302164982972,{"$f":" IF(Foglio1!$C$9 <> \"\", 8.314472*Foglio1!$C$9*Foglio2!B1112, NA())","v":{"$error":"#N/A"}},{"$error":"#N/A"},9955,9.2058302164982972,{"$f":" IF(Foglio1!$C$10 <> \"\", 8.314472*Foglio1!$C$10*Foglio2!F1112, NA())","v":{"$error":"#N/A"}},{"$error":"#N/A"},9955,9.2058302164982972,{"$f":" IF(Foglio1!$C$11 <> \"\", 8.314472*Foglio1!$C$11*Foglio2!J1112, NA())","v":{"$error":"#N/A"}},{"$error":"#N/A"},9955,9.2058302164982972,{"$f":" IF(Foglio1!$C$12 <> \"\", 8.314472*Foglio1!$C$12*Foglio2!N1112, NA())","v":{"$error":"#N/A"}},{"$error":"#N/A"},9955,9.2058302164982972,{"$f":" IF(Foglio1!$C$13 <> \"\", 8.314472*Foglio1!$C$13*Foglio2!R1112, NA())","v":{"$error":"#N/A"}},{"$error":"#N/A"}]
[9964,9.2067338763820707,{"$f":" IF(Foglio1!$C$9 <> \"\", 8.314472*Foglio1!$C$9*Foglio2!B1113, NA())","v":{"$error":"#N/A"}},{"$error":"#N/A"},9964,9.2067338763820707,{"$f":" IF(Foglio1!$C$10 <> \"\", 8.314472*Foglio1!$C$10*Foglio2!F1113, NA())","v":{"$error":"#N/A"}},{"$error":"#N/A"},9964,9.2067338763820707,{"$f":" IF(Foglio1!$C$11 <> \"\", 8.314472*Foglio1!$C$11*Foglio2!J1113, NA())","v":{"$error":"#N/A"}},{"$error":"#N/A"},9964,9.2067338763820707,{"$f":" IF(Foglio1!$C$12 <> \"\", 8.314472*Foglio1!$C$12*Foglio2!N1113, NA())","v":{"$error":"#N/A"}},{"$error":"#N/A"},9964,9.2067338763820707,{"$f":" IF(Foglio1!$C$13 <> \"\", 8.314472*Foglio1!$C$13*Foglio2!R1113, NA())","v":{"$error":"#N/A"}},{"$error":"#N/A"}]
[9973,9.2076367204018688,{"$f":" IF(Foglio1!$C$9 <> \"\", 8.314472*Foglio1!$C$9*Foglio2!B1114, NA())","v":{"$error":"#N/A"}},{"$error":"#N/A"},9973,9.2076367204018688,{"$f":" IF(Foglio1!$C$10 <> \"\", 8.314472*Foglio1!$C$10*Foglio2!F1114, NA())","v":{"$error":"#N/A"}},{"$error":"#N/A"},9973,9.2076367204018688,{"$f":" IF(Foglio1!$C$11 <> \"\", 8.314472*Foglio1!$C$11*Foglio2!J1114, NA())","v":{"$error":"#N/A"}},{"$error":"#N/A"},9973,9.2076367204018688,{"$f":" IF(Foglio1!$C$12 <> \"\", 8.314472*Foglio1!$C$12*Foglio2!N1114, NA())","v":{"$error":"#N/A"}},{"$error":"#N/A"},9973,9.2076367204018688,{"$f":" IF(Foglio1!$C$13 <> \"\", 8.314472*Foglio1!$C$13*Foglio2!R1114, NA())","v":{"$error":"#N/A"}},{"$error":"#N/A"}]
[9982,9.2085387500295539,{"$f":" IF(Foglio1!$C$9 <> \"\", 8.314472*Foglio1!$C$9*Foglio2!B1115, NA())","v":{"$error":"#N/A"}},{"$error":"#N/A"},9982,9.2085387500295539,{"$f":" IF(Foglio1!$C$10 <> \"\", 8.314472*Foglio1!$C$10*Foglio2!F1115, NA())","v":{"$error":"#N/A"}},{"$error":"#N/A"},9982,9.2085387500295539,{"$f":" IF(Foglio1!$C$11 <> \"\", 8.314472*Foglio1!$C$11*Foglio2!J1115, NA())","v":{"$error":"#N/A"}},{"$error":"#N/A"},9982,9.2085387500295539,{"$f":" IF(Foglio1!$C$12 <> \"\", 8.314472*Foglio1!$C$12*Foglio2!N1115, NA())","v":{"$error":"#N/A"}},{"$error":"#N/A"},9982,9.2085387500295539,{"$f":" IF(Foglio1!$C$13 <> \"\", 8.314472*Foglio1!$C$13*Foglio2!R1115, NA())","v":{"$error":"#N/A"}},{"$error":"#N/A"}]
[9991,9.2094399667330187,{"$f":" IF(Foglio1!$C$9 <> \"\", 8.314472*Foglio1!$C$9*Foglio2!B1116, NA())","v":{"$error":"#N/A"}},{"$error":"#N/A"},9991,9.2094399667330187,{"$f":" IF(Foglio1!$C$10 <> \"\", 8.314472*Foglio1!$C$10*Foglio2!F1116, NA())","v":{"$error":"#N/A"}},{"$error":"#N/A"},9991,9.2094399667330187,{"$f":" IF(Foglio1!$C$11 <> \"\", 8.314472*Foglio1!$C$11*Foglio2!J1116, NA())","v":{"$error":"#N/A"}},{"$error":"#N/A"},9991,9.2094399667330187,{"$f":" IF(Foglio1!$C$12 <> \"\", 8.314472*Foglio1!$C$12*Foglio2!N1116, NA())","v":{"$error":"#N/A"}},{"$error":"#N/A"},9991,9.2094399667330187,{"$f":" IF(Foglio1!$C$13 <> \"\", 8.314472*Foglio1!$C$13*Foglio2!R1116, NA())","v":{"$error":"#N/A"}},{"$error":"#N/A"}]
[10000,9.2103403719761836,{"$f":" IF(Foglio1!$C$9 <> \"\", 8.314472*Foglio1!$C$9*Foglio2!B1117, NA())","v":{"$error":"#N/A"}},{"$error":"#N/A"},10000,9.2103403719761836,{"$f":" IF(Foglio1!$C$10 <> \"\", 8.314472*Foglio1!$C$10*Foglio2!F1117, NA())","v":{"$error":"#N/A"}},{"$error":"#N/A"},10000,9.2103403719761836,{"$f":" IF(Foglio1!$C$11 <> \"\", 8.314472*Foglio1!$C$11*Foglio2!J1117, NA())","v":{"$error":"#N/A"}},{"$error":"#N/A"},10000,9.2103403719761836,{"$f":" IF(Foglio1!$C$12 <> \"\", 8.314472*Foglio1!$C$12*Foglio2!N1117, NA())","v":{"$error":"#N/A"}},{"$error":"#N/A"},10000,9.2103403719761836,{"$f":" IF(Foglio1!$C$13 <> \"\", 8.314472*Foglio1!$C$13*Foglio2!R1117, NA())","v":{"$error":"#N/A"}},{"$error":"#N/A"}]
[10009,9.2112399672190186,{"$f":" IF(Foglio1!$C$9 <> \"\", 8.314472*Foglio1!$C$9*Foglio2!B1118, NA())","v":{"$error":"#N/A"}},{"$error":"#N/A"},10009,9.2112399672190186,{"$f":" IF(Foglio1!$C$10 <> \"\", 8.314472*Foglio1!$C$10*Foglio2!F1118, NA())","v":{"$error":"#N/A"}},{"$error":"#N/A"},10009,9.2112399672190186,{"$f":" IF(Foglio1!$C$11 <> \"\", 8.314472*Foglio1!$C$11*Foglio2!J1118, NA())","v":{"$error":"#N/A"}},{"$error":"#N/A"},10009,9.2112399672190186,{"$f":" IF(Foglio1!$C$12 <> \"\", 8.314472*Foglio1!$C$12*Foglio2!N1118, NA())","v":{"$error":"#N/A"}},{"$error":"#N/A"},10009,9.2112399672190186,{"$f":" IF(Foglio1!$C$13 <> \"\", 8.314472*Foglio1!$C$13*Foglio2!R1118, NA())","v":{"$error":"#N/A"}},{"$error":"#N/A"}]
[10018,9.2121387539175625,{"$f":" IF(Foglio1!$C$9 <> \"\", 8.314472*Foglio1!$C$9*Foglio2!B1119, NA())","v":{"$error":"#N/A"}},{"$error":"#N/A"},10018,9.2121387539175625,{"$f":" IF(Foglio1!$C$10 <> \"\", 8.314472*Foglio1!$C$10*Foglio2!F1119, NA())","v":{"$error":"#N/A"}},{"$error":"#N/A"},10018,9.2121387539175625,{"$f":" IF(Foglio1!$C$11 <> \"\", 8.314472*Foglio1!$C$11*Foglio2!J1119, NA())","v":{"$error":"#N/A"}},{"$error":"#N/A"},10018,9.2121387539175625,{"$f":" IF(Foglio1!$C$12 <> \"\", 8.314472*Foglio1!$C$12*Foglio2!N1119, NA())","v":{"$error":"#N/A"}},{"$error":"#N/A"},10018,9.2121387539175625,{"$f":" IF(Foglio1!$C$13 <> \"\", 8.314472*Foglio1!$C$13*Foglio2!R1119, NA())","v":{"$error":"#N/A"}},{"$error":"#N/A"}]