{"text_format":"1","workbook":"xlsx","n_sheets":2,"sheets":["Foglio1","Foglio2"],"not_rendered":{"charts":1,"images":1,"macros":1,"external_links":0,"defined_names":0,"comments":0,"pivot_tables":0},"unopened":[],"bounds":{"document_bytes":16777216,"sheet_cells":100000,"rows_first":2000,"rows_last":500,"rows_between":2000,"halvings":0,"cell_chars":16384,"cell_head_chars":4096},"cells_cut":0,"cells_raw":0,"read":"whole","date_system":"1900"}

{"sheet":"Foglio1","index":0,"n_rows":27,"n_cols":11,"rows_kept":27,"cut":false,"hidden":false,"merged":[[5,0,5,18],[3,0,3,18]]}
[]
["Le interazioni proteina-ligando"]
[]
["Le proteine funzionano interagendo con altre molecole. Le molecole che interagiscono reversibilmente con le proteine, senza essere alterate dall’interazione, sono chiamate ligandi. Le interazioni proteina-ligando sono alla base di un grandissimo numero di processi biochimici. La descrizione quantitativa di queste interazioni ha rappresentato uno dei temi di ricerca più rilevanti della biochimica. \nIl parametro chiave utilizzato per descrivere queste interazioni è la costante di dissociazione, Kd. La Kd esprime il rapporto che c’è tra la concentrazione del ligando e la frazione dei siti di legame della proteina che sono occupati dal ligando (un parametro detto θ). Una proteina che ha un’alta affinità per il suo ligando, ha un valore di Kd molto basso: se la proteina lega saldamente il ligando, la concentrazione di ligando necessaria per occupare metà dei siti di legame è bassa ed è basso anche il valore della Kd. Una proteina con una bassa affinità per il suo ligando, ha un alto valore di Kd. "]
[]
["Utilizzate questo foglio di calcolo per visualizzare il grafico. Inserite il valore di default (Kd1 = 1E-9) nella casella in basso e cliccate sul tasto Mostra grafico. \nPoi diminuite la Kd di un fattore 10 e ottenete un nuovo grafico. Osservate come il grafico si muove a sinistra man mano che la Kd diminuisce. Diminuite la Kd ancora di un fattore 10 e osservate il nuovo grafico. Inserite i vostri valori della Kd fino a quando non avete preso confidenza con l’equazione. \nPotete modificare il valore massimo della X ([L]) per il quale volete che venga visualizzato il grafico. Inserite il valore massimo di [L] nella casella in alto e cliccate sul tasto Cambia l’asse X. Per visualizzare correttamente il grafico, scegliete valori di [L] non superiori a 1E-10. Il valore inferiore è sempre uguale a zero.\nIn ognuna di queste curve, c’è un punto importante. Notate che quando la [L] = Kd, θ = 0,5. In altre parole, la Kd (che ha come unità di misura la molarità) equivale alla concentrazione di ligando alla quale i siti di legame della proteina sono per metà saturati con il ligando.\nSuggerimento: quando la Kd aumenta (legame più debole), la curva si sposta a destra. Quando la Kd diminuisce (legame più forte), la curva si sposta a sinistra."]
[null,null,null,null,null,null,null,null,"[L] =  da 0 a ",null,1E-10]
[]
["Kd1","="]
["Kd2","="]
["Kd3","="]
["Kd4","="]
["Kd5","="]
[]
[]
[]
[]
[]
[]
[]
[]
[]
[]
[]
[null,null,null,null,null,null,null,null,{"$f":"MIN(I24:AQ24)","v":0}]
[]
[null,null,null,null,null,null,null,null,0]

{"sheet":"Foglio2","index":1,"n_rows":543,"n_cols":15,"rows_kept":543,"cut":false,"hidden":true,"merged":[]}
["[L]","Θ","visibile","[L]","Θ","visibile","[L]","Θ","visibile","[L]","Θ","visibile","[L]","Θ","visibile"]
[0,{"$f":" IF(Foglio1!$C$9 <> \"\", A2 / (A2+Foglio1!$C$9), NA())","v":{"$error":"#N/A"}},{"$f":"IF(A2>Foglio1!$I$7,1,0)","v":0},0,{"$f":" IF(Foglio1!$C$10 <> \"\", D2 / (D2+Foglio1!$C$10), NA())","v":{"$error":"#N/A"}},{"$f":"IF(D2>Foglio1!$I$7,1,0)","v":0},0,{"$f":" IF(Foglio1!$C$11 <> \"\", G2 / (G2+Foglio1!$C$11), NA())","v":{"$error":"#N/A"}},{"$f":"IF(G2>Foglio1!$I$7,1,0)","v":0},0,{"$f":" IF(Foglio1!$C$12 <> \"\", J2 / (J2+Foglio1!$C$12), NA())","v":{"$error":"#N/A"}},{"$f":"IF(J2>Foglio1!$I$7,1,0)","v":0},0,{"$f":" IF(Foglio1!$C$13 <> \"\", M2 / (M2+Foglio1!$C$13), NA())","v":{"$error":"#N/A"}},{"$f":"IF(M2>Foglio1!$I$7,1,0)","v":0}]
[1.0000000000000001E-15,{"$f":" IF(Foglio1!$C$9 <> \"\", A3 / (A3+Foglio1!$C$9), NA())","v":{"$error":"#N/A"}},{"$f":"IF(A3>Foglio1!$I$7,1,0)","v":0},1.0000000000000001E-15,{"$f":" IF(Foglio1!$C$10 <> \"\", D3 / (D3+Foglio1!$C$10), NA())","v":{"$error":"#N/A"}},{"$f":"IF(D3>Foglio1!$I$7,1,0)","v":0},1.0000000000000001E-15,{"$f":" IF(Foglio1!$C$11 <> \"\", G3 / (G3+Foglio1!$C$11), NA())","v":{"$error":"#N/A"}},{"$f":"IF(G3>Foglio1!$I$7,1,0)","v":0},1.0000000000000001E-15,{"$f":" IF(Foglio1!$C$12 <> \"\", J3 / (J3+Foglio1!$C$12), NA())","v":{"$error":"#N/A"}},{"$f":"IF(J3>Foglio1!$I$7,1,0)","v":0},1.0000000000000001E-15,{"$f":" IF(Foglio1!$C$13 <> \"\", M3 / (M3+Foglio1!$C$13), NA())","v":{"$error":"#N/A"}},{"$f":"IF(M3>Foglio1!$I$7,1,0)","v":0}]
[1.0999999999999999E-15,{"$f":" IF(Foglio1!$C$9 <> \"\", A4 / (A4+Foglio1!$C$9), NA())","v":{"$error":"#N/A"}},{"$f":"IF(A4>Foglio1!$I$7,1,0)","v":0},1.0999999999999999E-15,{"$f":" IF(Foglio1!$C$10 <> \"\", D4 / (D4+Foglio1!$C$10), NA())","v":{"$error":"#N/A"}},{"$f":"IF(D4>Foglio1!$I$7,1,0)","v":0},1.0999999999999999E-15,{"$f":" IF(Foglio1!$C$11 <> \"\", G4 / (G4+Foglio1!$C$11), NA())","v":{"$error":"#N/A"}},{"$f":"IF(G4>Foglio1!$I$7,1,0)","v":0},1.0999999999999999E-15,{"$f":" IF(Foglio1!$C$12 <> \"\", J4 / (J4+Foglio1!$C$12), NA())","v":{"$error":"#N/A"}},{"$f":"IF(J4>Foglio1!$I$7,1,0)","v":0},1.0999999999999999E-15,{"$f":" IF(Foglio1!$C$13 <> \"\", M4 / (M4+Foglio1!$C$13), NA())","v":{"$error":"#N/A"}},{"$f":"IF(M4>Foglio1!$I$7,1,0)","v":0}]
[1.2E-15,{"$f":" IF(Foglio1!$C$9 <> \"\", A5 / (A5+Foglio1!$C$9), NA())","v":{"$error":"#N/A"}},{"$f":"IF(A5>Foglio1!$I$7,1,0)","v":0},1.2E-15,{"$f":" IF(Foglio1!$C$10 <> \"\", D5 / (D5+Foglio1!$C$10), NA())","v":{"$error":"#N/A"}},{"$f":"IF(D5>Foglio1!$I$7,1,0)","v":0},1.2E-15,{"$f":" IF(Foglio1!$C$11 <> \"\", G5 / (G5+Foglio1!$C$11), NA())","v":{"$error":"#N/A"}},{"$f":"IF(G5>Foglio1!$I$7,1,0)","v":0},1.2E-15,{"$f":" IF(Foglio1!$C$12 <> \"\", J5 / (J5+Foglio1!$C$12), NA())","v":{"$error":"#N/A"}},{"$f":"IF(J5>Foglio1!$I$7,1,0)","v":0},1.2E-15,{"$f":" IF(Foglio1!$C$13 <> \"\", M5 / (M5+Foglio1!$C$13), NA())","v":{"$error":"#N/A"}},{"$f":"IF(M5>Foglio1!$I$7,1,0)","v":0}]
[1.3E-15,{"$f":" IF(Foglio1!$C$9 <> \"\", A6 / (A6+Foglio1!$C$9), NA())","v":{"$error":"#N/A"}},{"$f":"IF(A6>Foglio1!$I$7,1,0)","v":0},1.3E-15,{"$f":" IF(Foglio1!$C$10 <> \"\", D6 / (D6+Foglio1!$C$10), NA())","v":{"$error":"#N/A"}},{"$f":"IF(D6>Foglio1!$I$7,1,0)","v":0},1.3E-15,{"$f":" IF(Foglio1!$C$11 <> \"\", G6 / (G6+Foglio1!$C$11), NA())","v":{"$error":"#N/A"}},{"$f":"IF(G6>Foglio1!$I$7,1,0)","v":0},1.3E-15,{"$f":" IF(Foglio1!$C$12 <> \"\", J6 / (J6+Foglio1!$C$12), NA())","v":{"$error":"#N/A"}},{"$f":"IF(J6>Foglio1!$I$7,1,0)","v":0},1.3E-15,{"$f":" IF(Foglio1!$C$13 <> \"\", M6 / (M6+Foglio1!$C$13), NA())","v":{"$error":"#N/A"}},{"$f":"IF(M6>Foglio1!$I$7,1,0)","v":0}]
[1.4000000000000001E-15,{"$f":" IF(Foglio1!$C$9 <> \"\", A7 / (A7+Foglio1!$C$9), NA())","v":{"$error":"#N/A"}},{"$f":"IF(A7>Foglio1!$I$7,1,0)","v":0},1.4000000000000001E-15,{"$f":" IF(Foglio1!$C$10 <> \"\", D7 / (D7+Foglio1!$C$10), NA())","v":{"$error":"#N/A"}},{"$f":"IF(D7>Foglio1!$I$7,1,0)","v":0},1.4000000000000001E-15,{"$f":" IF(Foglio1!$C$11 <> \"\", G7 / (G7+Foglio1!$C$11), NA())","v":{"$error":"#N/A"}},{"$f":"IF(G7>Foglio1!$I$7,1,0)","v":0},1.4000000000000001E-15,{"$f":" IF(Foglio1!$C$12 <> \"\", J7 / (J7+Foglio1!$C$12), NA())","v":{"$error":"#N/A"}},{"$f":"IF(J7>Foglio1!$I$7,1,0)","v":0},1.4000000000000001E-15,{"$f":" IF(Foglio1!$C$13 <> \"\", M7 / (M7+Foglio1!$C$13), NA())","v":{"$error":"#N/A"}},{"$f":"IF(M7>Foglio1!$I$7,1,0)","v":0}]
[1.4999999999999999E-15,{"$f":" IF(Foglio1!$C$9 <> \"\", A8 / (A8+Foglio1!$C$9), NA())","v":{"$error":"#N/A"}},{"$f":"IF(A8>Foglio1!$I$7,1,0)","v":0},1.4999999999999999E-15,{"$f":" IF(Foglio1!$C$10 <> \"\", D8 / (D8+Foglio1!$C$10), NA())","v":{"$error":"#N/A"}},{"$f":"IF(D8>Foglio1!$I$7,1,0)","v":0},1.4999999999999999E-15,{"$f":" IF(Foglio1!$C$11 <> \"\", G8 / (G8+Foglio1!$C$11), NA())","v":{"$error":"#N/A"}},{"$f":"IF(G8>Foglio1!$I$7,1,0)","v":0},1.4999999999999999E-15,{"$f":" IF(Foglio1!$C$12 <> \"\", J8 / (J8+Foglio1!$C$12), NA())","v":{"$error":"#N/A"}},{"$f":"IF(J8>Foglio1!$I$7,1,0)","v":0},1.4999999999999999E-15,{"$f":" IF(Foglio1!$C$13 <> \"\", M8 / (M8+Foglio1!$C$13), NA())","v":{"$error":"#N/A"}},{"$f":"IF(M8>Foglio1!$I$7,1,0)","v":0}]
[1.6E-15,{"$f":" IF(Foglio1!$C$9 <> \"\", A9 / (A9+Foglio1!$C$9), NA())","v":{"$error":"#N/A"}},{"$f":"IF(A9>Foglio1!$I$7,1,0)","v":0},1.6E-15,{"$f":" IF(Foglio1!$C$10 <> \"\", D9 / (D9+Foglio1!$C$10), NA())","v":{"$error":"#N/A"}},{"$f":"IF(D9>Foglio1!$I$7,1,0)","v":0},1.6E-15,{"$f":" IF(Foglio1!$C$11 <> \"\", G9 / (G9+Foglio1!$C$11), NA())","v":{"$error":"#N/A"}},{"$f":"IF(G9>Foglio1!$I$7,1,0)","v":0},1.6E-15,{"$f":" IF(Foglio1!$C$12 <> \"\", J9 / (J9+Foglio1!$C$12), NA())","v":{"$error":"#N/A"}},{"$f":"IF(J9>Foglio1!$I$7,1,0)","v":0},1.6E-15,{"$f":" IF(Foglio1!$C$13 <> \"\", M9 / (M9+Foglio1!$C$13), NA())","v":{"$error":"#N/A"}},{"$f":"IF(M9>Foglio1!$I$7,1,0)","v":0}]
[1.7E-15,{"$f":" IF(Foglio1!$C$9 <> \"\", A10 / (A10+Foglio1!$C$9), NA())","v":{"$error":"#N/A"}},{"$f":"IF(A10>Foglio1!$I$7,1,0)","v":0},1.7E-15,{"$f":" IF(Foglio1!$C$10 <> \"\", D10 / (D10+Foglio1!$C$10), NA())","v":{"$error":"#N/A"}},{"$f":"IF(D10>Foglio1!$I$7,1,0)","v":0},1.7E-15,{"$f":" IF(Foglio1!$C$11 <> \"\", G10 / (G10+Foglio1!$C$11), NA())","v":{"$error":"#N/A"}},{"$f":"IF(G10>Foglio1!$I$7,1,0)","v":0},1.7E-15,{"$f":" IF(Foglio1!$C$12 <> \"\", J10 / (J10+Foglio1!$C$12), NA())","v":{"$error":"#N/A"}},{"$f":"IF(J10>Foglio1!$I$7,1,0)","v":0},1.7E-15,{"$f":" IF(Foglio1!$C$13 <> \"\", M10 / (M10+Foglio1!$C$13), NA())","v":{"$error":"#N/A"}},{"$f":"IF(M10>Foglio1!$I$7,1,0)","v":0}]
[1.8000000000000001E-15,{"$f":" IF(Foglio1!$C$9 <> \"\", A11 / (A11+Foglio1!$C$9), NA())","v":{"$error":"#N/A"}},{"$f":"IF(A11>Foglio1!$I$7,1,0)","v":0},1.8000000000000001E-15,{"$f":" IF(Foglio1!$C$10 <> \"\", D11 / (D11+Foglio1!$C$10), NA())","v":{"$error":"#N/A"}},{"$f":"IF(D11>Foglio1!$I$7,1,0)","v":0},1.8000000000000001E-15,{"$f":" IF(Foglio1!$C$11 <> \"\", G11 / (G11+Foglio1!$C$11), NA())","v":{"$error":"#N/A"}},{"$f":"IF(G11>Foglio1!$I$7,1,0)","v":0},1.8000000000000001E-15,{"$f":" IF(Foglio1!$C$12 <> \"\", J11 / (J11+Foglio1!$C$12), NA())","v":{"$error":"#N/A"}},{"$f":"IF(J11>Foglio1!$I$7,1,0)","v":0},1.8000000000000001E-15,{"$f":" IF(Foglio1!$C$13 <> \"\", M11 / (M11+Foglio1!$C$13), NA())","v":{"$error":"#N/A"}},{"$f":"IF(M11>Foglio1!$I$7,1,0)","v":0}]
[1.9000000000000001E-15,{"$f":" IF(Foglio1!$C$9 <> \"\", A12 / (A12+Foglio1!$C$9), NA())","v":{"$error":"#N/A"}},{"$f":"IF(A12>Foglio1!$I$7,1,0)","v":0},1.9000000000000001E-15,{"$f":" IF(Foglio1!$C$10 <> \"\", D12 / (D12+Foglio1!$C$10), NA())","v":{"$error":"#N/A"}},{"$f":"IF(D12>Foglio1!$I$7,1,0)","v":0},1.9000000000000001E-15,{"$f":" IF(Foglio1!$C$11 <> \"\", G12 / (G12+Foglio1!$C$11), NA())","v":{"$error":"#N/A"}},{"$f":"IF(G12>Foglio1!$I$7,1,0)","v":0},1.9000000000000001E-15,{"$f":" IF(Foglio1!$C$12 <> \"\", J12 / (J12+Foglio1!$C$12), NA())","v":{"$error":"#N/A"}},{"$f":"IF(J12>Foglio1!$I$7,1,0)","v":0},1.9000000000000001E-15,{"$f":" IF(Foglio1!$C$13 <> \"\", M12 / (M12+Foglio1!$C$13), NA())","v":{"$error":"#N/A"}},{"$f":"IF(M12>Foglio1!$I$7,1,0)","v":0}]
[2.0000000000000002E-15,{"$f":" IF(Foglio1!$C$9 <> \"\", A13 / (A13+Foglio1!$C$9), NA())","v":{"$error":"#N/A"}},{"$f":"IF(A13>Foglio1!$I$7,1,0)","v":0},2.0000000000000002E-15,{"$f":" IF(Foglio1!$C$10 <> \"\", D13 / (D13+Foglio1!$C$10), NA())","v":{"$error":"#N/A"}},{"$f":"IF(D13>Foglio1!$I$7,1,0)","v":0},2.0000000000000002E-15,{"$f":" IF(Foglio1!$C$11 <> \"\", G13 / (G13+Foglio1!$C$11), NA())","v":{"$error":"#N/A"}},{"$f":"IF(G13>Foglio1!$I$7,1,0)","v":0},2.0000000000000002E-15,{"$f":" IF(Foglio1!$C$12 <> \"\", J13 / (J13+Foglio1!$C$12), NA())","v":{"$error":"#N/A"}},{"$f":"IF(J13>Foglio1!$I$7,1,0)","v":0},2.0000000000000002E-15,{"$f":" IF(Foglio1!$C$13 <> \"\", M13 / (M13+Foglio1!$C$13), NA())","v":{"$error":"#N/A"}},{"$f":"IF(M13>Foglio1!$I$7,1,0)","v":0}]
[2.0999999999999998E-15,{"$f":" IF(Foglio1!$C$9 <> \"\", A14 / (A14+Foglio1!$C$9), NA())","v":{"$error":"#N/A"}},{"$f":"IF(A14>Foglio1!$I$7,1,0)","v":0},2.0999999999999998E-15,{"$f":" IF(Foglio1!$C$10 <> \"\", D14 / (D14+Foglio1!$C$10), NA())","v":{"$error":"#N/A"}},{"$f":"IF(D14>Foglio1!$I$7,1,0)","v":0},2.0999999999999998E-15,{"$f":" IF(Foglio1!$C$11 <> \"\", G14 / (G14+Foglio1!$C$11), NA())","v":{"$error":"#N/A"}},{"$f":"IF(G14>Foglio1!$I$7,1,0)","v":0},2.0999999999999998E-15,{"$f":" IF(Foglio1!$C$12 <> \"\", J14 / (J14+Foglio1!$C$12), NA())","v":{"$error":"#N/A"}},{"$f":"IF(J14>Foglio1!$I$7,1,0)","v":0},2.0999999999999998E-15,{"$f":" IF(Foglio1!$C$13 <> \"\", M14 / (M14+Foglio1!$C$13), NA())","v":{"$error":"#N/A"}},{"$f":"IF(M14>Foglio1!$I$7,1,0)","v":0}]
[2.1999999999999999E-15,{"$f":" IF(Foglio1!$C$9 <> \"\", A15 / (A15+Foglio1!$C$9), NA())","v":{"$error":"#N/A"}},{"$f":"IF(A15>Foglio1!$I$7,1,0)","v":0},2.1999999999999999E-15,{"$f":" IF(Foglio1!$C$10 <> \"\", D15 / (D15+Foglio1!$C$10), NA())","v":{"$error":"#N/A"}},{"$f":"IF(D15>Foglio1!$I$7,1,0)","v":0},2.1999999999999999E-15,{"$f":" IF(Foglio1!$C$11 <> \"\", G15 / (G15+Foglio1!$C$11), NA())","v":{"$error":"#N/A"}},{"$f":"IF(G15>Foglio1!$I$7,1,0)","v":0},2.1999999999999999E-15,{"$f":" IF(Foglio1!$C$12 <> \"\", J15 / (J15+Foglio1!$C$12), NA())","v":{"$error":"#N/A"}},{"$f":"IF(J15>Foglio1!$I$7,1,0)","v":0},2.1999999999999999E-15,{"$f":" IF(Foglio1!$C$13 <> \"\", M15 / (M15+Foglio1!$C$13), NA())","v":{"$error":"#N/A"}},{"$f":"IF(M15>Foglio1!$I$7,1,0)","v":0}]
[2.2999999999999999E-15,{"$f":" IF(Foglio1!$C$9 <> \"\", A16 / (A16+Foglio1!$C$9), NA())","v":{"$error":"#N/A"}},{"$f":"IF(A16>Foglio1!$I$7,1,0)","v":0},2.2999999999999999E-15,{"$f":" IF(Foglio1!$C$10 <> \"\", D16 / (D16+Foglio1!$C$10), NA())","v":{"$error":"#N/A"}},{"$f":"IF(D16>Foglio1!$I$7,1,0)","v":0},2.2999999999999999E-15,{"$f":" IF(Foglio1!$C$11 <> \"\", G16 / (G16+Foglio1!$C$11), NA())","v":{"$error":"#N/A"}},{"$f":"IF(G16>Foglio1!$I$7,1,0)","v":0},2.2999999999999999E-15,{"$f":" IF(Foglio1!$C$12 <> \"\", J16 / (J16+Foglio1!$C$12), NA())","v":{"$error":"#N/A"}},{"$f":"IF(J16>Foglio1!$I$7,1,0)","v":0},2.2999999999999999E-15,{"$f":" IF(Foglio1!$C$13 <> \"\", M16 / (M16+Foglio1!$C$13), NA())","v":{"$error":"#N/A"}},{"$f":"IF(M16>Foglio1!$I$7,1,0)","v":0}]
[2.3999999999999999E-15,{"$f":" IF(Foglio1!$C$9 <> \"\", A17 / (A17+Foglio1!$C$9), NA())","v":{"$error":"#N/A"}},{"$f":"IF(A17>Foglio1!$I$7,1,0)","v":0},2.3999999999999999E-15,{"$f":" IF(Foglio1!$C$10 <> \"\", D17 / (D17+Foglio1!$C$10), NA())","v":{"$error":"#N/A"}},{"$f":"IF(D17>Foglio1!$I$7,1,0)","v":0},2.3999999999999999E-15,{"$f":" IF(Foglio1!$C$11 <> \"\", G17 / (G17+Foglio1!$C$11), NA())","v":{"$error":"#N/A"}},{"$f":"IF(G17>Foglio1!$I$7,1,0)","v":0},2.3999999999999999E-15,{"$f":" IF(Foglio1!$C$12 <> \"\", J17 / (J17+Foglio1!$C$12), NA())","v":{"$error":"#N/A"}},{"$f":"IF(J17>Foglio1!$I$7,1,0)","v":0},2.3999999999999999E-15,{"$f":" IF(Foglio1!$C$13 <> \"\", M17 / (M17+Foglio1!$C$13), NA())","v":{"$error":"#N/A"}},{"$f":"IF(M17>Foglio1!$I$7,1,0)","v":0}]
[2.5E-15,{"$f":" IF(Foglio1!$C$9 <> \"\", A18 / (A18+Foglio1!$C$9), NA())","v":{"$error":"#N/A"}},{"$f":"IF(A18>Foglio1!$I$7,1,0)","v":0},2.5E-15,{"$f":" IF(Foglio1!$C$10 <> \"\", D18 / (D18+Foglio1!$C$10), NA())","v":{"$error":"#N/A"}},{"$f":"IF(D18>Foglio1!$I$7,1,0)","v":0},2.5E-15,{"$f":" IF(Foglio1!$C$11 <> \"\", G18 / (G18+Foglio1!$C$11), NA())","v":{"$error":"#N/A"}},{"$f":"IF(G18>Foglio1!$I$7,1,0)","v":0},2.5E-15,{"$f":" IF(Foglio1!$C$12 <> \"\", J18 / (J18+Foglio1!$C$12), NA())","v":{"$error":"#N/A"}},{"$f":"IF(J18>Foglio1!$I$7,1,0)","v":0},2.5E-15,{"$f":" IF(Foglio1!$C$13 <> \"\", M18 / (M18+Foglio1!$C$13), NA())","v":{"$error":"#N/A"}},{"$f":"IF(M18>Foglio1!$I$7,1,0)","v":0}]
[2.6E-15,{"$f":" IF(Foglio1!$C$9 <> \"\", A19 / (A19+Foglio1!$C$9), NA())","v":{"$error":"#N/A"}},{"$f":"IF(A19>Foglio1!$I$7,1,0)","v":0},2.6E-15,{"$f":" IF(Foglio1!$C$10 <> \"\", D19 / (D19+Foglio1!$C$10), NA())","v":{"$error":"#N/A"}},{"$f":"IF(D19>Foglio1!$I$7,1,0)","v":0},2.6E-15,{"$f":" IF(Foglio1!$C$11 <> \"\", G19 / (G19+Foglio1!$C$11), NA())","v":{"$error":"#N/A"}},{"$f":"IF(G19>Foglio1!$I$7,1,0)","v":0},2.6E-15,{"$f":" IF(Foglio1!$C$12 <> \"\", J19 / (J19+Foglio1!$C$12), NA())","v":{"$error":"#N/A"}},{"$f":"IF(J19>Foglio1!$I$7,1,0)","v":0},2.6E-15,{"$f":" IF(Foglio1!$C$13 <> \"\", M19 / (M19+Foglio1!$C$13), NA())","v":{"$error":"#N/A"}},{"$f":"IF(M19>Foglio1!$I$7,1,0)","v":0}]
[2.7000000000000001E-15,{"$f":" IF(Foglio1!$C$9 <> \"\", A20 / (A20+Foglio1!$C$9), NA())","v":{"$error":"#N/A"}},{"$f":"IF(A20>Foglio1!$I$7,1,0)","v":0},2.7000000000000001E-15,{"$f":" IF(Foglio1!$C$10 <> \"\", D20 / (D20+Foglio1!$C$10), NA())","v":{"$error":"#N/A"}},{"$f":"IF(D20>Foglio1!$I$7,1,0)","v":0},2.7000000000000001E-15,{"$f":" IF(Foglio1!$C$11 <> \"\", G20 / (G20+Foglio1!$C$11), NA())","v":{"$error":"#N/A"}},{"$f":"IF(G20>Foglio1!$I$7,1,0)","v":0},2.7000000000000001E-15,{"$f":" IF(Foglio1!$C$12 <> \"\", J20 / (J20+Foglio1!$C$12), NA())","v":{"$error":"#N/A"}},{"$f":"IF(J20>Foglio1!$I$7,1,0)","v":0},2.7000000000000001E-15,{"$f":" IF(Foglio1!$C$13 <> \"\", M20 / (M20+Foglio1!$C$13), NA())","v":{"$error":"#N/A"}},{"$f":"IF(M20>Foglio1!$I$7,1,0)","v":0}]
[2.8000000000000001E-15,{"$f":" IF(Foglio1!$C$9 <> \"\", A21 / (A21+Foglio1!$C$9), NA())","v":{"$error":"#N/A"}},{"$f":"IF(A21>Foglio1!$I$7,1,0)","v":0},2.8000000000000001E-15,{"$f":" IF(Foglio1!$C$10 <> \"\", D21 / (D21+Foglio1!$C$10), NA())","v":{"$error":"#N/A"}},{"$f":"IF(D21>Foglio1!$I$7,1,0)","v":0},2.8000000000000001E-15,{"$f":" IF(Foglio1!$C$11 <> \"\", G21 / (G21+Foglio1!$C$11), NA())","v":{"$error":"#N/A"}},{"$f":"IF(G21>Foglio1!$I$7,1,0)","v":0},2.8000000000000001E-15,{"$f":" IF(Foglio1!$C$12 <> \"\", J21 / (J21+Foglio1!$C$12), NA())","v":{"$error":"#N/A"}},{"$f":"IF(J21>Foglio1!$I$7,1,0)","v":0},2.8000000000000001E-15,{"$f":" IF(Foglio1!$C$13 <> \"\", M21 / (M21+Foglio1!$C$13), NA())","v":{"$error":"#N/A"}},{"$f":"IF(M21>Foglio1!$I$7,1,0)","v":0}]
[2.9000000000000002E-15,{"$f":" IF(Foglio1!$C$9 <> \"\", A22 / (A22+Foglio1!$C$9), NA())","v":{"$error":"#N/A"}},{"$f":"IF(A22>Foglio1!$I$7,1,0)","v":0},2.9000000000000002E-15,{"$f":" IF(Foglio1!$C$10 <> \"\", D22 / (D22+Foglio1!$C$10), NA())","v":{"$error":"#N/A"}},{"$f":"IF(D22>Foglio1!$I$7,1,0)","v":0},2.9000000000000002E-15,{"$f":" IF(Foglio1!$C$11 <> \"\", G22 / (G22+Foglio1!$C$11), NA())","v":{"$error":"#N/A"}},{"$f":"IF(G22>Foglio1!$I$7,1,0)","v":0},2.9000000000000002E-15,{"$f":" IF(Foglio1!$C$12 <> \"\", J22 / (J22+Foglio1!$C$12), NA())","v":{"$error":"#N/A"}},{"$f":"IF(J22>Foglio1!$I$7,1,0)","v":0},2.9000000000000002E-15,{"$f":" IF(Foglio1!$C$13 <> \"\", M22 / (M22+Foglio1!$C$13), NA())","v":{"$error":"#N/A"}},{"$f":"IF(M22>Foglio1!$I$7,1,0)","v":0}]
[2.9999999999999998E-15,{"$f":" IF(Foglio1!$C$9 <> \"\", A23 / (A23+Foglio1!$C$9), NA())","v":{"$error":"#N/A"}},{"$f":"IF(A23>Foglio1!$I$7,1,0)","v":0},2.9999999999999998E-15,{"$f":" IF(Foglio1!$C$10 <> \"\", D23 / (D23+Foglio1!$C$10), NA())","v":{"$error":"#N/A"}},{"$f":"IF(D23>Foglio1!$I$7,1,0)","v":0},2.9999999999999998E-15,{"$f":" IF(Foglio1!$C$11 <> \"\", G23 / (G23+Foglio1!$C$11), NA())","v":{"$error":"#N/A"}},{"$f":"IF(G23>Foglio1!$I$7,1,0)","v":0},2.9999999999999998E-15,{"$f":" IF(Foglio1!$C$12 <> \"\", J23 / (J23+Foglio1!$C$12), NA())","v":{"$error":"#N/A"}},{"$f":"IF(J23>Foglio1!$I$7,1,0)","v":0},2.9999999999999998E-15,{"$f":" IF(Foglio1!$C$13 <> \"\", M23 / (M23+Foglio1!$C$13), NA())","v":{"$error":"#N/A"}},{"$f":"IF(M23>Foglio1!$I$7,1,0)","v":0}]
[3.0999999999999999E-15,{"$f":" IF(Foglio1!$C$9 <> \"\", A24 / (A24+Foglio1!$C$9), NA())","v":{"$error":"#N/A"}},{"$f":"IF(A24>Foglio1!$I$7,1,0)","v":0},3.0999999999999999E-15,{"$f":" IF(Foglio1!$C$10 <> \"\", D24 / (D24+Foglio1!$C$10), NA())","v":{"$error":"#N/A"}},{"$f":"IF(D24>Foglio1!$I$7,1,0)","v":0},3.0999999999999999E-15,{"$f":" IF(Foglio1!$C$11 <> \"\", G24 / (G24+Foglio1!$C$11), NA())","v":{"$error":"#N/A"}},{"$f":"IF(G24>Foglio1!$I$7,1,0)","v":0},3.0999999999999999E-15,{"$f":" IF(Foglio1!$C$12 <> \"\", J24 / (J24+Foglio1!$C$12), NA())","v":{"$error":"#N/A"}},{"$f":"IF(J24>Foglio1!$I$7,1,0)","v":0},3.0999999999999999E-15,{"$f":" IF(Foglio1!$C$13 <> \"\", M24 / (M24+Foglio1!$C$13), NA())","v":{"$error":"#N/A"}},{"$f":"IF(M24>Foglio1!$I$7,1,0)","v":0}]
[3.1999999999999999E-15,{"$f":" IF(Foglio1!$C$9 <> \"\", A25 / (A25+Foglio1!$C$9), NA())","v":{"$error":"#N/A"}},{"$f":"IF(A25>Foglio1!$I$7,1,0)","v":0},3.1999999999999999E-15,{"$f":" IF(Foglio1!$C$10 <> \"\", D25 / (D25+Foglio1!$C$10), NA())","v":{"$error":"#N/A"}},{"$f":"IF(D25>Foglio1!$I$7,1,0)","v":0},3.1999999999999999E-15,{"$f":" IF(Foglio1!$C$11 <> \"\", G25 / (G25+Foglio1!$C$11), NA())","v":{"$error":"#N/A"}},{"$f":"IF(G25>Foglio1!$I$7,1,0)","v":0},3.1999999999999999E-15,{"$f":" IF(Foglio1!$C$12 <> \"\", J25 / (J25+Foglio1!$C$12), NA())","v":{"$error":"#N/A"}},{"$f":"IF(J25>Foglio1!$I$7,1,0)","v":0},3.1999999999999999E-15,{"$f":" IF(Foglio1!$C$13 <> \"\", M25 / (M25+Foglio1!$C$13), NA())","v":{"$error":"#N/A"}},{"$f":"IF(M25>Foglio1!$I$7,1,0)","v":0}]
[3.3E-15,{"$f":" IF(Foglio1!$C$9 <> \"\", A26 / (A26+Foglio1!$C$9), NA())","v":{"$error":"#N/A"}},{"$f":"IF(A26>Foglio1!$I$7,1,0)","v":0},3.3E-15,{"$f":" IF(Foglio1!$C$10 <> \"\", D26 / (D26+Foglio1!$C$10), NA())","v":{"$error":"#N/A"}},{"$f":"IF(D26>Foglio1!$I$7,1,0)","v":0},3.3E-15,{"$f":" IF(Foglio1!$C$11 <> \"\", G26 / (G26+Foglio1!$C$11), NA())","v":{"$error":"#N/A"}},{"$f":"IF(G26>Foglio1!$I$7,1,0)","v":0},3.3E-15,{"$f":" IF(Foglio1!$C$12 <> \"\", J26 / (J26+Foglio1!$C$12), NA())","v":{"$error":"#N/A"}},{"$f":"IF(J26>Foglio1!$I$7,1,0)","v":0},3.3E-15,{"$f":" IF(Foglio1!$C$13 <> \"\", M26 / (M26+Foglio1!$C$13), NA())","v":{"$error":"#N/A"}},{"$f":"IF(M26>Foglio1!$I$7,1,0)","v":0}]
[3.4E-15,{"$f":" IF(Foglio1!$C$9 <> \"\", A27 / (A27+Foglio1!$C$9), NA())","v":{"$error":"#N/A"}},{"$f":"IF(A27>Foglio1!$I$7,1,0)","v":0},3.4E-15,{"$f":" IF(Foglio1!$C$10 <> \"\", D27 / (D27+Foglio1!$C$10), NA())","v":{"$error":"#N/A"}},{"$f":"IF(D27>Foglio1!$I$7,1,0)","v":0},3.4E-15,{"$f":" IF(Foglio1!$C$11 <> \"\", G27 / (G27+Foglio1!$C$11), NA())","v":{"$error":"#N/A"}},{"$f":"IF(G27>Foglio1!$I$7,1,0)","v":0},3.4E-15,{"$f":" IF(Foglio1!$C$12 <> \"\", J27 / (J27+Foglio1!$C$12), NA())","v":{"$error":"#N/A"}},{"$f":"IF(J27>Foglio1!$I$7,1,0)","v":0},3.4E-15,{"$f":" IF(Foglio1!$C$13 <> \"\", M27 / (M27+Foglio1!$C$13), NA())","v":{"$error":"#N/A"}},{"$f":"IF(M27>Foglio1!$I$7,1,0)","v":0}]
[3.5000000000000001E-15,{"$f":" IF(Foglio1!$C$9 <> \"\", A28 / (A28+Foglio1!$C$9), NA())","v":{"$error":"#N/A"}},{"$f":"IF(A28>Foglio1!$I$7,1,0)","v":0},3.5000000000000001E-15,{"$f":" IF(Foglio1!$C$10 <> \"\", D28 / (D28+Foglio1!$C$10), NA())","v":{"$error":"#N/A"}},{"$f":"IF(D28>Foglio1!$I$7,1,0)","v":0},3.5000000000000001E-15,{"$f":" IF(Foglio1!$C$11 <> \"\", G28 / (G28+Foglio1!$C$11), NA())","v":{"$error":"#N/A"}},{"$f":"IF(G28>Foglio1!$I$7,1,0)","v":0},3.5000000000000001E-15,{"$f":" IF(Foglio1!$C$12 <> \"\", J28 / (J28+Foglio1!$C$12), NA())","v":{"$error":"#N/A"}},{"$f":"IF(J28>Foglio1!$I$7,1,0)","v":0},3.5000000000000001E-15,{"$f":" IF(Foglio1!$C$13 <> \"\", M28 / (M28+Foglio1!$C$13), NA())","v":{"$error":"#N/A"}},{"$f":"IF(M28>Foglio1!$I$7,1,0)","v":0}]
[3.6000000000000001E-15,{"$f":" IF(Foglio1!$C$9 <> \"\", A29 / (A29+Foglio1!$C$9), NA())","v":{"$error":"#N/A"}},{"$f":"IF(A29>Foglio1!$I$7,1,0)","v":0},3.6000000000000001E-15,{"$f":" IF(Foglio1!$C$10 <> \"\", D29 / (D29+Foglio1!$C$10), NA())","v":{"$error":"#N/A"}},{"$f":"IF(D29>Foglio1!$I$7,1,0)","v":0},3.6000000000000001E-15,{"$f":" IF(Foglio1!$C$11 <> \"\", G29 / (G29+Foglio1!$C$11), NA())","v":{"$error":"#N/A"}},{"$f":"IF(G29>Foglio1!$I$7,1,0)","v":0},3.6000000000000001E-15,{"$f":" IF(Foglio1!$C$12 <> \"\", J29 / (J29+Foglio1!$C$12), NA())","v":{"$error":"#N/A"}},{"$f":"IF(J29>Foglio1!$I$7,1,0)","v":0},3.6000000000000001E-15,{"$f":" IF(Foglio1!$C$13 <> \"\", M29 / (M29+Foglio1!$C$13), NA())","v":{"$error":"#N/A"}},{"$f":"IF(M29>Foglio1!$I$7,1,0)","v":0}]
[3.7000000000000002E-15,{"$f":" IF(Foglio1!$C$9 <> \"\", A30 / (A30+Foglio1!$C$9), NA())","v":{"$error":"#N/A"}},{"$f":"IF(A30>Foglio1!$I$7,1,0)","v":0},3.7000000000000002E-15,{"$f":" IF(Foglio1!$C$10 <> \"\", D30 / (D30+Foglio1!$C$10), NA())","v":{"$error":"#N/A"}},{"$f":"IF(D30>Foglio1!$I$7,1,0)","v":0},3.7000000000000002E-15,{"$f":" IF(Foglio1!$C$11 <> \"\", G30 / (G30+Foglio1!$C$11), NA())","v":{"$error":"#N/A"}},{"$f":"IF(G30>Foglio1!$I$7,1,0)","v":0},3.7000000000000002E-15,{"$f":" IF(Foglio1!$C$12 <> \"\", J30 / (J30+Foglio1!$C$12), NA())","v":{"$error":"#N/A"}},{"$f":"IF(J30>Foglio1!$I$7,1,0)","v":0},3.7000000000000002E-15,{"$f":" IF(Foglio1!$C$13 <> \"\", M30 / (M30+Foglio1!$C$13), NA())","v":{"$error":"#N/A"}},{"$f":"IF(M30>Foglio1!$I$7,1,0)","v":0}]
[3.8000000000000002E-15,{"$f":" IF(Foglio1!$C$9 <> \"\", A31 / (A31+Foglio1!$C$9), NA())","v":{"$error":"#N/A"}},{"$f":"IF(A31>Foglio1!$I$7,1,0)","v":0},3.8000000000000002E-15,{"$f":" IF(Foglio1!$C$10 <> \"\", D31 / (D31+Foglio1!$C$10), NA())","v":{"$error":"#N/A"}},{"$f":"IF(D31>Foglio1!$I$7,1,0)","v":0},3.8000000000000002E-15,{"$f":" IF(Foglio1!$C$11 <> \"\", G31 / (G31+Foglio1!$C$11), NA())","v":{"$error":"#N/A"}},{"$f":"IF(G31>Foglio1!$I$7,1,0)","v":0},3.8000000000000002E-15,{"$f":" IF(Foglio1!$C$12 <> \"\", J31 / (J31+Foglio1!$C$12), NA())","v":{"$error":"#N/A"}},{"$f":"IF(J31>Foglio1!$I$7,1,0)","v":0},3.8000000000000002E-15,{"$f":" IF(Foglio1!$C$13 <> \"\", M31 / (M31+Foglio1!$C$13), NA())","v":{"$error":"#N/A"}},{"$f":"IF(M31>Foglio1!$I$7,1,0)","v":0}]
[3.9000000000000003E-15,{"$f":" IF(Foglio1!$C$9 <> \"\", A32 / (A32+Foglio1!$C$9), NA())","v":{"$error":"#N/A"}},{"$f":"IF(A32>Foglio1!$I$7,1,0)","v":0},3.9000000000000003E-15,{"$f":" IF(Foglio1!$C$10 <> \"\", D32 / (D32+Foglio1!$C$10), NA())","v":{"$error":"#N/A"}},{"$f":"IF(D32>Foglio1!$I$7,1,0)","v":0},3.9000000000000003E-15,{"$f":" IF(Foglio1!$C$11 <> \"\", G32 / (G32+Foglio1!$C$11), NA())","v":{"$error":"#N/A"}},{"$f":"IF(G32>Foglio1!$I$7,1,0)","v":0},3.9000000000000003E-15,{"$f":" IF(Foglio1!$C$12 <> \"\", J32 / (J32+Foglio1!$C$12), NA())","v":{"$error":"#N/A"}},{"$f":"IF(J32>Foglio1!$I$7,1,0)","v":0},3.9000000000000003E-15,{"$f":" IF(Foglio1!$C$13 <> \"\", M32 / (M32+Foglio1!$C$13), NA())","v":{"$error":"#N/A"}},{"$f":"IF(M32>Foglio1!$I$7,1,0)","v":0}]
[4.0000000000000003E-15,{"$f":" IF(Foglio1!$C$9 <> \"\", A33 / (A33+Foglio1!$C$9), NA())","v":{"$error":"#N/A"}},{"$f":"IF(A33>Foglio1!$I$7,1,0)","v":0},4.0000000000000003E-15,{"$f":" IF(Foglio1!$C$10 <> \"\", D33 / (D33+Foglio1!$C$10), NA())","v":{"$error":"#N/A"}},{"$f":"IF(D33>Foglio1!$I$7,1,0)","v":0},4.0000000000000003E-15,{"$f":" IF(Foglio1!$C$11 <> \"\", G33 / (G33+Foglio1!$C$11), NA())","v":{"$error":"#N/A"}},{"$f":"IF(G33>Foglio1!$I$7,1,0)","v":0},4.0000000000000003E-15,{"$f":" IF(Foglio1!$C$12 <> \"\", J33 / (J33+Foglio1!$C$12), NA())","v":{"$error":"#N/A"}},{"$f":"IF(J33>Foglio1!$I$7,1,0)","v":0},4.0000000000000003E-15,{"$f":" IF(Foglio1!$C$13 <> \"\", M33 / (M33+Foglio1!$C$13), NA())","v":{"$error":"#N/A"}},{"$f":"IF(M33>Foglio1!$I$7,1,0)","v":0}]
[4.1000000000000004E-15,{"$f":" IF(Foglio1!$C$9 <> \"\", A34 / (A34+Foglio1!$C$9), NA())","v":{"$error":"#N/A"}},{"$f":"IF(A34>Foglio1!$I$7,1,0)","v":0},4.1000000000000004E-15,{"$f":" IF(Foglio1!$C$10 <> \"\", D34 / (D34+Foglio1!$C$10), NA())","v":{"$error":"#N/A"}},{"$f":"IF(D34>Foglio1!$I$7,1,0)","v":0},4.1000000000000004E-15,{"$f":" IF(Foglio1!$C$11 <> \"\", G34 / (G34+Foglio1!$C$11), NA())","v":{"$error":"#N/A"}},{"$f":"IF(G34>Foglio1!$I$7,1,0)","v":0},4.1000000000000004E-15,{"$f":" IF(Foglio1!$C$12 <> \"\", J34 / (J34+Foglio1!$C$12), NA())","v":{"$error":"#N/A"}},{"$f":"IF(J34>Foglio1!$I$7,1,0)","v":0},4.1000000000000004E-15,{"$f":" IF(Foglio1!$C$13 <> \"\", M34 / (M34+Foglio1!$C$13), NA())","v":{"$error":"#N/A"}},{"$f":"IF(M34>Foglio1!$I$7,1,0)","v":0}]
[4.1999999999999996E-15,{"$f":" IF(Foglio1!$C$9 <> \"\", A35 / (A35+Foglio1!$C$9), NA())","v":{"$error":"#N/A"}},{"$f":"IF(A35>Foglio1!$I$7,1,0)","v":0},4.1999999999999996E-15,{"$f":" IF(Foglio1!$C$10 <> \"\", D35 / (D35+Foglio1!$C$10), NA())","v":{"$error":"#N/A"}},{"$f":"IF(D35>Foglio1!$I$7,1,0)","v":0},4.1999999999999996E-15,{"$f":" IF(Foglio1!$C$11 <> \"\", G35 / (G35+Foglio1!$C$11), NA())","v":{"$error":"#N/A"}},{"$f":"IF(G35>Foglio1!$I$7,1,0)","v":0},4.1999999999999996E-15,{"$f":" IF(Foglio1!$C$12 <> \"\", J35 / (J35+Foglio1!$C$12), NA())","v":{"$error":"#N/A"}},{"$f":"IF(J35>Foglio1!$I$7,1,0)","v":0},4.1999999999999996E-15,{"$f":" IF(Foglio1!$C$13 <> \"\", M35 / (M35+Foglio1!$C$13), NA())","v":{"$error":"#N/A"}},{"$f":"IF(M35>Foglio1!$I$7,1,0)","v":0}]
[4.2999999999999997E-15,{"$f":" IF(Foglio1!$C$9 <> \"\", A36 / (A36+Foglio1!$C$9), NA())","v":{"$error":"#N/A"}},{"$f":"IF(A36>Foglio1!$I$7,1,0)","v":0},4.2999999999999997E-15,{"$f":" IF(Foglio1!$C$10 <> \"\", D36 / (D36+Foglio1!$C$10), NA())","v":{"$error":"#N/A"}},{"$f":"IF(D36>Foglio1!$I$7,1,0)","v":0},4.2999999999999997E-15,{"$f":" IF(Foglio1!$C$11 <> \"\", G36 / (G36+Foglio1!$C$11), NA())","v":{"$error":"#N/A"}},{"$f":"IF(G36>Foglio1!$I$7,1,0)","v":0},4.2999999999999997E-15,{"$f":" IF(Foglio1!$C$12 <> \"\", J36 / (J36+Foglio1!$C$12), NA())","v":{"$error":"#N/A"}},{"$f":"IF(J36>Foglio1!$I$7,1,0)","v":0},4.2999999999999997E-15,{"$f":" IF(Foglio1!$C$13 <> \"\", M36 / (M36+Foglio1!$C$13), NA())","v":{"$error":"#N/A"}},{"$f":"IF(M36>Foglio1!$I$7,1,0)","v":0}]
[4.3999999999999997E-15,{"$f":" IF(Foglio1!$C$9 <> \"\", A37 / (A37+Foglio1!$C$9), NA())","v":{"$error":"#N/A"}},{"$f":"IF(A37>Foglio1!$I$7,1,0)","v":0},4.3999999999999997E-15,{"$f":" IF(Foglio1!$C$10 <> \"\", D37 / (D37+Foglio1!$C$10), NA())","v":{"$error":"#N/A"}},{"$f":"IF(D37>Foglio1!$I$7,1,0)","v":0},4.3999999999999997E-15,{"$f":" IF(Foglio1!$C$11 <> \"\", G37 / (G37+Foglio1!$C$11), NA())","v":{"$error":"#N/A"}},{"$f":"IF(G37>Foglio1!$I$7,1,0)","v":0},4.3999999999999997E-15,{"$f":" IF(Foglio1!$C$12 <> \"\", J37 / (J37+Foglio1!$C$12), NA())","v":{"$error":"#N/A"}},{"$f":"IF(J37>Foglio1!$I$7,1,0)","v":0},4.3999999999999997E-15,{"$f":" IF(Foglio1!$C$13 <> \"\", M37 / (M37+Foglio1!$C$13), NA())","v":{"$error":"#N/A"}},{"$f":"IF(M37>Foglio1!$I$7,1,0)","v":0}]
[4.4999999999999998E-15,{"$f":" IF(Foglio1!$C$9 <> \"\", A38 / (A38+Foglio1!$C$9), NA())","v":{"$error":"#N/A"}},{"$f":"IF(A38>Foglio1!$I$7,1,0)","v":0},4.4999999999999998E-15,{"$f":" IF(Foglio1!$C$10 <> \"\", D38 / (D38+Foglio1!$C$10), NA())","v":{"$error":"#N/A"}},{"$f":"IF(D38>Foglio1!$I$7,1,0)","v":0},4.4999999999999998E-15,{"$f":" IF(Foglio1!$C$11 <> \"\", G38 / (G38+Foglio1!$C$11), NA())","v":{"$error":"#N/A"}},{"$f":"IF(G38>Foglio1!$I$7,1,0)","v":0},4.4999999999999998E-15,{"$f":" IF(Foglio1!$C$12 <> \"\", J38 / (J38+Foglio1!$C$12), NA())","v":{"$error":"#N/A"}},{"$f":"IF(J38>Foglio1!$I$7,1,0)","v":0},4.4999999999999998E-15,{"$f":" IF(Foglio1!$C$13 <> \"\", M38 / (M38+Foglio1!$C$13), NA())","v":{"$error":"#N/A"}},{"$f":"IF(M38>Foglio1!$I$7,1,0)","v":0}]
[4.5999999999999998E-15,{"$f":" IF(Foglio1!$C$9 <> \"\", A39 / (A39+Foglio1!$C$9), NA())","v":{"$error":"#N/A"}},{"$f":"IF(A39>Foglio1!$I$7,1,0)","v":0},4.5999999999999998E-15,{"$f":" IF(Foglio1!$C$10 <> \"\", D39 / (D39+Foglio1!$C$10), NA())","v":{"$error":"#N/A"}},{"$f":"IF(D39>Foglio1!$I$7,1,0)","v":0},4.5999999999999998E-15,{"$f":" IF(Foglio1!$C$11 <> \"\", G39 / (G39+Foglio1!$C$11), NA())","v":{"$error":"#N/A"}},{"$f":"IF(G39>Foglio1!$I$7,1,0)","v":0},4.5999999999999998E-15,{"$f":" IF(Foglio1!$C$12 <> \"\", J39 / (J39+Foglio1!$C$12), NA())","v":{"$error":"#N/A"}},{"$f":"IF(J39>Foglio1!$I$7,1,0)","v":0},4.5999999999999998E-15,{"$f":" IF(Foglio1!$C$13 <> \"\", M39 / (M39+Foglio1!$C$13), NA())","v":{"$error":"#N/A"}},{"$f":"IF(M39>Foglio1!$I$7,1,0)","v":0}]
[4.6999999999999999E-15,{"$f":" IF(Foglio1!$C$9 <> \"\", A40 / (A40+Foglio1!$C$9), NA())","v":{"$error":"#N/A"}},{"$f":"IF(A40>Foglio1!$I$7,1,0)","v":0},4.6999999999999999E-15,{"$f":" IF(Foglio1!$C$10 <> \"\", D40 / (D40+Foglio1!$C$10), NA())","v":{"$error":"#N/A"}},{"$f":"IF(D40>Foglio1!$I$7,1,0)","v":0},4.6999999999999999E-15,{"$f":" IF(Foglio1!$C$11 <> \"\", G40 / (G40+Foglio1!$C$11), NA())","v":{"$error":"#N/A"}},{"$f":"IF(G40>Foglio1!$I$7,1,0)","v":0},4.6999999999999999E-15,{"$f":" IF(Foglio1!$C$12 <> \"\", J40 / (J40+Foglio1!$C$12), NA())","v":{"$error":"#N/A"}},{"$f":"IF(J40>Foglio1!$I$7,1,0)","v":0},4.6999999999999999E-15,{"$f":" IF(Foglio1!$C$13 <> \"\", M40 / (M40+Foglio1!$C$13), NA())","v":{"$error":"#N/A"}},{"$f":"IF(M40>Foglio1!$I$7,1,0)","v":0}]
[4.7999999999999999E-15,{"$f":" IF(Foglio1!$C$9 <> \"\", A41 / (A41+Foglio1!$C$9), NA())","v":{"$error":"#N/A"}},{"$f":"IF(A41>Foglio1!$I$7,1,0)","v":0},4.7999999999999999E-15,{"$f":" IF(Foglio1!$C$10 <> \"\", D41 / (D41+Foglio1!$C$10), NA())","v":{"$error":"#N/A"}},{"$f":"IF(D41>Foglio1!$I$7,1,0)","v":0},4.7999999999999999E-15,{"$f":" IF(Foglio1!$C$11 <> \"\", G41 / (G41+Foglio1!$C$11), NA())","v":{"$error":"#N/A"}},{"$f":"IF(G41>Foglio1!$I$7,1,0)","v":0},4.7999999999999999E-15,{"$f":" IF(Foglio1!$C$12 <> \"\", J41 / (J41+Foglio1!$C$12), NA())","v":{"$error":"#N/A"}},{"$f":"IF(J41>Foglio1!$I$7,1,0)","v":0},4.7999999999999999E-15,{"$f":" IF(Foglio1!$C$13 <> \"\", M41 / (M41+Foglio1!$C$13), NA())","v":{"$error":"#N/A"}},{"$f":"IF(M41>Foglio1!$I$7,1,0)","v":0}]
[4.8999999999999999E-15,{"$f":" IF(Foglio1!$C$9 <> \"\", A42 / (A42+Foglio1!$C$9), NA())","v":{"$error":"#N/A"}},{"$f":"IF(A42>Foglio1!$I$7,1,0)","v":0},4.8999999999999999E-15,{"$f":" IF(Foglio1!$C$10 <> \"\", D42 / (D42+Foglio1!$C$10), NA())","v":{"$error":"#N/A"}},{"$f":"IF(D42>Foglio1!$I$7,1,0)","v":0},4.8999999999999999E-15,{"$f":" IF(Foglio1!$C$11 <> \"\", G42 / (G42+Foglio1!$C$11), NA())","v":{"$error":"#N/A"}},{"$f":"IF(G42>Foglio1!$I$7,1,0)","v":0},4.8999999999999999E-15,{"$f":" IF(Foglio1!$C$12 <> \"\", J42 / (J42+Foglio1!$C$12), NA())","v":{"$error":"#N/A"}},{"$f":"IF(J42>Foglio1!$I$7,1,0)","v":0},4.8999999999999999E-15,{"$f":" IF(Foglio1!$C$13 <> \"\", M42 / (M42+Foglio1!$C$13), NA())","v":{"$error":"#N/A"}},{"$f":"IF(M42>Foglio1!$I$7,1,0)","v":0}]
[5E-15,{"$f":" IF(Foglio1!$C$9 <> \"\", A43 / (A43+Foglio1!$C$9), NA())","v":{"$error":"#N/A"}},{"$f":"IF(A43>Foglio1!$I$7,1,0)","v":0},5E-15,{"$f":" IF(Foglio1!$C$10 <> \"\", D43 / (D43+Foglio1!$C$10), NA())","v":{"$error":"#N/A"}},{"$f":"IF(D43>Foglio1!$I$7,1,0)","v":0},5E-15,{"$f":" IF(Foglio1!$C$11 <> \"\", G43 / (G43+Foglio1!$C$11), NA())","v":{"$error":"#N/A"}},{"$f":"IF(G43>Foglio1!$I$7,1,0)","v":0},5E-15,{"$f":" IF(Foglio1!$C$12 <> \"\", J43 / (J43+Foglio1!$C$12), NA())","v":{"$error":"#N/A"}},{"$f":"IF(J43>Foglio1!$I$7,1,0)","v":0},5E-15,{"$f":" IF(Foglio1!$C$13 <> \"\", M43 / (M43+Foglio1!$C$13), NA())","v":{"$error":"#N/A"}},{"$f":"IF(M43>Foglio1!$I$7,1,0)","v":0}]
[5.1E-15,{"$f":" IF(Foglio1!$C$9 <> \"\", A44 / (A44+Foglio1!$C$9), NA())","v":{"$error":"#N/A"}},{"$f":"IF(A44>Foglio1!$I$7,1,0)","v":0},5.1E-15,{"$f":" IF(Foglio1!$C$10 <> \"\", D44 / (D44+Foglio1!$C$10), NA())","v":{"$error":"#N/A"}},{"$f":"IF(D44>Foglio1!$I$7,1,0)","v":0},5.1E-15,{"$f":" IF(Foglio1!$C$11 <> \"\", G44 / (G44+Foglio1!$C$11), NA())","v":{"$error":"#N/A"}},{"$f":"IF(G44>Foglio1!$I$7,1,0)","v":0},5.1E-15,{"$f":" IF(Foglio1!$C$12 <> \"\", J44 / (J44+Foglio1!$C$12), NA())","v":{"$error":"#N/A"}},{"$f":"IF(J44>Foglio1!$I$7,1,0)","v":0},5.1E-15,{"$f":" IF(Foglio1!$C$13 <> \"\", M44 / (M44+Foglio1!$C$13), NA())","v":{"$error":"#N/A"}},{"$f":"IF(M44>Foglio1!$I$7,1,0)","v":0}]
[5.2000000000000001E-15,{"$f":" IF(Foglio1!$C$9 <> \"\", A45 / (A45+Foglio1!$C$9), NA())","v":{"$error":"#N/A"}},{"$f":"IF(A45>Foglio1!$I$7,1,0)","v":0},5.2000000000000001E-15,{"$f":" IF(Foglio1!$C$10 <> \"\", D45 / (D45+Foglio1!$C$10), NA())","v":{"$error":"#N/A"}},{"$f":"IF(D45>Foglio1!$I$7,1,0)","v":0},5.2000000000000001E-15,{"$f":" IF(Foglio1!$C$11 <> \"\", G45 / (G45+Foglio1!$C$11), NA())","v":{"$error":"#N/A"}},{"$f":"IF(G45>Foglio1!$I$7,1,0)","v":0},5.2000000000000001E-15,{"$f":" IF(Foglio1!$C$12 <> \"\", J45 / (J45+Foglio1!$C$12), NA())","v":{"$error":"#N/A"}},{"$f":"IF(J45>Foglio1!$I$7,1,0)","v":0},5.2000000000000001E-15,{"$f":" IF(Foglio1!$C$13 <> \"\", M45 / (M45+Foglio1!$C$13), NA())","v":{"$error":"#N/A"}},{"$f":"IF(M45>Foglio1!$I$7,1,0)","v":0}]
[5.3000000000000001E-15,{"$f":" IF(Foglio1!$C$9 <> \"\", A46 / (A46+Foglio1!$C$9), NA())","v":{"$error":"#N/A"}},{"$f":"IF(A46>Foglio1!$I$7,1,0)","v":0},5.3000000000000001E-15,{"$f":" IF(Foglio1!$C$10 <> \"\", D46 / (D46+Foglio1!$C$10), NA())","v":{"$error":"#N/A"}},{"$f":"IF(D46>Foglio1!$I$7,1,0)","v":0},5.3000000000000001E-15,{"$f":" IF(Foglio1!$C$11 <> \"\", G46 / (G46+Foglio1!$C$11), NA())","v":{"$error":"#N/A"}},{"$f":"IF(G46>Foglio1!$I$7,1,0)","v":0},5.3000000000000001E-15,{"$f":" IF(Foglio1!$C$12 <> \"\", J46 / (J46+Foglio1!$C$12), NA())","v":{"$error":"#N/A"}},{"$f":"IF(J46>Foglio1!$I$7,1,0)","v":0},5.3000000000000001E-15,{"$f":" IF(Foglio1!$C$13 <> \"\", M46 / (M46+Foglio1!$C$13), NA())","v":{"$error":"#N/A"}},{"$f":"IF(M46>Foglio1!$I$7,1,0)","v":0}]
[5.4000000000000002E-15,{"$f":" IF(Foglio1!$C$9 <> \"\", A47 / (A47+Foglio1!$C$9), NA())","v":{"$error":"#N/A"}},{"$f":"IF(A47>Foglio1!$I$7,1,0)","v":0},5.4000000000000002E-15,{"$f":" IF(Foglio1!$C$10 <> \"\", D47 / (D47+Foglio1!$C$10), NA())","v":{"$error":"#N/A"}},{"$f":"IF(D47>Foglio1!$I$7,1,0)","v":0},5.4000000000000002E-15,{"$f":" IF(Foglio1!$C$11 <> \"\", G47 / (G47+Foglio1!$C$11), NA())","v":{"$error":"#N/A"}},{"$f":"IF(G47>Foglio1!$I$7,1,0)","v":0},5.4000000000000002E-15,{"$f":" IF(Foglio1!$C$12 <> \"\", J47 / (J47+Foglio1!$C$12), NA())","v":{"$error":"#N/A"}},{"$f":"IF(J47>Foglio1!$I$7,1,0)","v":0},5.4000000000000002E-15,{"$f":" IF(Foglio1!$C$13 <> \"\", M47 / (M47+Foglio1!$C$13), NA())","v":{"$error":"#N/A"}},{"$f":"IF(M47>Foglio1!$I$7,1,0)","v":0}]
[5.5000000000000002E-15,{"$f":" IF(Foglio1!$C$9 <> \"\", A48 / (A48+Foglio1!$C$9), NA())","v":{"$error":"#N/A"}},{"$f":"IF(A48>Foglio1!$I$7,1,0)","v":0},5.5000000000000002E-15,{"$f":" IF(Foglio1!$C$10 <> \"\", D48 / (D48+Foglio1!$C$10), NA())","v":{"$error":"#N/A"}},{"$f":"IF(D48>Foglio1!$I$7,1,0)","v":0},5.5000000000000002E-15,{"$f":" IF(Foglio1!$C$11 <> \"\", G48 / (G48+Foglio1!$C$11), NA())","v":{"$error":"#N/A"}},{"$f":"IF(G48>Foglio1!$I$7,1,0)","v":0},5.5000000000000002E-15,{"$f":" IF(Foglio1!$C$12 <> \"\", J48 / (J48+Foglio1!$C$12), NA())","v":{"$error":"#N/A"}},{"$f":"IF(J48>Foglio1!$I$7,1,0)","v":0},5.5000000000000002E-15,{"$f":" IF(Foglio1!$C$13 <> \"\", M48 / (M48+Foglio1!$C$13), NA())","v":{"$error":"#N/A"}},{"$f":"IF(M48>Foglio1!$I$7,1,0)","v":0}]
[5.6000000000000003E-15,{"$f":" IF(Foglio1!$C$9 <> \"\", A49 / (A49+Foglio1!$C$9), NA())","v":{"$error":"#N/A"}},{"$f":"IF(A49>Foglio1!$I$7,1,0)","v":0},5.6000000000000003E-15,{"$f":" IF(Foglio1!$C$10 <> \"\", D49 / (D49+Foglio1!$C$10), NA())","v":{"$error":"#N/A"}},{"$f":"IF(D49>Foglio1!$I$7,1,0)","v":0},5.6000000000000003E-15,{"$f":" IF(Foglio1!$C$11 <> \"\", G49 / (G49+Foglio1!$C$11), NA())","v":{"$error":"#N/A"}},{"$f":"IF(G49>Foglio1!$I$7,1,0)","v":0},5.6000000000000003E-15,{"$f":" IF(Foglio1!$C$12 <> \"\", J49 / (J49+Foglio1!$C$12), NA())","v":{"$error":"#N/A"}},{"$f":"IF(J49>Foglio1!$I$7,1,0)","v":0},5.6000000000000003E-15,{"$f":" IF(Foglio1!$C$13 <> \"\", M49 / (M49+Foglio1!$C$13), NA())","v":{"$error":"#N/A"}},{"$f":"IF(M49>Foglio1!$I$7,1,0)","v":0}]
[5.7000000000000003E-15,{"$f":" IF(Foglio1!$C$9 <> \"\", A50 / (A50+Foglio1!$C$9), NA())","v":{"$error":"#N/A"}},{"$f":"IF(A50>Foglio1!$I$7,1,0)","v":0},5.7000000000000003E-15,{"$f":" IF(Foglio1!$C$10 <> \"\", D50 / (D50+Foglio1!$C$10), NA())","v":{"$error":"#N/A"}},{"$f":"IF(D50>Foglio1!$I$7,1,0)","v":0},5.7000000000000003E-15,{"$f":" IF(Foglio1!$C$11 <> \"\", G50 / (G50+Foglio1!$C$11), NA())","v":{"$error":"#N/A"}},{"$f":"IF(G50>Foglio1!$I$7,1,0)","v":0},5.7000000000000003E-15,{"$f":" IF(Foglio1!$C$12 <> \"\", J50 / (J50+Foglio1!$C$12), NA())","v":{"$error":"#N/A"}},{"$f":"IF(J50>Foglio1!$I$7,1,0)","v":0},5.7000000000000003E-15,{"$f":" IF(Foglio1!$C$13 <> \"\", M50 / (M50+Foglio1!$C$13), NA())","v":{"$error":"#N/A"}},{"$f":"IF(M50>Foglio1!$I$7,1,0)","v":0}]
[5.8000000000000004E-15,{"$f":" IF(Foglio1!$C$9 <> \"\", A51 / (A51+Foglio1!$C$9), NA())","v":{"$error":"#N/A"}},{"$f":"IF(A51>Foglio1!$I$7,1,0)","v":0},5.8000000000000004E-15,{"$f":" IF(Foglio1!$C$10 <> \"\", D51 / (D51+Foglio1!$C$10), NA())","v":{"$error":"#N/A"}},{"$f":"IF(D51>Foglio1!$I$7,1,0)","v":0},5.8000000000000004E-15,{"$f":" IF(Foglio1!$C$11 <> \"\", G51 / (G51+Foglio1!$C$11), NA())","v":{"$error":"#N/A"}},{"$f":"IF(G51>Foglio1!$I$7,1,0)","v":0},5.8000000000000004E-15,{"$f":" IF(Foglio1!$C$12 <> \"\", J51 / (J51+Foglio1!$C$12), NA())","v":{"$error":"#N/A"}},{"$f":"IF(J51>Foglio1!$I$7,1,0)","v":0},5.8000000000000004E-15,{"$f":" IF(Foglio1!$C$13 <> \"\", M51 / (M51+Foglio1!$C$13), NA())","v":{"$error":"#N/A"}},{"$f":"IF(M51>Foglio1!$I$7,1,0)","v":0}]
[5.8999999999999996E-15,{"$f":" IF(Foglio1!$C$9 <> \"\", A52 / (A52+Foglio1!$C$9), NA())","v":{"$error":"#N/A"}},{"$f":"IF(A52>Foglio1!$I$7,1,0)","v":0},5.8999999999999996E-15,{"$f":" IF(Foglio1!$C$10 <> \"\", D52 / (D52+Foglio1!$C$10), NA())","v":{"$error":"#N/A"}},{"$f":"IF(D52>Foglio1!$I$7,1,0)","v":0},5.8999999999999996E-15,{"$f":" IF(Foglio1!$C$11 <> \"\", G52 / (G52+Foglio1!$C$11), NA())","v":{"$error":"#N/A"}},{"$f":"IF(G52>Foglio1!$I$7,1,0)","v":0},5.8999999999999996E-15,{"$f":" IF(Foglio1!$C$12 <> \"\", J52 / (J52+Foglio1!$C$12), NA())","v":{"$error":"#N/A"}},{"$f":"IF(J52>Foglio1!$I$7,1,0)","v":0},5.8999999999999996E-15,{"$f":" IF(Foglio1!$C$13 <> \"\", M52 / (M52+Foglio1!$C$13), NA())","v":{"$error":"#N/A"}},{"$f":"IF(M52>Foglio1!$I$7,1,0)","v":0}]
[5.9999999999999997E-15,{"$f":" IF(Foglio1!$C$9 <> \"\", A53 / (A53+Foglio1!$C$9), NA())","v":{"$error":"#N/A"}},{"$f":"IF(A53>Foglio1!$I$7,1,0)","v":0},5.9999999999999997E-15,{"$f":" IF(Foglio1!$C$10 <> \"\", D53 / (D53+Foglio1!$C$10), NA())","v":{"$error":"#N/A"}},{"$f":"IF(D53>Foglio1!$I$7,1,0)","v":0},5.9999999999999997E-15,{"$f":" IF(Foglio1!$C$11 <> \"\", G53 / (G53+Foglio1!$C$11), NA())","v":{"$error":"#N/A"}},{"$f":"IF(G53>Foglio1!$I$7,1,0)","v":0},5.9999999999999997E-15,{"$f":" IF(Foglio1!$C$12 <> \"\", J53 / (J53+Foglio1!$C$12), NA())","v":{"$error":"#N/A"}},{"$f":"IF(J53>Foglio1!$I$7,1,0)","v":0},5.9999999999999997E-15,{"$f":" IF(Foglio1!$C$13 <> \"\", M53 / (M53+Foglio1!$C$13), NA())","v":{"$error":"#N/A"}},{"$f":"IF(M53>Foglio1!$I$7,1,0)","v":0}]
[6.0999999999999997E-15,{"$f":" IF(Foglio1!$C$9 <> \"\", A54 / (A54+Foglio1!$C$9), NA())","v":{"$error":"#N/A"}},{"$f":"IF(A54>Foglio1!$I$7,1,0)","v":0},6.0999999999999997E-15,{"$f":" IF(Foglio1!$C$10 <> \"\", D54 / (D54+Foglio1!$C$10), NA())","v":{"$error":"#N/A"}},{"$f":"IF(D54>Foglio1!$I$7,1,0)","v":0},6.0999999999999997E-15,{"$f":" IF(Foglio1!$C$11 <> \"\", G54 / (G54+Foglio1!$C$11), NA())","v":{"$error":"#N/A"}},{"$f":"IF(G54>Foglio1!$I$7,1,0)","v":0},6.0999999999999997E-15,{"$f":" IF(Foglio1!$C$12 <> \"\", J54 / (J54+Foglio1!$C$12), NA())","v":{"$error":"#N/A"}},{"$f":"IF(J54>Foglio1!$I$7,1,0)","v":0},6.0999999999999997E-15,{"$f":" IF(Foglio1!$C$13 <> \"\", M54 / (M54+Foglio1!$C$13), NA())","v":{"$error":"#N/A"}},{"$f":"IF(M54>Foglio1!$I$7,1,0)","v":0}]
[6.1999999999999998E-15,{"$f":" IF(Foglio1!$C$9 <> \"\", A55 / (A55+Foglio1!$C$9), NA())","v":{"$error":"#N/A"}},{"$f":"IF(A55>Foglio1!$I$7,1,0)","v":0},6.1999999999999998E-15,{"$f":" IF(Foglio1!$C$10 <> \"\", D55 / (D55+Foglio1!$C$10), NA())","v":{"$error":"#N/A"}},{"$f":"IF(D55>Foglio1!$I$7,1,0)","v":0},6.1999999999999998E-15,{"$f":" IF(Foglio1!$C$11 <> \"\", G55 / (G55+Foglio1!$C$11), NA())","v":{"$error":"#N/A"}},{"$f":"IF(G55>Foglio1!$I$7,1,0)","v":0},6.1999999999999998E-15,{"$f":" IF(Foglio1!$C$12 <> \"\", J55 / (J55+Foglio1!$C$12), NA())","v":{"$error":"#N/A"}},{"$f":"IF(J55>Foglio1!$I$7,1,0)","v":0},6.1999999999999998E-15,{"$f":" IF(Foglio1!$C$13 <> \"\", M55 / (M55+Foglio1!$C$13), NA())","v":{"$error":"#N/A"}},{"$f":"IF(M55>Foglio1!$I$7,1,0)","v":0}]
[6.2999999999999998E-15,{"$f":" IF(Foglio1!$C$9 <> \"\", A56 / (A56+Foglio1!$C$9), NA())","v":{"$error":"#N/A"}},{"$f":"IF(A56>Foglio1!$I$7,1,0)","v":0},6.2999999999999998E-15,{"$f":" IF(Foglio1!$C$10 <> \"\", D56 / (D56+Foglio1!$C$10), NA())","v":{"$error":"#N/A"}},{"$f":"IF(D56>Foglio1!$I$7,1,0)","v":0},6.2999999999999998E-15,{"$f":" IF(Foglio1!$C$11 <> \"\", G56 / (G56+Foglio1!$C$11), NA())","v":{"$error":"#N/A"}},{"$f":"IF(G56>Foglio1!$I$7,1,0)","v":0},6.2999999999999998E-15,{"$f":" IF(Foglio1!$C$12 <> \"\", J56 / (J56+Foglio1!$C$12), NA())","v":{"$error":"#N/A"}},{"$f":"IF(J56>Foglio1!$I$7,1,0)","v":0},6.2999999999999998E-15,{"$f":" IF(Foglio1!$C$13 <> \"\", M56 / (M56+Foglio1!$C$13), NA())","v":{"$error":"#N/A"}},{"$f":"IF(M56>Foglio1!$I$7,1,0)","v":0}]
[6.3999999999999999E-15,{"$f":" IF(Foglio1!$C$9 <> \"\", A57 / (A57+Foglio1!$C$9), NA())","v":{"$error":"#N/A"}},{"$f":"IF(A57>Foglio1!$I$7,1,0)","v":0},6.3999999999999999E-15,{"$f":" IF(Foglio1!$C$10 <> \"\", D57 / (D57+Foglio1!$C$10), NA())","v":{"$error":"#N/A"}},{"$f":"IF(D57>Foglio1!$I$7,1,0)","v":0},6.3999999999999999E-15,{"$f":" IF(Foglio1!$C$11 <> \"\", G57 / (G57+Foglio1!$C$11), NA())","v":{"$error":"#N/A"}},{"$f":"IF(G57>Foglio1!$I$7,1,0)","v":0},6.3999999999999999E-15,{"$f":" IF(Foglio1!$C$12 <> \"\", J57 / (J57+Foglio1!$C$12), NA())","v":{"$error":"#N/A"}},{"$f":"IF(J57>Foglio1!$I$7,1,0)","v":0},6.3999999999999999E-15,{"$f":" IF(Foglio1!$C$13 <> \"\", M57 / (M57+Foglio1!$C$13), NA())","v":{"$error":"#N/A"}},{"$f":"IF(M57>Foglio1!$I$7,1,0)","v":0}]
[6.4999999999999999E-15,{"$f":" IF(Foglio1!$C$9 <> \"\", A58 / (A58+Foglio1!$C$9), NA())","v":{"$error":"#N/A"}},{"$f":"IF(A58>Foglio1!$I$7,1,0)","v":0},6.4999999999999999E-15,{"$f":" IF(Foglio1!$C$10 <> \"\", D58 / (D58+Foglio1!$C$10), NA())","v":{"$error":"#N/A"}},{"$f":"IF(D58>Foglio1!$I$7,1,0)","v":0},6.4999999999999999E-15,{"$f":" IF(Foglio1!$C$11 <> \"\", G58 / (G58+Foglio1!$C$11), NA())","v":{"$error":"#N/A"}},{"$f":"IF(G58>Foglio1!$I$7,1,0)","v":0},6.4999999999999999E-15,{"$f":" IF(Foglio1!$C$12 <> \"\", J58 / (J58+Foglio1!$C$12), NA())","v":{"$error":"#N/A"}},{"$f":"IF(J58>Foglio1!$I$7,1,0)","v":0},6.4999999999999999E-15,{"$f":" IF(Foglio1!$C$13 <> \"\", M58 / (M58+Foglio1!$C$13), NA())","v":{"$error":"#N/A"}},{"$f":"IF(M58>Foglio1!$I$7,1,0)","v":0}]
[6.6E-15,{"$f":" IF(Foglio1!$C$9 <> \"\", A59 / (A59+Foglio1!$C$9), NA())","v":{"$error":"#N/A"}},{"$f":"IF(A59>Foglio1!$I$7,1,0)","v":0},6.6E-15,{"$f":" IF(Foglio1!$C$10 <> \"\", D59 / (D59+Foglio1!$C$10), NA())","v":{"$error":"#N/A"}},{"$f":"IF(D59>Foglio1!$I$7,1,0)","v":0},6.6E-15,{"$f":" IF(Foglio1!$C$11 <> \"\", G59 / (G59+Foglio1!$C$11), NA())","v":{"$error":"#N/A"}},{"$f":"IF(G59>Foglio1!$I$7,1,0)","v":0},6.6E-15,{"$f":" IF(Foglio1!$C$12 <> \"\", J59 / (J59+Foglio1!$C$12), NA())","v":{"$error":"#N/A"}},{"$f":"IF(J59>Foglio1!$I$7,1,0)","v":0},6.6E-15,{"$f":" IF(Foglio1!$C$13 <> \"\", M59 / (M59+Foglio1!$C$13), NA())","v":{"$error":"#N/A"}},{"$f":"IF(M59>Foglio1!$I$7,1,0)","v":0}]
[6.7E-15,{"$f":" IF(Foglio1!$C$9 <> \"\", A60 / (A60+Foglio1!$C$9), NA())","v":{"$error":"#N/A"}},{"$f":"IF(A60>Foglio1!$I$7,1,0)","v":0},6.7E-15,{"$f":" IF(Foglio1!$C$10 <> \"\", D60 / (D60+Foglio1!$C$10), NA())","v":{"$error":"#N/A"}},{"$f":"IF(D60>Foglio1!$I$7,1,0)","v":0},6.7E-15,{"$f":" IF(Foglio1!$C$11 <> \"\", G60 / (G60+Foglio1!$C$11), NA())","v":{"$error":"#N/A"}},{"$f":"IF(G60>Foglio1!$I$7,1,0)","v":0},6.7E-15,{"$f":" IF(Foglio1!$C$12 <> \"\", J60 / (J60+Foglio1!$C$12), NA())","v":{"$error":"#N/A"}},{"$f":"IF(J60>Foglio1!$I$7,1,0)","v":0},6.7E-15,{"$f":" IF(Foglio1!$C$13 <> \"\", M60 / (M60+Foglio1!$C$13), NA())","v":{"$error":"#N/A"}},{"$f":"IF(M60>Foglio1!$I$7,1,0)","v":0}]
[6.8000000000000001E-15,{"$f":" IF(Foglio1!$C$9 <> \"\", A61 / (A61+Foglio1!$C$9), NA())","v":{"$error":"#N/A"}},{"$f":"IF(A61>Foglio1!$I$7,1,0)","v":0},6.8000000000000001E-15,{"$f":" IF(Foglio1!$C$10 <> \"\", D61 / (D61+Foglio1!$C$10), NA())","v":{"$error":"#N/A"}},{"$f":"IF(D61>Foglio1!$I$7,1,0)","v":0},6.8000000000000001E-15,{"$f":" IF(Foglio1!$C$11 <> \"\", G61 / (G61+Foglio1!$C$11), NA())","v":{"$error":"#N/A"}},{"$f":"IF(G61>Foglio1!$I$7,1,0)","v":0},6.8000000000000001E-15,{"$f":" IF(Foglio1!$C$12 <> \"\", J61 / (J61+Foglio1!$C$12), NA())","v":{"$error":"#N/A"}},{"$f":"IF(J61>Foglio1!$I$7,1,0)","v":0},6.8000000000000001E-15,{"$f":" IF(Foglio1!$C$13 <> \"\", M61 / (M61+Foglio1!$C$13), NA())","v":{"$error":"#N/A"}},{"$f":"IF(M61>Foglio1!$I$7,1,0)","v":0}]
[6.9000000000000001E-15,{"$f":" IF(Foglio1!$C$9 <> \"\", A62 / (A62+Foglio1!$C$9), NA())","v":{"$error":"#N/A"}},{"$f":"IF(A62>Foglio1!$I$7,1,0)","v":0},6.9000000000000001E-15,{"$f":" IF(Foglio1!$C$10 <> \"\", D62 / (D62+Foglio1!$C$10), NA())","v":{"$error":"#N/A"}},{"$f":"IF(D62>Foglio1!$I$7,1,0)","v":0},6.9000000000000001E-15,{"$f":" IF(Foglio1!$C$11 <> \"\", G62 / (G62+Foglio1!$C$11), NA())","v":{"$error":"#N/A"}},{"$f":"IF(G62>Foglio1!$I$7,1,0)","v":0},6.9000000000000001E-15,{"$f":" IF(Foglio1!$C$12 <> \"\", J62 / (J62+Foglio1!$C$12), NA())","v":{"$error":"#N/A"}},{"$f":"IF(J62>Foglio1!$I$7,1,0)","v":0},6.9000000000000001E-15,{"$f":" IF(Foglio1!$C$13 <> \"\", M62 / (M62+Foglio1!$C$13), NA())","v":{"$error":"#N/A"}},{"$f":"IF(M62>Foglio1!$I$7,1,0)","v":0}]
[7.0000000000000001E-15,{"$f":" IF(Foglio1!$C$9 <> \"\", A63 / (A63+Foglio1!$C$9), NA())","v":{"$error":"#N/A"}},{"$f":"IF(A63>Foglio1!$I$7,1,0)","v":0},7.0000000000000001E-15,{"$f":" IF(Foglio1!$C$10 <> \"\", D63 / (D63+Foglio1!$C$10), NA())","v":{"$error":"#N/A"}},{"$f":"IF(D63>Foglio1!$I$7,1,0)","v":0},7.0000000000000001E-15,{"$f":" IF(Foglio1!$C$11 <> \"\", G63 / (G63+Foglio1!$C$11), NA())","v":{"$error":"#N/A"}},{"$f":"IF(G63>Foglio1!$I$7,1,0)","v":0},7.0000000000000001E-15,{"$f":" IF(Foglio1!$C$12 <> \"\", J63 / (J63+Foglio1!$C$12), NA())","v":{"$error":"#N/A"}},{"$f":"IF(J63>Foglio1!$I$7,1,0)","v":0},7.0000000000000001E-15,{"$f":" IF(Foglio1!$C$13 <> \"\", M63 / (M63+Foglio1!$C$13), NA())","v":{"$error":"#N/A"}},{"$f":"IF(M63>Foglio1!$I$7,1,0)","v":0}]
[7.1000000000000002E-15,{"$f":" IF(Foglio1!$C$9 <> \"\", A64 / (A64+Foglio1!$C$9), NA())","v":{"$error":"#N/A"}},{"$f":"IF(A64>Foglio1!$I$7,1,0)","v":0},7.1000000000000002E-15,{"$f":" IF(Foglio1!$C$10 <> \"\", D64 / (D64+Foglio1!$C$10), NA())","v":{"$error":"#N/A"}},{"$f":"IF(D64>Foglio1!$I$7,1,0)","v":0},7.1000000000000002E-15,{"$f":" IF(Foglio1!$C$11 <> \"\", G64 / (G64+Foglio1!$C$11), NA())","v":{"$error":"#N/A"}},{"$f":"IF(G64>Foglio1!$I$7,1,0)","v":0},7.1000000000000002E-15,{"$f":" IF(Foglio1!$C$12 <> \"\", J64 / (J64+Foglio1!$C$12), NA())","v":{"$error":"#N/A"}},{"$f":"IF(J64>Foglio1!$I$7,1,0)","v":0},7.1000000000000002E-15,{"$f":" IF(Foglio1!$C$13 <> \"\", M64 / (M64+Foglio1!$C$13), NA())","v":{"$error":"#N/A"}},{"$f":"IF(M64>Foglio1!$I$7,1,0)","v":0}]
[7.2000000000000002E-15,{"$f":" IF(Foglio1!$C$9 <> \"\", A65 / (A65+Foglio1!$C$9), NA())","v":{"$error":"#N/A"}},{"$f":"IF(A65>Foglio1!$I$7,1,0)","v":0},7.2000000000000002E-15,{"$f":" IF(Foglio1!$C$10 <> \"\", D65 / (D65+Foglio1!$C$10), NA())","v":{"$error":"#N/A"}},{"$f":"IF(D65>Foglio1!$I$7,1,0)","v":0},7.2000000000000002E-15,{"$f":" IF(Foglio1!$C$11 <> \"\", G65 / (G65+Foglio1!$C$11), NA())","v":{"$error":"#N/A"}},{"$f":"IF(G65>Foglio1!$I$7,1,0)","v":0},7.2000000000000002E-15,{"$f":" IF(Foglio1!$C$12 <> \"\", J65 / (J65+Foglio1!$C$12), NA())","v":{"$error":"#N/A"}},{"$f":"IF(J65>Foglio1!$I$7,1,0)","v":0},7.2000000000000002E-15,{"$f":" IF(Foglio1!$C$13 <> \"\", M65 / (M65+Foglio1!$C$13), NA())","v":{"$error":"#N/A"}},{"$f":"IF(M65>Foglio1!$I$7,1,0)","v":0}]
[7.2999999999999995E-15,{"$f":" IF(Foglio1!$C$9 <> \"\", A66 / (A66+Foglio1!$C$9), NA())","v":{"$error":"#N/A"}},{"$f":"IF(A66>Foglio1!$I$7,1,0)","v":0},7.2999999999999995E-15,{"$f":" IF(Foglio1!$C$10 <> \"\", D66 / (D66+Foglio1!$C$10), NA())","v":{"$error":"#N/A"}},{"$f":"IF(D66>Foglio1!$I$7,1,0)","v":0},7.2999999999999995E-15,{"$f":" IF(Foglio1!$C$11 <> \"\", G66 / (G66+Foglio1!$C$11), NA())","v":{"$error":"#N/A"}},{"$f":"IF(G66>Foglio1!$I$7,1,0)","v":0},7.2999999999999995E-15,{"$f":" IF(Foglio1!$C$12 <> \"\", J66 / (J66+Foglio1!$C$12), NA())","v":{"$error":"#N/A"}},{"$f":"IF(J66>Foglio1!$I$7,1,0)","v":0},7.2999999999999995E-15,{"$f":" IF(Foglio1!$C$13 <> \"\", M66 / (M66+Foglio1!$C$13), NA())","v":{"$error":"#N/A"}},{"$f":"IF(M66>Foglio1!$I$7,1,0)","v":0}]
[7.4000000000000003E-15,{"$f":" IF(Foglio1!$C$9 <> \"\", A67 / (A67+Foglio1!$C$9), NA())","v":{"$error":"#N/A"}},{"$f":"IF(A67>Foglio1!$I$7,1,0)","v":0},7.4000000000000003E-15,{"$f":" IF(Foglio1!$C$10 <> \"\", D67 / (D67+Foglio1!$C$10), NA())","v":{"$error":"#N/A"}},{"$f":"IF(D67>Foglio1!$I$7,1,0)","v":0},7.4000000000000003E-15,{"$f":" IF(Foglio1!$C$11 <> \"\", G67 / (G67+Foglio1!$C$11), NA())","v":{"$error":"#N/A"}},{"$f":"IF(G67>Foglio1!$I$7,1,0)","v":0},7.4000000000000003E-15,{"$f":" IF(Foglio1!$C$12 <> \"\", J67 / (J67+Foglio1!$C$12), NA())","v":{"$error":"#N/A"}},{"$f":"IF(J67>Foglio1!$I$7,1,0)","v":0},7.4000000000000003E-15,{"$f":" IF(Foglio1!$C$13 <> \"\", M67 / (M67+Foglio1!$C$13), NA())","v":{"$error":"#N/A"}},{"$f":"IF(M67>Foglio1!$I$7,1,0)","v":0}]
[7.4999999999999996E-15,{"$f":" IF(Foglio1!$C$9 <> \"\", A68 / (A68+Foglio1!$C$9), NA())","v":{"$error":"#N/A"}},{"$f":"IF(A68>Foglio1!$I$7,1,0)","v":0},7.4999999999999996E-15,{"$f":" IF(Foglio1!$C$10 <> \"\", D68 / (D68+Foglio1!$C$10), NA())","v":{"$error":"#N/A"}},{"$f":"IF(D68>Foglio1!$I$7,1,0)","v":0},7.4999999999999996E-15,{"$f":" IF(Foglio1!$C$11 <> \"\", G68 / (G68+Foglio1!$C$11), NA())","v":{"$error":"#N/A"}},{"$f":"IF(G68>Foglio1!$I$7,1,0)","v":0},7.4999999999999996E-15,{"$f":" IF(Foglio1!$C$12 <> \"\", J68 / (J68+Foglio1!$C$12), NA())","v":{"$error":"#N/A"}},{"$f":"IF(J68>Foglio1!$I$7,1,0)","v":0},7.4999999999999996E-15,{"$f":" IF(Foglio1!$C$13 <> \"\", M68 / (M68+Foglio1!$C$13), NA())","v":{"$error":"#N/A"}},{"$f":"IF(M68>Foglio1!$I$7,1,0)","v":0}]
[7.6000000000000004E-15,{"$f":" IF(Foglio1!$C$9 <> \"\", A69 / (A69+Foglio1!$C$9), NA())","v":{"$error":"#N/A"}},{"$f":"IF(A69>Foglio1!$I$7,1,0)","v":0},7.6000000000000004E-15,{"$f":" IF(Foglio1!$C$10 <> \"\", D69 / (D69+Foglio1!$C$10), NA())","v":{"$error":"#N/A"}},{"$f":"IF(D69>Foglio1!$I$7,1,0)","v":0},7.6000000000000004E-15,{"$f":" IF(Foglio1!$C$11 <> \"\", G69 / (G69+Foglio1!$C$11), NA())","v":{"$error":"#N/A"}},{"$f":"IF(G69>Foglio1!$I$7,1,0)","v":0},7.6000000000000004E-15,{"$f":" IF(Foglio1!$C$12 <> \"\", J69 / (J69+Foglio1!$C$12), NA())","v":{"$error":"#N/A"}},{"$f":"IF(J69>Foglio1!$I$7,1,0)","v":0},7.6000000000000004E-15,{"$f":" IF(Foglio1!$C$13 <> \"\", M69 / (M69+Foglio1!$C$13), NA())","v":{"$error":"#N/A"}},{"$f":"IF(M69>Foglio1!$I$7,1,0)","v":0}]
[7.6999999999999997E-15,{"$f":" IF(Foglio1!$C$9 <> \"\", A70 / (A70+Foglio1!$C$9), NA())","v":{"$error":"#N/A"}},{"$f":"IF(A70>Foglio1!$I$7,1,0)","v":0},7.6999999999999997E-15,{"$f":" IF(Foglio1!$C$10 <> \"\", D70 / (D70+Foglio1!$C$10), NA())","v":{"$error":"#N/A"}},{"$f":"IF(D70>Foglio1!$I$7,1,0)","v":0},7.6999999999999997E-15,{"$f":" IF(Foglio1!$C$11 <> \"\", G70 / (G70+Foglio1!$C$11), NA())","v":{"$error":"#N/A"}},{"$f":"IF(G70>Foglio1!$I$7,1,0)","v":0},7.6999999999999997E-15,{"$f":" IF(Foglio1!$C$12 <> \"\", J70 / (J70+Foglio1!$C$12), NA())","v":{"$error":"#N/A"}},{"$f":"IF(J70>Foglio1!$I$7,1,0)","v":0},7.6999999999999997E-15,{"$f":" IF(Foglio1!$C$13 <> \"\", M70 / (M70+Foglio1!$C$13), NA())","v":{"$error":"#N/A"}},{"$f":"IF(M70>Foglio1!$I$7,1,0)","v":0}]
[7.8000000000000005E-15,{"$f":" IF(Foglio1!$C$9 <> \"\", A71 / (A71+Foglio1!$C$9), NA())","v":{"$error":"#N/A"}},{"$f":"IF(A71>Foglio1!$I$7,1,0)","v":0},7.8000000000000005E-15,{"$f":" IF(Foglio1!$C$10 <> \"\", D71 / (D71+Foglio1!$C$10), NA())","v":{"$error":"#N/A"}},{"$f":"IF(D71>Foglio1!$I$7,1,0)","v":0},7.8000000000000005E-15,{"$f":" IF(Foglio1!$C$11 <> \"\", G71 / (G71+Foglio1!$C$11), NA())","v":{"$error":"#N/A"}},{"$f":"IF(G71>Foglio1!$I$7,1,0)","v":0},7.8000000000000005E-15,{"$f":" IF(Foglio1!$C$12 <> \"\", J71 / (J71+Foglio1!$C$12), NA())","v":{"$error":"#N/A"}},{"$f":"IF(J71>Foglio1!$I$7,1,0)","v":0},7.8000000000000005E-15,{"$f":" IF(Foglio1!$C$13 <> \"\", M71 / (M71+Foglio1!$C$13), NA())","v":{"$error":"#N/A"}},{"$f":"IF(M71>Foglio1!$I$7,1,0)","v":0}]
[7.8999999999999998E-15,{"$f":" IF(Foglio1!$C$9 <> \"\", A72 / (A72+Foglio1!$C$9), NA())","v":{"$error":"#N/A"}},{"$f":"IF(A72>Foglio1!$I$7,1,0)","v":0},7.8999999999999998E-15,{"$f":" IF(Foglio1!$C$10 <> \"\", D72 / (D72+Foglio1!$C$10), NA())","v":{"$error":"#N/A"}},{"$f":"IF(D72>Foglio1!$I$7,1,0)","v":0},7.8999999999999998E-15,{"$f":" IF(Foglio1!$C$11 <> \"\", G72 / (G72+Foglio1!$C$11), NA())","v":{"$error":"#N/A"}},{"$f":"IF(G72>Foglio1!$I$7,1,0)","v":0},7.8999999999999998E-15,{"$f":" IF(Foglio1!$C$12 <> \"\", J72 / (J72+Foglio1!$C$12), NA())","v":{"$error":"#N/A"}},{"$f":"IF(J72>Foglio1!$I$7,1,0)","v":0},7.8999999999999998E-15,{"$f":" IF(Foglio1!$C$13 <> \"\", M72 / (M72+Foglio1!$C$13), NA())","v":{"$error":"#N/A"}},{"$f":"IF(M72>Foglio1!$I$7,1,0)","v":0}]
[8.0000000000000006E-15,{"$f":" IF(Foglio1!$C$9 <> \"\", A73 / (A73+Foglio1!$C$9), NA())","v":{"$error":"#N/A"}},{"$f":"IF(A73>Foglio1!$I$7,1,0)","v":0},8.0000000000000006E-15,{"$f":" IF(Foglio1!$C$10 <> \"\", D73 / (D73+Foglio1!$C$10), NA())","v":{"$error":"#N/A"}},{"$f":"IF(D73>Foglio1!$I$7,1,0)","v":0},8.0000000000000006E-15,{"$f":" IF(Foglio1!$C$11 <> \"\", G73 / (G73+Foglio1!$C$11), NA())","v":{"$error":"#N/A"}},{"$f":"IF(G73>Foglio1!$I$7,1,0)","v":0},8.0000000000000006E-15,{"$f":" IF(Foglio1!$C$12 <> \"\", J73 / (J73+Foglio1!$C$12), NA())","v":{"$error":"#N/A"}},{"$f":"IF(J73>Foglio1!$I$7,1,0)","v":0},8.0000000000000006E-15,{"$f":" IF(Foglio1!$C$13 <> \"\", M73 / (M73+Foglio1!$C$13), NA())","v":{"$error":"#N/A"}},{"$f":"IF(M73>Foglio1!$I$7,1,0)","v":0}]
[8.0999999999999999E-15,{"$f":" IF(Foglio1!$C$9 <> \"\", A74 / (A74+Foglio1!$C$9), NA())","v":{"$error":"#N/A"}},{"$f":"IF(A74>Foglio1!$I$7,1,0)","v":0},8.0999999999999999E-15,{"$f":" IF(Foglio1!$C$10 <> \"\", D74 / (D74+Foglio1!$C$10), NA())","v":{"$error":"#N/A"}},{"$f":"IF(D74>Foglio1!$I$7,1,0)","v":0},8.0999999999999999E-15,{"$f":" IF(Foglio1!$C$11 <> \"\", G74 / (G74+Foglio1!$C$11), NA())","v":{"$error":"#N/A"}},{"$f":"IF(G74>Foglio1!$I$7,1,0)","v":0},8.0999999999999999E-15,{"$f":" IF(Foglio1!$C$12 <> \"\", J74 / (J74+Foglio1!$C$12), NA())","v":{"$error":"#N/A"}},{"$f":"IF(J74>Foglio1!$I$7,1,0)","v":0},8.0999999999999999E-15,{"$f":" IF(Foglio1!$C$13 <> \"\", M74 / (M74+Foglio1!$C$13), NA())","v":{"$error":"#N/A"}},{"$f":"IF(M74>Foglio1!$I$7,1,0)","v":0}]
[8.2000000000000007E-15,{"$f":" IF(Foglio1!$C$9 <> \"\", A75 / (A75+Foglio1!$C$9), NA())","v":{"$error":"#N/A"}},{"$f":"IF(A75>Foglio1!$I$7,1,0)","v":0},8.2000000000000007E-15,{"$f":" IF(Foglio1!$C$10 <> \"\", D75 / (D75+Foglio1!$C$10), NA())","v":{"$error":"#N/A"}},{"$f":"IF(D75>Foglio1!$I$7,1,0)","v":0},8.2000000000000007E-15,{"$f":" IF(Foglio1!$C$11 <> \"\", G75 / (G75+Foglio1!$C$11), NA())","v":{"$error":"#N/A"}},{"$f":"IF(G75>Foglio1!$I$7,1,0)","v":0},8.2000000000000007E-15,{"$f":" IF(Foglio1!$C$12 <> \"\", J75 / (J75+Foglio1!$C$12), NA())","v":{"$error":"#N/A"}},{"$f":"IF(J75>Foglio1!$I$7,1,0)","v":0},8.2000000000000007E-15,{"$f":" IF(Foglio1!$C$13 <> \"\", M75 / (M75+Foglio1!$C$13), NA())","v":{"$error":"#N/A"}},{"$f":"IF(M75>Foglio1!$I$7,1,0)","v":0}]
[8.3E-15,{"$f":" IF(Foglio1!$C$9 <> \"\", A76 / (A76+Foglio1!$C$9), NA())","v":{"$error":"#N/A"}},{"$f":"IF(A76>Foglio1!$I$7,1,0)","v":0},8.3E-15,{"$f":" IF(Foglio1!$C$10 <> \"\", D76 / (D76+Foglio1!$C$10), NA())","v":{"$error":"#N/A"}},{"$f":"IF(D76>Foglio1!$I$7,1,0)","v":0},8.3E-15,{"$f":" IF(Foglio1!$C$11 <> \"\", G76 / (G76+Foglio1!$C$11), NA())","v":{"$error":"#N/A"}},{"$f":"IF(G76>Foglio1!$I$7,1,0)","v":0},8.3E-15,{"$f":" IF(Foglio1!$C$12 <> \"\", J76 / (J76+Foglio1!$C$12), NA())","v":{"$error":"#N/A"}},{"$f":"IF(J76>Foglio1!$I$7,1,0)","v":0},8.3E-15,{"$f":" IF(Foglio1!$C$13 <> \"\", M76 / (M76+Foglio1!$C$13), NA())","v":{"$error":"#N/A"}},{"$f":"IF(M76>Foglio1!$I$7,1,0)","v":0}]
[8.3999999999999992E-15,{"$f":" IF(Foglio1!$C$9 <> \"\", A77 / (A77+Foglio1!$C$9), NA())","v":{"$error":"#N/A"}},{"$f":"IF(A77>Foglio1!$I$7,1,0)","v":0},8.3999999999999992E-15,{"$f":" IF(Foglio1!$C$10 <> \"\", D77 / (D77+Foglio1!$C$10), NA())","v":{"$error":"#N/A"}},{"$f":"IF(D77>Foglio1!$I$7,1,0)","v":0},8.3999999999999992E-15,{"$f":" IF(Foglio1!$C$11 <> \"\", G77 / (G77+Foglio1!$C$11), NA())","v":{"$error":"#N/A"}},{"$f":"IF(G77>Foglio1!$I$7,1,0)","v":0},8.3999999999999992E-15,{"$f":" IF(Foglio1!$C$12 <> \"\", J77 / (J77+Foglio1!$C$12), NA())","v":{"$error":"#N/A"}},{"$f":"IF(J77>Foglio1!$I$7,1,0)","v":0},8.3999999999999992E-15,{"$f":" IF(Foglio1!$C$13 <> \"\", M77 / (M77+Foglio1!$C$13), NA())","v":{"$error":"#N/A"}},{"$f":"IF(M77>Foglio1!$I$7,1,0)","v":0}]
[8.5000000000000001E-15,{"$f":" IF(Foglio1!$C$9 <> \"\", A78 / (A78+Foglio1!$C$9), NA())","v":{"$error":"#N/A"}},{"$f":"IF(A78>Foglio1!$I$7,1,0)","v":0},8.5000000000000001E-15,{"$f":" IF(Foglio1!$C$10 <> \"\", D78 / (D78+Foglio1!$C$10), NA())","v":{"$error":"#N/A"}},{"$f":"IF(D78>Foglio1!$I$7,1,0)","v":0},8.5000000000000001E-15,{"$f":" IF(Foglio1!$C$11 <> \"\", G78 / (G78+Foglio1!$C$11), NA())","v":{"$error":"#N/A"}},{"$f":"IF(G78>Foglio1!$I$7,1,0)","v":0},8.5000000000000001E-15,{"$f":" IF(Foglio1!$C$12 <> \"\", J78 / (J78+Foglio1!$C$12), NA())","v":{"$error":"#N/A"}},{"$f":"IF(J78>Foglio1!$I$7,1,0)","v":0},8.5000000000000001E-15,{"$f":" IF(Foglio1!$C$13 <> \"\", M78 / (M78+Foglio1!$C$13), NA())","v":{"$error":"#N/A"}},{"$f":"IF(M78>Foglio1!$I$7,1,0)","v":0}]
[8.5999999999999993E-15,{"$f":" IF(Foglio1!$C$9 <> \"\", A79 / (A79+Foglio1!$C$9), NA())","v":{"$error":"#N/A"}},{"$f":"IF(A79>Foglio1!$I$7,1,0)","v":0},8.5999999999999993E-15,{"$f":" IF(Foglio1!$C$10 <> \"\", D79 / (D79+Foglio1!$C$10), NA())","v":{"$error":"#N/A"}},{"$f":"IF(D79>Foglio1!$I$7,1,0)","v":0},8.5999999999999993E-15,{"$f":" IF(Foglio1!$C$11 <> \"\", G79 / (G79+Foglio1!$C$11), NA())","v":{"$error":"#N/A"}},{"$f":"IF(G79>Foglio1!$I$7,1,0)","v":0},8.5999999999999993E-15,{"$f":" IF(Foglio1!$C$12 <> \"\", J79 / (J79+Foglio1!$C$12), NA())","v":{"$error":"#N/A"}},{"$f":"IF(J79>Foglio1!$I$7,1,0)","v":0},8.5999999999999993E-15,{"$f":" IF(Foglio1!$C$13 <> \"\", M79 / (M79+Foglio1!$C$13), NA())","v":{"$error":"#N/A"}},{"$f":"IF(M79>Foglio1!$I$7,1,0)","v":0}]
[8.7000000000000002E-15,{"$f":" IF(Foglio1!$C$9 <> \"\", A80 / (A80+Foglio1!$C$9), NA())","v":{"$error":"#N/A"}},{"$f":"IF(A80>Foglio1!$I$7,1,0)","v":0},8.7000000000000002E-15,{"$f":" IF(Foglio1!$C$10 <> \"\", D80 / (D80+Foglio1!$C$10), NA())","v":{"$error":"#N/A"}},{"$f":"IF(D80>Foglio1!$I$7,1,0)","v":0},8.7000000000000002E-15,{"$f":" IF(Foglio1!$C$11 <> \"\", G80 / (G80+Foglio1!$C$11), NA())","v":{"$error":"#N/A"}},{"$f":"IF(G80>Foglio1!$I$7,1,0)","v":0},8.7000000000000002E-15,{"$f":" IF(Foglio1!$C$12 <> \"\", J80 / (J80+Foglio1!$C$12), NA())","v":{"$error":"#N/A"}},{"$f":"IF(J80>Foglio1!$I$7,1,0)","v":0},8.7000000000000002E-15,{"$f":" IF(Foglio1!$C$13 <> \"\", M80 / (M80+Foglio1!$C$13), NA())","v":{"$error":"#N/A"}},{"$f":"IF(M80>Foglio1!$I$7,1,0)","v":0}]
[8.7999999999999994E-15,{"$f":" IF(Foglio1!$C$9 <> \"\", A81 / (A81+Foglio1!$C$9), NA())","v":{"$error":"#N/A"}},{"$f":"IF(A81>Foglio1!$I$7,1,0)","v":0},8.7999999999999994E-15,{"$f":" IF(Foglio1!$C$10 <> \"\", D81 / (D81+Foglio1!$C$10), NA())","v":{"$error":"#N/A"}},{"$f":"IF(D81>Foglio1!$I$7,1,0)","v":0},8.7999999999999994E-15,{"$f":" IF(Foglio1!$C$11 <> \"\", G81 / (G81+Foglio1!$C$11), NA())","v":{"$error":"#N/A"}},{"$f":"IF(G81>Foglio1!$I$7,1,0)","v":0},8.7999999999999994E-15,{"$f":" IF(Foglio1!$C$12 <> \"\", J81 / (J81+Foglio1!$C$12), NA())","v":{"$error":"#N/A"}},{"$f":"IF(J81>Foglio1!$I$7,1,0)","v":0},8.7999999999999994E-15,{"$f":" IF(Foglio1!$C$13 <> \"\", M81 / (M81+Foglio1!$C$13), NA())","v":{"$error":"#N/A"}},{"$f":"IF(M81>Foglio1!$I$7,1,0)","v":0}]
[8.9000000000000003E-15,{"$f":" IF(Foglio1!$C$9 <> \"\", A82 / (A82+Foglio1!$C$9), NA())","v":{"$error":"#N/A"}},{"$f":"IF(A82>Foglio1!$I$7,1,0)","v":0},8.9000000000000003E-15,{"$f":" IF(Foglio1!$C$10 <> \"\", D82 / (D82+Foglio1!$C$10), NA())","v":{"$error":"#N/A"}},{"$f":"IF(D82>Foglio1!$I$7,1,0)","v":0},8.9000000000000003E-15,{"$f":" IF(Foglio1!$C$11 <> \"\", G82 / (G82+Foglio1!$C$11), NA())","v":{"$error":"#N/A"}},{"$f":"IF(G82>Foglio1!$I$7,1,0)","v":0},8.9000000000000003E-15,{"$f":" IF(Foglio1!$C$12 <> \"\", J82 / (J82+Foglio1!$C$12), NA())","v":{"$error":"#N/A"}},{"$f":"IF(J82>Foglio1!$I$7,1,0)","v":0},8.9000000000000003E-15,{"$f":" IF(Foglio1!$C$13 <> \"\", M82 / (M82+Foglio1!$C$13), NA())","v":{"$error":"#N/A"}},{"$f":"IF(M82>Foglio1!$I$7,1,0)","v":0}]
[8.9999999999999995E-15,{"$f":" IF(Foglio1!$C$9 <> \"\", A83 / (A83+Foglio1!$C$9), NA())","v":{"$error":"#N/A"}},{"$f":"IF(A83>Foglio1!$I$7,1,0)","v":0},8.9999999999999995E-15,{"$f":" IF(Foglio1!$C$10 <> \"\", D83 / (D83+Foglio1!$C$10), NA())","v":{"$error":"#N/A"}},{"$f":"IF(D83>Foglio1!$I$7,1,0)","v":0},8.9999999999999995E-15,{"$f":" IF(Foglio1!$C$11 <> \"\", G83 / (G83+Foglio1!$C$11), NA())","v":{"$error":"#N/A"}},{"$f":"IF(G83>Foglio1!$I$7,1,0)","v":0},8.9999999999999995E-15,{"$f":" IF(Foglio1!$C$12 <> \"\", J83 / (J83+Foglio1!$C$12), NA())","v":{"$error":"#N/A"}},{"$f":"IF(J83>Foglio1!$I$7,1,0)","v":0},8.9999999999999995E-15,{"$f":" IF(Foglio1!$C$13 <> \"\", M83 / (M83+Foglio1!$C$13), NA())","v":{"$error":"#N/A"}},{"$f":"IF(M83>Foglio1!$I$7,1,0)","v":0}]
[9.1000000000000004E-15,{"$f":" IF(Foglio1!$C$9 <> \"\", A84 / (A84+Foglio1!$C$9), NA())","v":{"$error":"#N/A"}},{"$f":"IF(A84>Foglio1!$I$7,1,0)","v":0},9.1000000000000004E-15,{"$f":" IF(Foglio1!$C$10 <> \"\", D84 / (D84+Foglio1!$C$10), NA())","v":{"$error":"#N/A"}},{"$f":"IF(D84>Foglio1!$I$7,1,0)","v":0},9.1000000000000004E-15,{"$f":" IF(Foglio1!$C$11 <> \"\", G84 / (G84+Foglio1!$C$11), NA())","v":{"$error":"#N/A"}},{"$f":"IF(G84>Foglio1!$I$7,1,0)","v":0},9.1000000000000004E-15,{"$f":" IF(Foglio1!$C$12 <> \"\", J84 / (J84+Foglio1!$C$12), NA())","v":{"$error":"#N/A"}},{"$f":"IF(J84>Foglio1!$I$7,1,0)","v":0},9.1000000000000004E-15,{"$f":" IF(Foglio1!$C$13 <> \"\", M84 / (M84+Foglio1!$C$13), NA())","v":{"$error":"#N/A"}},{"$f":"IF(M84>Foglio1!$I$7,1,0)","v":0}]
[9.1999999999999996E-15,{"$f":" IF(Foglio1!$C$9 <> \"\", A85 / (A85+Foglio1!$C$9), NA())","v":{"$error":"#N/A"}},{"$f":"IF(A85>Foglio1!$I$7,1,0)","v":0},9.1999999999999996E-15,{"$f":" IF(Foglio1!$C$10 <> \"\", D85 / (D85+Foglio1!$C$10), NA())","v":{"$error":"#N/A"}},{"$f":"IF(D85>Foglio1!$I$7,1,0)","v":0},9.1999999999999996E-15,{"$f":" IF(Foglio1!$C$11 <> \"\", G85 / (G85+Foglio1!$C$11), NA())","v":{"$error":"#N/A"}},{"$f":"IF(G85>Foglio1!$I$7,1,0)","v":0},9.1999999999999996E-15,{"$f":" IF(Foglio1!$C$12 <> \"\", J85 / (J85+Foglio1!$C$12), NA())","v":{"$error":"#N/A"}},{"$f":"IF(J85>Foglio1!$I$7,1,0)","v":0},9.1999999999999996E-15,{"$f":" IF(Foglio1!$C$13 <> \"\", M85 / (M85+Foglio1!$C$13), NA())","v":{"$error":"#N/A"}},{"$f":"IF(M85>Foglio1!$I$7,1,0)","v":0}]
[9.3000000000000004E-15,{"$f":" IF(Foglio1!$C$9 <> \"\", A86 / (A86+Foglio1!$C$9), NA())","v":{"$error":"#N/A"}},{"$f":"IF(A86>Foglio1!$I$7,1,0)","v":0},9.3000000000000004E-15,{"$f":" IF(Foglio1!$C$10 <> \"\", D86 / (D86+Foglio1!$C$10), NA())","v":{"$error":"#N/A"}},{"$f":"IF(D86>Foglio1!$I$7,1,0)","v":0},9.3000000000000004E-15,{"$f":" IF(Foglio1!$C$11 <> \"\", G86 / (G86+Foglio1!$C$11), NA())","v":{"$error":"#N/A"}},{"$f":"IF(G86>Foglio1!$I$7,1,0)","v":0},9.3000000000000004E-15,{"$f":" IF(Foglio1!$C$12 <> \"\", J86 / (J86+Foglio1!$C$12), NA())","v":{"$error":"#N/A"}},{"$f":"IF(J86>Foglio1!$I$7,1,0)","v":0},9.3000000000000004E-15,{"$f":" IF(Foglio1!$C$13 <> \"\", M86 / (M86+Foglio1!$C$13), NA())","v":{"$error":"#N/A"}},{"$f":"IF(M86>Foglio1!$I$7,1,0)","v":0}]
[9.3999999999999997E-15,{"$f":" IF(Foglio1!$C$9 <> \"\", A87 / (A87+Foglio1!$C$9), NA())","v":{"$error":"#N/A"}},{"$f":"IF(A87>Foglio1!$I$7,1,0)","v":0},9.3999999999999997E-15,{"$f":" IF(Foglio1!$C$10 <> \"\", D87 / (D87+Foglio1!$C$10), NA())","v":{"$error":"#N/A"}},{"$f":"IF(D87>Foglio1!$I$7,1,0)","v":0},9.3999999999999997E-15,{"$f":" IF(Foglio1!$C$11 <> \"\", G87 / (G87+Foglio1!$C$11), NA())","v":{"$error":"#N/A"}},{"$f":"IF(G87>Foglio1!$I$7,1,0)","v":0},9.3999999999999997E-15,{"$f":" IF(Foglio1!$C$12 <> \"\", J87 / (J87+Foglio1!$C$12), NA())","v":{"$error":"#N/A"}},{"$f":"IF(J87>Foglio1!$I$7,1,0)","v":0},9.3999999999999997E-15,{"$f":" IF(Foglio1!$C$13 <> \"\", M87 / (M87+Foglio1!$C$13), NA())","v":{"$error":"#N/A"}},{"$f":"IF(M87>Foglio1!$I$7,1,0)","v":0}]
[9.5000000000000005E-15,{"$f":" IF(Foglio1!$C$9 <> \"\", A88 / (A88+Foglio1!$C$9), NA())","v":{"$error":"#N/A"}},{"$f":"IF(A88>Foglio1!$I$7,1,0)","v":0},9.5000000000000005E-15,{"$f":" IF(Foglio1!$C$10 <> \"\", D88 / (D88+Foglio1!$C$10), NA())","v":{"$error":"#N/A"}},{"$f":"IF(D88>Foglio1!$I$7,1,0)","v":0},9.5000000000000005E-15,{"$f":" IF(Foglio1!$C$11 <> \"\", G88 / (G88+Foglio1!$C$11), NA())","v":{"$error":"#N/A"}},{"$f":"IF(G88>Foglio1!$I$7,1,0)","v":0},9.5000000000000005E-15,{"$f":" IF(Foglio1!$C$12 <> \"\", J88 / (J88+Foglio1!$C$12), NA())","v":{"$error":"#N/A"}},{"$f":"IF(J88>Foglio1!$I$7,1,0)","v":0},9.5000000000000005E-15,{"$f":" IF(Foglio1!$C$13 <> \"\", M88 / (M88+Foglio1!$C$13), NA())","v":{"$error":"#N/A"}},{"$f":"IF(M88>Foglio1!$I$7,1,0)","v":0}]
[9.5999999999999998E-15,{"$f":" IF(Foglio1!$C$9 <> \"\", A89 / (A89+Foglio1!$C$9), NA())","v":{"$error":"#N/A"}},{"$f":"IF(A89>Foglio1!$I$7,1,0)","v":0},9.5999999999999998E-15,{"$f":" IF(Foglio1!$C$10 <> \"\", D89 / (D89+Foglio1!$C$10), NA())","v":{"$error":"#N/A"}},{"$f":"IF(D89>Foglio1!$I$7,1,0)","v":0},9.5999999999999998E-15,{"$f":" IF(Foglio1!$C$11 <> \"\", G89 / (G89+Foglio1!$C$11), NA())","v":{"$error":"#N/A"}},{"$f":"IF(G89>Foglio1!$I$7,1,0)","v":0},9.5999999999999998E-15,{"$f":" IF(Foglio1!$C$12 <> \"\", J89 / (J89+Foglio1!$C$12), NA())","v":{"$error":"#N/A"}},{"$f":"IF(J89>Foglio1!$I$7,1,0)","v":0},9.5999999999999998E-15,{"$f":" IF(Foglio1!$C$13 <> \"\", M89 / (M89+Foglio1!$C$13), NA())","v":{"$error":"#N/A"}},{"$f":"IF(M89>Foglio1!$I$7,1,0)","v":0}]
[9.7000000000000006E-15,{"$f":" IF(Foglio1!$C$9 <> \"\", A90 / (A90+Foglio1!$C$9), NA())","v":{"$error":"#N/A"}},{"$f":"IF(A90>Foglio1!$I$7,1,0)","v":0},9.7000000000000006E-15,{"$f":" IF(Foglio1!$C$10 <> \"\", D90 / (D90+Foglio1!$C$10), NA())","v":{"$error":"#N/A"}},{"$f":"IF(D90>Foglio1!$I$7,1,0)","v":0},9.7000000000000006E-15,{"$f":" IF(Foglio1!$C$11 <> \"\", G90 / (G90+Foglio1!$C$11), NA())","v":{"$error":"#N/A"}},{"$f":"IF(G90>Foglio1!$I$7,1,0)","v":0},9.7000000000000006E-15,{"$f":" IF(Foglio1!$C$12 <> \"\", J90 / (J90+Foglio1!$C$12), NA())","v":{"$error":"#N/A"}},{"$f":"IF(J90>Foglio1!$I$7,1,0)","v":0},9.7000000000000006E-15,{"$f":" IF(Foglio1!$C$13 <> \"\", M90 / (M90+Foglio1!$C$13), NA())","v":{"$error":"#N/A"}},{"$f":"IF(M90>Foglio1!$I$7,1,0)","v":0}]
[9.7999999999999999E-15,{"$f":" IF(Foglio1!$C$9 <> \"\", A91 / (A91+Foglio1!$C$9), NA())","v":{"$error":"#N/A"}},{"$f":"IF(A91>Foglio1!$I$7,1,0)","v":0},9.7999999999999999E-15,{"$f":" IF(Foglio1!$C$10 <> \"\", D91 / (D91+Foglio1!$C$10), NA())","v":{"$error":"#N/A"}},{"$f":"IF(D91>Foglio1!$I$7,1,0)","v":0},9.7999999999999999E-15,{"$f":" IF(Foglio1!$C$11 <> \"\", G91 / (G91+Foglio1!$C$11), NA())","v":{"$error":"#N/A"}},{"$f":"IF(G91>Foglio1!$I$7,1,0)","v":0},9.7999999999999999E-15,{"$f":" IF(Foglio1!$C$12 <> \"\", J91 / (J91+Foglio1!$C$12), NA())","v":{"$error":"#N/A"}},{"$f":"IF(J91>Foglio1!$I$7,1,0)","v":0},9.7999999999999999E-15,{"$f":" IF(Foglio1!$C$13 <> \"\", M91 / (M91+Foglio1!$C$13), NA())","v":{"$error":"#N/A"}},{"$f":"IF(M91>Foglio1!$I$7,1,0)","v":0}]
[9.9000000000000007E-15,{"$f":" IF(Foglio1!$C$9 <> \"\", A92 / (A92+Foglio1!$C$9), NA())","v":{"$error":"#N/A"}},{"$f":"IF(A92>Foglio1!$I$7,1,0)","v":0},9.9000000000000007E-15,{"$f":" IF(Foglio1!$C$10 <> \"\", D92 / (D92+Foglio1!$C$10), NA())","v":{"$error":"#N/A"}},{"$f":"IF(D92>Foglio1!$I$7,1,0)","v":0},9.9000000000000007E-15,{"$f":" IF(Foglio1!$C$11 <> \"\", G92 / (G92+Foglio1!$C$11), NA())","v":{"$error":"#N/A"}},{"$f":"IF(G92>Foglio1!$I$7,1,0)","v":0},9.9000000000000007E-15,{"$f":" IF(Foglio1!$C$12 <> \"\", J92 / (J92+Foglio1!$C$12), NA())","v":{"$error":"#N/A"}},{"$f":"IF(J92>Foglio1!$I$7,1,0)","v":0},9.9000000000000007E-15,{"$f":" IF(Foglio1!$C$13 <> \"\", M92 / (M92+Foglio1!$C$13), NA())","v":{"$error":"#N/A"}},{"$f":"IF(M92>Foglio1!$I$7,1,0)","v":0}]
[1E-14,{"$f":" IF(Foglio1!$C$9 <> \"\", A93 / (A93+Foglio1!$C$9), NA())","v":{"$error":"#N/A"}},{"$f":"IF(A93>Foglio1!$I$7,1,0)","v":0},1E-14,{"$f":" IF(Foglio1!$C$10 <> \"\", D93 / (D93+Foglio1!$C$10), NA())","v":{"$error":"#N/A"}},{"$f":"IF(D93>Foglio1!$I$7,1,0)","v":0},1E-14,{"$f":" IF(Foglio1!$C$11 <> \"\", G93 / (G93+Foglio1!$C$11), NA())","v":{"$error":"#N/A"}},{"$f":"IF(G93>Foglio1!$I$7,1,0)","v":0},1E-14,{"$f":" IF(Foglio1!$C$12 <> \"\", J93 / (J93+Foglio1!$C$12), NA())","v":{"$error":"#N/A"}},{"$f":"IF(J93>Foglio1!$I$7,1,0)","v":0},1E-14,{"$f":" IF(Foglio1!$C$13 <> \"\", M93 / (M93+Foglio1!$C$13), NA())","v":{"$error":"#N/A"}},{"$f":"IF(M93>Foglio1!$I$7,1,0)","v":0}]
[1.1E-14,{"$f":" IF(Foglio1!$C$9 <> \"\", A94 / (A94+Foglio1!$C$9), NA())","v":{"$error":"#N/A"}},{"$f":"IF(A94>Foglio1!$I$7,1,0)","v":0},1.1E-14,{"$f":" IF(Foglio1!$C$10 <> \"\", D94 / (D94+Foglio1!$C$10), NA())","v":{"$error":"#N/A"}},{"$f":"IF(D94>Foglio1!$I$7,1,0)","v":0},1.1E-14,{"$f":" IF(Foglio1!$C$11 <> \"\", G94 / (G94+Foglio1!$C$11), NA())","v":{"$error":"#N/A"}},{"$f":"IF(G94>Foglio1!$I$7,1,0)","v":0},1.1E-14,{"$f":" IF(Foglio1!$C$12 <> \"\", J94 / (J94+Foglio1!$C$12), NA())","v":{"$error":"#N/A"}},{"$f":"IF(J94>Foglio1!$I$7,1,0)","v":0},1.1E-14,{"$f":" IF(Foglio1!$C$13 <> \"\", M94 / (M94+Foglio1!$C$13), NA())","v":{"$error":"#N/A"}},{"$f":"IF(M94>Foglio1!$I$7,1,0)","v":0}]
[1.1999999999999999E-14,{"$f":" IF(Foglio1!$C$9 <> \"\", A95 / (A95+Foglio1!$C$9), NA())","v":{"$error":"#N/A"}},{"$f":"IF(A95>Foglio1!$I$7,1,0)","v":0},1.1999999999999999E-14,{"$f":" IF(Foglio1!$C$10 <> \"\", D95 / (D95+Foglio1!$C$10), NA())","v":{"$error":"#N/A"}},{"$f":"IF(D95>Foglio1!$I$7,1,0)","v":0},1.1999999999999999E-14,{"$f":" IF(Foglio1!$C$11 <> \"\", G95 / (G95+Foglio1!$C$11), NA())","v":{"$error":"#N/A"}},{"$f":"IF(G95>Foglio1!$I$7,1,0)","v":0},1.1999999999999999E-14,{"$f":" IF(Foglio1!$C$12 <> \"\", J95 / (J95+Foglio1!$C$12), NA())","v":{"$error":"#N/A"}},{"$f":"IF(J95>Foglio1!$I$7,1,0)","v":0},1.1999999999999999E-14,{"$f":" IF(Foglio1!$C$13 <> \"\", M95 / (M95+Foglio1!$C$13), NA())","v":{"$error":"#N/A"}},{"$f":"IF(M95>Foglio1!$I$7,1,0)","v":0}]
[1.3E-14,{"$f":" IF(Foglio1!$C$9 <> \"\", A96 / (A96+Foglio1!$C$9), NA())","v":{"$error":"#N/A"}},{"$f":"IF(A96>Foglio1!$I$7,1,0)","v":0},1.3E-14,{"$f":" IF(Foglio1!$C$10 <> \"\", D96 / (D96+Foglio1!$C$10), NA())","v":{"$error":"#N/A"}},{"$f":"IF(D96>Foglio1!$I$7,1,0)","v":0},1.3E-14,{"$f":" IF(Foglio1!$C$11 <> \"\", G96 / (G96+Foglio1!$C$11), NA())","v":{"$error":"#N/A"}},{"$f":"IF(G96>Foglio1!$I$7,1,0)","v":0},1.3E-14,{"$f":" IF(Foglio1!$C$12 <> \"\", J96 / (J96+Foglio1!$C$12), NA())","v":{"$error":"#N/A"}},{"$f":"IF(J96>Foglio1!$I$7,1,0)","v":0},1.3E-14,{"$f":" IF(Foglio1!$C$13 <> \"\", M96 / (M96+Foglio1!$C$13), NA())","v":{"$error":"#N/A"}},{"$f":"IF(M96>Foglio1!$I$7,1,0)","v":0}]
[1.4E-14,{"$f":" IF(Foglio1!$C$9 <> \"\", A97 / (A97+Foglio1!$C$9), NA())","v":{"$error":"#N/A"}},{"$f":"IF(A97>Foglio1!$I$7,1,0)","v":0},1.4E-14,{"$f":" IF(Foglio1!$C$10 <> \"\", D97 / (D97+Foglio1!$C$10), NA())","v":{"$error":"#N/A"}},{"$f":"IF(D97>Foglio1!$I$7,1,0)","v":0},1.4E-14,{"$f":" IF(Foglio1!$C$11 <> \"\", G97 / (G97+Foglio1!$C$11), NA())","v":{"$error":"#N/A"}},{"$f":"IF(G97>Foglio1!$I$7,1,0)","v":0},1.4E-14,{"$f":" IF(Foglio1!$C$12 <> \"\", J97 / (J97+Foglio1!$C$12), NA())","v":{"$error":"#N/A"}},{"$f":"IF(J97>Foglio1!$I$7,1,0)","v":0},1.4E-14,{"$f":" IF(Foglio1!$C$13 <> \"\", M97 / (M97+Foglio1!$C$13), NA())","v":{"$error":"#N/A"}},{"$f":"IF(M97>Foglio1!$I$7,1,0)","v":0}]
[1.4999999999999999E-14,{"$f":" IF(Foglio1!$C$9 <> \"\", A98 / (A98+Foglio1!$C$9), NA())","v":{"$error":"#N/A"}},{"$f":"IF(A98>Foglio1!$I$7,1,0)","v":0},1.4999999999999999E-14,{"$f":" IF(Foglio1!$C$10 <> \"\", D98 / (D98+Foglio1!$C$10), NA())","v":{"$error":"#N/A"}},{"$f":"IF(D98>Foglio1!$I$7,1,0)","v":0},1.4999999999999999E-14,{"$f":" IF(Foglio1!$C$11 <> \"\", G98 / (G98+Foglio1!$C$11), NA())","v":{"$error":"#N/A"}},{"$f":"IF(G98>Foglio1!$I$7,1,0)","v":0},1.4999999999999999E-14,{"$f":" IF(Foglio1!$C$12 <> \"\", J98 / (J98+Foglio1!$C$12), NA())","v":{"$error":"#N/A"}},{"$f":"IF(J98>Foglio1!$I$7,1,0)","v":0},1.4999999999999999E-14,{"$f":" IF(Foglio1!$C$13 <> \"\", M98 / (M98+Foglio1!$C$13), NA())","v":{"$error":"#N/A"}},{"$f":"IF(M98>Foglio1!$I$7,1,0)","v":0}]
[1.6000000000000001E-14,{"$f":" IF(Foglio1!$C$9 <> \"\", A99 / (A99+Foglio1!$C$9), NA())","v":{"$error":"#N/A"}},{"$f":"IF(A99>Foglio1!$I$7,1,0)","v":0},1.6000000000000001E-14,{"$f":" IF(Foglio1!$C$10 <> \"\", D99 / (D99+Foglio1!$C$10), NA())","v":{"$error":"#N/A"}},{"$f":"IF(D99>Foglio1!$I$7,1,0)","v":0},1.6000000000000001E-14,{"$f":" IF(Foglio1!$C$11 <> \"\", G99 / (G99+Foglio1!$C$11), NA())","v":{"$error":"#N/A"}},{"$f":"IF(G99>Foglio1!$I$7,1,0)","v":0},1.6000000000000001E-14,{"$f":" IF(Foglio1!$C$12 <> \"\", J99 / (J99+Foglio1!$C$12), NA())","v":{"$error":"#N/A"}},{"$f":"IF(J99>Foglio1!$I$7,1,0)","v":0},1.6000000000000001E-14,{"$f":" IF(Foglio1!$C$13 <> \"\", M99 / (M99+Foglio1!$C$13), NA())","v":{"$error":"#N/A"}},{"$f":"IF(M99>Foglio1!$I$7,1,0)","v":0}]
[1.7E-14,{"$f":" IF(Foglio1!$C$9 <> \"\", A100 / (A100+Foglio1!$C$9), NA())","v":{"$error":"#N/A"}},{"$f":"IF(A100>Foglio1!$I$7,1,0)","v":0},1.7E-14,{"$f":" IF(Foglio1!$C$10 <> \"\", D100 / (D100+Foglio1!$C$10), NA())","v":{"$error":"#N/A"}},{"$f":"IF(D100>Foglio1!$I$7,1,0)","v":0},1.7E-14,{"$f":" IF(Foglio1!$C$11 <> \"\", G100 / (G100+Foglio1!$C$11), NA())","v":{"$error":"#N/A"}},{"$f":"IF(G100>Foglio1!$I$7,1,0)","v":0},1.7E-14,{"$f":" IF(Foglio1!$C$12 <> \"\", J100 / (J100+Foglio1!$C$12), NA())","v":{"$error":"#N/A"}},{"$f":"IF(J100>Foglio1!$I$7,1,0)","v":0},1.7E-14,{"$f":" IF(Foglio1!$C$13 <> \"\", M100 / (M100+Foglio1!$C$13), NA())","v":{"$error":"#N/A"}},{"$f":"IF(M100>Foglio1!$I$7,1,0)","v":0}]
[1.7999999999999999E-14,{"$f":" IF(Foglio1!$C$9 <> \"\", A101 / (A101+Foglio1!$C$9), NA())","v":{"$error":"#N/A"}},{"$f":"IF(A101>Foglio1!$I$7,1,0)","v":0},1.7999999999999999E-14,{"$f":" IF(Foglio1!$C$10 <> \"\", D101 / (D101+Foglio1!$C$10), NA())","v":{"$error":"#N/A"}},{"$f":"IF(D101>Foglio1!$I$7,1,0)","v":0},1.7999999999999999E-14,{"$f":" IF(Foglio1!$C$11 <> \"\", G101 / (G101+Foglio1!$C$11), NA())","v":{"$error":"#N/A"}},{"$f":"IF(G101>Foglio1!$I$7,1,0)","v":0},1.7999999999999999E-14,{"$f":" IF(Foglio1!$C$12 <> \"\", J101 / (J101+Foglio1!$C$12), NA())","v":{"$error":"#N/A"}},{"$f":"IF(J101>Foglio1!$I$7,1,0)","v":0},1.7999999999999999E-14,{"$f":" IF(Foglio1!$C$13 <> \"\", M101 / (M101+Foglio1!$C$13), NA())","v":{"$error":"#N/A"}},{"$f":"IF(M101>Foglio1!$I$7,1,0)","v":0}]
[1.9000000000000001E-14,{"$f":" IF(Foglio1!$C$9 <> \"\", A102 / (A102+Foglio1!$C$9), NA())","v":{"$error":"#N/A"}},{"$f":"IF(A102>Foglio1!$I$7,1,0)","v":0},1.9000000000000001E-14,{"$f":" IF(Foglio1!$C$10 <> \"\", D102 / (D102+Foglio1!$C$10), NA())","v":{"$error":"#N/A"}},{"$f":"IF(D102>Foglio1!$I$7,1,0)","v":0},1.9000000000000001E-14,{"$f":" IF(Foglio1!$C$11 <> \"\", G102 / (G102+Foglio1!$C$11), NA())","v":{"$error":"#N/A"}},{"$f":"IF(G102>Foglio1!$I$7,1,0)","v":0},1.9000000000000001E-14,{"$f":" IF(Foglio1!$C$12 <> \"\", J102 / (J102+Foglio1!$C$12), NA())","v":{"$error":"#N/A"}},{"$f":"IF(J102>Foglio1!$I$7,1,0)","v":0},1.9000000000000001E-14,{"$f":" IF(Foglio1!$C$13 <> \"\", M102 / (M102+Foglio1!$C$13), NA())","v":{"$error":"#N/A"}},{"$f":"IF(M102>Foglio1!$I$7,1,0)","v":0}]
[2E-14,{"$f":" IF(Foglio1!$C$9 <> \"\", A103 / (A103+Foglio1!$C$9), NA())","v":{"$error":"#N/A"}},{"$f":"IF(A103>Foglio1!$I$7,1,0)","v":0},2E-14,{"$f":" IF(Foglio1!$C$10 <> \"\", D103 / (D103+Foglio1!$C$10), NA())","v":{"$error":"#N/A"}},{"$f":"IF(D103>Foglio1!$I$7,1,0)","v":0},2E-14,{"$f":" IF(Foglio1!$C$11 <> \"\", G103 / (G103+Foglio1!$C$11), NA())","v":{"$error":"#N/A"}},{"$f":"IF(G103>Foglio1!$I$7,1,0)","v":0},2E-14,{"$f":" IF(Foglio1!$C$12 <> \"\", J103 / (J103+Foglio1!$C$12), NA())","v":{"$error":"#N/A"}},{"$f":"IF(J103>Foglio1!$I$7,1,0)","v":0},2E-14,{"$f":" IF(Foglio1!$C$13 <> \"\", M103 / (M103+Foglio1!$C$13), NA())","v":{"$error":"#N/A"}},{"$f":"IF(M103>Foglio1!$I$7,1,0)","v":0}]
[2.0999999999999999E-14,{"$f":" IF(Foglio1!$C$9 <> \"\", A104 / (A104+Foglio1!$C$9), NA())","v":{"$error":"#N/A"}},{"$f":"IF(A104>Foglio1!$I$7,1,0)","v":0},2.0999999999999999E-14,{"$f":" IF(Foglio1!$C$10 <> \"\", D104 / (D104+Foglio1!$C$10), NA())","v":{"$error":"#N/A"}},{"$f":"IF(D104>Foglio1!$I$7,1,0)","v":0},2.0999999999999999E-14,{"$f":" IF(Foglio1!$C$11 <> \"\", G104 / (G104+Foglio1!$C$11), NA())","v":{"$error":"#N/A"}},{"$f":"IF(G104>Foglio1!$I$7,1,0)","v":0},2.0999999999999999E-14,{"$f":" IF(Foglio1!$C$12 <> \"\", J104 / (J104+Foglio1!$C$12), NA())","v":{"$error":"#N/A"}},{"$f":"IF(J104>Foglio1!$I$7,1,0)","v":0},2.0999999999999999E-14,{"$f":" IF(Foglio1!$C$13 <> \"\", M104 / (M104+Foglio1!$C$13), NA())","v":{"$error":"#N/A"}},{"$f":"IF(M104>Foglio1!$I$7,1,0)","v":0}]
[2.2000000000000001E-14,{"$f":" IF(Foglio1!$C$9 <> \"\", A105 / (A105+Foglio1!$C$9), NA())","v":{"$error":"#N/A"}},{"$f":"IF(A105>Foglio1!$I$7,1,0)","v":0},2.2000000000000001E-14,{"$f":" IF(Foglio1!$C$10 <> \"\", D105 / (D105+Foglio1!$C$10), NA())","v":{"$error":"#N/A"}},{"$f":"IF(D105>Foglio1!$I$7,1,0)","v":0},2.2000000000000001E-14,{"$f":" IF(Foglio1!$C$11 <> \"\", G105 / (G105+Foglio1!$C$11), NA())","v":{"$error":"#N/A"}},{"$f":"IF(G105>Foglio1!$I$7,1,0)","v":0},2.2000000000000001E-14,{"$f":" IF(Foglio1!$C$12 <> \"\", J105 / (J105+Foglio1!$C$12), NA())","v":{"$error":"#N/A"}},{"$f":"IF(J105>Foglio1!$I$7,1,0)","v":0},2.2000000000000001E-14,{"$f":" IF(Foglio1!$C$13 <> \"\", M105 / (M105+Foglio1!$C$13), NA())","v":{"$error":"#N/A"}},{"$f":"IF(M105>Foglio1!$I$7,1,0)","v":0}]
[2.3E-14,{"$f":" IF(Foglio1!$C$9 <> \"\", A106 / (A106+Foglio1!$C$9), NA())","v":{"$error":"#N/A"}},{"$f":"IF(A106>Foglio1!$I$7,1,0)","v":0},2.3E-14,{"$f":" IF(Foglio1!$C$10 <> \"\", D106 / (D106+Foglio1!$C$10), NA())","v":{"$error":"#N/A"}},{"$f":"IF(D106>Foglio1!$I$7,1,0)","v":0},2.3E-14,{"$f":" IF(Foglio1!$C$11 <> \"\", G106 / (G106+Foglio1!$C$11), NA())","v":{"$error":"#N/A"}},{"$f":"IF(G106>Foglio1!$I$7,1,0)","v":0},2.3E-14,{"$f":" IF(Foglio1!$C$12 <> \"\", J106 / (J106+Foglio1!$C$12), NA())","v":{"$error":"#N/A"}},{"$f":"IF(J106>Foglio1!$I$7,1,0)","v":0},2.3E-14,{"$f":" IF(Foglio1!$C$13 <> \"\", M106 / (M106+Foglio1!$C$13), NA())","v":{"$error":"#N/A"}},{"$f":"IF(M106>Foglio1!$I$7,1,0)","v":0}]
[2.3999999999999999E-14,{"$f":" IF(Foglio1!$C$9 <> \"\", A107 / (A107+Foglio1!$C$9), NA())","v":{"$error":"#N/A"}},{"$f":"IF(A107>Foglio1!$I$7,1,0)","v":0},2.3999999999999999E-14,{"$f":" IF(Foglio1!$C$10 <> \"\", D107 / (D107+Foglio1!$C$10), NA())","v":{"$error":"#N/A"}},{"$f":"IF(D107>Foglio1!$I$7,1,0)","v":0},2.3999999999999999E-14,{"$f":" IF(Foglio1!$C$11 <> \"\", G107 / (G107+Foglio1!$C$11), NA())","v":{"$error":"#N/A"}},{"$f":"IF(G107>Foglio1!$I$7,1,0)","v":0},2.3999999999999999E-14,{"$f":" IF(Foglio1!$C$12 <> \"\", J107 / (J107+Foglio1!$C$12), NA())","v":{"$error":"#N/A"}},{"$f":"IF(J107>Foglio1!$I$7,1,0)","v":0},2.3999999999999999E-14,{"$f":" IF(Foglio1!$C$13 <> \"\", M107 / (M107+Foglio1!$C$13), NA())","v":{"$error":"#N/A"}},{"$f":"IF(M107>Foglio1!$I$7,1,0)","v":0}]
[2.5000000000000001E-14,{"$f":" IF(Foglio1!$C$9 <> \"\", A108 / (A108+Foglio1!$C$9), NA())","v":{"$error":"#N/A"}},{"$f":"IF(A108>Foglio1!$I$7,1,0)","v":0},2.5000000000000001E-14,{"$f":" IF(Foglio1!$C$10 <> \"\", D108 / (D108+Foglio1!$C$10), NA())","v":{"$error":"#N/A"}},{"$f":"IF(D108>Foglio1!$I$7,1,0)","v":0},2.5000000000000001E-14,{"$f":" IF(Foglio1!$C$11 <> \"\", G108 / (G108+Foglio1!$C$11), NA())","v":{"$error":"#N/A"}},{"$f":"IF(G108>Foglio1!$I$7,1,0)","v":0},2.5000000000000001E-14,{"$f":" IF(Foglio1!$C$12 <> \"\", J108 / (J108+Foglio1!$C$12), NA())","v":{"$error":"#N/A"}},{"$f":"IF(J108>Foglio1!$I$7,1,0)","v":0},2.5000000000000001E-14,{"$f":" IF(Foglio1!$C$13 <> \"\", M108 / (M108+Foglio1!$C$13), NA())","v":{"$error":"#N/A"}},{"$f":"IF(M108>Foglio1!$I$7,1,0)","v":0}]
[2.6E-14,{"$f":" IF(Foglio1!$C$9 <> \"\", A109 / (A109+Foglio1!$C$9), NA())","v":{"$error":"#N/A"}},{"$f":"IF(A109>Foglio1!$I$7,1,0)","v":0},2.6E-14,{"$f":" IF(Foglio1!$C$10 <> \"\", D109 / (D109+Foglio1!$C$10), NA())","v":{"$error":"#N/A"}},{"$f":"IF(D109>Foglio1!$I$7,1,0)","v":0},2.6E-14,{"$f":" IF(Foglio1!$C$11 <> \"\", G109 / (G109+Foglio1!$C$11), NA())","v":{"$error":"#N/A"}},{"$f":"IF(G109>Foglio1!$I$7,1,0)","v":0},2.6E-14,{"$f":" IF(Foglio1!$C$12 <> \"\", J109 / (J109+Foglio1!$C$12), NA())","v":{"$error":"#N/A"}},{"$f":"IF(J109>Foglio1!$I$7,1,0)","v":0},2.6E-14,{"$f":" IF(Foglio1!$C$13 <> \"\", M109 / (M109+Foglio1!$C$13), NA())","v":{"$error":"#N/A"}},{"$f":"IF(M109>Foglio1!$I$7,1,0)","v":0}]
[2.6999999999999999E-14,{"$f":" IF(Foglio1!$C$9 <> \"\", A110 / (A110+Foglio1!$C$9), NA())","v":{"$error":"#N/A"}},{"$f":"IF(A110>Foglio1!$I$7,1,0)","v":0},2.6999999999999999E-14,{"$f":" IF(Foglio1!$C$10 <> \"\", D110 / (D110+Foglio1!$C$10), NA())","v":{"$error":"#N/A"}},{"$f":"IF(D110>Foglio1!$I$7,1,0)","v":0},2.6999999999999999E-14,{"$f":" IF(Foglio1!$C$11 <> \"\", G110 / (G110+Foglio1!$C$11), NA())","v":{"$error":"#N/A"}},{"$f":"IF(G110>Foglio1!$I$7,1,0)","v":0},2.6999999999999999E-14,{"$f":" IF(Foglio1!$C$12 <> \"\", J110 / (J110+Foglio1!$C$12), NA())","v":{"$error":"#N/A"}},{"$f":"IF(J110>Foglio1!$I$7,1,0)","v":0},2.6999999999999999E-14,{"$f":" IF(Foglio1!$C$13 <> \"\", M110 / (M110+Foglio1!$C$13), NA())","v":{"$error":"#N/A"}},{"$f":"IF(M110>Foglio1!$I$7,1,0)","v":0}]
[2.8000000000000001E-14,{"$f":" IF(Foglio1!$C$9 <> \"\", A111 / (A111+Foglio1!$C$9), NA())","v":{"$error":"#N/A"}},{"$f":"IF(A111>Foglio1!$I$7,1,0)","v":0},2.8000000000000001E-14,{"$f":" IF(Foglio1!$C$10 <> \"\", D111 / (D111+Foglio1!$C$10), NA())","v":{"$error":"#N/A"}},{"$f":"IF(D111>Foglio1!$I$7,1,0)","v":0},2.8000000000000001E-14,{"$f":" IF(Foglio1!$C$11 <> \"\", G111 / (G111+Foglio1!$C$11), NA())","v":{"$error":"#N/A"}},{"$f":"IF(G111>Foglio1!$I$7,1,0)","v":0},2.8000000000000001E-14,{"$f":" IF(Foglio1!$C$12 <> \"\", J111 / (J111+Foglio1!$C$12), NA())","v":{"$error":"#N/A"}},{"$f":"IF(J111>Foglio1!$I$7,1,0)","v":0},2.8000000000000001E-14,{"$f":" IF(Foglio1!$C$13 <> \"\", M111 / (M111+Foglio1!$C$13), NA())","v":{"$error":"#N/A"}},{"$f":"IF(M111>Foglio1!$I$7,1,0)","v":0}]
[2.9000000000000003E-14,{"$f":" IF(Foglio1!$C$9 <> \"\", A112 / (A112+Foglio1!$C$9), NA())","v":{"$error":"#N/A"}},{"$f":"IF(A112>Foglio1!$I$7,1,0)","v":0},2.9000000000000003E-14,{"$f":" IF(Foglio1!$C$10 <> \"\", D112 / (D112+Foglio1!$C$10), NA())","v":{"$error":"#N/A"}},{"$f":"IF(D112>Foglio1!$I$7,1,0)","v":0},2.9000000000000003E-14,{"$f":" IF(Foglio1!$C$11 <> \"\", G112 / (G112+Foglio1!$C$11), NA())","v":{"$error":"#N/A"}},{"$f":"IF(G112>Foglio1!$I$7,1,0)","v":0},2.9000000000000003E-14,{"$f":" IF(Foglio1!$C$12 <> \"\", J112 / (J112+Foglio1!$C$12), NA())","v":{"$error":"#N/A"}},{"$f":"IF(J112>Foglio1!$I$7,1,0)","v":0},2.9000000000000003E-14,{"$f":" IF(Foglio1!$C$13 <> \"\", M112 / (M112+Foglio1!$C$13), NA())","v":{"$error":"#N/A"}},{"$f":"IF(M112>Foglio1!$I$7,1,0)","v":0}]
[2.9999999999999998E-14,{"$f":" IF(Foglio1!$C$9 <> \"\", A113 / (A113+Foglio1!$C$9), NA())","v":{"$error":"#N/A"}},{"$f":"IF(A113>Foglio1!$I$7,1,0)","v":0},2.9999999999999998E-14,{"$f":" IF(Foglio1!$C$10 <> \"\", D113 / (D113+Foglio1!$C$10), NA())","v":{"$error":"#N/A"}},{"$f":"IF(D113>Foglio1!$I$7,1,0)","v":0},2.9999999999999998E-14,{"$f":" IF(Foglio1!$C$11 <> \"\", G113 / (G113+Foglio1!$C$11), NA())","v":{"$error":"#N/A"}},{"$f":"IF(G113>Foglio1!$I$7,1,0)","v":0},2.9999999999999998E-14,{"$f":" IF(Foglio1!$C$12 <> \"\", J113 / (J113+Foglio1!$C$12), NA())","v":{"$error":"#N/A"}},{"$f":"IF(J113>Foglio1!$I$7,1,0)","v":0},2.9999999999999998E-14,{"$f":" IF(Foglio1!$C$13 <> \"\", M113 / (M113+Foglio1!$C$13), NA())","v":{"$error":"#N/A"}},{"$f":"IF(M113>Foglio1!$I$7,1,0)","v":0}]
[3.1E-14,{"$f":" IF(Foglio1!$C$9 <> \"\", A114 / (A114+Foglio1!$C$9), NA())","v":{"$error":"#N/A"}},{"$f":"IF(A114>Foglio1!$I$7,1,0)","v":0},3.1E-14,{"$f":" IF(Foglio1!$C$10 <> \"\", D114 / (D114+Foglio1!$C$10), NA())","v":{"$error":"#N/A"}},{"$f":"IF(D114>Foglio1!$I$7,1,0)","v":0},3.1E-14,{"$f":" IF(Foglio1!$C$11 <> \"\", G114 / (G114+Foglio1!$C$11), NA())","v":{"$error":"#N/A"}},{"$f":"IF(G114>Foglio1!$I$7,1,0)","v":0},3.1E-14,{"$f":" IF(Foglio1!$C$12 <> \"\", J114 / (J114+Foglio1!$C$12), NA())","v":{"$error":"#N/A"}},{"$f":"IF(J114>Foglio1!$I$7,1,0)","v":0},3.1E-14,{"$f":" IF(Foglio1!$C$13 <> \"\", M114 / (M114+Foglio1!$C$13), NA())","v":{"$error":"#N/A"}},{"$f":"IF(M114>Foglio1!$I$7,1,0)","v":0}]
[3.2000000000000002E-14,{"$f":" IF(Foglio1!$C$9 <> \"\", A115 / (A115+Foglio1!$C$9), NA())","v":{"$error":"#N/A"}},{"$f":"IF(A115>Foglio1!$I$7,1,0)","v":0},3.2000000000000002E-14,{"$f":" IF(Foglio1!$C$10 <> \"\", D115 / (D115+Foglio1!$C$10), NA())","v":{"$error":"#N/A"}},{"$f":"IF(D115>Foglio1!$I$7,1,0)","v":0},3.2000000000000002E-14,{"$f":" IF(Foglio1!$C$11 <> \"\", G115 / (G115+Foglio1!$C$11), NA())","v":{"$error":"#N/A"}},{"$f":"IF(G115>Foglio1!$I$7,1,0)","v":0},3.2000000000000002E-14,{"$f":" IF(Foglio1!$C$12 <> \"\", J115 / (J115+Foglio1!$C$12), NA())","v":{"$error":"#N/A"}},{"$f":"IF(J115>Foglio1!$I$7,1,0)","v":0},3.2000000000000002E-14,{"$f":" IF(Foglio1!$C$13 <> \"\", M115 / (M115+Foglio1!$C$13), NA())","v":{"$error":"#N/A"}},{"$f":"IF(M115>Foglio1!$I$7,1,0)","v":0}]
[3.2999999999999998E-14,{"$f":" IF(Foglio1!$C$9 <> \"\", A116 / (A116+Foglio1!$C$9), NA())","v":{"$error":"#N/A"}},{"$f":"IF(A116>Foglio1!$I$7,1,0)","v":0},3.2999999999999998E-14,{"$f":" IF(Foglio1!$C$10 <> \"\", D116 / (D116+Foglio1!$C$10), NA())","v":{"$error":"#N/A"}},{"$f":"IF(D116>Foglio1!$I$7,1,0)","v":0},3.2999999999999998E-14,{"$f":" IF(Foglio1!$C$11 <> \"\", G116 / (G116+Foglio1!$C$11), NA())","v":{"$error":"#N/A"}},{"$f":"IF(G116>Foglio1!$I$7,1,0)","v":0},3.2999999999999998E-14,{"$f":" IF(Foglio1!$C$12 <> \"\", J116 / (J116+Foglio1!$C$12), NA())","v":{"$error":"#N/A"}},{"$f":"IF(J116>Foglio1!$I$7,1,0)","v":0},3.2999999999999998E-14,{"$f":" IF(Foglio1!$C$13 <> \"\", M116 / (M116+Foglio1!$C$13), NA())","v":{"$error":"#N/A"}},{"$f":"IF(M116>Foglio1!$I$7,1,0)","v":0}]
[3.4E-14,{"$f":" IF(Foglio1!$C$9 <> \"\", A117 / (A117+Foglio1!$C$9), NA())","v":{"$error":"#N/A"}},{"$f":"IF(A117>Foglio1!$I$7,1,0)","v":0},3.4E-14,{"$f":" IF(Foglio1!$C$10 <> \"\", D117 / (D117+Foglio1!$C$10), NA())","v":{"$error":"#N/A"}},{"$f":"IF(D117>Foglio1!$I$7,1,0)","v":0},3.4E-14,{"$f":" IF(Foglio1!$C$11 <> \"\", G117 / (G117+Foglio1!$C$11), NA())","v":{"$error":"#N/A"}},{"$f":"IF(G117>Foglio1!$I$7,1,0)","v":0},3.4E-14,{"$f":" IF(Foglio1!$C$12 <> \"\", J117 / (J117+Foglio1!$C$12), NA())","v":{"$error":"#N/A"}},{"$f":"IF(J117>Foglio1!$I$7,1,0)","v":0},3.4E-14,{"$f":" IF(Foglio1!$C$13 <> \"\", M117 / (M117+Foglio1!$C$13), NA())","v":{"$error":"#N/A"}},{"$f":"IF(M117>Foglio1!$I$7,1,0)","v":0}]
[3.5000000000000002E-14,{"$f":" IF(Foglio1!$C$9 <> \"\", A118 / (A118+Foglio1!$C$9), NA())","v":{"$error":"#N/A"}},{"$f":"IF(A118>Foglio1!$I$7,1,0)","v":0},3.5000000000000002E-14,{"$f":" IF(Foglio1!$C$10 <> \"\", D118 / (D118+Foglio1!$C$10), NA())","v":{"$error":"#N/A"}},{"$f":"IF(D118>Foglio1!$I$7,1,0)","v":0},3.5000000000000002E-14,{"$f":" IF(Foglio1!$C$11 <> \"\", G118 / (G118+Foglio1!$C$11), NA())","v":{"$error":"#N/A"}},{"$f":"IF(G118>Foglio1!$I$7,1,0)","v":0},3.5000000000000002E-14,{"$f":" IF(Foglio1!$C$12 <> \"\", J118 / (J118+Foglio1!$C$12), NA())","v":{"$error":"#N/A"}},{"$f":"IF(J118>Foglio1!$I$7,1,0)","v":0},3.5000000000000002E-14,{"$f":" IF(Foglio1!$C$13 <> \"\", M118 / (M118+Foglio1!$C$13), NA())","v":{"$error":"#N/A"}},{"$f":"IF(M118>Foglio1!$I$7,1,0)","v":0}]
[3.5999999999999998E-14,{"$f":" IF(Foglio1!$C$9 <> \"\", A119 / (A119+Foglio1!$C$9), NA())","v":{"$error":"#N/A"}},{"$f":"IF(A119>Foglio1!$I$7,1,0)","v":0},3.5999999999999998E-14,{"$f":" IF(Foglio1!$C$10 <> \"\", D119 / (D119+Foglio1!$C$10), NA())","v":{"$error":"#N/A"}},{"$f":"IF(D119>Foglio1!$I$7,1,0)","v":0},3.5999999999999998E-14,{"$f":" IF(Foglio1!$C$11 <> \"\", G119 / (G119+Foglio1!$C$11), NA())","v":{"$error":"#N/A"}},{"$f":"IF(G119>Foglio1!$I$7,1,0)","v":0},3.5999999999999998E-14,{"$f":" IF(Foglio1!$C$12 <> \"\", J119 / (J119+Foglio1!$C$12), NA())","v":{"$error":"#N/A"}},{"$f":"IF(J119>Foglio1!$I$7,1,0)","v":0},3.5999999999999998E-14,{"$f":" IF(Foglio1!$C$13 <> \"\", M119 / (M119+Foglio1!$C$13), NA())","v":{"$error":"#N/A"}},{"$f":"IF(M119>Foglio1!$I$7,1,0)","v":0}]
[3.7E-14,{"$f":" IF(Foglio1!$C$9 <> \"\", A120 / (A120+Foglio1!$C$9), NA())","v":{"$error":"#N/A"}},{"$f":"IF(A120>Foglio1!$I$7,1,0)","v":0},3.7E-14,{"$f":" IF(Foglio1!$C$10 <> \"\", D120 / (D120+Foglio1!$C$10), NA())","v":{"$error":"#N/A"}},{"$f":"IF(D120>Foglio1!$I$7,1,0)","v":0},3.7E-14,{"$f":" IF(Foglio1!$C$11 <> \"\", G120 / (G120+Foglio1!$C$11), NA())","v":{"$error":"#N/A"}},{"$f":"IF(G120>Foglio1!$I$7,1,0)","v":0},3.7E-14,{"$f":" IF(Foglio1!$C$12 <> \"\", J120 / (J120+Foglio1!$C$12), NA())","v":{"$error":"#N/A"}},{"$f":"IF(J120>Foglio1!$I$7,1,0)","v":0},3.7E-14,{"$f":" IF(Foglio1!$C$13 <> \"\", M120 / (M120+Foglio1!$C$13), NA())","v":{"$error":"#N/A"}},{"$f":"IF(M120>Foglio1!$I$7,1,0)","v":0}]
[3.8000000000000002E-14,{"$f":" IF(Foglio1!$C$9 <> \"\", A121 / (A121+Foglio1!$C$9), NA())","v":{"$error":"#N/A"}},{"$f":"IF(A121>Foglio1!$I$7,1,0)","v":0},3.8000000000000002E-14,{"$f":" IF(Foglio1!$C$10 <> \"\", D121 / (D121+Foglio1!$C$10), NA())","v":{"$error":"#N/A"}},{"$f":"IF(D121>Foglio1!$I$7,1,0)","v":0},3.8000000000000002E-14,{"$f":" IF(Foglio1!$C$11 <> \"\", G121 / (G121+Foglio1!$C$11), NA())","v":{"$error":"#N/A"}},{"$f":"IF(G121>Foglio1!$I$7,1,0)","v":0},3.8000000000000002E-14,{"$f":" IF(Foglio1!$C$12 <> \"\", J121 / (J121+Foglio1!$C$12), NA())","v":{"$error":"#N/A"}},{"$f":"IF(J121>Foglio1!$I$7,1,0)","v":0},3.8000000000000002E-14,{"$f":" IF(Foglio1!$C$13 <> \"\", M121 / (M121+Foglio1!$C$13), NA())","v":{"$error":"#N/A"}},{"$f":"IF(M121>Foglio1!$I$7,1,0)","v":0}]
[3.8999999999999998E-14,{"$f":" IF(Foglio1!$C$9 <> \"\", A122 / (A122+Foglio1!$C$9), NA())","v":{"$error":"#N/A"}},{"$f":"IF(A122>Foglio1!$I$7,1,0)","v":0},3.8999999999999998E-14,{"$f":" IF(Foglio1!$C$10 <> \"\", D122 / (D122+Foglio1!$C$10), NA())","v":{"$error":"#N/A"}},{"$f":"IF(D122>Foglio1!$I$7,1,0)","v":0},3.8999999999999998E-14,{"$f":" IF(Foglio1!$C$11 <> \"\", G122 / (G122+Foglio1!$C$11), NA())","v":{"$error":"#N/A"}},{"$f":"IF(G122>Foglio1!$I$7,1,0)","v":0},3.8999999999999998E-14,{"$f":" IF(Foglio1!$C$12 <> \"\", J122 / (J122+Foglio1!$C$12), NA())","v":{"$error":"#N/A"}},{"$f":"IF(J122>Foglio1!$I$7,1,0)","v":0},3.8999999999999998E-14,{"$f":" IF(Foglio1!$C$13 <> \"\", M122 / (M122+Foglio1!$C$13), NA())","v":{"$error":"#N/A"}},{"$f":"IF(M122>Foglio1!$I$7,1,0)","v":0}]
[4E-14,{"$f":" IF(Foglio1!$C$9 <> \"\", A123 / (A123+Foglio1!$C$9), NA())","v":{"$error":"#N/A"}},{"$f":"IF(A123>Foglio1!$I$7,1,0)","v":0},4E-14,{"$f":" IF(Foglio1!$C$10 <> \"\", D123 / (D123+Foglio1!$C$10), NA())","v":{"$error":"#N/A"}},{"$f":"IF(D123>Foglio1!$I$7,1,0)","v":0},4E-14,{"$f":" IF(Foglio1!$C$11 <> \"\", G123 / (G123+Foglio1!$C$11), NA())","v":{"$error":"#N/A"}},{"$f":"IF(G123>Foglio1!$I$7,1,0)","v":0},4E-14,{"$f":" IF(Foglio1!$C$12 <> \"\", J123 / (J123+Foglio1!$C$12), NA())","v":{"$error":"#N/A"}},{"$f":"IF(J123>Foglio1!$I$7,1,0)","v":0},4E-14,{"$f":" IF(Foglio1!$C$13 <> \"\", M123 / (M123+Foglio1!$C$13), NA())","v":{"$error":"#N/A"}},{"$f":"IF(M123>Foglio1!$I$7,1,0)","v":0}]
[4.1000000000000002E-14,{"$f":" IF(Foglio1!$C$9 <> \"\", A124 / (A124+Foglio1!$C$9), NA())","v":{"$error":"#N/A"}},{"$f":"IF(A124>Foglio1!$I$7,1,0)","v":0},4.1000000000000002E-14,{"$f":" IF(Foglio1!$C$10 <> \"\", D124 / (D124+Foglio1!$C$10), NA())","v":{"$error":"#N/A"}},{"$f":"IF(D124>Foglio1!$I$7,1,0)","v":0},4.1000000000000002E-14,{"$f":" IF(Foglio1!$C$11 <> \"\", G124 / (G124+Foglio1!$C$11), NA())","v":{"$error":"#N/A"}},{"$f":"IF(G124>Foglio1!$I$7,1,0)","v":0},4.1000000000000002E-14,{"$f":" IF(Foglio1!$C$12 <> \"\", J124 / (J124+Foglio1!$C$12), NA())","v":{"$error":"#N/A"}},{"$f":"IF(J124>Foglio1!$I$7,1,0)","v":0},4.1000000000000002E-14,{"$f":" IF(Foglio1!$C$13 <> \"\", M124 / (M124+Foglio1!$C$13), NA())","v":{"$error":"#N/A"}},{"$f":"IF(M124>Foglio1!$I$7,1,0)","v":0}]
[4.1999999999999998E-14,{"$f":" IF(Foglio1!$C$9 <> \"\", A125 / (A125+Foglio1!$C$9), NA())","v":{"$error":"#N/A"}},{"$f":"IF(A125>Foglio1!$I$7,1,0)","v":0},4.1999999999999998E-14,{"$f":" IF(Foglio1!$C$10 <> \"\", D125 / (D125+Foglio1!$C$10), NA())","v":{"$error":"#N/A"}},{"$f":"IF(D125>Foglio1!$I$7,1,0)","v":0},4.1999999999999998E-14,{"$f":" IF(Foglio1!$C$11 <> \"\", G125 / (G125+Foglio1!$C$11), NA())","v":{"$error":"#N/A"}},{"$f":"IF(G125>Foglio1!$I$7,1,0)","v":0},4.1999999999999998E-14,{"$f":" IF(Foglio1!$C$12 <> \"\", J125 / (J125+Foglio1!$C$12), NA())","v":{"$error":"#N/A"}},{"$f":"IF(J125>Foglio1!$I$7,1,0)","v":0},4.1999999999999998E-14,{"$f":" IF(Foglio1!$C$13 <> \"\", M125 / (M125+Foglio1!$C$13), NA())","v":{"$error":"#N/A"}},{"$f":"IF(M125>Foglio1!$I$7,1,0)","v":0}]
[4.3E-14,{"$f":" IF(Foglio1!$C$9 <> \"\", A126 / (A126+Foglio1!$C$9), NA())","v":{"$error":"#N/A"}},{"$f":"IF(A126>Foglio1!$I$7,1,0)","v":0},4.3E-14,{"$f":" IF(Foglio1!$C$10 <> \"\", D126 / (D126+Foglio1!$C$10), NA())","v":{"$error":"#N/A"}},{"$f":"IF(D126>Foglio1!$I$7,1,0)","v":0},4.3E-14,{"$f":" IF(Foglio1!$C$11 <> \"\", G126 / (G126+Foglio1!$C$11), NA())","v":{"$error":"#N/A"}},{"$f":"IF(G126>Foglio1!$I$7,1,0)","v":0},4.3E-14,{"$f":" IF(Foglio1!$C$12 <> \"\", J126 / (J126+Foglio1!$C$12), NA())","v":{"$error":"#N/A"}},{"$f":"IF(J126>Foglio1!$I$7,1,0)","v":0},4.3E-14,{"$f":" IF(Foglio1!$C$13 <> \"\", M126 / (M126+Foglio1!$C$13), NA())","v":{"$error":"#N/A"}},{"$f":"IF(M126>Foglio1!$I$7,1,0)","v":0}]
[4.4000000000000002E-14,{"$f":" IF(Foglio1!$C$9 <> \"\", A127 / (A127+Foglio1!$C$9), NA())","v":{"$error":"#N/A"}},{"$f":"IF(A127>Foglio1!$I$7,1,0)","v":0},4.4000000000000002E-14,{"$f":" IF(Foglio1!$C$10 <> \"\", D127 / (D127+Foglio1!$C$10), NA())","v":{"$error":"#N/A"}},{"$f":"IF(D127>Foglio1!$I$7,1,0)","v":0},4.4000000000000002E-14,{"$f":" IF(Foglio1!$C$11 <> \"\", G127 / (G127+Foglio1!$C$11), NA())","v":{"$error":"#N/A"}},{"$f":"IF(G127>Foglio1!$I$7,1,0)","v":0},4.4000000000000002E-14,{"$f":" IF(Foglio1!$C$12 <> \"\", J127 / (J127+Foglio1!$C$12), NA())","v":{"$error":"#N/A"}},{"$f":"IF(J127>Foglio1!$I$7,1,0)","v":0},4.4000000000000002E-14,{"$f":" IF(Foglio1!$C$13 <> \"\", M127 / (M127+Foglio1!$C$13), NA())","v":{"$error":"#N/A"}},{"$f":"IF(M127>Foglio1!$I$7,1,0)","v":0}]
[4.4999999999999998E-14,{"$f":" IF(Foglio1!$C$9 <> \"\", A128 / (A128+Foglio1!$C$9), NA())","v":{"$error":"#N/A"}},{"$f":"IF(A128>Foglio1!$I$7,1,0)","v":0},4.4999999999999998E-14,{"$f":" IF(Foglio1!$C$10 <> \"\", D128 / (D128+Foglio1!$C$10), NA())","v":{"$error":"#N/A"}},{"$f":"IF(D128>Foglio1!$I$7,1,0)","v":0},4.4999999999999998E-14,{"$f":" IF(Foglio1!$C$11 <> \"\", G128 / (G128+Foglio1!$C$11), NA())","v":{"$error":"#N/A"}},{"$f":"IF(G128>Foglio1!$I$7,1,0)","v":0},4.4999999999999998E-14,{"$f":" IF(Foglio1!$C$12 <> \"\", J128 / (J128+Foglio1!$C$12), NA())","v":{"$error":"#N/A"}},{"$f":"IF(J128>Foglio1!$I$7,1,0)","v":0},4.4999999999999998E-14,{"$f":" IF(Foglio1!$C$13 <> \"\", M128 / (M128+Foglio1!$C$13), NA())","v":{"$error":"#N/A"}},{"$f":"IF(M128>Foglio1!$I$7,1,0)","v":0}]
[4.6E-14,{"$f":" IF(Foglio1!$C$9 <> \"\", A129 / (A129+Foglio1!$C$9), NA())","v":{"$error":"#N/A"}},{"$f":"IF(A129>Foglio1!$I$7,1,0)","v":0},4.6E-14,{"$f":" IF(Foglio1!$C$10 <> \"\", D129 / (D129+Foglio1!$C$10), NA())","v":{"$error":"#N/A"}},{"$f":"IF(D129>Foglio1!$I$7,1,0)","v":0},4.6E-14,{"$f":" IF(Foglio1!$C$11 <> \"\", G129 / (G129+Foglio1!$C$11), NA())","v":{"$error":"#N/A"}},{"$f":"IF(G129>Foglio1!$I$7,1,0)","v":0},4.6E-14,{"$f":" IF(Foglio1!$C$12 <> \"\", J129 / (J129+Foglio1!$C$12), NA())","v":{"$error":"#N/A"}},{"$f":"IF(J129>Foglio1!$I$7,1,0)","v":0},4.6E-14,{"$f":" IF(Foglio1!$C$13 <> \"\", M129 / (M129+Foglio1!$C$13), NA())","v":{"$error":"#N/A"}},{"$f":"IF(M129>Foglio1!$I$7,1,0)","v":0}]
[4.7000000000000002E-14,{"$f":" IF(Foglio1!$C$9 <> \"\", A130 / (A130+Foglio1!$C$9), NA())","v":{"$error":"#N/A"}},{"$f":"IF(A130>Foglio1!$I$7,1,0)","v":0},4.7000000000000002E-14,{"$f":" IF(Foglio1!$C$10 <> \"\", D130 / (D130+Foglio1!$C$10), NA())","v":{"$error":"#N/A"}},{"$f":"IF(D130>Foglio1!$I$7,1,0)","v":0},4.7000000000000002E-14,{"$f":" IF(Foglio1!$C$11 <> \"\", G130 / (G130+Foglio1!$C$11), NA())","v":{"$error":"#N/A"}},{"$f":"IF(G130>Foglio1!$I$7,1,0)","v":0},4.7000000000000002E-14,{"$f":" IF(Foglio1!$C$12 <> \"\", J130 / (J130+Foglio1!$C$12), NA())","v":{"$error":"#N/A"}},{"$f":"IF(J130>Foglio1!$I$7,1,0)","v":0},4.7000000000000002E-14,{"$f":" IF(Foglio1!$C$13 <> \"\", M130 / (M130+Foglio1!$C$13), NA())","v":{"$error":"#N/A"}},{"$f":"IF(M130>Foglio1!$I$7,1,0)","v":0}]
[4.7999999999999997E-14,{"$f":" IF(Foglio1!$C$9 <> \"\", A131 / (A131+Foglio1!$C$9), NA())","v":{"$error":"#N/A"}},{"$f":"IF(A131>Foglio1!$I$7,1,0)","v":0},4.7999999999999997E-14,{"$f":" IF(Foglio1!$C$10 <> \"\", D131 / (D131+Foglio1!$C$10), NA())","v":{"$error":"#N/A"}},{"$f":"IF(D131>Foglio1!$I$7,1,0)","v":0},4.7999999999999997E-14,{"$f":" IF(Foglio1!$C$11 <> \"\", G131 / (G131+Foglio1!$C$11), NA())","v":{"$error":"#N/A"}},{"$f":"IF(G131>Foglio1!$I$7,1,0)","v":0},4.7999999999999997E-14,{"$f":" IF(Foglio1!$C$12 <> \"\", J131 / (J131+Foglio1!$C$12), NA())","v":{"$error":"#N/A"}},{"$f":"IF(J131>Foglio1!$I$7,1,0)","v":0},4.7999999999999997E-14,{"$f":" IF(Foglio1!$C$13 <> \"\", M131 / (M131+Foglio1!$C$13), NA())","v":{"$error":"#N/A"}},{"$f":"IF(M131>Foglio1!$I$7,1,0)","v":0}]
[4.8999999999999999E-14,{"$f":" IF(Foglio1!$C$9 <> \"\", A132 / (A132+Foglio1!$C$9), NA())","v":{"$error":"#N/A"}},{"$f":"IF(A132>Foglio1!$I$7,1,0)","v":0},4.8999999999999999E-14,{"$f":" IF(Foglio1!$C$10 <> \"\", D132 / (D132+Foglio1!$C$10), NA())","v":{"$error":"#N/A"}},{"$f":"IF(D132>Foglio1!$I$7,1,0)","v":0},4.8999999999999999E-14,{"$f":" IF(Foglio1!$C$11 <> \"\", G132 / (G132+Foglio1!$C$11), NA())","v":{"$error":"#N/A"}},{"$f":"IF(G132>Foglio1!$I$7,1,0)","v":0},4.8999999999999999E-14,{"$f":" IF(Foglio1!$C$12 <> \"\", J132 / (J132+Foglio1!$C$12), NA())","v":{"$error":"#N/A"}},{"$f":"IF(J132>Foglio1!$I$7,1,0)","v":0},4.8999999999999999E-14,{"$f":" IF(Foglio1!$C$13 <> \"\", M132 / (M132+Foglio1!$C$13), NA())","v":{"$error":"#N/A"}},{"$f":"IF(M132>Foglio1!$I$7,1,0)","v":0}]
[5.0000000000000002E-14,{"$f":" IF(Foglio1!$C$9 <> \"\", A133 / (A133+Foglio1!$C$9), NA())","v":{"$error":"#N/A"}},{"$f":"IF(A133>Foglio1!$I$7,1,0)","v":0},5.0000000000000002E-14,{"$f":" IF(Foglio1!$C$10 <> \"\", D133 / (D133+Foglio1!$C$10), NA())","v":{"$error":"#N/A"}},{"$f":"IF(D133>Foglio1!$I$7,1,0)","v":0},5.0000000000000002E-14,{"$f":" IF(Foglio1!$C$11 <> \"\", G133 / (G133+Foglio1!$C$11), NA())","v":{"$error":"#N/A"}},{"$f":"IF(G133>Foglio1!$I$7,1,0)","v":0},5.0000000000000002E-14,{"$f":" IF(Foglio1!$C$12 <> \"\", J133 / (J133+Foglio1!$C$12), NA())","v":{"$error":"#N/A"}},{"$f":"IF(J133>Foglio1!$I$7,1,0)","v":0},5.0000000000000002E-14,{"$f":" IF(Foglio1!$C$13 <> \"\", M133 / (M133+Foglio1!$C$13), NA())","v":{"$error":"#N/A"}},{"$f":"IF(M133>Foglio1!$I$7,1,0)","v":0}]
[5.0999999999999997E-14,{"$f":" IF(Foglio1!$C$9 <> \"\", A134 / (A134+Foglio1!$C$9), NA())","v":{"$error":"#N/A"}},{"$f":"IF(A134>Foglio1!$I$7,1,0)","v":0},5.0999999999999997E-14,{"$f":" IF(Foglio1!$C$10 <> \"\", D134 / (D134+Foglio1!$C$10), NA())","v":{"$error":"#N/A"}},{"$f":"IF(D134>Foglio1!$I$7,1,0)","v":0},5.0999999999999997E-14,{"$f":" IF(Foglio1!$C$11 <> \"\", G134 / (G134+Foglio1!$C$11), NA())","v":{"$error":"#N/A"}},{"$f":"IF(G134>Foglio1!$I$7,1,0)","v":0},5.0999999999999997E-14,{"$f":" IF(Foglio1!$C$12 <> \"\", J134 / (J134+Foglio1!$C$12), NA())","v":{"$error":"#N/A"}},{"$f":"IF(J134>Foglio1!$I$7,1,0)","v":0},5.0999999999999997E-14,{"$f":" IF(Foglio1!$C$13 <> \"\", M134 / (M134+Foglio1!$C$13), NA())","v":{"$error":"#N/A"}},{"$f":"IF(M134>Foglio1!$I$7,1,0)","v":0}]
[5.1999999999999999E-14,{"$f":" IF(Foglio1!$C$9 <> \"\", A135 / (A135+Foglio1!$C$9), NA())","v":{"$error":"#N/A"}},{"$f":"IF(A135>Foglio1!$I$7,1,0)","v":0},5.1999999999999999E-14,{"$f":" IF(Foglio1!$C$10 <> \"\", D135 / (D135+Foglio1!$C$10), NA())","v":{"$error":"#N/A"}},{"$f":"IF(D135>Foglio1!$I$7,1,0)","v":0},5.1999999999999999E-14,{"$f":" IF(Foglio1!$C$11 <> \"\", G135 / (G135+Foglio1!$C$11), NA())","v":{"$error":"#N/A"}},{"$f":"IF(G135>Foglio1!$I$7,1,0)","v":0},5.1999999999999999E-14,{"$f":" IF(Foglio1!$C$12 <> \"\", J135 / (J135+Foglio1!$C$12), NA())","v":{"$error":"#N/A"}},{"$f":"IF(J135>Foglio1!$I$7,1,0)","v":0},5.1999999999999999E-14,{"$f":" IF(Foglio1!$C$13 <> \"\", M135 / (M135+Foglio1!$C$13), NA())","v":{"$error":"#N/A"}},{"$f":"IF(M135>Foglio1!$I$7,1,0)","v":0}]
[5.3000000000000001E-14,{"$f":" IF(Foglio1!$C$9 <> \"\", A136 / (A136+Foglio1!$C$9), NA())","v":{"$error":"#N/A"}},{"$f":"IF(A136>Foglio1!$I$7,1,0)","v":0},5.3000000000000001E-14,{"$f":" IF(Foglio1!$C$10 <> \"\", D136 / (D136+Foglio1!$C$10), NA())","v":{"$error":"#N/A"}},{"$f":"IF(D136>Foglio1!$I$7,1,0)","v":0},5.3000000000000001E-14,{"$f":" IF(Foglio1!$C$11 <> \"\", G136 / (G136+Foglio1!$C$11), NA())","v":{"$error":"#N/A"}},{"$f":"IF(G136>Foglio1!$I$7,1,0)","v":0},5.3000000000000001E-14,{"$f":" IF(Foglio1!$C$12 <> \"\", J136 / (J136+Foglio1!$C$12), NA())","v":{"$error":"#N/A"}},{"$f":"IF(J136>Foglio1!$I$7,1,0)","v":0},5.3000000000000001E-14,{"$f":" IF(Foglio1!$C$13 <> \"\", M136 / (M136+Foglio1!$C$13), NA())","v":{"$error":"#N/A"}},{"$f":"IF(M136>Foglio1!$I$7,1,0)","v":0}]
[5.3999999999999997E-14,{"$f":" IF(Foglio1!$C$9 <> \"\", A137 / (A137+Foglio1!$C$9), NA())","v":{"$error":"#N/A"}},{"$f":"IF(A137>Foglio1!$I$7,1,0)","v":0},5.3999999999999997E-14,{"$f":" IF(Foglio1!$C$10 <> \"\", D137 / (D137+Foglio1!$C$10), NA())","v":{"$error":"#N/A"}},{"$f":"IF(D137>Foglio1!$I$7,1,0)","v":0},5.3999999999999997E-14,{"$f":" IF(Foglio1!$C$11 <> \"\", G137 / (G137+Foglio1!$C$11), NA())","v":{"$error":"#N/A"}},{"$f":"IF(G137>Foglio1!$I$7,1,0)","v":0},5.3999999999999997E-14,{"$f":" IF(Foglio1!$C$12 <> \"\", J137 / (J137+Foglio1!$C$12), NA())","v":{"$error":"#N/A"}},{"$f":"IF(J137>Foglio1!$I$7,1,0)","v":0},5.3999999999999997E-14,{"$f":" IF(Foglio1!$C$13 <> \"\", M137 / (M137+Foglio1!$C$13), NA())","v":{"$error":"#N/A"}},{"$f":"IF(M137>Foglio1!$I$7,1,0)","v":0}]
[5.4999999999999999E-14,{"$f":" IF(Foglio1!$C$9 <> \"\", A138 / (A138+Foglio1!$C$9), NA())","v":{"$error":"#N/A"}},{"$f":"IF(A138>Foglio1!$I$7,1,0)","v":0},5.4999999999999999E-14,{"$f":" IF(Foglio1!$C$10 <> \"\", D138 / (D138+Foglio1!$C$10), NA())","v":{"$error":"#N/A"}},{"$f":"IF(D138>Foglio1!$I$7,1,0)","v":0},5.4999999999999999E-14,{"$f":" IF(Foglio1!$C$11 <> \"\", G138 / (G138+Foglio1!$C$11), NA())","v":{"$error":"#N/A"}},{"$f":"IF(G138>Foglio1!$I$7,1,0)","v":0},5.4999999999999999E-14,{"$f":" IF(Foglio1!$C$12 <> \"\", J138 / (J138+Foglio1!$C$12), NA())","v":{"$error":"#N/A"}},{"$f":"IF(J138>Foglio1!$I$7,1,0)","v":0},5.4999999999999999E-14,{"$f":" IF(Foglio1!$C$13 <> \"\", M138 / (M138+Foglio1!$C$13), NA())","v":{"$error":"#N/A"}},{"$f":"IF(M138>Foglio1!$I$7,1,0)","v":0}]
[5.59999999999999E-14,{"$f":" IF(Foglio1!$C$9 <> \"\", A139 / (A139+Foglio1!$C$9), NA())","v":{"$error":"#N/A"}},{"$f":"IF(A139>Foglio1!$I$7,1,0)","v":0},5.59999999999999E-14,{"$f":" IF(Foglio1!$C$10 <> \"\", D139 / (D139+Foglio1!$C$10), NA())","v":{"$error":"#N/A"}},{"$f":"IF(D139>Foglio1!$I$7,1,0)","v":0},5.59999999999999E-14,{"$f":" IF(Foglio1!$C$11 <> \"\", G139 / (G139+Foglio1!$C$11), NA())","v":{"$error":"#N/A"}},{"$f":"IF(G139>Foglio1!$I$7,1,0)","v":0},5.59999999999999E-14,{"$f":" IF(Foglio1!$C$12 <> \"\", J139 / (J139+Foglio1!$C$12), NA())","v":{"$error":"#N/A"}},{"$f":"IF(J139>Foglio1!$I$7,1,0)","v":0},5.59999999999999E-14,{"$f":" IF(Foglio1!$C$13 <> \"\", M139 / (M139+Foglio1!$C$13), NA())","v":{"$error":"#N/A"}},{"$f":"IF(M139>Foglio1!$I$7,1,0)","v":0}]
[5.6999999999999896E-14,{"$f":" IF(Foglio1!$C$9 <> \"\", A140 / (A140+Foglio1!$C$9), NA())","v":{"$error":"#N/A"}},{"$f":"IF(A140>Foglio1!$I$7,1,0)","v":0},5.6999999999999896E-14,{"$f":" IF(Foglio1!$C$10 <> \"\", D140 / (D140+Foglio1!$C$10), NA())","v":{"$error":"#N/A"}},{"$f":"IF(D140>Foglio1!$I$7,1,0)","v":0},5.6999999999999896E-14,{"$f":" IF(Foglio1!$C$11 <> \"\", G140 / (G140+Foglio1!$C$11), NA())","v":{"$error":"#N/A"}},{"$f":"IF(G140>Foglio1!$I$7,1,0)","v":0},5.6999999999999896E-14,{"$f":" IF(Foglio1!$C$12 <> \"\", J140 / (J140+Foglio1!$C$12), NA())","v":{"$error":"#N/A"}},{"$f":"IF(J140>Foglio1!$I$7,1,0)","v":0},5.6999999999999896E-14,{"$f":" IF(Foglio1!$C$13 <> \"\", M140 / (M140+Foglio1!$C$13), NA())","v":{"$error":"#N/A"}},{"$f":"IF(M140>Foglio1!$I$7,1,0)","v":0}]
[5.8000000000000005E-14,{"$f":" IF(Foglio1!$C$9 <> \"\", A141 / (A141+Foglio1!$C$9), NA())","v":{"$error":"#N/A"}},{"$f":"IF(A141>Foglio1!$I$7,1,0)","v":0},5.8000000000000005E-14,{"$f":" IF(Foglio1!$C$10 <> \"\", D141 / (D141+Foglio1!$C$10), NA())","v":{"$error":"#N/A"}},{"$f":"IF(D141>Foglio1!$I$7,1,0)","v":0},5.8000000000000005E-14,{"$f":" IF(Foglio1!$C$11 <> \"\", G141 / (G141+Foglio1!$C$11), NA())","v":{"$error":"#N/A"}},{"$f":"IF(G141>Foglio1!$I$7,1,0)","v":0},5.8000000000000005E-14,{"$f":" IF(Foglio1!$C$12 <> \"\", J141 / (J141+Foglio1!$C$12), NA())","v":{"$error":"#N/A"}},{"$f":"IF(J141>Foglio1!$I$7,1,0)","v":0},5.8000000000000005E-14,{"$f":" IF(Foglio1!$C$13 <> \"\", M141 / (M141+Foglio1!$C$13), NA())","v":{"$error":"#N/A"}},{"$f":"IF(M141>Foglio1!$I$7,1,0)","v":0}]
[5.89999999999999E-14,{"$f":" IF(Foglio1!$C$9 <> \"\", A142 / (A142+Foglio1!$C$9), NA())","v":{"$error":"#N/A"}},{"$f":"IF(A142>Foglio1!$I$7,1,0)","v":0},5.89999999999999E-14,{"$f":" IF(Foglio1!$C$10 <> \"\", D142 / (D142+Foglio1!$C$10), NA())","v":{"$error":"#N/A"}},{"$f":"IF(D142>Foglio1!$I$7,1,0)","v":0},5.89999999999999E-14,{"$f":" IF(Foglio1!$C$11 <> \"\", G142 / (G142+Foglio1!$C$11), NA())","v":{"$error":"#N/A"}},{"$f":"IF(G142>Foglio1!$I$7,1,0)","v":0},5.89999999999999E-14,{"$f":" IF(Foglio1!$C$12 <> \"\", J142 / (J142+Foglio1!$C$12), NA())","v":{"$error":"#N/A"}},{"$f":"IF(J142>Foglio1!$I$7,1,0)","v":0},5.89999999999999E-14,{"$f":" IF(Foglio1!$C$13 <> \"\", M142 / (M142+Foglio1!$C$13), NA())","v":{"$error":"#N/A"}},{"$f":"IF(M142>Foglio1!$I$7,1,0)","v":0}]
[5.9999999999999896E-14,{"$f":" IF(Foglio1!$C$9 <> \"\", A143 / (A143+Foglio1!$C$9), NA())","v":{"$error":"#N/A"}},{"$f":"IF(A143>Foglio1!$I$7,1,0)","v":0},5.9999999999999896E-14,{"$f":" IF(Foglio1!$C$10 <> \"\", D143 / (D143+Foglio1!$C$10), NA())","v":{"$error":"#N/A"}},{"$f":"IF(D143>Foglio1!$I$7,1,0)","v":0},5.9999999999999896E-14,{"$f":" IF(Foglio1!$C$11 <> \"\", G143 / (G143+Foglio1!$C$11), NA())","v":{"$error":"#N/A"}},{"$f":"IF(G143>Foglio1!$I$7,1,0)","v":0},5.9999999999999896E-14,{"$f":" IF(Foglio1!$C$12 <> \"\", J143 / (J143+Foglio1!$C$12), NA())","v":{"$error":"#N/A"}},{"$f":"IF(J143>Foglio1!$I$7,1,0)","v":0},5.9999999999999896E-14,{"$f":" IF(Foglio1!$C$13 <> \"\", M143 / (M143+Foglio1!$C$13), NA())","v":{"$error":"#N/A"}},{"$f":"IF(M143>Foglio1!$I$7,1,0)","v":0}]
[6.0999999999999904E-14,{"$f":" IF(Foglio1!$C$9 <> \"\", A144 / (A144+Foglio1!$C$9), NA())","v":{"$error":"#N/A"}},{"$f":"IF(A144>Foglio1!$I$7,1,0)","v":0},6.0999999999999904E-14,{"$f":" IF(Foglio1!$C$10 <> \"\", D144 / (D144+Foglio1!$C$10), NA())","v":{"$error":"#N/A"}},{"$f":"IF(D144>Foglio1!$I$7,1,0)","v":0},6.0999999999999904E-14,{"$f":" IF(Foglio1!$C$11 <> \"\", G144 / (G144+Foglio1!$C$11), NA())","v":{"$error":"#N/A"}},{"$f":"IF(G144>Foglio1!$I$7,1,0)","v":0},6.0999999999999904E-14,{"$f":" IF(Foglio1!$C$12 <> \"\", J144 / (J144+Foglio1!$C$12), NA())","v":{"$error":"#N/A"}},{"$f":"IF(J144>Foglio1!$I$7,1,0)","v":0},6.0999999999999904E-14,{"$f":" IF(Foglio1!$C$13 <> \"\", M144 / (M144+Foglio1!$C$13), NA())","v":{"$error":"#N/A"}},{"$f":"IF(M144>Foglio1!$I$7,1,0)","v":0}]
[6.19999999999999E-14,{"$f":" IF(Foglio1!$C$9 <> \"\", A145 / (A145+Foglio1!$C$9), NA())","v":{"$error":"#N/A"}},{"$f":"IF(A145>Foglio1!$I$7,1,0)","v":0},6.19999999999999E-14,{"$f":" IF(Foglio1!$C$10 <> \"\", D145 / (D145+Foglio1!$C$10), NA())","v":{"$error":"#N/A"}},{"$f":"IF(D145>Foglio1!$I$7,1,0)","v":0},6.19999999999999E-14,{"$f":" IF(Foglio1!$C$11 <> \"\", G145 / (G145+Foglio1!$C$11), NA())","v":{"$error":"#N/A"}},{"$f":"IF(G145>Foglio1!$I$7,1,0)","v":0},6.19999999999999E-14,{"$f":" IF(Foglio1!$C$12 <> \"\", J145 / (J145+Foglio1!$C$12), NA())","v":{"$error":"#N/A"}},{"$f":"IF(J145>Foglio1!$I$7,1,0)","v":0},6.19999999999999E-14,{"$f":" IF(Foglio1!$C$13 <> \"\", M145 / (M145+Foglio1!$C$13), NA())","v":{"$error":"#N/A"}},{"$f":"IF(M145>Foglio1!$I$7,1,0)","v":0}]
[6.2999999999999896E-14,{"$f":" IF(Foglio1!$C$9 <> \"\", A146 / (A146+Foglio1!$C$9), NA())","v":{"$error":"#N/A"}},{"$f":"IF(A146>Foglio1!$I$7,1,0)","v":0},6.2999999999999896E-14,{"$f":" IF(Foglio1!$C$10 <> \"\", D146 / (D146+Foglio1!$C$10), NA())","v":{"$error":"#N/A"}},{"$f":"IF(D146>Foglio1!$I$7,1,0)","v":0},6.2999999999999896E-14,{"$f":" IF(Foglio1!$C$11 <> \"\", G146 / (G146+Foglio1!$C$11), NA())","v":{"$error":"#N/A"}},{"$f":"IF(G146>Foglio1!$I$7,1,0)","v":0},6.2999999999999896E-14,{"$f":" IF(Foglio1!$C$12 <> \"\", J146 / (J146+Foglio1!$C$12), NA())","v":{"$error":"#N/A"}},{"$f":"IF(J146>Foglio1!$I$7,1,0)","v":0},6.2999999999999896E-14,{"$f":" IF(Foglio1!$C$13 <> \"\", M146 / (M146+Foglio1!$C$13), NA())","v":{"$error":"#N/A"}},{"$f":"IF(M146>Foglio1!$I$7,1,0)","v":0}]
[6.3999999999999904E-14,{"$f":" IF(Foglio1!$C$9 <> \"\", A147 / (A147+Foglio1!$C$9), NA())","v":{"$error":"#N/A"}},{"$f":"IF(A147>Foglio1!$I$7,1,0)","v":0},6.3999999999999904E-14,{"$f":" IF(Foglio1!$C$10 <> \"\", D147 / (D147+Foglio1!$C$10), NA())","v":{"$error":"#N/A"}},{"$f":"IF(D147>Foglio1!$I$7,1,0)","v":0},6.3999999999999904E-14,{"$f":" IF(Foglio1!$C$11 <> \"\", G147 / (G147+Foglio1!$C$11), NA())","v":{"$error":"#N/A"}},{"$f":"IF(G147>Foglio1!$I$7,1,0)","v":0},6.3999999999999904E-14,{"$f":" IF(Foglio1!$C$12 <> \"\", J147 / (J147+Foglio1!$C$12), NA())","v":{"$error":"#N/A"}},{"$f":"IF(J147>Foglio1!$I$7,1,0)","v":0},6.3999999999999904E-14,{"$f":" IF(Foglio1!$C$13 <> \"\", M147 / (M147+Foglio1!$C$13), NA())","v":{"$error":"#N/A"}},{"$f":"IF(M147>Foglio1!$I$7,1,0)","v":0}]
[6.49999999999999E-14,{"$f":" IF(Foglio1!$C$9 <> \"\", A148 / (A148+Foglio1!$C$9), NA())","v":{"$error":"#N/A"}},{"$f":"IF(A148>Foglio1!$I$7,1,0)","v":0},6.49999999999999E-14,{"$f":" IF(Foglio1!$C$10 <> \"\", D148 / (D148+Foglio1!$C$10), NA())","v":{"$error":"#N/A"}},{"$f":"IF(D148>Foglio1!$I$7,1,0)","v":0},6.49999999999999E-14,{"$f":" IF(Foglio1!$C$11 <> \"\", G148 / (G148+Foglio1!$C$11), NA())","v":{"$error":"#N/A"}},{"$f":"IF(G148>Foglio1!$I$7,1,0)","v":0},6.49999999999999E-14,{"$f":" IF(Foglio1!$C$12 <> \"\", J148 / (J148+Foglio1!$C$12), NA())","v":{"$error":"#N/A"}},{"$f":"IF(J148>Foglio1!$I$7,1,0)","v":0},6.49999999999999E-14,{"$f":" IF(Foglio1!$C$13 <> \"\", M148 / (M148+Foglio1!$C$13), NA())","v":{"$error":"#N/A"}},{"$f":"IF(M148>Foglio1!$I$7,1,0)","v":0}]
[6.5999999999999895E-14,{"$f":" IF(Foglio1!$C$9 <> \"\", A149 / (A149+Foglio1!$C$9), NA())","v":{"$error":"#N/A"}},{"$f":"IF(A149>Foglio1!$I$7,1,0)","v":0},6.5999999999999895E-14,{"$f":" IF(Foglio1!$C$10 <> \"\", D149 / (D149+Foglio1!$C$10), NA())","v":{"$error":"#N/A"}},{"$f":"IF(D149>Foglio1!$I$7,1,0)","v":0},6.5999999999999895E-14,{"$f":" IF(Foglio1!$C$11 <> \"\", G149 / (G149+Foglio1!$C$11), NA())","v":{"$error":"#N/A"}},{"$f":"IF(G149>Foglio1!$I$7,1,0)","v":0},6.5999999999999895E-14,{"$f":" IF(Foglio1!$C$12 <> \"\", J149 / (J149+Foglio1!$C$12), NA())","v":{"$error":"#N/A"}},{"$f":"IF(J149>Foglio1!$I$7,1,0)","v":0},6.5999999999999895E-14,{"$f":" IF(Foglio1!$C$13 <> \"\", M149 / (M149+Foglio1!$C$13), NA())","v":{"$error":"#N/A"}},{"$f":"IF(M149>Foglio1!$I$7,1,0)","v":0}]
[6.6999999999999904E-14,{"$f":" IF(Foglio1!$C$9 <> \"\", A150 / (A150+Foglio1!$C$9), NA())","v":{"$error":"#N/A"}},{"$f":"IF(A150>Foglio1!$I$7,1,0)","v":0},6.6999999999999904E-14,{"$f":" IF(Foglio1!$C$10 <> \"\", D150 / (D150+Foglio1!$C$10), NA())","v":{"$error":"#N/A"}},{"$f":"IF(D150>Foglio1!$I$7,1,0)","v":0},6.6999999999999904E-14,{"$f":" IF(Foglio1!$C$11 <> \"\", G150 / (G150+Foglio1!$C$11), NA())","v":{"$error":"#N/A"}},{"$f":"IF(G150>Foglio1!$I$7,1,0)","v":0},6.6999999999999904E-14,{"$f":" IF(Foglio1!$C$12 <> \"\", J150 / (J150+Foglio1!$C$12), NA())","v":{"$error":"#N/A"}},{"$f":"IF(J150>Foglio1!$I$7,1,0)","v":0},6.6999999999999904E-14,{"$f":" IF(Foglio1!$C$13 <> \"\", M150 / (M150+Foglio1!$C$13), NA())","v":{"$error":"#N/A"}},{"$f":"IF(M150>Foglio1!$I$7,1,0)","v":0}]
[6.79999999999999E-14,{"$f":" IF(Foglio1!$C$9 <> \"\", A151 / (A151+Foglio1!$C$9), NA())","v":{"$error":"#N/A"}},{"$f":"IF(A151>Foglio1!$I$7,1,0)","v":0},6.79999999999999E-14,{"$f":" IF(Foglio1!$C$10 <> \"\", D151 / (D151+Foglio1!$C$10), NA())","v":{"$error":"#N/A"}},{"$f":"IF(D151>Foglio1!$I$7,1,0)","v":0},6.79999999999999E-14,{"$f":" IF(Foglio1!$C$11 <> \"\", G151 / (G151+Foglio1!$C$11), NA())","v":{"$error":"#N/A"}},{"$f":"IF(G151>Foglio1!$I$7,1,0)","v":0},6.79999999999999E-14,{"$f":" IF(Foglio1!$C$12 <> \"\", J151 / (J151+Foglio1!$C$12), NA())","v":{"$error":"#N/A"}},{"$f":"IF(J151>Foglio1!$I$7,1,0)","v":0},6.79999999999999E-14,{"$f":" IF(Foglio1!$C$13 <> \"\", M151 / (M151+Foglio1!$C$13), NA())","v":{"$error":"#N/A"}},{"$f":"IF(M151>Foglio1!$I$7,1,0)","v":0}]
[6.8999999999999895E-14,{"$f":" IF(Foglio1!$C$9 <> \"\", A152 / (A152+Foglio1!$C$9), NA())","v":{"$error":"#N/A"}},{"$f":"IF(A152>Foglio1!$I$7,1,0)","v":0},6.8999999999999895E-14,{"$f":" IF(Foglio1!$C$10 <> \"\", D152 / (D152+Foglio1!$C$10), NA())","v":{"$error":"#N/A"}},{"$f":"IF(D152>Foglio1!$I$7,1,0)","v":0},6.8999999999999895E-14,{"$f":" IF(Foglio1!$C$11 <> \"\", G152 / (G152+Foglio1!$C$11), NA())","v":{"$error":"#N/A"}},{"$f":"IF(G152>Foglio1!$I$7,1,0)","v":0},6.8999999999999895E-14,{"$f":" IF(Foglio1!$C$12 <> \"\", J152 / (J152+Foglio1!$C$12), NA())","v":{"$error":"#N/A"}},{"$f":"IF(J152>Foglio1!$I$7,1,0)","v":0},6.8999999999999895E-14,{"$f":" IF(Foglio1!$C$13 <> \"\", M152 / (M152+Foglio1!$C$13), NA())","v":{"$error":"#N/A"}},{"$f":"IF(M152>Foglio1!$I$7,1,0)","v":0}]
[6.9999999999999904E-14,{"$f":" IF(Foglio1!$C$9 <> \"\", A153 / (A153+Foglio1!$C$9), NA())","v":{"$error":"#N/A"}},{"$f":"IF(A153>Foglio1!$I$7,1,0)","v":0},6.9999999999999904E-14,{"$f":" IF(Foglio1!$C$10 <> \"\", D153 / (D153+Foglio1!$C$10), NA())","v":{"$error":"#N/A"}},{"$f":"IF(D153>Foglio1!$I$7,1,0)","v":0},6.9999999999999904E-14,{"$f":" IF(Foglio1!$C$11 <> \"\", G153 / (G153+Foglio1!$C$11), NA())","v":{"$error":"#N/A"}},{"$f":"IF(G153>Foglio1!$I$7,1,0)","v":0},6.9999999999999904E-14,{"$f":" IF(Foglio1!$C$12 <> \"\", J153 / (J153+Foglio1!$C$12), NA())","v":{"$error":"#N/A"}},{"$f":"IF(J153>Foglio1!$I$7,1,0)","v":0},6.9999999999999904E-14,{"$f":" IF(Foglio1!$C$13 <> \"\", M153 / (M153+Foglio1!$C$13), NA())","v":{"$error":"#N/A"}},{"$f":"IF(M153>Foglio1!$I$7,1,0)","v":0}]
[7.0999999999999899E-14,{"$f":" IF(Foglio1!$C$9 <> \"\", A154 / (A154+Foglio1!$C$9), NA())","v":{"$error":"#N/A"}},{"$f":"IF(A154>Foglio1!$I$7,1,0)","v":0},7.0999999999999899E-14,{"$f":" IF(Foglio1!$C$10 <> \"\", D154 / (D154+Foglio1!$C$10), NA())","v":{"$error":"#N/A"}},{"$f":"IF(D154>Foglio1!$I$7,1,0)","v":0},7.0999999999999899E-14,{"$f":" IF(Foglio1!$C$11 <> \"\", G154 / (G154+Foglio1!$C$11), NA())","v":{"$error":"#N/A"}},{"$f":"IF(G154>Foglio1!$I$7,1,0)","v":0},7.0999999999999899E-14,{"$f":" IF(Foglio1!$C$12 <> \"\", J154 / (J154+Foglio1!$C$12), NA())","v":{"$error":"#N/A"}},{"$f":"IF(J154>Foglio1!$I$7,1,0)","v":0},7.0999999999999899E-14,{"$f":" IF(Foglio1!$C$13 <> \"\", M154 / (M154+Foglio1!$C$13), NA())","v":{"$error":"#N/A"}},{"$f":"IF(M154>Foglio1!$I$7,1,0)","v":0}]
[7.1999999999999895E-14,{"$f":" IF(Foglio1!$C$9 <> \"\", A155 / (A155+Foglio1!$C$9), NA())","v":{"$error":"#N/A"}},{"$f":"IF(A155>Foglio1!$I$7,1,0)","v":0},7.1999999999999895E-14,{"$f":" IF(Foglio1!$C$10 <> \"\", D155 / (D155+Foglio1!$C$10), NA())","v":{"$error":"#N/A"}},{"$f":"IF(D155>Foglio1!$I$7,1,0)","v":0},7.1999999999999895E-14,{"$f":" IF(Foglio1!$C$11 <> \"\", G155 / (G155+Foglio1!$C$11), NA())","v":{"$error":"#N/A"}},{"$f":"IF(G155>Foglio1!$I$7,1,0)","v":0},7.1999999999999895E-14,{"$f":" IF(Foglio1!$C$12 <> \"\", J155 / (J155+Foglio1!$C$12), NA())","v":{"$error":"#N/A"}},{"$f":"IF(J155>Foglio1!$I$7,1,0)","v":0},7.1999999999999895E-14,{"$f":" IF(Foglio1!$C$13 <> \"\", M155 / (M155+Foglio1!$C$13), NA())","v":{"$error":"#N/A"}},{"$f":"IF(M155>Foglio1!$I$7,1,0)","v":0}]
[7.2999999999999904E-14,{"$f":" IF(Foglio1!$C$9 <> \"\", A156 / (A156+Foglio1!$C$9), NA())","v":{"$error":"#N/A"}},{"$f":"IF(A156>Foglio1!$I$7,1,0)","v":0},7.2999999999999904E-14,{"$f":" IF(Foglio1!$C$10 <> \"\", D156 / (D156+Foglio1!$C$10), NA())","v":{"$error":"#N/A"}},{"$f":"IF(D156>Foglio1!$I$7,1,0)","v":0},7.2999999999999904E-14,{"$f":" IF(Foglio1!$C$11 <> \"\", G156 / (G156+Foglio1!$C$11), NA())","v":{"$error":"#N/A"}},{"$f":"IF(G156>Foglio1!$I$7,1,0)","v":0},7.2999999999999904E-14,{"$f":" IF(Foglio1!$C$12 <> \"\", J156 / (J156+Foglio1!$C$12), NA())","v":{"$error":"#N/A"}},{"$f":"IF(J156>Foglio1!$I$7,1,0)","v":0},7.2999999999999904E-14,{"$f":" IF(Foglio1!$C$13 <> \"\", M156 / (M156+Foglio1!$C$13), NA())","v":{"$error":"#N/A"}},{"$f":"IF(M156>Foglio1!$I$7,1,0)","v":0}]
[7.3999999999999899E-14,{"$f":" IF(Foglio1!$C$9 <> \"\", A157 / (A157+Foglio1!$C$9), NA())","v":{"$error":"#N/A"}},{"$f":"IF(A157>Foglio1!$I$7,1,0)","v":0},7.3999999999999899E-14,{"$f":" IF(Foglio1!$C$10 <> \"\", D157 / (D157+Foglio1!$C$10), NA())","v":{"$error":"#N/A"}},{"$f":"IF(D157>Foglio1!$I$7,1,0)","v":0},7.3999999999999899E-14,{"$f":" IF(Foglio1!$C$11 <> \"\", G157 / (G157+Foglio1!$C$11), NA())","v":{"$error":"#N/A"}},{"$f":"IF(G157>Foglio1!$I$7,1,0)","v":0},7.3999999999999899E-14,{"$f":" IF(Foglio1!$C$12 <> \"\", J157 / (J157+Foglio1!$C$12), NA())","v":{"$error":"#N/A"}},{"$f":"IF(J157>Foglio1!$I$7,1,0)","v":0},7.3999999999999899E-14,{"$f":" IF(Foglio1!$C$13 <> \"\", M157 / (M157+Foglio1!$C$13), NA())","v":{"$error":"#N/A"}},{"$f":"IF(M157>Foglio1!$I$7,1,0)","v":0}]
[7.4999999999999895E-14,{"$f":" IF(Foglio1!$C$9 <> \"\", A158 / (A158+Foglio1!$C$9), NA())","v":{"$error":"#N/A"}},{"$f":"IF(A158>Foglio1!$I$7,1,0)","v":0},7.4999999999999895E-14,{"$f":" IF(Foglio1!$C$10 <> \"\", D158 / (D158+Foglio1!$C$10), NA())","v":{"$error":"#N/A"}},{"$f":"IF(D158>Foglio1!$I$7,1,0)","v":0},7.4999999999999895E-14,{"$f":" IF(Foglio1!$C$11 <> \"\", G158 / (G158+Foglio1!$C$11), NA())","v":{"$error":"#N/A"}},{"$f":"IF(G158>Foglio1!$I$7,1,0)","v":0},7.4999999999999895E-14,{"$f":" IF(Foglio1!$C$12 <> \"\", J158 / (J158+Foglio1!$C$12), NA())","v":{"$error":"#N/A"}},{"$f":"IF(J158>Foglio1!$I$7,1,0)","v":0},7.4999999999999895E-14,{"$f":" IF(Foglio1!$C$13 <> \"\", M158 / (M158+Foglio1!$C$13), NA())","v":{"$error":"#N/A"}},{"$f":"IF(M158>Foglio1!$I$7,1,0)","v":0}]
[7.5999999999999903E-14,{"$f":" IF(Foglio1!$C$9 <> \"\", A159 / (A159+Foglio1!$C$9), NA())","v":{"$error":"#N/A"}},{"$f":"IF(A159>Foglio1!$I$7,1,0)","v":0},7.5999999999999903E-14,{"$f":" IF(Foglio1!$C$10 <> \"\", D159 / (D159+Foglio1!$C$10), NA())","v":{"$error":"#N/A"}},{"$f":"IF(D159>Foglio1!$I$7,1,0)","v":0},7.5999999999999903E-14,{"$f":" IF(Foglio1!$C$11 <> \"\", G159 / (G159+Foglio1!$C$11), NA())","v":{"$error":"#N/A"}},{"$f":"IF(G159>Foglio1!$I$7,1,0)","v":0},7.5999999999999903E-14,{"$f":" IF(Foglio1!$C$12 <> \"\", J159 / (J159+Foglio1!$C$12), NA())","v":{"$error":"#N/A"}},{"$f":"IF(J159>Foglio1!$I$7,1,0)","v":0},7.5999999999999903E-14,{"$f":" IF(Foglio1!$C$13 <> \"\", M159 / (M159+Foglio1!$C$13), NA())","v":{"$error":"#N/A"}},{"$f":"IF(M159>Foglio1!$I$7,1,0)","v":0}]
[7.6999999999999899E-14,{"$f":" IF(Foglio1!$C$9 <> \"\", A160 / (A160+Foglio1!$C$9), NA())","v":{"$error":"#N/A"}},{"$f":"IF(A160>Foglio1!$I$7,1,0)","v":0},7.6999999999999899E-14,{"$f":" IF(Foglio1!$C$10 <> \"\", D160 / (D160+Foglio1!$C$10), NA())","v":{"$error":"#N/A"}},{"$f":"IF(D160>Foglio1!$I$7,1,0)","v":0},7.6999999999999899E-14,{"$f":" IF(Foglio1!$C$11 <> \"\", G160 / (G160+Foglio1!$C$11), NA())","v":{"$error":"#N/A"}},{"$f":"IF(G160>Foglio1!$I$7,1,0)","v":0},7.6999999999999899E-14,{"$f":" IF(Foglio1!$C$12 <> \"\", J160 / (J160+Foglio1!$C$12), NA())","v":{"$error":"#N/A"}},{"$f":"IF(J160>Foglio1!$I$7,1,0)","v":0},7.6999999999999899E-14,{"$f":" IF(Foglio1!$C$13 <> \"\", M160 / (M160+Foglio1!$C$13), NA())","v":{"$error":"#N/A"}},{"$f":"IF(M160>Foglio1!$I$7,1,0)","v":0}]
[7.7999999999999895E-14,{"$f":" IF(Foglio1!$C$9 <> \"\", A161 / (A161+Foglio1!$C$9), NA())","v":{"$error":"#N/A"}},{"$f":"IF(A161>Foglio1!$I$7,1,0)","v":0},7.7999999999999895E-14,{"$f":" IF(Foglio1!$C$10 <> \"\", D161 / (D161+Foglio1!$C$10), NA())","v":{"$error":"#N/A"}},{"$f":"IF(D161>Foglio1!$I$7,1,0)","v":0},7.7999999999999895E-14,{"$f":" IF(Foglio1!$C$11 <> \"\", G161 / (G161+Foglio1!$C$11), NA())","v":{"$error":"#N/A"}},{"$f":"IF(G161>Foglio1!$I$7,1,0)","v":0},7.7999999999999895E-14,{"$f":" IF(Foglio1!$C$12 <> \"\", J161 / (J161+Foglio1!$C$12), NA())","v":{"$error":"#N/A"}},{"$f":"IF(J161>Foglio1!$I$7,1,0)","v":0},7.7999999999999895E-14,{"$f":" IF(Foglio1!$C$13 <> \"\", M161 / (M161+Foglio1!$C$13), NA())","v":{"$error":"#N/A"}},{"$f":"IF(M161>Foglio1!$I$7,1,0)","v":0}]
[7.8999999999999903E-14,{"$f":" IF(Foglio1!$C$9 <> \"\", A162 / (A162+Foglio1!$C$9), NA())","v":{"$error":"#N/A"}},{"$f":"IF(A162>Foglio1!$I$7,1,0)","v":0},7.8999999999999903E-14,{"$f":" IF(Foglio1!$C$10 <> \"\", D162 / (D162+Foglio1!$C$10), NA())","v":{"$error":"#N/A"}},{"$f":"IF(D162>Foglio1!$I$7,1,0)","v":0},7.8999999999999903E-14,{"$f":" IF(Foglio1!$C$11 <> \"\", G162 / (G162+Foglio1!$C$11), NA())","v":{"$error":"#N/A"}},{"$f":"IF(G162>Foglio1!$I$7,1,0)","v":0},7.8999999999999903E-14,{"$f":" IF(Foglio1!$C$12 <> \"\", J162 / (J162+Foglio1!$C$12), NA())","v":{"$error":"#N/A"}},{"$f":"IF(J162>Foglio1!$I$7,1,0)","v":0},7.8999999999999903E-14,{"$f":" IF(Foglio1!$C$13 <> \"\", M162 / (M162+Foglio1!$C$13), NA())","v":{"$error":"#N/A"}},{"$f":"IF(M162>Foglio1!$I$7,1,0)","v":0}]
[7.9999999999999899E-14,{"$f":" IF(Foglio1!$C$9 <> \"\", A163 / (A163+Foglio1!$C$9), NA())","v":{"$error":"#N/A"}},{"$f":"IF(A163>Foglio1!$I$7,1,0)","v":0},7.9999999999999899E-14,{"$f":" IF(Foglio1!$C$10 <> \"\", D163 / (D163+Foglio1!$C$10), NA())","v":{"$error":"#N/A"}},{"$f":"IF(D163>Foglio1!$I$7,1,0)","v":0},7.9999999999999899E-14,{"$f":" IF(Foglio1!$C$11 <> \"\", G163 / (G163+Foglio1!$C$11), NA())","v":{"$error":"#N/A"}},{"$f":"IF(G163>Foglio1!$I$7,1,0)","v":0},7.9999999999999899E-14,{"$f":" IF(Foglio1!$C$12 <> \"\", J163 / (J163+Foglio1!$C$12), NA())","v":{"$error":"#N/A"}},{"$f":"IF(J163>Foglio1!$I$7,1,0)","v":0},7.9999999999999899E-14,{"$f":" IF(Foglio1!$C$13 <> \"\", M163 / (M163+Foglio1!$C$13), NA())","v":{"$error":"#N/A"}},{"$f":"IF(M163>Foglio1!$I$7,1,0)","v":0}]
[8.0999999999999895E-14,{"$f":" IF(Foglio1!$C$9 <> \"\", A164 / (A164+Foglio1!$C$9), NA())","v":{"$error":"#N/A"}},{"$f":"IF(A164>Foglio1!$I$7,1,0)","v":0},8.0999999999999895E-14,{"$f":" IF(Foglio1!$C$10 <> \"\", D164 / (D164+Foglio1!$C$10), NA())","v":{"$error":"#N/A"}},{"$f":"IF(D164>Foglio1!$I$7,1,0)","v":0},8.0999999999999895E-14,{"$f":" IF(Foglio1!$C$11 <> \"\", G164 / (G164+Foglio1!$C$11), NA())","v":{"$error":"#N/A"}},{"$f":"IF(G164>Foglio1!$I$7,1,0)","v":0},8.0999999999999895E-14,{"$f":" IF(Foglio1!$C$12 <> \"\", J164 / (J164+Foglio1!$C$12), NA())","v":{"$error":"#N/A"}},{"$f":"IF(J164>Foglio1!$I$7,1,0)","v":0},8.0999999999999895E-14,{"$f":" IF(Foglio1!$C$13 <> \"\", M164 / (M164+Foglio1!$C$13), NA())","v":{"$error":"#N/A"}},{"$f":"IF(M164>Foglio1!$I$7,1,0)","v":0}]
[8.1999999999999903E-14,{"$f":" IF(Foglio1!$C$9 <> \"\", A165 / (A165+Foglio1!$C$9), NA())","v":{"$error":"#N/A"}},{"$f":"IF(A165>Foglio1!$I$7,1,0)","v":0},8.1999999999999903E-14,{"$f":" IF(Foglio1!$C$10 <> \"\", D165 / (D165+Foglio1!$C$10), NA())","v":{"$error":"#N/A"}},{"$f":"IF(D165>Foglio1!$I$7,1,0)","v":0},8.1999999999999903E-14,{"$f":" IF(Foglio1!$C$11 <> \"\", G165 / (G165+Foglio1!$C$11), NA())","v":{"$error":"#N/A"}},{"$f":"IF(G165>Foglio1!$I$7,1,0)","v":0},8.1999999999999903E-14,{"$f":" IF(Foglio1!$C$12 <> \"\", J165 / (J165+Foglio1!$C$12), NA())","v":{"$error":"#N/A"}},{"$f":"IF(J165>Foglio1!$I$7,1,0)","v":0},8.1999999999999903E-14,{"$f":" IF(Foglio1!$C$13 <> \"\", M165 / (M165+Foglio1!$C$13), NA())","v":{"$error":"#N/A"}},{"$f":"IF(M165>Foglio1!$I$7,1,0)","v":0}]
[8.2999999999999899E-14,{"$f":" IF(Foglio1!$C$9 <> \"\", A166 / (A166+Foglio1!$C$9), NA())","v":{"$error":"#N/A"}},{"$f":"IF(A166>Foglio1!$I$7,1,0)","v":0},8.2999999999999899E-14,{"$f":" IF(Foglio1!$C$10 <> \"\", D166 / (D166+Foglio1!$C$10), NA())","v":{"$error":"#N/A"}},{"$f":"IF(D166>Foglio1!$I$7,1,0)","v":0},8.2999999999999899E-14,{"$f":" IF(Foglio1!$C$11 <> \"\", G166 / (G166+Foglio1!$C$11), NA())","v":{"$error":"#N/A"}},{"$f":"IF(G166>Foglio1!$I$7,1,0)","v":0},8.2999999999999899E-14,{"$f":" IF(Foglio1!$C$12 <> \"\", J166 / (J166+Foglio1!$C$12), NA())","v":{"$error":"#N/A"}},{"$f":"IF(J166>Foglio1!$I$7,1,0)","v":0},8.2999999999999899E-14,{"$f":" IF(Foglio1!$C$13 <> \"\", M166 / (M166+Foglio1!$C$13), NA())","v":{"$error":"#N/A"}},{"$f":"IF(M166>Foglio1!$I$7,1,0)","v":0}]
[8.3999999999999895E-14,{"$f":" IF(Foglio1!$C$9 <> \"\", A167 / (A167+Foglio1!$C$9), NA())","v":{"$error":"#N/A"}},{"$f":"IF(A167>Foglio1!$I$7,1,0)","v":0},8.3999999999999895E-14,{"$f":" IF(Foglio1!$C$10 <> \"\", D167 / (D167+Foglio1!$C$10), NA())","v":{"$error":"#N/A"}},{"$f":"IF(D167>Foglio1!$I$7,1,0)","v":0},8.3999999999999895E-14,{"$f":" IF(Foglio1!$C$11 <> \"\", G167 / (G167+Foglio1!$C$11), NA())","v":{"$error":"#N/A"}},{"$f":"IF(G167>Foglio1!$I$7,1,0)","v":0},8.3999999999999895E-14,{"$f":" IF(Foglio1!$C$12 <> \"\", J167 / (J167+Foglio1!$C$12), NA())","v":{"$error":"#N/A"}},{"$f":"IF(J167>Foglio1!$I$7,1,0)","v":0},8.3999999999999895E-14,{"$f":" IF(Foglio1!$C$13 <> \"\", M167 / (M167+Foglio1!$C$13), NA())","v":{"$error":"#N/A"}},{"$f":"IF(M167>Foglio1!$I$7,1,0)","v":0}]
[8.4999999999999903E-14,{"$f":" IF(Foglio1!$C$9 <> \"\", A168 / (A168+Foglio1!$C$9), NA())","v":{"$error":"#N/A"}},{"$f":"IF(A168>Foglio1!$I$7,1,0)","v":0},8.4999999999999903E-14,{"$f":" IF(Foglio1!$C$10 <> \"\", D168 / (D168+Foglio1!$C$10), NA())","v":{"$error":"#N/A"}},{"$f":"IF(D168>Foglio1!$I$7,1,0)","v":0},8.4999999999999903E-14,{"$f":" IF(Foglio1!$C$11 <> \"\", G168 / (G168+Foglio1!$C$11), NA())","v":{"$error":"#N/A"}},{"$f":"IF(G168>Foglio1!$I$7,1,0)","v":0},8.4999999999999903E-14,{"$f":" IF(Foglio1!$C$12 <> \"\", J168 / (J168+Foglio1!$C$12), NA())","v":{"$error":"#N/A"}},{"$f":"IF(J168>Foglio1!$I$7,1,0)","v":0},8.4999999999999903E-14,{"$f":" IF(Foglio1!$C$13 <> \"\", M168 / (M168+Foglio1!$C$13), NA())","v":{"$error":"#N/A"}},{"$f":"IF(M168>Foglio1!$I$7,1,0)","v":0}]
[8.5999999999999899E-14,{"$f":" IF(Foglio1!$C$9 <> \"\", A169 / (A169+Foglio1!$C$9), NA())","v":{"$error":"#N/A"}},{"$f":"IF(A169>Foglio1!$I$7,1,0)","v":0},8.5999999999999899E-14,{"$f":" IF(Foglio1!$C$10 <> \"\", D169 / (D169+Foglio1!$C$10), NA())","v":{"$error":"#N/A"}},{"$f":"IF(D169>Foglio1!$I$7,1,0)","v":0},8.5999999999999899E-14,{"$f":" IF(Foglio1!$C$11 <> \"\", G169 / (G169+Foglio1!$C$11), NA())","v":{"$error":"#N/A"}},{"$f":"IF(G169>Foglio1!$I$7,1,0)","v":0},8.5999999999999899E-14,{"$f":" IF(Foglio1!$C$12 <> \"\", J169 / (J169+Foglio1!$C$12), NA())","v":{"$error":"#N/A"}},{"$f":"IF(J169>Foglio1!$I$7,1,0)","v":0},8.5999999999999899E-14,{"$f":" IF(Foglio1!$C$13 <> \"\", M169 / (M169+Foglio1!$C$13), NA())","v":{"$error":"#N/A"}},{"$f":"IF(M169>Foglio1!$I$7,1,0)","v":0}]
[8.6999999999999894E-14,{"$f":" IF(Foglio1!$C$9 <> \"\", A170 / (A170+Foglio1!$C$9), NA())","v":{"$error":"#N/A"}},{"$f":"IF(A170>Foglio1!$I$7,1,0)","v":0},8.6999999999999894E-14,{"$f":" IF(Foglio1!$C$10 <> \"\", D170 / (D170+Foglio1!$C$10), NA())","v":{"$error":"#N/A"}},{"$f":"IF(D170>Foglio1!$I$7,1,0)","v":0},8.6999999999999894E-14,{"$f":" IF(Foglio1!$C$11 <> \"\", G170 / (G170+Foglio1!$C$11), NA())","v":{"$error":"#N/A"}},{"$f":"IF(G170>Foglio1!$I$7,1,0)","v":0},8.6999999999999894E-14,{"$f":" IF(Foglio1!$C$12 <> \"\", J170 / (J170+Foglio1!$C$12), NA())","v":{"$error":"#N/A"}},{"$f":"IF(J170>Foglio1!$I$7,1,0)","v":0},8.6999999999999894E-14,{"$f":" IF(Foglio1!$C$13 <> \"\", M170 / (M170+Foglio1!$C$13), NA())","v":{"$error":"#N/A"}},{"$f":"IF(M170>Foglio1!$I$7,1,0)","v":0}]
[8.7999999999999903E-14,{"$f":" IF(Foglio1!$C$9 <> \"\", A171 / (A171+Foglio1!$C$9), NA())","v":{"$error":"#N/A"}},{"$f":"IF(A171>Foglio1!$I$7,1,0)","v":0},8.7999999999999903E-14,{"$f":" IF(Foglio1!$C$10 <> \"\", D171 / (D171+Foglio1!$C$10), NA())","v":{"$error":"#N/A"}},{"$f":"IF(D171>Foglio1!$I$7,1,0)","v":0},8.7999999999999903E-14,{"$f":" IF(Foglio1!$C$11 <> \"\", G171 / (G171+Foglio1!$C$11), NA())","v":{"$error":"#N/A"}},{"$f":"IF(G171>Foglio1!$I$7,1,0)","v":0},8.7999999999999903E-14,{"$f":" IF(Foglio1!$C$12 <> \"\", J171 / (J171+Foglio1!$C$12), NA())","v":{"$error":"#N/A"}},{"$f":"IF(J171>Foglio1!$I$7,1,0)","v":0},8.7999999999999903E-14,{"$f":" IF(Foglio1!$C$13 <> \"\", M171 / (M171+Foglio1!$C$13), NA())","v":{"$error":"#N/A"}},{"$f":"IF(M171>Foglio1!$I$7,1,0)","v":0}]
[8.8999999999999898E-14,{"$f":" IF(Foglio1!$C$9 <> \"\", A172 / (A172+Foglio1!$C$9), NA())","v":{"$error":"#N/A"}},{"$f":"IF(A172>Foglio1!$I$7,1,0)","v":0},8.8999999999999898E-14,{"$f":" IF(Foglio1!$C$10 <> \"\", D172 / (D172+Foglio1!$C$10), NA())","v":{"$error":"#N/A"}},{"$f":"IF(D172>Foglio1!$I$7,1,0)","v":0},8.8999999999999898E-14,{"$f":" IF(Foglio1!$C$11 <> \"\", G172 / (G172+Foglio1!$C$11), NA())","v":{"$error":"#N/A"}},{"$f":"IF(G172>Foglio1!$I$7,1,0)","v":0},8.8999999999999898E-14,{"$f":" IF(Foglio1!$C$12 <> \"\", J172 / (J172+Foglio1!$C$12), NA())","v":{"$error":"#N/A"}},{"$f":"IF(J172>Foglio1!$I$7,1,0)","v":0},8.8999999999999898E-14,{"$f":" IF(Foglio1!$C$13 <> \"\", M172 / (M172+Foglio1!$C$13), NA())","v":{"$error":"#N/A"}},{"$f":"IF(M172>Foglio1!$I$7,1,0)","v":0}]
[8.9999999999999894E-14,{"$f":" IF(Foglio1!$C$9 <> \"\", A173 / (A173+Foglio1!$C$9), NA())","v":{"$error":"#N/A"}},{"$f":"IF(A173>Foglio1!$I$7,1,0)","v":0},8.9999999999999894E-14,{"$f":" IF(Foglio1!$C$10 <> \"\", D173 / (D173+Foglio1!$C$10), NA())","v":{"$error":"#N/A"}},{"$f":"IF(D173>Foglio1!$I$7,1,0)","v":0},8.9999999999999894E-14,{"$f":" IF(Foglio1!$C$11 <> \"\", G173 / (G173+Foglio1!$C$11), NA())","v":{"$error":"#N/A"}},{"$f":"IF(G173>Foglio1!$I$7,1,0)","v":0},8.9999999999999894E-14,{"$f":" IF(Foglio1!$C$12 <> \"\", J173 / (J173+Foglio1!$C$12), NA())","v":{"$error":"#N/A"}},{"$f":"IF(J173>Foglio1!$I$7,1,0)","v":0},8.9999999999999894E-14,{"$f":" IF(Foglio1!$C$13 <> \"\", M173 / (M173+Foglio1!$C$13), NA())","v":{"$error":"#N/A"}},{"$f":"IF(M173>Foglio1!$I$7,1,0)","v":0}]
[9.0999999999999903E-14,{"$f":" IF(Foglio1!$C$9 <> \"\", A174 / (A174+Foglio1!$C$9), NA())","v":{"$error":"#N/A"}},{"$f":"IF(A174>Foglio1!$I$7,1,0)","v":0},9.0999999999999903E-14,{"$f":" IF(Foglio1!$C$10 <> \"\", D174 / (D174+Foglio1!$C$10), NA())","v":{"$error":"#N/A"}},{"$f":"IF(D174>Foglio1!$I$7,1,0)","v":0},9.0999999999999903E-14,{"$f":" IF(Foglio1!$C$11 <> \"\", G174 / (G174+Foglio1!$C$11), NA())","v":{"$error":"#N/A"}},{"$f":"IF(G174>Foglio1!$I$7,1,0)","v":0},9.0999999999999903E-14,{"$f":" IF(Foglio1!$C$12 <> \"\", J174 / (J174+Foglio1!$C$12), NA())","v":{"$error":"#N/A"}},{"$f":"IF(J174>Foglio1!$I$7,1,0)","v":0},9.0999999999999903E-14,{"$f":" IF(Foglio1!$C$13 <> \"\", M174 / (M174+Foglio1!$C$13), NA())","v":{"$error":"#N/A"}},{"$f":"IF(M174>Foglio1!$I$7,1,0)","v":0}]
[9.1999999999999898E-14,{"$f":" IF(Foglio1!$C$9 <> \"\", A175 / (A175+Foglio1!$C$9), NA())","v":{"$error":"#N/A"}},{"$f":"IF(A175>Foglio1!$I$7,1,0)","v":0},9.1999999999999898E-14,{"$f":" IF(Foglio1!$C$10 <> \"\", D175 / (D175+Foglio1!$C$10), NA())","v":{"$error":"#N/A"}},{"$f":"IF(D175>Foglio1!$I$7,1,0)","v":0},9.1999999999999898E-14,{"$f":" IF(Foglio1!$C$11 <> \"\", G175 / (G175+Foglio1!$C$11), NA())","v":{"$error":"#N/A"}},{"$f":"IF(G175>Foglio1!$I$7,1,0)","v":0},9.1999999999999898E-14,{"$f":" IF(Foglio1!$C$12 <> \"\", J175 / (J175+Foglio1!$C$12), NA())","v":{"$error":"#N/A"}},{"$f":"IF(J175>Foglio1!$I$7,1,0)","v":0},9.1999999999999898E-14,{"$f":" IF(Foglio1!$C$13 <> \"\", M175 / (M175+Foglio1!$C$13), NA())","v":{"$error":"#N/A"}},{"$f":"IF(M175>Foglio1!$I$7,1,0)","v":0}]
[9.2999999999999894E-14,{"$f":" IF(Foglio1!$C$9 <> \"\", A176 / (A176+Foglio1!$C$9), NA())","v":{"$error":"#N/A"}},{"$f":"IF(A176>Foglio1!$I$7,1,0)","v":0},9.2999999999999894E-14,{"$f":" IF(Foglio1!$C$10 <> \"\", D176 / (D176+Foglio1!$C$10), NA())","v":{"$error":"#N/A"}},{"$f":"IF(D176>Foglio1!$I$7,1,0)","v":0},9.2999999999999894E-14,{"$f":" IF(Foglio1!$C$11 <> \"\", G176 / (G176+Foglio1!$C$11), NA())","v":{"$error":"#N/A"}},{"$f":"IF(G176>Foglio1!$I$7,1,0)","v":0},9.2999999999999894E-14,{"$f":" IF(Foglio1!$C$12 <> \"\", J176 / (J176+Foglio1!$C$12), NA())","v":{"$error":"#N/A"}},{"$f":"IF(J176>Foglio1!$I$7,1,0)","v":0},9.2999999999999894E-14,{"$f":" IF(Foglio1!$C$13 <> \"\", M176 / (M176+Foglio1!$C$13), NA())","v":{"$error":"#N/A"}},{"$f":"IF(M176>Foglio1!$I$7,1,0)","v":0}]
[9.3999999999999902E-14,{"$f":" IF(Foglio1!$C$9 <> \"\", A177 / (A177+Foglio1!$C$9), NA())","v":{"$error":"#N/A"}},{"$f":"IF(A177>Foglio1!$I$7,1,0)","v":0},9.3999999999999902E-14,{"$f":" IF(Foglio1!$C$10 <> \"\", D177 / (D177+Foglio1!$C$10), NA())","v":{"$error":"#N/A"}},{"$f":"IF(D177>Foglio1!$I$7,1,0)","v":0},9.3999999999999902E-14,{"$f":" IF(Foglio1!$C$11 <> \"\", G177 / (G177+Foglio1!$C$11), NA())","v":{"$error":"#N/A"}},{"$f":"IF(G177>Foglio1!$I$7,1,0)","v":0},9.3999999999999902E-14,{"$f":" IF(Foglio1!$C$12 <> \"\", J177 / (J177+Foglio1!$C$12), NA())","v":{"$error":"#N/A"}},{"$f":"IF(J177>Foglio1!$I$7,1,0)","v":0},9.3999999999999902E-14,{"$f":" IF(Foglio1!$C$13 <> \"\", M177 / (M177+Foglio1!$C$13), NA())","v":{"$error":"#N/A"}},{"$f":"IF(M177>Foglio1!$I$7,1,0)","v":0}]
[9.4999999999999898E-14,{"$f":" IF(Foglio1!$C$9 <> \"\", A178 / (A178+Foglio1!$C$9), NA())","v":{"$error":"#N/A"}},{"$f":"IF(A178>Foglio1!$I$7,1,0)","v":0},9.4999999999999898E-14,{"$f":" IF(Foglio1!$C$10 <> \"\", D178 / (D178+Foglio1!$C$10), NA())","v":{"$error":"#N/A"}},{"$f":"IF(D178>Foglio1!$I$7,1,0)","v":0},9.4999999999999898E-14,{"$f":" IF(Foglio1!$C$11 <> \"\", G178 / (G178+Foglio1!$C$11), NA())","v":{"$error":"#N/A"}},{"$f":"IF(G178>Foglio1!$I$7,1,0)","v":0},9.4999999999999898E-14,{"$f":" IF(Foglio1!$C$12 <> \"\", J178 / (J178+Foglio1!$C$12), NA())","v":{"$error":"#N/A"}},{"$f":"IF(J178>Foglio1!$I$7,1,0)","v":0},9.4999999999999898E-14,{"$f":" IF(Foglio1!$C$13 <> \"\", M178 / (M178+Foglio1!$C$13), NA())","v":{"$error":"#N/A"}},{"$f":"IF(M178>Foglio1!$I$7,1,0)","v":0}]
[9.5999999999999894E-14,{"$f":" IF(Foglio1!$C$9 <> \"\", A179 / (A179+Foglio1!$C$9), NA())","v":{"$error":"#N/A"}},{"$f":"IF(A179>Foglio1!$I$7,1,0)","v":0},9.5999999999999894E-14,{"$f":" IF(Foglio1!$C$10 <> \"\", D179 / (D179+Foglio1!$C$10), NA())","v":{"$error":"#N/A"}},{"$f":"IF(D179>Foglio1!$I$7,1,0)","v":0},9.5999999999999894E-14,{"$f":" IF(Foglio1!$C$11 <> \"\", G179 / (G179+Foglio1!$C$11), NA())","v":{"$error":"#N/A"}},{"$f":"IF(G179>Foglio1!$I$7,1,0)","v":0},9.5999999999999894E-14,{"$f":" IF(Foglio1!$C$12 <> \"\", J179 / (J179+Foglio1!$C$12), NA())","v":{"$error":"#N/A"}},{"$f":"IF(J179>Foglio1!$I$7,1,0)","v":0},9.5999999999999894E-14,{"$f":" IF(Foglio1!$C$13 <> \"\", M179 / (M179+Foglio1!$C$13), NA())","v":{"$error":"#N/A"}},{"$f":"IF(M179>Foglio1!$I$7,1,0)","v":0}]
[9.6999999999999902E-14,{"$f":" IF(Foglio1!$C$9 <> \"\", A180 / (A180+Foglio1!$C$9), NA())","v":{"$error":"#N/A"}},{"$f":"IF(A180>Foglio1!$I$7,1,0)","v":0},9.6999999999999902E-14,{"$f":" IF(Foglio1!$C$10 <> \"\", D180 / (D180+Foglio1!$C$10), NA())","v":{"$error":"#N/A"}},{"$f":"IF(D180>Foglio1!$I$7,1,0)","v":0},9.6999999999999902E-14,{"$f":" IF(Foglio1!$C$11 <> \"\", G180 / (G180+Foglio1!$C$11), NA())","v":{"$error":"#N/A"}},{"$f":"IF(G180>Foglio1!$I$7,1,0)","v":0},9.6999999999999902E-14,{"$f":" IF(Foglio1!$C$12 <> \"\", J180 / (J180+Foglio1!$C$12), NA())","v":{"$error":"#N/A"}},{"$f":"IF(J180>Foglio1!$I$7,1,0)","v":0},9.6999999999999902E-14,{"$f":" IF(Foglio1!$C$13 <> \"\", M180 / (M180+Foglio1!$C$13), NA())","v":{"$error":"#N/A"}},{"$f":"IF(M180>Foglio1!$I$7,1,0)","v":0}]
[9.7999999999999898E-14,{"$f":" IF(Foglio1!$C$9 <> \"\", A181 / (A181+Foglio1!$C$9), NA())","v":{"$error":"#N/A"}},{"$f":"IF(A181>Foglio1!$I$7,1,0)","v":0},9.7999999999999898E-14,{"$f":" IF(Foglio1!$C$10 <> \"\", D181 / (D181+Foglio1!$C$10), NA())","v":{"$error":"#N/A"}},{"$f":"IF(D181>Foglio1!$I$7,1,0)","v":0},9.7999999999999898E-14,{"$f":" IF(Foglio1!$C$11 <> \"\", G181 / (G181+Foglio1!$C$11), NA())","v":{"$error":"#N/A"}},{"$f":"IF(G181>Foglio1!$I$7,1,0)","v":0},9.7999999999999898E-14,{"$f":" IF(Foglio1!$C$12 <> \"\", J181 / (J181+Foglio1!$C$12), NA())","v":{"$error":"#N/A"}},{"$f":"IF(J181>Foglio1!$I$7,1,0)","v":0},9.7999999999999898E-14,{"$f":" IF(Foglio1!$C$13 <> \"\", M181 / (M181+Foglio1!$C$13), NA())","v":{"$error":"#N/A"}},{"$f":"IF(M181>Foglio1!$I$7,1,0)","v":0}]
[9.8999999999999894E-14,{"$f":" IF(Foglio1!$C$9 <> \"\", A182 / (A182+Foglio1!$C$9), NA())","v":{"$error":"#N/A"}},{"$f":"IF(A182>Foglio1!$I$7,1,0)","v":0},9.8999999999999894E-14,{"$f":" IF(Foglio1!$C$10 <> \"\", D182 / (D182+Foglio1!$C$10), NA())","v":{"$error":"#N/A"}},{"$f":"IF(D182>Foglio1!$I$7,1,0)","v":0},9.8999999999999894E-14,{"$f":" IF(Foglio1!$C$11 <> \"\", G182 / (G182+Foglio1!$C$11), NA())","v":{"$error":"#N/A"}},{"$f":"IF(G182>Foglio1!$I$7,1,0)","v":0},9.8999999999999894E-14,{"$f":" IF(Foglio1!$C$12 <> \"\", J182 / (J182+Foglio1!$C$12), NA())","v":{"$error":"#N/A"}},{"$f":"IF(J182>Foglio1!$I$7,1,0)","v":0},9.8999999999999894E-14,{"$f":" IF(Foglio1!$C$13 <> \"\", M182 / (M182+Foglio1!$C$13), NA())","v":{"$error":"#N/A"}},{"$f":"IF(M182>Foglio1!$I$7,1,0)","v":0}]
[9.9999999999999902E-14,{"$f":" IF(Foglio1!$C$9 <> \"\", A183 / (A183+Foglio1!$C$9), NA())","v":{"$error":"#N/A"}},{"$f":"IF(A183>Foglio1!$I$7,1,0)","v":0},9.9999999999999902E-14,{"$f":" IF(Foglio1!$C$10 <> \"\", D183 / (D183+Foglio1!$C$10), NA())","v":{"$error":"#N/A"}},{"$f":"IF(D183>Foglio1!$I$7,1,0)","v":0},9.9999999999999902E-14,{"$f":" IF(Foglio1!$C$11 <> \"\", G183 / (G183+Foglio1!$C$11), NA())","v":{"$error":"#N/A"}},{"$f":"IF(G183>Foglio1!$I$7,1,0)","v":0},9.9999999999999902E-14,{"$f":" IF(Foglio1!$C$12 <> \"\", J183 / (J183+Foglio1!$C$12), NA())","v":{"$error":"#N/A"}},{"$f":"IF(J183>Foglio1!$I$7,1,0)","v":0},9.9999999999999902E-14,{"$f":" IF(Foglio1!$C$13 <> \"\", M183 / (M183+Foglio1!$C$13), NA())","v":{"$error":"#N/A"}},{"$f":"IF(M183>Foglio1!$I$7,1,0)","v":0}]
[1.1E-13,{"$f":" IF(Foglio1!$C$9 <> \"\", A184 / (A184+Foglio1!$C$9), NA())","v":{"$error":"#N/A"}},{"$f":"IF(A184>Foglio1!$I$7,1,0)","v":0},1.1E-13,{"$f":" IF(Foglio1!$C$10 <> \"\", D184 / (D184+Foglio1!$C$10), NA())","v":{"$error":"#N/A"}},{"$f":"IF(D184>Foglio1!$I$7,1,0)","v":0},1.1E-13,{"$f":" IF(Foglio1!$C$11 <> \"\", G184 / (G184+Foglio1!$C$11), NA())","v":{"$error":"#N/A"}},{"$f":"IF(G184>Foglio1!$I$7,1,0)","v":0},1.1E-13,{"$f":" IF(Foglio1!$C$12 <> \"\", J184 / (J184+Foglio1!$C$12), NA())","v":{"$error":"#N/A"}},{"$f":"IF(J184>Foglio1!$I$7,1,0)","v":0},1.1E-13,{"$f":" IF(Foglio1!$C$13 <> \"\", M184 / (M184+Foglio1!$C$13), NA())","v":{"$error":"#N/A"}},{"$f":"IF(M184>Foglio1!$I$7,1,0)","v":0}]
[1.1999999999999999E-13,{"$f":" IF(Foglio1!$C$9 <> \"\", A185 / (A185+Foglio1!$C$9), NA())","v":{"$error":"#N/A"}},{"$f":"IF(A185>Foglio1!$I$7,1,0)","v":0},1.1999999999999999E-13,{"$f":" IF(Foglio1!$C$10 <> \"\", D185 / (D185+Foglio1!$C$10), NA())","v":{"$error":"#N/A"}},{"$f":"IF(D185>Foglio1!$I$7,1,0)","v":0},1.1999999999999999E-13,{"$f":" IF(Foglio1!$C$11 <> \"\", G185 / (G185+Foglio1!$C$11), NA())","v":{"$error":"#N/A"}},{"$f":"IF(G185>Foglio1!$I$7,1,0)","v":0},1.1999999999999999E-13,{"$f":" IF(Foglio1!$C$12 <> \"\", J185 / (J185+Foglio1!$C$12), NA())","v":{"$error":"#N/A"}},{"$f":"IF(J185>Foglio1!$I$7,1,0)","v":0},1.1999999999999999E-13,{"$f":" IF(Foglio1!$C$13 <> \"\", M185 / (M185+Foglio1!$C$13), NA())","v":{"$error":"#N/A"}},{"$f":"IF(M185>Foglio1!$I$7,1,0)","v":0}]
[1.3E-13,{"$f":" IF(Foglio1!$C$9 <> \"\", A186 / (A186+Foglio1!$C$9), NA())","v":{"$error":"#N/A"}},{"$f":"IF(A186>Foglio1!$I$7,1,0)","v":0},1.3E-13,{"$f":" IF(Foglio1!$C$10 <> \"\", D186 / (D186+Foglio1!$C$10), NA())","v":{"$error":"#N/A"}},{"$f":"IF(D186>Foglio1!$I$7,1,0)","v":0},1.3E-13,{"$f":" IF(Foglio1!$C$11 <> \"\", G186 / (G186+Foglio1!$C$11), NA())","v":{"$error":"#N/A"}},{"$f":"IF(G186>Foglio1!$I$7,1,0)","v":0},1.3E-13,{"$f":" IF(Foglio1!$C$12 <> \"\", J186 / (J186+Foglio1!$C$12), NA())","v":{"$error":"#N/A"}},{"$f":"IF(J186>Foglio1!$I$7,1,0)","v":0},1.3E-13,{"$f":" IF(Foglio1!$C$13 <> \"\", M186 / (M186+Foglio1!$C$13), NA())","v":{"$error":"#N/A"}},{"$f":"IF(M186>Foglio1!$I$7,1,0)","v":0}]
[1.4000000000000001E-13,{"$f":" IF(Foglio1!$C$9 <> \"\", A187 / (A187+Foglio1!$C$9), NA())","v":{"$error":"#N/A"}},{"$f":"IF(A187>Foglio1!$I$7,1,0)","v":0},1.4000000000000001E-13,{"$f":" IF(Foglio1!$C$10 <> \"\", D187 / (D187+Foglio1!$C$10), NA())","v":{"$error":"#N/A"}},{"$f":"IF(D187>Foglio1!$I$7,1,0)","v":0},1.4000000000000001E-13,{"$f":" IF(Foglio1!$C$11 <> \"\", G187 / (G187+Foglio1!$C$11), NA())","v":{"$error":"#N/A"}},{"$f":"IF(G187>Foglio1!$I$7,1,0)","v":0},1.4000000000000001E-13,{"$f":" IF(Foglio1!$C$12 <> \"\", J187 / (J187+Foglio1!$C$12), NA())","v":{"$error":"#N/A"}},{"$f":"IF(J187>Foglio1!$I$7,1,0)","v":0},1.4000000000000001E-13,{"$f":" IF(Foglio1!$C$13 <> \"\", M187 / (M187+Foglio1!$C$13), NA())","v":{"$error":"#N/A"}},{"$f":"IF(M187>Foglio1!$I$7,1,0)","v":0}]
[1.4999999999999999E-13,{"$f":" IF(Foglio1!$C$9 <> \"\", A188 / (A188+Foglio1!$C$9), NA())","v":{"$error":"#N/A"}},{"$f":"IF(A188>Foglio1!$I$7,1,0)","v":0},1.4999999999999999E-13,{"$f":" IF(Foglio1!$C$10 <> \"\", D188 / (D188+Foglio1!$C$10), NA())","v":{"$error":"#N/A"}},{"$f":"IF(D188>Foglio1!$I$7,1,0)","v":0},1.4999999999999999E-13,{"$f":" IF(Foglio1!$C$11 <> \"\", G188 / (G188+Foglio1!$C$11), NA())","v":{"$error":"#N/A"}},{"$f":"IF(G188>Foglio1!$I$7,1,0)","v":0},1.4999999999999999E-13,{"$f":" IF(Foglio1!$C$12 <> \"\", J188 / (J188+Foglio1!$C$12), NA())","v":{"$error":"#N/A"}},{"$f":"IF(J188>Foglio1!$I$7,1,0)","v":0},1.4999999999999999E-13,{"$f":" IF(Foglio1!$C$13 <> \"\", M188 / (M188+Foglio1!$C$13), NA())","v":{"$error":"#N/A"}},{"$f":"IF(M188>Foglio1!$I$7,1,0)","v":0}]
[1.6000000000000101E-13,{"$f":" IF(Foglio1!$C$9 <> \"\", A189 / (A189+Foglio1!$C$9), NA())","v":{"$error":"#N/A"}},{"$f":"IF(A189>Foglio1!$I$7,1,0)","v":0},1.6000000000000101E-13,{"$f":" IF(Foglio1!$C$10 <> \"\", D189 / (D189+Foglio1!$C$10), NA())","v":{"$error":"#N/A"}},{"$f":"IF(D189>Foglio1!$I$7,1,0)","v":0},1.6000000000000101E-13,{"$f":" IF(Foglio1!$C$11 <> \"\", G189 / (G189+Foglio1!$C$11), NA())","v":{"$error":"#N/A"}},{"$f":"IF(G189>Foglio1!$I$7,1,0)","v":0},1.6000000000000101E-13,{"$f":" IF(Foglio1!$C$12 <> \"\", J189 / (J189+Foglio1!$C$12), NA())","v":{"$error":"#N/A"}},{"$f":"IF(J189>Foglio1!$I$7,1,0)","v":0},1.6000000000000101E-13,{"$f":" IF(Foglio1!$C$13 <> \"\", M189 / (M189+Foglio1!$C$13), NA())","v":{"$error":"#N/A"}},{"$f":"IF(M189>Foglio1!$I$7,1,0)","v":0}]
[1.7000000000000099E-13,{"$f":" IF(Foglio1!$C$9 <> \"\", A190 / (A190+Foglio1!$C$9), NA())","v":{"$error":"#N/A"}},{"$f":"IF(A190>Foglio1!$I$7,1,0)","v":0},1.7000000000000099E-13,{"$f":" IF(Foglio1!$C$10 <> \"\", D190 / (D190+Foglio1!$C$10), NA())","v":{"$error":"#N/A"}},{"$f":"IF(D190>Foglio1!$I$7,1,0)","v":0},1.7000000000000099E-13,{"$f":" IF(Foglio1!$C$11 <> \"\", G190 / (G190+Foglio1!$C$11), NA())","v":{"$error":"#N/A"}},{"$f":"IF(G190>Foglio1!$I$7,1,0)","v":0},1.7000000000000099E-13,{"$f":" IF(Foglio1!$C$12 <> \"\", J190 / (J190+Foglio1!$C$12), NA())","v":{"$error":"#N/A"}},{"$f":"IF(J190>Foglio1!$I$7,1,0)","v":0},1.7000000000000099E-13,{"$f":" IF(Foglio1!$C$13 <> \"\", M190 / (M190+Foglio1!$C$13), NA())","v":{"$error":"#N/A"}},{"$f":"IF(M190>Foglio1!$I$7,1,0)","v":0}]
[1.80000000000001E-13,{"$f":" IF(Foglio1!$C$9 <> \"\", A191 / (A191+Foglio1!$C$9), NA())","v":{"$error":"#N/A"}},{"$f":"IF(A191>Foglio1!$I$7,1,0)","v":0},1.80000000000001E-13,{"$f":" IF(Foglio1!$C$10 <> \"\", D191 / (D191+Foglio1!$C$10), NA())","v":{"$error":"#N/A"}},{"$f":"IF(D191>Foglio1!$I$7,1,0)","v":0},1.80000000000001E-13,{"$f":" IF(Foglio1!$C$11 <> \"\", G191 / (G191+Foglio1!$C$11), NA())","v":{"$error":"#N/A"}},{"$f":"IF(G191>Foglio1!$I$7,1,0)","v":0},1.80000000000001E-13,{"$f":" IF(Foglio1!$C$12 <> \"\", J191 / (J191+Foglio1!$C$12), NA())","v":{"$error":"#N/A"}},{"$f":"IF(J191>Foglio1!$I$7,1,0)","v":0},1.80000000000001E-13,{"$f":" IF(Foglio1!$C$13 <> \"\", M191 / (M191+Foglio1!$C$13), NA())","v":{"$error":"#N/A"}},{"$f":"IF(M191>Foglio1!$I$7,1,0)","v":0}]
[1.9000000000000101E-13,{"$f":" IF(Foglio1!$C$9 <> \"\", A192 / (A192+Foglio1!$C$9), NA())","v":{"$error":"#N/A"}},{"$f":"IF(A192>Foglio1!$I$7,1,0)","v":0},1.9000000000000101E-13,{"$f":" IF(Foglio1!$C$10 <> \"\", D192 / (D192+Foglio1!$C$10), NA())","v":{"$error":"#N/A"}},{"$f":"IF(D192>Foglio1!$I$7,1,0)","v":0},1.9000000000000101E-13,{"$f":" IF(Foglio1!$C$11 <> \"\", G192 / (G192+Foglio1!$C$11), NA())","v":{"$error":"#N/A"}},{"$f":"IF(G192>Foglio1!$I$7,1,0)","v":0},1.9000000000000101E-13,{"$f":" IF(Foglio1!$C$12 <> \"\", J192 / (J192+Foglio1!$C$12), NA())","v":{"$error":"#N/A"}},{"$f":"IF(J192>Foglio1!$I$7,1,0)","v":0},1.9000000000000101E-13,{"$f":" IF(Foglio1!$C$13 <> \"\", M192 / (M192+Foglio1!$C$13), NA())","v":{"$error":"#N/A"}},{"$f":"IF(M192>Foglio1!$I$7,1,0)","v":0}]
[2.0000000000000099E-13,{"$f":" IF(Foglio1!$C$9 <> \"\", A193 / (A193+Foglio1!$C$9), NA())","v":{"$error":"#N/A"}},{"$f":"IF(A193>Foglio1!$I$7,1,0)","v":0},2.0000000000000099E-13,{"$f":" IF(Foglio1!$C$10 <> \"\", D193 / (D193+Foglio1!$C$10), NA())","v":{"$error":"#N/A"}},{"$f":"IF(D193>Foglio1!$I$7,1,0)","v":0},2.0000000000000099E-13,{"$f":" IF(Foglio1!$C$11 <> \"\", G193 / (G193+Foglio1!$C$11), NA())","v":{"$error":"#N/A"}},{"$f":"IF(G193>Foglio1!$I$7,1,0)","v":0},2.0000000000000099E-13,{"$f":" IF(Foglio1!$C$12 <> \"\", J193 / (J193+Foglio1!$C$12), NA())","v":{"$error":"#N/A"}},{"$f":"IF(J193>Foglio1!$I$7,1,0)","v":0},2.0000000000000099E-13,{"$f":" IF(Foglio1!$C$13 <> \"\", M193 / (M193+Foglio1!$C$13), NA())","v":{"$error":"#N/A"}},{"$f":"IF(M193>Foglio1!$I$7,1,0)","v":0}]
[2.10000000000001E-13,{"$f":" IF(Foglio1!$C$9 <> \"\", A194 / (A194+Foglio1!$C$9), NA())","v":{"$error":"#N/A"}},{"$f":"IF(A194>Foglio1!$I$7,1,0)","v":0},2.10000000000001E-13,{"$f":" IF(Foglio1!$C$10 <> \"\", D194 / (D194+Foglio1!$C$10), NA())","v":{"$error":"#N/A"}},{"$f":"IF(D194>Foglio1!$I$7,1,0)","v":0},2.10000000000001E-13,{"$f":" IF(Foglio1!$C$11 <> \"\", G194 / (G194+Foglio1!$C$11), NA())","v":{"$error":"#N/A"}},{"$f":"IF(G194>Foglio1!$I$7,1,0)","v":0},2.10000000000001E-13,{"$f":" IF(Foglio1!$C$12 <> \"\", J194 / (J194+Foglio1!$C$12), NA())","v":{"$error":"#N/A"}},{"$f":"IF(J194>Foglio1!$I$7,1,0)","v":0},2.10000000000001E-13,{"$f":" IF(Foglio1!$C$13 <> \"\", M194 / (M194+Foglio1!$C$13), NA())","v":{"$error":"#N/A"}},{"$f":"IF(M194>Foglio1!$I$7,1,0)","v":0}]
[2.2000000000000101E-13,{"$f":" IF(Foglio1!$C$9 <> \"\", A195 / (A195+Foglio1!$C$9), NA())","v":{"$error":"#N/A"}},{"$f":"IF(A195>Foglio1!$I$7,1,0)","v":0},2.2000000000000101E-13,{"$f":" IF(Foglio1!$C$10 <> \"\", D195 / (D195+Foglio1!$C$10), NA())","v":{"$error":"#N/A"}},{"$f":"IF(D195>Foglio1!$I$7,1,0)","v":0},2.2000000000000101E-13,{"$f":" IF(Foglio1!$C$11 <> \"\", G195 / (G195+Foglio1!$C$11), NA())","v":{"$error":"#N/A"}},{"$f":"IF(G195>Foglio1!$I$7,1,0)","v":0},2.2000000000000101E-13,{"$f":" IF(Foglio1!$C$12 <> \"\", J195 / (J195+Foglio1!$C$12), NA())","v":{"$error":"#N/A"}},{"$f":"IF(J195>Foglio1!$I$7,1,0)","v":0},2.2000000000000101E-13,{"$f":" IF(Foglio1!$C$13 <> \"\", M195 / (M195+Foglio1!$C$13), NA())","v":{"$error":"#N/A"}},{"$f":"IF(M195>Foglio1!$I$7,1,0)","v":0}]
[2.3000000000000099E-13,{"$f":" IF(Foglio1!$C$9 <> \"\", A196 / (A196+Foglio1!$C$9), NA())","v":{"$error":"#N/A"}},{"$f":"IF(A196>Foglio1!$I$7,1,0)","v":0},2.3000000000000099E-13,{"$f":" IF(Foglio1!$C$10 <> \"\", D196 / (D196+Foglio1!$C$10), NA())","v":{"$error":"#N/A"}},{"$f":"IF(D196>Foglio1!$I$7,1,0)","v":0},2.3000000000000099E-13,{"$f":" IF(Foglio1!$C$11 <> \"\", G196 / (G196+Foglio1!$C$11), NA())","v":{"$error":"#N/A"}},{"$f":"IF(G196>Foglio1!$I$7,1,0)","v":0},2.3000000000000099E-13,{"$f":" IF(Foglio1!$C$12 <> \"\", J196 / (J196+Foglio1!$C$12), NA())","v":{"$error":"#N/A"}},{"$f":"IF(J196>Foglio1!$I$7,1,0)","v":0},2.3000000000000099E-13,{"$f":" IF(Foglio1!$C$13 <> \"\", M196 / (M196+Foglio1!$C$13), NA())","v":{"$error":"#N/A"}},{"$f":"IF(M196>Foglio1!$I$7,1,0)","v":0}]
[2.40000000000001E-13,{"$f":" IF(Foglio1!$C$9 <> \"\", A197 / (A197+Foglio1!$C$9), NA())","v":{"$error":"#N/A"}},{"$f":"IF(A197>Foglio1!$I$7,1,0)","v":0},2.40000000000001E-13,{"$f":" IF(Foglio1!$C$10 <> \"\", D197 / (D197+Foglio1!$C$10), NA())","v":{"$error":"#N/A"}},{"$f":"IF(D197>Foglio1!$I$7,1,0)","v":0},2.40000000000001E-13,{"$f":" IF(Foglio1!$C$11 <> \"\", G197 / (G197+Foglio1!$C$11), NA())","v":{"$error":"#N/A"}},{"$f":"IF(G197>Foglio1!$I$7,1,0)","v":0},2.40000000000001E-13,{"$f":" IF(Foglio1!$C$12 <> \"\", J197 / (J197+Foglio1!$C$12), NA())","v":{"$error":"#N/A"}},{"$f":"IF(J197>Foglio1!$I$7,1,0)","v":0},2.40000000000001E-13,{"$f":" IF(Foglio1!$C$13 <> \"\", M197 / (M197+Foglio1!$C$13), NA())","v":{"$error":"#N/A"}},{"$f":"IF(M197>Foglio1!$I$7,1,0)","v":0}]
[2.50000000000001E-13,{"$f":" IF(Foglio1!$C$9 <> \"\", A198 / (A198+Foglio1!$C$9), NA())","v":{"$error":"#N/A"}},{"$f":"IF(A198>Foglio1!$I$7,1,0)","v":0},2.50000000000001E-13,{"$f":" IF(Foglio1!$C$10 <> \"\", D198 / (D198+Foglio1!$C$10), NA())","v":{"$error":"#N/A"}},{"$f":"IF(D198>Foglio1!$I$7,1,0)","v":0},2.50000000000001E-13,{"$f":" IF(Foglio1!$C$11 <> \"\", G198 / (G198+Foglio1!$C$11), NA())","v":{"$error":"#N/A"}},{"$f":"IF(G198>Foglio1!$I$7,1,0)","v":0},2.50000000000001E-13,{"$f":" IF(Foglio1!$C$12 <> \"\", J198 / (J198+Foglio1!$C$12), NA())","v":{"$error":"#N/A"}},{"$f":"IF(J198>Foglio1!$I$7,1,0)","v":0},2.50000000000001E-13,{"$f":" IF(Foglio1!$C$13 <> \"\", M198 / (M198+Foglio1!$C$13), NA())","v":{"$error":"#N/A"}},{"$f":"IF(M198>Foglio1!$I$7,1,0)","v":0}]
[2.6000000000000202E-13,{"$f":" IF(Foglio1!$C$9 <> \"\", A199 / (A199+Foglio1!$C$9), NA())","v":{"$error":"#N/A"}},{"$f":"IF(A199>Foglio1!$I$7,1,0)","v":0},2.6000000000000202E-13,{"$f":" IF(Foglio1!$C$10 <> \"\", D199 / (D199+Foglio1!$C$10), NA())","v":{"$error":"#N/A"}},{"$f":"IF(D199>Foglio1!$I$7,1,0)","v":0},2.6000000000000202E-13,{"$f":" IF(Foglio1!$C$11 <> \"\", G199 / (G199+Foglio1!$C$11), NA())","v":{"$error":"#N/A"}},{"$f":"IF(G199>Foglio1!$I$7,1,0)","v":0},2.6000000000000202E-13,{"$f":" IF(Foglio1!$C$12 <> \"\", J199 / (J199+Foglio1!$C$12), NA())","v":{"$error":"#N/A"}},{"$f":"IF(J199>Foglio1!$I$7,1,0)","v":0},2.6000000000000202E-13,{"$f":" IF(Foglio1!$C$13 <> \"\", M199 / (M199+Foglio1!$C$13), NA())","v":{"$error":"#N/A"}},{"$f":"IF(M199>Foglio1!$I$7,1,0)","v":0}]
[2.7000000000000198E-13,{"$f":" IF(Foglio1!$C$9 <> \"\", A200 / (A200+Foglio1!$C$9), NA())","v":{"$error":"#N/A"}},{"$f":"IF(A200>Foglio1!$I$7,1,0)","v":0},2.7000000000000198E-13,{"$f":" IF(Foglio1!$C$10 <> \"\", D200 / (D200+Foglio1!$C$10), NA())","v":{"$error":"#N/A"}},{"$f":"IF(D200>Foglio1!$I$7,1,0)","v":0},2.7000000000000198E-13,{"$f":" IF(Foglio1!$C$11 <> \"\", G200 / (G200+Foglio1!$C$11), NA())","v":{"$error":"#N/A"}},{"$f":"IF(G200>Foglio1!$I$7,1,0)","v":0},2.7000000000000198E-13,{"$f":" IF(Foglio1!$C$12 <> \"\", J200 / (J200+Foglio1!$C$12), NA())","v":{"$error":"#N/A"}},{"$f":"IF(J200>Foglio1!$I$7,1,0)","v":0},2.7000000000000198E-13,{"$f":" IF(Foglio1!$C$13 <> \"\", M200 / (M200+Foglio1!$C$13), NA())","v":{"$error":"#N/A"}},{"$f":"IF(M200>Foglio1!$I$7,1,0)","v":0}]
[2.8000000000000199E-13,{"$f":" IF(Foglio1!$C$9 <> \"\", A201 / (A201+Foglio1!$C$9), NA())","v":{"$error":"#N/A"}},{"$f":"IF(A201>Foglio1!$I$7,1,0)","v":0},2.8000000000000199E-13,{"$f":" IF(Foglio1!$C$10 <> \"\", D201 / (D201+Foglio1!$C$10), NA())","v":{"$error":"#N/A"}},{"$f":"IF(D201>Foglio1!$I$7,1,0)","v":0},2.8000000000000199E-13,{"$f":" IF(Foglio1!$C$11 <> \"\", G201 / (G201+Foglio1!$C$11), NA())","v":{"$error":"#N/A"}},{"$f":"IF(G201>Foglio1!$I$7,1,0)","v":0},2.8000000000000199E-13,{"$f":" IF(Foglio1!$C$12 <> \"\", J201 / (J201+Foglio1!$C$12), NA())","v":{"$error":"#N/A"}},{"$f":"IF(J201>Foglio1!$I$7,1,0)","v":0},2.8000000000000199E-13,{"$f":" IF(Foglio1!$C$13 <> \"\", M201 / (M201+Foglio1!$C$13), NA())","v":{"$error":"#N/A"}},{"$f":"IF(M201>Foglio1!$I$7,1,0)","v":0}]
[2.90000000000002E-13,{"$f":" IF(Foglio1!$C$9 <> \"\", A202 / (A202+Foglio1!$C$9), NA())","v":{"$error":"#N/A"}},{"$f":"IF(A202>Foglio1!$I$7,1,0)","v":0},2.90000000000002E-13,{"$f":" IF(Foglio1!$C$10 <> \"\", D202 / (D202+Foglio1!$C$10), NA())","v":{"$error":"#N/A"}},{"$f":"IF(D202>Foglio1!$I$7,1,0)","v":0},2.90000000000002E-13,{"$f":" IF(Foglio1!$C$11 <> \"\", G202 / (G202+Foglio1!$C$11), NA())","v":{"$error":"#N/A"}},{"$f":"IF(G202>Foglio1!$I$7,1,0)","v":0},2.90000000000002E-13,{"$f":" IF(Foglio1!$C$12 <> \"\", J202 / (J202+Foglio1!$C$12), NA())","v":{"$error":"#N/A"}},{"$f":"IF(J202>Foglio1!$I$7,1,0)","v":0},2.90000000000002E-13,{"$f":" IF(Foglio1!$C$13 <> \"\", M202 / (M202+Foglio1!$C$13), NA())","v":{"$error":"#N/A"}},{"$f":"IF(M202>Foglio1!$I$7,1,0)","v":0}]
[3.00000000000002E-13,{"$f":" IF(Foglio1!$C$9 <> \"\", A203 / (A203+Foglio1!$C$9), NA())","v":{"$error":"#N/A"}},{"$f":"IF(A203>Foglio1!$I$7,1,0)","v":0},3.00000000000002E-13,{"$f":" IF(Foglio1!$C$10 <> \"\", D203 / (D203+Foglio1!$C$10), NA())","v":{"$error":"#N/A"}},{"$f":"IF(D203>Foglio1!$I$7,1,0)","v":0},3.00000000000002E-13,{"$f":" IF(Foglio1!$C$11 <> \"\", G203 / (G203+Foglio1!$C$11), NA())","v":{"$error":"#N/A"}},{"$f":"IF(G203>Foglio1!$I$7,1,0)","v":0},3.00000000000002E-13,{"$f":" IF(Foglio1!$C$12 <> \"\", J203 / (J203+Foglio1!$C$12), NA())","v":{"$error":"#N/A"}},{"$f":"IF(J203>Foglio1!$I$7,1,0)","v":0},3.00000000000002E-13,{"$f":" IF(Foglio1!$C$13 <> \"\", M203 / (M203+Foglio1!$C$13), NA())","v":{"$error":"#N/A"}},{"$f":"IF(M203>Foglio1!$I$7,1,0)","v":0}]
[3.1000000000000201E-13,{"$f":" IF(Foglio1!$C$9 <> \"\", A204 / (A204+Foglio1!$C$9), NA())","v":{"$error":"#N/A"}},{"$f":"IF(A204>Foglio1!$I$7,1,0)","v":0},3.1000000000000201E-13,{"$f":" IF(Foglio1!$C$10 <> \"\", D204 / (D204+Foglio1!$C$10), NA())","v":{"$error":"#N/A"}},{"$f":"IF(D204>Foglio1!$I$7,1,0)","v":0},3.1000000000000201E-13,{"$f":" IF(Foglio1!$C$11 <> \"\", G204 / (G204+Foglio1!$C$11), NA())","v":{"$error":"#N/A"}},{"$f":"IF(G204>Foglio1!$I$7,1,0)","v":0},3.1000000000000201E-13,{"$f":" IF(Foglio1!$C$12 <> \"\", J204 / (J204+Foglio1!$C$12), NA())","v":{"$error":"#N/A"}},{"$f":"IF(J204>Foglio1!$I$7,1,0)","v":0},3.1000000000000201E-13,{"$f":" IF(Foglio1!$C$13 <> \"\", M204 / (M204+Foglio1!$C$13), NA())","v":{"$error":"#N/A"}},{"$f":"IF(M204>Foglio1!$I$7,1,0)","v":0}]
[3.2000000000000202E-13,{"$f":" IF(Foglio1!$C$9 <> \"\", A205 / (A205+Foglio1!$C$9), NA())","v":{"$error":"#N/A"}},{"$f":"IF(A205>Foglio1!$I$7,1,0)","v":0},3.2000000000000202E-13,{"$f":" IF(Foglio1!$C$10 <> \"\", D205 / (D205+Foglio1!$C$10), NA())","v":{"$error":"#N/A"}},{"$f":"IF(D205>Foglio1!$I$7,1,0)","v":0},3.2000000000000202E-13,{"$f":" IF(Foglio1!$C$11 <> \"\", G205 / (G205+Foglio1!$C$11), NA())","v":{"$error":"#N/A"}},{"$f":"IF(G205>Foglio1!$I$7,1,0)","v":0},3.2000000000000202E-13,{"$f":" IF(Foglio1!$C$12 <> \"\", J205 / (J205+Foglio1!$C$12), NA())","v":{"$error":"#N/A"}},{"$f":"IF(J205>Foglio1!$I$7,1,0)","v":0},3.2000000000000202E-13,{"$f":" IF(Foglio1!$C$13 <> \"\", M205 / (M205+Foglio1!$C$13), NA())","v":{"$error":"#N/A"}},{"$f":"IF(M205>Foglio1!$I$7,1,0)","v":0}]
[3.3000000000000198E-13,{"$f":" IF(Foglio1!$C$9 <> \"\", A206 / (A206+Foglio1!$C$9), NA())","v":{"$error":"#N/A"}},{"$f":"IF(A206>Foglio1!$I$7,1,0)","v":0},3.3000000000000198E-13,{"$f":" IF(Foglio1!$C$10 <> \"\", D206 / (D206+Foglio1!$C$10), NA())","v":{"$error":"#N/A"}},{"$f":"IF(D206>Foglio1!$I$7,1,0)","v":0},3.3000000000000198E-13,{"$f":" IF(Foglio1!$C$11 <> \"\", G206 / (G206+Foglio1!$C$11), NA())","v":{"$error":"#N/A"}},{"$f":"IF(G206>Foglio1!$I$7,1,0)","v":0},3.3000000000000198E-13,{"$f":" IF(Foglio1!$C$12 <> \"\", J206 / (J206+Foglio1!$C$12), NA())","v":{"$error":"#N/A"}},{"$f":"IF(J206>Foglio1!$I$7,1,0)","v":0},3.3000000000000198E-13,{"$f":" IF(Foglio1!$C$13 <> \"\", M206 / (M206+Foglio1!$C$13), NA())","v":{"$error":"#N/A"}},{"$f":"IF(M206>Foglio1!$I$7,1,0)","v":0}]
[3.4000000000000198E-13,{"$f":" IF(Foglio1!$C$9 <> \"\", A207 / (A207+Foglio1!$C$9), NA())","v":{"$error":"#N/A"}},{"$f":"IF(A207>Foglio1!$I$7,1,0)","v":0},3.4000000000000198E-13,{"$f":" IF(Foglio1!$C$10 <> \"\", D207 / (D207+Foglio1!$C$10), NA())","v":{"$error":"#N/A"}},{"$f":"IF(D207>Foglio1!$I$7,1,0)","v":0},3.4000000000000198E-13,{"$f":" IF(Foglio1!$C$11 <> \"\", G207 / (G207+Foglio1!$C$11), NA())","v":{"$error":"#N/A"}},{"$f":"IF(G207>Foglio1!$I$7,1,0)","v":0},3.4000000000000198E-13,{"$f":" IF(Foglio1!$C$12 <> \"\", J207 / (J207+Foglio1!$C$12), NA())","v":{"$error":"#N/A"}},{"$f":"IF(J207>Foglio1!$I$7,1,0)","v":0},3.4000000000000198E-13,{"$f":" IF(Foglio1!$C$13 <> \"\", M207 / (M207+Foglio1!$C$13), NA())","v":{"$error":"#N/A"}},{"$f":"IF(M207>Foglio1!$I$7,1,0)","v":0}]
[3.5000000000000199E-13,{"$f":" IF(Foglio1!$C$9 <> \"\", A208 / (A208+Foglio1!$C$9), NA())","v":{"$error":"#N/A"}},{"$f":"IF(A208>Foglio1!$I$7,1,0)","v":0},3.5000000000000199E-13,{"$f":" IF(Foglio1!$C$10 <> \"\", D208 / (D208+Foglio1!$C$10), NA())","v":{"$error":"#N/A"}},{"$f":"IF(D208>Foglio1!$I$7,1,0)","v":0},3.5000000000000199E-13,{"$f":" IF(Foglio1!$C$11 <> \"\", G208 / (G208+Foglio1!$C$11), NA())","v":{"$error":"#N/A"}},{"$f":"IF(G208>Foglio1!$I$7,1,0)","v":0},3.5000000000000199E-13,{"$f":" IF(Foglio1!$C$12 <> \"\", J208 / (J208+Foglio1!$C$12), NA())","v":{"$error":"#N/A"}},{"$f":"IF(J208>Foglio1!$I$7,1,0)","v":0},3.5000000000000199E-13,{"$f":" IF(Foglio1!$C$13 <> \"\", M208 / (M208+Foglio1!$C$13), NA())","v":{"$error":"#N/A"}},{"$f":"IF(M208>Foglio1!$I$7,1,0)","v":0}]
[3.6000000000000301E-13,{"$f":" IF(Foglio1!$C$9 <> \"\", A209 / (A209+Foglio1!$C$9), NA())","v":{"$error":"#N/A"}},{"$f":"IF(A209>Foglio1!$I$7,1,0)","v":0},3.6000000000000301E-13,{"$f":" IF(Foglio1!$C$10 <> \"\", D209 / (D209+Foglio1!$C$10), NA())","v":{"$error":"#N/A"}},{"$f":"IF(D209>Foglio1!$I$7,1,0)","v":0},3.6000000000000301E-13,{"$f":" IF(Foglio1!$C$11 <> \"\", G209 / (G209+Foglio1!$C$11), NA())","v":{"$error":"#N/A"}},{"$f":"IF(G209>Foglio1!$I$7,1,0)","v":0},3.6000000000000301E-13,{"$f":" IF(Foglio1!$C$12 <> \"\", J209 / (J209+Foglio1!$C$12), NA())","v":{"$error":"#N/A"}},{"$f":"IF(J209>Foglio1!$I$7,1,0)","v":0},3.6000000000000301E-13,{"$f":" IF(Foglio1!$C$13 <> \"\", M209 / (M209+Foglio1!$C$13), NA())","v":{"$error":"#N/A"}},{"$f":"IF(M209>Foglio1!$I$7,1,0)","v":0}]
[3.7000000000000302E-13,{"$f":" IF(Foglio1!$C$9 <> \"\", A210 / (A210+Foglio1!$C$9), NA())","v":{"$error":"#N/A"}},{"$f":"IF(A210>Foglio1!$I$7,1,0)","v":0},3.7000000000000302E-13,{"$f":" IF(Foglio1!$C$10 <> \"\", D210 / (D210+Foglio1!$C$10), NA())","v":{"$error":"#N/A"}},{"$f":"IF(D210>Foglio1!$I$7,1,0)","v":0},3.7000000000000302E-13,{"$f":" IF(Foglio1!$C$11 <> \"\", G210 / (G210+Foglio1!$C$11), NA())","v":{"$error":"#N/A"}},{"$f":"IF(G210>Foglio1!$I$7,1,0)","v":0},3.7000000000000302E-13,{"$f":" IF(Foglio1!$C$12 <> \"\", J210 / (J210+Foglio1!$C$12), NA())","v":{"$error":"#N/A"}},{"$f":"IF(J210>Foglio1!$I$7,1,0)","v":0},3.7000000000000302E-13,{"$f":" IF(Foglio1!$C$13 <> \"\", M210 / (M210+Foglio1!$C$13), NA())","v":{"$error":"#N/A"}},{"$f":"IF(M210>Foglio1!$I$7,1,0)","v":0}]
[3.8000000000000298E-13,{"$f":" IF(Foglio1!$C$9 <> \"\", A211 / (A211+Foglio1!$C$9), NA())","v":{"$error":"#N/A"}},{"$f":"IF(A211>Foglio1!$I$7,1,0)","v":0},3.8000000000000298E-13,{"$f":" IF(Foglio1!$C$10 <> \"\", D211 / (D211+Foglio1!$C$10), NA())","v":{"$error":"#N/A"}},{"$f":"IF(D211>Foglio1!$I$7,1,0)","v":0},3.8000000000000298E-13,{"$f":" IF(Foglio1!$C$11 <> \"\", G211 / (G211+Foglio1!$C$11), NA())","v":{"$error":"#N/A"}},{"$f":"IF(G211>Foglio1!$I$7,1,0)","v":0},3.8000000000000298E-13,{"$f":" IF(Foglio1!$C$12 <> \"\", J211 / (J211+Foglio1!$C$12), NA())","v":{"$error":"#N/A"}},{"$f":"IF(J211>Foglio1!$I$7,1,0)","v":0},3.8000000000000298E-13,{"$f":" IF(Foglio1!$C$13 <> \"\", M211 / (M211+Foglio1!$C$13), NA())","v":{"$error":"#N/A"}},{"$f":"IF(M211>Foglio1!$I$7,1,0)","v":0}]
[3.9000000000000298E-13,{"$f":" IF(Foglio1!$C$9 <> \"\", A212 / (A212+Foglio1!$C$9), NA())","v":{"$error":"#N/A"}},{"$f":"IF(A212>Foglio1!$I$7,1,0)","v":0},3.9000000000000298E-13,{"$f":" IF(Foglio1!$C$10 <> \"\", D212 / (D212+Foglio1!$C$10), NA())","v":{"$error":"#N/A"}},{"$f":"IF(D212>Foglio1!$I$7,1,0)","v":0},3.9000000000000298E-13,{"$f":" IF(Foglio1!$C$11 <> \"\", G212 / (G212+Foglio1!$C$11), NA())","v":{"$error":"#N/A"}},{"$f":"IF(G212>Foglio1!$I$7,1,0)","v":0},3.9000000000000298E-13,{"$f":" IF(Foglio1!$C$12 <> \"\", J212 / (J212+Foglio1!$C$12), NA())","v":{"$error":"#N/A"}},{"$f":"IF(J212>Foglio1!$I$7,1,0)","v":0},3.9000000000000298E-13,{"$f":" IF(Foglio1!$C$13 <> \"\", M212 / (M212+Foglio1!$C$13), NA())","v":{"$error":"#N/A"}},{"$f":"IF(M212>Foglio1!$I$7,1,0)","v":0}]
[4.0000000000000299E-13,{"$f":" IF(Foglio1!$C$9 <> \"\", A213 / (A213+Foglio1!$C$9), NA())","v":{"$error":"#N/A"}},{"$f":"IF(A213>Foglio1!$I$7,1,0)","v":0},4.0000000000000299E-13,{"$f":" IF(Foglio1!$C$10 <> \"\", D213 / (D213+Foglio1!$C$10), NA())","v":{"$error":"#N/A"}},{"$f":"IF(D213>Foglio1!$I$7,1,0)","v":0},4.0000000000000299E-13,{"$f":" IF(Foglio1!$C$11 <> \"\", G213 / (G213+Foglio1!$C$11), NA())","v":{"$error":"#N/A"}},{"$f":"IF(G213>Foglio1!$I$7,1,0)","v":0},4.0000000000000299E-13,{"$f":" IF(Foglio1!$C$12 <> \"\", J213 / (J213+Foglio1!$C$12), NA())","v":{"$error":"#N/A"}},{"$f":"IF(J213>Foglio1!$I$7,1,0)","v":0},4.0000000000000299E-13,{"$f":" IF(Foglio1!$C$13 <> \"\", M213 / (M213+Foglio1!$C$13), NA())","v":{"$error":"#N/A"}},{"$f":"IF(M213>Foglio1!$I$7,1,0)","v":0}]
[4.10000000000003E-13,{"$f":" IF(Foglio1!$C$9 <> \"\", A214 / (A214+Foglio1!$C$9), NA())","v":{"$error":"#N/A"}},{"$f":"IF(A214>Foglio1!$I$7,1,0)","v":0},4.10000000000003E-13,{"$f":" IF(Foglio1!$C$10 <> \"\", D214 / (D214+Foglio1!$C$10), NA())","v":{"$error":"#N/A"}},{"$f":"IF(D214>Foglio1!$I$7,1,0)","v":0},4.10000000000003E-13,{"$f":" IF(Foglio1!$C$11 <> \"\", G214 / (G214+Foglio1!$C$11), NA())","v":{"$error":"#N/A"}},{"$f":"IF(G214>Foglio1!$I$7,1,0)","v":0},4.10000000000003E-13,{"$f":" IF(Foglio1!$C$12 <> \"\", J214 / (J214+Foglio1!$C$12), NA())","v":{"$error":"#N/A"}},{"$f":"IF(J214>Foglio1!$I$7,1,0)","v":0},4.10000000000003E-13,{"$f":" IF(Foglio1!$C$13 <> \"\", M214 / (M214+Foglio1!$C$13), NA())","v":{"$error":"#N/A"}},{"$f":"IF(M214>Foglio1!$I$7,1,0)","v":0}]
[4.2000000000000301E-13,{"$f":" IF(Foglio1!$C$9 <> \"\", A215 / (A215+Foglio1!$C$9), NA())","v":{"$error":"#N/A"}},{"$f":"IF(A215>Foglio1!$I$7,1,0)","v":0},4.2000000000000301E-13,{"$f":" IF(Foglio1!$C$10 <> \"\", D215 / (D215+Foglio1!$C$10), NA())","v":{"$error":"#N/A"}},{"$f":"IF(D215>Foglio1!$I$7,1,0)","v":0},4.2000000000000301E-13,{"$f":" IF(Foglio1!$C$11 <> \"\", G215 / (G215+Foglio1!$C$11), NA())","v":{"$error":"#N/A"}},{"$f":"IF(G215>Foglio1!$I$7,1,0)","v":0},4.2000000000000301E-13,{"$f":" IF(Foglio1!$C$12 <> \"\", J215 / (J215+Foglio1!$C$12), NA())","v":{"$error":"#N/A"}},{"$f":"IF(J215>Foglio1!$I$7,1,0)","v":0},4.2000000000000301E-13,{"$f":" IF(Foglio1!$C$13 <> \"\", M215 / (M215+Foglio1!$C$13), NA())","v":{"$error":"#N/A"}},{"$f":"IF(M215>Foglio1!$I$7,1,0)","v":0}]
[4.3000000000000301E-13,{"$f":" IF(Foglio1!$C$9 <> \"\", A216 / (A216+Foglio1!$C$9), NA())","v":{"$error":"#N/A"}},{"$f":"IF(A216>Foglio1!$I$7,1,0)","v":0},4.3000000000000301E-13,{"$f":" IF(Foglio1!$C$10 <> \"\", D216 / (D216+Foglio1!$C$10), NA())","v":{"$error":"#N/A"}},{"$f":"IF(D216>Foglio1!$I$7,1,0)","v":0},4.3000000000000301E-13,{"$f":" IF(Foglio1!$C$11 <> \"\", G216 / (G216+Foglio1!$C$11), NA())","v":{"$error":"#N/A"}},{"$f":"IF(G216>Foglio1!$I$7,1,0)","v":0},4.3000000000000301E-13,{"$f":" IF(Foglio1!$C$12 <> \"\", J216 / (J216+Foglio1!$C$12), NA())","v":{"$error":"#N/A"}},{"$f":"IF(J216>Foglio1!$I$7,1,0)","v":0},4.3000000000000301E-13,{"$f":" IF(Foglio1!$C$13 <> \"\", M216 / (M216+Foglio1!$C$13), NA())","v":{"$error":"#N/A"}},{"$f":"IF(M216>Foglio1!$I$7,1,0)","v":0}]
[4.4000000000000302E-13,{"$f":" IF(Foglio1!$C$9 <> \"\", A217 / (A217+Foglio1!$C$9), NA())","v":{"$error":"#N/A"}},{"$f":"IF(A217>Foglio1!$I$7,1,0)","v":0},4.4000000000000302E-13,{"$f":" IF(Foglio1!$C$10 <> \"\", D217 / (D217+Foglio1!$C$10), NA())","v":{"$error":"#N/A"}},{"$f":"IF(D217>Foglio1!$I$7,1,0)","v":0},4.4000000000000302E-13,{"$f":" IF(Foglio1!$C$11 <> \"\", G217 / (G217+Foglio1!$C$11), NA())","v":{"$error":"#N/A"}},{"$f":"IF(G217>Foglio1!$I$7,1,0)","v":0},4.4000000000000302E-13,{"$f":" IF(Foglio1!$C$12 <> \"\", J217 / (J217+Foglio1!$C$12), NA())","v":{"$error":"#N/A"}},{"$f":"IF(J217>Foglio1!$I$7,1,0)","v":0},4.4000000000000302E-13,{"$f":" IF(Foglio1!$C$13 <> \"\", M217 / (M217+Foglio1!$C$13), NA())","v":{"$error":"#N/A"}},{"$f":"IF(M217>Foglio1!$I$7,1,0)","v":0}]
[4.5000000000000298E-13,{"$f":" IF(Foglio1!$C$9 <> \"\", A218 / (A218+Foglio1!$C$9), NA())","v":{"$error":"#N/A"}},{"$f":"IF(A218>Foglio1!$I$7,1,0)","v":0},4.5000000000000298E-13,{"$f":" IF(Foglio1!$C$10 <> \"\", D218 / (D218+Foglio1!$C$10), NA())","v":{"$error":"#N/A"}},{"$f":"IF(D218>Foglio1!$I$7,1,0)","v":0},4.5000000000000298E-13,{"$f":" IF(Foglio1!$C$11 <> \"\", G218 / (G218+Foglio1!$C$11), NA())","v":{"$error":"#N/A"}},{"$f":"IF(G218>Foglio1!$I$7,1,0)","v":0},4.5000000000000298E-13,{"$f":" IF(Foglio1!$C$12 <> \"\", J218 / (J218+Foglio1!$C$12), NA())","v":{"$error":"#N/A"}},{"$f":"IF(J218>Foglio1!$I$7,1,0)","v":0},4.5000000000000298E-13,{"$f":" IF(Foglio1!$C$13 <> \"\", M218 / (M218+Foglio1!$C$13), NA())","v":{"$error":"#N/A"}},{"$f":"IF(M218>Foglio1!$I$7,1,0)","v":0}]
[4.6000000000000299E-13,{"$f":" IF(Foglio1!$C$9 <> \"\", A219 / (A219+Foglio1!$C$9), NA())","v":{"$error":"#N/A"}},{"$f":"IF(A219>Foglio1!$I$7,1,0)","v":0},4.6000000000000299E-13,{"$f":" IF(Foglio1!$C$10 <> \"\", D219 / (D219+Foglio1!$C$10), NA())","v":{"$error":"#N/A"}},{"$f":"IF(D219>Foglio1!$I$7,1,0)","v":0},4.6000000000000299E-13,{"$f":" IF(Foglio1!$C$11 <> \"\", G219 / (G219+Foglio1!$C$11), NA())","v":{"$error":"#N/A"}},{"$f":"IF(G219>Foglio1!$I$7,1,0)","v":0},4.6000000000000299E-13,{"$f":" IF(Foglio1!$C$12 <> \"\", J219 / (J219+Foglio1!$C$12), NA())","v":{"$error":"#N/A"}},{"$f":"IF(J219>Foglio1!$I$7,1,0)","v":0},4.6000000000000299E-13,{"$f":" IF(Foglio1!$C$13 <> \"\", M219 / (M219+Foglio1!$C$13), NA())","v":{"$error":"#N/A"}},{"$f":"IF(M219>Foglio1!$I$7,1,0)","v":0}]
[4.7000000000000395E-13,{"$f":" IF(Foglio1!$C$9 <> \"\", A220 / (A220+Foglio1!$C$9), NA())","v":{"$error":"#N/A"}},{"$f":"IF(A220>Foglio1!$I$7,1,0)","v":0},4.7000000000000395E-13,{"$f":" IF(Foglio1!$C$10 <> \"\", D220 / (D220+Foglio1!$C$10), NA())","v":{"$error":"#N/A"}},{"$f":"IF(D220>Foglio1!$I$7,1,0)","v":0},4.7000000000000395E-13,{"$f":" IF(Foglio1!$C$11 <> \"\", G220 / (G220+Foglio1!$C$11), NA())","v":{"$error":"#N/A"}},{"$f":"IF(G220>Foglio1!$I$7,1,0)","v":0},4.7000000000000395E-13,{"$f":" IF(Foglio1!$C$12 <> \"\", J220 / (J220+Foglio1!$C$12), NA())","v":{"$error":"#N/A"}},{"$f":"IF(J220>Foglio1!$I$7,1,0)","v":0},4.7000000000000395E-13,{"$f":" IF(Foglio1!$C$13 <> \"\", M220 / (M220+Foglio1!$C$13), NA())","v":{"$error":"#N/A"}},{"$f":"IF(M220>Foglio1!$I$7,1,0)","v":0}]
[4.8000000000000401E-13,{"$f":" IF(Foglio1!$C$9 <> \"\", A221 / (A221+Foglio1!$C$9), NA())","v":{"$error":"#N/A"}},{"$f":"IF(A221>Foglio1!$I$7,1,0)","v":0},4.8000000000000401E-13,{"$f":" IF(Foglio1!$C$10 <> \"\", D221 / (D221+Foglio1!$C$10), NA())","v":{"$error":"#N/A"}},{"$f":"IF(D221>Foglio1!$I$7,1,0)","v":0},4.8000000000000401E-13,{"$f":" IF(Foglio1!$C$11 <> \"\", G221 / (G221+Foglio1!$C$11), NA())","v":{"$error":"#N/A"}},{"$f":"IF(G221>Foglio1!$I$7,1,0)","v":0},4.8000000000000401E-13,{"$f":" IF(Foglio1!$C$12 <> \"\", J221 / (J221+Foglio1!$C$12), NA())","v":{"$error":"#N/A"}},{"$f":"IF(J221>Foglio1!$I$7,1,0)","v":0},4.8000000000000401E-13,{"$f":" IF(Foglio1!$C$13 <> \"\", M221 / (M221+Foglio1!$C$13), NA())","v":{"$error":"#N/A"}},{"$f":"IF(M221>Foglio1!$I$7,1,0)","v":0}]
[4.9000000000000397E-13,{"$f":" IF(Foglio1!$C$9 <> \"\", A222 / (A222+Foglio1!$C$9), NA())","v":{"$error":"#N/A"}},{"$f":"IF(A222>Foglio1!$I$7,1,0)","v":0},4.9000000000000397E-13,{"$f":" IF(Foglio1!$C$10 <> \"\", D222 / (D222+Foglio1!$C$10), NA())","v":{"$error":"#N/A"}},{"$f":"IF(D222>Foglio1!$I$7,1,0)","v":0},4.9000000000000397E-13,{"$f":" IF(Foglio1!$C$11 <> \"\", G222 / (G222+Foglio1!$C$11), NA())","v":{"$error":"#N/A"}},{"$f":"IF(G222>Foglio1!$I$7,1,0)","v":0},4.9000000000000397E-13,{"$f":" IF(Foglio1!$C$12 <> \"\", J222 / (J222+Foglio1!$C$12), NA())","v":{"$error":"#N/A"}},{"$f":"IF(J222>Foglio1!$I$7,1,0)","v":0},4.9000000000000397E-13,{"$f":" IF(Foglio1!$C$13 <> \"\", M222 / (M222+Foglio1!$C$13), NA())","v":{"$error":"#N/A"}},{"$f":"IF(M222>Foglio1!$I$7,1,0)","v":0}]
[5.0000000000000403E-13,{"$f":" IF(Foglio1!$C$9 <> \"\", A223 / (A223+Foglio1!$C$9), NA())","v":{"$error":"#N/A"}},{"$f":"IF(A223>Foglio1!$I$7,1,0)","v":0},5.0000000000000403E-13,{"$f":" IF(Foglio1!$C$10 <> \"\", D223 / (D223+Foglio1!$C$10), NA())","v":{"$error":"#N/A"}},{"$f":"IF(D223>Foglio1!$I$7,1,0)","v":0},5.0000000000000403E-13,{"$f":" IF(Foglio1!$C$11 <> \"\", G223 / (G223+Foglio1!$C$11), NA())","v":{"$error":"#N/A"}},{"$f":"IF(G223>Foglio1!$I$7,1,0)","v":0},5.0000000000000403E-13,{"$f":" IF(Foglio1!$C$12 <> \"\", J223 / (J223+Foglio1!$C$12), NA())","v":{"$error":"#N/A"}},{"$f":"IF(J223>Foglio1!$I$7,1,0)","v":0},5.0000000000000403E-13,{"$f":" IF(Foglio1!$C$13 <> \"\", M223 / (M223+Foglio1!$C$13), NA())","v":{"$error":"#N/A"}},{"$f":"IF(M223>Foglio1!$I$7,1,0)","v":0}]
[5.1000000000000399E-13,{"$f":" IF(Foglio1!$C$9 <> \"\", A224 / (A224+Foglio1!$C$9), NA())","v":{"$error":"#N/A"}},{"$f":"IF(A224>Foglio1!$I$7,1,0)","v":0},5.1000000000000399E-13,{"$f":" IF(Foglio1!$C$10 <> \"\", D224 / (D224+Foglio1!$C$10), NA())","v":{"$error":"#N/A"}},{"$f":"IF(D224>Foglio1!$I$7,1,0)","v":0},5.1000000000000399E-13,{"$f":" IF(Foglio1!$C$11 <> \"\", G224 / (G224+Foglio1!$C$11), NA())","v":{"$error":"#N/A"}},{"$f":"IF(G224>Foglio1!$I$7,1,0)","v":0},5.1000000000000399E-13,{"$f":" IF(Foglio1!$C$12 <> \"\", J224 / (J224+Foglio1!$C$12), NA())","v":{"$error":"#N/A"}},{"$f":"IF(J224>Foglio1!$I$7,1,0)","v":0},5.1000000000000399E-13,{"$f":" IF(Foglio1!$C$13 <> \"\", M224 / (M224+Foglio1!$C$13), NA())","v":{"$error":"#N/A"}},{"$f":"IF(M224>Foglio1!$I$7,1,0)","v":0}]
[5.2000000000000404E-13,{"$f":" IF(Foglio1!$C$9 <> \"\", A225 / (A225+Foglio1!$C$9), NA())","v":{"$error":"#N/A"}},{"$f":"IF(A225>Foglio1!$I$7,1,0)","v":0},5.2000000000000404E-13,{"$f":" IF(Foglio1!$C$10 <> \"\", D225 / (D225+Foglio1!$C$10), NA())","v":{"$error":"#N/A"}},{"$f":"IF(D225>Foglio1!$I$7,1,0)","v":0},5.2000000000000404E-13,{"$f":" IF(Foglio1!$C$11 <> \"\", G225 / (G225+Foglio1!$C$11), NA())","v":{"$error":"#N/A"}},{"$f":"IF(G225>Foglio1!$I$7,1,0)","v":0},5.2000000000000404E-13,{"$f":" IF(Foglio1!$C$12 <> \"\", J225 / (J225+Foglio1!$C$12), NA())","v":{"$error":"#N/A"}},{"$f":"IF(J225>Foglio1!$I$7,1,0)","v":0},5.2000000000000404E-13,{"$f":" IF(Foglio1!$C$13 <> \"\", M225 / (M225+Foglio1!$C$13), NA())","v":{"$error":"#N/A"}},{"$f":"IF(M225>Foglio1!$I$7,1,0)","v":0}]
[5.30000000000004E-13,{"$f":" IF(Foglio1!$C$9 <> \"\", A226 / (A226+Foglio1!$C$9), NA())","v":{"$error":"#N/A"}},{"$f":"IF(A226>Foglio1!$I$7,1,0)","v":0},5.30000000000004E-13,{"$f":" IF(Foglio1!$C$10 <> \"\", D226 / (D226+Foglio1!$C$10), NA())","v":{"$error":"#N/A"}},{"$f":"IF(D226>Foglio1!$I$7,1,0)","v":0},5.30000000000004E-13,{"$f":" IF(Foglio1!$C$11 <> \"\", G226 / (G226+Foglio1!$C$11), NA())","v":{"$error":"#N/A"}},{"$f":"IF(G226>Foglio1!$I$7,1,0)","v":0},5.30000000000004E-13,{"$f":" IF(Foglio1!$C$12 <> \"\", J226 / (J226+Foglio1!$C$12), NA())","v":{"$error":"#N/A"}},{"$f":"IF(J226>Foglio1!$I$7,1,0)","v":0},5.30000000000004E-13,{"$f":" IF(Foglio1!$C$13 <> \"\", M226 / (M226+Foglio1!$C$13), NA())","v":{"$error":"#N/A"}},{"$f":"IF(M226>Foglio1!$I$7,1,0)","v":0}]
[5.4000000000000396E-13,{"$f":" IF(Foglio1!$C$9 <> \"\", A227 / (A227+Foglio1!$C$9), NA())","v":{"$error":"#N/A"}},{"$f":"IF(A227>Foglio1!$I$7,1,0)","v":0},5.4000000000000396E-13,{"$f":" IF(Foglio1!$C$10 <> \"\", D227 / (D227+Foglio1!$C$10), NA())","v":{"$error":"#N/A"}},{"$f":"IF(D227>Foglio1!$I$7,1,0)","v":0},5.4000000000000396E-13,{"$f":" IF(Foglio1!$C$11 <> \"\", G227 / (G227+Foglio1!$C$11), NA())","v":{"$error":"#N/A"}},{"$f":"IF(G227>Foglio1!$I$7,1,0)","v":0},5.4000000000000396E-13,{"$f":" IF(Foglio1!$C$12 <> \"\", J227 / (J227+Foglio1!$C$12), NA())","v":{"$error":"#N/A"}},{"$f":"IF(J227>Foglio1!$I$7,1,0)","v":0},5.4000000000000396E-13,{"$f":" IF(Foglio1!$C$13 <> \"\", M227 / (M227+Foglio1!$C$13), NA())","v":{"$error":"#N/A"}},{"$f":"IF(M227>Foglio1!$I$7,1,0)","v":0}]
[5.5000000000000402E-13,{"$f":" IF(Foglio1!$C$9 <> \"\", A228 / (A228+Foglio1!$C$9), NA())","v":{"$error":"#N/A"}},{"$f":"IF(A228>Foglio1!$I$7,1,0)","v":0},5.5000000000000402E-13,{"$f":" IF(Foglio1!$C$10 <> \"\", D228 / (D228+Foglio1!$C$10), NA())","v":{"$error":"#N/A"}},{"$f":"IF(D228>Foglio1!$I$7,1,0)","v":0},5.5000000000000402E-13,{"$f":" IF(Foglio1!$C$11 <> \"\", G228 / (G228+Foglio1!$C$11), NA())","v":{"$error":"#N/A"}},{"$f":"IF(G228>Foglio1!$I$7,1,0)","v":0},5.5000000000000402E-13,{"$f":" IF(Foglio1!$C$12 <> \"\", J228 / (J228+Foglio1!$C$12), NA())","v":{"$error":"#N/A"}},{"$f":"IF(J228>Foglio1!$I$7,1,0)","v":0},5.5000000000000402E-13,{"$f":" IF(Foglio1!$C$13 <> \"\", M228 / (M228+Foglio1!$C$13), NA())","v":{"$error":"#N/A"}},{"$f":"IF(M228>Foglio1!$I$7,1,0)","v":0}]
[5.6000000000000398E-13,{"$f":" IF(Foglio1!$C$9 <> \"\", A229 / (A229+Foglio1!$C$9), NA())","v":{"$error":"#N/A"}},{"$f":"IF(A229>Foglio1!$I$7,1,0)","v":0},5.6000000000000398E-13,{"$f":" IF(Foglio1!$C$10 <> \"\", D229 / (D229+Foglio1!$C$10), NA())","v":{"$error":"#N/A"}},{"$f":"IF(D229>Foglio1!$I$7,1,0)","v":0},5.6000000000000398E-13,{"$f":" IF(Foglio1!$C$11 <> \"\", G229 / (G229+Foglio1!$C$11), NA())","v":{"$error":"#N/A"}},{"$f":"IF(G229>Foglio1!$I$7,1,0)","v":0},5.6000000000000398E-13,{"$f":" IF(Foglio1!$C$12 <> \"\", J229 / (J229+Foglio1!$C$12), NA())","v":{"$error":"#N/A"}},{"$f":"IF(J229>Foglio1!$I$7,1,0)","v":0},5.6000000000000398E-13,{"$f":" IF(Foglio1!$C$13 <> \"\", M229 / (M229+Foglio1!$C$13), NA())","v":{"$error":"#N/A"}},{"$f":"IF(M229>Foglio1!$I$7,1,0)","v":0}]
[5.7000000000000504E-13,{"$f":" IF(Foglio1!$C$9 <> \"\", A230 / (A230+Foglio1!$C$9), NA())","v":{"$error":"#N/A"}},{"$f":"IF(A230>Foglio1!$I$7,1,0)","v":0},5.7000000000000504E-13,{"$f":" IF(Foglio1!$C$10 <> \"\", D230 / (D230+Foglio1!$C$10), NA())","v":{"$error":"#N/A"}},{"$f":"IF(D230>Foglio1!$I$7,1,0)","v":0},5.7000000000000504E-13,{"$f":" IF(Foglio1!$C$11 <> \"\", G230 / (G230+Foglio1!$C$11), NA())","v":{"$error":"#N/A"}},{"$f":"IF(G230>Foglio1!$I$7,1,0)","v":0},5.7000000000000504E-13,{"$f":" IF(Foglio1!$C$12 <> \"\", J230 / (J230+Foglio1!$C$12), NA())","v":{"$error":"#N/A"}},{"$f":"IF(J230>Foglio1!$I$7,1,0)","v":0},5.7000000000000504E-13,{"$f":" IF(Foglio1!$C$13 <> \"\", M230 / (M230+Foglio1!$C$13), NA())","v":{"$error":"#N/A"}},{"$f":"IF(M230>Foglio1!$I$7,1,0)","v":0}]
[5.80000000000005E-13,{"$f":" IF(Foglio1!$C$9 <> \"\", A231 / (A231+Foglio1!$C$9), NA())","v":{"$error":"#N/A"}},{"$f":"IF(A231>Foglio1!$I$7,1,0)","v":0},5.80000000000005E-13,{"$f":" IF(Foglio1!$C$10 <> \"\", D231 / (D231+Foglio1!$C$10), NA())","v":{"$error":"#N/A"}},{"$f":"IF(D231>Foglio1!$I$7,1,0)","v":0},5.80000000000005E-13,{"$f":" IF(Foglio1!$C$11 <> \"\", G231 / (G231+Foglio1!$C$11), NA())","v":{"$error":"#N/A"}},{"$f":"IF(G231>Foglio1!$I$7,1,0)","v":0},5.80000000000005E-13,{"$f":" IF(Foglio1!$C$12 <> \"\", J231 / (J231+Foglio1!$C$12), NA())","v":{"$error":"#N/A"}},{"$f":"IF(J231>Foglio1!$I$7,1,0)","v":0},5.80000000000005E-13,{"$f":" IF(Foglio1!$C$13 <> \"\", M231 / (M231+Foglio1!$C$13), NA())","v":{"$error":"#N/A"}},{"$f":"IF(M231>Foglio1!$I$7,1,0)","v":0}]
[5.9000000000000496E-13,{"$f":" IF(Foglio1!$C$9 <> \"\", A232 / (A232+Foglio1!$C$9), NA())","v":{"$error":"#N/A"}},{"$f":"IF(A232>Foglio1!$I$7,1,0)","v":0},5.9000000000000496E-13,{"$f":" IF(Foglio1!$C$10 <> \"\", D232 / (D232+Foglio1!$C$10), NA())","v":{"$error":"#N/A"}},{"$f":"IF(D232>Foglio1!$I$7,1,0)","v":0},5.9000000000000496E-13,{"$f":" IF(Foglio1!$C$11 <> \"\", G232 / (G232+Foglio1!$C$11), NA())","v":{"$error":"#N/A"}},{"$f":"IF(G232>Foglio1!$I$7,1,0)","v":0},5.9000000000000496E-13,{"$f":" IF(Foglio1!$C$12 <> \"\", J232 / (J232+Foglio1!$C$12), NA())","v":{"$error":"#N/A"}},{"$f":"IF(J232>Foglio1!$I$7,1,0)","v":0},5.9000000000000496E-13,{"$f":" IF(Foglio1!$C$13 <> \"\", M232 / (M232+Foglio1!$C$13), NA())","v":{"$error":"#N/A"}},{"$f":"IF(M232>Foglio1!$I$7,1,0)","v":0}]
[6.0000000000000502E-13,{"$f":" IF(Foglio1!$C$9 <> \"\", A233 / (A233+Foglio1!$C$9), NA())","v":{"$error":"#N/A"}},{"$f":"IF(A233>Foglio1!$I$7,1,0)","v":0},6.0000000000000502E-13,{"$f":" IF(Foglio1!$C$10 <> \"\", D233 / (D233+Foglio1!$C$10), NA())","v":{"$error":"#N/A"}},{"$f":"IF(D233>Foglio1!$I$7,1,0)","v":0},6.0000000000000502E-13,{"$f":" IF(Foglio1!$C$11 <> \"\", G233 / (G233+Foglio1!$C$11), NA())","v":{"$error":"#N/A"}},{"$f":"IF(G233>Foglio1!$I$7,1,0)","v":0},6.0000000000000502E-13,{"$f":" IF(Foglio1!$C$12 <> \"\", J233 / (J233+Foglio1!$C$12), NA())","v":{"$error":"#N/A"}},{"$f":"IF(J233>Foglio1!$I$7,1,0)","v":0},6.0000000000000502E-13,{"$f":" IF(Foglio1!$C$13 <> \"\", M233 / (M233+Foglio1!$C$13), NA())","v":{"$error":"#N/A"}},{"$f":"IF(M233>Foglio1!$I$7,1,0)","v":0}]
[6.1000000000000497E-13,{"$f":" IF(Foglio1!$C$9 <> \"\", A234 / (A234+Foglio1!$C$9), NA())","v":{"$error":"#N/A"}},{"$f":"IF(A234>Foglio1!$I$7,1,0)","v":0},6.1000000000000497E-13,{"$f":" IF(Foglio1!$C$10 <> \"\", D234 / (D234+Foglio1!$C$10), NA())","v":{"$error":"#N/A"}},{"$f":"IF(D234>Foglio1!$I$7,1,0)","v":0},6.1000000000000497E-13,{"$f":" IF(Foglio1!$C$11 <> \"\", G234 / (G234+Foglio1!$C$11), NA())","v":{"$error":"#N/A"}},{"$f":"IF(G234>Foglio1!$I$7,1,0)","v":0},6.1000000000000497E-13,{"$f":" IF(Foglio1!$C$12 <> \"\", J234 / (J234+Foglio1!$C$12), NA())","v":{"$error":"#N/A"}},{"$f":"IF(J234>Foglio1!$I$7,1,0)","v":0},6.1000000000000497E-13,{"$f":" IF(Foglio1!$C$13 <> \"\", M234 / (M234+Foglio1!$C$13), NA())","v":{"$error":"#N/A"}},{"$f":"IF(M234>Foglio1!$I$7,1,0)","v":0}]
[6.2000000000000503E-13,{"$f":" IF(Foglio1!$C$9 <> \"\", A235 / (A235+Foglio1!$C$9), NA())","v":{"$error":"#N/A"}},{"$f":"IF(A235>Foglio1!$I$7,1,0)","v":0},6.2000000000000503E-13,{"$f":" IF(Foglio1!$C$10 <> \"\", D235 / (D235+Foglio1!$C$10), NA())","v":{"$error":"#N/A"}},{"$f":"IF(D235>Foglio1!$I$7,1,0)","v":0},6.2000000000000503E-13,{"$f":" IF(Foglio1!$C$11 <> \"\", G235 / (G235+Foglio1!$C$11), NA())","v":{"$error":"#N/A"}},{"$f":"IF(G235>Foglio1!$I$7,1,0)","v":0},6.2000000000000503E-13,{"$f":" IF(Foglio1!$C$12 <> \"\", J235 / (J235+Foglio1!$C$12), NA())","v":{"$error":"#N/A"}},{"$f":"IF(J235>Foglio1!$I$7,1,0)","v":0},6.2000000000000503E-13,{"$f":" IF(Foglio1!$C$13 <> \"\", M235 / (M235+Foglio1!$C$13), NA())","v":{"$error":"#N/A"}},{"$f":"IF(M235>Foglio1!$I$7,1,0)","v":0}]
[6.3000000000000499E-13,{"$f":" IF(Foglio1!$C$9 <> \"\", A236 / (A236+Foglio1!$C$9), NA())","v":{"$error":"#N/A"}},{"$f":"IF(A236>Foglio1!$I$7,1,0)","v":0},6.3000000000000499E-13,{"$f":" IF(Foglio1!$C$10 <> \"\", D236 / (D236+Foglio1!$C$10), NA())","v":{"$error":"#N/A"}},{"$f":"IF(D236>Foglio1!$I$7,1,0)","v":0},6.3000000000000499E-13,{"$f":" IF(Foglio1!$C$11 <> \"\", G236 / (G236+Foglio1!$C$11), NA())","v":{"$error":"#N/A"}},{"$f":"IF(G236>Foglio1!$I$7,1,0)","v":0},6.3000000000000499E-13,{"$f":" IF(Foglio1!$C$12 <> \"\", J236 / (J236+Foglio1!$C$12), NA())","v":{"$error":"#N/A"}},{"$f":"IF(J236>Foglio1!$I$7,1,0)","v":0},6.3000000000000499E-13,{"$f":" IF(Foglio1!$C$13 <> \"\", M236 / (M236+Foglio1!$C$13), NA())","v":{"$error":"#N/A"}},{"$f":"IF(M236>Foglio1!$I$7,1,0)","v":0}]
[6.4000000000000505E-13,{"$f":" IF(Foglio1!$C$9 <> \"\", A237 / (A237+Foglio1!$C$9), NA())","v":{"$error":"#N/A"}},{"$f":"IF(A237>Foglio1!$I$7,1,0)","v":0},6.4000000000000505E-13,{"$f":" IF(Foglio1!$C$10 <> \"\", D237 / (D237+Foglio1!$C$10), NA())","v":{"$error":"#N/A"}},{"$f":"IF(D237>Foglio1!$I$7,1,0)","v":0},6.4000000000000505E-13,{"$f":" IF(Foglio1!$C$11 <> \"\", G237 / (G237+Foglio1!$C$11), NA())","v":{"$error":"#N/A"}},{"$f":"IF(G237>Foglio1!$I$7,1,0)","v":0},6.4000000000000505E-13,{"$f":" IF(Foglio1!$C$12 <> \"\", J237 / (J237+Foglio1!$C$12), NA())","v":{"$error":"#N/A"}},{"$f":"IF(J237>Foglio1!$I$7,1,0)","v":0},6.4000000000000505E-13,{"$f":" IF(Foglio1!$C$13 <> \"\", M237 / (M237+Foglio1!$C$13), NA())","v":{"$error":"#N/A"}},{"$f":"IF(M237>Foglio1!$I$7,1,0)","v":0}]
[6.5000000000000501E-13,{"$f":" IF(Foglio1!$C$9 <> \"\", A238 / (A238+Foglio1!$C$9), NA())","v":{"$error":"#N/A"}},{"$f":"IF(A238>Foglio1!$I$7,1,0)","v":0},6.5000000000000501E-13,{"$f":" IF(Foglio1!$C$10 <> \"\", D238 / (D238+Foglio1!$C$10), NA())","v":{"$error":"#N/A"}},{"$f":"IF(D238>Foglio1!$I$7,1,0)","v":0},6.5000000000000501E-13,{"$f":" IF(Foglio1!$C$11 <> \"\", G238 / (G238+Foglio1!$C$11), NA())","v":{"$error":"#N/A"}},{"$f":"IF(G238>Foglio1!$I$7,1,0)","v":0},6.5000000000000501E-13,{"$f":" IF(Foglio1!$C$12 <> \"\", J238 / (J238+Foglio1!$C$12), NA())","v":{"$error":"#N/A"}},{"$f":"IF(J238>Foglio1!$I$7,1,0)","v":0},6.5000000000000501E-13,{"$f":" IF(Foglio1!$C$13 <> \"\", M238 / (M238+Foglio1!$C$13), NA())","v":{"$error":"#N/A"}},{"$f":"IF(M238>Foglio1!$I$7,1,0)","v":0}]
[6.6000000000000496E-13,{"$f":" IF(Foglio1!$C$9 <> \"\", A239 / (A239+Foglio1!$C$9), NA())","v":{"$error":"#N/A"}},{"$f":"IF(A239>Foglio1!$I$7,1,0)","v":0},6.6000000000000496E-13,{"$f":" IF(Foglio1!$C$10 <> \"\", D239 / (D239+Foglio1!$C$10), NA())","v":{"$error":"#N/A"}},{"$f":"IF(D239>Foglio1!$I$7,1,0)","v":0},6.6000000000000496E-13,{"$f":" IF(Foglio1!$C$11 <> \"\", G239 / (G239+Foglio1!$C$11), NA())","v":{"$error":"#N/A"}},{"$f":"IF(G239>Foglio1!$I$7,1,0)","v":0},6.6000000000000496E-13,{"$f":" IF(Foglio1!$C$12 <> \"\", J239 / (J239+Foglio1!$C$12), NA())","v":{"$error":"#N/A"}},{"$f":"IF(J239>Foglio1!$I$7,1,0)","v":0},6.6000000000000496E-13,{"$f":" IF(Foglio1!$C$13 <> \"\", M239 / (M239+Foglio1!$C$13), NA())","v":{"$error":"#N/A"}},{"$f":"IF(M239>Foglio1!$I$7,1,0)","v":0}]
[6.7000000000000502E-13,{"$f":" IF(Foglio1!$C$9 <> \"\", A240 / (A240+Foglio1!$C$9), NA())","v":{"$error":"#N/A"}},{"$f":"IF(A240>Foglio1!$I$7,1,0)","v":0},6.7000000000000502E-13,{"$f":" IF(Foglio1!$C$10 <> \"\", D240 / (D240+Foglio1!$C$10), NA())","v":{"$error":"#N/A"}},{"$f":"IF(D240>Foglio1!$I$7,1,0)","v":0},6.7000000000000502E-13,{"$f":" IF(Foglio1!$C$11 <> \"\", G240 / (G240+Foglio1!$C$11), NA())","v":{"$error":"#N/A"}},{"$f":"IF(G240>Foglio1!$I$7,1,0)","v":0},6.7000000000000502E-13,{"$f":" IF(Foglio1!$C$12 <> \"\", J240 / (J240+Foglio1!$C$12), NA())","v":{"$error":"#N/A"}},{"$f":"IF(J240>Foglio1!$I$7,1,0)","v":0},6.7000000000000502E-13,{"$f":" IF(Foglio1!$C$13 <> \"\", M240 / (M240+Foglio1!$C$13), NA())","v":{"$error":"#N/A"}},{"$f":"IF(M240>Foglio1!$I$7,1,0)","v":0}]
[6.8000000000000599E-13,{"$f":" IF(Foglio1!$C$9 <> \"\", A241 / (A241+Foglio1!$C$9), NA())","v":{"$error":"#N/A"}},{"$f":"IF(A241>Foglio1!$I$7,1,0)","v":0},6.8000000000000599E-13,{"$f":" IF(Foglio1!$C$10 <> \"\", D241 / (D241+Foglio1!$C$10), NA())","v":{"$error":"#N/A"}},{"$f":"IF(D241>Foglio1!$I$7,1,0)","v":0},6.8000000000000599E-13,{"$f":" IF(Foglio1!$C$11 <> \"\", G241 / (G241+Foglio1!$C$11), NA())","v":{"$error":"#N/A"}},{"$f":"IF(G241>Foglio1!$I$7,1,0)","v":0},6.8000000000000599E-13,{"$f":" IF(Foglio1!$C$12 <> \"\", J241 / (J241+Foglio1!$C$12), NA())","v":{"$error":"#N/A"}},{"$f":"IF(J241>Foglio1!$I$7,1,0)","v":0},6.8000000000000599E-13,{"$f":" IF(Foglio1!$C$13 <> \"\", M241 / (M241+Foglio1!$C$13), NA())","v":{"$error":"#N/A"}},{"$f":"IF(M241>Foglio1!$I$7,1,0)","v":0}]
[6.9000000000000605E-13,{"$f":" IF(Foglio1!$C$9 <> \"\", A242 / (A242+Foglio1!$C$9), NA())","v":{"$error":"#N/A"}},{"$f":"IF(A242>Foglio1!$I$7,1,0)","v":0},6.9000000000000605E-13,{"$f":" IF(Foglio1!$C$10 <> \"\", D242 / (D242+Foglio1!$C$10), NA())","v":{"$error":"#N/A"}},{"$f":"IF(D242>Foglio1!$I$7,1,0)","v":0},6.9000000000000605E-13,{"$f":" IF(Foglio1!$C$11 <> \"\", G242 / (G242+Foglio1!$C$11), NA())","v":{"$error":"#N/A"}},{"$f":"IF(G242>Foglio1!$I$7,1,0)","v":0},6.9000000000000605E-13,{"$f":" IF(Foglio1!$C$12 <> \"\", J242 / (J242+Foglio1!$C$12), NA())","v":{"$error":"#N/A"}},{"$f":"IF(J242>Foglio1!$I$7,1,0)","v":0},6.9000000000000605E-13,{"$f":" IF(Foglio1!$C$13 <> \"\", M242 / (M242+Foglio1!$C$13), NA())","v":{"$error":"#N/A"}},{"$f":"IF(M242>Foglio1!$I$7,1,0)","v":0}]
[7.00000000000006E-13,{"$f":" IF(Foglio1!$C$9 <> \"\", A243 / (A243+Foglio1!$C$9), NA())","v":{"$error":"#N/A"}},{"$f":"IF(A243>Foglio1!$I$7,1,0)","v":0},7.00000000000006E-13,{"$f":" IF(Foglio1!$C$10 <> \"\", D243 / (D243+Foglio1!$C$10), NA())","v":{"$error":"#N/A"}},{"$f":"IF(D243>Foglio1!$I$7,1,0)","v":0},7.00000000000006E-13,{"$f":" IF(Foglio1!$C$11 <> \"\", G243 / (G243+Foglio1!$C$11), NA())","v":{"$error":"#N/A"}},{"$f":"IF(G243>Foglio1!$I$7,1,0)","v":0},7.00000000000006E-13,{"$f":" IF(Foglio1!$C$12 <> \"\", J243 / (J243+Foglio1!$C$12), NA())","v":{"$error":"#N/A"}},{"$f":"IF(J243>Foglio1!$I$7,1,0)","v":0},7.00000000000006E-13,{"$f":" IF(Foglio1!$C$13 <> \"\", M243 / (M243+Foglio1!$C$13), NA())","v":{"$error":"#N/A"}},{"$f":"IF(M243>Foglio1!$I$7,1,0)","v":0}]
[7.1000000000000596E-13,{"$f":" IF(Foglio1!$C$9 <> \"\", A244 / (A244+Foglio1!$C$9), NA())","v":{"$error":"#N/A"}},{"$f":"IF(A244>Foglio1!$I$7,1,0)","v":0},7.1000000000000596E-13,{"$f":" IF(Foglio1!$C$10 <> \"\", D244 / (D244+Foglio1!$C$10), NA())","v":{"$error":"#N/A"}},{"$f":"IF(D244>Foglio1!$I$7,1,0)","v":0},7.1000000000000596E-13,{"$f":" IF(Foglio1!$C$11 <> \"\", G244 / (G244+Foglio1!$C$11), NA())","v":{"$error":"#N/A"}},{"$f":"IF(G244>Foglio1!$I$7,1,0)","v":0},7.1000000000000596E-13,{"$f":" IF(Foglio1!$C$12 <> \"\", J244 / (J244+Foglio1!$C$12), NA())","v":{"$error":"#N/A"}},{"$f":"IF(J244>Foglio1!$I$7,1,0)","v":0},7.1000000000000596E-13,{"$f":" IF(Foglio1!$C$13 <> \"\", M244 / (M244+Foglio1!$C$13), NA())","v":{"$error":"#N/A"}},{"$f":"IF(M244>Foglio1!$I$7,1,0)","v":0}]
[7.2000000000000602E-13,{"$f":" IF(Foglio1!$C$9 <> \"\", A245 / (A245+Foglio1!$C$9), NA())","v":{"$error":"#N/A"}},{"$f":"IF(A245>Foglio1!$I$7,1,0)","v":0},7.2000000000000602E-13,{"$f":" IF(Foglio1!$C$10 <> \"\", D245 / (D245+Foglio1!$C$10), NA())","v":{"$error":"#N/A"}},{"$f":"IF(D245>Foglio1!$I$7,1,0)","v":0},7.2000000000000602E-13,{"$f":" IF(Foglio1!$C$11 <> \"\", G245 / (G245+Foglio1!$C$11), NA())","v":{"$error":"#N/A"}},{"$f":"IF(G245>Foglio1!$I$7,1,0)","v":0},7.2000000000000602E-13,{"$f":" IF(Foglio1!$C$12 <> \"\", J245 / (J245+Foglio1!$C$12), NA())","v":{"$error":"#N/A"}},{"$f":"IF(J245>Foglio1!$I$7,1,0)","v":0},7.2000000000000602E-13,{"$f":" IF(Foglio1!$C$13 <> \"\", M245 / (M245+Foglio1!$C$13), NA())","v":{"$error":"#N/A"}},{"$f":"IF(M245>Foglio1!$I$7,1,0)","v":0}]
[7.3000000000000598E-13,{"$f":" IF(Foglio1!$C$9 <> \"\", A246 / (A246+Foglio1!$C$9), NA())","v":{"$error":"#N/A"}},{"$f":"IF(A246>Foglio1!$I$7,1,0)","v":0},7.3000000000000598E-13,{"$f":" IF(Foglio1!$C$10 <> \"\", D246 / (D246+Foglio1!$C$10), NA())","v":{"$error":"#N/A"}},{"$f":"IF(D246>Foglio1!$I$7,1,0)","v":0},7.3000000000000598E-13,{"$f":" IF(Foglio1!$C$11 <> \"\", G246 / (G246+Foglio1!$C$11), NA())","v":{"$error":"#N/A"}},{"$f":"IF(G246>Foglio1!$I$7,1,0)","v":0},7.3000000000000598E-13,{"$f":" IF(Foglio1!$C$12 <> \"\", J246 / (J246+Foglio1!$C$12), NA())","v":{"$error":"#N/A"}},{"$f":"IF(J246>Foglio1!$I$7,1,0)","v":0},7.3000000000000598E-13,{"$f":" IF(Foglio1!$C$13 <> \"\", M246 / (M246+Foglio1!$C$13), NA())","v":{"$error":"#N/A"}},{"$f":"IF(M246>Foglio1!$I$7,1,0)","v":0}]
[7.4000000000000604E-13,{"$f":" IF(Foglio1!$C$9 <> \"\", A247 / (A247+Foglio1!$C$9), NA())","v":{"$error":"#N/A"}},{"$f":"IF(A247>Foglio1!$I$7,1,0)","v":0},7.4000000000000604E-13,{"$f":" IF(Foglio1!$C$10 <> \"\", D247 / (D247+Foglio1!$C$10), NA())","v":{"$error":"#N/A"}},{"$f":"IF(D247>Foglio1!$I$7,1,0)","v":0},7.4000000000000604E-13,{"$f":" IF(Foglio1!$C$11 <> \"\", G247 / (G247+Foglio1!$C$11), NA())","v":{"$error":"#N/A"}},{"$f":"IF(G247>Foglio1!$I$7,1,0)","v":0},7.4000000000000604E-13,{"$f":" IF(Foglio1!$C$12 <> \"\", J247 / (J247+Foglio1!$C$12), NA())","v":{"$error":"#N/A"}},{"$f":"IF(J247>Foglio1!$I$7,1,0)","v":0},7.4000000000000604E-13,{"$f":" IF(Foglio1!$C$13 <> \"\", M247 / (M247+Foglio1!$C$13), NA())","v":{"$error":"#N/A"}},{"$f":"IF(M247>Foglio1!$I$7,1,0)","v":0}]
[7.5000000000000599E-13,{"$f":" IF(Foglio1!$C$9 <> \"\", A248 / (A248+Foglio1!$C$9), NA())","v":{"$error":"#N/A"}},{"$f":"IF(A248>Foglio1!$I$7,1,0)","v":0},7.5000000000000599E-13,{"$f":" IF(Foglio1!$C$10 <> \"\", D248 / (D248+Foglio1!$C$10), NA())","v":{"$error":"#N/A"}},{"$f":"IF(D248>Foglio1!$I$7,1,0)","v":0},7.5000000000000599E-13,{"$f":" IF(Foglio1!$C$11 <> \"\", G248 / (G248+Foglio1!$C$11), NA())","v":{"$error":"#N/A"}},{"$f":"IF(G248>Foglio1!$I$7,1,0)","v":0},7.5000000000000599E-13,{"$f":" IF(Foglio1!$C$12 <> \"\", J248 / (J248+Foglio1!$C$12), NA())","v":{"$error":"#N/A"}},{"$f":"IF(J248>Foglio1!$I$7,1,0)","v":0},7.5000000000000599E-13,{"$f":" IF(Foglio1!$C$13 <> \"\", M248 / (M248+Foglio1!$C$13), NA())","v":{"$error":"#N/A"}},{"$f":"IF(M248>Foglio1!$I$7,1,0)","v":0}]
[7.6000000000000595E-13,{"$f":" IF(Foglio1!$C$9 <> \"\", A249 / (A249+Foglio1!$C$9), NA())","v":{"$error":"#N/A"}},{"$f":"IF(A249>Foglio1!$I$7,1,0)","v":0},7.6000000000000595E-13,{"$f":" IF(Foglio1!$C$10 <> \"\", D249 / (D249+Foglio1!$C$10), NA())","v":{"$error":"#N/A"}},{"$f":"IF(D249>Foglio1!$I$7,1,0)","v":0},7.6000000000000595E-13,{"$f":" IF(Foglio1!$C$11 <> \"\", G249 / (G249+Foglio1!$C$11), NA())","v":{"$error":"#N/A"}},{"$f":"IF(G249>Foglio1!$I$7,1,0)","v":0},7.6000000000000595E-13,{"$f":" IF(Foglio1!$C$12 <> \"\", J249 / (J249+Foglio1!$C$12), NA())","v":{"$error":"#N/A"}},{"$f":"IF(J249>Foglio1!$I$7,1,0)","v":0},7.6000000000000595E-13,{"$f":" IF(Foglio1!$C$13 <> \"\", M249 / (M249+Foglio1!$C$13), NA())","v":{"$error":"#N/A"}},{"$f":"IF(M249>Foglio1!$I$7,1,0)","v":0}]
[7.7000000000000601E-13,{"$f":" IF(Foglio1!$C$9 <> \"\", A250 / (A250+Foglio1!$C$9), NA())","v":{"$error":"#N/A"}},{"$f":"IF(A250>Foglio1!$I$7,1,0)","v":0},7.7000000000000601E-13,{"$f":" IF(Foglio1!$C$10 <> \"\", D250 / (D250+Foglio1!$C$10), NA())","v":{"$error":"#N/A"}},{"$f":"IF(D250>Foglio1!$I$7,1,0)","v":0},7.7000000000000601E-13,{"$f":" IF(Foglio1!$C$11 <> \"\", G250 / (G250+Foglio1!$C$11), NA())","v":{"$error":"#N/A"}},{"$f":"IF(G250>Foglio1!$I$7,1,0)","v":0},7.7000000000000601E-13,{"$f":" IF(Foglio1!$C$12 <> \"\", J250 / (J250+Foglio1!$C$12), NA())","v":{"$error":"#N/A"}},{"$f":"IF(J250>Foglio1!$I$7,1,0)","v":0},7.7000000000000601E-13,{"$f":" IF(Foglio1!$C$13 <> \"\", M250 / (M250+Foglio1!$C$13), NA())","v":{"$error":"#N/A"}},{"$f":"IF(M250>Foglio1!$I$7,1,0)","v":0}]
[7.8000000000000698E-13,{"$f":" IF(Foglio1!$C$9 <> \"\", A251 / (A251+Foglio1!$C$9), NA())","v":{"$error":"#N/A"}},{"$f":"IF(A251>Foglio1!$I$7,1,0)","v":0},7.8000000000000698E-13,{"$f":" IF(Foglio1!$C$10 <> \"\", D251 / (D251+Foglio1!$C$10), NA())","v":{"$error":"#N/A"}},{"$f":"IF(D251>Foglio1!$I$7,1,0)","v":0},7.8000000000000698E-13,{"$f":" IF(Foglio1!$C$11 <> \"\", G251 / (G251+Foglio1!$C$11), NA())","v":{"$error":"#N/A"}},{"$f":"IF(G251>Foglio1!$I$7,1,0)","v":0},7.8000000000000698E-13,{"$f":" IF(Foglio1!$C$12 <> \"\", J251 / (J251+Foglio1!$C$12), NA())","v":{"$error":"#N/A"}},{"$f":"IF(J251>Foglio1!$I$7,1,0)","v":0},7.8000000000000698E-13,{"$f":" IF(Foglio1!$C$13 <> \"\", M251 / (M251+Foglio1!$C$13), NA())","v":{"$error":"#N/A"}},{"$f":"IF(M251>Foglio1!$I$7,1,0)","v":0}]
[7.9000000000000703E-13,{"$f":" IF(Foglio1!$C$9 <> \"\", A252 / (A252+Foglio1!$C$9), NA())","v":{"$error":"#N/A"}},{"$f":"IF(A252>Foglio1!$I$7,1,0)","v":0},7.9000000000000703E-13,{"$f":" IF(Foglio1!$C$10 <> \"\", D252 / (D252+Foglio1!$C$10), NA())","v":{"$error":"#N/A"}},{"$f":"IF(D252>Foglio1!$I$7,1,0)","v":0},7.9000000000000703E-13,{"$f":" IF(Foglio1!$C$11 <> \"\", G252 / (G252+Foglio1!$C$11), NA())","v":{"$error":"#N/A"}},{"$f":"IF(G252>Foglio1!$I$7,1,0)","v":0},7.9000000000000703E-13,{"$f":" IF(Foglio1!$C$12 <> \"\", J252 / (J252+Foglio1!$C$12), NA())","v":{"$error":"#N/A"}},{"$f":"IF(J252>Foglio1!$I$7,1,0)","v":0},7.9000000000000703E-13,{"$f":" IF(Foglio1!$C$13 <> \"\", M252 / (M252+Foglio1!$C$13), NA())","v":{"$error":"#N/A"}},{"$f":"IF(M252>Foglio1!$I$7,1,0)","v":0}]
[8.0000000000000699E-13,{"$f":" IF(Foglio1!$C$9 <> \"\", A253 / (A253+Foglio1!$C$9), NA())","v":{"$error":"#N/A"}},{"$f":"IF(A253>Foglio1!$I$7,1,0)","v":0},8.0000000000000699E-13,{"$f":" IF(Foglio1!$C$10 <> \"\", D253 / (D253+Foglio1!$C$10), NA())","v":{"$error":"#N/A"}},{"$f":"IF(D253>Foglio1!$I$7,1,0)","v":0},8.0000000000000699E-13,{"$f":" IF(Foglio1!$C$11 <> \"\", G253 / (G253+Foglio1!$C$11), NA())","v":{"$error":"#N/A"}},{"$f":"IF(G253>Foglio1!$I$7,1,0)","v":0},8.0000000000000699E-13,{"$f":" IF(Foglio1!$C$12 <> \"\", J253 / (J253+Foglio1!$C$12), NA())","v":{"$error":"#N/A"}},{"$f":"IF(J253>Foglio1!$I$7,1,0)","v":0},8.0000000000000699E-13,{"$f":" IF(Foglio1!$C$13 <> \"\", M253 / (M253+Foglio1!$C$13), NA())","v":{"$error":"#N/A"}},{"$f":"IF(M253>Foglio1!$I$7,1,0)","v":0}]
[8.1000000000000705E-13,{"$f":" IF(Foglio1!$C$9 <> \"\", A254 / (A254+Foglio1!$C$9), NA())","v":{"$error":"#N/A"}},{"$f":"IF(A254>Foglio1!$I$7,1,0)","v":0},8.1000000000000705E-13,{"$f":" IF(Foglio1!$C$10 <> \"\", D254 / (D254+Foglio1!$C$10), NA())","v":{"$error":"#N/A"}},{"$f":"IF(D254>Foglio1!$I$7,1,0)","v":0},8.1000000000000705E-13,{"$f":" IF(Foglio1!$C$11 <> \"\", G254 / (G254+Foglio1!$C$11), NA())","v":{"$error":"#N/A"}},{"$f":"IF(G254>Foglio1!$I$7,1,0)","v":0},8.1000000000000705E-13,{"$f":" IF(Foglio1!$C$12 <> \"\", J254 / (J254+Foglio1!$C$12), NA())","v":{"$error":"#N/A"}},{"$f":"IF(J254>Foglio1!$I$7,1,0)","v":0},8.1000000000000705E-13,{"$f":" IF(Foglio1!$C$13 <> \"\", M254 / (M254+Foglio1!$C$13), NA())","v":{"$error":"#N/A"}},{"$f":"IF(M254>Foglio1!$I$7,1,0)","v":0}]
[8.2000000000000701E-13,{"$f":" IF(Foglio1!$C$9 <> \"\", A255 / (A255+Foglio1!$C$9), NA())","v":{"$error":"#N/A"}},{"$f":"IF(A255>Foglio1!$I$7,1,0)","v":0},8.2000000000000701E-13,{"$f":" IF(Foglio1!$C$10 <> \"\", D255 / (D255+Foglio1!$C$10), NA())","v":{"$error":"#N/A"}},{"$f":"IF(D255>Foglio1!$I$7,1,0)","v":0},8.2000000000000701E-13,{"$f":" IF(Foglio1!$C$11 <> \"\", G255 / (G255+Foglio1!$C$11), NA())","v":{"$error":"#N/A"}},{"$f":"IF(G255>Foglio1!$I$7,1,0)","v":0},8.2000000000000701E-13,{"$f":" IF(Foglio1!$C$12 <> \"\", J255 / (J255+Foglio1!$C$12), NA())","v":{"$error":"#N/A"}},{"$f":"IF(J255>Foglio1!$I$7,1,0)","v":0},8.2000000000000701E-13,{"$f":" IF(Foglio1!$C$13 <> \"\", M255 / (M255+Foglio1!$C$13), NA())","v":{"$error":"#N/A"}},{"$f":"IF(M255>Foglio1!$I$7,1,0)","v":0}]
[8.3000000000000696E-13,{"$f":" IF(Foglio1!$C$9 <> \"\", A256 / (A256+Foglio1!$C$9), NA())","v":{"$error":"#N/A"}},{"$f":"IF(A256>Foglio1!$I$7,1,0)","v":0},8.3000000000000696E-13,{"$f":" IF(Foglio1!$C$10 <> \"\", D256 / (D256+Foglio1!$C$10), NA())","v":{"$error":"#N/A"}},{"$f":"IF(D256>Foglio1!$I$7,1,0)","v":0},8.3000000000000696E-13,{"$f":" IF(Foglio1!$C$11 <> \"\", G256 / (G256+Foglio1!$C$11), NA())","v":{"$error":"#N/A"}},{"$f":"IF(G256>Foglio1!$I$7,1,0)","v":0},8.3000000000000696E-13,{"$f":" IF(Foglio1!$C$12 <> \"\", J256 / (J256+Foglio1!$C$12), NA())","v":{"$error":"#N/A"}},{"$f":"IF(J256>Foglio1!$I$7,1,0)","v":0},8.3000000000000696E-13,{"$f":" IF(Foglio1!$C$13 <> \"\", M256 / (M256+Foglio1!$C$13), NA())","v":{"$error":"#N/A"}},{"$f":"IF(M256>Foglio1!$I$7,1,0)","v":0}]
[8.4000000000000702E-13,{"$f":" IF(Foglio1!$C$9 <> \"\", A257 / (A257+Foglio1!$C$9), NA())","v":{"$error":"#N/A"}},{"$f":"IF(A257>Foglio1!$I$7,1,0)","v":0},8.4000000000000702E-13,{"$f":" IF(Foglio1!$C$10 <> \"\", D257 / (D257+Foglio1!$C$10), NA())","v":{"$error":"#N/A"}},{"$f":"IF(D257>Foglio1!$I$7,1,0)","v":0},8.4000000000000702E-13,{"$f":" IF(Foglio1!$C$11 <> \"\", G257 / (G257+Foglio1!$C$11), NA())","v":{"$error":"#N/A"}},{"$f":"IF(G257>Foglio1!$I$7,1,0)","v":0},8.4000000000000702E-13,{"$f":" IF(Foglio1!$C$12 <> \"\", J257 / (J257+Foglio1!$C$12), NA())","v":{"$error":"#N/A"}},{"$f":"IF(J257>Foglio1!$I$7,1,0)","v":0},8.4000000000000702E-13,{"$f":" IF(Foglio1!$C$13 <> \"\", M257 / (M257+Foglio1!$C$13), NA())","v":{"$error":"#N/A"}},{"$f":"IF(M257>Foglio1!$I$7,1,0)","v":0}]
[8.5000000000000698E-13,{"$f":" IF(Foglio1!$C$9 <> \"\", A258 / (A258+Foglio1!$C$9), NA())","v":{"$error":"#N/A"}},{"$f":"IF(A258>Foglio1!$I$7,1,0)","v":0},8.5000000000000698E-13,{"$f":" IF(Foglio1!$C$10 <> \"\", D258 / (D258+Foglio1!$C$10), NA())","v":{"$error":"#N/A"}},{"$f":"IF(D258>Foglio1!$I$7,1,0)","v":0},8.5000000000000698E-13,{"$f":" IF(Foglio1!$C$11 <> \"\", G258 / (G258+Foglio1!$C$11), NA())","v":{"$error":"#N/A"}},{"$f":"IF(G258>Foglio1!$I$7,1,0)","v":0},8.5000000000000698E-13,{"$f":" IF(Foglio1!$C$12 <> \"\", J258 / (J258+Foglio1!$C$12), NA())","v":{"$error":"#N/A"}},{"$f":"IF(J258>Foglio1!$I$7,1,0)","v":0},8.5000000000000698E-13,{"$f":" IF(Foglio1!$C$13 <> \"\", M258 / (M258+Foglio1!$C$13), NA())","v":{"$error":"#N/A"}},{"$f":"IF(M258>Foglio1!$I$7,1,0)","v":0}]
[8.6000000000000704E-13,{"$f":" IF(Foglio1!$C$9 <> \"\", A259 / (A259+Foglio1!$C$9), NA())","v":{"$error":"#N/A"}},{"$f":"IF(A259>Foglio1!$I$7,1,0)","v":0},8.6000000000000704E-13,{"$f":" IF(Foglio1!$C$10 <> \"\", D259 / (D259+Foglio1!$C$10), NA())","v":{"$error":"#N/A"}},{"$f":"IF(D259>Foglio1!$I$7,1,0)","v":0},8.6000000000000704E-13,{"$f":" IF(Foglio1!$C$11 <> \"\", G259 / (G259+Foglio1!$C$11), NA())","v":{"$error":"#N/A"}},{"$f":"IF(G259>Foglio1!$I$7,1,0)","v":0},8.6000000000000704E-13,{"$f":" IF(Foglio1!$C$12 <> \"\", J259 / (J259+Foglio1!$C$12), NA())","v":{"$error":"#N/A"}},{"$f":"IF(J259>Foglio1!$I$7,1,0)","v":0},8.6000000000000704E-13,{"$f":" IF(Foglio1!$C$13 <> \"\", M259 / (M259+Foglio1!$C$13), NA())","v":{"$error":"#N/A"}},{"$f":"IF(M259>Foglio1!$I$7,1,0)","v":0}]
[8.70000000000007E-13,{"$f":" IF(Foglio1!$C$9 <> \"\", A260 / (A260+Foglio1!$C$9), NA())","v":{"$error":"#N/A"}},{"$f":"IF(A260>Foglio1!$I$7,1,0)","v":0},8.70000000000007E-13,{"$f":" IF(Foglio1!$C$10 <> \"\", D260 / (D260+Foglio1!$C$10), NA())","v":{"$error":"#N/A"}},{"$f":"IF(D260>Foglio1!$I$7,1,0)","v":0},8.70000000000007E-13,{"$f":" IF(Foglio1!$C$11 <> \"\", G260 / (G260+Foglio1!$C$11), NA())","v":{"$error":"#N/A"}},{"$f":"IF(G260>Foglio1!$I$7,1,0)","v":0},8.70000000000007E-13,{"$f":" IF(Foglio1!$C$12 <> \"\", J260 / (J260+Foglio1!$C$12), NA())","v":{"$error":"#N/A"}},{"$f":"IF(J260>Foglio1!$I$7,1,0)","v":0},8.70000000000007E-13,{"$f":" IF(Foglio1!$C$13 <> \"\", M260 / (M260+Foglio1!$C$13), NA())","v":{"$error":"#N/A"}},{"$f":"IF(M260>Foglio1!$I$7,1,0)","v":0}]
[8.8000000000000695E-13,{"$f":" IF(Foglio1!$C$9 <> \"\", A261 / (A261+Foglio1!$C$9), NA())","v":{"$error":"#N/A"}},{"$f":"IF(A261>Foglio1!$I$7,1,0)","v":0},8.8000000000000695E-13,{"$f":" IF(Foglio1!$C$10 <> \"\", D261 / (D261+Foglio1!$C$10), NA())","v":{"$error":"#N/A"}},{"$f":"IF(D261>Foglio1!$I$7,1,0)","v":0},8.8000000000000695E-13,{"$f":" IF(Foglio1!$C$11 <> \"\", G261 / (G261+Foglio1!$C$11), NA())","v":{"$error":"#N/A"}},{"$f":"IF(G261>Foglio1!$I$7,1,0)","v":0},8.8000000000000695E-13,{"$f":" IF(Foglio1!$C$12 <> \"\", J261 / (J261+Foglio1!$C$12), NA())","v":{"$error":"#N/A"}},{"$f":"IF(J261>Foglio1!$I$7,1,0)","v":0},8.8000000000000695E-13,{"$f":" IF(Foglio1!$C$13 <> \"\", M261 / (M261+Foglio1!$C$13), NA())","v":{"$error":"#N/A"}},{"$f":"IF(M261>Foglio1!$I$7,1,0)","v":0}]
[8.9000000000000802E-13,{"$f":" IF(Foglio1!$C$9 <> \"\", A262 / (A262+Foglio1!$C$9), NA())","v":{"$error":"#N/A"}},{"$f":"IF(A262>Foglio1!$I$7,1,0)","v":0},8.9000000000000802E-13,{"$f":" IF(Foglio1!$C$10 <> \"\", D262 / (D262+Foglio1!$C$10), NA())","v":{"$error":"#N/A"}},{"$f":"IF(D262>Foglio1!$I$7,1,0)","v":0},8.9000000000000802E-13,{"$f":" IF(Foglio1!$C$11 <> \"\", G262 / (G262+Foglio1!$C$11), NA())","v":{"$error":"#N/A"}},{"$f":"IF(G262>Foglio1!$I$7,1,0)","v":0},8.9000000000000802E-13,{"$f":" IF(Foglio1!$C$12 <> \"\", J262 / (J262+Foglio1!$C$12), NA())","v":{"$error":"#N/A"}},{"$f":"IF(J262>Foglio1!$I$7,1,0)","v":0},8.9000000000000802E-13,{"$f":" IF(Foglio1!$C$13 <> \"\", M262 / (M262+Foglio1!$C$13), NA())","v":{"$error":"#N/A"}},{"$f":"IF(M262>Foglio1!$I$7,1,0)","v":0}]
[9.0000000000000798E-13,{"$f":" IF(Foglio1!$C$9 <> \"\", A263 / (A263+Foglio1!$C$9), NA())","v":{"$error":"#N/A"}},{"$f":"IF(A263>Foglio1!$I$7,1,0)","v":0},9.0000000000000798E-13,{"$f":" IF(Foglio1!$C$10 <> \"\", D263 / (D263+Foglio1!$C$10), NA())","v":{"$error":"#N/A"}},{"$f":"IF(D263>Foglio1!$I$7,1,0)","v":0},9.0000000000000798E-13,{"$f":" IF(Foglio1!$C$11 <> \"\", G263 / (G263+Foglio1!$C$11), NA())","v":{"$error":"#N/A"}},{"$f":"IF(G263>Foglio1!$I$7,1,0)","v":0},9.0000000000000798E-13,{"$f":" IF(Foglio1!$C$12 <> \"\", J263 / (J263+Foglio1!$C$12), NA())","v":{"$error":"#N/A"}},{"$f":"IF(J263>Foglio1!$I$7,1,0)","v":0},9.0000000000000798E-13,{"$f":" IF(Foglio1!$C$13 <> \"\", M263 / (M263+Foglio1!$C$13), NA())","v":{"$error":"#N/A"}},{"$f":"IF(M263>Foglio1!$I$7,1,0)","v":0}]
[9.1000000000000804E-13,{"$f":" IF(Foglio1!$C$9 <> \"\", A264 / (A264+Foglio1!$C$9), NA())","v":{"$error":"#N/A"}},{"$f":"IF(A264>Foglio1!$I$7,1,0)","v":0},9.1000000000000804E-13,{"$f":" IF(Foglio1!$C$10 <> \"\", D264 / (D264+Foglio1!$C$10), NA())","v":{"$error":"#N/A"}},{"$f":"IF(D264>Foglio1!$I$7,1,0)","v":0},9.1000000000000804E-13,{"$f":" IF(Foglio1!$C$11 <> \"\", G264 / (G264+Foglio1!$C$11), NA())","v":{"$error":"#N/A"}},{"$f":"IF(G264>Foglio1!$I$7,1,0)","v":0},9.1000000000000804E-13,{"$f":" IF(Foglio1!$C$12 <> \"\", J264 / (J264+Foglio1!$C$12), NA())","v":{"$error":"#N/A"}},{"$f":"IF(J264>Foglio1!$I$7,1,0)","v":0},9.1000000000000804E-13,{"$f":" IF(Foglio1!$C$13 <> \"\", M264 / (M264+Foglio1!$C$13), NA())","v":{"$error":"#N/A"}},{"$f":"IF(M264>Foglio1!$I$7,1,0)","v":0}]
[9.2000000000000799E-13,{"$f":" IF(Foglio1!$C$9 <> \"\", A265 / (A265+Foglio1!$C$9), NA())","v":{"$error":"#N/A"}},{"$f":"IF(A265>Foglio1!$I$7,1,0)","v":0},9.2000000000000799E-13,{"$f":" IF(Foglio1!$C$10 <> \"\", D265 / (D265+Foglio1!$C$10), NA())","v":{"$error":"#N/A"}},{"$f":"IF(D265>Foglio1!$I$7,1,0)","v":0},9.2000000000000799E-13,{"$f":" IF(Foglio1!$C$11 <> \"\", G265 / (G265+Foglio1!$C$11), NA())","v":{"$error":"#N/A"}},{"$f":"IF(G265>Foglio1!$I$7,1,0)","v":0},9.2000000000000799E-13,{"$f":" IF(Foglio1!$C$12 <> \"\", J265 / (J265+Foglio1!$C$12), NA())","v":{"$error":"#N/A"}},{"$f":"IF(J265>Foglio1!$I$7,1,0)","v":0},9.2000000000000799E-13,{"$f":" IF(Foglio1!$C$13 <> \"\", M265 / (M265+Foglio1!$C$13), NA())","v":{"$error":"#N/A"}},{"$f":"IF(M265>Foglio1!$I$7,1,0)","v":0}]
[9.3000000000000795E-13,{"$f":" IF(Foglio1!$C$9 <> \"\", A266 / (A266+Foglio1!$C$9), NA())","v":{"$error":"#N/A"}},{"$f":"IF(A266>Foglio1!$I$7,1,0)","v":0},9.3000000000000795E-13,{"$f":" IF(Foglio1!$C$10 <> \"\", D266 / (D266+Foglio1!$C$10), NA())","v":{"$error":"#N/A"}},{"$f":"IF(D266>Foglio1!$I$7,1,0)","v":0},9.3000000000000795E-13,{"$f":" IF(Foglio1!$C$11 <> \"\", G266 / (G266+Foglio1!$C$11), NA())","v":{"$error":"#N/A"}},{"$f":"IF(G266>Foglio1!$I$7,1,0)","v":0},9.3000000000000795E-13,{"$f":" IF(Foglio1!$C$12 <> \"\", J266 / (J266+Foglio1!$C$12), NA())","v":{"$error":"#N/A"}},{"$f":"IF(J266>Foglio1!$I$7,1,0)","v":0},9.3000000000000795E-13,{"$f":" IF(Foglio1!$C$13 <> \"\", M266 / (M266+Foglio1!$C$13), NA())","v":{"$error":"#N/A"}},{"$f":"IF(M266>Foglio1!$I$7,1,0)","v":0}]
[9.4000000000000791E-13,{"$f":" IF(Foglio1!$C$9 <> \"\", A267 / (A267+Foglio1!$C$9), NA())","v":{"$error":"#N/A"}},{"$f":"IF(A267>Foglio1!$I$7,1,0)","v":0},9.4000000000000791E-13,{"$f":" IF(Foglio1!$C$10 <> \"\", D267 / (D267+Foglio1!$C$10), NA())","v":{"$error":"#N/A"}},{"$f":"IF(D267>Foglio1!$I$7,1,0)","v":0},9.4000000000000791E-13,{"$f":" IF(Foglio1!$C$11 <> \"\", G267 / (G267+Foglio1!$C$11), NA())","v":{"$error":"#N/A"}},{"$f":"IF(G267>Foglio1!$I$7,1,0)","v":0},9.4000000000000791E-13,{"$f":" IF(Foglio1!$C$12 <> \"\", J267 / (J267+Foglio1!$C$12), NA())","v":{"$error":"#N/A"}},{"$f":"IF(J267>Foglio1!$I$7,1,0)","v":0},9.4000000000000791E-13,{"$f":" IF(Foglio1!$C$13 <> \"\", M267 / (M267+Foglio1!$C$13), NA())","v":{"$error":"#N/A"}},{"$f":"IF(M267>Foglio1!$I$7,1,0)","v":0}]
[9.5000000000000807E-13,{"$f":" IF(Foglio1!$C$9 <> \"\", A268 / (A268+Foglio1!$C$9), NA())","v":{"$error":"#N/A"}},{"$f":"IF(A268>Foglio1!$I$7,1,0)","v":0},9.5000000000000807E-13,{"$f":" IF(Foglio1!$C$10 <> \"\", D268 / (D268+Foglio1!$C$10), NA())","v":{"$error":"#N/A"}},{"$f":"IF(D268>Foglio1!$I$7,1,0)","v":0},9.5000000000000807E-13,{"$f":" IF(Foglio1!$C$11 <> \"\", G268 / (G268+Foglio1!$C$11), NA())","v":{"$error":"#N/A"}},{"$f":"IF(G268>Foglio1!$I$7,1,0)","v":0},9.5000000000000807E-13,{"$f":" IF(Foglio1!$C$12 <> \"\", J268 / (J268+Foglio1!$C$12), NA())","v":{"$error":"#N/A"}},{"$f":"IF(J268>Foglio1!$I$7,1,0)","v":0},9.5000000000000807E-13,{"$f":" IF(Foglio1!$C$13 <> \"\", M268 / (M268+Foglio1!$C$13), NA())","v":{"$error":"#N/A"}},{"$f":"IF(M268>Foglio1!$I$7,1,0)","v":0}]
[9.6000000000000803E-13,{"$f":" IF(Foglio1!$C$9 <> \"\", A269 / (A269+Foglio1!$C$9), NA())","v":{"$error":"#N/A"}},{"$f":"IF(A269>Foglio1!$I$7,1,0)","v":0},9.6000000000000803E-13,{"$f":" IF(Foglio1!$C$10 <> \"\", D269 / (D269+Foglio1!$C$10), NA())","v":{"$error":"#N/A"}},{"$f":"IF(D269>Foglio1!$I$7,1,0)","v":0},9.6000000000000803E-13,{"$f":" IF(Foglio1!$C$11 <> \"\", G269 / (G269+Foglio1!$C$11), NA())","v":{"$error":"#N/A"}},{"$f":"IF(G269>Foglio1!$I$7,1,0)","v":0},9.6000000000000803E-13,{"$f":" IF(Foglio1!$C$12 <> \"\", J269 / (J269+Foglio1!$C$12), NA())","v":{"$error":"#N/A"}},{"$f":"IF(J269>Foglio1!$I$7,1,0)","v":0},9.6000000000000803E-13,{"$f":" IF(Foglio1!$C$13 <> \"\", M269 / (M269+Foglio1!$C$13), NA())","v":{"$error":"#N/A"}},{"$f":"IF(M269>Foglio1!$I$7,1,0)","v":0}]
[9.7000000000000798E-13,{"$f":" IF(Foglio1!$C$9 <> \"\", A270 / (A270+Foglio1!$C$9), NA())","v":{"$error":"#N/A"}},{"$f":"IF(A270>Foglio1!$I$7,1,0)","v":0},9.7000000000000798E-13,{"$f":" IF(Foglio1!$C$10 <> \"\", D270 / (D270+Foglio1!$C$10), NA())","v":{"$error":"#N/A"}},{"$f":"IF(D270>Foglio1!$I$7,1,0)","v":0},9.7000000000000798E-13,{"$f":" IF(Foglio1!$C$11 <> \"\", G270 / (G270+Foglio1!$C$11), NA())","v":{"$error":"#N/A"}},{"$f":"IF(G270>Foglio1!$I$7,1,0)","v":0},9.7000000000000798E-13,{"$f":" IF(Foglio1!$C$12 <> \"\", J270 / (J270+Foglio1!$C$12), NA())","v":{"$error":"#N/A"}},{"$f":"IF(J270>Foglio1!$I$7,1,0)","v":0},9.7000000000000798E-13,{"$f":" IF(Foglio1!$C$13 <> \"\", M270 / (M270+Foglio1!$C$13), NA())","v":{"$error":"#N/A"}},{"$f":"IF(M270>Foglio1!$I$7,1,0)","v":0}]
[9.8000000000000794E-13,{"$f":" IF(Foglio1!$C$9 <> \"\", A271 / (A271+Foglio1!$C$9), NA())","v":{"$error":"#N/A"}},{"$f":"IF(A271>Foglio1!$I$7,1,0)","v":0},9.8000000000000794E-13,{"$f":" IF(Foglio1!$C$10 <> \"\", D271 / (D271+Foglio1!$C$10), NA())","v":{"$error":"#N/A"}},{"$f":"IF(D271>Foglio1!$I$7,1,0)","v":0},9.8000000000000794E-13,{"$f":" IF(Foglio1!$C$11 <> \"\", G271 / (G271+Foglio1!$C$11), NA())","v":{"$error":"#N/A"}},{"$f":"IF(G271>Foglio1!$I$7,1,0)","v":0},9.8000000000000794E-13,{"$f":" IF(Foglio1!$C$12 <> \"\", J271 / (J271+Foglio1!$C$12), NA())","v":{"$error":"#N/A"}},{"$f":"IF(J271>Foglio1!$I$7,1,0)","v":0},9.8000000000000794E-13,{"$f":" IF(Foglio1!$C$13 <> \"\", M271 / (M271+Foglio1!$C$13), NA())","v":{"$error":"#N/A"}},{"$f":"IF(M271>Foglio1!$I$7,1,0)","v":0}]
[9.9000000000000891E-13,{"$f":" IF(Foglio1!$C$9 <> \"\", A272 / (A272+Foglio1!$C$9), NA())","v":{"$error":"#N/A"}},{"$f":"IF(A272>Foglio1!$I$7,1,0)","v":0},9.9000000000000891E-13,{"$f":" IF(Foglio1!$C$10 <> \"\", D272 / (D272+Foglio1!$C$10), NA())","v":{"$error":"#N/A"}},{"$f":"IF(D272>Foglio1!$I$7,1,0)","v":0},9.9000000000000891E-13,{"$f":" IF(Foglio1!$C$11 <> \"\", G272 / (G272+Foglio1!$C$11), NA())","v":{"$error":"#N/A"}},{"$f":"IF(G272>Foglio1!$I$7,1,0)","v":0},9.9000000000000891E-13,{"$f":" IF(Foglio1!$C$12 <> \"\", J272 / (J272+Foglio1!$C$12), NA())","v":{"$error":"#N/A"}},{"$f":"IF(J272>Foglio1!$I$7,1,0)","v":0},9.9000000000000891E-13,{"$f":" IF(Foglio1!$C$13 <> \"\", M272 / (M272+Foglio1!$C$13), NA())","v":{"$error":"#N/A"}},{"$f":"IF(M272>Foglio1!$I$7,1,0)","v":0}]
[1.0000000000000101E-12,{"$f":" IF(Foglio1!$C$9 <> \"\", A273 / (A273+Foglio1!$C$9), NA())","v":{"$error":"#N/A"}},{"$f":"IF(A273>Foglio1!$I$7,1,0)","v":0},1.0000000000000101E-12,{"$f":" IF(Foglio1!$C$10 <> \"\", D273 / (D273+Foglio1!$C$10), NA())","v":{"$error":"#N/A"}},{"$f":"IF(D273>Foglio1!$I$7,1,0)","v":0},1.0000000000000101E-12,{"$f":" IF(Foglio1!$C$11 <> \"\", G273 / (G273+Foglio1!$C$11), NA())","v":{"$error":"#N/A"}},{"$f":"IF(G273>Foglio1!$I$7,1,0)","v":0},1.0000000000000101E-12,{"$f":" IF(Foglio1!$C$12 <> \"\", J273 / (J273+Foglio1!$C$12), NA())","v":{"$error":"#N/A"}},{"$f":"IF(J273>Foglio1!$I$7,1,0)","v":0},1.0000000000000101E-12,{"$f":" IF(Foglio1!$C$13 <> \"\", M273 / (M273+Foglio1!$C$13), NA())","v":{"$error":"#N/A"}},{"$f":"IF(M273>Foglio1!$I$7,1,0)","v":0}]
[1.1E-12,{"$f":" IF(Foglio1!$C$9 <> \"\", A274 / (A274+Foglio1!$C$9), NA())","v":{"$error":"#N/A"}},{"$f":"IF(A274>Foglio1!$I$7,1,0)","v":0},1.1E-12,{"$f":" IF(Foglio1!$C$10 <> \"\", D274 / (D274+Foglio1!$C$10), NA())","v":{"$error":"#N/A"}},{"$f":"IF(D274>Foglio1!$I$7,1,0)","v":0},1.1E-12,{"$f":" IF(Foglio1!$C$11 <> \"\", G274 / (G274+Foglio1!$C$11), NA())","v":{"$error":"#N/A"}},{"$f":"IF(G274>Foglio1!$I$7,1,0)","v":0},1.1E-12,{"$f":" IF(Foglio1!$C$12 <> \"\", J274 / (J274+Foglio1!$C$12), NA())","v":{"$error":"#N/A"}},{"$f":"IF(J274>Foglio1!$I$7,1,0)","v":0},1.1E-12,{"$f":" IF(Foglio1!$C$13 <> \"\", M274 / (M274+Foglio1!$C$13), NA())","v":{"$error":"#N/A"}},{"$f":"IF(M274>Foglio1!$I$7,1,0)","v":0}]
[1.1999999999999999E-12,{"$f":" IF(Foglio1!$C$9 <> \"\", A275 / (A275+Foglio1!$C$9), NA())","v":{"$error":"#N/A"}},{"$f":"IF(A275>Foglio1!$I$7,1,0)","v":0},1.1999999999999999E-12,{"$f":" IF(Foglio1!$C$10 <> \"\", D275 / (D275+Foglio1!$C$10), NA())","v":{"$error":"#N/A"}},{"$f":"IF(D275>Foglio1!$I$7,1,0)","v":0},1.1999999999999999E-12,{"$f":" IF(Foglio1!$C$11 <> \"\", G275 / (G275+Foglio1!$C$11), NA())","v":{"$error":"#N/A"}},{"$f":"IF(G275>Foglio1!$I$7,1,0)","v":0},1.1999999999999999E-12,{"$f":" IF(Foglio1!$C$12 <> \"\", J275 / (J275+Foglio1!$C$12), NA())","v":{"$error":"#N/A"}},{"$f":"IF(J275>Foglio1!$I$7,1,0)","v":0},1.1999999999999999E-12,{"$f":" IF(Foglio1!$C$13 <> \"\", M275 / (M275+Foglio1!$C$13), NA())","v":{"$error":"#N/A"}},{"$f":"IF(M275>Foglio1!$I$7,1,0)","v":0}]
[1.2999999999999999E-12,{"$f":" IF(Foglio1!$C$9 <> \"\", A276 / (A276+Foglio1!$C$9), NA())","v":{"$error":"#N/A"}},{"$f":"IF(A276>Foglio1!$I$7,1,0)","v":0},1.2999999999999999E-12,{"$f":" IF(Foglio1!$C$10 <> \"\", D276 / (D276+Foglio1!$C$10), NA())","v":{"$error":"#N/A"}},{"$f":"IF(D276>Foglio1!$I$7,1,0)","v":0},1.2999999999999999E-12,{"$f":" IF(Foglio1!$C$11 <> \"\", G276 / (G276+Foglio1!$C$11), NA())","v":{"$error":"#N/A"}},{"$f":"IF(G276>Foglio1!$I$7,1,0)","v":0},1.2999999999999999E-12,{"$f":" IF(Foglio1!$C$12 <> \"\", J276 / (J276+Foglio1!$C$12), NA())","v":{"$error":"#N/A"}},{"$f":"IF(J276>Foglio1!$I$7,1,0)","v":0},1.2999999999999999E-12,{"$f":" IF(Foglio1!$C$13 <> \"\", M276 / (M276+Foglio1!$C$13), NA())","v":{"$error":"#N/A"}},{"$f":"IF(M276>Foglio1!$I$7,1,0)","v":0}]
[1.4000000000000001E-12,{"$f":" IF(Foglio1!$C$9 <> \"\", A277 / (A277+Foglio1!$C$9), NA())","v":{"$error":"#N/A"}},{"$f":"IF(A277>Foglio1!$I$7,1,0)","v":0},1.4000000000000001E-12,{"$f":" IF(Foglio1!$C$10 <> \"\", D277 / (D277+Foglio1!$C$10), NA())","v":{"$error":"#N/A"}},{"$f":"IF(D277>Foglio1!$I$7,1,0)","v":0},1.4000000000000001E-12,{"$f":" IF(Foglio1!$C$11 <> \"\", G277 / (G277+Foglio1!$C$11), NA())","v":{"$error":"#N/A"}},{"$f":"IF(G277>Foglio1!$I$7,1,0)","v":0},1.4000000000000001E-12,{"$f":" IF(Foglio1!$C$12 <> \"\", J277 / (J277+Foglio1!$C$12), NA())","v":{"$error":"#N/A"}},{"$f":"IF(J277>Foglio1!$I$7,1,0)","v":0},1.4000000000000001E-12,{"$f":" IF(Foglio1!$C$13 <> \"\", M277 / (M277+Foglio1!$C$13), NA())","v":{"$error":"#N/A"}},{"$f":"IF(M277>Foglio1!$I$7,1,0)","v":0}]
[1.5000000000000001E-12,{"$f":" IF(Foglio1!$C$9 <> \"\", A278 / (A278+Foglio1!$C$9), NA())","v":{"$error":"#N/A"}},{"$f":"IF(A278>Foglio1!$I$7,1,0)","v":0},1.5000000000000001E-12,{"$f":" IF(Foglio1!$C$10 <> \"\", D278 / (D278+Foglio1!$C$10), NA())","v":{"$error":"#N/A"}},{"$f":"IF(D278>Foglio1!$I$7,1,0)","v":0},1.5000000000000001E-12,{"$f":" IF(Foglio1!$C$11 <> \"\", G278 / (G278+Foglio1!$C$11), NA())","v":{"$error":"#N/A"}},{"$f":"IF(G278>Foglio1!$I$7,1,0)","v":0},1.5000000000000001E-12,{"$f":" IF(Foglio1!$C$12 <> \"\", J278 / (J278+Foglio1!$C$12), NA())","v":{"$error":"#N/A"}},{"$f":"IF(J278>Foglio1!$I$7,1,0)","v":0},1.5000000000000001E-12,{"$f":" IF(Foglio1!$C$13 <> \"\", M278 / (M278+Foglio1!$C$13), NA())","v":{"$error":"#N/A"}},{"$f":"IF(M278>Foglio1!$I$7,1,0)","v":0}]
[1.6E-12,{"$f":" IF(Foglio1!$C$9 <> \"\", A279 / (A279+Foglio1!$C$9), NA())","v":{"$error":"#N/A"}},{"$f":"IF(A279>Foglio1!$I$7,1,0)","v":0},1.6E-12,{"$f":" IF(Foglio1!$C$10 <> \"\", D279 / (D279+Foglio1!$C$10), NA())","v":{"$error":"#N/A"}},{"$f":"IF(D279>Foglio1!$I$7,1,0)","v":0},1.6E-12,{"$f":" IF(Foglio1!$C$11 <> \"\", G279 / (G279+Foglio1!$C$11), NA())","v":{"$error":"#N/A"}},{"$f":"IF(G279>Foglio1!$I$7,1,0)","v":0},1.6E-12,{"$f":" IF(Foglio1!$C$12 <> \"\", J279 / (J279+Foglio1!$C$12), NA())","v":{"$error":"#N/A"}},{"$f":"IF(J279>Foglio1!$I$7,1,0)","v":0},1.6E-12,{"$f":" IF(Foglio1!$C$13 <> \"\", M279 / (M279+Foglio1!$C$13), NA())","v":{"$error":"#N/A"}},{"$f":"IF(M279>Foglio1!$I$7,1,0)","v":0}]
[1.7E-12,{"$f":" IF(Foglio1!$C$9 <> \"\", A280 / (A280+Foglio1!$C$9), NA())","v":{"$error":"#N/A"}},{"$f":"IF(A280>Foglio1!$I$7,1,0)","v":0},1.7E-12,{"$f":" IF(Foglio1!$C$10 <> \"\", D280 / (D280+Foglio1!$C$10), NA())","v":{"$error":"#N/A"}},{"$f":"IF(D280>Foglio1!$I$7,1,0)","v":0},1.7E-12,{"$f":" IF(Foglio1!$C$11 <> \"\", G280 / (G280+Foglio1!$C$11), NA())","v":{"$error":"#N/A"}},{"$f":"IF(G280>Foglio1!$I$7,1,0)","v":0},1.7E-12,{"$f":" IF(Foglio1!$C$12 <> \"\", J280 / (J280+Foglio1!$C$12), NA())","v":{"$error":"#N/A"}},{"$f":"IF(J280>Foglio1!$I$7,1,0)","v":0},1.7E-12,{"$f":" IF(Foglio1!$C$13 <> \"\", M280 / (M280+Foglio1!$C$13), NA())","v":{"$error":"#N/A"}},{"$f":"IF(M280>Foglio1!$I$7,1,0)","v":0}]
[1.8E-12,{"$f":" IF(Foglio1!$C$9 <> \"\", A281 / (A281+Foglio1!$C$9), NA())","v":{"$error":"#N/A"}},{"$f":"IF(A281>Foglio1!$I$7,1,0)","v":0},1.8E-12,{"$f":" IF(Foglio1!$C$10 <> \"\", D281 / (D281+Foglio1!$C$10), NA())","v":{"$error":"#N/A"}},{"$f":"IF(D281>Foglio1!$I$7,1,0)","v":0},1.8E-12,{"$f":" IF(Foglio1!$C$11 <> \"\", G281 / (G281+Foglio1!$C$11), NA())","v":{"$error":"#N/A"}},{"$f":"IF(G281>Foglio1!$I$7,1,0)","v":0},1.8E-12,{"$f":" IF(Foglio1!$C$12 <> \"\", J281 / (J281+Foglio1!$C$12), NA())","v":{"$error":"#N/A"}},{"$f":"IF(J281>Foglio1!$I$7,1,0)","v":0},1.8E-12,{"$f":" IF(Foglio1!$C$13 <> \"\", M281 / (M281+Foglio1!$C$13), NA())","v":{"$error":"#N/A"}},{"$f":"IF(M281>Foglio1!$I$7,1,0)","v":0}]
[1.9E-12,{"$f":" IF(Foglio1!$C$9 <> \"\", A282 / (A282+Foglio1!$C$9), NA())","v":{"$error":"#N/A"}},{"$f":"IF(A282>Foglio1!$I$7,1,0)","v":0},1.9E-12,{"$f":" IF(Foglio1!$C$10 <> \"\", D282 / (D282+Foglio1!$C$10), NA())","v":{"$error":"#N/A"}},{"$f":"IF(D282>Foglio1!$I$7,1,0)","v":0},1.9E-12,{"$f":" IF(Foglio1!$C$11 <> \"\", G282 / (G282+Foglio1!$C$11), NA())","v":{"$error":"#N/A"}},{"$f":"IF(G282>Foglio1!$I$7,1,0)","v":0},1.9E-12,{"$f":" IF(Foglio1!$C$12 <> \"\", J282 / (J282+Foglio1!$C$12), NA())","v":{"$error":"#N/A"}},{"$f":"IF(J282>Foglio1!$I$7,1,0)","v":0},1.9E-12,{"$f":" IF(Foglio1!$C$13 <> \"\", M282 / (M282+Foglio1!$C$13), NA())","v":{"$error":"#N/A"}},{"$f":"IF(M282>Foglio1!$I$7,1,0)","v":0}]
[2E-12,{"$f":" IF(Foglio1!$C$9 <> \"\", A283 / (A283+Foglio1!$C$9), NA())","v":{"$error":"#N/A"}},{"$f":"IF(A283>Foglio1!$I$7,1,0)","v":0},2E-12,{"$f":" IF(Foglio1!$C$10 <> \"\", D283 / (D283+Foglio1!$C$10), NA())","v":{"$error":"#N/A"}},{"$f":"IF(D283>Foglio1!$I$7,1,0)","v":0},2E-12,{"$f":" IF(Foglio1!$C$11 <> \"\", G283 / (G283+Foglio1!$C$11), NA())","v":{"$error":"#N/A"}},{"$f":"IF(G283>Foglio1!$I$7,1,0)","v":0},2E-12,{"$f":" IF(Foglio1!$C$12 <> \"\", J283 / (J283+Foglio1!$C$12), NA())","v":{"$error":"#N/A"}},{"$f":"IF(J283>Foglio1!$I$7,1,0)","v":0},2E-12,{"$f":" IF(Foglio1!$C$13 <> \"\", M283 / (M283+Foglio1!$C$13), NA())","v":{"$error":"#N/A"}},{"$f":"IF(M283>Foglio1!$I$7,1,0)","v":0}]
[2.0999999999999999E-12,{"$f":" IF(Foglio1!$C$9 <> \"\", A284 / (A284+Foglio1!$C$9), NA())","v":{"$error":"#N/A"}},{"$f":"IF(A284>Foglio1!$I$7,1,0)","v":0},2.0999999999999999E-12,{"$f":" IF(Foglio1!$C$10 <> \"\", D284 / (D284+Foglio1!$C$10), NA())","v":{"$error":"#N/A"}},{"$f":"IF(D284>Foglio1!$I$7,1,0)","v":0},2.0999999999999999E-12,{"$f":" IF(Foglio1!$C$11 <> \"\", G284 / (G284+Foglio1!$C$11), NA())","v":{"$error":"#N/A"}},{"$f":"IF(G284>Foglio1!$I$7,1,0)","v":0},2.0999999999999999E-12,{"$f":" IF(Foglio1!$C$12 <> \"\", J284 / (J284+Foglio1!$C$12), NA())","v":{"$error":"#N/A"}},{"$f":"IF(J284>Foglio1!$I$7,1,0)","v":0},2.0999999999999999E-12,{"$f":" IF(Foglio1!$C$13 <> \"\", M284 / (M284+Foglio1!$C$13), NA())","v":{"$error":"#N/A"}},{"$f":"IF(M284>Foglio1!$I$7,1,0)","v":0}]
[2.1999999999999999E-12,{"$f":" IF(Foglio1!$C$9 <> \"\", A285 / (A285+Foglio1!$C$9), NA())","v":{"$error":"#N/A"}},{"$f":"IF(A285>Foglio1!$I$7,1,0)","v":0},2.1999999999999999E-12,{"$f":" IF(Foglio1!$C$10 <> \"\", D285 / (D285+Foglio1!$C$10), NA())","v":{"$error":"#N/A"}},{"$f":"IF(D285>Foglio1!$I$7,1,0)","v":0},2.1999999999999999E-12,{"$f":" IF(Foglio1!$C$11 <> \"\", G285 / (G285+Foglio1!$C$11), NA())","v":{"$error":"#N/A"}},{"$f":"IF(G285>Foglio1!$I$7,1,0)","v":0},2.1999999999999999E-12,{"$f":" IF(Foglio1!$C$12 <> \"\", J285 / (J285+Foglio1!$C$12), NA())","v":{"$error":"#N/A"}},{"$f":"IF(J285>Foglio1!$I$7,1,0)","v":0},2.1999999999999999E-12,{"$f":" IF(Foglio1!$C$13 <> \"\", M285 / (M285+Foglio1!$C$13), NA())","v":{"$error":"#N/A"}},{"$f":"IF(M285>Foglio1!$I$7,1,0)","v":0}]
[2.2999999999999999E-12,{"$f":" IF(Foglio1!$C$9 <> \"\", A286 / (A286+Foglio1!$C$9), NA())","v":{"$error":"#N/A"}},{"$f":"IF(A286>Foglio1!$I$7,1,0)","v":0},2.2999999999999999E-12,{"$f":" IF(Foglio1!$C$10 <> \"\", D286 / (D286+Foglio1!$C$10), NA())","v":{"$error":"#N/A"}},{"$f":"IF(D286>Foglio1!$I$7,1,0)","v":0},2.2999999999999999E-12,{"$f":" IF(Foglio1!$C$11 <> \"\", G286 / (G286+Foglio1!$C$11), NA())","v":{"$error":"#N/A"}},{"$f":"IF(G286>Foglio1!$I$7,1,0)","v":0},2.2999999999999999E-12,{"$f":" IF(Foglio1!$C$12 <> \"\", J286 / (J286+Foglio1!$C$12), NA())","v":{"$error":"#N/A"}},{"$f":"IF(J286>Foglio1!$I$7,1,0)","v":0},2.2999999999999999E-12,{"$f":" IF(Foglio1!$C$13 <> \"\", M286 / (M286+Foglio1!$C$13), NA())","v":{"$error":"#N/A"}},{"$f":"IF(M286>Foglio1!$I$7,1,0)","v":0}]
[2.3999999999999999E-12,{"$f":" IF(Foglio1!$C$9 <> \"\", A287 / (A287+Foglio1!$C$9), NA())","v":{"$error":"#N/A"}},{"$f":"IF(A287>Foglio1!$I$7,1,0)","v":0},2.3999999999999999E-12,{"$f":" IF(Foglio1!$C$10 <> \"\", D287 / (D287+Foglio1!$C$10), NA())","v":{"$error":"#N/A"}},{"$f":"IF(D287>Foglio1!$I$7,1,0)","v":0},2.3999999999999999E-12,{"$f":" IF(Foglio1!$C$11 <> \"\", G287 / (G287+Foglio1!$C$11), NA())","v":{"$error":"#N/A"}},{"$f":"IF(G287>Foglio1!$I$7,1,0)","v":0},2.3999999999999999E-12,{"$f":" IF(Foglio1!$C$12 <> \"\", J287 / (J287+Foglio1!$C$12), NA())","v":{"$error":"#N/A"}},{"$f":"IF(J287>Foglio1!$I$7,1,0)","v":0},2.3999999999999999E-12,{"$f":" IF(Foglio1!$C$13 <> \"\", M287 / (M287+Foglio1!$C$13), NA())","v":{"$error":"#N/A"}},{"$f":"IF(M287>Foglio1!$I$7,1,0)","v":0}]
[2.4999999999999998E-12,{"$f":" IF(Foglio1!$C$9 <> \"\", A288 / (A288+Foglio1!$C$9), NA())","v":{"$error":"#N/A"}},{"$f":"IF(A288>Foglio1!$I$7,1,0)","v":0},2.4999999999999998E-12,{"$f":" IF(Foglio1!$C$10 <> \"\", D288 / (D288+Foglio1!$C$10), NA())","v":{"$error":"#N/A"}},{"$f":"IF(D288>Foglio1!$I$7,1,0)","v":0},2.4999999999999998E-12,{"$f":" IF(Foglio1!$C$11 <> \"\", G288 / (G288+Foglio1!$C$11), NA())","v":{"$error":"#N/A"}},{"$f":"IF(G288>Foglio1!$I$7,1,0)","v":0},2.4999999999999998E-12,{"$f":" IF(Foglio1!$C$12 <> \"\", J288 / (J288+Foglio1!$C$12), NA())","v":{"$error":"#N/A"}},{"$f":"IF(J288>Foglio1!$I$7,1,0)","v":0},2.4999999999999998E-12,{"$f":" IF(Foglio1!$C$13 <> \"\", M288 / (M288+Foglio1!$C$13), NA())","v":{"$error":"#N/A"}},{"$f":"IF(M288>Foglio1!$I$7,1,0)","v":0}]
[2.5999999999999998E-12,{"$f":" IF(Foglio1!$C$9 <> \"\", A289 / (A289+Foglio1!$C$9), NA())","v":{"$error":"#N/A"}},{"$f":"IF(A289>Foglio1!$I$7,1,0)","v":0},2.5999999999999998E-12,{"$f":" IF(Foglio1!$C$10 <> \"\", D289 / (D289+Foglio1!$C$10), NA())","v":{"$error":"#N/A"}},{"$f":"IF(D289>Foglio1!$I$7,1,0)","v":0},2.5999999999999998E-12,{"$f":" IF(Foglio1!$C$11 <> \"\", G289 / (G289+Foglio1!$C$11), NA())","v":{"$error":"#N/A"}},{"$f":"IF(G289>Foglio1!$I$7,1,0)","v":0},2.5999999999999998E-12,{"$f":" IF(Foglio1!$C$12 <> \"\", J289 / (J289+Foglio1!$C$12), NA())","v":{"$error":"#N/A"}},{"$f":"IF(J289>Foglio1!$I$7,1,0)","v":0},2.5999999999999998E-12,{"$f":" IF(Foglio1!$C$13 <> \"\", M289 / (M289+Foglio1!$C$13), NA())","v":{"$error":"#N/A"}},{"$f":"IF(M289>Foglio1!$I$7,1,0)","v":0}]
[2.6999999999999998E-12,{"$f":" IF(Foglio1!$C$9 <> \"\", A290 / (A290+Foglio1!$C$9), NA())","v":{"$error":"#N/A"}},{"$f":"IF(A290>Foglio1!$I$7,1,0)","v":0},2.6999999999999998E-12,{"$f":" IF(Foglio1!$C$10 <> \"\", D290 / (D290+Foglio1!$C$10), NA())","v":{"$error":"#N/A"}},{"$f":"IF(D290>Foglio1!$I$7,1,0)","v":0},2.6999999999999998E-12,{"$f":" IF(Foglio1!$C$11 <> \"\", G290 / (G290+Foglio1!$C$11), NA())","v":{"$error":"#N/A"}},{"$f":"IF(G290>Foglio1!$I$7,1,0)","v":0},2.6999999999999998E-12,{"$f":" IF(Foglio1!$C$12 <> \"\", J290 / (J290+Foglio1!$C$12), NA())","v":{"$error":"#N/A"}},{"$f":"IF(J290>Foglio1!$I$7,1,0)","v":0},2.6999999999999998E-12,{"$f":" IF(Foglio1!$C$13 <> \"\", M290 / (M290+Foglio1!$C$13), NA())","v":{"$error":"#N/A"}},{"$f":"IF(M290>Foglio1!$I$7,1,0)","v":0}]
[2.8000000000000002E-12,{"$f":" IF(Foglio1!$C$9 <> \"\", A291 / (A291+Foglio1!$C$9), NA())","v":{"$error":"#N/A"}},{"$f":"IF(A291>Foglio1!$I$7,1,0)","v":0},2.8000000000000002E-12,{"$f":" IF(Foglio1!$C$10 <> \"\", D291 / (D291+Foglio1!$C$10), NA())","v":{"$error":"#N/A"}},{"$f":"IF(D291>Foglio1!$I$7,1,0)","v":0},2.8000000000000002E-12,{"$f":" IF(Foglio1!$C$11 <> \"\", G291 / (G291+Foglio1!$C$11), NA())","v":{"$error":"#N/A"}},{"$f":"IF(G291>Foglio1!$I$7,1,0)","v":0},2.8000000000000002E-12,{"$f":" IF(Foglio1!$C$12 <> \"\", J291 / (J291+Foglio1!$C$12), NA())","v":{"$error":"#N/A"}},{"$f":"IF(J291>Foglio1!$I$7,1,0)","v":0},2.8000000000000002E-12,{"$f":" IF(Foglio1!$C$13 <> \"\", M291 / (M291+Foglio1!$C$13), NA())","v":{"$error":"#N/A"}},{"$f":"IF(M291>Foglio1!$I$7,1,0)","v":0}]
[2.9000000000000002E-12,{"$f":" IF(Foglio1!$C$9 <> \"\", A292 / (A292+Foglio1!$C$9), NA())","v":{"$error":"#N/A"}},{"$f":"IF(A292>Foglio1!$I$7,1,0)","v":0},2.9000000000000002E-12,{"$f":" IF(Foglio1!$C$10 <> \"\", D292 / (D292+Foglio1!$C$10), NA())","v":{"$error":"#N/A"}},{"$f":"IF(D292>Foglio1!$I$7,1,0)","v":0},2.9000000000000002E-12,{"$f":" IF(Foglio1!$C$11 <> \"\", G292 / (G292+Foglio1!$C$11), NA())","v":{"$error":"#N/A"}},{"$f":"IF(G292>Foglio1!$I$7,1,0)","v":0},2.9000000000000002E-12,{"$f":" IF(Foglio1!$C$12 <> \"\", J292 / (J292+Foglio1!$C$12), NA())","v":{"$error":"#N/A"}},{"$f":"IF(J292>Foglio1!$I$7,1,0)","v":0},2.9000000000000002E-12,{"$f":" IF(Foglio1!$C$13 <> \"\", M292 / (M292+Foglio1!$C$13), NA())","v":{"$error":"#N/A"}},{"$f":"IF(M292>Foglio1!$I$7,1,0)","v":0}]
[3.0000000000000001E-12,{"$f":" IF(Foglio1!$C$9 <> \"\", A293 / (A293+Foglio1!$C$9), NA())","v":{"$error":"#N/A"}},{"$f":"IF(A293>Foglio1!$I$7,1,0)","v":0},3.0000000000000001E-12,{"$f":" IF(Foglio1!$C$10 <> \"\", D293 / (D293+Foglio1!$C$10), NA())","v":{"$error":"#N/A"}},{"$f":"IF(D293>Foglio1!$I$7,1,0)","v":0},3.0000000000000001E-12,{"$f":" IF(Foglio1!$C$11 <> \"\", G293 / (G293+Foglio1!$C$11), NA())","v":{"$error":"#N/A"}},{"$f":"IF(G293>Foglio1!$I$7,1,0)","v":0},3.0000000000000001E-12,{"$f":" IF(Foglio1!$C$12 <> \"\", J293 / (J293+Foglio1!$C$12), NA())","v":{"$error":"#N/A"}},{"$f":"IF(J293>Foglio1!$I$7,1,0)","v":0},3.0000000000000001E-12,{"$f":" IF(Foglio1!$C$13 <> \"\", M293 / (M293+Foglio1!$C$13), NA())","v":{"$error":"#N/A"}},{"$f":"IF(M293>Foglio1!$I$7,1,0)","v":0}]
[3.1000000000000001E-12,{"$f":" IF(Foglio1!$C$9 <> \"\", A294 / (A294+Foglio1!$C$9), NA())","v":{"$error":"#N/A"}},{"$f":"IF(A294>Foglio1!$I$7,1,0)","v":0},3.1000000000000001E-12,{"$f":" IF(Foglio1!$C$10 <> \"\", D294 / (D294+Foglio1!$C$10), NA())","v":{"$error":"#N/A"}},{"$f":"IF(D294>Foglio1!$I$7,1,0)","v":0},3.1000000000000001E-12,{"$f":" IF(Foglio1!$C$11 <> \"\", G294 / (G294+Foglio1!$C$11), NA())","v":{"$error":"#N/A"}},{"$f":"IF(G294>Foglio1!$I$7,1,0)","v":0},3.1000000000000001E-12,{"$f":" IF(Foglio1!$C$12 <> \"\", J294 / (J294+Foglio1!$C$12), NA())","v":{"$error":"#N/A"}},{"$f":"IF(J294>Foglio1!$I$7,1,0)","v":0},3.1000000000000001E-12,{"$f":" IF(Foglio1!$C$13 <> \"\", M294 / (M294+Foglio1!$C$13), NA())","v":{"$error":"#N/A"}},{"$f":"IF(M294>Foglio1!$I$7,1,0)","v":0}]
[3.2000000000000001E-12,{"$f":" IF(Foglio1!$C$9 <> \"\", A295 / (A295+Foglio1!$C$9), NA())","v":{"$error":"#N/A"}},{"$f":"IF(A295>Foglio1!$I$7,1,0)","v":0},3.2000000000000001E-12,{"$f":" IF(Foglio1!$C$10 <> \"\", D295 / (D295+Foglio1!$C$10), NA())","v":{"$error":"#N/A"}},{"$f":"IF(D295>Foglio1!$I$7,1,0)","v":0},3.2000000000000001E-12,{"$f":" IF(Foglio1!$C$11 <> \"\", G295 / (G295+Foglio1!$C$11), NA())","v":{"$error":"#N/A"}},{"$f":"IF(G295>Foglio1!$I$7,1,0)","v":0},3.2000000000000001E-12,{"$f":" IF(Foglio1!$C$12 <> \"\", J295 / (J295+Foglio1!$C$12), NA())","v":{"$error":"#N/A"}},{"$f":"IF(J295>Foglio1!$I$7,1,0)","v":0},3.2000000000000001E-12,{"$f":" IF(Foglio1!$C$13 <> \"\", M295 / (M295+Foglio1!$C$13), NA())","v":{"$error":"#N/A"}},{"$f":"IF(M295>Foglio1!$I$7,1,0)","v":0}]
[3.3000000000000001E-12,{"$f":" IF(Foglio1!$C$9 <> \"\", A296 / (A296+Foglio1!$C$9), NA())","v":{"$error":"#N/A"}},{"$f":"IF(A296>Foglio1!$I$7,1,0)","v":0},3.3000000000000001E-12,{"$f":" IF(Foglio1!$C$10 <> \"\", D296 / (D296+Foglio1!$C$10), NA())","v":{"$error":"#N/A"}},{"$f":"IF(D296>Foglio1!$I$7,1,0)","v":0},3.3000000000000001E-12,{"$f":" IF(Foglio1!$C$11 <> \"\", G296 / (G296+Foglio1!$C$11), NA())","v":{"$error":"#N/A"}},{"$f":"IF(G296>Foglio1!$I$7,1,0)","v":0},3.3000000000000001E-12,{"$f":" IF(Foglio1!$C$12 <> \"\", J296 / (J296+Foglio1!$C$12), NA())","v":{"$error":"#N/A"}},{"$f":"IF(J296>Foglio1!$I$7,1,0)","v":0},3.3000000000000001E-12,{"$f":" IF(Foglio1!$C$13 <> \"\", M296 / (M296+Foglio1!$C$13), NA())","v":{"$error":"#N/A"}},{"$f":"IF(M296>Foglio1!$I$7,1,0)","v":0}]
[3.4000000000000001E-12,{"$f":" IF(Foglio1!$C$9 <> \"\", A297 / (A297+Foglio1!$C$9), NA())","v":{"$error":"#N/A"}},{"$f":"IF(A297>Foglio1!$I$7,1,0)","v":0},3.4000000000000001E-12,{"$f":" IF(Foglio1!$C$10 <> \"\", D297 / (D297+Foglio1!$C$10), NA())","v":{"$error":"#N/A"}},{"$f":"IF(D297>Foglio1!$I$7,1,0)","v":0},3.4000000000000001E-12,{"$f":" IF(Foglio1!$C$11 <> \"\", G297 / (G297+Foglio1!$C$11), NA())","v":{"$error":"#N/A"}},{"$f":"IF(G297>Foglio1!$I$7,1,0)","v":0},3.4000000000000001E-12,{"$f":" IF(Foglio1!$C$12 <> \"\", J297 / (J297+Foglio1!$C$12), NA())","v":{"$error":"#N/A"}},{"$f":"IF(J297>Foglio1!$I$7,1,0)","v":0},3.4000000000000001E-12,{"$f":" IF(Foglio1!$C$13 <> \"\", M297 / (M297+Foglio1!$C$13), NA())","v":{"$error":"#N/A"}},{"$f":"IF(M297>Foglio1!$I$7,1,0)","v":0}]
[3.5E-12,{"$f":" IF(Foglio1!$C$9 <> \"\", A298 / (A298+Foglio1!$C$9), NA())","v":{"$error":"#N/A"}},{"$f":"IF(A298>Foglio1!$I$7,1,0)","v":0},3.5E-12,{"$f":" IF(Foglio1!$C$10 <> \"\", D298 / (D298+Foglio1!$C$10), NA())","v":{"$error":"#N/A"}},{"$f":"IF(D298>Foglio1!$I$7,1,0)","v":0},3.5E-12,{"$f":" IF(Foglio1!$C$11 <> \"\", G298 / (G298+Foglio1!$C$11), NA())","v":{"$error":"#N/A"}},{"$f":"IF(G298>Foglio1!$I$7,1,0)","v":0},3.5E-12,{"$f":" IF(Foglio1!$C$12 <> \"\", J298 / (J298+Foglio1!$C$12), NA())","v":{"$error":"#N/A"}},{"$f":"IF(J298>Foglio1!$I$7,1,0)","v":0},3.5E-12,{"$f":" IF(Foglio1!$C$13 <> \"\", M298 / (M298+Foglio1!$C$13), NA())","v":{"$error":"#N/A"}},{"$f":"IF(M298>Foglio1!$I$7,1,0)","v":0}]
[3.6E-12,{"$f":" IF(Foglio1!$C$9 <> \"\", A299 / (A299+Foglio1!$C$9), NA())","v":{"$error":"#N/A"}},{"$f":"IF(A299>Foglio1!$I$7,1,0)","v":0},3.6E-12,{"$f":" IF(Foglio1!$C$10 <> \"\", D299 / (D299+Foglio1!$C$10), NA())","v":{"$error":"#N/A"}},{"$f":"IF(D299>Foglio1!$I$7,1,0)","v":0},3.6E-12,{"$f":" IF(Foglio1!$C$11 <> \"\", G299 / (G299+Foglio1!$C$11), NA())","v":{"$error":"#N/A"}},{"$f":"IF(G299>Foglio1!$I$7,1,0)","v":0},3.6E-12,{"$f":" IF(Foglio1!$C$12 <> \"\", J299 / (J299+Foglio1!$C$12), NA())","v":{"$error":"#N/A"}},{"$f":"IF(J299>Foglio1!$I$7,1,0)","v":0},3.6E-12,{"$f":" IF(Foglio1!$C$13 <> \"\", M299 / (M299+Foglio1!$C$13), NA())","v":{"$error":"#N/A"}},{"$f":"IF(M299>Foglio1!$I$7,1,0)","v":0}]
[3.7E-12,{"$f":" IF(Foglio1!$C$9 <> \"\", A300 / (A300+Foglio1!$C$9), NA())","v":{"$error":"#N/A"}},{"$f":"IF(A300>Foglio1!$I$7,1,0)","v":0},3.7E-12,{"$f":" IF(Foglio1!$C$10 <> \"\", D300 / (D300+Foglio1!$C$10), NA())","v":{"$error":"#N/A"}},{"$f":"IF(D300>Foglio1!$I$7,1,0)","v":0},3.7E-12,{"$f":" IF(Foglio1!$C$11 <> \"\", G300 / (G300+Foglio1!$C$11), NA())","v":{"$error":"#N/A"}},{"$f":"IF(G300>Foglio1!$I$7,1,0)","v":0},3.7E-12,{"$f":" IF(Foglio1!$C$12 <> \"\", J300 / (J300+Foglio1!$C$12), NA())","v":{"$error":"#N/A"}},{"$f":"IF(J300>Foglio1!$I$7,1,0)","v":0},3.7E-12,{"$f":" IF(Foglio1!$C$13 <> \"\", M300 / (M300+Foglio1!$C$13), NA())","v":{"$error":"#N/A"}},{"$f":"IF(M300>Foglio1!$I$7,1,0)","v":0}]
[3.8E-12,{"$f":" IF(Foglio1!$C$9 <> \"\", A301 / (A301+Foglio1!$C$9), NA())","v":{"$error":"#N/A"}},{"$f":"IF(A301>Foglio1!$I$7,1,0)","v":0},3.8E-12,{"$f":" IF(Foglio1!$C$10 <> \"\", D301 / (D301+Foglio1!$C$10), NA())","v":{"$error":"#N/A"}},{"$f":"IF(D301>Foglio1!$I$7,1,0)","v":0},3.8E-12,{"$f":" IF(Foglio1!$C$11 <> \"\", G301 / (G301+Foglio1!$C$11), NA())","v":{"$error":"#N/A"}},{"$f":"IF(G301>Foglio1!$I$7,1,0)","v":0},3.8E-12,{"$f":" IF(Foglio1!$C$12 <> \"\", J301 / (J301+Foglio1!$C$12), NA())","v":{"$error":"#N/A"}},{"$f":"IF(J301>Foglio1!$I$7,1,0)","v":0},3.8E-12,{"$f":" IF(Foglio1!$C$13 <> \"\", M301 / (M301+Foglio1!$C$13), NA())","v":{"$error":"#N/A"}},{"$f":"IF(M301>Foglio1!$I$7,1,0)","v":0}]
[3.8999999999999999E-12,{"$f":" IF(Foglio1!$C$9 <> \"\", A302 / (A302+Foglio1!$C$9), NA())","v":{"$error":"#N/A"}},{"$f":"IF(A302>Foglio1!$I$7,1,0)","v":0},3.8999999999999999E-12,{"$f":" IF(Foglio1!$C$10 <> \"\", D302 / (D302+Foglio1!$C$10), NA())","v":{"$error":"#N/A"}},{"$f":"IF(D302>Foglio1!$I$7,1,0)","v":0},3.8999999999999999E-12,{"$f":" IF(Foglio1!$C$11 <> \"\", G302 / (G302+Foglio1!$C$11), NA())","v":{"$error":"#N/A"}},{"$f":"IF(G302>Foglio1!$I$7,1,0)","v":0},3.8999999999999999E-12,{"$f":" IF(Foglio1!$C$12 <> \"\", J302 / (J302+Foglio1!$C$12), NA())","v":{"$error":"#N/A"}},{"$f":"IF(J302>Foglio1!$I$7,1,0)","v":0},3.8999999999999999E-12,{"$f":" IF(Foglio1!$C$13 <> \"\", M302 / (M302+Foglio1!$C$13), NA())","v":{"$error":"#N/A"}},{"$f":"IF(M302>Foglio1!$I$7,1,0)","v":0}]
[3.9999999999999999E-12,{"$f":" IF(Foglio1!$C$9 <> \"\", A303 / (A303+Foglio1!$C$9), NA())","v":{"$error":"#N/A"}},{"$f":"IF(A303>Foglio1!$I$7,1,0)","v":0},3.9999999999999999E-12,{"$f":" IF(Foglio1!$C$10 <> \"\", D303 / (D303+Foglio1!$C$10), NA())","v":{"$error":"#N/A"}},{"$f":"IF(D303>Foglio1!$I$7,1,0)","v":0},3.9999999999999999E-12,{"$f":" IF(Foglio1!$C$11 <> \"\", G303 / (G303+Foglio1!$C$11), NA())","v":{"$error":"#N/A"}},{"$f":"IF(G303>Foglio1!$I$7,1,0)","v":0},3.9999999999999999E-12,{"$f":" IF(Foglio1!$C$12 <> \"\", J303 / (J303+Foglio1!$C$12), NA())","v":{"$error":"#N/A"}},{"$f":"IF(J303>Foglio1!$I$7,1,0)","v":0},3.9999999999999999E-12,{"$f":" IF(Foglio1!$C$13 <> \"\", M303 / (M303+Foglio1!$C$13), NA())","v":{"$error":"#N/A"}},{"$f":"IF(M303>Foglio1!$I$7,1,0)","v":0}]
[4.0999999999999999E-12,{"$f":" IF(Foglio1!$C$9 <> \"\", A304 / (A304+Foglio1!$C$9), NA())","v":{"$error":"#N/A"}},{"$f":"IF(A304>Foglio1!$I$7,1,0)","v":0},4.0999999999999999E-12,{"$f":" IF(Foglio1!$C$10 <> \"\", D304 / (D304+Foglio1!$C$10), NA())","v":{"$error":"#N/A"}},{"$f":"IF(D304>Foglio1!$I$7,1,0)","v":0},4.0999999999999999E-12,{"$f":" IF(Foglio1!$C$11 <> \"\", G304 / (G304+Foglio1!$C$11), NA())","v":{"$error":"#N/A"}},{"$f":"IF(G304>Foglio1!$I$7,1,0)","v":0},4.0999999999999999E-12,{"$f":" IF(Foglio1!$C$12 <> \"\", J304 / (J304+Foglio1!$C$12), NA())","v":{"$error":"#N/A"}},{"$f":"IF(J304>Foglio1!$I$7,1,0)","v":0},4.0999999999999999E-12,{"$f":" IF(Foglio1!$C$13 <> \"\", M304 / (M304+Foglio1!$C$13), NA())","v":{"$error":"#N/A"}},{"$f":"IF(M304>Foglio1!$I$7,1,0)","v":0}]
[4.1999999999999999E-12,{"$f":" IF(Foglio1!$C$9 <> \"\", A305 / (A305+Foglio1!$C$9), NA())","v":{"$error":"#N/A"}},{"$f":"IF(A305>Foglio1!$I$7,1,0)","v":0},4.1999999999999999E-12,{"$f":" IF(Foglio1!$C$10 <> \"\", D305 / (D305+Foglio1!$C$10), NA())","v":{"$error":"#N/A"}},{"$f":"IF(D305>Foglio1!$I$7,1,0)","v":0},4.1999999999999999E-12,{"$f":" IF(Foglio1!$C$11 <> \"\", G305 / (G305+Foglio1!$C$11), NA())","v":{"$error":"#N/A"}},{"$f":"IF(G305>Foglio1!$I$7,1,0)","v":0},4.1999999999999999E-12,{"$f":" IF(Foglio1!$C$12 <> \"\", J305 / (J305+Foglio1!$C$12), NA())","v":{"$error":"#N/A"}},{"$f":"IF(J305>Foglio1!$I$7,1,0)","v":0},4.1999999999999999E-12,{"$f":" IF(Foglio1!$C$13 <> \"\", M305 / (M305+Foglio1!$C$13), NA())","v":{"$error":"#N/A"}},{"$f":"IF(M305>Foglio1!$I$7,1,0)","v":0}]
[4.2999999999999999E-12,{"$f":" IF(Foglio1!$C$9 <> \"\", A306 / (A306+Foglio1!$C$9), NA())","v":{"$error":"#N/A"}},{"$f":"IF(A306>Foglio1!$I$7,1,0)","v":0},4.2999999999999999E-12,{"$f":" IF(Foglio1!$C$10 <> \"\", D306 / (D306+Foglio1!$C$10), NA())","v":{"$error":"#N/A"}},{"$f":"IF(D306>Foglio1!$I$7,1,0)","v":0},4.2999999999999999E-12,{"$f":" IF(Foglio1!$C$11 <> \"\", G306 / (G306+Foglio1!$C$11), NA())","v":{"$error":"#N/A"}},{"$f":"IF(G306>Foglio1!$I$7,1,0)","v":0},4.2999999999999999E-12,{"$f":" IF(Foglio1!$C$12 <> \"\", J306 / (J306+Foglio1!$C$12), NA())","v":{"$error":"#N/A"}},{"$f":"IF(J306>Foglio1!$I$7,1,0)","v":0},4.2999999999999999E-12,{"$f":" IF(Foglio1!$C$13 <> \"\", M306 / (M306+Foglio1!$C$13), NA())","v":{"$error":"#N/A"}},{"$f":"IF(M306>Foglio1!$I$7,1,0)","v":0}]
[4.3999999999999998E-12,{"$f":" IF(Foglio1!$C$9 <> \"\", A307 / (A307+Foglio1!$C$9), NA())","v":{"$error":"#N/A"}},{"$f":"IF(A307>Foglio1!$I$7,1,0)","v":0},4.3999999999999998E-12,{"$f":" IF(Foglio1!$C$10 <> \"\", D307 / (D307+Foglio1!$C$10), NA())","v":{"$error":"#N/A"}},{"$f":"IF(D307>Foglio1!$I$7,1,0)","v":0},4.3999999999999998E-12,{"$f":" IF(Foglio1!$C$11 <> \"\", G307 / (G307+Foglio1!$C$11), NA())","v":{"$error":"#N/A"}},{"$f":"IF(G307>Foglio1!$I$7,1,0)","v":0},4.3999999999999998E-12,{"$f":" IF(Foglio1!$C$12 <> \"\", J307 / (J307+Foglio1!$C$12), NA())","v":{"$error":"#N/A"}},{"$f":"IF(J307>Foglio1!$I$7,1,0)","v":0},4.3999999999999998E-12,{"$f":" IF(Foglio1!$C$13 <> \"\", M307 / (M307+Foglio1!$C$13), NA())","v":{"$error":"#N/A"}},{"$f":"IF(M307>Foglio1!$I$7,1,0)","v":0}]
[4.4999999999999998E-12,{"$f":" IF(Foglio1!$C$9 <> \"\", A308 / (A308+Foglio1!$C$9), NA())","v":{"$error":"#N/A"}},{"$f":"IF(A308>Foglio1!$I$7,1,0)","v":0},4.4999999999999998E-12,{"$f":" IF(Foglio1!$C$10 <> \"\", D308 / (D308+Foglio1!$C$10), NA())","v":{"$error":"#N/A"}},{"$f":"IF(D308>Foglio1!$I$7,1,0)","v":0},4.4999999999999998E-12,{"$f":" IF(Foglio1!$C$11 <> \"\", G308 / (G308+Foglio1!$C$11), NA())","v":{"$error":"#N/A"}},{"$f":"IF(G308>Foglio1!$I$7,1,0)","v":0},4.4999999999999998E-12,{"$f":" IF(Foglio1!$C$12 <> \"\", J308 / (J308+Foglio1!$C$12), NA())","v":{"$error":"#N/A"}},{"$f":"IF(J308>Foglio1!$I$7,1,0)","v":0},4.4999999999999998E-12,{"$f":" IF(Foglio1!$C$13 <> \"\", M308 / (M308+Foglio1!$C$13), NA())","v":{"$error":"#N/A"}},{"$f":"IF(M308>Foglio1!$I$7,1,0)","v":0}]
[4.5999999999999998E-12,{"$f":" IF(Foglio1!$C$9 <> \"\", A309 / (A309+Foglio1!$C$9), NA())","v":{"$error":"#N/A"}},{"$f":"IF(A309>Foglio1!$I$7,1,0)","v":0},4.5999999999999998E-12,{"$f":" IF(Foglio1!$C$10 <> \"\", D309 / (D309+Foglio1!$C$10), NA())","v":{"$error":"#N/A"}},{"$f":"IF(D309>Foglio1!$I$7,1,0)","v":0},4.5999999999999998E-12,{"$f":" IF(Foglio1!$C$11 <> \"\", G309 / (G309+Foglio1!$C$11), NA())","v":{"$error":"#N/A"}},{"$f":"IF(G309>Foglio1!$I$7,1,0)","v":0},4.5999999999999998E-12,{"$f":" IF(Foglio1!$C$12 <> \"\", J309 / (J309+Foglio1!$C$12), NA())","v":{"$error":"#N/A"}},{"$f":"IF(J309>Foglio1!$I$7,1,0)","v":0},4.5999999999999998E-12,{"$f":" IF(Foglio1!$C$13 <> \"\", M309 / (M309+Foglio1!$C$13), NA())","v":{"$error":"#N/A"}},{"$f":"IF(M309>Foglio1!$I$7,1,0)","v":0}]
[4.6999999999999998E-12,{"$f":" IF(Foglio1!$C$9 <> \"\", A310 / (A310+Foglio1!$C$9), NA())","v":{"$error":"#N/A"}},{"$f":"IF(A310>Foglio1!$I$7,1,0)","v":0},4.6999999999999998E-12,{"$f":" IF(Foglio1!$C$10 <> \"\", D310 / (D310+Foglio1!$C$10), NA())","v":{"$error":"#N/A"}},{"$f":"IF(D310>Foglio1!$I$7,1,0)","v":0},4.6999999999999998E-12,{"$f":" IF(Foglio1!$C$11 <> \"\", G310 / (G310+Foglio1!$C$11), NA())","v":{"$error":"#N/A"}},{"$f":"IF(G310>Foglio1!$I$7,1,0)","v":0},4.6999999999999998E-12,{"$f":" IF(Foglio1!$C$12 <> \"\", J310 / (J310+Foglio1!$C$12), NA())","v":{"$error":"#N/A"}},{"$f":"IF(J310>Foglio1!$I$7,1,0)","v":0},4.6999999999999998E-12,{"$f":" IF(Foglio1!$C$13 <> \"\", M310 / (M310+Foglio1!$C$13), NA())","v":{"$error":"#N/A"}},{"$f":"IF(M310>Foglio1!$I$7,1,0)","v":0}]
[4.7999999999999997E-12,{"$f":" IF(Foglio1!$C$9 <> \"\", A311 / (A311+Foglio1!$C$9), NA())","v":{"$error":"#N/A"}},{"$f":"IF(A311>Foglio1!$I$7,1,0)","v":0},4.7999999999999997E-12,{"$f":" IF(Foglio1!$C$10 <> \"\", D311 / (D311+Foglio1!$C$10), NA())","v":{"$error":"#N/A"}},{"$f":"IF(D311>Foglio1!$I$7,1,0)","v":0},4.7999999999999997E-12,{"$f":" IF(Foglio1!$C$11 <> \"\", G311 / (G311+Foglio1!$C$11), NA())","v":{"$error":"#N/A"}},{"$f":"IF(G311>Foglio1!$I$7,1,0)","v":0},4.7999999999999997E-12,{"$f":" IF(Foglio1!$C$12 <> \"\", J311 / (J311+Foglio1!$C$12), NA())","v":{"$error":"#N/A"}},{"$f":"IF(J311>Foglio1!$I$7,1,0)","v":0},4.7999999999999997E-12,{"$f":" IF(Foglio1!$C$13 <> \"\", M311 / (M311+Foglio1!$C$13), NA())","v":{"$error":"#N/A"}},{"$f":"IF(M311>Foglio1!$I$7,1,0)","v":0}]
[4.8999999999999997E-12,{"$f":" IF(Foglio1!$C$9 <> \"\", A312 / (A312+Foglio1!$C$9), NA())","v":{"$error":"#N/A"}},{"$f":"IF(A312>Foglio1!$I$7,1,0)","v":0},4.8999999999999997E-12,{"$f":" IF(Foglio1!$C$10 <> \"\", D312 / (D312+Foglio1!$C$10), NA())","v":{"$error":"#N/A"}},{"$f":"IF(D312>Foglio1!$I$7,1,0)","v":0},4.8999999999999997E-12,{"$f":" IF(Foglio1!$C$11 <> \"\", G312 / (G312+Foglio1!$C$11), NA())","v":{"$error":"#N/A"}},{"$f":"IF(G312>Foglio1!$I$7,1,0)","v":0},4.8999999999999997E-12,{"$f":" IF(Foglio1!$C$12 <> \"\", J312 / (J312+Foglio1!$C$12), NA())","v":{"$error":"#N/A"}},{"$f":"IF(J312>Foglio1!$I$7,1,0)","v":0},4.8999999999999997E-12,{"$f":" IF(Foglio1!$C$13 <> \"\", M312 / (M312+Foglio1!$C$13), NA())","v":{"$error":"#N/A"}},{"$f":"IF(M312>Foglio1!$I$7,1,0)","v":0}]
[4.9999999999999997E-12,{"$f":" IF(Foglio1!$C$9 <> \"\", A313 / (A313+Foglio1!$C$9), NA())","v":{"$error":"#N/A"}},{"$f":"IF(A313>Foglio1!$I$7,1,0)","v":0},4.9999999999999997E-12,{"$f":" IF(Foglio1!$C$10 <> \"\", D313 / (D313+Foglio1!$C$10), NA())","v":{"$error":"#N/A"}},{"$f":"IF(D313>Foglio1!$I$7,1,0)","v":0},4.9999999999999997E-12,{"$f":" IF(Foglio1!$C$11 <> \"\", G313 / (G313+Foglio1!$C$11), NA())","v":{"$error":"#N/A"}},{"$f":"IF(G313>Foglio1!$I$7,1,0)","v":0},4.9999999999999997E-12,{"$f":" IF(Foglio1!$C$12 <> \"\", J313 / (J313+Foglio1!$C$12), NA())","v":{"$error":"#N/A"}},{"$f":"IF(J313>Foglio1!$I$7,1,0)","v":0},4.9999999999999997E-12,{"$f":" IF(Foglio1!$C$13 <> \"\", M313 / (M313+Foglio1!$C$13), NA())","v":{"$error":"#N/A"}},{"$f":"IF(M313>Foglio1!$I$7,1,0)","v":0}]
[5.0999999999999997E-12,{"$f":" IF(Foglio1!$C$9 <> \"\", A314 / (A314+Foglio1!$C$9), NA())","v":{"$error":"#N/A"}},{"$f":"IF(A314>Foglio1!$I$7,1,0)","v":0},5.0999999999999997E-12,{"$f":" IF(Foglio1!$C$10 <> \"\", D314 / (D314+Foglio1!$C$10), NA())","v":{"$error":"#N/A"}},{"$f":"IF(D314>Foglio1!$I$7,1,0)","v":0},5.0999999999999997E-12,{"$f":" IF(Foglio1!$C$11 <> \"\", G314 / (G314+Foglio1!$C$11), NA())","v":{"$error":"#N/A"}},{"$f":"IF(G314>Foglio1!$I$7,1,0)","v":0},5.0999999999999997E-12,{"$f":" IF(Foglio1!$C$12 <> \"\", J314 / (J314+Foglio1!$C$12), NA())","v":{"$error":"#N/A"}},{"$f":"IF(J314>Foglio1!$I$7,1,0)","v":0},5.0999999999999997E-12,{"$f":" IF(Foglio1!$C$13 <> \"\", M314 / (M314+Foglio1!$C$13), NA())","v":{"$error":"#N/A"}},{"$f":"IF(M314>Foglio1!$I$7,1,0)","v":0}]
[5.1999999999999997E-12,{"$f":" IF(Foglio1!$C$9 <> \"\", A315 / (A315+Foglio1!$C$9), NA())","v":{"$error":"#N/A"}},{"$f":"IF(A315>Foglio1!$I$7,1,0)","v":0},5.1999999999999997E-12,{"$f":" IF(Foglio1!$C$10 <> \"\", D315 / (D315+Foglio1!$C$10), NA())","v":{"$error":"#N/A"}},{"$f":"IF(D315>Foglio1!$I$7,1,0)","v":0},5.1999999999999997E-12,{"$f":" IF(Foglio1!$C$11 <> \"\", G315 / (G315+Foglio1!$C$11), NA())","v":{"$error":"#N/A"}},{"$f":"IF(G315>Foglio1!$I$7,1,0)","v":0},5.1999999999999997E-12,{"$f":" IF(Foglio1!$C$12 <> \"\", J315 / (J315+Foglio1!$C$12), NA())","v":{"$error":"#N/A"}},{"$f":"IF(J315>Foglio1!$I$7,1,0)","v":0},5.1999999999999997E-12,{"$f":" IF(Foglio1!$C$13 <> \"\", M315 / (M315+Foglio1!$C$13), NA())","v":{"$error":"#N/A"}},{"$f":"IF(M315>Foglio1!$I$7,1,0)","v":0}]
[5.2999999999999996E-12,{"$f":" IF(Foglio1!$C$9 <> \"\", A316 / (A316+Foglio1!$C$9), NA())","v":{"$error":"#N/A"}},{"$f":"IF(A316>Foglio1!$I$7,1,0)","v":0},5.2999999999999996E-12,{"$f":" IF(Foglio1!$C$10 <> \"\", D316 / (D316+Foglio1!$C$10), NA())","v":{"$error":"#N/A"}},{"$f":"IF(D316>Foglio1!$I$7,1,0)","v":0},5.2999999999999996E-12,{"$f":" IF(Foglio1!$C$11 <> \"\", G316 / (G316+Foglio1!$C$11), NA())","v":{"$error":"#N/A"}},{"$f":"IF(G316>Foglio1!$I$7,1,0)","v":0},5.2999999999999996E-12,{"$f":" IF(Foglio1!$C$12 <> \"\", J316 / (J316+Foglio1!$C$12), NA())","v":{"$error":"#N/A"}},{"$f":"IF(J316>Foglio1!$I$7,1,0)","v":0},5.2999999999999996E-12,{"$f":" IF(Foglio1!$C$13 <> \"\", M316 / (M316+Foglio1!$C$13), NA())","v":{"$error":"#N/A"}},{"$f":"IF(M316>Foglio1!$I$7,1,0)","v":0}]
[5.3999999999999996E-12,{"$f":" IF(Foglio1!$C$9 <> \"\", A317 / (A317+Foglio1!$C$9), NA())","v":{"$error":"#N/A"}},{"$f":"IF(A317>Foglio1!$I$7,1,0)","v":0},5.3999999999999996E-12,{"$f":" IF(Foglio1!$C$10 <> \"\", D317 / (D317+Foglio1!$C$10), NA())","v":{"$error":"#N/A"}},{"$f":"IF(D317>Foglio1!$I$7,1,0)","v":0},5.3999999999999996E-12,{"$f":" IF(Foglio1!$C$11 <> \"\", G317 / (G317+Foglio1!$C$11), NA())","v":{"$error":"#N/A"}},{"$f":"IF(G317>Foglio1!$I$7,1,0)","v":0},5.3999999999999996E-12,{"$f":" IF(Foglio1!$C$12 <> \"\", J317 / (J317+Foglio1!$C$12), NA())","v":{"$error":"#N/A"}},{"$f":"IF(J317>Foglio1!$I$7,1,0)","v":0},5.3999999999999996E-12,{"$f":" IF(Foglio1!$C$13 <> \"\", M317 / (M317+Foglio1!$C$13), NA())","v":{"$error":"#N/A"}},{"$f":"IF(M317>Foglio1!$I$7,1,0)","v":0}]
[5.5000000000000004E-12,{"$f":" IF(Foglio1!$C$9 <> \"\", A318 / (A318+Foglio1!$C$9), NA())","v":{"$error":"#N/A"}},{"$f":"IF(A318>Foglio1!$I$7,1,0)","v":0},5.5000000000000004E-12,{"$f":" IF(Foglio1!$C$10 <> \"\", D318 / (D318+Foglio1!$C$10), NA())","v":{"$error":"#N/A"}},{"$f":"IF(D318>Foglio1!$I$7,1,0)","v":0},5.5000000000000004E-12,{"$f":" IF(Foglio1!$C$11 <> \"\", G318 / (G318+Foglio1!$C$11), NA())","v":{"$error":"#N/A"}},{"$f":"IF(G318>Foglio1!$I$7,1,0)","v":0},5.5000000000000004E-12,{"$f":" IF(Foglio1!$C$12 <> \"\", J318 / (J318+Foglio1!$C$12), NA())","v":{"$error":"#N/A"}},{"$f":"IF(J318>Foglio1!$I$7,1,0)","v":0},5.5000000000000004E-12,{"$f":" IF(Foglio1!$C$13 <> \"\", M318 / (M318+Foglio1!$C$13), NA())","v":{"$error":"#N/A"}},{"$f":"IF(M318>Foglio1!$I$7,1,0)","v":0}]
[5.6000000000000004E-12,{"$f":" IF(Foglio1!$C$9 <> \"\", A319 / (A319+Foglio1!$C$9), NA())","v":{"$error":"#N/A"}},{"$f":"IF(A319>Foglio1!$I$7,1,0)","v":0},5.6000000000000004E-12,{"$f":" IF(Foglio1!$C$10 <> \"\", D319 / (D319+Foglio1!$C$10), NA())","v":{"$error":"#N/A"}},{"$f":"IF(D319>Foglio1!$I$7,1,0)","v":0},5.6000000000000004E-12,{"$f":" IF(Foglio1!$C$11 <> \"\", G319 / (G319+Foglio1!$C$11), NA())","v":{"$error":"#N/A"}},{"$f":"IF(G319>Foglio1!$I$7,1,0)","v":0},5.6000000000000004E-12,{"$f":" IF(Foglio1!$C$12 <> \"\", J319 / (J319+Foglio1!$C$12), NA())","v":{"$error":"#N/A"}},{"$f":"IF(J319>Foglio1!$I$7,1,0)","v":0},5.6000000000000004E-12,{"$f":" IF(Foglio1!$C$13 <> \"\", M319 / (M319+Foglio1!$C$13), NA())","v":{"$error":"#N/A"}},{"$f":"IF(M319>Foglio1!$I$7,1,0)","v":0}]
[5.7000000000000003E-12,{"$f":" IF(Foglio1!$C$9 <> \"\", A320 / (A320+Foglio1!$C$9), NA())","v":{"$error":"#N/A"}},{"$f":"IF(A320>Foglio1!$I$7,1,0)","v":0},5.7000000000000003E-12,{"$f":" IF(Foglio1!$C$10 <> \"\", D320 / (D320+Foglio1!$C$10), NA())","v":{"$error":"#N/A"}},{"$f":"IF(D320>Foglio1!$I$7,1,0)","v":0},5.7000000000000003E-12,{"$f":" IF(Foglio1!$C$11 <> \"\", G320 / (G320+Foglio1!$C$11), NA())","v":{"$error":"#N/A"}},{"$f":"IF(G320>Foglio1!$I$7,1,0)","v":0},5.7000000000000003E-12,{"$f":" IF(Foglio1!$C$12 <> \"\", J320 / (J320+Foglio1!$C$12), NA())","v":{"$error":"#N/A"}},{"$f":"IF(J320>Foglio1!$I$7,1,0)","v":0},5.7000000000000003E-12,{"$f":" IF(Foglio1!$C$13 <> \"\", M320 / (M320+Foglio1!$C$13), NA())","v":{"$error":"#N/A"}},{"$f":"IF(M320>Foglio1!$I$7,1,0)","v":0}]
[5.8000000000000003E-12,{"$f":" IF(Foglio1!$C$9 <> \"\", A321 / (A321+Foglio1!$C$9), NA())","v":{"$error":"#N/A"}},{"$f":"IF(A321>Foglio1!$I$7,1,0)","v":0},5.8000000000000003E-12,{"$f":" IF(Foglio1!$C$10 <> \"\", D321 / (D321+Foglio1!$C$10), NA())","v":{"$error":"#N/A"}},{"$f":"IF(D321>Foglio1!$I$7,1,0)","v":0},5.8000000000000003E-12,{"$f":" IF(Foglio1!$C$11 <> \"\", G321 / (G321+Foglio1!$C$11), NA())","v":{"$error":"#N/A"}},{"$f":"IF(G321>Foglio1!$I$7,1,0)","v":0},5.8000000000000003E-12,{"$f":" IF(Foglio1!$C$12 <> \"\", J321 / (J321+Foglio1!$C$12), NA())","v":{"$error":"#N/A"}},{"$f":"IF(J321>Foglio1!$I$7,1,0)","v":0},5.8000000000000003E-12,{"$f":" IF(Foglio1!$C$13 <> \"\", M321 / (M321+Foglio1!$C$13), NA())","v":{"$error":"#N/A"}},{"$f":"IF(M321>Foglio1!$I$7,1,0)","v":0}]
[5.9000000000000003E-12,{"$f":" IF(Foglio1!$C$9 <> \"\", A322 / (A322+Foglio1!$C$9), NA())","v":{"$error":"#N/A"}},{"$f":"IF(A322>Foglio1!$I$7,1,0)","v":0},5.9000000000000003E-12,{"$f":" IF(Foglio1!$C$10 <> \"\", D322 / (D322+Foglio1!$C$10), NA())","v":{"$error":"#N/A"}},{"$f":"IF(D322>Foglio1!$I$7,1,0)","v":0},5.9000000000000003E-12,{"$f":" IF(Foglio1!$C$11 <> \"\", G322 / (G322+Foglio1!$C$11), NA())","v":{"$error":"#N/A"}},{"$f":"IF(G322>Foglio1!$I$7,1,0)","v":0},5.9000000000000003E-12,{"$f":" IF(Foglio1!$C$12 <> \"\", J322 / (J322+Foglio1!$C$12), NA())","v":{"$error":"#N/A"}},{"$f":"IF(J322>Foglio1!$I$7,1,0)","v":0},5.9000000000000003E-12,{"$f":" IF(Foglio1!$C$13 <> \"\", M322 / (M322+Foglio1!$C$13), NA())","v":{"$error":"#N/A"}},{"$f":"IF(M322>Foglio1!$I$7,1,0)","v":0}]
[6.0000000000000003E-12,{"$f":" IF(Foglio1!$C$9 <> \"\", A323 / (A323+Foglio1!$C$9), NA())","v":{"$error":"#N/A"}},{"$f":"IF(A323>Foglio1!$I$7,1,0)","v":0},6.0000000000000003E-12,{"$f":" IF(Foglio1!$C$10 <> \"\", D323 / (D323+Foglio1!$C$10), NA())","v":{"$error":"#N/A"}},{"$f":"IF(D323>Foglio1!$I$7,1,0)","v":0},6.0000000000000003E-12,{"$f":" IF(Foglio1!$C$11 <> \"\", G323 / (G323+Foglio1!$C$11), NA())","v":{"$error":"#N/A"}},{"$f":"IF(G323>Foglio1!$I$7,1,0)","v":0},6.0000000000000003E-12,{"$f":" IF(Foglio1!$C$12 <> \"\", J323 / (J323+Foglio1!$C$12), NA())","v":{"$error":"#N/A"}},{"$f":"IF(J323>Foglio1!$I$7,1,0)","v":0},6.0000000000000003E-12,{"$f":" IF(Foglio1!$C$13 <> \"\", M323 / (M323+Foglio1!$C$13), NA())","v":{"$error":"#N/A"}},{"$f":"IF(M323>Foglio1!$I$7,1,0)","v":0}]
[6.1000000000000003E-12,{"$f":" IF(Foglio1!$C$9 <> \"\", A324 / (A324+Foglio1!$C$9), NA())","v":{"$error":"#N/A"}},{"$f":"IF(A324>Foglio1!$I$7,1,0)","v":0},6.1000000000000003E-12,{"$f":" IF(Foglio1!$C$10 <> \"\", D324 / (D324+Foglio1!$C$10), NA())","v":{"$error":"#N/A"}},{"$f":"IF(D324>Foglio1!$I$7,1,0)","v":0},6.1000000000000003E-12,{"$f":" IF(Foglio1!$C$11 <> \"\", G324 / (G324+Foglio1!$C$11), NA())","v":{"$error":"#N/A"}},{"$f":"IF(G324>Foglio1!$I$7,1,0)","v":0},6.1000000000000003E-12,{"$f":" IF(Foglio1!$C$12 <> \"\", J324 / (J324+Foglio1!$C$12), NA())","v":{"$error":"#N/A"}},{"$f":"IF(J324>Foglio1!$I$7,1,0)","v":0},6.1000000000000003E-12,{"$f":" IF(Foglio1!$C$13 <> \"\", M324 / (M324+Foglio1!$C$13), NA())","v":{"$error":"#N/A"}},{"$f":"IF(M324>Foglio1!$I$7,1,0)","v":0}]
[6.2000000000000002E-12,{"$f":" IF(Foglio1!$C$9 <> \"\", A325 / (A325+Foglio1!$C$9), NA())","v":{"$error":"#N/A"}},{"$f":"IF(A325>Foglio1!$I$7,1,0)","v":0},6.2000000000000002E-12,{"$f":" IF(Foglio1!$C$10 <> \"\", D325 / (D325+Foglio1!$C$10), NA())","v":{"$error":"#N/A"}},{"$f":"IF(D325>Foglio1!$I$7,1,0)","v":0},6.2000000000000002E-12,{"$f":" IF(Foglio1!$C$11 <> \"\", G325 / (G325+Foglio1!$C$11), NA())","v":{"$error":"#N/A"}},{"$f":"IF(G325>Foglio1!$I$7,1,0)","v":0},6.2000000000000002E-12,{"$f":" IF(Foglio1!$C$12 <> \"\", J325 / (J325+Foglio1!$C$12), NA())","v":{"$error":"#N/A"}},{"$f":"IF(J325>Foglio1!$I$7,1,0)","v":0},6.2000000000000002E-12,{"$f":" IF(Foglio1!$C$13 <> \"\", M325 / (M325+Foglio1!$C$13), NA())","v":{"$error":"#N/A"}},{"$f":"IF(M325>Foglio1!$I$7,1,0)","v":0}]
[6.3000000000000002E-12,{"$f":" IF(Foglio1!$C$9 <> \"\", A326 / (A326+Foglio1!$C$9), NA())","v":{"$error":"#N/A"}},{"$f":"IF(A326>Foglio1!$I$7,1,0)","v":0},6.3000000000000002E-12,{"$f":" IF(Foglio1!$C$10 <> \"\", D326 / (D326+Foglio1!$C$10), NA())","v":{"$error":"#N/A"}},{"$f":"IF(D326>Foglio1!$I$7,1,0)","v":0},6.3000000000000002E-12,{"$f":" IF(Foglio1!$C$11 <> \"\", G326 / (G326+Foglio1!$C$11), NA())","v":{"$error":"#N/A"}},{"$f":"IF(G326>Foglio1!$I$7,1,0)","v":0},6.3000000000000002E-12,{"$f":" IF(Foglio1!$C$12 <> \"\", J326 / (J326+Foglio1!$C$12), NA())","v":{"$error":"#N/A"}},{"$f":"IF(J326>Foglio1!$I$7,1,0)","v":0},6.3000000000000002E-12,{"$f":" IF(Foglio1!$C$13 <> \"\", M326 / (M326+Foglio1!$C$13), NA())","v":{"$error":"#N/A"}},{"$f":"IF(M326>Foglio1!$I$7,1,0)","v":0}]
[6.4000000000000002E-12,{"$f":" IF(Foglio1!$C$9 <> \"\", A327 / (A327+Foglio1!$C$9), NA())","v":{"$error":"#N/A"}},{"$f":"IF(A327>Foglio1!$I$7,1,0)","v":0},6.4000000000000002E-12,{"$f":" IF(Foglio1!$C$10 <> \"\", D327 / (D327+Foglio1!$C$10), NA())","v":{"$error":"#N/A"}},{"$f":"IF(D327>Foglio1!$I$7,1,0)","v":0},6.4000000000000002E-12,{"$f":" IF(Foglio1!$C$11 <> \"\", G327 / (G327+Foglio1!$C$11), NA())","v":{"$error":"#N/A"}},{"$f":"IF(G327>Foglio1!$I$7,1,0)","v":0},6.4000000000000002E-12,{"$f":" IF(Foglio1!$C$12 <> \"\", J327 / (J327+Foglio1!$C$12), NA())","v":{"$error":"#N/A"}},{"$f":"IF(J327>Foglio1!$I$7,1,0)","v":0},6.4000000000000002E-12,{"$f":" IF(Foglio1!$C$13 <> \"\", M327 / (M327+Foglio1!$C$13), NA())","v":{"$error":"#N/A"}},{"$f":"IF(M327>Foglio1!$I$7,1,0)","v":0}]
[6.5000000000000002E-12,{"$f":" IF(Foglio1!$C$9 <> \"\", A328 / (A328+Foglio1!$C$9), NA())","v":{"$error":"#N/A"}},{"$f":"IF(A328>Foglio1!$I$7,1,0)","v":0},6.5000000000000002E-12,{"$f":" IF(Foglio1!$C$10 <> \"\", D328 / (D328+Foglio1!$C$10), NA())","v":{"$error":"#N/A"}},{"$f":"IF(D328>Foglio1!$I$7,1,0)","v":0},6.5000000000000002E-12,{"$f":" IF(Foglio1!$C$11 <> \"\", G328 / (G328+Foglio1!$C$11), NA())","v":{"$error":"#N/A"}},{"$f":"IF(G328>Foglio1!$I$7,1,0)","v":0},6.5000000000000002E-12,{"$f":" IF(Foglio1!$C$12 <> \"\", J328 / (J328+Foglio1!$C$12), NA())","v":{"$error":"#N/A"}},{"$f":"IF(J328>Foglio1!$I$7,1,0)","v":0},6.5000000000000002E-12,{"$f":" IF(Foglio1!$C$13 <> \"\", M328 / (M328+Foglio1!$C$13), NA())","v":{"$error":"#N/A"}},{"$f":"IF(M328>Foglio1!$I$7,1,0)","v":0}]
[6.6000000000000001E-12,{"$f":" IF(Foglio1!$C$9 <> \"\", A329 / (A329+Foglio1!$C$9), NA())","v":{"$error":"#N/A"}},{"$f":"IF(A329>Foglio1!$I$7,1,0)","v":0},6.6000000000000001E-12,{"$f":" IF(Foglio1!$C$10 <> \"\", D329 / (D329+Foglio1!$C$10), NA())","v":{"$error":"#N/A"}},{"$f":"IF(D329>Foglio1!$I$7,1,0)","v":0},6.6000000000000001E-12,{"$f":" IF(Foglio1!$C$11 <> \"\", G329 / (G329+Foglio1!$C$11), NA())","v":{"$error":"#N/A"}},{"$f":"IF(G329>Foglio1!$I$7,1,0)","v":0},6.6000000000000001E-12,{"$f":" IF(Foglio1!$C$12 <> \"\", J329 / (J329+Foglio1!$C$12), NA())","v":{"$error":"#N/A"}},{"$f":"IF(J329>Foglio1!$I$7,1,0)","v":0},6.6000000000000001E-12,{"$f":" IF(Foglio1!$C$13 <> \"\", M329 / (M329+Foglio1!$C$13), NA())","v":{"$error":"#N/A"}},{"$f":"IF(M329>Foglio1!$I$7,1,0)","v":0}]
[6.7000000000000001E-12,{"$f":" IF(Foglio1!$C$9 <> \"\", A330 / (A330+Foglio1!$C$9), NA())","v":{"$error":"#N/A"}},{"$f":"IF(A330>Foglio1!$I$7,1,0)","v":0},6.7000000000000001E-12,{"$f":" IF(Foglio1!$C$10 <> \"\", D330 / (D330+Foglio1!$C$10), NA())","v":{"$error":"#N/A"}},{"$f":"IF(D330>Foglio1!$I$7,1,0)","v":0},6.7000000000000001E-12,{"$f":" IF(Foglio1!$C$11 <> \"\", G330 / (G330+Foglio1!$C$11), NA())","v":{"$error":"#N/A"}},{"$f":"IF(G330>Foglio1!$I$7,1,0)","v":0},6.7000000000000001E-12,{"$f":" IF(Foglio1!$C$12 <> \"\", J330 / (J330+Foglio1!$C$12), NA())","v":{"$error":"#N/A"}},{"$f":"IF(J330>Foglio1!$I$7,1,0)","v":0},6.7000000000000001E-12,{"$f":" IF(Foglio1!$C$13 <> \"\", M330 / (M330+Foglio1!$C$13), NA())","v":{"$error":"#N/A"}},{"$f":"IF(M330>Foglio1!$I$7,1,0)","v":0}]
[6.8000000000000001E-12,{"$f":" IF(Foglio1!$C$9 <> \"\", A331 / (A331+Foglio1!$C$9), NA())","v":{"$error":"#N/A"}},{"$f":"IF(A331>Foglio1!$I$7,1,0)","v":0},6.8000000000000001E-12,{"$f":" IF(Foglio1!$C$10 <> \"\", D331 / (D331+Foglio1!$C$10), NA())","v":{"$error":"#N/A"}},{"$f":"IF(D331>Foglio1!$I$7,1,0)","v":0},6.8000000000000001E-12,{"$f":" IF(Foglio1!$C$11 <> \"\", G331 / (G331+Foglio1!$C$11), NA())","v":{"$error":"#N/A"}},{"$f":"IF(G331>Foglio1!$I$7,1,0)","v":0},6.8000000000000001E-12,{"$f":" IF(Foglio1!$C$12 <> \"\", J331 / (J331+Foglio1!$C$12), NA())","v":{"$error":"#N/A"}},{"$f":"IF(J331>Foglio1!$I$7,1,0)","v":0},6.8000000000000001E-12,{"$f":" IF(Foglio1!$C$13 <> \"\", M331 / (M331+Foglio1!$C$13), NA())","v":{"$error":"#N/A"}},{"$f":"IF(M331>Foglio1!$I$7,1,0)","v":0}]
[6.9000000000000001E-12,{"$f":" IF(Foglio1!$C$9 <> \"\", A332 / (A332+Foglio1!$C$9), NA())","v":{"$error":"#N/A"}},{"$f":"IF(A332>Foglio1!$I$7,1,0)","v":0},6.9000000000000001E-12,{"$f":" IF(Foglio1!$C$10 <> \"\", D332 / (D332+Foglio1!$C$10), NA())","v":{"$error":"#N/A"}},{"$f":"IF(D332>Foglio1!$I$7,1,0)","v":0},6.9000000000000001E-12,{"$f":" IF(Foglio1!$C$11 <> \"\", G332 / (G332+Foglio1!$C$11), NA())","v":{"$error":"#N/A"}},{"$f":"IF(G332>Foglio1!$I$7,1,0)","v":0},6.9000000000000001E-12,{"$f":" IF(Foglio1!$C$12 <> \"\", J332 / (J332+Foglio1!$C$12), NA())","v":{"$error":"#N/A"}},{"$f":"IF(J332>Foglio1!$I$7,1,0)","v":0},6.9000000000000001E-12,{"$f":" IF(Foglio1!$C$13 <> \"\", M332 / (M332+Foglio1!$C$13), NA())","v":{"$error":"#N/A"}},{"$f":"IF(M332>Foglio1!$I$7,1,0)","v":0}]
[7.0000000000000001E-12,{"$f":" IF(Foglio1!$C$9 <> \"\", A333 / (A333+Foglio1!$C$9), NA())","v":{"$error":"#N/A"}},{"$f":"IF(A333>Foglio1!$I$7,1,0)","v":0},7.0000000000000001E-12,{"$f":" IF(Foglio1!$C$10 <> \"\", D333 / (D333+Foglio1!$C$10), NA())","v":{"$error":"#N/A"}},{"$f":"IF(D333>Foglio1!$I$7,1,0)","v":0},7.0000000000000001E-12,{"$f":" IF(Foglio1!$C$11 <> \"\", G333 / (G333+Foglio1!$C$11), NA())","v":{"$error":"#N/A"}},{"$f":"IF(G333>Foglio1!$I$7,1,0)","v":0},7.0000000000000001E-12,{"$f":" IF(Foglio1!$C$12 <> \"\", J333 / (J333+Foglio1!$C$12), NA())","v":{"$error":"#N/A"}},{"$f":"IF(J333>Foglio1!$I$7,1,0)","v":0},7.0000000000000001E-12,{"$f":" IF(Foglio1!$C$13 <> \"\", M333 / (M333+Foglio1!$C$13), NA())","v":{"$error":"#N/A"}},{"$f":"IF(M333>Foglio1!$I$7,1,0)","v":0}]
[7.1E-12,{"$f":" IF(Foglio1!$C$9 <> \"\", A334 / (A334+Foglio1!$C$9), NA())","v":{"$error":"#N/A"}},{"$f":"IF(A334>Foglio1!$I$7,1,0)","v":0},7.1E-12,{"$f":" IF(Foglio1!$C$10 <> \"\", D334 / (D334+Foglio1!$C$10), NA())","v":{"$error":"#N/A"}},{"$f":"IF(D334>Foglio1!$I$7,1,0)","v":0},7.1E-12,{"$f":" IF(Foglio1!$C$11 <> \"\", G334 / (G334+Foglio1!$C$11), NA())","v":{"$error":"#N/A"}},{"$f":"IF(G334>Foglio1!$I$7,1,0)","v":0},7.1E-12,{"$f":" IF(Foglio1!$C$12 <> \"\", J334 / (J334+Foglio1!$C$12), NA())","v":{"$error":"#N/A"}},{"$f":"IF(J334>Foglio1!$I$7,1,0)","v":0},7.1E-12,{"$f":" IF(Foglio1!$C$13 <> \"\", M334 / (M334+Foglio1!$C$13), NA())","v":{"$error":"#N/A"}},{"$f":"IF(M334>Foglio1!$I$7,1,0)","v":0}]
[7.2E-12,{"$f":" IF(Foglio1!$C$9 <> \"\", A335 / (A335+Foglio1!$C$9), NA())","v":{"$error":"#N/A"}},{"$f":"IF(A335>Foglio1!$I$7,1,0)","v":0},7.2E-12,{"$f":" IF(Foglio1!$C$10 <> \"\", D335 / (D335+Foglio1!$C$10), NA())","v":{"$error":"#N/A"}},{"$f":"IF(D335>Foglio1!$I$7,1,0)","v":0},7.2E-12,{"$f":" IF(Foglio1!$C$11 <> \"\", G335 / (G335+Foglio1!$C$11), NA())","v":{"$error":"#N/A"}},{"$f":"IF(G335>Foglio1!$I$7,1,0)","v":0},7.2E-12,{"$f":" IF(Foglio1!$C$12 <> \"\", J335 / (J335+Foglio1!$C$12), NA())","v":{"$error":"#N/A"}},{"$f":"IF(J335>Foglio1!$I$7,1,0)","v":0},7.2E-12,{"$f":" IF(Foglio1!$C$13 <> \"\", M335 / (M335+Foglio1!$C$13), NA())","v":{"$error":"#N/A"}},{"$f":"IF(M335>Foglio1!$I$7,1,0)","v":0}]
[7.3E-12,{"$f":" IF(Foglio1!$C$9 <> \"\", A336 / (A336+Foglio1!$C$9), NA())","v":{"$error":"#N/A"}},{"$f":"IF(A336>Foglio1!$I$7,1,0)","v":0},7.3E-12,{"$f":" IF(Foglio1!$C$10 <> \"\", D336 / (D336+Foglio1!$C$10), NA())","v":{"$error":"#N/A"}},{"$f":"IF(D336>Foglio1!$I$7,1,0)","v":0},7.3E-12,{"$f":" IF(Foglio1!$C$11 <> \"\", G336 / (G336+Foglio1!$C$11), NA())","v":{"$error":"#N/A"}},{"$f":"IF(G336>Foglio1!$I$7,1,0)","v":0},7.3E-12,{"$f":" IF(Foglio1!$C$12 <> \"\", J336 / (J336+Foglio1!$C$12), NA())","v":{"$error":"#N/A"}},{"$f":"IF(J336>Foglio1!$I$7,1,0)","v":0},7.3E-12,{"$f":" IF(Foglio1!$C$13 <> \"\", M336 / (M336+Foglio1!$C$13), NA())","v":{"$error":"#N/A"}},{"$f":"IF(M336>Foglio1!$I$7,1,0)","v":0}]
[7.4E-12,{"$f":" IF(Foglio1!$C$9 <> \"\", A337 / (A337+Foglio1!$C$9), NA())","v":{"$error":"#N/A"}},{"$f":"IF(A337>Foglio1!$I$7,1,0)","v":0},7.4E-12,{"$f":" IF(Foglio1!$C$10 <> \"\", D337 / (D337+Foglio1!$C$10), NA())","v":{"$error":"#N/A"}},{"$f":"IF(D337>Foglio1!$I$7,1,0)","v":0},7.4E-12,{"$f":" IF(Foglio1!$C$11 <> \"\", G337 / (G337+Foglio1!$C$11), NA())","v":{"$error":"#N/A"}},{"$f":"IF(G337>Foglio1!$I$7,1,0)","v":0},7.4E-12,{"$f":" IF(Foglio1!$C$12 <> \"\", J337 / (J337+Foglio1!$C$12), NA())","v":{"$error":"#N/A"}},{"$f":"IF(J337>Foglio1!$I$7,1,0)","v":0},7.4E-12,{"$f":" IF(Foglio1!$C$13 <> \"\", M337 / (M337+Foglio1!$C$13), NA())","v":{"$error":"#N/A"}},{"$f":"IF(M337>Foglio1!$I$7,1,0)","v":0}]
[7.5E-12,{"$f":" IF(Foglio1!$C$9 <> \"\", A338 / (A338+Foglio1!$C$9), NA())","v":{"$error":"#N/A"}},{"$f":"IF(A338>Foglio1!$I$7,1,0)","v":0},7.5E-12,{"$f":" IF(Foglio1!$C$10 <> \"\", D338 / (D338+Foglio1!$C$10), NA())","v":{"$error":"#N/A"}},{"$f":"IF(D338>Foglio1!$I$7,1,0)","v":0},7.5E-12,{"$f":" IF(Foglio1!$C$11 <> \"\", G338 / (G338+Foglio1!$C$11), NA())","v":{"$error":"#N/A"}},{"$f":"IF(G338>Foglio1!$I$7,1,0)","v":0},7.5E-12,{"$f":" IF(Foglio1!$C$12 <> \"\", J338 / (J338+Foglio1!$C$12), NA())","v":{"$error":"#N/A"}},{"$f":"IF(J338>Foglio1!$I$7,1,0)","v":0},7.5E-12,{"$f":" IF(Foglio1!$C$13 <> \"\", M338 / (M338+Foglio1!$C$13), NA())","v":{"$error":"#N/A"}},{"$f":"IF(M338>Foglio1!$I$7,1,0)","v":0}]
[7.5999999999999999E-12,{"$f":" IF(Foglio1!$C$9 <> \"\", A339 / (A339+Foglio1!$C$9), NA())","v":{"$error":"#N/A"}},{"$f":"IF(A339>Foglio1!$I$7,1,0)","v":0},7.5999999999999999E-12,{"$f":" IF(Foglio1!$C$10 <> \"\", D339 / (D339+Foglio1!$C$10), NA())","v":{"$error":"#N/A"}},{"$f":"IF(D339>Foglio1!$I$7,1,0)","v":0},7.5999999999999999E-12,{"$f":" IF(Foglio1!$C$11 <> \"\", G339 / (G339+Foglio1!$C$11), NA())","v":{"$error":"#N/A"}},{"$f":"IF(G339>Foglio1!$I$7,1,0)","v":0},7.5999999999999999E-12,{"$f":" IF(Foglio1!$C$12 <> \"\", J339 / (J339+Foglio1!$C$12), NA())","v":{"$error":"#N/A"}},{"$f":"IF(J339>Foglio1!$I$7,1,0)","v":0},7.5999999999999999E-12,{"$f":" IF(Foglio1!$C$13 <> \"\", M339 / (M339+Foglio1!$C$13), NA())","v":{"$error":"#N/A"}},{"$f":"IF(M339>Foglio1!$I$7,1,0)","v":0}]
[7.6999999999999999E-12,{"$f":" IF(Foglio1!$C$9 <> \"\", A340 / (A340+Foglio1!$C$9), NA())","v":{"$error":"#N/A"}},{"$f":"IF(A340>Foglio1!$I$7,1,0)","v":0},7.6999999999999999E-12,{"$f":" IF(Foglio1!$C$10 <> \"\", D340 / (D340+Foglio1!$C$10), NA())","v":{"$error":"#N/A"}},{"$f":"IF(D340>Foglio1!$I$7,1,0)","v":0},7.6999999999999999E-12,{"$f":" IF(Foglio1!$C$11 <> \"\", G340 / (G340+Foglio1!$C$11), NA())","v":{"$error":"#N/A"}},{"$f":"IF(G340>Foglio1!$I$7,1,0)","v":0},7.6999999999999999E-12,{"$f":" IF(Foglio1!$C$12 <> \"\", J340 / (J340+Foglio1!$C$12), NA())","v":{"$error":"#N/A"}},{"$f":"IF(J340>Foglio1!$I$7,1,0)","v":0},7.6999999999999999E-12,{"$f":" IF(Foglio1!$C$13 <> \"\", M340 / (M340+Foglio1!$C$13), NA())","v":{"$error":"#N/A"}},{"$f":"IF(M340>Foglio1!$I$7,1,0)","v":0}]
[7.7999999999999999E-12,{"$f":" IF(Foglio1!$C$9 <> \"\", A341 / (A341+Foglio1!$C$9), NA())","v":{"$error":"#N/A"}},{"$f":"IF(A341>Foglio1!$I$7,1,0)","v":0},7.7999999999999999E-12,{"$f":" IF(Foglio1!$C$10 <> \"\", D341 / (D341+Foglio1!$C$10), NA())","v":{"$error":"#N/A"}},{"$f":"IF(D341>Foglio1!$I$7,1,0)","v":0},7.7999999999999999E-12,{"$f":" IF(Foglio1!$C$11 <> \"\", G341 / (G341+Foglio1!$C$11), NA())","v":{"$error":"#N/A"}},{"$f":"IF(G341>Foglio1!$I$7,1,0)","v":0},7.7999999999999999E-12,{"$f":" IF(Foglio1!$C$12 <> \"\", J341 / (J341+Foglio1!$C$12), NA())","v":{"$error":"#N/A"}},{"$f":"IF(J341>Foglio1!$I$7,1,0)","v":0},7.7999999999999999E-12,{"$f":" IF(Foglio1!$C$13 <> \"\", M341 / (M341+Foglio1!$C$13), NA())","v":{"$error":"#N/A"}},{"$f":"IF(M341>Foglio1!$I$7,1,0)","v":0}]
[7.8999999999999999E-12,{"$f":" IF(Foglio1!$C$9 <> \"\", A342 / (A342+Foglio1!$C$9), NA())","v":{"$error":"#N/A"}},{"$f":"IF(A342>Foglio1!$I$7,1,0)","v":0},7.8999999999999999E-12,{"$f":" IF(Foglio1!$C$10 <> \"\", D342 / (D342+Foglio1!$C$10), NA())","v":{"$error":"#N/A"}},{"$f":"IF(D342>Foglio1!$I$7,1,0)","v":0},7.8999999999999999E-12,{"$f":" IF(Foglio1!$C$11 <> \"\", G342 / (G342+Foglio1!$C$11), NA())","v":{"$error":"#N/A"}},{"$f":"IF(G342>Foglio1!$I$7,1,0)","v":0},7.8999999999999999E-12,{"$f":" IF(Foglio1!$C$12 <> \"\", J342 / (J342+Foglio1!$C$12), NA())","v":{"$error":"#N/A"}},{"$f":"IF(J342>Foglio1!$I$7,1,0)","v":0},7.8999999999999999E-12,{"$f":" IF(Foglio1!$C$13 <> \"\", M342 / (M342+Foglio1!$C$13), NA())","v":{"$error":"#N/A"}},{"$f":"IF(M342>Foglio1!$I$7,1,0)","v":0}]
[7.9999999999999998E-12,{"$f":" IF(Foglio1!$C$9 <> \"\", A343 / (A343+Foglio1!$C$9), NA())","v":{"$error":"#N/A"}},{"$f":"IF(A343>Foglio1!$I$7,1,0)","v":0},7.9999999999999998E-12,{"$f":" IF(Foglio1!$C$10 <> \"\", D343 / (D343+Foglio1!$C$10), NA())","v":{"$error":"#N/A"}},{"$f":"IF(D343>Foglio1!$I$7,1,0)","v":0},7.9999999999999998E-12,{"$f":" IF(Foglio1!$C$11 <> \"\", G343 / (G343+Foglio1!$C$11), NA())","v":{"$error":"#N/A"}},{"$f":"IF(G343>Foglio1!$I$7,1,0)","v":0},7.9999999999999998E-12,{"$f":" IF(Foglio1!$C$12 <> \"\", J343 / (J343+Foglio1!$C$12), NA())","v":{"$error":"#N/A"}},{"$f":"IF(J343>Foglio1!$I$7,1,0)","v":0},7.9999999999999998E-12,{"$f":" IF(Foglio1!$C$13 <> \"\", M343 / (M343+Foglio1!$C$13), NA())","v":{"$error":"#N/A"}},{"$f":"IF(M343>Foglio1!$I$7,1,0)","v":0}]
[8.0999999999999998E-12,{"$f":" IF(Foglio1!$C$9 <> \"\", A344 / (A344+Foglio1!$C$9), NA())","v":{"$error":"#N/A"}},{"$f":"IF(A344>Foglio1!$I$7,1,0)","v":0},8.0999999999999998E-12,{"$f":" IF(Foglio1!$C$10 <> \"\", D344 / (D344+Foglio1!$C$10), NA())","v":{"$error":"#N/A"}},{"$f":"IF(D344>Foglio1!$I$7,1,0)","v":0},8.0999999999999998E-12,{"$f":" IF(Foglio1!$C$11 <> \"\", G344 / (G344+Foglio1!$C$11), NA())","v":{"$error":"#N/A"}},{"$f":"IF(G344>Foglio1!$I$7,1,0)","v":0},8.0999999999999998E-12,{"$f":" IF(Foglio1!$C$12 <> \"\", J344 / (J344+Foglio1!$C$12), NA())","v":{"$error":"#N/A"}},{"$f":"IF(J344>Foglio1!$I$7,1,0)","v":0},8.0999999999999998E-12,{"$f":" IF(Foglio1!$C$13 <> \"\", M344 / (M344+Foglio1!$C$13), NA())","v":{"$error":"#N/A"}},{"$f":"IF(M344>Foglio1!$I$7,1,0)","v":0}]
[8.1999999999999998E-12,{"$f":" IF(Foglio1!$C$9 <> \"\", A345 / (A345+Foglio1!$C$9), NA())","v":{"$error":"#N/A"}},{"$f":"IF(A345>Foglio1!$I$7,1,0)","v":0},8.1999999999999998E-12,{"$f":" IF(Foglio1!$C$10 <> \"\", D345 / (D345+Foglio1!$C$10), NA())","v":{"$error":"#N/A"}},{"$f":"IF(D345>Foglio1!$I$7,1,0)","v":0},8.1999999999999998E-12,{"$f":" IF(Foglio1!$C$11 <> \"\", G345 / (G345+Foglio1!$C$11), NA())","v":{"$error":"#N/A"}},{"$f":"IF(G345>Foglio1!$I$7,1,0)","v":0},8.1999999999999998E-12,{"$f":" IF(Foglio1!$C$12 <> \"\", J345 / (J345+Foglio1!$C$12), NA())","v":{"$error":"#N/A"}},{"$f":"IF(J345>Foglio1!$I$7,1,0)","v":0},8.1999999999999998E-12,{"$f":" IF(Foglio1!$C$13 <> \"\", M345 / (M345+Foglio1!$C$13), NA())","v":{"$error":"#N/A"}},{"$f":"IF(M345>Foglio1!$I$7,1,0)","v":0}]
[8.2999999999999998E-12,{"$f":" IF(Foglio1!$C$9 <> \"\", A346 / (A346+Foglio1!$C$9), NA())","v":{"$error":"#N/A"}},{"$f":"IF(A346>Foglio1!$I$7,1,0)","v":0},8.2999999999999998E-12,{"$f":" IF(Foglio1!$C$10 <> \"\", D346 / (D346+Foglio1!$C$10), NA())","v":{"$error":"#N/A"}},{"$f":"IF(D346>Foglio1!$I$7,1,0)","v":0},8.2999999999999998E-12,{"$f":" IF(Foglio1!$C$11 <> \"\", G346 / (G346+Foglio1!$C$11), NA())","v":{"$error":"#N/A"}},{"$f":"IF(G346>Foglio1!$I$7,1,0)","v":0},8.2999999999999998E-12,{"$f":" IF(Foglio1!$C$12 <> \"\", J346 / (J346+Foglio1!$C$12), NA())","v":{"$error":"#N/A"}},{"$f":"IF(J346>Foglio1!$I$7,1,0)","v":0},8.2999999999999998E-12,{"$f":" IF(Foglio1!$C$13 <> \"\", M346 / (M346+Foglio1!$C$13), NA())","v":{"$error":"#N/A"}},{"$f":"IF(M346>Foglio1!$I$7,1,0)","v":0}]
[8.3999999999999998E-12,{"$f":" IF(Foglio1!$C$9 <> \"\", A347 / (A347+Foglio1!$C$9), NA())","v":{"$error":"#N/A"}},{"$f":"IF(A347>Foglio1!$I$7,1,0)","v":0},8.3999999999999998E-12,{"$f":" IF(Foglio1!$C$10 <> \"\", D347 / (D347+Foglio1!$C$10), NA())","v":{"$error":"#N/A"}},{"$f":"IF(D347>Foglio1!$I$7,1,0)","v":0},8.3999999999999998E-12,{"$f":" IF(Foglio1!$C$11 <> \"\", G347 / (G347+Foglio1!$C$11), NA())","v":{"$error":"#N/A"}},{"$f":"IF(G347>Foglio1!$I$7,1,0)","v":0},8.3999999999999998E-12,{"$f":" IF(Foglio1!$C$12 <> \"\", J347 / (J347+Foglio1!$C$12), NA())","v":{"$error":"#N/A"}},{"$f":"IF(J347>Foglio1!$I$7,1,0)","v":0},8.3999999999999998E-12,{"$f":" IF(Foglio1!$C$13 <> \"\", M347 / (M347+Foglio1!$C$13), NA())","v":{"$error":"#N/A"}},{"$f":"IF(M347>Foglio1!$I$7,1,0)","v":0}]
[8.4999999999999997E-12,{"$f":" IF(Foglio1!$C$9 <> \"\", A348 / (A348+Foglio1!$C$9), NA())","v":{"$error":"#N/A"}},{"$f":"IF(A348>Foglio1!$I$7,1,0)","v":0},8.4999999999999997E-12,{"$f":" IF(Foglio1!$C$10 <> \"\", D348 / (D348+Foglio1!$C$10), NA())","v":{"$error":"#N/A"}},{"$f":"IF(D348>Foglio1!$I$7,1,0)","v":0},8.4999999999999997E-12,{"$f":" IF(Foglio1!$C$11 <> \"\", G348 / (G348+Foglio1!$C$11), NA())","v":{"$error":"#N/A"}},{"$f":"IF(G348>Foglio1!$I$7,1,0)","v":0},8.4999999999999997E-12,{"$f":" IF(Foglio1!$C$12 <> \"\", J348 / (J348+Foglio1!$C$12), NA())","v":{"$error":"#N/A"}},{"$f":"IF(J348>Foglio1!$I$7,1,0)","v":0},8.4999999999999997E-12,{"$f":" IF(Foglio1!$C$13 <> \"\", M348 / (M348+Foglio1!$C$13), NA())","v":{"$error":"#N/A"}},{"$f":"IF(M348>Foglio1!$I$7,1,0)","v":0}]
[8.5999999999999997E-12,{"$f":" IF(Foglio1!$C$9 <> \"\", A349 / (A349+Foglio1!$C$9), NA())","v":{"$error":"#N/A"}},{"$f":"IF(A349>Foglio1!$I$7,1,0)","v":0},8.5999999999999997E-12,{"$f":" IF(Foglio1!$C$10 <> \"\", D349 / (D349+Foglio1!$C$10), NA())","v":{"$error":"#N/A"}},{"$f":"IF(D349>Foglio1!$I$7,1,0)","v":0},8.5999999999999997E-12,{"$f":" IF(Foglio1!$C$11 <> \"\", G349 / (G349+Foglio1!$C$11), NA())","v":{"$error":"#N/A"}},{"$f":"IF(G349>Foglio1!$I$7,1,0)","v":0},8.5999999999999997E-12,{"$f":" IF(Foglio1!$C$12 <> \"\", J349 / (J349+Foglio1!$C$12), NA())","v":{"$error":"#N/A"}},{"$f":"IF(J349>Foglio1!$I$7,1,0)","v":0},8.5999999999999997E-12,{"$f":" IF(Foglio1!$C$13 <> \"\", M349 / (M349+Foglio1!$C$13), NA())","v":{"$error":"#N/A"}},{"$f":"IF(M349>Foglio1!$I$7,1,0)","v":0}]
[8.6999999999999997E-12,{"$f":" IF(Foglio1!$C$9 <> \"\", A350 / (A350+Foglio1!$C$9), NA())","v":{"$error":"#N/A"}},{"$f":"IF(A350>Foglio1!$I$7,1,0)","v":0},8.6999999999999997E-12,{"$f":" IF(Foglio1!$C$10 <> \"\", D350 / (D350+Foglio1!$C$10), NA())","v":{"$error":"#N/A"}},{"$f":"IF(D350>Foglio1!$I$7,1,0)","v":0},8.6999999999999997E-12,{"$f":" IF(Foglio1!$C$11 <> \"\", G350 / (G350+Foglio1!$C$11), NA())","v":{"$error":"#N/A"}},{"$f":"IF(G350>Foglio1!$I$7,1,0)","v":0},8.6999999999999997E-12,{"$f":" IF(Foglio1!$C$12 <> \"\", J350 / (J350+Foglio1!$C$12), NA())","v":{"$error":"#N/A"}},{"$f":"IF(J350>Foglio1!$I$7,1,0)","v":0},8.6999999999999997E-12,{"$f":" IF(Foglio1!$C$13 <> \"\", M350 / (M350+Foglio1!$C$13), NA())","v":{"$error":"#N/A"}},{"$f":"IF(M350>Foglio1!$I$7,1,0)","v":0}]
[8.7999999999999997E-12,{"$f":" IF(Foglio1!$C$9 <> \"\", A351 / (A351+Foglio1!$C$9), NA())","v":{"$error":"#N/A"}},{"$f":"IF(A351>Foglio1!$I$7,1,0)","v":0},8.7999999999999997E-12,{"$f":" IF(Foglio1!$C$10 <> \"\", D351 / (D351+Foglio1!$C$10), NA())","v":{"$error":"#N/A"}},{"$f":"IF(D351>Foglio1!$I$7,1,0)","v":0},8.7999999999999997E-12,{"$f":" IF(Foglio1!$C$11 <> \"\", G351 / (G351+Foglio1!$C$11), NA())","v":{"$error":"#N/A"}},{"$f":"IF(G351>Foglio1!$I$7,1,0)","v":0},8.7999999999999997E-12,{"$f":" IF(Foglio1!$C$12 <> \"\", J351 / (J351+Foglio1!$C$12), NA())","v":{"$error":"#N/A"}},{"$f":"IF(J351>Foglio1!$I$7,1,0)","v":0},8.7999999999999997E-12,{"$f":" IF(Foglio1!$C$13 <> \"\", M351 / (M351+Foglio1!$C$13), NA())","v":{"$error":"#N/A"}},{"$f":"IF(M351>Foglio1!$I$7,1,0)","v":0}]
[8.8999999999999996E-12,{"$f":" IF(Foglio1!$C$9 <> \"\", A352 / (A352+Foglio1!$C$9), NA())","v":{"$error":"#N/A"}},{"$f":"IF(A352>Foglio1!$I$7,1,0)","v":0},8.8999999999999996E-12,{"$f":" IF(Foglio1!$C$10 <> \"\", D352 / (D352+Foglio1!$C$10), NA())","v":{"$error":"#N/A"}},{"$f":"IF(D352>Foglio1!$I$7,1,0)","v":0},8.8999999999999996E-12,{"$f":" IF(Foglio1!$C$11 <> \"\", G352 / (G352+Foglio1!$C$11), NA())","v":{"$error":"#N/A"}},{"$f":"IF(G352>Foglio1!$I$7,1,0)","v":0},8.8999999999999996E-12,{"$f":" IF(Foglio1!$C$12 <> \"\", J352 / (J352+Foglio1!$C$12), NA())","v":{"$error":"#N/A"}},{"$f":"IF(J352>Foglio1!$I$7,1,0)","v":0},8.8999999999999996E-12,{"$f":" IF(Foglio1!$C$13 <> \"\", M352 / (M352+Foglio1!$C$13), NA())","v":{"$error":"#N/A"}},{"$f":"IF(M352>Foglio1!$I$7,1,0)","v":0}]
[8.9999999999999996E-12,{"$f":" IF(Foglio1!$C$9 <> \"\", A353 / (A353+Foglio1!$C$9), NA())","v":{"$error":"#N/A"}},{"$f":"IF(A353>Foglio1!$I$7,1,0)","v":0},8.9999999999999996E-12,{"$f":" IF(Foglio1!$C$10 <> \"\", D353 / (D353+Foglio1!$C$10), NA())","v":{"$error":"#N/A"}},{"$f":"IF(D353>Foglio1!$I$7,1,0)","v":0},8.9999999999999996E-12,{"$f":" IF(Foglio1!$C$11 <> \"\", G353 / (G353+Foglio1!$C$11), NA())","v":{"$error":"#N/A"}},{"$f":"IF(G353>Foglio1!$I$7,1,0)","v":0},8.9999999999999996E-12,{"$f":" IF(Foglio1!$C$12 <> \"\", J353 / (J353+Foglio1!$C$12), NA())","v":{"$error":"#N/A"}},{"$f":"IF(J353>Foglio1!$I$7,1,0)","v":0},8.9999999999999996E-12,{"$f":" IF(Foglio1!$C$13 <> \"\", M353 / (M353+Foglio1!$C$13), NA())","v":{"$error":"#N/A"}},{"$f":"IF(M353>Foglio1!$I$7,1,0)","v":0}]
[9.0999999999999996E-12,{"$f":" IF(Foglio1!$C$9 <> \"\", A354 / (A354+Foglio1!$C$9), NA())","v":{"$error":"#N/A"}},{"$f":"IF(A354>Foglio1!$I$7,1,0)","v":0},9.0999999999999996E-12,{"$f":" IF(Foglio1!$C$10 <> \"\", D354 / (D354+Foglio1!$C$10), NA())","v":{"$error":"#N/A"}},{"$f":"IF(D354>Foglio1!$I$7,1,0)","v":0},9.0999999999999996E-12,{"$f":" IF(Foglio1!$C$11 <> \"\", G354 / (G354+Foglio1!$C$11), NA())","v":{"$error":"#N/A"}},{"$f":"IF(G354>Foglio1!$I$7,1,0)","v":0},9.0999999999999996E-12,{"$f":" IF(Foglio1!$C$12 <> \"\", J354 / (J354+Foglio1!$C$12), NA())","v":{"$error":"#N/A"}},{"$f":"IF(J354>Foglio1!$I$7,1,0)","v":0},9.0999999999999996E-12,{"$f":" IF(Foglio1!$C$13 <> \"\", M354 / (M354+Foglio1!$C$13), NA())","v":{"$error":"#N/A"}},{"$f":"IF(M354>Foglio1!$I$7,1,0)","v":0}]
[9.1999999999999996E-12,{"$f":" IF(Foglio1!$C$9 <> \"\", A355 / (A355+Foglio1!$C$9), NA())","v":{"$error":"#N/A"}},{"$f":"IF(A355>Foglio1!$I$7,1,0)","v":0},9.1999999999999996E-12,{"$f":" IF(Foglio1!$C$10 <> \"\", D355 / (D355+Foglio1!$C$10), NA())","v":{"$error":"#N/A"}},{"$f":"IF(D355>Foglio1!$I$7,1,0)","v":0},9.1999999999999996E-12,{"$f":" IF(Foglio1!$C$11 <> \"\", G355 / (G355+Foglio1!$C$11), NA())","v":{"$error":"#N/A"}},{"$f":"IF(G355>Foglio1!$I$7,1,0)","v":0},9.1999999999999996E-12,{"$f":" IF(Foglio1!$C$12 <> \"\", J355 / (J355+Foglio1!$C$12), NA())","v":{"$error":"#N/A"}},{"$f":"IF(J355>Foglio1!$I$7,1,0)","v":0},9.1999999999999996E-12,{"$f":" IF(Foglio1!$C$13 <> \"\", M355 / (M355+Foglio1!$C$13), NA())","v":{"$error":"#N/A"}},{"$f":"IF(M355>Foglio1!$I$7,1,0)","v":0}]
[9.2999999999999996E-12,{"$f":" IF(Foglio1!$C$9 <> \"\", A356 / (A356+Foglio1!$C$9), NA())","v":{"$error":"#N/A"}},{"$f":"IF(A356>Foglio1!$I$7,1,0)","v":0},9.2999999999999996E-12,{"$f":" IF(Foglio1!$C$10 <> \"\", D356 / (D356+Foglio1!$C$10), NA())","v":{"$error":"#N/A"}},{"$f":"IF(D356>Foglio1!$I$7,1,0)","v":0},9.2999999999999996E-12,{"$f":" IF(Foglio1!$C$11 <> \"\", G356 / (G356+Foglio1!$C$11), NA())","v":{"$error":"#N/A"}},{"$f":"IF(G356>Foglio1!$I$7,1,0)","v":0},9.2999999999999996E-12,{"$f":" IF(Foglio1!$C$12 <> \"\", J356 / (J356+Foglio1!$C$12), NA())","v":{"$error":"#N/A"}},{"$f":"IF(J356>Foglio1!$I$7,1,0)","v":0},9.2999999999999996E-12,{"$f":" IF(Foglio1!$C$13 <> \"\", M356 / (M356+Foglio1!$C$13), NA())","v":{"$error":"#N/A"}},{"$f":"IF(M356>Foglio1!$I$7,1,0)","v":0}]
[9.3999999999999995E-12,{"$f":" IF(Foglio1!$C$9 <> \"\", A357 / (A357+Foglio1!$C$9), NA())","v":{"$error":"#N/A"}},{"$f":"IF(A357>Foglio1!$I$7,1,0)","v":0},9.3999999999999995E-12,{"$f":" IF(Foglio1!$C$10 <> \"\", D357 / (D357+Foglio1!$C$10), NA())","v":{"$error":"#N/A"}},{"$f":"IF(D357>Foglio1!$I$7,1,0)","v":0},9.3999999999999995E-12,{"$f":" IF(Foglio1!$C$11 <> \"\", G357 / (G357+Foglio1!$C$11), NA())","v":{"$error":"#N/A"}},{"$f":"IF(G357>Foglio1!$I$7,1,0)","v":0},9.3999999999999995E-12,{"$f":" IF(Foglio1!$C$12 <> \"\", J357 / (J357+Foglio1!$C$12), NA())","v":{"$error":"#N/A"}},{"$f":"IF(J357>Foglio1!$I$7,1,0)","v":0},9.3999999999999995E-12,{"$f":" IF(Foglio1!$C$13 <> \"\", M357 / (M357+Foglio1!$C$13), NA())","v":{"$error":"#N/A"}},{"$f":"IF(M357>Foglio1!$I$7,1,0)","v":0}]
[9.4999999999999995E-12,{"$f":" IF(Foglio1!$C$9 <> \"\", A358 / (A358+Foglio1!$C$9), NA())","v":{"$error":"#N/A"}},{"$f":"IF(A358>Foglio1!$I$7,1,0)","v":0},9.4999999999999995E-12,{"$f":" IF(Foglio1!$C$10 <> \"\", D358 / (D358+Foglio1!$C$10), NA())","v":{"$error":"#N/A"}},{"$f":"IF(D358>Foglio1!$I$7,1,0)","v":0},9.4999999999999995E-12,{"$f":" IF(Foglio1!$C$11 <> \"\", G358 / (G358+Foglio1!$C$11), NA())","v":{"$error":"#N/A"}},{"$f":"IF(G358>Foglio1!$I$7,1,0)","v":0},9.4999999999999995E-12,{"$f":" IF(Foglio1!$C$12 <> \"\", J358 / (J358+Foglio1!$C$12), NA())","v":{"$error":"#N/A"}},{"$f":"IF(J358>Foglio1!$I$7,1,0)","v":0},9.4999999999999995E-12,{"$f":" IF(Foglio1!$C$13 <> \"\", M358 / (M358+Foglio1!$C$13), NA())","v":{"$error":"#N/A"}},{"$f":"IF(M358>Foglio1!$I$7,1,0)","v":0}]
[9.5999999999999995E-12,{"$f":" IF(Foglio1!$C$9 <> \"\", A359 / (A359+Foglio1!$C$9), NA())","v":{"$error":"#N/A"}},{"$f":"IF(A359>Foglio1!$I$7,1,0)","v":0},9.5999999999999995E-12,{"$f":" IF(Foglio1!$C$10 <> \"\", D359 / (D359+Foglio1!$C$10), NA())","v":{"$error":"#N/A"}},{"$f":"IF(D359>Foglio1!$I$7,1,0)","v":0},9.5999999999999995E-12,{"$f":" IF(Foglio1!$C$11 <> \"\", G359 / (G359+Foglio1!$C$11), NA())","v":{"$error":"#N/A"}},{"$f":"IF(G359>Foglio1!$I$7,1,0)","v":0},9.5999999999999995E-12,{"$f":" IF(Foglio1!$C$12 <> \"\", J359 / (J359+Foglio1!$C$12), NA())","v":{"$error":"#N/A"}},{"$f":"IF(J359>Foglio1!$I$7,1,0)","v":0},9.5999999999999995E-12,{"$f":" IF(Foglio1!$C$13 <> \"\", M359 / (M359+Foglio1!$C$13), NA())","v":{"$error":"#N/A"}},{"$f":"IF(M359>Foglio1!$I$7,1,0)","v":0}]
[9.6999999999999995E-12,{"$f":" IF(Foglio1!$C$9 <> \"\", A360 / (A360+Foglio1!$C$9), NA())","v":{"$error":"#N/A"}},{"$f":"IF(A360>Foglio1!$I$7,1,0)","v":0},9.6999999999999995E-12,{"$f":" IF(Foglio1!$C$10 <> \"\", D360 / (D360+Foglio1!$C$10), NA())","v":{"$error":"#N/A"}},{"$f":"IF(D360>Foglio1!$I$7,1,0)","v":0},9.6999999999999995E-12,{"$f":" IF(Foglio1!$C$11 <> \"\", G360 / (G360+Foglio1!$C$11), NA())","v":{"$error":"#N/A"}},{"$f":"IF(G360>Foglio1!$I$7,1,0)","v":0},9.6999999999999995E-12,{"$f":" IF(Foglio1!$C$12 <> \"\", J360 / (J360+Foglio1!$C$12), NA())","v":{"$error":"#N/A"}},{"$f":"IF(J360>Foglio1!$I$7,1,0)","v":0},9.6999999999999995E-12,{"$f":" IF(Foglio1!$C$13 <> \"\", M360 / (M360+Foglio1!$C$13), NA())","v":{"$error":"#N/A"}},{"$f":"IF(M360>Foglio1!$I$7,1,0)","v":0}]
[9.7999999999999994E-12,{"$f":" IF(Foglio1!$C$9 <> \"\", A361 / (A361+Foglio1!$C$9), NA())","v":{"$error":"#N/A"}},{"$f":"IF(A361>Foglio1!$I$7,1,0)","v":0},9.7999999999999994E-12,{"$f":" IF(Foglio1!$C$10 <> \"\", D361 / (D361+Foglio1!$C$10), NA())","v":{"$error":"#N/A"}},{"$f":"IF(D361>Foglio1!$I$7,1,0)","v":0},9.7999999999999994E-12,{"$f":" IF(Foglio1!$C$11 <> \"\", G361 / (G361+Foglio1!$C$11), NA())","v":{"$error":"#N/A"}},{"$f":"IF(G361>Foglio1!$I$7,1,0)","v":0},9.7999999999999994E-12,{"$f":" IF(Foglio1!$C$12 <> \"\", J361 / (J361+Foglio1!$C$12), NA())","v":{"$error":"#N/A"}},{"$f":"IF(J361>Foglio1!$I$7,1,0)","v":0},9.7999999999999994E-12,{"$f":" IF(Foglio1!$C$13 <> \"\", M361 / (M361+Foglio1!$C$13), NA())","v":{"$error":"#N/A"}},{"$f":"IF(M361>Foglio1!$I$7,1,0)","v":0}]
[9.8999999999999994E-12,{"$f":" IF(Foglio1!$C$9 <> \"\", A362 / (A362+Foglio1!$C$9), NA())","v":{"$error":"#N/A"}},{"$f":"IF(A362>Foglio1!$I$7,1,0)","v":0},9.8999999999999994E-12,{"$f":" IF(Foglio1!$C$10 <> \"\", D362 / (D362+Foglio1!$C$10), NA())","v":{"$error":"#N/A"}},{"$f":"IF(D362>Foglio1!$I$7,1,0)","v":0},9.8999999999999994E-12,{"$f":" IF(Foglio1!$C$11 <> \"\", G362 / (G362+Foglio1!$C$11), NA())","v":{"$error":"#N/A"}},{"$f":"IF(G362>Foglio1!$I$7,1,0)","v":0},9.8999999999999994E-12,{"$f":" IF(Foglio1!$C$12 <> \"\", J362 / (J362+Foglio1!$C$12), NA())","v":{"$error":"#N/A"}},{"$f":"IF(J362>Foglio1!$I$7,1,0)","v":0},9.8999999999999994E-12,{"$f":" IF(Foglio1!$C$13 <> \"\", M362 / (M362+Foglio1!$C$13), NA())","v":{"$error":"#N/A"}},{"$f":"IF(M362>Foglio1!$I$7,1,0)","v":0}]
[9.9999999999999994E-12,{"$f":" IF(Foglio1!$C$9 <> \"\", A363 / (A363+Foglio1!$C$9), NA())","v":{"$error":"#N/A"}},{"$f":"IF(A363>Foglio1!$I$7,1,0)","v":0},9.9999999999999994E-12,{"$f":" IF(Foglio1!$C$10 <> \"\", D363 / (D363+Foglio1!$C$10), NA())","v":{"$error":"#N/A"}},{"$f":"IF(D363>Foglio1!$I$7,1,0)","v":0},9.9999999999999994E-12,{"$f":" IF(Foglio1!$C$11 <> \"\", G363 / (G363+Foglio1!$C$11), NA())","v":{"$error":"#N/A"}},{"$f":"IF(G363>Foglio1!$I$7,1,0)","v":0},9.9999999999999994E-12,{"$f":" IF(Foglio1!$C$12 <> \"\", J363 / (J363+Foglio1!$C$12), NA())","v":{"$error":"#N/A"}},{"$f":"IF(J363>Foglio1!$I$7,1,0)","v":0},9.9999999999999994E-12,{"$f":" IF(Foglio1!$C$13 <> \"\", M363 / (M363+Foglio1!$C$13), NA())","v":{"$error":"#N/A"}},{"$f":"IF(M363>Foglio1!$I$7,1,0)","v":0}]
[1.1000000000000001E-11,{"$f":" IF(Foglio1!$C$9 <> \"\", A364 / (A364+Foglio1!$C$9), NA())","v":{"$error":"#N/A"}},{"$f":"IF(A364>Foglio1!$I$7,1,0)","v":0},1.1000000000000001E-11,{"$f":" IF(Foglio1!$C$10 <> \"\", D364 / (D364+Foglio1!$C$10), NA())","v":{"$error":"#N/A"}},{"$f":"IF(D364>Foglio1!$I$7,1,0)","v":0},1.1000000000000001E-11,{"$f":" IF(Foglio1!$C$11 <> \"\", G364 / (G364+Foglio1!$C$11), NA())","v":{"$error":"#N/A"}},{"$f":"IF(G364>Foglio1!$I$7,1,0)","v":0},1.1000000000000001E-11,{"$f":" IF(Foglio1!$C$12 <> \"\", J364 / (J364+Foglio1!$C$12), NA())","v":{"$error":"#N/A"}},{"$f":"IF(J364>Foglio1!$I$7,1,0)","v":0},1.1000000000000001E-11,{"$f":" IF(Foglio1!$C$13 <> \"\", M364 / (M364+Foglio1!$C$13), NA())","v":{"$error":"#N/A"}},{"$f":"IF(M364>Foglio1!$I$7,1,0)","v":0}]
[1.2000000000000001E-11,{"$f":" IF(Foglio1!$C$9 <> \"\", A365 / (A365+Foglio1!$C$9), NA())","v":{"$error":"#N/A"}},{"$f":"IF(A365>Foglio1!$I$7,1,0)","v":0},1.2000000000000001E-11,{"$f":" IF(Foglio1!$C$10 <> \"\", D365 / (D365+Foglio1!$C$10), NA())","v":{"$error":"#N/A"}},{"$f":"IF(D365>Foglio1!$I$7,1,0)","v":0},1.2000000000000001E-11,{"$f":" IF(Foglio1!$C$11 <> \"\", G365 / (G365+Foglio1!$C$11), NA())","v":{"$error":"#N/A"}},{"$f":"IF(G365>Foglio1!$I$7,1,0)","v":0},1.2000000000000001E-11,{"$f":" IF(Foglio1!$C$12 <> \"\", J365 / (J365+Foglio1!$C$12), NA())","v":{"$error":"#N/A"}},{"$f":"IF(J365>Foglio1!$I$7,1,0)","v":0},1.2000000000000001E-11,{"$f":" IF(Foglio1!$C$13 <> \"\", M365 / (M365+Foglio1!$C$13), NA())","v":{"$error":"#N/A"}},{"$f":"IF(M365>Foglio1!$I$7,1,0)","v":0}]
[1.3E-11,{"$f":" IF(Foglio1!$C$9 <> \"\", A366 / (A366+Foglio1!$C$9), NA())","v":{"$error":"#N/A"}},{"$f":"IF(A366>Foglio1!$I$7,1,0)","v":0},1.3E-11,{"$f":" IF(Foglio1!$C$10 <> \"\", D366 / (D366+Foglio1!$C$10), NA())","v":{"$error":"#N/A"}},{"$f":"IF(D366>Foglio1!$I$7,1,0)","v":0},1.3E-11,{"$f":" IF(Foglio1!$C$11 <> \"\", G366 / (G366+Foglio1!$C$11), NA())","v":{"$error":"#N/A"}},{"$f":"IF(G366>Foglio1!$I$7,1,0)","v":0},1.3E-11,{"$f":" IF(Foglio1!$C$12 <> \"\", J366 / (J366+Foglio1!$C$12), NA())","v":{"$error":"#N/A"}},{"$f":"IF(J366>Foglio1!$I$7,1,0)","v":0},1.3E-11,{"$f":" IF(Foglio1!$C$13 <> \"\", M366 / (M366+Foglio1!$C$13), NA())","v":{"$error":"#N/A"}},{"$f":"IF(M366>Foglio1!$I$7,1,0)","v":0}]
[1.4E-11,{"$f":" IF(Foglio1!$C$9 <> \"\", A367 / (A367+Foglio1!$C$9), NA())","v":{"$error":"#N/A"}},{"$f":"IF(A367>Foglio1!$I$7,1,0)","v":0},1.4E-11,{"$f":" IF(Foglio1!$C$10 <> \"\", D367 / (D367+Foglio1!$C$10), NA())","v":{"$error":"#N/A"}},{"$f":"IF(D367>Foglio1!$I$7,1,0)","v":0},1.4E-11,{"$f":" IF(Foglio1!$C$11 <> \"\", G367 / (G367+Foglio1!$C$11), NA())","v":{"$error":"#N/A"}},{"$f":"IF(G367>Foglio1!$I$7,1,0)","v":0},1.4E-11,{"$f":" IF(Foglio1!$C$12 <> \"\", J367 / (J367+Foglio1!$C$12), NA())","v":{"$error":"#N/A"}},{"$f":"IF(J367>Foglio1!$I$7,1,0)","v":0},1.4E-11,{"$f":" IF(Foglio1!$C$13 <> \"\", M367 / (M367+Foglio1!$C$13), NA())","v":{"$error":"#N/A"}},{"$f":"IF(M367>Foglio1!$I$7,1,0)","v":0}]
[1.5E-11,{"$f":" IF(Foglio1!$C$9 <> \"\", A368 / (A368+Foglio1!$C$9), NA())","v":{"$error":"#N/A"}},{"$f":"IF(A368>Foglio1!$I$7,1,0)","v":0},1.5E-11,{"$f":" IF(Foglio1!$C$10 <> \"\", D368 / (D368+Foglio1!$C$10), NA())","v":{"$error":"#N/A"}},{"$f":"IF(D368>Foglio1!$I$7,1,0)","v":0},1.5E-11,{"$f":" IF(Foglio1!$C$11 <> \"\", G368 / (G368+Foglio1!$C$11), NA())","v":{"$error":"#N/A"}},{"$f":"IF(G368>Foglio1!$I$7,1,0)","v":0},1.5E-11,{"$f":" IF(Foglio1!$C$12 <> \"\", J368 / (J368+Foglio1!$C$12), NA())","v":{"$error":"#N/A"}},{"$f":"IF(J368>Foglio1!$I$7,1,0)","v":0},1.5E-11,{"$f":" IF(Foglio1!$C$13 <> \"\", M368 / (M368+Foglio1!$C$13), NA())","v":{"$error":"#N/A"}},{"$f":"IF(M368>Foglio1!$I$7,1,0)","v":0}]
[1.6E-11,{"$f":" IF(Foglio1!$C$9 <> \"\", A369 / (A369+Foglio1!$C$9), NA())","v":{"$error":"#N/A"}},{"$f":"IF(A369>Foglio1!$I$7,1,0)","v":0},1.6E-11,{"$f":" IF(Foglio1!$C$10 <> \"\", D369 / (D369+Foglio1!$C$10), NA())","v":{"$error":"#N/A"}},{"$f":"IF(D369>Foglio1!$I$7,1,0)","v":0},1.6E-11,{"$f":" IF(Foglio1!$C$11 <> \"\", G369 / (G369+Foglio1!$C$11), NA())","v":{"$error":"#N/A"}},{"$f":"IF(G369>Foglio1!$I$7,1,0)","v":0},1.6E-11,{"$f":" IF(Foglio1!$C$12 <> \"\", J369 / (J369+Foglio1!$C$12), NA())","v":{"$error":"#N/A"}},{"$f":"IF(J369>Foglio1!$I$7,1,0)","v":0},1.6E-11,{"$f":" IF(Foglio1!$C$13 <> \"\", M369 / (M369+Foglio1!$C$13), NA())","v":{"$error":"#N/A"}},{"$f":"IF(M369>Foglio1!$I$7,1,0)","v":0}]
[1.6999999999999999E-11,{"$f":" IF(Foglio1!$C$9 <> \"\", A370 / (A370+Foglio1!$C$9), NA())","v":{"$error":"#N/A"}},{"$f":"IF(A370>Foglio1!$I$7,1,0)","v":0},1.6999999999999999E-11,{"$f":" IF(Foglio1!$C$10 <> \"\", D370 / (D370+Foglio1!$C$10), NA())","v":{"$error":"#N/A"}},{"$f":"IF(D370>Foglio1!$I$7,1,0)","v":0},1.6999999999999999E-11,{"$f":" IF(Foglio1!$C$11 <> \"\", G370 / (G370+Foglio1!$C$11), NA())","v":{"$error":"#N/A"}},{"$f":"IF(G370>Foglio1!$I$7,1,0)","v":0},1.6999999999999999E-11,{"$f":" IF(Foglio1!$C$12 <> \"\", J370 / (J370+Foglio1!$C$12), NA())","v":{"$error":"#N/A"}},{"$f":"IF(J370>Foglio1!$I$7,1,0)","v":0},1.6999999999999999E-11,{"$f":" IF(Foglio1!$C$13 <> \"\", M370 / (M370+Foglio1!$C$13), NA())","v":{"$error":"#N/A"}},{"$f":"IF(M370>Foglio1!$I$7,1,0)","v":0}]
[1.7999999999999999E-11,{"$f":" IF(Foglio1!$C$9 <> \"\", A371 / (A371+Foglio1!$C$9), NA())","v":{"$error":"#N/A"}},{"$f":"IF(A371>Foglio1!$I$7,1,0)","v":0},1.7999999999999999E-11,{"$f":" IF(Foglio1!$C$10 <> \"\", D371 / (D371+Foglio1!$C$10), NA())","v":{"$error":"#N/A"}},{"$f":"IF(D371>Foglio1!$I$7,1,0)","v":0},1.7999999999999999E-11,{"$f":" IF(Foglio1!$C$11 <> \"\", G371 / (G371+Foglio1!$C$11), NA())","v":{"$error":"#N/A"}},{"$f":"IF(G371>Foglio1!$I$7,1,0)","v":0},1.7999999999999999E-11,{"$f":" IF(Foglio1!$C$12 <> \"\", J371 / (J371+Foglio1!$C$12), NA())","v":{"$error":"#N/A"}},{"$f":"IF(J371>Foglio1!$I$7,1,0)","v":0},1.7999999999999999E-11,{"$f":" IF(Foglio1!$C$13 <> \"\", M371 / (M371+Foglio1!$C$13), NA())","v":{"$error":"#N/A"}},{"$f":"IF(M371>Foglio1!$I$7,1,0)","v":0}]
[1.8999999999999999E-11,{"$f":" IF(Foglio1!$C$9 <> \"\", A372 / (A372+Foglio1!$C$9), NA())","v":{"$error":"#N/A"}},{"$f":"IF(A372>Foglio1!$I$7,1,0)","v":0},1.8999999999999999E-11,{"$f":" IF(Foglio1!$C$10 <> \"\", D372 / (D372+Foglio1!$C$10), NA())","v":{"$error":"#N/A"}},{"$f":"IF(D372>Foglio1!$I$7,1,0)","v":0},1.8999999999999999E-11,{"$f":" IF(Foglio1!$C$11 <> \"\", G372 / (G372+Foglio1!$C$11), NA())","v":{"$error":"#N/A"}},{"$f":"IF(G372>Foglio1!$I$7,1,0)","v":0},1.8999999999999999E-11,{"$f":" IF(Foglio1!$C$12 <> \"\", J372 / (J372+Foglio1!$C$12), NA())","v":{"$error":"#N/A"}},{"$f":"IF(J372>Foglio1!$I$7,1,0)","v":0},1.8999999999999999E-11,{"$f":" IF(Foglio1!$C$13 <> \"\", M372 / (M372+Foglio1!$C$13), NA())","v":{"$error":"#N/A"}},{"$f":"IF(M372>Foglio1!$I$7,1,0)","v":0}]
[1.9999999999999999E-11,{"$f":" IF(Foglio1!$C$9 <> \"\", A373 / (A373+Foglio1!$C$9), NA())","v":{"$error":"#N/A"}},{"$f":"IF(A373>Foglio1!$I$7,1,0)","v":0},1.9999999999999999E-11,{"$f":" IF(Foglio1!$C$10 <> \"\", D373 / (D373+Foglio1!$C$10), NA())","v":{"$error":"#N/A"}},{"$f":"IF(D373>Foglio1!$I$7,1,0)","v":0},1.9999999999999999E-11,{"$f":" IF(Foglio1!$C$11 <> \"\", G373 / (G373+Foglio1!$C$11), NA())","v":{"$error":"#N/A"}},{"$f":"IF(G373>Foglio1!$I$7,1,0)","v":0},1.9999999999999999E-11,{"$f":" IF(Foglio1!$C$12 <> \"\", J373 / (J373+Foglio1!$C$12), NA())","v":{"$error":"#N/A"}},{"$f":"IF(J373>Foglio1!$I$7,1,0)","v":0},1.9999999999999999E-11,{"$f":" IF(Foglio1!$C$13 <> \"\", M373 / (M373+Foglio1!$C$13), NA())","v":{"$error":"#N/A"}},{"$f":"IF(M373>Foglio1!$I$7,1,0)","v":0}]
[2.0999999999999999E-11,{"$f":" IF(Foglio1!$C$9 <> \"\", A374 / (A374+Foglio1!$C$9), NA())","v":{"$error":"#N/A"}},{"$f":"IF(A374>Foglio1!$I$7,1,0)","v":0},2.0999999999999999E-11,{"$f":" IF(Foglio1!$C$10 <> \"\", D374 / (D374+Foglio1!$C$10), NA())","v":{"$error":"#N/A"}},{"$f":"IF(D374>Foglio1!$I$7,1,0)","v":0},2.0999999999999999E-11,{"$f":" IF(Foglio1!$C$11 <> \"\", G374 / (G374+Foglio1!$C$11), NA())","v":{"$error":"#N/A"}},{"$f":"IF(G374>Foglio1!$I$7,1,0)","v":0},2.0999999999999999E-11,{"$f":" IF(Foglio1!$C$12 <> \"\", J374 / (J374+Foglio1!$C$12), NA())","v":{"$error":"#N/A"}},{"$f":"IF(J374>Foglio1!$I$7,1,0)","v":0},2.0999999999999999E-11,{"$f":" IF(Foglio1!$C$13 <> \"\", M374 / (M374+Foglio1!$C$13), NA())","v":{"$error":"#N/A"}},{"$f":"IF(M374>Foglio1!$I$7,1,0)","v":0}]
[2.2000000000000002E-11,{"$f":" IF(Foglio1!$C$9 <> \"\", A375 / (A375+Foglio1!$C$9), NA())","v":{"$error":"#N/A"}},{"$f":"IF(A375>Foglio1!$I$7,1,0)","v":0},2.2000000000000002E-11,{"$f":" IF(Foglio1!$C$10 <> \"\", D375 / (D375+Foglio1!$C$10), NA())","v":{"$error":"#N/A"}},{"$f":"IF(D375>Foglio1!$I$7,1,0)","v":0},2.2000000000000002E-11,{"$f":" IF(Foglio1!$C$11 <> \"\", G375 / (G375+Foglio1!$C$11), NA())","v":{"$error":"#N/A"}},{"$f":"IF(G375>Foglio1!$I$7,1,0)","v":0},2.2000000000000002E-11,{"$f":" IF(Foglio1!$C$12 <> \"\", J375 / (J375+Foglio1!$C$12), NA())","v":{"$error":"#N/A"}},{"$f":"IF(J375>Foglio1!$I$7,1,0)","v":0},2.2000000000000002E-11,{"$f":" IF(Foglio1!$C$13 <> \"\", M375 / (M375+Foglio1!$C$13), NA())","v":{"$error":"#N/A"}},{"$f":"IF(M375>Foglio1!$I$7,1,0)","v":0}]
[2.3000000000000001E-11,{"$f":" IF(Foglio1!$C$9 <> \"\", A376 / (A376+Foglio1!$C$9), NA())","v":{"$error":"#N/A"}},{"$f":"IF(A376>Foglio1!$I$7,1,0)","v":0},2.3000000000000001E-11,{"$f":" IF(Foglio1!$C$10 <> \"\", D376 / (D376+Foglio1!$C$10), NA())","v":{"$error":"#N/A"}},{"$f":"IF(D376>Foglio1!$I$7,1,0)","v":0},2.3000000000000001E-11,{"$f":" IF(Foglio1!$C$11 <> \"\", G376 / (G376+Foglio1!$C$11), NA())","v":{"$error":"#N/A"}},{"$f":"IF(G376>Foglio1!$I$7,1,0)","v":0},2.3000000000000001E-11,{"$f":" IF(Foglio1!$C$12 <> \"\", J376 / (J376+Foglio1!$C$12), NA())","v":{"$error":"#N/A"}},{"$f":"IF(J376>Foglio1!$I$7,1,0)","v":0},2.3000000000000001E-11,{"$f":" IF(Foglio1!$C$13 <> \"\", M376 / (M376+Foglio1!$C$13), NA())","v":{"$error":"#N/A"}},{"$f":"IF(M376>Foglio1!$I$7,1,0)","v":0}]
[2.4000000000000001E-11,{"$f":" IF(Foglio1!$C$9 <> \"\", A377 / (A377+Foglio1!$C$9), NA())","v":{"$error":"#N/A"}},{"$f":"IF(A377>Foglio1!$I$7,1,0)","v":0},2.4000000000000001E-11,{"$f":" IF(Foglio1!$C$10 <> \"\", D377 / (D377+Foglio1!$C$10), NA())","v":{"$error":"#N/A"}},{"$f":"IF(D377>Foglio1!$I$7,1,0)","v":0},2.4000000000000001E-11,{"$f":" IF(Foglio1!$C$11 <> \"\", G377 / (G377+Foglio1!$C$11), NA())","v":{"$error":"#N/A"}},{"$f":"IF(G377>Foglio1!$I$7,1,0)","v":0},2.4000000000000001E-11,{"$f":" IF(Foglio1!$C$12 <> \"\", J377 / (J377+Foglio1!$C$12), NA())","v":{"$error":"#N/A"}},{"$f":"IF(J377>Foglio1!$I$7,1,0)","v":0},2.4000000000000001E-11,{"$f":" IF(Foglio1!$C$13 <> \"\", M377 / (M377+Foglio1!$C$13), NA())","v":{"$error":"#N/A"}},{"$f":"IF(M377>Foglio1!$I$7,1,0)","v":0}]
[2.5000000000000001E-11,{"$f":" IF(Foglio1!$C$9 <> \"\", A378 / (A378+Foglio1!$C$9), NA())","v":{"$error":"#N/A"}},{"$f":"IF(A378>Foglio1!$I$7,1,0)","v":0},2.5000000000000001E-11,{"$f":" IF(Foglio1!$C$10 <> \"\", D378 / (D378+Foglio1!$C$10), NA())","v":{"$error":"#N/A"}},{"$f":"IF(D378>Foglio1!$I$7,1,0)","v":0},2.5000000000000001E-11,{"$f":" IF(Foglio1!$C$11 <> \"\", G378 / (G378+Foglio1!$C$11), NA())","v":{"$error":"#N/A"}},{"$f":"IF(G378>Foglio1!$I$7,1,0)","v":0},2.5000000000000001E-11,{"$f":" IF(Foglio1!$C$12 <> \"\", J378 / (J378+Foglio1!$C$12), NA())","v":{"$error":"#N/A"}},{"$f":"IF(J378>Foglio1!$I$7,1,0)","v":0},2.5000000000000001E-11,{"$f":" IF(Foglio1!$C$13 <> \"\", M378 / (M378+Foglio1!$C$13), NA())","v":{"$error":"#N/A"}},{"$f":"IF(M378>Foglio1!$I$7,1,0)","v":0}]
[2.6000000000000001E-11,{"$f":" IF(Foglio1!$C$9 <> \"\", A379 / (A379+Foglio1!$C$9), NA())","v":{"$error":"#N/A"}},{"$f":"IF(A379>Foglio1!$I$7,1,0)","v":0},2.6000000000000001E-11,{"$f":" IF(Foglio1!$C$10 <> \"\", D379 / (D379+Foglio1!$C$10), NA())","v":{"$error":"#N/A"}},{"$f":"IF(D379>Foglio1!$I$7,1,0)","v":0},2.6000000000000001E-11,{"$f":" IF(Foglio1!$C$11 <> \"\", G379 / (G379+Foglio1!$C$11), NA())","v":{"$error":"#N/A"}},{"$f":"IF(G379>Foglio1!$I$7,1,0)","v":0},2.6000000000000001E-11,{"$f":" IF(Foglio1!$C$12 <> \"\", J379 / (J379+Foglio1!$C$12), NA())","v":{"$error":"#N/A"}},{"$f":"IF(J379>Foglio1!$I$7,1,0)","v":0},2.6000000000000001E-11,{"$f":" IF(Foglio1!$C$13 <> \"\", M379 / (M379+Foglio1!$C$13), NA())","v":{"$error":"#N/A"}},{"$f":"IF(M379>Foglio1!$I$7,1,0)","v":0}]
[2.7E-11,{"$f":" IF(Foglio1!$C$9 <> \"\", A380 / (A380+Foglio1!$C$9), NA())","v":{"$error":"#N/A"}},{"$f":"IF(A380>Foglio1!$I$7,1,0)","v":0},2.7E-11,{"$f":" IF(Foglio1!$C$10 <> \"\", D380 / (D380+Foglio1!$C$10), NA())","v":{"$error":"#N/A"}},{"$f":"IF(D380>Foglio1!$I$7,1,0)","v":0},2.7E-11,{"$f":" IF(Foglio1!$C$11 <> \"\", G380 / (G380+Foglio1!$C$11), NA())","v":{"$error":"#N/A"}},{"$f":"IF(G380>Foglio1!$I$7,1,0)","v":0},2.7E-11,{"$f":" IF(Foglio1!$C$12 <> \"\", J380 / (J380+Foglio1!$C$12), NA())","v":{"$error":"#N/A"}},{"$f":"IF(J380>Foglio1!$I$7,1,0)","v":0},2.7E-11,{"$f":" IF(Foglio1!$C$13 <> \"\", M380 / (M380+Foglio1!$C$13), NA())","v":{"$error":"#N/A"}},{"$f":"IF(M380>Foglio1!$I$7,1,0)","v":0}]
[2.8E-11,{"$f":" IF(Foglio1!$C$9 <> \"\", A381 / (A381+Foglio1!$C$9), NA())","v":{"$error":"#N/A"}},{"$f":"IF(A381>Foglio1!$I$7,1,0)","v":0},2.8E-11,{"$f":" IF(Foglio1!$C$10 <> \"\", D381 / (D381+Foglio1!$C$10), NA())","v":{"$error":"#N/A"}},{"$f":"IF(D381>Foglio1!$I$7,1,0)","v":0},2.8E-11,{"$f":" IF(Foglio1!$C$11 <> \"\", G381 / (G381+Foglio1!$C$11), NA())","v":{"$error":"#N/A"}},{"$f":"IF(G381>Foglio1!$I$7,1,0)","v":0},2.8E-11,{"$f":" IF(Foglio1!$C$12 <> \"\", J381 / (J381+Foglio1!$C$12), NA())","v":{"$error":"#N/A"}},{"$f":"IF(J381>Foglio1!$I$7,1,0)","v":0},2.8E-11,{"$f":" IF(Foglio1!$C$13 <> \"\", M381 / (M381+Foglio1!$C$13), NA())","v":{"$error":"#N/A"}},{"$f":"IF(M381>Foglio1!$I$7,1,0)","v":0}]
[2.9E-11,{"$f":" IF(Foglio1!$C$9 <> \"\", A382 / (A382+Foglio1!$C$9), NA())","v":{"$error":"#N/A"}},{"$f":"IF(A382>Foglio1!$I$7,1,0)","v":0},2.9E-11,{"$f":" IF(Foglio1!$C$10 <> \"\", D382 / (D382+Foglio1!$C$10), NA())","v":{"$error":"#N/A"}},{"$f":"IF(D382>Foglio1!$I$7,1,0)","v":0},2.9E-11,{"$f":" IF(Foglio1!$C$11 <> \"\", G382 / (G382+Foglio1!$C$11), NA())","v":{"$error":"#N/A"}},{"$f":"IF(G382>Foglio1!$I$7,1,0)","v":0},2.9E-11,{"$f":" IF(Foglio1!$C$12 <> \"\", J382 / (J382+Foglio1!$C$12), NA())","v":{"$error":"#N/A"}},{"$f":"IF(J382>Foglio1!$I$7,1,0)","v":0},2.9E-11,{"$f":" IF(Foglio1!$C$13 <> \"\", M382 / (M382+Foglio1!$C$13), NA())","v":{"$error":"#N/A"}},{"$f":"IF(M382>Foglio1!$I$7,1,0)","v":0}]
[3E-11,{"$f":" IF(Foglio1!$C$9 <> \"\", A383 / (A383+Foglio1!$C$9), NA())","v":{"$error":"#N/A"}},{"$f":"IF(A383>Foglio1!$I$7,1,0)","v":0},3E-11,{"$f":" IF(Foglio1!$C$10 <> \"\", D383 / (D383+Foglio1!$C$10), NA())","v":{"$error":"#N/A"}},{"$f":"IF(D383>Foglio1!$I$7,1,0)","v":0},3E-11,{"$f":" IF(Foglio1!$C$11 <> \"\", G383 / (G383+Foglio1!$C$11), NA())","v":{"$error":"#N/A"}},{"$f":"IF(G383>Foglio1!$I$7,1,0)","v":0},3E-11,{"$f":" IF(Foglio1!$C$12 <> \"\", J383 / (J383+Foglio1!$C$12), NA())","v":{"$error":"#N/A"}},{"$f":"IF(J383>Foglio1!$I$7,1,0)","v":0},3E-11,{"$f":" IF(Foglio1!$C$13 <> \"\", M383 / (M383+Foglio1!$C$13), NA())","v":{"$error":"#N/A"}},{"$f":"IF(M383>Foglio1!$I$7,1,0)","v":0}]
[3.1000000000000003E-11,{"$f":" IF(Foglio1!$C$9 <> \"\", A384 / (A384+Foglio1!$C$9), NA())","v":{"$error":"#N/A"}},{"$f":"IF(A384>Foglio1!$I$7,1,0)","v":0},3.1000000000000003E-11,{"$f":" IF(Foglio1!$C$10 <> \"\", D384 / (D384+Foglio1!$C$10), NA())","v":{"$error":"#N/A"}},{"$f":"IF(D384>Foglio1!$I$7,1,0)","v":0},3.1000000000000003E-11,{"$f":" IF(Foglio1!$C$11 <> \"\", G384 / (G384+Foglio1!$C$11), NA())","v":{"$error":"#N/A"}},{"$f":"IF(G384>Foglio1!$I$7,1,0)","v":0},3.1000000000000003E-11,{"$f":" IF(Foglio1!$C$12 <> \"\", J384 / (J384+Foglio1!$C$12), NA())","v":{"$error":"#N/A"}},{"$f":"IF(J384>Foglio1!$I$7,1,0)","v":0},3.1000000000000003E-11,{"$f":" IF(Foglio1!$C$13 <> \"\", M384 / (M384+Foglio1!$C$13), NA())","v":{"$error":"#N/A"}},{"$f":"IF(M384>Foglio1!$I$7,1,0)","v":0}]
[3.1999999999999999E-11,{"$f":" IF(Foglio1!$C$9 <> \"\", A385 / (A385+Foglio1!$C$9), NA())","v":{"$error":"#N/A"}},{"$f":"IF(A385>Foglio1!$I$7,1,0)","v":0},3.1999999999999999E-11,{"$f":" IF(Foglio1!$C$10 <> \"\", D385 / (D385+Foglio1!$C$10), NA())","v":{"$error":"#N/A"}},{"$f":"IF(D385>Foglio1!$I$7,1,0)","v":0},3.1999999999999999E-11,{"$f":" IF(Foglio1!$C$11 <> \"\", G385 / (G385+Foglio1!$C$11), NA())","v":{"$error":"#N/A"}},{"$f":"IF(G385>Foglio1!$I$7,1,0)","v":0},3.1999999999999999E-11,{"$f":" IF(Foglio1!$C$12 <> \"\", J385 / (J385+Foglio1!$C$12), NA())","v":{"$error":"#N/A"}},{"$f":"IF(J385>Foglio1!$I$7,1,0)","v":0},3.1999999999999999E-11,{"$f":" IF(Foglio1!$C$13 <> \"\", M385 / (M385+Foglio1!$C$13), NA())","v":{"$error":"#N/A"}},{"$f":"IF(M385>Foglio1!$I$7,1,0)","v":0}]
[3.3000000000000002E-11,{"$f":" IF(Foglio1!$C$9 <> \"\", A386 / (A386+Foglio1!$C$9), NA())","v":{"$error":"#N/A"}},{"$f":"IF(A386>Foglio1!$I$7,1,0)","v":0},3.3000000000000002E-11,{"$f":" IF(Foglio1!$C$10 <> \"\", D386 / (D386+Foglio1!$C$10), NA())","v":{"$error":"#N/A"}},{"$f":"IF(D386>Foglio1!$I$7,1,0)","v":0},3.3000000000000002E-11,{"$f":" IF(Foglio1!$C$11 <> \"\", G386 / (G386+Foglio1!$C$11), NA())","v":{"$error":"#N/A"}},{"$f":"IF(G386>Foglio1!$I$7,1,0)","v":0},3.3000000000000002E-11,{"$f":" IF(Foglio1!$C$12 <> \"\", J386 / (J386+Foglio1!$C$12), NA())","v":{"$error":"#N/A"}},{"$f":"IF(J386>Foglio1!$I$7,1,0)","v":0},3.3000000000000002E-11,{"$f":" IF(Foglio1!$C$13 <> \"\", M386 / (M386+Foglio1!$C$13), NA())","v":{"$error":"#N/A"}},{"$f":"IF(M386>Foglio1!$I$7,1,0)","v":0}]
[3.3999999999999999E-11,{"$f":" IF(Foglio1!$C$9 <> \"\", A387 / (A387+Foglio1!$C$9), NA())","v":{"$error":"#N/A"}},{"$f":"IF(A387>Foglio1!$I$7,1,0)","v":0},3.3999999999999999E-11,{"$f":" IF(Foglio1!$C$10 <> \"\", D387 / (D387+Foglio1!$C$10), NA())","v":{"$error":"#N/A"}},{"$f":"IF(D387>Foglio1!$I$7,1,0)","v":0},3.3999999999999999E-11,{"$f":" IF(Foglio1!$C$11 <> \"\", G387 / (G387+Foglio1!$C$11), NA())","v":{"$error":"#N/A"}},{"$f":"IF(G387>Foglio1!$I$7,1,0)","v":0},3.3999999999999999E-11,{"$f":" IF(Foglio1!$C$12 <> \"\", J387 / (J387+Foglio1!$C$12), NA())","v":{"$error":"#N/A"}},{"$f":"IF(J387>Foglio1!$I$7,1,0)","v":0},3.3999999999999999E-11,{"$f":" IF(Foglio1!$C$13 <> \"\", M387 / (M387+Foglio1!$C$13), NA())","v":{"$error":"#N/A"}},{"$f":"IF(M387>Foglio1!$I$7,1,0)","v":0}]
[3.5000000000000002E-11,{"$f":" IF(Foglio1!$C$9 <> \"\", A388 / (A388+Foglio1!$C$9), NA())","v":{"$error":"#N/A"}},{"$f":"IF(A388>Foglio1!$I$7,1,0)","v":0},3.5000000000000002E-11,{"$f":" IF(Foglio1!$C$10 <> \"\", D388 / (D388+Foglio1!$C$10), NA())","v":{"$error":"#N/A"}},{"$f":"IF(D388>Foglio1!$I$7,1,0)","v":0},3.5000000000000002E-11,{"$f":" IF(Foglio1!$C$11 <> \"\", G388 / (G388+Foglio1!$C$11), NA())","v":{"$error":"#N/A"}},{"$f":"IF(G388>Foglio1!$I$7,1,0)","v":0},3.5000000000000002E-11,{"$f":" IF(Foglio1!$C$12 <> \"\", J388 / (J388+Foglio1!$C$12), NA())","v":{"$error":"#N/A"}},{"$f":"IF(J388>Foglio1!$I$7,1,0)","v":0},3.5000000000000002E-11,{"$f":" IF(Foglio1!$C$13 <> \"\", M388 / (M388+Foglio1!$C$13), NA())","v":{"$error":"#N/A"}},{"$f":"IF(M388>Foglio1!$I$7,1,0)","v":0}]
[3.5999999999999998E-11,{"$f":" IF(Foglio1!$C$9 <> \"\", A389 / (A389+Foglio1!$C$9), NA())","v":{"$error":"#N/A"}},{"$f":"IF(A389>Foglio1!$I$7,1,0)","v":0},3.5999999999999998E-11,{"$f":" IF(Foglio1!$C$10 <> \"\", D389 / (D389+Foglio1!$C$10), NA())","v":{"$error":"#N/A"}},{"$f":"IF(D389>Foglio1!$I$7,1,0)","v":0},3.5999999999999998E-11,{"$f":" IF(Foglio1!$C$11 <> \"\", G389 / (G389+Foglio1!$C$11), NA())","v":{"$error":"#N/A"}},{"$f":"IF(G389>Foglio1!$I$7,1,0)","v":0},3.5999999999999998E-11,{"$f":" IF(Foglio1!$C$12 <> \"\", J389 / (J389+Foglio1!$C$12), NA())","v":{"$error":"#N/A"}},{"$f":"IF(J389>Foglio1!$I$7,1,0)","v":0},3.5999999999999998E-11,{"$f":" IF(Foglio1!$C$13 <> \"\", M389 / (M389+Foglio1!$C$13), NA())","v":{"$error":"#N/A"}},{"$f":"IF(M389>Foglio1!$I$7,1,0)","v":0}]
[3.7000000000000001E-11,{"$f":" IF(Foglio1!$C$9 <> \"\", A390 / (A390+Foglio1!$C$9), NA())","v":{"$error":"#N/A"}},{"$f":"IF(A390>Foglio1!$I$7,1,0)","v":0},3.7000000000000001E-11,{"$f":" IF(Foglio1!$C$10 <> \"\", D390 / (D390+Foglio1!$C$10), NA())","v":{"$error":"#N/A"}},{"$f":"IF(D390>Foglio1!$I$7,1,0)","v":0},3.7000000000000001E-11,{"$f":" IF(Foglio1!$C$11 <> \"\", G390 / (G390+Foglio1!$C$11), NA())","v":{"$error":"#N/A"}},{"$f":"IF(G390>Foglio1!$I$7,1,0)","v":0},3.7000000000000001E-11,{"$f":" IF(Foglio1!$C$12 <> \"\", J390 / (J390+Foglio1!$C$12), NA())","v":{"$error":"#N/A"}},{"$f":"IF(J390>Foglio1!$I$7,1,0)","v":0},3.7000000000000001E-11,{"$f":" IF(Foglio1!$C$13 <> \"\", M390 / (M390+Foglio1!$C$13), NA())","v":{"$error":"#N/A"}},{"$f":"IF(M390>Foglio1!$I$7,1,0)","v":0}]
[3.7999999999999998E-11,{"$f":" IF(Foglio1!$C$9 <> \"\", A391 / (A391+Foglio1!$C$9), NA())","v":{"$error":"#N/A"}},{"$f":"IF(A391>Foglio1!$I$7,1,0)","v":0},3.7999999999999998E-11,{"$f":" IF(Foglio1!$C$10 <> \"\", D391 / (D391+Foglio1!$C$10), NA())","v":{"$error":"#N/A"}},{"$f":"IF(D391>Foglio1!$I$7,1,0)","v":0},3.7999999999999998E-11,{"$f":" IF(Foglio1!$C$11 <> \"\", G391 / (G391+Foglio1!$C$11), NA())","v":{"$error":"#N/A"}},{"$f":"IF(G391>Foglio1!$I$7,1,0)","v":0},3.7999999999999998E-11,{"$f":" IF(Foglio1!$C$12 <> \"\", J391 / (J391+Foglio1!$C$12), NA())","v":{"$error":"#N/A"}},{"$f":"IF(J391>Foglio1!$I$7,1,0)","v":0},3.7999999999999998E-11,{"$f":" IF(Foglio1!$C$13 <> \"\", M391 / (M391+Foglio1!$C$13), NA())","v":{"$error":"#N/A"}},{"$f":"IF(M391>Foglio1!$I$7,1,0)","v":0}]
[3.9000000000000001E-11,{"$f":" IF(Foglio1!$C$9 <> \"\", A392 / (A392+Foglio1!$C$9), NA())","v":{"$error":"#N/A"}},{"$f":"IF(A392>Foglio1!$I$7,1,0)","v":0},3.9000000000000001E-11,{"$f":" IF(Foglio1!$C$10 <> \"\", D392 / (D392+Foglio1!$C$10), NA())","v":{"$error":"#N/A"}},{"$f":"IF(D392>Foglio1!$I$7,1,0)","v":0},3.9000000000000001E-11,{"$f":" IF(Foglio1!$C$11 <> \"\", G392 / (G392+Foglio1!$C$11), NA())","v":{"$error":"#N/A"}},{"$f":"IF(G392>Foglio1!$I$7,1,0)","v":0},3.9000000000000001E-11,{"$f":" IF(Foglio1!$C$12 <> \"\", J392 / (J392+Foglio1!$C$12), NA())","v":{"$error":"#N/A"}},{"$f":"IF(J392>Foglio1!$I$7,1,0)","v":0},3.9000000000000001E-11,{"$f":" IF(Foglio1!$C$13 <> \"\", M392 / (M392+Foglio1!$C$13), NA())","v":{"$error":"#N/A"}},{"$f":"IF(M392>Foglio1!$I$7,1,0)","v":0}]
[3.9999999999999998E-11,{"$f":" IF(Foglio1!$C$9 <> \"\", A393 / (A393+Foglio1!$C$9), NA())","v":{"$error":"#N/A"}},{"$f":"IF(A393>Foglio1!$I$7,1,0)","v":0},3.9999999999999998E-11,{"$f":" IF(Foglio1!$C$10 <> \"\", D393 / (D393+Foglio1!$C$10), NA())","v":{"$error":"#N/A"}},{"$f":"IF(D393>Foglio1!$I$7,1,0)","v":0},3.9999999999999998E-11,{"$f":" IF(Foglio1!$C$11 <> \"\", G393 / (G393+Foglio1!$C$11), NA())","v":{"$error":"#N/A"}},{"$f":"IF(G393>Foglio1!$I$7,1,0)","v":0},3.9999999999999998E-11,{"$f":" IF(Foglio1!$C$12 <> \"\", J393 / (J393+Foglio1!$C$12), NA())","v":{"$error":"#N/A"}},{"$f":"IF(J393>Foglio1!$I$7,1,0)","v":0},3.9999999999999998E-11,{"$f":" IF(Foglio1!$C$13 <> \"\", M393 / (M393+Foglio1!$C$13), NA())","v":{"$error":"#N/A"}},{"$f":"IF(M393>Foglio1!$I$7,1,0)","v":0}]
[4.1000000000000001E-11,{"$f":" IF(Foglio1!$C$9 <> \"\", A394 / (A394+Foglio1!$C$9), NA())","v":{"$error":"#N/A"}},{"$f":"IF(A394>Foglio1!$I$7,1,0)","v":0},4.1000000000000001E-11,{"$f":" IF(Foglio1!$C$10 <> \"\", D394 / (D394+Foglio1!$C$10), NA())","v":{"$error":"#N/A"}},{"$f":"IF(D394>Foglio1!$I$7,1,0)","v":0},4.1000000000000001E-11,{"$f":" IF(Foglio1!$C$11 <> \"\", G394 / (G394+Foglio1!$C$11), NA())","v":{"$error":"#N/A"}},{"$f":"IF(G394>Foglio1!$I$7,1,0)","v":0},4.1000000000000001E-11,{"$f":" IF(Foglio1!$C$12 <> \"\", J394 / (J394+Foglio1!$C$12), NA())","v":{"$error":"#N/A"}},{"$f":"IF(J394>Foglio1!$I$7,1,0)","v":0},4.1000000000000001E-11,{"$f":" IF(Foglio1!$C$13 <> \"\", M394 / (M394+Foglio1!$C$13), NA())","v":{"$error":"#N/A"}},{"$f":"IF(M394>Foglio1!$I$7,1,0)","v":0}]
[4.1999999999999997E-11,{"$f":" IF(Foglio1!$C$9 <> \"\", A395 / (A395+Foglio1!$C$9), NA())","v":{"$error":"#N/A"}},{"$f":"IF(A395>Foglio1!$I$7,1,0)","v":0},4.1999999999999997E-11,{"$f":" IF(Foglio1!$C$10 <> \"\", D395 / (D395+Foglio1!$C$10), NA())","v":{"$error":"#N/A"}},{"$f":"IF(D395>Foglio1!$I$7,1,0)","v":0},4.1999999999999997E-11,{"$f":" IF(Foglio1!$C$11 <> \"\", G395 / (G395+Foglio1!$C$11), NA())","v":{"$error":"#N/A"}},{"$f":"IF(G395>Foglio1!$I$7,1,0)","v":0},4.1999999999999997E-11,{"$f":" IF(Foglio1!$C$12 <> \"\", J395 / (J395+Foglio1!$C$12), NA())","v":{"$error":"#N/A"}},{"$f":"IF(J395>Foglio1!$I$7,1,0)","v":0},4.1999999999999997E-11,{"$f":" IF(Foglio1!$C$13 <> \"\", M395 / (M395+Foglio1!$C$13), NA())","v":{"$error":"#N/A"}},{"$f":"IF(M395>Foglio1!$I$7,1,0)","v":0}]
[4.3E-11,{"$f":" IF(Foglio1!$C$9 <> \"\", A396 / (A396+Foglio1!$C$9), NA())","v":{"$error":"#N/A"}},{"$f":"IF(A396>Foglio1!$I$7,1,0)","v":0},4.3E-11,{"$f":" IF(Foglio1!$C$10 <> \"\", D396 / (D396+Foglio1!$C$10), NA())","v":{"$error":"#N/A"}},{"$f":"IF(D396>Foglio1!$I$7,1,0)","v":0},4.3E-11,{"$f":" IF(Foglio1!$C$11 <> \"\", G396 / (G396+Foglio1!$C$11), NA())","v":{"$error":"#N/A"}},{"$f":"IF(G396>Foglio1!$I$7,1,0)","v":0},4.3E-11,{"$f":" IF(Foglio1!$C$12 <> \"\", J396 / (J396+Foglio1!$C$12), NA())","v":{"$error":"#N/A"}},{"$f":"IF(J396>Foglio1!$I$7,1,0)","v":0},4.3E-11,{"$f":" IF(Foglio1!$C$13 <> \"\", M396 / (M396+Foglio1!$C$13), NA())","v":{"$error":"#N/A"}},{"$f":"IF(M396>Foglio1!$I$7,1,0)","v":0}]
[4.40000000000001E-11,{"$f":" IF(Foglio1!$C$9 <> \"\", A397 / (A397+Foglio1!$C$9), NA())","v":{"$error":"#N/A"}},{"$f":"IF(A397>Foglio1!$I$7,1,0)","v":0},4.40000000000001E-11,{"$f":" IF(Foglio1!$C$10 <> \"\", D397 / (D397+Foglio1!$C$10), NA())","v":{"$error":"#N/A"}},{"$f":"IF(D397>Foglio1!$I$7,1,0)","v":0},4.40000000000001E-11,{"$f":" IF(Foglio1!$C$11 <> \"\", G397 / (G397+Foglio1!$C$11), NA())","v":{"$error":"#N/A"}},{"$f":"IF(G397>Foglio1!$I$7,1,0)","v":0},4.40000000000001E-11,{"$f":" IF(Foglio1!$C$12 <> \"\", J397 / (J397+Foglio1!$C$12), NA())","v":{"$error":"#N/A"}},{"$f":"IF(J397>Foglio1!$I$7,1,0)","v":0},4.40000000000001E-11,{"$f":" IF(Foglio1!$C$13 <> \"\", M397 / (M397+Foglio1!$C$13), NA())","v":{"$error":"#N/A"}},{"$f":"IF(M397>Foglio1!$I$7,1,0)","v":0}]
[4.5E-11,{"$f":" IF(Foglio1!$C$9 <> \"\", A398 / (A398+Foglio1!$C$9), NA())","v":{"$error":"#N/A"}},{"$f":"IF(A398>Foglio1!$I$7,1,0)","v":0},4.5E-11,{"$f":" IF(Foglio1!$C$10 <> \"\", D398 / (D398+Foglio1!$C$10), NA())","v":{"$error":"#N/A"}},{"$f":"IF(D398>Foglio1!$I$7,1,0)","v":0},4.5E-11,{"$f":" IF(Foglio1!$C$11 <> \"\", G398 / (G398+Foglio1!$C$11), NA())","v":{"$error":"#N/A"}},{"$f":"IF(G398>Foglio1!$I$7,1,0)","v":0},4.5E-11,{"$f":" IF(Foglio1!$C$12 <> \"\", J398 / (J398+Foglio1!$C$12), NA())","v":{"$error":"#N/A"}},{"$f":"IF(J398>Foglio1!$I$7,1,0)","v":0},4.5E-11,{"$f":" IF(Foglio1!$C$13 <> \"\", M398 / (M398+Foglio1!$C$13), NA())","v":{"$error":"#N/A"}},{"$f":"IF(M398>Foglio1!$I$7,1,0)","v":0}]
[4.60000000000001E-11,{"$f":" IF(Foglio1!$C$9 <> \"\", A399 / (A399+Foglio1!$C$9), NA())","v":{"$error":"#N/A"}},{"$f":"IF(A399>Foglio1!$I$7,1,0)","v":0},4.60000000000001E-11,{"$f":" IF(Foglio1!$C$10 <> \"\", D399 / (D399+Foglio1!$C$10), NA())","v":{"$error":"#N/A"}},{"$f":"IF(D399>Foglio1!$I$7,1,0)","v":0},4.60000000000001E-11,{"$f":" IF(Foglio1!$C$11 <> \"\", G399 / (G399+Foglio1!$C$11), NA())","v":{"$error":"#N/A"}},{"$f":"IF(G399>Foglio1!$I$7,1,0)","v":0},4.60000000000001E-11,{"$f":" IF(Foglio1!$C$12 <> \"\", J399 / (J399+Foglio1!$C$12), NA())","v":{"$error":"#N/A"}},{"$f":"IF(J399>Foglio1!$I$7,1,0)","v":0},4.60000000000001E-11,{"$f":" IF(Foglio1!$C$13 <> \"\", M399 / (M399+Foglio1!$C$13), NA())","v":{"$error":"#N/A"}},{"$f":"IF(M399>Foglio1!$I$7,1,0)","v":0}]
[4.7000000000000103E-11,{"$f":" IF(Foglio1!$C$9 <> \"\", A400 / (A400+Foglio1!$C$9), NA())","v":{"$error":"#N/A"}},{"$f":"IF(A400>Foglio1!$I$7,1,0)","v":0},4.7000000000000103E-11,{"$f":" IF(Foglio1!$C$10 <> \"\", D400 / (D400+Foglio1!$C$10), NA())","v":{"$error":"#N/A"}},{"$f":"IF(D400>Foglio1!$I$7,1,0)","v":0},4.7000000000000103E-11,{"$f":" IF(Foglio1!$C$11 <> \"\", G400 / (G400+Foglio1!$C$11), NA())","v":{"$error":"#N/A"}},{"$f":"IF(G400>Foglio1!$I$7,1,0)","v":0},4.7000000000000103E-11,{"$f":" IF(Foglio1!$C$12 <> \"\", J400 / (J400+Foglio1!$C$12), NA())","v":{"$error":"#N/A"}},{"$f":"IF(J400>Foglio1!$I$7,1,0)","v":0},4.7000000000000103E-11,{"$f":" IF(Foglio1!$C$13 <> \"\", M400 / (M400+Foglio1!$C$13), NA())","v":{"$error":"#N/A"}},{"$f":"IF(M400>Foglio1!$I$7,1,0)","v":0}]
[4.8000000000000002E-11,{"$f":" IF(Foglio1!$C$9 <> \"\", A401 / (A401+Foglio1!$C$9), NA())","v":{"$error":"#N/A"}},{"$f":"IF(A401>Foglio1!$I$7,1,0)","v":0},4.8000000000000002E-11,{"$f":" IF(Foglio1!$C$10 <> \"\", D401 / (D401+Foglio1!$C$10), NA())","v":{"$error":"#N/A"}},{"$f":"IF(D401>Foglio1!$I$7,1,0)","v":0},4.8000000000000002E-11,{"$f":" IF(Foglio1!$C$11 <> \"\", G401 / (G401+Foglio1!$C$11), NA())","v":{"$error":"#N/A"}},{"$f":"IF(G401>Foglio1!$I$7,1,0)","v":0},4.8000000000000002E-11,{"$f":" IF(Foglio1!$C$12 <> \"\", J401 / (J401+Foglio1!$C$12), NA())","v":{"$error":"#N/A"}},{"$f":"IF(J401>Foglio1!$I$7,1,0)","v":0},4.8000000000000002E-11,{"$f":" IF(Foglio1!$C$13 <> \"\", M401 / (M401+Foglio1!$C$13), NA())","v":{"$error":"#N/A"}},{"$f":"IF(M401>Foglio1!$I$7,1,0)","v":0}]
[4.9000000000000102E-11,{"$f":" IF(Foglio1!$C$9 <> \"\", A402 / (A402+Foglio1!$C$9), NA())","v":{"$error":"#N/A"}},{"$f":"IF(A402>Foglio1!$I$7,1,0)","v":0},4.9000000000000102E-11,{"$f":" IF(Foglio1!$C$10 <> \"\", D402 / (D402+Foglio1!$C$10), NA())","v":{"$error":"#N/A"}},{"$f":"IF(D402>Foglio1!$I$7,1,0)","v":0},4.9000000000000102E-11,{"$f":" IF(Foglio1!$C$11 <> \"\", G402 / (G402+Foglio1!$C$11), NA())","v":{"$error":"#N/A"}},{"$f":"IF(G402>Foglio1!$I$7,1,0)","v":0},4.9000000000000102E-11,{"$f":" IF(Foglio1!$C$12 <> \"\", J402 / (J402+Foglio1!$C$12), NA())","v":{"$error":"#N/A"}},{"$f":"IF(J402>Foglio1!$I$7,1,0)","v":0},4.9000000000000102E-11,{"$f":" IF(Foglio1!$C$13 <> \"\", M402 / (M402+Foglio1!$C$13), NA())","v":{"$error":"#N/A"}},{"$f":"IF(M402>Foglio1!$I$7,1,0)","v":0}]
[5.0000000000000099E-11,{"$f":" IF(Foglio1!$C$9 <> \"\", A403 / (A403+Foglio1!$C$9), NA())","v":{"$error":"#N/A"}},{"$f":"IF(A403>Foglio1!$I$7,1,0)","v":0},5.0000000000000099E-11,{"$f":" IF(Foglio1!$C$10 <> \"\", D403 / (D403+Foglio1!$C$10), NA())","v":{"$error":"#N/A"}},{"$f":"IF(D403>Foglio1!$I$7,1,0)","v":0},5.0000000000000099E-11,{"$f":" IF(Foglio1!$C$11 <> \"\", G403 / (G403+Foglio1!$C$11), NA())","v":{"$error":"#N/A"}},{"$f":"IF(G403>Foglio1!$I$7,1,0)","v":0},5.0000000000000099E-11,{"$f":" IF(Foglio1!$C$12 <> \"\", J403 / (J403+Foglio1!$C$12), NA())","v":{"$error":"#N/A"}},{"$f":"IF(J403>Foglio1!$I$7,1,0)","v":0},5.0000000000000099E-11,{"$f":" IF(Foglio1!$C$13 <> \"\", M403 / (M403+Foglio1!$C$13), NA())","v":{"$error":"#N/A"}},{"$f":"IF(M403>Foglio1!$I$7,1,0)","v":0}]
[5.1000000000000102E-11,{"$f":" IF(Foglio1!$C$9 <> \"\", A404 / (A404+Foglio1!$C$9), NA())","v":{"$error":"#N/A"}},{"$f":"IF(A404>Foglio1!$I$7,1,0)","v":0},5.1000000000000102E-11,{"$f":" IF(Foglio1!$C$10 <> \"\", D404 / (D404+Foglio1!$C$10), NA())","v":{"$error":"#N/A"}},{"$f":"IF(D404>Foglio1!$I$7,1,0)","v":0},5.1000000000000102E-11,{"$f":" IF(Foglio1!$C$11 <> \"\", G404 / (G404+Foglio1!$C$11), NA())","v":{"$error":"#N/A"}},{"$f":"IF(G404>Foglio1!$I$7,1,0)","v":0},5.1000000000000102E-11,{"$f":" IF(Foglio1!$C$12 <> \"\", J404 / (J404+Foglio1!$C$12), NA())","v":{"$error":"#N/A"}},{"$f":"IF(J404>Foglio1!$I$7,1,0)","v":0},5.1000000000000102E-11,{"$f":" IF(Foglio1!$C$13 <> \"\", M404 / (M404+Foglio1!$C$13), NA())","v":{"$error":"#N/A"}},{"$f":"IF(M404>Foglio1!$I$7,1,0)","v":0}]
[5.2000000000000098E-11,{"$f":" IF(Foglio1!$C$9 <> \"\", A405 / (A405+Foglio1!$C$9), NA())","v":{"$error":"#N/A"}},{"$f":"IF(A405>Foglio1!$I$7,1,0)","v":0},5.2000000000000098E-11,{"$f":" IF(Foglio1!$C$10 <> \"\", D405 / (D405+Foglio1!$C$10), NA())","v":{"$error":"#N/A"}},{"$f":"IF(D405>Foglio1!$I$7,1,0)","v":0},5.2000000000000098E-11,{"$f":" IF(Foglio1!$C$11 <> \"\", G405 / (G405+Foglio1!$C$11), NA())","v":{"$error":"#N/A"}},{"$f":"IF(G405>Foglio1!$I$7,1,0)","v":0},5.2000000000000098E-11,{"$f":" IF(Foglio1!$C$12 <> \"\", J405 / (J405+Foglio1!$C$12), NA())","v":{"$error":"#N/A"}},{"$f":"IF(J405>Foglio1!$I$7,1,0)","v":0},5.2000000000000098E-11,{"$f":" IF(Foglio1!$C$13 <> \"\", M405 / (M405+Foglio1!$C$13), NA())","v":{"$error":"#N/A"}},{"$f":"IF(M405>Foglio1!$I$7,1,0)","v":0}]
[5.3000000000000101E-11,{"$f":" IF(Foglio1!$C$9 <> \"\", A406 / (A406+Foglio1!$C$9), NA())","v":{"$error":"#N/A"}},{"$f":"IF(A406>Foglio1!$I$7,1,0)","v":0},5.3000000000000101E-11,{"$f":" IF(Foglio1!$C$10 <> \"\", D406 / (D406+Foglio1!$C$10), NA())","v":{"$error":"#N/A"}},{"$f":"IF(D406>Foglio1!$I$7,1,0)","v":0},5.3000000000000101E-11,{"$f":" IF(Foglio1!$C$11 <> \"\", G406 / (G406+Foglio1!$C$11), NA())","v":{"$error":"#N/A"}},{"$f":"IF(G406>Foglio1!$I$7,1,0)","v":0},5.3000000000000101E-11,{"$f":" IF(Foglio1!$C$12 <> \"\", J406 / (J406+Foglio1!$C$12), NA())","v":{"$error":"#N/A"}},{"$f":"IF(J406>Foglio1!$I$7,1,0)","v":0},5.3000000000000101E-11,{"$f":" IF(Foglio1!$C$13 <> \"\", M406 / (M406+Foglio1!$C$13), NA())","v":{"$error":"#N/A"}},{"$f":"IF(M406>Foglio1!$I$7,1,0)","v":0}]
[5.4000000000000098E-11,{"$f":" IF(Foglio1!$C$9 <> \"\", A407 / (A407+Foglio1!$C$9), NA())","v":{"$error":"#N/A"}},{"$f":"IF(A407>Foglio1!$I$7,1,0)","v":0},5.4000000000000098E-11,{"$f":" IF(Foglio1!$C$10 <> \"\", D407 / (D407+Foglio1!$C$10), NA())","v":{"$error":"#N/A"}},{"$f":"IF(D407>Foglio1!$I$7,1,0)","v":0},5.4000000000000098E-11,{"$f":" IF(Foglio1!$C$11 <> \"\", G407 / (G407+Foglio1!$C$11), NA())","v":{"$error":"#N/A"}},{"$f":"IF(G407>Foglio1!$I$7,1,0)","v":0},5.4000000000000098E-11,{"$f":" IF(Foglio1!$C$12 <> \"\", J407 / (J407+Foglio1!$C$12), NA())","v":{"$error":"#N/A"}},{"$f":"IF(J407>Foglio1!$I$7,1,0)","v":0},5.4000000000000098E-11,{"$f":" IF(Foglio1!$C$13 <> \"\", M407 / (M407+Foglio1!$C$13), NA())","v":{"$error":"#N/A"}},{"$f":"IF(M407>Foglio1!$I$7,1,0)","v":0}]
[5.5000000000000101E-11,{"$f":" IF(Foglio1!$C$9 <> \"\", A408 / (A408+Foglio1!$C$9), NA())","v":{"$error":"#N/A"}},{"$f":"IF(A408>Foglio1!$I$7,1,0)","v":0},5.5000000000000101E-11,{"$f":" IF(Foglio1!$C$10 <> \"\", D408 / (D408+Foglio1!$C$10), NA())","v":{"$error":"#N/A"}},{"$f":"IF(D408>Foglio1!$I$7,1,0)","v":0},5.5000000000000101E-11,{"$f":" IF(Foglio1!$C$11 <> \"\", G408 / (G408+Foglio1!$C$11), NA())","v":{"$error":"#N/A"}},{"$f":"IF(G408>Foglio1!$I$7,1,0)","v":0},5.5000000000000101E-11,{"$f":" IF(Foglio1!$C$12 <> \"\", J408 / (J408+Foglio1!$C$12), NA())","v":{"$error":"#N/A"}},{"$f":"IF(J408>Foglio1!$I$7,1,0)","v":0},5.5000000000000101E-11,{"$f":" IF(Foglio1!$C$13 <> \"\", M408 / (M408+Foglio1!$C$13), NA())","v":{"$error":"#N/A"}},{"$f":"IF(M408>Foglio1!$I$7,1,0)","v":0}]
[5.6000000000000097E-11,{"$f":" IF(Foglio1!$C$9 <> \"\", A409 / (A409+Foglio1!$C$9), NA())","v":{"$error":"#N/A"}},{"$f":"IF(A409>Foglio1!$I$7,1,0)","v":0},5.6000000000000097E-11,{"$f":" IF(Foglio1!$C$10 <> \"\", D409 / (D409+Foglio1!$C$10), NA())","v":{"$error":"#N/A"}},{"$f":"IF(D409>Foglio1!$I$7,1,0)","v":0},5.6000000000000097E-11,{"$f":" IF(Foglio1!$C$11 <> \"\", G409 / (G409+Foglio1!$C$11), NA())","v":{"$error":"#N/A"}},{"$f":"IF(G409>Foglio1!$I$7,1,0)","v":0},5.6000000000000097E-11,{"$f":" IF(Foglio1!$C$12 <> \"\", J409 / (J409+Foglio1!$C$12), NA())","v":{"$error":"#N/A"}},{"$f":"IF(J409>Foglio1!$I$7,1,0)","v":0},5.6000000000000097E-11,{"$f":" IF(Foglio1!$C$13 <> \"\", M409 / (M409+Foglio1!$C$13), NA())","v":{"$error":"#N/A"}},{"$f":"IF(M409>Foglio1!$I$7,1,0)","v":0}]
[5.70000000000001E-11,{"$f":" IF(Foglio1!$C$9 <> \"\", A410 / (A410+Foglio1!$C$9), NA())","v":{"$error":"#N/A"}},{"$f":"IF(A410>Foglio1!$I$7,1,0)","v":0},5.70000000000001E-11,{"$f":" IF(Foglio1!$C$10 <> \"\", D410 / (D410+Foglio1!$C$10), NA())","v":{"$error":"#N/A"}},{"$f":"IF(D410>Foglio1!$I$7,1,0)","v":0},5.70000000000001E-11,{"$f":" IF(Foglio1!$C$11 <> \"\", G410 / (G410+Foglio1!$C$11), NA())","v":{"$error":"#N/A"}},{"$f":"IF(G410>Foglio1!$I$7,1,0)","v":0},5.70000000000001E-11,{"$f":" IF(Foglio1!$C$12 <> \"\", J410 / (J410+Foglio1!$C$12), NA())","v":{"$error":"#N/A"}},{"$f":"IF(J410>Foglio1!$I$7,1,0)","v":0},5.70000000000001E-11,{"$f":" IF(Foglio1!$C$13 <> \"\", M410 / (M410+Foglio1!$C$13), NA())","v":{"$error":"#N/A"}},{"$f":"IF(M410>Foglio1!$I$7,1,0)","v":0}]
[5.8000000000000097E-11,{"$f":" IF(Foglio1!$C$9 <> \"\", A411 / (A411+Foglio1!$C$9), NA())","v":{"$error":"#N/A"}},{"$f":"IF(A411>Foglio1!$I$7,1,0)","v":0},5.8000000000000097E-11,{"$f":" IF(Foglio1!$C$10 <> \"\", D411 / (D411+Foglio1!$C$10), NA())","v":{"$error":"#N/A"}},{"$f":"IF(D411>Foglio1!$I$7,1,0)","v":0},5.8000000000000097E-11,{"$f":" IF(Foglio1!$C$11 <> \"\", G411 / (G411+Foglio1!$C$11), NA())","v":{"$error":"#N/A"}},{"$f":"IF(G411>Foglio1!$I$7,1,0)","v":0},5.8000000000000097E-11,{"$f":" IF(Foglio1!$C$12 <> \"\", J411 / (J411+Foglio1!$C$12), NA())","v":{"$error":"#N/A"}},{"$f":"IF(J411>Foglio1!$I$7,1,0)","v":0},5.8000000000000097E-11,{"$f":" IF(Foglio1!$C$13 <> \"\", M411 / (M411+Foglio1!$C$13), NA())","v":{"$error":"#N/A"}},{"$f":"IF(M411>Foglio1!$I$7,1,0)","v":0}]
[5.9000000000000106E-11,{"$f":" IF(Foglio1!$C$9 <> \"\", A412 / (A412+Foglio1!$C$9), NA())","v":{"$error":"#N/A"}},{"$f":"IF(A412>Foglio1!$I$7,1,0)","v":0},5.9000000000000106E-11,{"$f":" IF(Foglio1!$C$10 <> \"\", D412 / (D412+Foglio1!$C$10), NA())","v":{"$error":"#N/A"}},{"$f":"IF(D412>Foglio1!$I$7,1,0)","v":0},5.9000000000000106E-11,{"$f":" IF(Foglio1!$C$11 <> \"\", G412 / (G412+Foglio1!$C$11), NA())","v":{"$error":"#N/A"}},{"$f":"IF(G412>Foglio1!$I$7,1,0)","v":0},5.9000000000000106E-11,{"$f":" IF(Foglio1!$C$12 <> \"\", J412 / (J412+Foglio1!$C$12), NA())","v":{"$error":"#N/A"}},{"$f":"IF(J412>Foglio1!$I$7,1,0)","v":0},5.9000000000000106E-11,{"$f":" IF(Foglio1!$C$13 <> \"\", M412 / (M412+Foglio1!$C$13), NA())","v":{"$error":"#N/A"}},{"$f":"IF(M412>Foglio1!$I$7,1,0)","v":0}]
[6.0000000000000103E-11,{"$f":" IF(Foglio1!$C$9 <> \"\", A413 / (A413+Foglio1!$C$9), NA())","v":{"$error":"#N/A"}},{"$f":"IF(A413>Foglio1!$I$7,1,0)","v":0},6.0000000000000103E-11,{"$f":" IF(Foglio1!$C$10 <> \"\", D413 / (D413+Foglio1!$C$10), NA())","v":{"$error":"#N/A"}},{"$f":"IF(D413>Foglio1!$I$7,1,0)","v":0},6.0000000000000103E-11,{"$f":" IF(Foglio1!$C$11 <> \"\", G413 / (G413+Foglio1!$C$11), NA())","v":{"$error":"#N/A"}},{"$f":"IF(G413>Foglio1!$I$7,1,0)","v":0},6.0000000000000103E-11,{"$f":" IF(Foglio1!$C$12 <> \"\", J413 / (J413+Foglio1!$C$12), NA())","v":{"$error":"#N/A"}},{"$f":"IF(J413>Foglio1!$I$7,1,0)","v":0},6.0000000000000103E-11,{"$f":" IF(Foglio1!$C$13 <> \"\", M413 / (M413+Foglio1!$C$13), NA())","v":{"$error":"#N/A"}},{"$f":"IF(M413>Foglio1!$I$7,1,0)","v":0}]
[6.10000000000001E-11,{"$f":" IF(Foglio1!$C$9 <> \"\", A414 / (A414+Foglio1!$C$9), NA())","v":{"$error":"#N/A"}},{"$f":"IF(A414>Foglio1!$I$7,1,0)","v":0},6.10000000000001E-11,{"$f":" IF(Foglio1!$C$10 <> \"\", D414 / (D414+Foglio1!$C$10), NA())","v":{"$error":"#N/A"}},{"$f":"IF(D414>Foglio1!$I$7,1,0)","v":0},6.10000000000001E-11,{"$f":" IF(Foglio1!$C$11 <> \"\", G414 / (G414+Foglio1!$C$11), NA())","v":{"$error":"#N/A"}},{"$f":"IF(G414>Foglio1!$I$7,1,0)","v":0},6.10000000000001E-11,{"$f":" IF(Foglio1!$C$12 <> \"\", J414 / (J414+Foglio1!$C$12), NA())","v":{"$error":"#N/A"}},{"$f":"IF(J414>Foglio1!$I$7,1,0)","v":0},6.10000000000001E-11,{"$f":" IF(Foglio1!$C$13 <> \"\", M414 / (M414+Foglio1!$C$13), NA())","v":{"$error":"#N/A"}},{"$f":"IF(M414>Foglio1!$I$7,1,0)","v":0}]
[6.2000000000000096E-11,{"$f":" IF(Foglio1!$C$9 <> \"\", A415 / (A415+Foglio1!$C$9), NA())","v":{"$error":"#N/A"}},{"$f":"IF(A415>Foglio1!$I$7,1,0)","v":0},6.2000000000000096E-11,{"$f":" IF(Foglio1!$C$10 <> \"\", D415 / (D415+Foglio1!$C$10), NA())","v":{"$error":"#N/A"}},{"$f":"IF(D415>Foglio1!$I$7,1,0)","v":0},6.2000000000000096E-11,{"$f":" IF(Foglio1!$C$11 <> \"\", G415 / (G415+Foglio1!$C$11), NA())","v":{"$error":"#N/A"}},{"$f":"IF(G415>Foglio1!$I$7,1,0)","v":0},6.2000000000000096E-11,{"$f":" IF(Foglio1!$C$12 <> \"\", J415 / (J415+Foglio1!$C$12), NA())","v":{"$error":"#N/A"}},{"$f":"IF(J415>Foglio1!$I$7,1,0)","v":0},6.2000000000000096E-11,{"$f":" IF(Foglio1!$C$13 <> \"\", M415 / (M415+Foglio1!$C$13), NA())","v":{"$error":"#N/A"}},{"$f":"IF(M415>Foglio1!$I$7,1,0)","v":0}]
[6.3000000000000106E-11,{"$f":" IF(Foglio1!$C$9 <> \"\", A416 / (A416+Foglio1!$C$9), NA())","v":{"$error":"#N/A"}},{"$f":"IF(A416>Foglio1!$I$7,1,0)","v":0},6.3000000000000106E-11,{"$f":" IF(Foglio1!$C$10 <> \"\", D416 / (D416+Foglio1!$C$10), NA())","v":{"$error":"#N/A"}},{"$f":"IF(D416>Foglio1!$I$7,1,0)","v":0},6.3000000000000106E-11,{"$f":" IF(Foglio1!$C$11 <> \"\", G416 / (G416+Foglio1!$C$11), NA())","v":{"$error":"#N/A"}},{"$f":"IF(G416>Foglio1!$I$7,1,0)","v":0},6.3000000000000106E-11,{"$f":" IF(Foglio1!$C$12 <> \"\", J416 / (J416+Foglio1!$C$12), NA())","v":{"$error":"#N/A"}},{"$f":"IF(J416>Foglio1!$I$7,1,0)","v":0},6.3000000000000106E-11,{"$f":" IF(Foglio1!$C$13 <> \"\", M416 / (M416+Foglio1!$C$13), NA())","v":{"$error":"#N/A"}},{"$f":"IF(M416>Foglio1!$I$7,1,0)","v":0}]
[6.4000000000000102E-11,{"$f":" IF(Foglio1!$C$9 <> \"\", A417 / (A417+Foglio1!$C$9), NA())","v":{"$error":"#N/A"}},{"$f":"IF(A417>Foglio1!$I$7,1,0)","v":0},6.4000000000000102E-11,{"$f":" IF(Foglio1!$C$10 <> \"\", D417 / (D417+Foglio1!$C$10), NA())","v":{"$error":"#N/A"}},{"$f":"IF(D417>Foglio1!$I$7,1,0)","v":0},6.4000000000000102E-11,{"$f":" IF(Foglio1!$C$11 <> \"\", G417 / (G417+Foglio1!$C$11), NA())","v":{"$error":"#N/A"}},{"$f":"IF(G417>Foglio1!$I$7,1,0)","v":0},6.4000000000000102E-11,{"$f":" IF(Foglio1!$C$12 <> \"\", J417 / (J417+Foglio1!$C$12), NA())","v":{"$error":"#N/A"}},{"$f":"IF(J417>Foglio1!$I$7,1,0)","v":0},6.4000000000000102E-11,{"$f":" IF(Foglio1!$C$13 <> \"\", M417 / (M417+Foglio1!$C$13), NA())","v":{"$error":"#N/A"}},{"$f":"IF(M417>Foglio1!$I$7,1,0)","v":0}]
[6.5000000000000099E-11,{"$f":" IF(Foglio1!$C$9 <> \"\", A418 / (A418+Foglio1!$C$9), NA())","v":{"$error":"#N/A"}},{"$f":"IF(A418>Foglio1!$I$7,1,0)","v":0},6.5000000000000099E-11,{"$f":" IF(Foglio1!$C$10 <> \"\", D418 / (D418+Foglio1!$C$10), NA())","v":{"$error":"#N/A"}},{"$f":"IF(D418>Foglio1!$I$7,1,0)","v":0},6.5000000000000099E-11,{"$f":" IF(Foglio1!$C$11 <> \"\", G418 / (G418+Foglio1!$C$11), NA())","v":{"$error":"#N/A"}},{"$f":"IF(G418>Foglio1!$I$7,1,0)","v":0},6.5000000000000099E-11,{"$f":" IF(Foglio1!$C$12 <> \"\", J418 / (J418+Foglio1!$C$12), NA())","v":{"$error":"#N/A"}},{"$f":"IF(J418>Foglio1!$I$7,1,0)","v":0},6.5000000000000099E-11,{"$f":" IF(Foglio1!$C$13 <> \"\", M418 / (M418+Foglio1!$C$13), NA())","v":{"$error":"#N/A"}},{"$f":"IF(M418>Foglio1!$I$7,1,0)","v":0}]
[6.6000000000000095E-11,{"$f":" IF(Foglio1!$C$9 <> \"\", A419 / (A419+Foglio1!$C$9), NA())","v":{"$error":"#N/A"}},{"$f":"IF(A419>Foglio1!$I$7,1,0)","v":0},6.6000000000000095E-11,{"$f":" IF(Foglio1!$C$10 <> \"\", D419 / (D419+Foglio1!$C$10), NA())","v":{"$error":"#N/A"}},{"$f":"IF(D419>Foglio1!$I$7,1,0)","v":0},6.6000000000000095E-11,{"$f":" IF(Foglio1!$C$11 <> \"\", G419 / (G419+Foglio1!$C$11), NA())","v":{"$error":"#N/A"}},{"$f":"IF(G419>Foglio1!$I$7,1,0)","v":0},6.6000000000000095E-11,{"$f":" IF(Foglio1!$C$12 <> \"\", J419 / (J419+Foglio1!$C$12), NA())","v":{"$error":"#N/A"}},{"$f":"IF(J419>Foglio1!$I$7,1,0)","v":0},6.6000000000000095E-11,{"$f":" IF(Foglio1!$C$13 <> \"\", M419 / (M419+Foglio1!$C$13), NA())","v":{"$error":"#N/A"}},{"$f":"IF(M419>Foglio1!$I$7,1,0)","v":0}]
[6.7000000000000105E-11,{"$f":" IF(Foglio1!$C$9 <> \"\", A420 / (A420+Foglio1!$C$9), NA())","v":{"$error":"#N/A"}},{"$f":"IF(A420>Foglio1!$I$7,1,0)","v":0},6.7000000000000105E-11,{"$f":" IF(Foglio1!$C$10 <> \"\", D420 / (D420+Foglio1!$C$10), NA())","v":{"$error":"#N/A"}},{"$f":"IF(D420>Foglio1!$I$7,1,0)","v":0},6.7000000000000105E-11,{"$f":" IF(Foglio1!$C$11 <> \"\", G420 / (G420+Foglio1!$C$11), NA())","v":{"$error":"#N/A"}},{"$f":"IF(G420>Foglio1!$I$7,1,0)","v":0},6.7000000000000105E-11,{"$f":" IF(Foglio1!$C$12 <> \"\", J420 / (J420+Foglio1!$C$12), NA())","v":{"$error":"#N/A"}},{"$f":"IF(J420>Foglio1!$I$7,1,0)","v":0},6.7000000000000105E-11,{"$f":" IF(Foglio1!$C$13 <> \"\", M420 / (M420+Foglio1!$C$13), NA())","v":{"$error":"#N/A"}},{"$f":"IF(M420>Foglio1!$I$7,1,0)","v":0}]
[6.8000000000000101E-11,{"$f":" IF(Foglio1!$C$9 <> \"\", A421 / (A421+Foglio1!$C$9), NA())","v":{"$error":"#N/A"}},{"$f":"IF(A421>Foglio1!$I$7,1,0)","v":0},6.8000000000000101E-11,{"$f":" IF(Foglio1!$C$10 <> \"\", D421 / (D421+Foglio1!$C$10), NA())","v":{"$error":"#N/A"}},{"$f":"IF(D421>Foglio1!$I$7,1,0)","v":0},6.8000000000000101E-11,{"$f":" IF(Foglio1!$C$11 <> \"\", G421 / (G421+Foglio1!$C$11), NA())","v":{"$error":"#N/A"}},{"$f":"IF(G421>Foglio1!$I$7,1,0)","v":0},6.8000000000000101E-11,{"$f":" IF(Foglio1!$C$12 <> \"\", J421 / (J421+Foglio1!$C$12), NA())","v":{"$error":"#N/A"}},{"$f":"IF(J421>Foglio1!$I$7,1,0)","v":0},6.8000000000000101E-11,{"$f":" IF(Foglio1!$C$13 <> \"\", M421 / (M421+Foglio1!$C$13), NA())","v":{"$error":"#N/A"}},{"$f":"IF(M421>Foglio1!$I$7,1,0)","v":0}]
[6.9000000000000098E-11,{"$f":" IF(Foglio1!$C$9 <> \"\", A422 / (A422+Foglio1!$C$9), NA())","v":{"$error":"#N/A"}},{"$f":"IF(A422>Foglio1!$I$7,1,0)","v":0},6.9000000000000098E-11,{"$f":" IF(Foglio1!$C$10 <> \"\", D422 / (D422+Foglio1!$C$10), NA())","v":{"$error":"#N/A"}},{"$f":"IF(D422>Foglio1!$I$7,1,0)","v":0},6.9000000000000098E-11,{"$f":" IF(Foglio1!$C$11 <> \"\", G422 / (G422+Foglio1!$C$11), NA())","v":{"$error":"#N/A"}},{"$f":"IF(G422>Foglio1!$I$7,1,0)","v":0},6.9000000000000098E-11,{"$f":" IF(Foglio1!$C$12 <> \"\", J422 / (J422+Foglio1!$C$12), NA())","v":{"$error":"#N/A"}},{"$f":"IF(J422>Foglio1!$I$7,1,0)","v":0},6.9000000000000098E-11,{"$f":" IF(Foglio1!$C$13 <> \"\", M422 / (M422+Foglio1!$C$13), NA())","v":{"$error":"#N/A"}},{"$f":"IF(M422>Foglio1!$I$7,1,0)","v":0}]
[7.0000000000000094E-11,{"$f":" IF(Foglio1!$C$9 <> \"\", A423 / (A423+Foglio1!$C$9), NA())","v":{"$error":"#N/A"}},{"$f":"IF(A423>Foglio1!$I$7,1,0)","v":0},7.0000000000000094E-11,{"$f":" IF(Foglio1!$C$10 <> \"\", D423 / (D423+Foglio1!$C$10), NA())","v":{"$error":"#N/A"}},{"$f":"IF(D423>Foglio1!$I$7,1,0)","v":0},7.0000000000000094E-11,{"$f":" IF(Foglio1!$C$11 <> \"\", G423 / (G423+Foglio1!$C$11), NA())","v":{"$error":"#N/A"}},{"$f":"IF(G423>Foglio1!$I$7,1,0)","v":0},7.0000000000000094E-11,{"$f":" IF(Foglio1!$C$12 <> \"\", J423 / (J423+Foglio1!$C$12), NA())","v":{"$error":"#N/A"}},{"$f":"IF(J423>Foglio1!$I$7,1,0)","v":0},7.0000000000000094E-11,{"$f":" IF(Foglio1!$C$13 <> \"\", M423 / (M423+Foglio1!$C$13), NA())","v":{"$error":"#N/A"}},{"$f":"IF(M423>Foglio1!$I$7,1,0)","v":0}]
[7.1000000000000104E-11,{"$f":" IF(Foglio1!$C$9 <> \"\", A424 / (A424+Foglio1!$C$9), NA())","v":{"$error":"#N/A"}},{"$f":"IF(A424>Foglio1!$I$7,1,0)","v":0},7.1000000000000104E-11,{"$f":" IF(Foglio1!$C$10 <> \"\", D424 / (D424+Foglio1!$C$10), NA())","v":{"$error":"#N/A"}},{"$f":"IF(D424>Foglio1!$I$7,1,0)","v":0},7.1000000000000104E-11,{"$f":" IF(Foglio1!$C$11 <> \"\", G424 / (G424+Foglio1!$C$11), NA())","v":{"$error":"#N/A"}},{"$f":"IF(G424>Foglio1!$I$7,1,0)","v":0},7.1000000000000104E-11,{"$f":" IF(Foglio1!$C$12 <> \"\", J424 / (J424+Foglio1!$C$12), NA())","v":{"$error":"#N/A"}},{"$f":"IF(J424>Foglio1!$I$7,1,0)","v":0},7.1000000000000104E-11,{"$f":" IF(Foglio1!$C$13 <> \"\", M424 / (M424+Foglio1!$C$13), NA())","v":{"$error":"#N/A"}},{"$f":"IF(M424>Foglio1!$I$7,1,0)","v":0}]
[7.20000000000001E-11,{"$f":" IF(Foglio1!$C$9 <> \"\", A425 / (A425+Foglio1!$C$9), NA())","v":{"$error":"#N/A"}},{"$f":"IF(A425>Foglio1!$I$7,1,0)","v":0},7.20000000000001E-11,{"$f":" IF(Foglio1!$C$10 <> \"\", D425 / (D425+Foglio1!$C$10), NA())","v":{"$error":"#N/A"}},{"$f":"IF(D425>Foglio1!$I$7,1,0)","v":0},7.20000000000001E-11,{"$f":" IF(Foglio1!$C$11 <> \"\", G425 / (G425+Foglio1!$C$11), NA())","v":{"$error":"#N/A"}},{"$f":"IF(G425>Foglio1!$I$7,1,0)","v":0},7.20000000000001E-11,{"$f":" IF(Foglio1!$C$12 <> \"\", J425 / (J425+Foglio1!$C$12), NA())","v":{"$error":"#N/A"}},{"$f":"IF(J425>Foglio1!$I$7,1,0)","v":0},7.20000000000001E-11,{"$f":" IF(Foglio1!$C$13 <> \"\", M425 / (M425+Foglio1!$C$13), NA())","v":{"$error":"#N/A"}},{"$f":"IF(M425>Foglio1!$I$7,1,0)","v":0}]
[7.3000000000000097E-11,{"$f":" IF(Foglio1!$C$9 <> \"\", A426 / (A426+Foglio1!$C$9), NA())","v":{"$error":"#N/A"}},{"$f":"IF(A426>Foglio1!$I$7,1,0)","v":0},7.3000000000000097E-11,{"$f":" IF(Foglio1!$C$10 <> \"\", D426 / (D426+Foglio1!$C$10), NA())","v":{"$error":"#N/A"}},{"$f":"IF(D426>Foglio1!$I$7,1,0)","v":0},7.3000000000000097E-11,{"$f":" IF(Foglio1!$C$11 <> \"\", G426 / (G426+Foglio1!$C$11), NA())","v":{"$error":"#N/A"}},{"$f":"IF(G426>Foglio1!$I$7,1,0)","v":0},7.3000000000000097E-11,{"$f":" IF(Foglio1!$C$12 <> \"\", J426 / (J426+Foglio1!$C$12), NA())","v":{"$error":"#N/A"}},{"$f":"IF(J426>Foglio1!$I$7,1,0)","v":0},7.3000000000000097E-11,{"$f":" IF(Foglio1!$C$13 <> \"\", M426 / (M426+Foglio1!$C$13), NA())","v":{"$error":"#N/A"}},{"$f":"IF(M426>Foglio1!$I$7,1,0)","v":0}]
[7.4000000000000106E-11,{"$f":" IF(Foglio1!$C$9 <> \"\", A427 / (A427+Foglio1!$C$9), NA())","v":{"$error":"#N/A"}},{"$f":"IF(A427>Foglio1!$I$7,1,0)","v":0},7.4000000000000106E-11,{"$f":" IF(Foglio1!$C$10 <> \"\", D427 / (D427+Foglio1!$C$10), NA())","v":{"$error":"#N/A"}},{"$f":"IF(D427>Foglio1!$I$7,1,0)","v":0},7.4000000000000106E-11,{"$f":" IF(Foglio1!$C$11 <> \"\", G427 / (G427+Foglio1!$C$11), NA())","v":{"$error":"#N/A"}},{"$f":"IF(G427>Foglio1!$I$7,1,0)","v":0},7.4000000000000106E-11,{"$f":" IF(Foglio1!$C$12 <> \"\", J427 / (J427+Foglio1!$C$12), NA())","v":{"$error":"#N/A"}},{"$f":"IF(J427>Foglio1!$I$7,1,0)","v":0},7.4000000000000106E-11,{"$f":" IF(Foglio1!$C$13 <> \"\", M427 / (M427+Foglio1!$C$13), NA())","v":{"$error":"#N/A"}},{"$f":"IF(M427>Foglio1!$I$7,1,0)","v":0}]
[7.5000000000000103E-11,{"$f":" IF(Foglio1!$C$9 <> \"\", A428 / (A428+Foglio1!$C$9), NA())","v":{"$error":"#N/A"}},{"$f":"IF(A428>Foglio1!$I$7,1,0)","v":0},7.5000000000000103E-11,{"$f":" IF(Foglio1!$C$10 <> \"\", D428 / (D428+Foglio1!$C$10), NA())","v":{"$error":"#N/A"}},{"$f":"IF(D428>Foglio1!$I$7,1,0)","v":0},7.5000000000000103E-11,{"$f":" IF(Foglio1!$C$11 <> \"\", G428 / (G428+Foglio1!$C$11), NA())","v":{"$error":"#N/A"}},{"$f":"IF(G428>Foglio1!$I$7,1,0)","v":0},7.5000000000000103E-11,{"$f":" IF(Foglio1!$C$12 <> \"\", J428 / (J428+Foglio1!$C$12), NA())","v":{"$error":"#N/A"}},{"$f":"IF(J428>Foglio1!$I$7,1,0)","v":0},7.5000000000000103E-11,{"$f":" IF(Foglio1!$C$13 <> \"\", M428 / (M428+Foglio1!$C$13), NA())","v":{"$error":"#N/A"}},{"$f":"IF(M428>Foglio1!$I$7,1,0)","v":0}]
[7.6000000000000099E-11,{"$f":" IF(Foglio1!$C$9 <> \"\", A429 / (A429+Foglio1!$C$9), NA())","v":{"$error":"#N/A"}},{"$f":"IF(A429>Foglio1!$I$7,1,0)","v":0},7.6000000000000099E-11,{"$f":" IF(Foglio1!$C$10 <> \"\", D429 / (D429+Foglio1!$C$10), NA())","v":{"$error":"#N/A"}},{"$f":"IF(D429>Foglio1!$I$7,1,0)","v":0},7.6000000000000099E-11,{"$f":" IF(Foglio1!$C$11 <> \"\", G429 / (G429+Foglio1!$C$11), NA())","v":{"$error":"#N/A"}},{"$f":"IF(G429>Foglio1!$I$7,1,0)","v":0},7.6000000000000099E-11,{"$f":" IF(Foglio1!$C$12 <> \"\", J429 / (J429+Foglio1!$C$12), NA())","v":{"$error":"#N/A"}},{"$f":"IF(J429>Foglio1!$I$7,1,0)","v":0},7.6000000000000099E-11,{"$f":" IF(Foglio1!$C$13 <> \"\", M429 / (M429+Foglio1!$C$13), NA())","v":{"$error":"#N/A"}},{"$f":"IF(M429>Foglio1!$I$7,1,0)","v":0}]
[7.7000000000000096E-11,{"$f":" IF(Foglio1!$C$9 <> \"\", A430 / (A430+Foglio1!$C$9), NA())","v":{"$error":"#N/A"}},{"$f":"IF(A430>Foglio1!$I$7,1,0)","v":0},7.7000000000000096E-11,{"$f":" IF(Foglio1!$C$10 <> \"\", D430 / (D430+Foglio1!$C$10), NA())","v":{"$error":"#N/A"}},{"$f":"IF(D430>Foglio1!$I$7,1,0)","v":0},7.7000000000000096E-11,{"$f":" IF(Foglio1!$C$11 <> \"\", G430 / (G430+Foglio1!$C$11), NA())","v":{"$error":"#N/A"}},{"$f":"IF(G430>Foglio1!$I$7,1,0)","v":0},7.7000000000000096E-11,{"$f":" IF(Foglio1!$C$12 <> \"\", J430 / (J430+Foglio1!$C$12), NA())","v":{"$error":"#N/A"}},{"$f":"IF(J430>Foglio1!$I$7,1,0)","v":0},7.7000000000000096E-11,{"$f":" IF(Foglio1!$C$13 <> \"\", M430 / (M430+Foglio1!$C$13), NA())","v":{"$error":"#N/A"}},{"$f":"IF(M430>Foglio1!$I$7,1,0)","v":0}]
[7.8000000000000105E-11,{"$f":" IF(Foglio1!$C$9 <> \"\", A431 / (A431+Foglio1!$C$9), NA())","v":{"$error":"#N/A"}},{"$f":"IF(A431>Foglio1!$I$7,1,0)","v":0},7.8000000000000105E-11,{"$f":" IF(Foglio1!$C$10 <> \"\", D431 / (D431+Foglio1!$C$10), NA())","v":{"$error":"#N/A"}},{"$f":"IF(D431>Foglio1!$I$7,1,0)","v":0},7.8000000000000105E-11,{"$f":" IF(Foglio1!$C$11 <> \"\", G431 / (G431+Foglio1!$C$11), NA())","v":{"$error":"#N/A"}},{"$f":"IF(G431>Foglio1!$I$7,1,0)","v":0},7.8000000000000105E-11,{"$f":" IF(Foglio1!$C$12 <> \"\", J431 / (J431+Foglio1!$C$12), NA())","v":{"$error":"#N/A"}},{"$f":"IF(J431>Foglio1!$I$7,1,0)","v":0},7.8000000000000105E-11,{"$f":" IF(Foglio1!$C$13 <> \"\", M431 / (M431+Foglio1!$C$13), NA())","v":{"$error":"#N/A"}},{"$f":"IF(M431>Foglio1!$I$7,1,0)","v":0}]
[7.9000000000000102E-11,{"$f":" IF(Foglio1!$C$9 <> \"\", A432 / (A432+Foglio1!$C$9), NA())","v":{"$error":"#N/A"}},{"$f":"IF(A432>Foglio1!$I$7,1,0)","v":0},7.9000000000000102E-11,{"$f":" IF(Foglio1!$C$10 <> \"\", D432 / (D432+Foglio1!$C$10), NA())","v":{"$error":"#N/A"}},{"$f":"IF(D432>Foglio1!$I$7,1,0)","v":0},7.9000000000000102E-11,{"$f":" IF(Foglio1!$C$11 <> \"\", G432 / (G432+Foglio1!$C$11), NA())","v":{"$error":"#N/A"}},{"$f":"IF(G432>Foglio1!$I$7,1,0)","v":0},7.9000000000000102E-11,{"$f":" IF(Foglio1!$C$12 <> \"\", J432 / (J432+Foglio1!$C$12), NA())","v":{"$error":"#N/A"}},{"$f":"IF(J432>Foglio1!$I$7,1,0)","v":0},7.9000000000000102E-11,{"$f":" IF(Foglio1!$C$13 <> \"\", M432 / (M432+Foglio1!$C$13), NA())","v":{"$error":"#N/A"}},{"$f":"IF(M432>Foglio1!$I$7,1,0)","v":0}]
[8.0000000000000099E-11,{"$f":" IF(Foglio1!$C$9 <> \"\", A433 / (A433+Foglio1!$C$9), NA())","v":{"$error":"#N/A"}},{"$f":"IF(A433>Foglio1!$I$7,1,0)","v":0},8.0000000000000099E-11,{"$f":" IF(Foglio1!$C$10 <> \"\", D433 / (D433+Foglio1!$C$10), NA())","v":{"$error":"#N/A"}},{"$f":"IF(D433>Foglio1!$I$7,1,0)","v":0},8.0000000000000099E-11,{"$f":" IF(Foglio1!$C$11 <> \"\", G433 / (G433+Foglio1!$C$11), NA())","v":{"$error":"#N/A"}},{"$f":"IF(G433>Foglio1!$I$7,1,0)","v":0},8.0000000000000099E-11,{"$f":" IF(Foglio1!$C$12 <> \"\", J433 / (J433+Foglio1!$C$12), NA())","v":{"$error":"#N/A"}},{"$f":"IF(J433>Foglio1!$I$7,1,0)","v":0},8.0000000000000099E-11,{"$f":" IF(Foglio1!$C$13 <> \"\", M433 / (M433+Foglio1!$C$13), NA())","v":{"$error":"#N/A"}},{"$f":"IF(M433>Foglio1!$I$7,1,0)","v":0}]
[8.1000000000000095E-11,{"$f":" IF(Foglio1!$C$9 <> \"\", A434 / (A434+Foglio1!$C$9), NA())","v":{"$error":"#N/A"}},{"$f":"IF(A434>Foglio1!$I$7,1,0)","v":0},8.1000000000000095E-11,{"$f":" IF(Foglio1!$C$10 <> \"\", D434 / (D434+Foglio1!$C$10), NA())","v":{"$error":"#N/A"}},{"$f":"IF(D434>Foglio1!$I$7,1,0)","v":0},8.1000000000000095E-11,{"$f":" IF(Foglio1!$C$11 <> \"\", G434 / (G434+Foglio1!$C$11), NA())","v":{"$error":"#N/A"}},{"$f":"IF(G434>Foglio1!$I$7,1,0)","v":0},8.1000000000000095E-11,{"$f":" IF(Foglio1!$C$12 <> \"\", J434 / (J434+Foglio1!$C$12), NA())","v":{"$error":"#N/A"}},{"$f":"IF(J434>Foglio1!$I$7,1,0)","v":0},8.1000000000000095E-11,{"$f":" IF(Foglio1!$C$13 <> \"\", M434 / (M434+Foglio1!$C$13), NA())","v":{"$error":"#N/A"}},{"$f":"IF(M434>Foglio1!$I$7,1,0)","v":0}]
[8.2000000000000105E-11,{"$f":" IF(Foglio1!$C$9 <> \"\", A435 / (A435+Foglio1!$C$9), NA())","v":{"$error":"#N/A"}},{"$f":"IF(A435>Foglio1!$I$7,1,0)","v":0},8.2000000000000105E-11,{"$f":" IF(Foglio1!$C$10 <> \"\", D435 / (D435+Foglio1!$C$10), NA())","v":{"$error":"#N/A"}},{"$f":"IF(D435>Foglio1!$I$7,1,0)","v":0},8.2000000000000105E-11,{"$f":" IF(Foglio1!$C$11 <> \"\", G435 / (G435+Foglio1!$C$11), NA())","v":{"$error":"#N/A"}},{"$f":"IF(G435>Foglio1!$I$7,1,0)","v":0},8.2000000000000105E-11,{"$f":" IF(Foglio1!$C$12 <> \"\", J435 / (J435+Foglio1!$C$12), NA())","v":{"$error":"#N/A"}},{"$f":"IF(J435>Foglio1!$I$7,1,0)","v":0},8.2000000000000105E-11,{"$f":" IF(Foglio1!$C$13 <> \"\", M435 / (M435+Foglio1!$C$13), NA())","v":{"$error":"#N/A"}},{"$f":"IF(M435>Foglio1!$I$7,1,0)","v":0}]
[8.3000000000000101E-11,{"$f":" IF(Foglio1!$C$9 <> \"\", A436 / (A436+Foglio1!$C$9), NA())","v":{"$error":"#N/A"}},{"$f":"IF(A436>Foglio1!$I$7,1,0)","v":0},8.3000000000000101E-11,{"$f":" IF(Foglio1!$C$10 <> \"\", D436 / (D436+Foglio1!$C$10), NA())","v":{"$error":"#N/A"}},{"$f":"IF(D436>Foglio1!$I$7,1,0)","v":0},8.3000000000000101E-11,{"$f":" IF(Foglio1!$C$11 <> \"\", G436 / (G436+Foglio1!$C$11), NA())","v":{"$error":"#N/A"}},{"$f":"IF(G436>Foglio1!$I$7,1,0)","v":0},8.3000000000000101E-11,{"$f":" IF(Foglio1!$C$12 <> \"\", J436 / (J436+Foglio1!$C$12), NA())","v":{"$error":"#N/A"}},{"$f":"IF(J436>Foglio1!$I$7,1,0)","v":0},8.3000000000000101E-11,{"$f":" IF(Foglio1!$C$13 <> \"\", M436 / (M436+Foglio1!$C$13), NA())","v":{"$error":"#N/A"}},{"$f":"IF(M436>Foglio1!$I$7,1,0)","v":0}]
[8.4000000000000098E-11,{"$f":" IF(Foglio1!$C$9 <> \"\", A437 / (A437+Foglio1!$C$9), NA())","v":{"$error":"#N/A"}},{"$f":"IF(A437>Foglio1!$I$7,1,0)","v":0},8.4000000000000098E-11,{"$f":" IF(Foglio1!$C$10 <> \"\", D437 / (D437+Foglio1!$C$10), NA())","v":{"$error":"#N/A"}},{"$f":"IF(D437>Foglio1!$I$7,1,0)","v":0},8.4000000000000098E-11,{"$f":" IF(Foglio1!$C$11 <> \"\", G437 / (G437+Foglio1!$C$11), NA())","v":{"$error":"#N/A"}},{"$f":"IF(G437>Foglio1!$I$7,1,0)","v":0},8.4000000000000098E-11,{"$f":" IF(Foglio1!$C$12 <> \"\", J437 / (J437+Foglio1!$C$12), NA())","v":{"$error":"#N/A"}},{"$f":"IF(J437>Foglio1!$I$7,1,0)","v":0},8.4000000000000098E-11,{"$f":" IF(Foglio1!$C$13 <> \"\", M437 / (M437+Foglio1!$C$13), NA())","v":{"$error":"#N/A"}},{"$f":"IF(M437>Foglio1!$I$7,1,0)","v":0}]
[8.5000000000000094E-11,{"$f":" IF(Foglio1!$C$9 <> \"\", A438 / (A438+Foglio1!$C$9), NA())","v":{"$error":"#N/A"}},{"$f":"IF(A438>Foglio1!$I$7,1,0)","v":0},8.5000000000000094E-11,{"$f":" IF(Foglio1!$C$10 <> \"\", D438 / (D438+Foglio1!$C$10), NA())","v":{"$error":"#N/A"}},{"$f":"IF(D438>Foglio1!$I$7,1,0)","v":0},8.5000000000000094E-11,{"$f":" IF(Foglio1!$C$11 <> \"\", G438 / (G438+Foglio1!$C$11), NA())","v":{"$error":"#N/A"}},{"$f":"IF(G438>Foglio1!$I$7,1,0)","v":0},8.5000000000000094E-11,{"$f":" IF(Foglio1!$C$12 <> \"\", J438 / (J438+Foglio1!$C$12), NA())","v":{"$error":"#N/A"}},{"$f":"IF(J438>Foglio1!$I$7,1,0)","v":0},8.5000000000000094E-11,{"$f":" IF(Foglio1!$C$13 <> \"\", M438 / (M438+Foglio1!$C$13), NA())","v":{"$error":"#N/A"}},{"$f":"IF(M438>Foglio1!$I$7,1,0)","v":0}]
[8.6000000000000104E-11,{"$f":" IF(Foglio1!$C$9 <> \"\", A439 / (A439+Foglio1!$C$9), NA())","v":{"$error":"#N/A"}},{"$f":"IF(A439>Foglio1!$I$7,1,0)","v":0},8.6000000000000104E-11,{"$f":" IF(Foglio1!$C$10 <> \"\", D439 / (D439+Foglio1!$C$10), NA())","v":{"$error":"#N/A"}},{"$f":"IF(D439>Foglio1!$I$7,1,0)","v":0},8.6000000000000104E-11,{"$f":" IF(Foglio1!$C$11 <> \"\", G439 / (G439+Foglio1!$C$11), NA())","v":{"$error":"#N/A"}},{"$f":"IF(G439>Foglio1!$I$7,1,0)","v":0},8.6000000000000104E-11,{"$f":" IF(Foglio1!$C$12 <> \"\", J439 / (J439+Foglio1!$C$12), NA())","v":{"$error":"#N/A"}},{"$f":"IF(J439>Foglio1!$I$7,1,0)","v":0},8.6000000000000104E-11,{"$f":" IF(Foglio1!$C$13 <> \"\", M439 / (M439+Foglio1!$C$13), NA())","v":{"$error":"#N/A"}},{"$f":"IF(M439>Foglio1!$I$7,1,0)","v":0}]
[8.70000000000001E-11,{"$f":" IF(Foglio1!$C$9 <> \"\", A440 / (A440+Foglio1!$C$9), NA())","v":{"$error":"#N/A"}},{"$f":"IF(A440>Foglio1!$I$7,1,0)","v":0},8.70000000000001E-11,{"$f":" IF(Foglio1!$C$10 <> \"\", D440 / (D440+Foglio1!$C$10), NA())","v":{"$error":"#N/A"}},{"$f":"IF(D440>Foglio1!$I$7,1,0)","v":0},8.70000000000001E-11,{"$f":" IF(Foglio1!$C$11 <> \"\", G440 / (G440+Foglio1!$C$11), NA())","v":{"$error":"#N/A"}},{"$f":"IF(G440>Foglio1!$I$7,1,0)","v":0},8.70000000000001E-11,{"$f":" IF(Foglio1!$C$12 <> \"\", J440 / (J440+Foglio1!$C$12), NA())","v":{"$error":"#N/A"}},{"$f":"IF(J440>Foglio1!$I$7,1,0)","v":0},8.70000000000001E-11,{"$f":" IF(Foglio1!$C$13 <> \"\", M440 / (M440+Foglio1!$C$13), NA())","v":{"$error":"#N/A"}},{"$f":"IF(M440>Foglio1!$I$7,1,0)","v":0}]
[8.8000000000000097E-11,{"$f":" IF(Foglio1!$C$9 <> \"\", A441 / (A441+Foglio1!$C$9), NA())","v":{"$error":"#N/A"}},{"$f":"IF(A441>Foglio1!$I$7,1,0)","v":0},8.8000000000000097E-11,{"$f":" IF(Foglio1!$C$10 <> \"\", D441 / (D441+Foglio1!$C$10), NA())","v":{"$error":"#N/A"}},{"$f":"IF(D441>Foglio1!$I$7,1,0)","v":0},8.8000000000000097E-11,{"$f":" IF(Foglio1!$C$11 <> \"\", G441 / (G441+Foglio1!$C$11), NA())","v":{"$error":"#N/A"}},{"$f":"IF(G441>Foglio1!$I$7,1,0)","v":0},8.8000000000000097E-11,{"$f":" IF(Foglio1!$C$12 <> \"\", J441 / (J441+Foglio1!$C$12), NA())","v":{"$error":"#N/A"}},{"$f":"IF(J441>Foglio1!$I$7,1,0)","v":0},8.8000000000000097E-11,{"$f":" IF(Foglio1!$C$13 <> \"\", M441 / (M441+Foglio1!$C$13), NA())","v":{"$error":"#N/A"}},{"$f":"IF(M441>Foglio1!$I$7,1,0)","v":0}]
[8.9000000000000106E-11,{"$f":" IF(Foglio1!$C$9 <> \"\", A442 / (A442+Foglio1!$C$9), NA())","v":{"$error":"#N/A"}},{"$f":"IF(A442>Foglio1!$I$7,1,0)","v":0},8.9000000000000106E-11,{"$f":" IF(Foglio1!$C$10 <> \"\", D442 / (D442+Foglio1!$C$10), NA())","v":{"$error":"#N/A"}},{"$f":"IF(D442>Foglio1!$I$7,1,0)","v":0},8.9000000000000106E-11,{"$f":" IF(Foglio1!$C$11 <> \"\", G442 / (G442+Foglio1!$C$11), NA())","v":{"$error":"#N/A"}},{"$f":"IF(G442>Foglio1!$I$7,1,0)","v":0},8.9000000000000106E-11,{"$f":" IF(Foglio1!$C$12 <> \"\", J442 / (J442+Foglio1!$C$12), NA())","v":{"$error":"#N/A"}},{"$f":"IF(J442>Foglio1!$I$7,1,0)","v":0},8.9000000000000106E-11,{"$f":" IF(Foglio1!$C$13 <> \"\", M442 / (M442+Foglio1!$C$13), NA())","v":{"$error":"#N/A"}},{"$f":"IF(M442>Foglio1!$I$7,1,0)","v":0}]
[9.0000000000000103E-11,{"$f":" IF(Foglio1!$C$9 <> \"\", A443 / (A443+Foglio1!$C$9), NA())","v":{"$error":"#N/A"}},{"$f":"IF(A443>Foglio1!$I$7,1,0)","v":0},9.0000000000000103E-11,{"$f":" IF(Foglio1!$C$10 <> \"\", D443 / (D443+Foglio1!$C$10), NA())","v":{"$error":"#N/A"}},{"$f":"IF(D443>Foglio1!$I$7,1,0)","v":0},9.0000000000000103E-11,{"$f":" IF(Foglio1!$C$11 <> \"\", G443 / (G443+Foglio1!$C$11), NA())","v":{"$error":"#N/A"}},{"$f":"IF(G443>Foglio1!$I$7,1,0)","v":0},9.0000000000000103E-11,{"$f":" IF(Foglio1!$C$12 <> \"\", J443 / (J443+Foglio1!$C$12), NA())","v":{"$error":"#N/A"}},{"$f":"IF(J443>Foglio1!$I$7,1,0)","v":0},9.0000000000000103E-11,{"$f":" IF(Foglio1!$C$13 <> \"\", M443 / (M443+Foglio1!$C$13), NA())","v":{"$error":"#N/A"}},{"$f":"IF(M443>Foglio1!$I$7,1,0)","v":0}]
[9.1000000000000099E-11,{"$f":" IF(Foglio1!$C$9 <> \"\", A444 / (A444+Foglio1!$C$9), NA())","v":{"$error":"#N/A"}},{"$f":"IF(A444>Foglio1!$I$7,1,0)","v":0},9.1000000000000099E-11,{"$f":" IF(Foglio1!$C$10 <> \"\", D444 / (D444+Foglio1!$C$10), NA())","v":{"$error":"#N/A"}},{"$f":"IF(D444>Foglio1!$I$7,1,0)","v":0},9.1000000000000099E-11,{"$f":" IF(Foglio1!$C$11 <> \"\", G444 / (G444+Foglio1!$C$11), NA())","v":{"$error":"#N/A"}},{"$f":"IF(G444>Foglio1!$I$7,1,0)","v":0},9.1000000000000099E-11,{"$f":" IF(Foglio1!$C$12 <> \"\", J444 / (J444+Foglio1!$C$12), NA())","v":{"$error":"#N/A"}},{"$f":"IF(J444>Foglio1!$I$7,1,0)","v":0},9.1000000000000099E-11,{"$f":" IF(Foglio1!$C$13 <> \"\", M444 / (M444+Foglio1!$C$13), NA())","v":{"$error":"#N/A"}},{"$f":"IF(M444>Foglio1!$I$7,1,0)","v":0}]
[9.2000000000000096E-11,{"$f":" IF(Foglio1!$C$9 <> \"\", A445 / (A445+Foglio1!$C$9), NA())","v":{"$error":"#N/A"}},{"$f":"IF(A445>Foglio1!$I$7,1,0)","v":0},9.2000000000000096E-11,{"$f":" IF(Foglio1!$C$10 <> \"\", D445 / (D445+Foglio1!$C$10), NA())","v":{"$error":"#N/A"}},{"$f":"IF(D445>Foglio1!$I$7,1,0)","v":0},9.2000000000000096E-11,{"$f":" IF(Foglio1!$C$11 <> \"\", G445 / (G445+Foglio1!$C$11), NA())","v":{"$error":"#N/A"}},{"$f":"IF(G445>Foglio1!$I$7,1,0)","v":0},9.2000000000000096E-11,{"$f":" IF(Foglio1!$C$12 <> \"\", J445 / (J445+Foglio1!$C$12), NA())","v":{"$error":"#N/A"}},{"$f":"IF(J445>Foglio1!$I$7,1,0)","v":0},9.2000000000000096E-11,{"$f":" IF(Foglio1!$C$13 <> \"\", M445 / (M445+Foglio1!$C$13), NA())","v":{"$error":"#N/A"}},{"$f":"IF(M445>Foglio1!$I$7,1,0)","v":0}]
[9.3000000000000105E-11,{"$f":" IF(Foglio1!$C$9 <> \"\", A446 / (A446+Foglio1!$C$9), NA())","v":{"$error":"#N/A"}},{"$f":"IF(A446>Foglio1!$I$7,1,0)","v":0},9.3000000000000105E-11,{"$f":" IF(Foglio1!$C$10 <> \"\", D446 / (D446+Foglio1!$C$10), NA())","v":{"$error":"#N/A"}},{"$f":"IF(D446>Foglio1!$I$7,1,0)","v":0},9.3000000000000105E-11,{"$f":" IF(Foglio1!$C$11 <> \"\", G446 / (G446+Foglio1!$C$11), NA())","v":{"$error":"#N/A"}},{"$f":"IF(G446>Foglio1!$I$7,1,0)","v":0},9.3000000000000105E-11,{"$f":" IF(Foglio1!$C$12 <> \"\", J446 / (J446+Foglio1!$C$12), NA())","v":{"$error":"#N/A"}},{"$f":"IF(J446>Foglio1!$I$7,1,0)","v":0},9.3000000000000105E-11,{"$f":" IF(Foglio1!$C$13 <> \"\", M446 / (M446+Foglio1!$C$13), NA())","v":{"$error":"#N/A"}},{"$f":"IF(M446>Foglio1!$I$7,1,0)","v":0}]
[9.4000000000000102E-11,{"$f":" IF(Foglio1!$C$9 <> \"\", A447 / (A447+Foglio1!$C$9), NA())","v":{"$error":"#N/A"}},{"$f":"IF(A447>Foglio1!$I$7,1,0)","v":0},9.4000000000000102E-11,{"$f":" IF(Foglio1!$C$10 <> \"\", D447 / (D447+Foglio1!$C$10), NA())","v":{"$error":"#N/A"}},{"$f":"IF(D447>Foglio1!$I$7,1,0)","v":0},9.4000000000000102E-11,{"$f":" IF(Foglio1!$C$11 <> \"\", G447 / (G447+Foglio1!$C$11), NA())","v":{"$error":"#N/A"}},{"$f":"IF(G447>Foglio1!$I$7,1,0)","v":0},9.4000000000000102E-11,{"$f":" IF(Foglio1!$C$12 <> \"\", J447 / (J447+Foglio1!$C$12), NA())","v":{"$error":"#N/A"}},{"$f":"IF(J447>Foglio1!$I$7,1,0)","v":0},9.4000000000000102E-11,{"$f":" IF(Foglio1!$C$13 <> \"\", M447 / (M447+Foglio1!$C$13), NA())","v":{"$error":"#N/A"}},{"$f":"IF(M447>Foglio1!$I$7,1,0)","v":0}]
[9.5000000000000098E-11,{"$f":" IF(Foglio1!$C$9 <> \"\", A448 / (A448+Foglio1!$C$9), NA())","v":{"$error":"#N/A"}},{"$f":"IF(A448>Foglio1!$I$7,1,0)","v":0},9.5000000000000098E-11,{"$f":" IF(Foglio1!$C$10 <> \"\", D448 / (D448+Foglio1!$C$10), NA())","v":{"$error":"#N/A"}},{"$f":"IF(D448>Foglio1!$I$7,1,0)","v":0},9.5000000000000098E-11,{"$f":" IF(Foglio1!$C$11 <> \"\", G448 / (G448+Foglio1!$C$11), NA())","v":{"$error":"#N/A"}},{"$f":"IF(G448>Foglio1!$I$7,1,0)","v":0},9.5000000000000098E-11,{"$f":" IF(Foglio1!$C$12 <> \"\", J448 / (J448+Foglio1!$C$12), NA())","v":{"$error":"#N/A"}},{"$f":"IF(J448>Foglio1!$I$7,1,0)","v":0},9.5000000000000098E-11,{"$f":" IF(Foglio1!$C$13 <> \"\", M448 / (M448+Foglio1!$C$13), NA())","v":{"$error":"#N/A"}},{"$f":"IF(M448>Foglio1!$I$7,1,0)","v":0}]
[9.6000000000000095E-11,{"$f":" IF(Foglio1!$C$9 <> \"\", A449 / (A449+Foglio1!$C$9), NA())","v":{"$error":"#N/A"}},{"$f":"IF(A449>Foglio1!$I$7,1,0)","v":0},9.6000000000000095E-11,{"$f":" IF(Foglio1!$C$10 <> \"\", D449 / (D449+Foglio1!$C$10), NA())","v":{"$error":"#N/A"}},{"$f":"IF(D449>Foglio1!$I$7,1,0)","v":0},9.6000000000000095E-11,{"$f":" IF(Foglio1!$C$11 <> \"\", G449 / (G449+Foglio1!$C$11), NA())","v":{"$error":"#N/A"}},{"$f":"IF(G449>Foglio1!$I$7,1,0)","v":0},9.6000000000000095E-11,{"$f":" IF(Foglio1!$C$12 <> \"\", J449 / (J449+Foglio1!$C$12), NA())","v":{"$error":"#N/A"}},{"$f":"IF(J449>Foglio1!$I$7,1,0)","v":0},9.6000000000000095E-11,{"$f":" IF(Foglio1!$C$13 <> \"\", M449 / (M449+Foglio1!$C$13), NA())","v":{"$error":"#N/A"}},{"$f":"IF(M449>Foglio1!$I$7,1,0)","v":0}]
[9.7000000000000104E-11,{"$f":" IF(Foglio1!$C$9 <> \"\", A450 / (A450+Foglio1!$C$9), NA())","v":{"$error":"#N/A"}},{"$f":"IF(A450>Foglio1!$I$7,1,0)","v":0},9.7000000000000104E-11,{"$f":" IF(Foglio1!$C$10 <> \"\", D450 / (D450+Foglio1!$C$10), NA())","v":{"$error":"#N/A"}},{"$f":"IF(D450>Foglio1!$I$7,1,0)","v":0},9.7000000000000104E-11,{"$f":" IF(Foglio1!$C$11 <> \"\", G450 / (G450+Foglio1!$C$11), NA())","v":{"$error":"#N/A"}},{"$f":"IF(G450>Foglio1!$I$7,1,0)","v":0},9.7000000000000104E-11,{"$f":" IF(Foglio1!$C$12 <> \"\", J450 / (J450+Foglio1!$C$12), NA())","v":{"$error":"#N/A"}},{"$f":"IF(J450>Foglio1!$I$7,1,0)","v":0},9.7000000000000104E-11,{"$f":" IF(Foglio1!$C$13 <> \"\", M450 / (M450+Foglio1!$C$13), NA())","v":{"$error":"#N/A"}},{"$f":"IF(M450>Foglio1!$I$7,1,0)","v":0}]
[9.8000000000000101E-11,{"$f":" IF(Foglio1!$C$9 <> \"\", A451 / (A451+Foglio1!$C$9), NA())","v":{"$error":"#N/A"}},{"$f":"IF(A451>Foglio1!$I$7,1,0)","v":0},9.8000000000000101E-11,{"$f":" IF(Foglio1!$C$10 <> \"\", D451 / (D451+Foglio1!$C$10), NA())","v":{"$error":"#N/A"}},{"$f":"IF(D451>Foglio1!$I$7,1,0)","v":0},9.8000000000000101E-11,{"$f":" IF(Foglio1!$C$11 <> \"\", G451 / (G451+Foglio1!$C$11), NA())","v":{"$error":"#N/A"}},{"$f":"IF(G451>Foglio1!$I$7,1,0)","v":0},9.8000000000000101E-11,{"$f":" IF(Foglio1!$C$12 <> \"\", J451 / (J451+Foglio1!$C$12), NA())","v":{"$error":"#N/A"}},{"$f":"IF(J451>Foglio1!$I$7,1,0)","v":0},9.8000000000000101E-11,{"$f":" IF(Foglio1!$C$13 <> \"\", M451 / (M451+Foglio1!$C$13), NA())","v":{"$error":"#N/A"}},{"$f":"IF(M451>Foglio1!$I$7,1,0)","v":0}]
[9.9000000000000098E-11,{"$f":" IF(Foglio1!$C$9 <> \"\", A452 / (A452+Foglio1!$C$9), NA())","v":{"$error":"#N/A"}},{"$f":"IF(A452>Foglio1!$I$7,1,0)","v":0},9.9000000000000098E-11,{"$f":" IF(Foglio1!$C$10 <> \"\", D452 / (D452+Foglio1!$C$10), NA())","v":{"$error":"#N/A"}},{"$f":"IF(D452>Foglio1!$I$7,1,0)","v":0},9.9000000000000098E-11,{"$f":" IF(Foglio1!$C$11 <> \"\", G452 / (G452+Foglio1!$C$11), NA())","v":{"$error":"#N/A"}},{"$f":"IF(G452>Foglio1!$I$7,1,0)","v":0},9.9000000000000098E-11,{"$f":" IF(Foglio1!$C$12 <> \"\", J452 / (J452+Foglio1!$C$12), NA())","v":{"$error":"#N/A"}},{"$f":"IF(J452>Foglio1!$I$7,1,0)","v":0},9.9000000000000098E-11,{"$f":" IF(Foglio1!$C$13 <> \"\", M452 / (M452+Foglio1!$C$13), NA())","v":{"$error":"#N/A"}},{"$f":"IF(M452>Foglio1!$I$7,1,0)","v":0}]
[1E-10,{"$f":" IF(Foglio1!$C$9 <> \"\", A453 / (A453+Foglio1!$C$9), NA())","v":{"$error":"#N/A"}},{"$f":"IF(A453>Foglio1!$I$7,1,0)","v":0},1E-10,{"$f":" IF(Foglio1!$C$10 <> \"\", D453 / (D453+Foglio1!$C$10), NA())","v":{"$error":"#N/A"}},{"$f":"IF(D453>Foglio1!$I$7,1,0)","v":0},1E-10,{"$f":" IF(Foglio1!$C$11 <> \"\", G453 / (G453+Foglio1!$C$11), NA())","v":{"$error":"#N/A"}},{"$f":"IF(G453>Foglio1!$I$7,1,0)","v":0},1E-10,{"$f":" IF(Foglio1!$C$12 <> \"\", J453 / (J453+Foglio1!$C$12), NA())","v":{"$error":"#N/A"}},{"$f":"IF(J453>Foglio1!$I$7,1,0)","v":0},1E-10,{"$f":" IF(Foglio1!$C$13 <> \"\", M453 / (M453+Foglio1!$C$13), NA())","v":{"$error":"#N/A"}},{"$f":"IF(M453>Foglio1!$I$7,1,0)","v":0}]
[1.0999999999999999E-10,{"$f":" IF(Foglio1!$C$9 <> \"\", A454 / (A454+Foglio1!$C$9), NA())","v":{"$error":"#N/A"}},{"$f":"IF(A454>Foglio1!$I$7,1,0)","v":0},1.0999999999999999E-10,{"$f":" IF(Foglio1!$C$10 <> \"\", D454 / (D454+Foglio1!$C$10), NA())","v":{"$error":"#N/A"}},{"$f":"IF(D454>Foglio1!$I$7,1,0)","v":0},1.0999999999999999E-10,{"$f":" IF(Foglio1!$C$11 <> \"\", G454 / (G454+Foglio1!$C$11), NA())","v":{"$error":"#N/A"}},{"$f":"IF(G454>Foglio1!$I$7,1,0)","v":0},1.0999999999999999E-10,{"$f":" IF(Foglio1!$C$12 <> \"\", J454 / (J454+Foglio1!$C$12), NA())","v":{"$error":"#N/A"}},{"$f":"IF(J454>Foglio1!$I$7,1,0)","v":0},1.0999999999999999E-10,{"$f":" IF(Foglio1!$C$13 <> \"\", M454 / (M454+Foglio1!$C$13), NA())","v":{"$error":"#N/A"}},{"$f":"IF(M454>Foglio1!$I$7,1,0)","v":0}]
[1.2E-10,{"$f":" IF(Foglio1!$C$9 <> \"\", A455 / (A455+Foglio1!$C$9), NA())","v":{"$error":"#N/A"}},{"$f":"IF(A455>Foglio1!$I$7,1,0)","v":0},1.2E-10,{"$f":" IF(Foglio1!$C$10 <> \"\", D455 / (D455+Foglio1!$C$10), NA())","v":{"$error":"#N/A"}},{"$f":"IF(D455>Foglio1!$I$7,1,0)","v":0},1.2E-10,{"$f":" IF(Foglio1!$C$11 <> \"\", G455 / (G455+Foglio1!$C$11), NA())","v":{"$error":"#N/A"}},{"$f":"IF(G455>Foglio1!$I$7,1,0)","v":0},1.2E-10,{"$f":" IF(Foglio1!$C$12 <> \"\", J455 / (J455+Foglio1!$C$12), NA())","v":{"$error":"#N/A"}},{"$f":"IF(J455>Foglio1!$I$7,1,0)","v":0},1.2E-10,{"$f":" IF(Foglio1!$C$13 <> \"\", M455 / (M455+Foglio1!$C$13), NA())","v":{"$error":"#N/A"}},{"$f":"IF(M455>Foglio1!$I$7,1,0)","v":0}]
[1.2999999999999999E-10,{"$f":" IF(Foglio1!$C$9 <> \"\", A456 / (A456+Foglio1!$C$9), NA())","v":{"$error":"#N/A"}},{"$f":"IF(A456>Foglio1!$I$7,1,0)","v":0},1.2999999999999999E-10,{"$f":" IF(Foglio1!$C$10 <> \"\", D456 / (D456+Foglio1!$C$10), NA())","v":{"$error":"#N/A"}},{"$f":"IF(D456>Foglio1!$I$7,1,0)","v":0},1.2999999999999999E-10,{"$f":" IF(Foglio1!$C$11 <> \"\", G456 / (G456+Foglio1!$C$11), NA())","v":{"$error":"#N/A"}},{"$f":"IF(G456>Foglio1!$I$7,1,0)","v":0},1.2999999999999999E-10,{"$f":" IF(Foglio1!$C$12 <> \"\", J456 / (J456+Foglio1!$C$12), NA())","v":{"$error":"#N/A"}},{"$f":"IF(J456>Foglio1!$I$7,1,0)","v":0},1.2999999999999999E-10,{"$f":" IF(Foglio1!$C$13 <> \"\", M456 / (M456+Foglio1!$C$13), NA())","v":{"$error":"#N/A"}},{"$f":"IF(M456>Foglio1!$I$7,1,0)","v":0}]
[1.4000000000000001E-10,{"$f":" IF(Foglio1!$C$9 <> \"\", A457 / (A457+Foglio1!$C$9), NA())","v":{"$error":"#N/A"}},{"$f":"IF(A457>Foglio1!$I$7,1,0)","v":0},1.4000000000000001E-10,{"$f":" IF(Foglio1!$C$10 <> \"\", D457 / (D457+Foglio1!$C$10), NA())","v":{"$error":"#N/A"}},{"$f":"IF(D457>Foglio1!$I$7,1,0)","v":0},1.4000000000000001E-10,{"$f":" IF(Foglio1!$C$11 <> \"\", G457 / (G457+Foglio1!$C$11), NA())","v":{"$error":"#N/A"}},{"$f":"IF(G457>Foglio1!$I$7,1,0)","v":0},1.4000000000000001E-10,{"$f":" IF(Foglio1!$C$12 <> \"\", J457 / (J457+Foglio1!$C$12), NA())","v":{"$error":"#N/A"}},{"$f":"IF(J457>Foglio1!$I$7,1,0)","v":0},1.4000000000000001E-10,{"$f":" IF(Foglio1!$C$13 <> \"\", M457 / (M457+Foglio1!$C$13), NA())","v":{"$error":"#N/A"}},{"$f":"IF(M457>Foglio1!$I$7,1,0)","v":0}]
[1.5E-10,{"$f":" IF(Foglio1!$C$9 <> \"\", A458 / (A458+Foglio1!$C$9), NA())","v":{"$error":"#N/A"}},{"$f":"IF(A458>Foglio1!$I$7,1,0)","v":0},1.5E-10,{"$f":" IF(Foglio1!$C$10 <> \"\", D458 / (D458+Foglio1!$C$10), NA())","v":{"$error":"#N/A"}},{"$f":"IF(D458>Foglio1!$I$7,1,0)","v":0},1.5E-10,{"$f":" IF(Foglio1!$C$11 <> \"\", G458 / (G458+Foglio1!$C$11), NA())","v":{"$error":"#N/A"}},{"$f":"IF(G458>Foglio1!$I$7,1,0)","v":0},1.5E-10,{"$f":" IF(Foglio1!$C$12 <> \"\", J458 / (J458+Foglio1!$C$12), NA())","v":{"$error":"#N/A"}},{"$f":"IF(J458>Foglio1!$I$7,1,0)","v":0},1.5E-10,{"$f":" IF(Foglio1!$C$13 <> \"\", M458 / (M458+Foglio1!$C$13), NA())","v":{"$error":"#N/A"}},{"$f":"IF(M458>Foglio1!$I$7,1,0)","v":0}]
[1.5999999999999999E-10,{"$f":" IF(Foglio1!$C$9 <> \"\", A459 / (A459+Foglio1!$C$9), NA())","v":{"$error":"#N/A"}},{"$f":"IF(A459>Foglio1!$I$7,1,0)","v":0},1.5999999999999999E-10,{"$f":" IF(Foglio1!$C$10 <> \"\", D459 / (D459+Foglio1!$C$10), NA())","v":{"$error":"#N/A"}},{"$f":"IF(D459>Foglio1!$I$7,1,0)","v":0},1.5999999999999999E-10,{"$f":" IF(Foglio1!$C$11 <> \"\", G459 / (G459+Foglio1!$C$11), NA())","v":{"$error":"#N/A"}},{"$f":"IF(G459>Foglio1!$I$7,1,0)","v":0},1.5999999999999999E-10,{"$f":" IF(Foglio1!$C$12 <> \"\", J459 / (J459+Foglio1!$C$12), NA())","v":{"$error":"#N/A"}},{"$f":"IF(J459>Foglio1!$I$7,1,0)","v":0},1.5999999999999999E-10,{"$f":" IF(Foglio1!$C$13 <> \"\", M459 / (M459+Foglio1!$C$13), NA())","v":{"$error":"#N/A"}},{"$f":"IF(M459>Foglio1!$I$7,1,0)","v":0}]
[1.7000000000000001E-10,{"$f":" IF(Foglio1!$C$9 <> \"\", A460 / (A460+Foglio1!$C$9), NA())","v":{"$error":"#N/A"}},{"$f":"IF(A460>Foglio1!$I$7,1,0)","v":0},1.7000000000000001E-10,{"$f":" IF(Foglio1!$C$10 <> \"\", D460 / (D460+Foglio1!$C$10), NA())","v":{"$error":"#N/A"}},{"$f":"IF(D460>Foglio1!$I$7,1,0)","v":0},1.7000000000000001E-10,{"$f":" IF(Foglio1!$C$11 <> \"\", G460 / (G460+Foglio1!$C$11), NA())","v":{"$error":"#N/A"}},{"$f":"IF(G460>Foglio1!$I$7,1,0)","v":0},1.7000000000000001E-10,{"$f":" IF(Foglio1!$C$12 <> \"\", J460 / (J460+Foglio1!$C$12), NA())","v":{"$error":"#N/A"}},{"$f":"IF(J460>Foglio1!$I$7,1,0)","v":0},1.7000000000000001E-10,{"$f":" IF(Foglio1!$C$13 <> \"\", M460 / (M460+Foglio1!$C$13), NA())","v":{"$error":"#N/A"}},{"$f":"IF(M460>Foglio1!$I$7,1,0)","v":0}]
[1.8E-10,{"$f":" IF(Foglio1!$C$9 <> \"\", A461 / (A461+Foglio1!$C$9), NA())","v":{"$error":"#N/A"}},{"$f":"IF(A461>Foglio1!$I$7,1,0)","v":0},1.8E-10,{"$f":" IF(Foglio1!$C$10 <> \"\", D461 / (D461+Foglio1!$C$10), NA())","v":{"$error":"#N/A"}},{"$f":"IF(D461>Foglio1!$I$7,1,0)","v":0},1.8E-10,{"$f":" IF(Foglio1!$C$11 <> \"\", G461 / (G461+Foglio1!$C$11), NA())","v":{"$error":"#N/A"}},{"$f":"IF(G461>Foglio1!$I$7,1,0)","v":0},1.8E-10,{"$f":" IF(Foglio1!$C$12 <> \"\", J461 / (J461+Foglio1!$C$12), NA())","v":{"$error":"#N/A"}},{"$f":"IF(J461>Foglio1!$I$7,1,0)","v":0},1.8E-10,{"$f":" IF(Foglio1!$C$13 <> \"\", M461 / (M461+Foglio1!$C$13), NA())","v":{"$error":"#N/A"}},{"$f":"IF(M461>Foglio1!$I$7,1,0)","v":0}]
[1.8999999999999999E-10,{"$f":" IF(Foglio1!$C$9 <> \"\", A462 / (A462+Foglio1!$C$9), NA())","v":{"$error":"#N/A"}},{"$f":"IF(A462>Foglio1!$I$7,1,0)","v":0},1.8999999999999999E-10,{"$f":" IF(Foglio1!$C$10 <> \"\", D462 / (D462+Foglio1!$C$10), NA())","v":{"$error":"#N/A"}},{"$f":"IF(D462>Foglio1!$I$7,1,0)","v":0},1.8999999999999999E-10,{"$f":" IF(Foglio1!$C$11 <> \"\", G462 / (G462+Foglio1!$C$11), NA())","v":{"$error":"#N/A"}},{"$f":"IF(G462>Foglio1!$I$7,1,0)","v":0},1.8999999999999999E-10,{"$f":" IF(Foglio1!$C$12 <> \"\", J462 / (J462+Foglio1!$C$12), NA())","v":{"$error":"#N/A"}},{"$f":"IF(J462>Foglio1!$I$7,1,0)","v":0},1.8999999999999999E-10,{"$f":" IF(Foglio1!$C$13 <> \"\", M462 / (M462+Foglio1!$C$13), NA())","v":{"$error":"#N/A"}},{"$f":"IF(M462>Foglio1!$I$7,1,0)","v":0}]
[2.0000000000000001E-10,{"$f":" IF(Foglio1!$C$9 <> \"\", A463 / (A463+Foglio1!$C$9), NA())","v":{"$error":"#N/A"}},{"$f":"IF(A463>Foglio1!$I$7,1,0)","v":0},2.0000000000000001E-10,{"$f":" IF(Foglio1!$C$10 <> \"\", D463 / (D463+Foglio1!$C$10), NA())","v":{"$error":"#N/A"}},{"$f":"IF(D463>Foglio1!$I$7,1,0)","v":0},2.0000000000000001E-10,{"$f":" IF(Foglio1!$C$11 <> \"\", G463 / (G463+Foglio1!$C$11), NA())","v":{"$error":"#N/A"}},{"$f":"IF(G463>Foglio1!$I$7,1,0)","v":0},2.0000000000000001E-10,{"$f":" IF(Foglio1!$C$12 <> \"\", J463 / (J463+Foglio1!$C$12), NA())","v":{"$error":"#N/A"}},{"$f":"IF(J463>Foglio1!$I$7,1,0)","v":0},2.0000000000000001E-10,{"$f":" IF(Foglio1!$C$13 <> \"\", M463 / (M463+Foglio1!$C$13), NA())","v":{"$error":"#N/A"}},{"$f":"IF(M463>Foglio1!$I$7,1,0)","v":0}]
[2.1E-10,{"$f":" IF(Foglio1!$C$9 <> \"\", A464 / (A464+Foglio1!$C$9), NA())","v":{"$error":"#N/A"}},{"$f":"IF(A464>Foglio1!$I$7,1,0)","v":0},2.1E-10,{"$f":" IF(Foglio1!$C$10 <> \"\", D464 / (D464+Foglio1!$C$10), NA())","v":{"$error":"#N/A"}},{"$f":"IF(D464>Foglio1!$I$7,1,0)","v":0},2.1E-10,{"$f":" IF(Foglio1!$C$11 <> \"\", G464 / (G464+Foglio1!$C$11), NA())","v":{"$error":"#N/A"}},{"$f":"IF(G464>Foglio1!$I$7,1,0)","v":0},2.1E-10,{"$f":" IF(Foglio1!$C$12 <> \"\", J464 / (J464+Foglio1!$C$12), NA())","v":{"$error":"#N/A"}},{"$f":"IF(J464>Foglio1!$I$7,1,0)","v":0},2.1E-10,{"$f":" IF(Foglio1!$C$13 <> \"\", M464 / (M464+Foglio1!$C$13), NA())","v":{"$error":"#N/A"}},{"$f":"IF(M464>Foglio1!$I$7,1,0)","v":0}]
[2.1999999999999999E-10,{"$f":" IF(Foglio1!$C$9 <> \"\", A465 / (A465+Foglio1!$C$9), NA())","v":{"$error":"#N/A"}},{"$f":"IF(A465>Foglio1!$I$7,1,0)","v":0},2.1999999999999999E-10,{"$f":" IF(Foglio1!$C$10 <> \"\", D465 / (D465+Foglio1!$C$10), NA())","v":{"$error":"#N/A"}},{"$f":"IF(D465>Foglio1!$I$7,1,0)","v":0},2.1999999999999999E-10,{"$f":" IF(Foglio1!$C$11 <> \"\", G465 / (G465+Foglio1!$C$11), NA())","v":{"$error":"#N/A"}},{"$f":"IF(G465>Foglio1!$I$7,1,0)","v":0},2.1999999999999999E-10,{"$f":" IF(Foglio1!$C$12 <> \"\", J465 / (J465+Foglio1!$C$12), NA())","v":{"$error":"#N/A"}},{"$f":"IF(J465>Foglio1!$I$7,1,0)","v":0},2.1999999999999999E-10,{"$f":" IF(Foglio1!$C$13 <> \"\", M465 / (M465+Foglio1!$C$13), NA())","v":{"$error":"#N/A"}},{"$f":"IF(M465>Foglio1!$I$7,1,0)","v":0}]
[2.3000000000000001E-10,{"$f":" IF(Foglio1!$C$9 <> \"\", A466 / (A466+Foglio1!$C$9), NA())","v":{"$error":"#N/A"}},{"$f":"IF(A466>Foglio1!$I$7,1,0)","v":0},2.3000000000000001E-10,{"$f":" IF(Foglio1!$C$10 <> \"\", D466 / (D466+Foglio1!$C$10), NA())","v":{"$error":"#N/A"}},{"$f":"IF(D466>Foglio1!$I$7,1,0)","v":0},2.3000000000000001E-10,{"$f":" IF(Foglio1!$C$11 <> \"\", G466 / (G466+Foglio1!$C$11), NA())","v":{"$error":"#N/A"}},{"$f":"IF(G466>Foglio1!$I$7,1,0)","v":0},2.3000000000000001E-10,{"$f":" IF(Foglio1!$C$12 <> \"\", J466 / (J466+Foglio1!$C$12), NA())","v":{"$error":"#N/A"}},{"$f":"IF(J466>Foglio1!$I$7,1,0)","v":0},2.3000000000000001E-10,{"$f":" IF(Foglio1!$C$13 <> \"\", M466 / (M466+Foglio1!$C$13), NA())","v":{"$error":"#N/A"}},{"$f":"IF(M466>Foglio1!$I$7,1,0)","v":0}]
[2.4E-10,{"$f":" IF(Foglio1!$C$9 <> \"\", A467 / (A467+Foglio1!$C$9), NA())","v":{"$error":"#N/A"}},{"$f":"IF(A467>Foglio1!$I$7,1,0)","v":0},2.4E-10,{"$f":" IF(Foglio1!$C$10 <> \"\", D467 / (D467+Foglio1!$C$10), NA())","v":{"$error":"#N/A"}},{"$f":"IF(D467>Foglio1!$I$7,1,0)","v":0},2.4E-10,{"$f":" IF(Foglio1!$C$11 <> \"\", G467 / (G467+Foglio1!$C$11), NA())","v":{"$error":"#N/A"}},{"$f":"IF(G467>Foglio1!$I$7,1,0)","v":0},2.4E-10,{"$f":" IF(Foglio1!$C$12 <> \"\", J467 / (J467+Foglio1!$C$12), NA())","v":{"$error":"#N/A"}},{"$f":"IF(J467>Foglio1!$I$7,1,0)","v":0},2.4E-10,{"$f":" IF(Foglio1!$C$13 <> \"\", M467 / (M467+Foglio1!$C$13), NA())","v":{"$error":"#N/A"}},{"$f":"IF(M467>Foglio1!$I$7,1,0)","v":0}]
[2.5000000000000002E-10,{"$f":" IF(Foglio1!$C$9 <> \"\", A468 / (A468+Foglio1!$C$9), NA())","v":{"$error":"#N/A"}},{"$f":"IF(A468>Foglio1!$I$7,1,0)","v":0},2.5000000000000002E-10,{"$f":" IF(Foglio1!$C$10 <> \"\", D468 / (D468+Foglio1!$C$10), NA())","v":{"$error":"#N/A"}},{"$f":"IF(D468>Foglio1!$I$7,1,0)","v":0},2.5000000000000002E-10,{"$f":" IF(Foglio1!$C$11 <> \"\", G468 / (G468+Foglio1!$C$11), NA())","v":{"$error":"#N/A"}},{"$f":"IF(G468>Foglio1!$I$7,1,0)","v":0},2.5000000000000002E-10,{"$f":" IF(Foglio1!$C$12 <> \"\", J468 / (J468+Foglio1!$C$12), NA())","v":{"$error":"#N/A"}},{"$f":"IF(J468>Foglio1!$I$7,1,0)","v":0},2.5000000000000002E-10,{"$f":" IF(Foglio1!$C$13 <> \"\", M468 / (M468+Foglio1!$C$13), NA())","v":{"$error":"#N/A"}},{"$f":"IF(M468>Foglio1!$I$7,1,0)","v":0}]
[2.5999999999999998E-10,{"$f":" IF(Foglio1!$C$9 <> \"\", A469 / (A469+Foglio1!$C$9), NA())","v":{"$error":"#N/A"}},{"$f":"IF(A469>Foglio1!$I$7,1,0)","v":0},2.5999999999999998E-10,{"$f":" IF(Foglio1!$C$10 <> \"\", D469 / (D469+Foglio1!$C$10), NA())","v":{"$error":"#N/A"}},{"$f":"IF(D469>Foglio1!$I$7,1,0)","v":0},2.5999999999999998E-10,{"$f":" IF(Foglio1!$C$11 <> \"\", G469 / (G469+Foglio1!$C$11), NA())","v":{"$error":"#N/A"}},{"$f":"IF(G469>Foglio1!$I$7,1,0)","v":0},2.5999999999999998E-10,{"$f":" IF(Foglio1!$C$12 <> \"\", J469 / (J469+Foglio1!$C$12), NA())","v":{"$error":"#N/A"}},{"$f":"IF(J469>Foglio1!$I$7,1,0)","v":0},2.5999999999999998E-10,{"$f":" IF(Foglio1!$C$13 <> \"\", M469 / (M469+Foglio1!$C$13), NA())","v":{"$error":"#N/A"}},{"$f":"IF(M469>Foglio1!$I$7,1,0)","v":0}]
[2.7E-10,{"$f":" IF(Foglio1!$C$9 <> \"\", A470 / (A470+Foglio1!$C$9), NA())","v":{"$error":"#N/A"}},{"$f":"IF(A470>Foglio1!$I$7,1,0)","v":0},2.7E-10,{"$f":" IF(Foglio1!$C$10 <> \"\", D470 / (D470+Foglio1!$C$10), NA())","v":{"$error":"#N/A"}},{"$f":"IF(D470>Foglio1!$I$7,1,0)","v":0},2.7E-10,{"$f":" IF(Foglio1!$C$11 <> \"\", G470 / (G470+Foglio1!$C$11), NA())","v":{"$error":"#N/A"}},{"$f":"IF(G470>Foglio1!$I$7,1,0)","v":0},2.7E-10,{"$f":" IF(Foglio1!$C$12 <> \"\", J470 / (J470+Foglio1!$C$12), NA())","v":{"$error":"#N/A"}},{"$f":"IF(J470>Foglio1!$I$7,1,0)","v":0},2.7E-10,{"$f":" IF(Foglio1!$C$13 <> \"\", M470 / (M470+Foglio1!$C$13), NA())","v":{"$error":"#N/A"}},{"$f":"IF(M470>Foglio1!$I$7,1,0)","v":0}]
[2.8000000000000002E-10,{"$f":" IF(Foglio1!$C$9 <> \"\", A471 / (A471+Foglio1!$C$9), NA())","v":{"$error":"#N/A"}},{"$f":"IF(A471>Foglio1!$I$7,1,0)","v":0},2.8000000000000002E-10,{"$f":" IF(Foglio1!$C$10 <> \"\", D471 / (D471+Foglio1!$C$10), NA())","v":{"$error":"#N/A"}},{"$f":"IF(D471>Foglio1!$I$7,1,0)","v":0},2.8000000000000002E-10,{"$f":" IF(Foglio1!$C$11 <> \"\", G471 / (G471+Foglio1!$C$11), NA())","v":{"$error":"#N/A"}},{"$f":"IF(G471>Foglio1!$I$7,1,0)","v":0},2.8000000000000002E-10,{"$f":" IF(Foglio1!$C$12 <> \"\", J471 / (J471+Foglio1!$C$12), NA())","v":{"$error":"#N/A"}},{"$f":"IF(J471>Foglio1!$I$7,1,0)","v":0},2.8000000000000002E-10,{"$f":" IF(Foglio1!$C$13 <> \"\", M471 / (M471+Foglio1!$C$13), NA())","v":{"$error":"#N/A"}},{"$f":"IF(M471>Foglio1!$I$7,1,0)","v":0}]
[2.8999999999999998E-10,{"$f":" IF(Foglio1!$C$9 <> \"\", A472 / (A472+Foglio1!$C$9), NA())","v":{"$error":"#N/A"}},{"$f":"IF(A472>Foglio1!$I$7,1,0)","v":0},2.8999999999999998E-10,{"$f":" IF(Foglio1!$C$10 <> \"\", D472 / (D472+Foglio1!$C$10), NA())","v":{"$error":"#N/A"}},{"$f":"IF(D472>Foglio1!$I$7,1,0)","v":0},2.8999999999999998E-10,{"$f":" IF(Foglio1!$C$11 <> \"\", G472 / (G472+Foglio1!$C$11), NA())","v":{"$error":"#N/A"}},{"$f":"IF(G472>Foglio1!$I$7,1,0)","v":0},2.8999999999999998E-10,{"$f":" IF(Foglio1!$C$12 <> \"\", J472 / (J472+Foglio1!$C$12), NA())","v":{"$error":"#N/A"}},{"$f":"IF(J472>Foglio1!$I$7,1,0)","v":0},2.8999999999999998E-10,{"$f":" IF(Foglio1!$C$13 <> \"\", M472 / (M472+Foglio1!$C$13), NA())","v":{"$error":"#N/A"}},{"$f":"IF(M472>Foglio1!$I$7,1,0)","v":0}]
[3E-10,{"$f":" IF(Foglio1!$C$9 <> \"\", A473 / (A473+Foglio1!$C$9), NA())","v":{"$error":"#N/A"}},{"$f":"IF(A473>Foglio1!$I$7,1,0)","v":0},3E-10,{"$f":" IF(Foglio1!$C$10 <> \"\", D473 / (D473+Foglio1!$C$10), NA())","v":{"$error":"#N/A"}},{"$f":"IF(D473>Foglio1!$I$7,1,0)","v":0},3E-10,{"$f":" IF(Foglio1!$C$11 <> \"\", G473 / (G473+Foglio1!$C$11), NA())","v":{"$error":"#N/A"}},{"$f":"IF(G473>Foglio1!$I$7,1,0)","v":0},3E-10,{"$f":" IF(Foglio1!$C$12 <> \"\", J473 / (J473+Foglio1!$C$12), NA())","v":{"$error":"#N/A"}},{"$f":"IF(J473>Foglio1!$I$7,1,0)","v":0},3E-10,{"$f":" IF(Foglio1!$C$13 <> \"\", M473 / (M473+Foglio1!$C$13), NA())","v":{"$error":"#N/A"}},{"$f":"IF(M473>Foglio1!$I$7,1,0)","v":0}]
[3.1000000000000002E-10,{"$f":" IF(Foglio1!$C$9 <> \"\", A474 / (A474+Foglio1!$C$9), NA())","v":{"$error":"#N/A"}},{"$f":"IF(A474>Foglio1!$I$7,1,0)","v":0},3.1000000000000002E-10,{"$f":" IF(Foglio1!$C$10 <> \"\", D474 / (D474+Foglio1!$C$10), NA())","v":{"$error":"#N/A"}},{"$f":"IF(D474>Foglio1!$I$7,1,0)","v":0},3.1000000000000002E-10,{"$f":" IF(Foglio1!$C$11 <> \"\", G474 / (G474+Foglio1!$C$11), NA())","v":{"$error":"#N/A"}},{"$f":"IF(G474>Foglio1!$I$7,1,0)","v":0},3.1000000000000002E-10,{"$f":" IF(Foglio1!$C$12 <> \"\", J474 / (J474+Foglio1!$C$12), NA())","v":{"$error":"#N/A"}},{"$f":"IF(J474>Foglio1!$I$7,1,0)","v":0},3.1000000000000002E-10,{"$f":" IF(Foglio1!$C$13 <> \"\", M474 / (M474+Foglio1!$C$13), NA())","v":{"$error":"#N/A"}},{"$f":"IF(M474>Foglio1!$I$7,1,0)","v":0}]
[3.1999999999999998E-10,{"$f":" IF(Foglio1!$C$9 <> \"\", A475 / (A475+Foglio1!$C$9), NA())","v":{"$error":"#N/A"}},{"$f":"IF(A475>Foglio1!$I$7,1,0)","v":0},3.1999999999999998E-10,{"$f":" IF(Foglio1!$C$10 <> \"\", D475 / (D475+Foglio1!$C$10), NA())","v":{"$error":"#N/A"}},{"$f":"IF(D475>Foglio1!$I$7,1,0)","v":0},3.1999999999999998E-10,{"$f":" IF(Foglio1!$C$11 <> \"\", G475 / (G475+Foglio1!$C$11), NA())","v":{"$error":"#N/A"}},{"$f":"IF(G475>Foglio1!$I$7,1,0)","v":0},3.1999999999999998E-10,{"$f":" IF(Foglio1!$C$12 <> \"\", J475 / (J475+Foglio1!$C$12), NA())","v":{"$error":"#N/A"}},{"$f":"IF(J475>Foglio1!$I$7,1,0)","v":0},3.1999999999999998E-10,{"$f":" IF(Foglio1!$C$13 <> \"\", M475 / (M475+Foglio1!$C$13), NA())","v":{"$error":"#N/A"}},{"$f":"IF(M475>Foglio1!$I$7,1,0)","v":0}]
[3.3E-10,{"$f":" IF(Foglio1!$C$9 <> \"\", A476 / (A476+Foglio1!$C$9), NA())","v":{"$error":"#N/A"}},{"$f":"IF(A476>Foglio1!$I$7,1,0)","v":0},3.3E-10,{"$f":" IF(Foglio1!$C$10 <> \"\", D476 / (D476+Foglio1!$C$10), NA())","v":{"$error":"#N/A"}},{"$f":"IF(D476>Foglio1!$I$7,1,0)","v":0},3.3E-10,{"$f":" IF(Foglio1!$C$11 <> \"\", G476 / (G476+Foglio1!$C$11), NA())","v":{"$error":"#N/A"}},{"$f":"IF(G476>Foglio1!$I$7,1,0)","v":0},3.3E-10,{"$f":" IF(Foglio1!$C$12 <> \"\", J476 / (J476+Foglio1!$C$12), NA())","v":{"$error":"#N/A"}},{"$f":"IF(J476>Foglio1!$I$7,1,0)","v":0},3.3E-10,{"$f":" IF(Foglio1!$C$13 <> \"\", M476 / (M476+Foglio1!$C$13), NA())","v":{"$error":"#N/A"}},{"$f":"IF(M476>Foglio1!$I$7,1,0)","v":0}]
[3.4000000000000001E-10,{"$f":" IF(Foglio1!$C$9 <> \"\", A477 / (A477+Foglio1!$C$9), NA())","v":{"$error":"#N/A"}},{"$f":"IF(A477>Foglio1!$I$7,1,0)","v":0},3.4000000000000001E-10,{"$f":" IF(Foglio1!$C$10 <> \"\", D477 / (D477+Foglio1!$C$10), NA())","v":{"$error":"#N/A"}},{"$f":"IF(D477>Foglio1!$I$7,1,0)","v":0},3.4000000000000001E-10,{"$f":" IF(Foglio1!$C$11 <> \"\", G477 / (G477+Foglio1!$C$11), NA())","v":{"$error":"#N/A"}},{"$f":"IF(G477>Foglio1!$I$7,1,0)","v":0},3.4000000000000001E-10,{"$f":" IF(Foglio1!$C$12 <> \"\", J477 / (J477+Foglio1!$C$12), NA())","v":{"$error":"#N/A"}},{"$f":"IF(J477>Foglio1!$I$7,1,0)","v":0},3.4000000000000001E-10,{"$f":" IF(Foglio1!$C$13 <> \"\", M477 / (M477+Foglio1!$C$13), NA())","v":{"$error":"#N/A"}},{"$f":"IF(M477>Foglio1!$I$7,1,0)","v":0}]
[3.4999999999999998E-10,{"$f":" IF(Foglio1!$C$9 <> \"\", A478 / (A478+Foglio1!$C$9), NA())","v":{"$error":"#N/A"}},{"$f":"IF(A478>Foglio1!$I$7,1,0)","v":0},3.4999999999999998E-10,{"$f":" IF(Foglio1!$C$10 <> \"\", D478 / (D478+Foglio1!$C$10), NA())","v":{"$error":"#N/A"}},{"$f":"IF(D478>Foglio1!$I$7,1,0)","v":0},3.4999999999999998E-10,{"$f":" IF(Foglio1!$C$11 <> \"\", G478 / (G478+Foglio1!$C$11), NA())","v":{"$error":"#N/A"}},{"$f":"IF(G478>Foglio1!$I$7,1,0)","v":0},3.4999999999999998E-10,{"$f":" IF(Foglio1!$C$12 <> \"\", J478 / (J478+Foglio1!$C$12), NA())","v":{"$error":"#N/A"}},{"$f":"IF(J478>Foglio1!$I$7,1,0)","v":0},3.4999999999999998E-10,{"$f":" IF(Foglio1!$C$13 <> \"\", M478 / (M478+Foglio1!$C$13), NA())","v":{"$error":"#N/A"}},{"$f":"IF(M478>Foglio1!$I$7,1,0)","v":0}]
[3.6E-10,{"$f":" IF(Foglio1!$C$9 <> \"\", A479 / (A479+Foglio1!$C$9), NA())","v":{"$error":"#N/A"}},{"$f":"IF(A479>Foglio1!$I$7,1,0)","v":0},3.6E-10,{"$f":" IF(Foglio1!$C$10 <> \"\", D479 / (D479+Foglio1!$C$10), NA())","v":{"$error":"#N/A"}},{"$f":"IF(D479>Foglio1!$I$7,1,0)","v":0},3.6E-10,{"$f":" IF(Foglio1!$C$11 <> \"\", G479 / (G479+Foglio1!$C$11), NA())","v":{"$error":"#N/A"}},{"$f":"IF(G479>Foglio1!$I$7,1,0)","v":0},3.6E-10,{"$f":" IF(Foglio1!$C$12 <> \"\", J479 / (J479+Foglio1!$C$12), NA())","v":{"$error":"#N/A"}},{"$f":"IF(J479>Foglio1!$I$7,1,0)","v":0},3.6E-10,{"$f":" IF(Foglio1!$C$13 <> \"\", M479 / (M479+Foglio1!$C$13), NA())","v":{"$error":"#N/A"}},{"$f":"IF(M479>Foglio1!$I$7,1,0)","v":0}]
[3.7000000000000001E-10,{"$f":" IF(Foglio1!$C$9 <> \"\", A480 / (A480+Foglio1!$C$9), NA())","v":{"$error":"#N/A"}},{"$f":"IF(A480>Foglio1!$I$7,1,0)","v":0},3.7000000000000001E-10,{"$f":" IF(Foglio1!$C$10 <> \"\", D480 / (D480+Foglio1!$C$10), NA())","v":{"$error":"#N/A"}},{"$f":"IF(D480>Foglio1!$I$7,1,0)","v":0},3.7000000000000001E-10,{"$f":" IF(Foglio1!$C$11 <> \"\", G480 / (G480+Foglio1!$C$11), NA())","v":{"$error":"#N/A"}},{"$f":"IF(G480>Foglio1!$I$7,1,0)","v":0},3.7000000000000001E-10,{"$f":" IF(Foglio1!$C$12 <> \"\", J480 / (J480+Foglio1!$C$12), NA())","v":{"$error":"#N/A"}},{"$f":"IF(J480>Foglio1!$I$7,1,0)","v":0},3.7000000000000001E-10,{"$f":" IF(Foglio1!$C$13 <> \"\", M480 / (M480+Foglio1!$C$13), NA())","v":{"$error":"#N/A"}},{"$f":"IF(M480>Foglio1!$I$7,1,0)","v":0}]
[3.7999999999999998E-10,{"$f":" IF(Foglio1!$C$9 <> \"\", A481 / (A481+Foglio1!$C$9), NA())","v":{"$error":"#N/A"}},{"$f":"IF(A481>Foglio1!$I$7,1,0)","v":0},3.7999999999999998E-10,{"$f":" IF(Foglio1!$C$10 <> \"\", D481 / (D481+Foglio1!$C$10), NA())","v":{"$error":"#N/A"}},{"$f":"IF(D481>Foglio1!$I$7,1,0)","v":0},3.7999999999999998E-10,{"$f":" IF(Foglio1!$C$11 <> \"\", G481 / (G481+Foglio1!$C$11), NA())","v":{"$error":"#N/A"}},{"$f":"IF(G481>Foglio1!$I$7,1,0)","v":0},3.7999999999999998E-10,{"$f":" IF(Foglio1!$C$12 <> \"\", J481 / (J481+Foglio1!$C$12), NA())","v":{"$error":"#N/A"}},{"$f":"IF(J481>Foglio1!$I$7,1,0)","v":0},3.7999999999999998E-10,{"$f":" IF(Foglio1!$C$13 <> \"\", M481 / (M481+Foglio1!$C$13), NA())","v":{"$error":"#N/A"}},{"$f":"IF(M481>Foglio1!$I$7,1,0)","v":0}]
[3.9E-10,{"$f":" IF(Foglio1!$C$9 <> \"\", A482 / (A482+Foglio1!$C$9), NA())","v":{"$error":"#N/A"}},{"$f":"IF(A482>Foglio1!$I$7,1,0)","v":0},3.9E-10,{"$f":" IF(Foglio1!$C$10 <> \"\", D482 / (D482+Foglio1!$C$10), NA())","v":{"$error":"#N/A"}},{"$f":"IF(D482>Foglio1!$I$7,1,0)","v":0},3.9E-10,{"$f":" IF(Foglio1!$C$11 <> \"\", G482 / (G482+Foglio1!$C$11), NA())","v":{"$error":"#N/A"}},{"$f":"IF(G482>Foglio1!$I$7,1,0)","v":0},3.9E-10,{"$f":" IF(Foglio1!$C$12 <> \"\", J482 / (J482+Foglio1!$C$12), NA())","v":{"$error":"#N/A"}},{"$f":"IF(J482>Foglio1!$I$7,1,0)","v":0},3.9E-10,{"$f":" IF(Foglio1!$C$13 <> \"\", M482 / (M482+Foglio1!$C$13), NA())","v":{"$error":"#N/A"}},{"$f":"IF(M482>Foglio1!$I$7,1,0)","v":0}]
[4.0000000000000001E-10,{"$f":" IF(Foglio1!$C$9 <> \"\", A483 / (A483+Foglio1!$C$9), NA())","v":{"$error":"#N/A"}},{"$f":"IF(A483>Foglio1!$I$7,1,0)","v":0},4.0000000000000001E-10,{"$f":" IF(Foglio1!$C$10 <> \"\", D483 / (D483+Foglio1!$C$10), NA())","v":{"$error":"#N/A"}},{"$f":"IF(D483>Foglio1!$I$7,1,0)","v":0},4.0000000000000001E-10,{"$f":" IF(Foglio1!$C$11 <> \"\", G483 / (G483+Foglio1!$C$11), NA())","v":{"$error":"#N/A"}},{"$f":"IF(G483>Foglio1!$I$7,1,0)","v":0},4.0000000000000001E-10,{"$f":" IF(Foglio1!$C$12 <> \"\", J483 / (J483+Foglio1!$C$12), NA())","v":{"$error":"#N/A"}},{"$f":"IF(J483>Foglio1!$I$7,1,0)","v":0},4.0000000000000001E-10,{"$f":" IF(Foglio1!$C$13 <> \"\", M483 / (M483+Foglio1!$C$13), NA())","v":{"$error":"#N/A"}},{"$f":"IF(M483>Foglio1!$I$7,1,0)","v":0}]
[4.0999999999999998E-10,{"$f":" IF(Foglio1!$C$9 <> \"\", A484 / (A484+Foglio1!$C$9), NA())","v":{"$error":"#N/A"}},{"$f":"IF(A484>Foglio1!$I$7,1,0)","v":0},4.0999999999999998E-10,{"$f":" IF(Foglio1!$C$10 <> \"\", D484 / (D484+Foglio1!$C$10), NA())","v":{"$error":"#N/A"}},{"$f":"IF(D484>Foglio1!$I$7,1,0)","v":0},4.0999999999999998E-10,{"$f":" IF(Foglio1!$C$11 <> \"\", G484 / (G484+Foglio1!$C$11), NA())","v":{"$error":"#N/A"}},{"$f":"IF(G484>Foglio1!$I$7,1,0)","v":0},4.0999999999999998E-10,{"$f":" IF(Foglio1!$C$12 <> \"\", J484 / (J484+Foglio1!$C$12), NA())","v":{"$error":"#N/A"}},{"$f":"IF(J484>Foglio1!$I$7,1,0)","v":0},4.0999999999999998E-10,{"$f":" IF(Foglio1!$C$13 <> \"\", M484 / (M484+Foglio1!$C$13), NA())","v":{"$error":"#N/A"}},{"$f":"IF(M484>Foglio1!$I$7,1,0)","v":0}]
[4.2E-10,{"$f":" IF(Foglio1!$C$9 <> \"\", A485 / (A485+Foglio1!$C$9), NA())","v":{"$error":"#N/A"}},{"$f":"IF(A485>Foglio1!$I$7,1,0)","v":0},4.2E-10,{"$f":" IF(Foglio1!$C$10 <> \"\", D485 / (D485+Foglio1!$C$10), NA())","v":{"$error":"#N/A"}},{"$f":"IF(D485>Foglio1!$I$7,1,0)","v":0},4.2E-10,{"$f":" IF(Foglio1!$C$11 <> \"\", G485 / (G485+Foglio1!$C$11), NA())","v":{"$error":"#N/A"}},{"$f":"IF(G485>Foglio1!$I$7,1,0)","v":0},4.2E-10,{"$f":" IF(Foglio1!$C$12 <> \"\", J485 / (J485+Foglio1!$C$12), NA())","v":{"$error":"#N/A"}},{"$f":"IF(J485>Foglio1!$I$7,1,0)","v":0},4.2E-10,{"$f":" IF(Foglio1!$C$13 <> \"\", M485 / (M485+Foglio1!$C$13), NA())","v":{"$error":"#N/A"}},{"$f":"IF(M485>Foglio1!$I$7,1,0)","v":0}]
[4.3000000000000001E-10,{"$f":" IF(Foglio1!$C$9 <> \"\", A486 / (A486+Foglio1!$C$9), NA())","v":{"$error":"#N/A"}},{"$f":"IF(A486>Foglio1!$I$7,1,0)","v":0},4.3000000000000001E-10,{"$f":" IF(Foglio1!$C$10 <> \"\", D486 / (D486+Foglio1!$C$10), NA())","v":{"$error":"#N/A"}},{"$f":"IF(D486>Foglio1!$I$7,1,0)","v":0},4.3000000000000001E-10,{"$f":" IF(Foglio1!$C$11 <> \"\", G486 / (G486+Foglio1!$C$11), NA())","v":{"$error":"#N/A"}},{"$f":"IF(G486>Foglio1!$I$7,1,0)","v":0},4.3000000000000001E-10,{"$f":" IF(Foglio1!$C$12 <> \"\", J486 / (J486+Foglio1!$C$12), NA())","v":{"$error":"#N/A"}},{"$f":"IF(J486>Foglio1!$I$7,1,0)","v":0},4.3000000000000001E-10,{"$f":" IF(Foglio1!$C$13 <> \"\", M486 / (M486+Foglio1!$C$13), NA())","v":{"$error":"#N/A"}},{"$f":"IF(M486>Foglio1!$I$7,1,0)","v":0}]
[4.3999999999999998E-10,{"$f":" IF(Foglio1!$C$9 <> \"\", A487 / (A487+Foglio1!$C$9), NA())","v":{"$error":"#N/A"}},{"$f":"IF(A487>Foglio1!$I$7,1,0)","v":0},4.3999999999999998E-10,{"$f":" IF(Foglio1!$C$10 <> \"\", D487 / (D487+Foglio1!$C$10), NA())","v":{"$error":"#N/A"}},{"$f":"IF(D487>Foglio1!$I$7,1,0)","v":0},4.3999999999999998E-10,{"$f":" IF(Foglio1!$C$11 <> \"\", G487 / (G487+Foglio1!$C$11), NA())","v":{"$error":"#N/A"}},{"$f":"IF(G487>Foglio1!$I$7,1,0)","v":0},4.3999999999999998E-10,{"$f":" IF(Foglio1!$C$12 <> \"\", J487 / (J487+Foglio1!$C$12), NA())","v":{"$error":"#N/A"}},{"$f":"IF(J487>Foglio1!$I$7,1,0)","v":0},4.3999999999999998E-10,{"$f":" IF(Foglio1!$C$13 <> \"\", M487 / (M487+Foglio1!$C$13), NA())","v":{"$error":"#N/A"}},{"$f":"IF(M487>Foglio1!$I$7,1,0)","v":0}]
[4.5E-10,{"$f":" IF(Foglio1!$C$9 <> \"\", A488 / (A488+Foglio1!$C$9), NA())","v":{"$error":"#N/A"}},{"$f":"IF(A488>Foglio1!$I$7,1,0)","v":0},4.5E-10,{"$f":" IF(Foglio1!$C$10 <> \"\", D488 / (D488+Foglio1!$C$10), NA())","v":{"$error":"#N/A"}},{"$f":"IF(D488>Foglio1!$I$7,1,0)","v":0},4.5E-10,{"$f":" IF(Foglio1!$C$11 <> \"\", G488 / (G488+Foglio1!$C$11), NA())","v":{"$error":"#N/A"}},{"$f":"IF(G488>Foglio1!$I$7,1,0)","v":0},4.5E-10,{"$f":" IF(Foglio1!$C$12 <> \"\", J488 / (J488+Foglio1!$C$12), NA())","v":{"$error":"#N/A"}},{"$f":"IF(J488>Foglio1!$I$7,1,0)","v":0},4.5E-10,{"$f":" IF(Foglio1!$C$13 <> \"\", M488 / (M488+Foglio1!$C$13), NA())","v":{"$error":"#N/A"}},{"$f":"IF(M488>Foglio1!$I$7,1,0)","v":0}]
[4.6000000000000001E-10,{"$f":" IF(Foglio1!$C$9 <> \"\", A489 / (A489+Foglio1!$C$9), NA())","v":{"$error":"#N/A"}},{"$f":"IF(A489>Foglio1!$I$7,1,0)","v":0},4.6000000000000001E-10,{"$f":" IF(Foglio1!$C$10 <> \"\", D489 / (D489+Foglio1!$C$10), NA())","v":{"$error":"#N/A"}},{"$f":"IF(D489>Foglio1!$I$7,1,0)","v":0},4.6000000000000001E-10,{"$f":" IF(Foglio1!$C$11 <> \"\", G489 / (G489+Foglio1!$C$11), NA())","v":{"$error":"#N/A"}},{"$f":"IF(G489>Foglio1!$I$7,1,0)","v":0},4.6000000000000001E-10,{"$f":" IF(Foglio1!$C$12 <> \"\", J489 / (J489+Foglio1!$C$12), NA())","v":{"$error":"#N/A"}},{"$f":"IF(J489>Foglio1!$I$7,1,0)","v":0},4.6000000000000001E-10,{"$f":" IF(Foglio1!$C$13 <> \"\", M489 / (M489+Foglio1!$C$13), NA())","v":{"$error":"#N/A"}},{"$f":"IF(M489>Foglio1!$I$7,1,0)","v":0}]
[4.7000000000000003E-10,{"$f":" IF(Foglio1!$C$9 <> \"\", A490 / (A490+Foglio1!$C$9), NA())","v":{"$error":"#N/A"}},{"$f":"IF(A490>Foglio1!$I$7,1,0)","v":0},4.7000000000000003E-10,{"$f":" IF(Foglio1!$C$10 <> \"\", D490 / (D490+Foglio1!$C$10), NA())","v":{"$error":"#N/A"}},{"$f":"IF(D490>Foglio1!$I$7,1,0)","v":0},4.7000000000000003E-10,{"$f":" IF(Foglio1!$C$11 <> \"\", G490 / (G490+Foglio1!$C$11), NA())","v":{"$error":"#N/A"}},{"$f":"IF(G490>Foglio1!$I$7,1,0)","v":0},4.7000000000000003E-10,{"$f":" IF(Foglio1!$C$12 <> \"\", J490 / (J490+Foglio1!$C$12), NA())","v":{"$error":"#N/A"}},{"$f":"IF(J490>Foglio1!$I$7,1,0)","v":0},4.7000000000000003E-10,{"$f":" IF(Foglio1!$C$13 <> \"\", M490 / (M490+Foglio1!$C$13), NA())","v":{"$error":"#N/A"}},{"$f":"IF(M490>Foglio1!$I$7,1,0)","v":0}]
[4.8E-10,{"$f":" IF(Foglio1!$C$9 <> \"\", A491 / (A491+Foglio1!$C$9), NA())","v":{"$error":"#N/A"}},{"$f":"IF(A491>Foglio1!$I$7,1,0)","v":0},4.8E-10,{"$f":" IF(Foglio1!$C$10 <> \"\", D491 / (D491+Foglio1!$C$10), NA())","v":{"$error":"#N/A"}},{"$f":"IF(D491>Foglio1!$I$7,1,0)","v":0},4.8E-10,{"$f":" IF(Foglio1!$C$11 <> \"\", G491 / (G491+Foglio1!$C$11), NA())","v":{"$error":"#N/A"}},{"$f":"IF(G491>Foglio1!$I$7,1,0)","v":0},4.8E-10,{"$f":" IF(Foglio1!$C$12 <> \"\", J491 / (J491+Foglio1!$C$12), NA())","v":{"$error":"#N/A"}},{"$f":"IF(J491>Foglio1!$I$7,1,0)","v":0},4.8E-10,{"$f":" IF(Foglio1!$C$13 <> \"\", M491 / (M491+Foglio1!$C$13), NA())","v":{"$error":"#N/A"}},{"$f":"IF(M491>Foglio1!$I$7,1,0)","v":0}]
[4.8999999999999996E-10,{"$f":" IF(Foglio1!$C$9 <> \"\", A492 / (A492+Foglio1!$C$9), NA())","v":{"$error":"#N/A"}},{"$f":"IF(A492>Foglio1!$I$7,1,0)","v":0},4.8999999999999996E-10,{"$f":" IF(Foglio1!$C$10 <> \"\", D492 / (D492+Foglio1!$C$10), NA())","v":{"$error":"#N/A"}},{"$f":"IF(D492>Foglio1!$I$7,1,0)","v":0},4.8999999999999996E-10,{"$f":" IF(Foglio1!$C$11 <> \"\", G492 / (G492+Foglio1!$C$11), NA())","v":{"$error":"#N/A"}},{"$f":"IF(G492>Foglio1!$I$7,1,0)","v":0},4.8999999999999996E-10,{"$f":" IF(Foglio1!$C$12 <> \"\", J492 / (J492+Foglio1!$C$12), NA())","v":{"$error":"#N/A"}},{"$f":"IF(J492>Foglio1!$I$7,1,0)","v":0},4.8999999999999996E-10,{"$f":" IF(Foglio1!$C$13 <> \"\", M492 / (M492+Foglio1!$C$13), NA())","v":{"$error":"#N/A"}},{"$f":"IF(M492>Foglio1!$I$7,1,0)","v":0}]
[5.0000000000000003E-10,{"$f":" IF(Foglio1!$C$9 <> \"\", A493 / (A493+Foglio1!$C$9), NA())","v":{"$error":"#N/A"}},{"$f":"IF(A493>Foglio1!$I$7,1,0)","v":0},5.0000000000000003E-10,{"$f":" IF(Foglio1!$C$10 <> \"\", D493 / (D493+Foglio1!$C$10), NA())","v":{"$error":"#N/A"}},{"$f":"IF(D493>Foglio1!$I$7,1,0)","v":0},5.0000000000000003E-10,{"$f":" IF(Foglio1!$C$11 <> \"\", G493 / (G493+Foglio1!$C$11), NA())","v":{"$error":"#N/A"}},{"$f":"IF(G493>Foglio1!$I$7,1,0)","v":0},5.0000000000000003E-10,{"$f":" IF(Foglio1!$C$12 <> \"\", J493 / (J493+Foglio1!$C$12), NA())","v":{"$error":"#N/A"}},{"$f":"IF(J493>Foglio1!$I$7,1,0)","v":0},5.0000000000000003E-10,{"$f":" IF(Foglio1!$C$13 <> \"\", M493 / (M493+Foglio1!$C$13), NA())","v":{"$error":"#N/A"}},{"$f":"IF(M493>Foglio1!$I$7,1,0)","v":0}]
[5.1E-10,{"$f":" IF(Foglio1!$C$9 <> \"\", A494 / (A494+Foglio1!$C$9), NA())","v":{"$error":"#N/A"}},{"$f":"IF(A494>Foglio1!$I$7,1,0)","v":0},5.1E-10,{"$f":" IF(Foglio1!$C$10 <> \"\", D494 / (D494+Foglio1!$C$10), NA())","v":{"$error":"#N/A"}},{"$f":"IF(D494>Foglio1!$I$7,1,0)","v":0},5.1E-10,{"$f":" IF(Foglio1!$C$11 <> \"\", G494 / (G494+Foglio1!$C$11), NA())","v":{"$error":"#N/A"}},{"$f":"IF(G494>Foglio1!$I$7,1,0)","v":0},5.1E-10,{"$f":" IF(Foglio1!$C$12 <> \"\", J494 / (J494+Foglio1!$C$12), NA())","v":{"$error":"#N/A"}},{"$f":"IF(J494>Foglio1!$I$7,1,0)","v":0},5.1E-10,{"$f":" IF(Foglio1!$C$13 <> \"\", M494 / (M494+Foglio1!$C$13), NA())","v":{"$error":"#N/A"}},{"$f":"IF(M494>Foglio1!$I$7,1,0)","v":0}]
[5.1999999999999996E-10,{"$f":" IF(Foglio1!$C$9 <> \"\", A495 / (A495+Foglio1!$C$9), NA())","v":{"$error":"#N/A"}},{"$f":"IF(A495>Foglio1!$I$7,1,0)","v":0},5.1999999999999996E-10,{"$f":" IF(Foglio1!$C$10 <> \"\", D495 / (D495+Foglio1!$C$10), NA())","v":{"$error":"#N/A"}},{"$f":"IF(D495>Foglio1!$I$7,1,0)","v":0},5.1999999999999996E-10,{"$f":" IF(Foglio1!$C$11 <> \"\", G495 / (G495+Foglio1!$C$11), NA())","v":{"$error":"#N/A"}},{"$f":"IF(G495>Foglio1!$I$7,1,0)","v":0},5.1999999999999996E-10,{"$f":" IF(Foglio1!$C$12 <> \"\", J495 / (J495+Foglio1!$C$12), NA())","v":{"$error":"#N/A"}},{"$f":"IF(J495>Foglio1!$I$7,1,0)","v":0},5.1999999999999996E-10,{"$f":" IF(Foglio1!$C$13 <> \"\", M495 / (M495+Foglio1!$C$13), NA())","v":{"$error":"#N/A"}},{"$f":"IF(M495>Foglio1!$I$7,1,0)","v":0}]
[5.3000000000000003E-10,{"$f":" IF(Foglio1!$C$9 <> \"\", A496 / (A496+Foglio1!$C$9), NA())","v":{"$error":"#N/A"}},{"$f":"IF(A496>Foglio1!$I$7,1,0)","v":0},5.3000000000000003E-10,{"$f":" IF(Foglio1!$C$10 <> \"\", D496 / (D496+Foglio1!$C$10), NA())","v":{"$error":"#N/A"}},{"$f":"IF(D496>Foglio1!$I$7,1,0)","v":0},5.3000000000000003E-10,{"$f":" IF(Foglio1!$C$11 <> \"\", G496 / (G496+Foglio1!$C$11), NA())","v":{"$error":"#N/A"}},{"$f":"IF(G496>Foglio1!$I$7,1,0)","v":0},5.3000000000000003E-10,{"$f":" IF(Foglio1!$C$12 <> \"\", J496 / (J496+Foglio1!$C$12), NA())","v":{"$error":"#N/A"}},{"$f":"IF(J496>Foglio1!$I$7,1,0)","v":0},5.3000000000000003E-10,{"$f":" IF(Foglio1!$C$13 <> \"\", M496 / (M496+Foglio1!$C$13), NA())","v":{"$error":"#N/A"}},{"$f":"IF(M496>Foglio1!$I$7,1,0)","v":0}]
[5.4E-10,{"$f":" IF(Foglio1!$C$9 <> \"\", A497 / (A497+Foglio1!$C$9), NA())","v":{"$error":"#N/A"}},{"$f":"IF(A497>Foglio1!$I$7,1,0)","v":0},5.4E-10,{"$f":" IF(Foglio1!$C$10 <> \"\", D497 / (D497+Foglio1!$C$10), NA())","v":{"$error":"#N/A"}},{"$f":"IF(D497>Foglio1!$I$7,1,0)","v":0},5.4E-10,{"$f":" IF(Foglio1!$C$11 <> \"\", G497 / (G497+Foglio1!$C$11), NA())","v":{"$error":"#N/A"}},{"$f":"IF(G497>Foglio1!$I$7,1,0)","v":0},5.4E-10,{"$f":" IF(Foglio1!$C$12 <> \"\", J497 / (J497+Foglio1!$C$12), NA())","v":{"$error":"#N/A"}},{"$f":"IF(J497>Foglio1!$I$7,1,0)","v":0},5.4E-10,{"$f":" IF(Foglio1!$C$13 <> \"\", M497 / (M497+Foglio1!$C$13), NA())","v":{"$error":"#N/A"}},{"$f":"IF(M497>Foglio1!$I$7,1,0)","v":0}]
[5.4999999999999996E-10,{"$f":" IF(Foglio1!$C$9 <> \"\", A498 / (A498+Foglio1!$C$9), NA())","v":{"$error":"#N/A"}},{"$f":"IF(A498>Foglio1!$I$7,1,0)","v":0},5.4999999999999996E-10,{"$f":" IF(Foglio1!$C$10 <> \"\", D498 / (D498+Foglio1!$C$10), NA())","v":{"$error":"#N/A"}},{"$f":"IF(D498>Foglio1!$I$7,1,0)","v":0},5.4999999999999996E-10,{"$f":" IF(Foglio1!$C$11 <> \"\", G498 / (G498+Foglio1!$C$11), NA())","v":{"$error":"#N/A"}},{"$f":"IF(G498>Foglio1!$I$7,1,0)","v":0},5.4999999999999996E-10,{"$f":" IF(Foglio1!$C$12 <> \"\", J498 / (J498+Foglio1!$C$12), NA())","v":{"$error":"#N/A"}},{"$f":"IF(J498>Foglio1!$I$7,1,0)","v":0},5.4999999999999996E-10,{"$f":" IF(Foglio1!$C$13 <> \"\", M498 / (M498+Foglio1!$C$13), NA())","v":{"$error":"#N/A"}},{"$f":"IF(M498>Foglio1!$I$7,1,0)","v":0}]
[5.6000000000000003E-10,{"$f":" IF(Foglio1!$C$9 <> \"\", A499 / (A499+Foglio1!$C$9), NA())","v":{"$error":"#N/A"}},{"$f":"IF(A499>Foglio1!$I$7,1,0)","v":0},5.6000000000000003E-10,{"$f":" IF(Foglio1!$C$10 <> \"\", D499 / (D499+Foglio1!$C$10), NA())","v":{"$error":"#N/A"}},{"$f":"IF(D499>Foglio1!$I$7,1,0)","v":0},5.6000000000000003E-10,{"$f":" IF(Foglio1!$C$11 <> \"\", G499 / (G499+Foglio1!$C$11), NA())","v":{"$error":"#N/A"}},{"$f":"IF(G499>Foglio1!$I$7,1,0)","v":0},5.6000000000000003E-10,{"$f":" IF(Foglio1!$C$12 <> \"\", J499 / (J499+Foglio1!$C$12), NA())","v":{"$error":"#N/A"}},{"$f":"IF(J499>Foglio1!$I$7,1,0)","v":0},5.6000000000000003E-10,{"$f":" IF(Foglio1!$C$13 <> \"\", M499 / (M499+Foglio1!$C$13), NA())","v":{"$error":"#N/A"}},{"$f":"IF(M499>Foglio1!$I$7,1,0)","v":0}]
[5.7E-10,{"$f":" IF(Foglio1!$C$9 <> \"\", A500 / (A500+Foglio1!$C$9), NA())","v":{"$error":"#N/A"}},{"$f":"IF(A500>Foglio1!$I$7,1,0)","v":0},5.7E-10,{"$f":" IF(Foglio1!$C$10 <> \"\", D500 / (D500+Foglio1!$C$10), NA())","v":{"$error":"#N/A"}},{"$f":"IF(D500>Foglio1!$I$7,1,0)","v":0},5.7E-10,{"$f":" IF(Foglio1!$C$11 <> \"\", G500 / (G500+Foglio1!$C$11), NA())","v":{"$error":"#N/A"}},{"$f":"IF(G500>Foglio1!$I$7,1,0)","v":0},5.7E-10,{"$f":" IF(Foglio1!$C$12 <> \"\", J500 / (J500+Foglio1!$C$12), NA())","v":{"$error":"#N/A"}},{"$f":"IF(J500>Foglio1!$I$7,1,0)","v":0},5.7E-10,{"$f":" IF(Foglio1!$C$13 <> \"\", M500 / (M500+Foglio1!$C$13), NA())","v":{"$error":"#N/A"}},{"$f":"IF(M500>Foglio1!$I$7,1,0)","v":0}]
[5.7999999999999996E-10,{"$f":" IF(Foglio1!$C$9 <> \"\", A501 / (A501+Foglio1!$C$9), NA())","v":{"$error":"#N/A"}},{"$f":"IF(A501>Foglio1!$I$7,1,0)","v":0},5.7999999999999996E-10,{"$f":" IF(Foglio1!$C$10 <> \"\", D501 / (D501+Foglio1!$C$10), NA())","v":{"$error":"#N/A"}},{"$f":"IF(D501>Foglio1!$I$7,1,0)","v":0},5.7999999999999996E-10,{"$f":" IF(Foglio1!$C$11 <> \"\", G501 / (G501+Foglio1!$C$11), NA())","v":{"$error":"#N/A"}},{"$f":"IF(G501>Foglio1!$I$7,1,0)","v":0},5.7999999999999996E-10,{"$f":" IF(Foglio1!$C$12 <> \"\", J501 / (J501+Foglio1!$C$12), NA())","v":{"$error":"#N/A"}},{"$f":"IF(J501>Foglio1!$I$7,1,0)","v":0},5.7999999999999996E-10,{"$f":" IF(Foglio1!$C$13 <> \"\", M501 / (M501+Foglio1!$C$13), NA())","v":{"$error":"#N/A"}},{"$f":"IF(M501>Foglio1!$I$7,1,0)","v":0}]
[5.9000000000000003E-10,{"$f":" IF(Foglio1!$C$9 <> \"\", A502 / (A502+Foglio1!$C$9), NA())","v":{"$error":"#N/A"}},{"$f":"IF(A502>Foglio1!$I$7,1,0)","v":0},5.9000000000000003E-10,{"$f":" IF(Foglio1!$C$10 <> \"\", D502 / (D502+Foglio1!$C$10), NA())","v":{"$error":"#N/A"}},{"$f":"IF(D502>Foglio1!$I$7,1,0)","v":0},5.9000000000000003E-10,{"$f":" IF(Foglio1!$C$11 <> \"\", G502 / (G502+Foglio1!$C$11), NA())","v":{"$error":"#N/A"}},{"$f":"IF(G502>Foglio1!$I$7,1,0)","v":0},5.9000000000000003E-10,{"$f":" IF(Foglio1!$C$12 <> \"\", J502 / (J502+Foglio1!$C$12), NA())","v":{"$error":"#N/A"}},{"$f":"IF(J502>Foglio1!$I$7,1,0)","v":0},5.9000000000000003E-10,{"$f":" IF(Foglio1!$C$13 <> \"\", M502 / (M502+Foglio1!$C$13), NA())","v":{"$error":"#N/A"}},{"$f":"IF(M502>Foglio1!$I$7,1,0)","v":0}]
[6E-10,{"$f":" IF(Foglio1!$C$9 <> \"\", A503 / (A503+Foglio1!$C$9), NA())","v":{"$error":"#N/A"}},{"$f":"IF(A503>Foglio1!$I$7,1,0)","v":0},6E-10,{"$f":" IF(Foglio1!$C$10 <> \"\", D503 / (D503+Foglio1!$C$10), NA())","v":{"$error":"#N/A"}},{"$f":"IF(D503>Foglio1!$I$7,1,0)","v":0},6E-10,{"$f":" IF(Foglio1!$C$11 <> \"\", G503 / (G503+Foglio1!$C$11), NA())","v":{"$error":"#N/A"}},{"$f":"IF(G503>Foglio1!$I$7,1,0)","v":0},6E-10,{"$f":" IF(Foglio1!$C$12 <> \"\", J503 / (J503+Foglio1!$C$12), NA())","v":{"$error":"#N/A"}},{"$f":"IF(J503>Foglio1!$I$7,1,0)","v":0},6E-10,{"$f":" IF(Foglio1!$C$13 <> \"\", M503 / (M503+Foglio1!$C$13), NA())","v":{"$error":"#N/A"}},{"$f":"IF(M503>Foglio1!$I$7,1,0)","v":0}]
[6.0999999999999996E-10,{"$f":" IF(Foglio1!$C$9 <> \"\", A504 / (A504+Foglio1!$C$9), NA())","v":{"$error":"#N/A"}},{"$f":"IF(A504>Foglio1!$I$7,1,0)","v":0},6.0999999999999996E-10,{"$f":" IF(Foglio1!$C$10 <> \"\", D504 / (D504+Foglio1!$C$10), NA())","v":{"$error":"#N/A"}},{"$f":"IF(D504>Foglio1!$I$7,1,0)","v":0},6.0999999999999996E-10,{"$f":" IF(Foglio1!$C$11 <> \"\", G504 / (G504+Foglio1!$C$11), NA())","v":{"$error":"#N/A"}},{"$f":"IF(G504>Foglio1!$I$7,1,0)","v":0},6.0999999999999996E-10,{"$f":" IF(Foglio1!$C$12 <> \"\", J504 / (J504+Foglio1!$C$12), NA())","v":{"$error":"#N/A"}},{"$f":"IF(J504>Foglio1!$I$7,1,0)","v":0},6.0999999999999996E-10,{"$f":" IF(Foglio1!$C$13 <> \"\", M504 / (M504+Foglio1!$C$13), NA())","v":{"$error":"#N/A"}},{"$f":"IF(M504>Foglio1!$I$7,1,0)","v":0}]
[6.2000000000000003E-10,{"$f":" IF(Foglio1!$C$9 <> \"\", A505 / (A505+Foglio1!$C$9), NA())","v":{"$error":"#N/A"}},{"$f":"IF(A505>Foglio1!$I$7,1,0)","v":0},6.2000000000000003E-10,{"$f":" IF(Foglio1!$C$10 <> \"\", D505 / (D505+Foglio1!$C$10), NA())","v":{"$error":"#N/A"}},{"$f":"IF(D505>Foglio1!$I$7,1,0)","v":0},6.2000000000000003E-10,{"$f":" IF(Foglio1!$C$11 <> \"\", G505 / (G505+Foglio1!$C$11), NA())","v":{"$error":"#N/A"}},{"$f":"IF(G505>Foglio1!$I$7,1,0)","v":0},6.2000000000000003E-10,{"$f":" IF(Foglio1!$C$12 <> \"\", J505 / (J505+Foglio1!$C$12), NA())","v":{"$error":"#N/A"}},{"$f":"IF(J505>Foglio1!$I$7,1,0)","v":0},6.2000000000000003E-10,{"$f":" IF(Foglio1!$C$13 <> \"\", M505 / (M505+Foglio1!$C$13), NA())","v":{"$error":"#N/A"}},{"$f":"IF(M505>Foglio1!$I$7,1,0)","v":0}]
[6.3E-10,{"$f":" IF(Foglio1!$C$9 <> \"\", A506 / (A506+Foglio1!$C$9), NA())","v":{"$error":"#N/A"}},{"$f":"IF(A506>Foglio1!$I$7,1,0)","v":0},6.3E-10,{"$f":" IF(Foglio1!$C$10 <> \"\", D506 / (D506+Foglio1!$C$10), NA())","v":{"$error":"#N/A"}},{"$f":"IF(D506>Foglio1!$I$7,1,0)","v":0},6.3E-10,{"$f":" IF(Foglio1!$C$11 <> \"\", G506 / (G506+Foglio1!$C$11), NA())","v":{"$error":"#N/A"}},{"$f":"IF(G506>Foglio1!$I$7,1,0)","v":0},6.3E-10,{"$f":" IF(Foglio1!$C$12 <> \"\", J506 / (J506+Foglio1!$C$12), NA())","v":{"$error":"#N/A"}},{"$f":"IF(J506>Foglio1!$I$7,1,0)","v":0},6.3E-10,{"$f":" IF(Foglio1!$C$13 <> \"\", M506 / (M506+Foglio1!$C$13), NA())","v":{"$error":"#N/A"}},{"$f":"IF(M506>Foglio1!$I$7,1,0)","v":0}]
[6.3999999999999996E-10,{"$f":" IF(Foglio1!$C$9 <> \"\", A507 / (A507+Foglio1!$C$9), NA())","v":{"$error":"#N/A"}},{"$f":"IF(A507>Foglio1!$I$7,1,0)","v":0},6.3999999999999996E-10,{"$f":" IF(Foglio1!$C$10 <> \"\", D507 / (D507+Foglio1!$C$10), NA())","v":{"$error":"#N/A"}},{"$f":"IF(D507>Foglio1!$I$7,1,0)","v":0},6.3999999999999996E-10,{"$f":" IF(Foglio1!$C$11 <> \"\", G507 / (G507+Foglio1!$C$11), NA())","v":{"$error":"#N/A"}},{"$f":"IF(G507>Foglio1!$I$7,1,0)","v":0},6.3999999999999996E-10,{"$f":" IF(Foglio1!$C$12 <> \"\", J507 / (J507+Foglio1!$C$12), NA())","v":{"$error":"#N/A"}},{"$f":"IF(J507>Foglio1!$I$7,1,0)","v":0},6.3999999999999996E-10,{"$f":" IF(Foglio1!$C$13 <> \"\", M507 / (M507+Foglio1!$C$13), NA())","v":{"$error":"#N/A"}},{"$f":"IF(M507>Foglio1!$I$7,1,0)","v":0}]
[6.5000000000000003E-10,{"$f":" IF(Foglio1!$C$9 <> \"\", A508 / (A508+Foglio1!$C$9), NA())","v":{"$error":"#N/A"}},{"$f":"IF(A508>Foglio1!$I$7,1,0)","v":0},6.5000000000000003E-10,{"$f":" IF(Foglio1!$C$10 <> \"\", D508 / (D508+Foglio1!$C$10), NA())","v":{"$error":"#N/A"}},{"$f":"IF(D508>Foglio1!$I$7,1,0)","v":0},6.5000000000000003E-10,{"$f":" IF(Foglio1!$C$11 <> \"\", G508 / (G508+Foglio1!$C$11), NA())","v":{"$error":"#N/A"}},{"$f":"IF(G508>Foglio1!$I$7,1,0)","v":0},6.5000000000000003E-10,{"$f":" IF(Foglio1!$C$12 <> \"\", J508 / (J508+Foglio1!$C$12), NA())","v":{"$error":"#N/A"}},{"$f":"IF(J508>Foglio1!$I$7,1,0)","v":0},6.5000000000000003E-10,{"$f":" IF(Foglio1!$C$13 <> \"\", M508 / (M508+Foglio1!$C$13), NA())","v":{"$error":"#N/A"}},{"$f":"IF(M508>Foglio1!$I$7,1,0)","v":0}]
[6.6E-10,{"$f":" IF(Foglio1!$C$9 <> \"\", A509 / (A509+Foglio1!$C$9), NA())","v":{"$error":"#N/A"}},{"$f":"IF(A509>Foglio1!$I$7,1,0)","v":0},6.6E-10,{"$f":" IF(Foglio1!$C$10 <> \"\", D509 / (D509+Foglio1!$C$10), NA())","v":{"$error":"#N/A"}},{"$f":"IF(D509>Foglio1!$I$7,1,0)","v":0},6.6E-10,{"$f":" IF(Foglio1!$C$11 <> \"\", G509 / (G509+Foglio1!$C$11), NA())","v":{"$error":"#N/A"}},{"$f":"IF(G509>Foglio1!$I$7,1,0)","v":0},6.6E-10,{"$f":" IF(Foglio1!$C$12 <> \"\", J509 / (J509+Foglio1!$C$12), NA())","v":{"$error":"#N/A"}},{"$f":"IF(J509>Foglio1!$I$7,1,0)","v":0},6.6E-10,{"$f":" IF(Foglio1!$C$13 <> \"\", M509 / (M509+Foglio1!$C$13), NA())","v":{"$error":"#N/A"}},{"$f":"IF(M509>Foglio1!$I$7,1,0)","v":0}]
[6.6999999999999996E-10,{"$f":" IF(Foglio1!$C$9 <> \"\", A510 / (A510+Foglio1!$C$9), NA())","v":{"$error":"#N/A"}},{"$f":"IF(A510>Foglio1!$I$7,1,0)","v":0},6.6999999999999996E-10,{"$f":" IF(Foglio1!$C$10 <> \"\", D510 / (D510+Foglio1!$C$10), NA())","v":{"$error":"#N/A"}},{"$f":"IF(D510>Foglio1!$I$7,1,0)","v":0},6.6999999999999996E-10,{"$f":" IF(Foglio1!$C$11 <> \"\", G510 / (G510+Foglio1!$C$11), NA())","v":{"$error":"#N/A"}},{"$f":"IF(G510>Foglio1!$I$7,1,0)","v":0},6.6999999999999996E-10,{"$f":" IF(Foglio1!$C$12 <> \"\", J510 / (J510+Foglio1!$C$12), NA())","v":{"$error":"#N/A"}},{"$f":"IF(J510>Foglio1!$I$7,1,0)","v":0},6.6999999999999996E-10,{"$f":" IF(Foglio1!$C$13 <> \"\", M510 / (M510+Foglio1!$C$13), NA())","v":{"$error":"#N/A"}},{"$f":"IF(M510>Foglio1!$I$7,1,0)","v":0}]
[6.8000000000000003E-10,{"$f":" IF(Foglio1!$C$9 <> \"\", A511 / (A511+Foglio1!$C$9), NA())","v":{"$error":"#N/A"}},{"$f":"IF(A511>Foglio1!$I$7,1,0)","v":0},6.8000000000000003E-10,{"$f":" IF(Foglio1!$C$10 <> \"\", D511 / (D511+Foglio1!$C$10), NA())","v":{"$error":"#N/A"}},{"$f":"IF(D511>Foglio1!$I$7,1,0)","v":0},6.8000000000000003E-10,{"$f":" IF(Foglio1!$C$11 <> \"\", G511 / (G511+Foglio1!$C$11), NA())","v":{"$error":"#N/A"}},{"$f":"IF(G511>Foglio1!$I$7,1,0)","v":0},6.8000000000000003E-10,{"$f":" IF(Foglio1!$C$12 <> \"\", J511 / (J511+Foglio1!$C$12), NA())","v":{"$error":"#N/A"}},{"$f":"IF(J511>Foglio1!$I$7,1,0)","v":0},6.8000000000000003E-10,{"$f":" IF(Foglio1!$C$13 <> \"\", M511 / (M511+Foglio1!$C$13), NA())","v":{"$error":"#N/A"}},{"$f":"IF(M511>Foglio1!$I$7,1,0)","v":0}]
[6.9E-10,{"$f":" IF(Foglio1!$C$9 <> \"\", A512 / (A512+Foglio1!$C$9), NA())","v":{"$error":"#N/A"}},{"$f":"IF(A512>Foglio1!$I$7,1,0)","v":0},6.9E-10,{"$f":" IF(Foglio1!$C$10 <> \"\", D512 / (D512+Foglio1!$C$10), NA())","v":{"$error":"#N/A"}},{"$f":"IF(D512>Foglio1!$I$7,1,0)","v":0},6.9E-10,{"$f":" IF(Foglio1!$C$11 <> \"\", G512 / (G512+Foglio1!$C$11), NA())","v":{"$error":"#N/A"}},{"$f":"IF(G512>Foglio1!$I$7,1,0)","v":0},6.9E-10,{"$f":" IF(Foglio1!$C$12 <> \"\", J512 / (J512+Foglio1!$C$12), NA())","v":{"$error":"#N/A"}},{"$f":"IF(J512>Foglio1!$I$7,1,0)","v":0},6.9E-10,{"$f":" IF(Foglio1!$C$13 <> \"\", M512 / (M512+Foglio1!$C$13), NA())","v":{"$error":"#N/A"}},{"$f":"IF(M512>Foglio1!$I$7,1,0)","v":0}]
[6.9999999999999996E-10,{"$f":" IF(Foglio1!$C$9 <> \"\", A513 / (A513+Foglio1!$C$9), NA())","v":{"$error":"#N/A"}},{"$f":"IF(A513>Foglio1!$I$7,1,0)","v":0},6.9999999999999996E-10,{"$f":" IF(Foglio1!$C$10 <> \"\", D513 / (D513+Foglio1!$C$10), NA())","v":{"$error":"#N/A"}},{"$f":"IF(D513>Foglio1!$I$7,1,0)","v":0},6.9999999999999996E-10,{"$f":" IF(Foglio1!$C$11 <> \"\", G513 / (G513+Foglio1!$C$11), NA())","v":{"$error":"#N/A"}},{"$f":"IF(G513>Foglio1!$I$7,1,0)","v":0},6.9999999999999996E-10,{"$f":" IF(Foglio1!$C$12 <> \"\", J513 / (J513+Foglio1!$C$12), NA())","v":{"$error":"#N/A"}},{"$f":"IF(J513>Foglio1!$I$7,1,0)","v":0},6.9999999999999996E-10,{"$f":" IF(Foglio1!$C$13 <> \"\", M513 / (M513+Foglio1!$C$13), NA())","v":{"$error":"#N/A"}},{"$f":"IF(M513>Foglio1!$I$7,1,0)","v":0}]
[7.1000000000000003E-10,{"$f":" IF(Foglio1!$C$9 <> \"\", A514 / (A514+Foglio1!$C$9), NA())","v":{"$error":"#N/A"}},{"$f":"IF(A514>Foglio1!$I$7,1,0)","v":0},7.1000000000000003E-10,{"$f":" IF(Foglio1!$C$10 <> \"\", D514 / (D514+Foglio1!$C$10), NA())","v":{"$error":"#N/A"}},{"$f":"IF(D514>Foglio1!$I$7,1,0)","v":0},7.1000000000000003E-10,{"$f":" IF(Foglio1!$C$11 <> \"\", G514 / (G514+Foglio1!$C$11), NA())","v":{"$error":"#N/A"}},{"$f":"IF(G514>Foglio1!$I$7,1,0)","v":0},7.1000000000000003E-10,{"$f":" IF(Foglio1!$C$12 <> \"\", J514 / (J514+Foglio1!$C$12), NA())","v":{"$error":"#N/A"}},{"$f":"IF(J514>Foglio1!$I$7,1,0)","v":0},7.1000000000000003E-10,{"$f":" IF(Foglio1!$C$13 <> \"\", M514 / (M514+Foglio1!$C$13), NA())","v":{"$error":"#N/A"}},{"$f":"IF(M514>Foglio1!$I$7,1,0)","v":0}]
[7.2E-10,{"$f":" IF(Foglio1!$C$9 <> \"\", A515 / (A515+Foglio1!$C$9), NA())","v":{"$error":"#N/A"}},{"$f":"IF(A515>Foglio1!$I$7,1,0)","v":0},7.2E-10,{"$f":" IF(Foglio1!$C$10 <> \"\", D515 / (D515+Foglio1!$C$10), NA())","v":{"$error":"#N/A"}},{"$f":"IF(D515>Foglio1!$I$7,1,0)","v":0},7.2E-10,{"$f":" IF(Foglio1!$C$11 <> \"\", G515 / (G515+Foglio1!$C$11), NA())","v":{"$error":"#N/A"}},{"$f":"IF(G515>Foglio1!$I$7,1,0)","v":0},7.2E-10,{"$f":" IF(Foglio1!$C$12 <> \"\", J515 / (J515+Foglio1!$C$12), NA())","v":{"$error":"#N/A"}},{"$f":"IF(J515>Foglio1!$I$7,1,0)","v":0},7.2E-10,{"$f":" IF(Foglio1!$C$13 <> \"\", M515 / (M515+Foglio1!$C$13), NA())","v":{"$error":"#N/A"}},{"$f":"IF(M515>Foglio1!$I$7,1,0)","v":0}]
[7.2999999999999996E-10,{"$f":" IF(Foglio1!$C$9 <> \"\", A516 / (A516+Foglio1!$C$9), NA())","v":{"$error":"#N/A"}},{"$f":"IF(A516>Foglio1!$I$7,1,0)","v":0},7.2999999999999996E-10,{"$f":" IF(Foglio1!$C$10 <> \"\", D516 / (D516+Foglio1!$C$10), NA())","v":{"$error":"#N/A"}},{"$f":"IF(D516>Foglio1!$I$7,1,0)","v":0},7.2999999999999996E-10,{"$f":" IF(Foglio1!$C$11 <> \"\", G516 / (G516+Foglio1!$C$11), NA())","v":{"$error":"#N/A"}},{"$f":"IF(G516>Foglio1!$I$7,1,0)","v":0},7.2999999999999996E-10,{"$f":" IF(Foglio1!$C$12 <> \"\", J516 / (J516+Foglio1!$C$12), NA())","v":{"$error":"#N/A"}},{"$f":"IF(J516>Foglio1!$I$7,1,0)","v":0},7.2999999999999996E-10,{"$f":" IF(Foglio1!$C$13 <> \"\", M516 / (M516+Foglio1!$C$13), NA())","v":{"$error":"#N/A"}},{"$f":"IF(M516>Foglio1!$I$7,1,0)","v":0}]
[7.4000000000000003E-10,{"$f":" IF(Foglio1!$C$9 <> \"\", A517 / (A517+Foglio1!$C$9), NA())","v":{"$error":"#N/A"}},{"$f":"IF(A517>Foglio1!$I$7,1,0)","v":0},7.4000000000000003E-10,{"$f":" IF(Foglio1!$C$10 <> \"\", D517 / (D517+Foglio1!$C$10), NA())","v":{"$error":"#N/A"}},{"$f":"IF(D517>Foglio1!$I$7,1,0)","v":0},7.4000000000000003E-10,{"$f":" IF(Foglio1!$C$11 <> \"\", G517 / (G517+Foglio1!$C$11), NA())","v":{"$error":"#N/A"}},{"$f":"IF(G517>Foglio1!$I$7,1,0)","v":0},7.4000000000000003E-10,{"$f":" IF(Foglio1!$C$12 <> \"\", J517 / (J517+Foglio1!$C$12), NA())","v":{"$error":"#N/A"}},{"$f":"IF(J517>Foglio1!$I$7,1,0)","v":0},7.4000000000000003E-10,{"$f":" IF(Foglio1!$C$13 <> \"\", M517 / (M517+Foglio1!$C$13), NA())","v":{"$error":"#N/A"}},{"$f":"IF(M517>Foglio1!$I$7,1,0)","v":0}]
[7.5E-10,{"$f":" IF(Foglio1!$C$9 <> \"\", A518 / (A518+Foglio1!$C$9), NA())","v":{"$error":"#N/A"}},{"$f":"IF(A518>Foglio1!$I$7,1,0)","v":0},7.5E-10,{"$f":" IF(Foglio1!$C$10 <> \"\", D518 / (D518+Foglio1!$C$10), NA())","v":{"$error":"#N/A"}},{"$f":"IF(D518>Foglio1!$I$7,1,0)","v":0},7.5E-10,{"$f":" IF(Foglio1!$C$11 <> \"\", G518 / (G518+Foglio1!$C$11), NA())","v":{"$error":"#N/A"}},{"$f":"IF(G518>Foglio1!$I$7,1,0)","v":0},7.5E-10,{"$f":" IF(Foglio1!$C$12 <> \"\", J518 / (J518+Foglio1!$C$12), NA())","v":{"$error":"#N/A"}},{"$f":"IF(J518>Foglio1!$I$7,1,0)","v":0},7.5E-10,{"$f":" IF(Foglio1!$C$13 <> \"\", M518 / (M518+Foglio1!$C$13), NA())","v":{"$error":"#N/A"}},{"$f":"IF(M518>Foglio1!$I$7,1,0)","v":0}]
[7.5999999999999996E-10,{"$f":" IF(Foglio1!$C$9 <> \"\", A519 / (A519+Foglio1!$C$9), NA())","v":{"$error":"#N/A"}},{"$f":"IF(A519>Foglio1!$I$7,1,0)","v":0},7.5999999999999996E-10,{"$f":" IF(Foglio1!$C$10 <> \"\", D519 / (D519+Foglio1!$C$10), NA())","v":{"$error":"#N/A"}},{"$f":"IF(D519>Foglio1!$I$7,1,0)","v":0},7.5999999999999996E-10,{"$f":" IF(Foglio1!$C$11 <> \"\", G519 / (G519+Foglio1!$C$11), NA())","v":{"$error":"#N/A"}},{"$f":"IF(G519>Foglio1!$I$7,1,0)","v":0},7.5999999999999996E-10,{"$f":" IF(Foglio1!$C$12 <> \"\", J519 / (J519+Foglio1!$C$12), NA())","v":{"$error":"#N/A"}},{"$f":"IF(J519>Foglio1!$I$7,1,0)","v":0},7.5999999999999996E-10,{"$f":" IF(Foglio1!$C$13 <> \"\", M519 / (M519+Foglio1!$C$13), NA())","v":{"$error":"#N/A"}},{"$f":"IF(M519>Foglio1!$I$7,1,0)","v":0}]
[7.7000000000000003E-10,{"$f":" IF(Foglio1!$C$9 <> \"\", A520 / (A520+Foglio1!$C$9), NA())","v":{"$error":"#N/A"}},{"$f":"IF(A520>Foglio1!$I$7,1,0)","v":0},7.7000000000000003E-10,{"$f":" IF(Foglio1!$C$10 <> \"\", D520 / (D520+Foglio1!$C$10), NA())","v":{"$error":"#N/A"}},{"$f":"IF(D520>Foglio1!$I$7,1,0)","v":0},7.7000000000000003E-10,{"$f":" IF(Foglio1!$C$11 <> \"\", G520 / (G520+Foglio1!$C$11), NA())","v":{"$error":"#N/A"}},{"$f":"IF(G520>Foglio1!$I$7,1,0)","v":0},7.7000000000000003E-10,{"$f":" IF(Foglio1!$C$12 <> \"\", J520 / (J520+Foglio1!$C$12), NA())","v":{"$error":"#N/A"}},{"$f":"IF(J520>Foglio1!$I$7,1,0)","v":0},7.7000000000000003E-10,{"$f":" IF(Foglio1!$C$13 <> \"\", M520 / (M520+Foglio1!$C$13), NA())","v":{"$error":"#N/A"}},{"$f":"IF(M520>Foglio1!$I$7,1,0)","v":0}]
[7.7999999999999999E-10,{"$f":" IF(Foglio1!$C$9 <> \"\", A521 / (A521+Foglio1!$C$9), NA())","v":{"$error":"#N/A"}},{"$f":"IF(A521>Foglio1!$I$7,1,0)","v":0},7.7999999999999999E-10,{"$f":" IF(Foglio1!$C$10 <> \"\", D521 / (D521+Foglio1!$C$10), NA())","v":{"$error":"#N/A"}},{"$f":"IF(D521>Foglio1!$I$7,1,0)","v":0},7.7999999999999999E-10,{"$f":" IF(Foglio1!$C$11 <> \"\", G521 / (G521+Foglio1!$C$11), NA())","v":{"$error":"#N/A"}},{"$f":"IF(G521>Foglio1!$I$7,1,0)","v":0},7.7999999999999999E-10,{"$f":" IF(Foglio1!$C$12 <> \"\", J521 / (J521+Foglio1!$C$12), NA())","v":{"$error":"#N/A"}},{"$f":"IF(J521>Foglio1!$I$7,1,0)","v":0},7.7999999999999999E-10,{"$f":" IF(Foglio1!$C$13 <> \"\", M521 / (M521+Foglio1!$C$13), NA())","v":{"$error":"#N/A"}},{"$f":"IF(M521>Foglio1!$I$7,1,0)","v":0}]
[7.8999999999999996E-10,{"$f":" IF(Foglio1!$C$9 <> \"\", A522 / (A522+Foglio1!$C$9), NA())","v":{"$error":"#N/A"}},{"$f":"IF(A522>Foglio1!$I$7,1,0)","v":0},7.8999999999999996E-10,{"$f":" IF(Foglio1!$C$10 <> \"\", D522 / (D522+Foglio1!$C$10), NA())","v":{"$error":"#N/A"}},{"$f":"IF(D522>Foglio1!$I$7,1,0)","v":0},7.8999999999999996E-10,{"$f":" IF(Foglio1!$C$11 <> \"\", G522 / (G522+Foglio1!$C$11), NA())","v":{"$error":"#N/A"}},{"$f":"IF(G522>Foglio1!$I$7,1,0)","v":0},7.8999999999999996E-10,{"$f":" IF(Foglio1!$C$12 <> \"\", J522 / (J522+Foglio1!$C$12), NA())","v":{"$error":"#N/A"}},{"$f":"IF(J522>Foglio1!$I$7,1,0)","v":0},7.8999999999999996E-10,{"$f":" IF(Foglio1!$C$13 <> \"\", M522 / (M522+Foglio1!$C$13), NA())","v":{"$error":"#N/A"}},{"$f":"IF(M522>Foglio1!$I$7,1,0)","v":0}]
[8.0000000000000003E-10,{"$f":" IF(Foglio1!$C$9 <> \"\", A523 / (A523+Foglio1!$C$9), NA())","v":{"$error":"#N/A"}},{"$f":"IF(A523>Foglio1!$I$7,1,0)","v":0},8.0000000000000003E-10,{"$f":" IF(Foglio1!$C$10 <> \"\", D523 / (D523+Foglio1!$C$10), NA())","v":{"$error":"#N/A"}},{"$f":"IF(D523>Foglio1!$I$7,1,0)","v":0},8.0000000000000003E-10,{"$f":" IF(Foglio1!$C$11 <> \"\", G523 / (G523+Foglio1!$C$11), NA())","v":{"$error":"#N/A"}},{"$f":"IF(G523>Foglio1!$I$7,1,0)","v":0},8.0000000000000003E-10,{"$f":" IF(Foglio1!$C$12 <> \"\", J523 / (J523+Foglio1!$C$12), NA())","v":{"$error":"#N/A"}},{"$f":"IF(J523>Foglio1!$I$7,1,0)","v":0},8.0000000000000003E-10,{"$f":" IF(Foglio1!$C$13 <> \"\", M523 / (M523+Foglio1!$C$13), NA())","v":{"$error":"#N/A"}},{"$f":"IF(M523>Foglio1!$I$7,1,0)","v":0}]
[8.0999999999999999E-10,{"$f":" IF(Foglio1!$C$9 <> \"\", A524 / (A524+Foglio1!$C$9), NA())","v":{"$error":"#N/A"}},{"$f":"IF(A524>Foglio1!$I$7,1,0)","v":0},8.0999999999999999E-10,{"$f":" IF(Foglio1!$C$10 <> \"\", D524 / (D524+Foglio1!$C$10), NA())","v":{"$error":"#N/A"}},{"$f":"IF(D524>Foglio1!$I$7,1,0)","v":0},8.0999999999999999E-10,{"$f":" IF(Foglio1!$C$11 <> \"\", G524 / (G524+Foglio1!$C$11), NA())","v":{"$error":"#N/A"}},{"$f":"IF(G524>Foglio1!$I$7,1,0)","v":0},8.0999999999999999E-10,{"$f":" IF(Foglio1!$C$12 <> \"\", J524 / (J524+Foglio1!$C$12), NA())","v":{"$error":"#N/A"}},{"$f":"IF(J524>Foglio1!$I$7,1,0)","v":0},8.0999999999999999E-10,{"$f":" IF(Foglio1!$C$13 <> \"\", M524 / (M524+Foglio1!$C$13), NA())","v":{"$error":"#N/A"}},{"$f":"IF(M524>Foglio1!$I$7,1,0)","v":0}]
[8.1999999999999996E-10,{"$f":" IF(Foglio1!$C$9 <> \"\", A525 / (A525+Foglio1!$C$9), NA())","v":{"$error":"#N/A"}},{"$f":"IF(A525>Foglio1!$I$7,1,0)","v":0},8.1999999999999996E-10,{"$f":" IF(Foglio1!$C$10 <> \"\", D525 / (D525+Foglio1!$C$10), NA())","v":{"$error":"#N/A"}},{"$f":"IF(D525>Foglio1!$I$7,1,0)","v":0},8.1999999999999996E-10,{"$f":" IF(Foglio1!$C$11 <> \"\", G525 / (G525+Foglio1!$C$11), NA())","v":{"$error":"#N/A"}},{"$f":"IF(G525>Foglio1!$I$7,1,0)","v":0},8.1999999999999996E-10,{"$f":" IF(Foglio1!$C$12 <> \"\", J525 / (J525+Foglio1!$C$12), NA())","v":{"$error":"#N/A"}},{"$f":"IF(J525>Foglio1!$I$7,1,0)","v":0},8.1999999999999996E-10,{"$f":" IF(Foglio1!$C$13 <> \"\", M525 / (M525+Foglio1!$C$13), NA())","v":{"$error":"#N/A"}},{"$f":"IF(M525>Foglio1!$I$7,1,0)","v":0}]
[8.3000000000000003E-10,{"$f":" IF(Foglio1!$C$9 <> \"\", A526 / (A526+Foglio1!$C$9), NA())","v":{"$error":"#N/A"}},{"$f":"IF(A526>Foglio1!$I$7,1,0)","v":0},8.3000000000000003E-10,{"$f":" IF(Foglio1!$C$10 <> \"\", D526 / (D526+Foglio1!$C$10), NA())","v":{"$error":"#N/A"}},{"$f":"IF(D526>Foglio1!$I$7,1,0)","v":0},8.3000000000000003E-10,{"$f":" IF(Foglio1!$C$11 <> \"\", G526 / (G526+Foglio1!$C$11), NA())","v":{"$error":"#N/A"}},{"$f":"IF(G526>Foglio1!$I$7,1,0)","v":0},8.3000000000000003E-10,{"$f":" IF(Foglio1!$C$12 <> \"\", J526 / (J526+Foglio1!$C$12), NA())","v":{"$error":"#N/A"}},{"$f":"IF(J526>Foglio1!$I$7,1,0)","v":0},8.3000000000000003E-10,{"$f":" IF(Foglio1!$C$13 <> \"\", M526 / (M526+Foglio1!$C$13), NA())","v":{"$error":"#N/A"}},{"$f":"IF(M526>Foglio1!$I$7,1,0)","v":0}]
[8.3999999999999999E-10,{"$f":" IF(Foglio1!$C$9 <> \"\", A527 / (A527+Foglio1!$C$9), NA())","v":{"$error":"#N/A"}},{"$f":"IF(A527>Foglio1!$I$7,1,0)","v":0},8.3999999999999999E-10,{"$f":" IF(Foglio1!$C$10 <> \"\", D527 / (D527+Foglio1!$C$10), NA())","v":{"$error":"#N/A"}},{"$f":"IF(D527>Foglio1!$I$7,1,0)","v":0},8.3999999999999999E-10,{"$f":" IF(Foglio1!$C$11 <> \"\", G527 / (G527+Foglio1!$C$11), NA())","v":{"$error":"#N/A"}},{"$f":"IF(G527>Foglio1!$I$7,1,0)","v":0},8.3999999999999999E-10,{"$f":" IF(Foglio1!$C$12 <> \"\", J527 / (J527+Foglio1!$C$12), NA())","v":{"$error":"#N/A"}},{"$f":"IF(J527>Foglio1!$I$7,1,0)","v":0},8.3999999999999999E-10,{"$f":" IF(Foglio1!$C$13 <> \"\", M527 / (M527+Foglio1!$C$13), NA())","v":{"$error":"#N/A"}},{"$f":"IF(M527>Foglio1!$I$7,1,0)","v":0}]
[8.4999999999999996E-10,{"$f":" IF(Foglio1!$C$9 <> \"\", A528 / (A528+Foglio1!$C$9), NA())","v":{"$error":"#N/A"}},{"$f":"IF(A528>Foglio1!$I$7,1,0)","v":0},8.4999999999999996E-10,{"$f":" IF(Foglio1!$C$10 <> \"\", D528 / (D528+Foglio1!$C$10), NA())","v":{"$error":"#N/A"}},{"$f":"IF(D528>Foglio1!$I$7,1,0)","v":0},8.4999999999999996E-10,{"$f":" IF(Foglio1!$C$11 <> \"\", G528 / (G528+Foglio1!$C$11), NA())","v":{"$error":"#N/A"}},{"$f":"IF(G528>Foglio1!$I$7,1,0)","v":0},8.4999999999999996E-10,{"$f":" IF(Foglio1!$C$12 <> \"\", J528 / (J528+Foglio1!$C$12), NA())","v":{"$error":"#N/A"}},{"$f":"IF(J528>Foglio1!$I$7,1,0)","v":0},8.4999999999999996E-10,{"$f":" IF(Foglio1!$C$13 <> \"\", M528 / (M528+Foglio1!$C$13), NA())","v":{"$error":"#N/A"}},{"$f":"IF(M528>Foglio1!$I$7,1,0)","v":0}]
[8.6000000000000003E-10,{"$f":" IF(Foglio1!$C$9 <> \"\", A529 / (A529+Foglio1!$C$9), NA())","v":{"$error":"#N/A"}},{"$f":"IF(A529>Foglio1!$I$7,1,0)","v":0},8.6000000000000003E-10,{"$f":" IF(Foglio1!$C$10 <> \"\", D529 / (D529+Foglio1!$C$10), NA())","v":{"$error":"#N/A"}},{"$f":"IF(D529>Foglio1!$I$7,1,0)","v":0},8.6000000000000003E-10,{"$f":" IF(Foglio1!$C$11 <> \"\", G529 / (G529+Foglio1!$C$11), NA())","v":{"$error":"#N/A"}},{"$f":"IF(G529>Foglio1!$I$7,1,0)","v":0},8.6000000000000003E-10,{"$f":" IF(Foglio1!$C$12 <> \"\", J529 / (J529+Foglio1!$C$12), NA())","v":{"$error":"#N/A"}},{"$f":"IF(J529>Foglio1!$I$7,1,0)","v":0},8.6000000000000003E-10,{"$f":" IF(Foglio1!$C$13 <> \"\", M529 / (M529+Foglio1!$C$13), NA())","v":{"$error":"#N/A"}},{"$f":"IF(M529>Foglio1!$I$7,1,0)","v":0}]
[8.6999999999999999E-10,{"$f":" IF(Foglio1!$C$9 <> \"\", A530 / (A530+Foglio1!$C$9), NA())","v":{"$error":"#N/A"}},{"$f":"IF(A530>Foglio1!$I$7,1,0)","v":0},8.6999999999999999E-10,{"$f":" IF(Foglio1!$C$10 <> \"\", D530 / (D530+Foglio1!$C$10), NA())","v":{"$error":"#N/A"}},{"$f":"IF(D530>Foglio1!$I$7,1,0)","v":0},8.6999999999999999E-10,{"$f":" IF(Foglio1!$C$11 <> \"\", G530 / (G530+Foglio1!$C$11), NA())","v":{"$error":"#N/A"}},{"$f":"IF(G530>Foglio1!$I$7,1,0)","v":0},8.6999999999999999E-10,{"$f":" IF(Foglio1!$C$12 <> \"\", J530 / (J530+Foglio1!$C$12), NA())","v":{"$error":"#N/A"}},{"$f":"IF(J530>Foglio1!$I$7,1,0)","v":0},8.6999999999999999E-10,{"$f":" IF(Foglio1!$C$13 <> \"\", M530 / (M530+Foglio1!$C$13), NA())","v":{"$error":"#N/A"}},{"$f":"IF(M530>Foglio1!$I$7,1,0)","v":0}]
[8.7999999999999996E-10,{"$f":" IF(Foglio1!$C$9 <> \"\", A531 / (A531+Foglio1!$C$9), NA())","v":{"$error":"#N/A"}},{"$f":"IF(A531>Foglio1!$I$7,1,0)","v":0},8.7999999999999996E-10,{"$f":" IF(Foglio1!$C$10 <> \"\", D531 / (D531+Foglio1!$C$10), NA())","v":{"$error":"#N/A"}},{"$f":"IF(D531>Foglio1!$I$7,1,0)","v":0},8.7999999999999996E-10,{"$f":" IF(Foglio1!$C$11 <> \"\", G531 / (G531+Foglio1!$C$11), NA())","v":{"$error":"#N/A"}},{"$f":"IF(G531>Foglio1!$I$7,1,0)","v":0},8.7999999999999996E-10,{"$f":" IF(Foglio1!$C$12 <> \"\", J531 / (J531+Foglio1!$C$12), NA())","v":{"$error":"#N/A"}},{"$f":"IF(J531>Foglio1!$I$7,1,0)","v":0},8.7999999999999996E-10,{"$f":" IF(Foglio1!$C$13 <> \"\", M531 / (M531+Foglio1!$C$13), NA())","v":{"$error":"#N/A"}},{"$f":"IF(M531>Foglio1!$I$7,1,0)","v":0}]
[8.9000000000000003E-10,{"$f":" IF(Foglio1!$C$9 <> \"\", A532 / (A532+Foglio1!$C$9), NA())","v":{"$error":"#N/A"}},{"$f":"IF(A532>Foglio1!$I$7,1,0)","v":0},8.9000000000000003E-10,{"$f":" IF(Foglio1!$C$10 <> \"\", D532 / (D532+Foglio1!$C$10), NA())","v":{"$error":"#N/A"}},{"$f":"IF(D532>Foglio1!$I$7,1,0)","v":0},8.9000000000000003E-10,{"$f":" IF(Foglio1!$C$11 <> \"\", G532 / (G532+Foglio1!$C$11), NA())","v":{"$error":"#N/A"}},{"$f":"IF(G532>Foglio1!$I$7,1,0)","v":0},8.9000000000000003E-10,{"$f":" IF(Foglio1!$C$12 <> \"\", J532 / (J532+Foglio1!$C$12), NA())","v":{"$error":"#N/A"}},{"$f":"IF(J532>Foglio1!$I$7,1,0)","v":0},8.9000000000000003E-10,{"$f":" IF(Foglio1!$C$13 <> \"\", M532 / (M532+Foglio1!$C$13), NA())","v":{"$error":"#N/A"}},{"$f":"IF(M532>Foglio1!$I$7,1,0)","v":0}]
[8.9999999999999999E-10,{"$f":" IF(Foglio1!$C$9 <> \"\", A533 / (A533+Foglio1!$C$9), NA())","v":{"$error":"#N/A"}},{"$f":"IF(A533>Foglio1!$I$7,1,0)","v":0},8.9999999999999999E-10,{"$f":" IF(Foglio1!$C$10 <> \"\", D533 / (D533+Foglio1!$C$10), NA())","v":{"$error":"#N/A"}},{"$f":"IF(D533>Foglio1!$I$7,1,0)","v":0},8.9999999999999999E-10,{"$f":" IF(Foglio1!$C$11 <> \"\", G533 / (G533+Foglio1!$C$11), NA())","v":{"$error":"#N/A"}},{"$f":"IF(G533>Foglio1!$I$7,1,0)","v":0},8.9999999999999999E-10,{"$f":" IF(Foglio1!$C$12 <> \"\", J533 / (J533+Foglio1!$C$12), NA())","v":{"$error":"#N/A"}},{"$f":"IF(J533>Foglio1!$I$7,1,0)","v":0},8.9999999999999999E-10,{"$f":" IF(Foglio1!$C$13 <> \"\", M533 / (M533+Foglio1!$C$13), NA())","v":{"$error":"#N/A"}},{"$f":"IF(M533>Foglio1!$I$7,1,0)","v":0}]
[9.0999999999999996E-10,{"$f":" IF(Foglio1!$C$9 <> \"\", A534 / (A534+Foglio1!$C$9), NA())","v":{"$error":"#N/A"}},{"$f":"IF(A534>Foglio1!$I$7,1,0)","v":0},9.0999999999999996E-10,{"$f":" IF(Foglio1!$C$10 <> \"\", D534 / (D534+Foglio1!$C$10), NA())","v":{"$error":"#N/A"}},{"$f":"IF(D534>Foglio1!$I$7,1,0)","v":0},9.0999999999999996E-10,{"$f":" IF(Foglio1!$C$11 <> \"\", G534 / (G534+Foglio1!$C$11), NA())","v":{"$error":"#N/A"}},{"$f":"IF(G534>Foglio1!$I$7,1,0)","v":0},9.0999999999999996E-10,{"$f":" IF(Foglio1!$C$12 <> \"\", J534 / (J534+Foglio1!$C$12), NA())","v":{"$error":"#N/A"}},{"$f":"IF(J534>Foglio1!$I$7,1,0)","v":0},9.0999999999999996E-10,{"$f":" IF(Foglio1!$C$13 <> \"\", M534 / (M534+Foglio1!$C$13), NA())","v":{"$error":"#N/A"}},{"$f":"IF(M534>Foglio1!$I$7,1,0)","v":0}]
[9.2000000000000003E-10,{"$f":" IF(Foglio1!$C$9 <> \"\", A535 / (A535+Foglio1!$C$9), NA())","v":{"$error":"#N/A"}},{"$f":"IF(A535>Foglio1!$I$7,1,0)","v":0},9.2000000000000003E-10,{"$f":" IF(Foglio1!$C$10 <> \"\", D535 / (D535+Foglio1!$C$10), NA())","v":{"$error":"#N/A"}},{"$f":"IF(D535>Foglio1!$I$7,1,0)","v":0},9.2000000000000003E-10,{"$f":" IF(Foglio1!$C$11 <> \"\", G535 / (G535+Foglio1!$C$11), NA())","v":{"$error":"#N/A"}},{"$f":"IF(G535>Foglio1!$I$7,1,0)","v":0},9.2000000000000003E-10,{"$f":" IF(Foglio1!$C$12 <> \"\", J535 / (J535+Foglio1!$C$12), NA())","v":{"$error":"#N/A"}},{"$f":"IF(J535>Foglio1!$I$7,1,0)","v":0},9.2000000000000003E-10,{"$f":" IF(Foglio1!$C$13 <> \"\", M535 / (M535+Foglio1!$C$13), NA())","v":{"$error":"#N/A"}},{"$f":"IF(M535>Foglio1!$I$7,1,0)","v":0}]
[9.2999999999999999E-10,{"$f":" IF(Foglio1!$C$9 <> \"\", A536 / (A536+Foglio1!$C$9), NA())","v":{"$error":"#N/A"}},{"$f":"IF(A536>Foglio1!$I$7,1,0)","v":0},9.2999999999999999E-10,{"$f":" IF(Foglio1!$C$10 <> \"\", D536 / (D536+Foglio1!$C$10), NA())","v":{"$error":"#N/A"}},{"$f":"IF(D536>Foglio1!$I$7,1,0)","v":0},9.2999999999999999E-10,{"$f":" IF(Foglio1!$C$11 <> \"\", G536 / (G536+Foglio1!$C$11), NA())","v":{"$error":"#N/A"}},{"$f":"IF(G536>Foglio1!$I$7,1,0)","v":0},9.2999999999999999E-10,{"$f":" IF(Foglio1!$C$12 <> \"\", J536 / (J536+Foglio1!$C$12), NA())","v":{"$error":"#N/A"}},{"$f":"IF(J536>Foglio1!$I$7,1,0)","v":0},9.2999999999999999E-10,{"$f":" IF(Foglio1!$C$13 <> \"\", M536 / (M536+Foglio1!$C$13), NA())","v":{"$error":"#N/A"}},{"$f":"IF(M536>Foglio1!$I$7,1,0)","v":0}]
[9.4000000000000006E-10,{"$f":" IF(Foglio1!$C$9 <> \"\", A537 / (A537+Foglio1!$C$9), NA())","v":{"$error":"#N/A"}},{"$f":"IF(A537>Foglio1!$I$7,1,0)","v":0},9.4000000000000006E-10,{"$f":" IF(Foglio1!$C$10 <> \"\", D537 / (D537+Foglio1!$C$10), NA())","v":{"$error":"#N/A"}},{"$f":"IF(D537>Foglio1!$I$7,1,0)","v":0},9.4000000000000006E-10,{"$f":" IF(Foglio1!$C$11 <> \"\", G537 / (G537+Foglio1!$C$11), NA())","v":{"$error":"#N/A"}},{"$f":"IF(G537>Foglio1!$I$7,1,0)","v":0},9.4000000000000006E-10,{"$f":" IF(Foglio1!$C$12 <> \"\", J537 / (J537+Foglio1!$C$12), NA())","v":{"$error":"#N/A"}},{"$f":"IF(J537>Foglio1!$I$7,1,0)","v":0},9.4000000000000006E-10,{"$f":" IF(Foglio1!$C$13 <> \"\", M537 / (M537+Foglio1!$C$13), NA())","v":{"$error":"#N/A"}},{"$f":"IF(M537>Foglio1!$I$7,1,0)","v":0}]
[9.5000000000000003E-10,{"$f":" IF(Foglio1!$C$9 <> \"\", A538 / (A538+Foglio1!$C$9), NA())","v":{"$error":"#N/A"}},{"$f":"IF(A538>Foglio1!$I$7,1,0)","v":0},9.5000000000000003E-10,{"$f":" IF(Foglio1!$C$10 <> \"\", D538 / (D538+Foglio1!$C$10), NA())","v":{"$error":"#N/A"}},{"$f":"IF(D538>Foglio1!$I$7,1,0)","v":0},9.5000000000000003E-10,{"$f":" IF(Foglio1!$C$11 <> \"\", G538 / (G538+Foglio1!$C$11), NA())","v":{"$error":"#N/A"}},{"$f":"IF(G538>Foglio1!$I$7,1,0)","v":0},9.5000000000000003E-10,{"$f":" IF(Foglio1!$C$12 <> \"\", J538 / (J538+Foglio1!$C$12), NA())","v":{"$error":"#N/A"}},{"$f":"IF(J538>Foglio1!$I$7,1,0)","v":0},9.5000000000000003E-10,{"$f":" IF(Foglio1!$C$13 <> \"\", M538 / (M538+Foglio1!$C$13), NA())","v":{"$error":"#N/A"}},{"$f":"IF(M538>Foglio1!$I$7,1,0)","v":0}]
[9.5999999999999999E-10,{"$f":" IF(Foglio1!$C$9 <> \"\", A539 / (A539+Foglio1!$C$9), NA())","v":{"$error":"#N/A"}},{"$f":"IF(A539>Foglio1!$I$7,1,0)","v":0},9.5999999999999999E-10,{"$f":" IF(Foglio1!$C$10 <> \"\", D539 / (D539+Foglio1!$C$10), NA())","v":{"$error":"#N/A"}},{"$f":"IF(D539>Foglio1!$I$7,1,0)","v":0},9.5999999999999999E-10,{"$f":" IF(Foglio1!$C$11 <> \"\", G539 / (G539+Foglio1!$C$11), NA())","v":{"$error":"#N/A"}},{"$f":"IF(G539>Foglio1!$I$7,1,0)","v":0},9.5999999999999999E-10,{"$f":" IF(Foglio1!$C$12 <> \"\", J539 / (J539+Foglio1!$C$12), NA())","v":{"$error":"#N/A"}},{"$f":"IF(J539>Foglio1!$I$7,1,0)","v":0},9.5999999999999999E-10,{"$f":" IF(Foglio1!$C$13 <> \"\", M539 / (M539+Foglio1!$C$13), NA())","v":{"$error":"#N/A"}},{"$f":"IF(M539>Foglio1!$I$7,1,0)","v":0}]
[9.6999999999999996E-10,{"$f":" IF(Foglio1!$C$9 <> \"\", A540 / (A540+Foglio1!$C$9), NA())","v":{"$error":"#N/A"}},{"$f":"IF(A540>Foglio1!$I$7,1,0)","v":0},9.6999999999999996E-10,{"$f":" IF(Foglio1!$C$10 <> \"\", D540 / (D540+Foglio1!$C$10), NA())","v":{"$error":"#N/A"}},{"$f":"IF(D540>Foglio1!$I$7,1,0)","v":0},9.6999999999999996E-10,{"$f":" IF(Foglio1!$C$11 <> \"\", G540 / (G540+Foglio1!$C$11), NA())","v":{"$error":"#N/A"}},{"$f":"IF(G540>Foglio1!$I$7,1,0)","v":0},9.6999999999999996E-10,{"$f":" IF(Foglio1!$C$12 <> \"\", J540 / (J540+Foglio1!$C$12), NA())","v":{"$error":"#N/A"}},{"$f":"IF(J540>Foglio1!$I$7,1,0)","v":0},9.6999999999999996E-10,{"$f":" IF(Foglio1!$C$13 <> \"\", M540 / (M540+Foglio1!$C$13), NA())","v":{"$error":"#N/A"}},{"$f":"IF(M540>Foglio1!$I$7,1,0)","v":0}]
[9.7999999999999992E-10,{"$f":" IF(Foglio1!$C$9 <> \"\", A541 / (A541+Foglio1!$C$9), NA())","v":{"$error":"#N/A"}},{"$f":"IF(A541>Foglio1!$I$7,1,0)","v":0},9.7999999999999992E-10,{"$f":" IF(Foglio1!$C$10 <> \"\", D541 / (D541+Foglio1!$C$10), NA())","v":{"$error":"#N/A"}},{"$f":"IF(D541>Foglio1!$I$7,1,0)","v":0},9.7999999999999992E-10,{"$f":" IF(Foglio1!$C$11 <> \"\", G541 / (G541+Foglio1!$C$11), NA())","v":{"$error":"#N/A"}},{"$f":"IF(G541>Foglio1!$I$7,1,0)","v":0},9.7999999999999992E-10,{"$f":" IF(Foglio1!$C$12 <> \"\", J541 / (J541+Foglio1!$C$12), NA())","v":{"$error":"#N/A"}},{"$f":"IF(J541>Foglio1!$I$7,1,0)","v":0},9.7999999999999992E-10,{"$f":" IF(Foglio1!$C$13 <> \"\", M541 / (M541+Foglio1!$C$13), NA())","v":{"$error":"#N/A"}},{"$f":"IF(M541>Foglio1!$I$7,1,0)","v":0}]
[9.900000000000001E-10,{"$f":" IF(Foglio1!$C$9 <> \"\", A542 / (A542+Foglio1!$C$9), NA())","v":{"$error":"#N/A"}},{"$f":"IF(A542>Foglio1!$I$7,1,0)","v":0},9.900000000000001E-10,{"$f":" IF(Foglio1!$C$10 <> \"\", D542 / (D542+Foglio1!$C$10), NA())","v":{"$error":"#N/A"}},{"$f":"IF(D542>Foglio1!$I$7,1,0)","v":0},9.900000000000001E-10,{"$f":" IF(Foglio1!$C$11 <> \"\", G542 / (G542+Foglio1!$C$11), NA())","v":{"$error":"#N/A"}},{"$f":"IF(G542>Foglio1!$I$7,1,0)","v":0},9.900000000000001E-10,{"$f":" IF(Foglio1!$C$12 <> \"\", J542 / (J542+Foglio1!$C$12), NA())","v":{"$error":"#N/A"}},{"$f":"IF(J542>Foglio1!$I$7,1,0)","v":0},9.900000000000001E-10,{"$f":" IF(Foglio1!$C$13 <> \"\", M542 / (M542+Foglio1!$C$13), NA())","v":{"$error":"#N/A"}},{"$f":"IF(M542>Foglio1!$I$7,1,0)","v":0}]
[1.0000000000000001E-9,{"$f":" IF(Foglio1!$C$9 <> \"\", A543 / (A543+Foglio1!$C$9), NA())","v":{"$error":"#N/A"}},{"$f":"IF(A543>Foglio1!$I$7,1,0)","v":0},1.0000000000000001E-9,{"$f":" IF(Foglio1!$C$10 <> \"\", D543 / (D543+Foglio1!$C$10), NA())","v":{"$error":"#N/A"}},{"$f":"IF(D543>Foglio1!$I$7,1,0)","v":0},1.0000000000000001E-9,{"$f":" IF(Foglio1!$C$11 <> \"\", G543 / (G543+Foglio1!$C$11), NA())","v":{"$error":"#N/A"}},{"$f":"IF(G543>Foglio1!$I$7,1,0)","v":0},1.0000000000000001E-9,{"$f":" IF(Foglio1!$C$12 <> \"\", J543 / (J543+Foglio1!$C$12), NA())","v":{"$error":"#N/A"}},{"$f":"IF(J543>Foglio1!$I$7,1,0)","v":0},1.0000000000000001E-9,{"$f":" IF(Foglio1!$C$13 <> \"\", M543 / (M543+Foglio1!$C$13), NA())","v":{"$error":"#N/A"}},{"$f":"IF(M543>Foglio1!$I$7,1,0)","v":0}]