{"text_format":"1","workbook":"xlsx","n_sheets":2,"sheets":["Foglio1","Foglio2"],"not_rendered":{"charts":1,"images":1,"macros":1,"external_links":0,"defined_names":0,"comments":0,"pivot_tables":0},"unopened":[],"bounds":{"document_bytes":16777216,"sheet_cells":100000,"rows_first":2000,"rows_last":500,"rows_between":2000,"halvings":0,"cell_chars":16384,"cell_head_chars":4096},"cells_cut":0,"cells_raw":0,"read":"whole","date_system":"1900"}

{"sheet":"Foglio1","index":0,"n_rows":15,"n_cols":11,"rows_kept":15,"cut":false,"hidden":false,"merged":[[5,0,5,19]]}
[]
["Il legame cooperativo di un ligando"]
[]
[]
[]
["Utilizzate questo foglio di calcolo e inserite i parametri (Kd, n) per disegnare il grafico. Potete visualizzare fino a 5 grafici alla volta. Potete modificare il dominio della funzione (cioè la [L]) inserendo i valori nelle caselle in alto e cliccando sul tasto Cambia l’asse X. Per visualizzare correttamente il grafico, inserite valori di [L] compresi tra 0 e 1E-10.\n"]
[]
[]
[null,null,null,null,null,null,null,"[L] = da",0,"a",1E-10]
[]
["Kd1","=",null,"n1","="]
["Kd2","=",null,"n2","="]
["Kd3","=",null,"n3","="]
["Kd4","=",null,"n4","="]
["Kd5","=",null,"n5","="]

{"sheet":"Foglio2","index":1,"n_rows":48,"n_cols":15,"rows_kept":48,"cut":false,"hidden":true,"merged":[]}
["[L]","[L]n","Θ","[L]","[L]n","Θ","[L]","[L]n","Θ","[L]","[L]n","Θ","[L]","[L]n","Θ"]
[0,{"$f":" IF(Foglio1!$F$11 <> \"\", A2^Foglio1!$F$11, NA())","v":{"$error":"#N/A"}},{"$f":" IF(Foglio1!$C$11 <> \"\", B2 / (B2+Foglio1!$C$11), NA())","v":{"$error":"#N/A"}},0,{"$f":" IF(Foglio1!$F$12 <> \"\", (D2)^Foglio1!$F$12, NA())","v":{"$error":"#N/A"}},{"$f":" IF(Foglio1!$C$12 <> \"\", E2 / (E2+Foglio1!$C$12), NA())","v":{"$error":"#N/A"}},0,{"$f":" IF(Foglio1!$F$13 <> \"\", (G2)^Foglio1!$F$13, NA())","v":{"$error":"#N/A"}},{"$f":" IF(Foglio1!$C$13 <> \"\", H2 / (H2+Foglio1!$C$13), NA())","v":{"$error":"#N/A"}},0,{"$f":" IF(Foglio1!$F$14 <> \"\", (J2)^Foglio1!$F$14, NA())","v":{"$error":"#N/A"}},{"$f":" IF(Foglio1!$C$14 <> \"\", K2 / (K2+Foglio1!$C$14), NA())","v":{"$error":"#N/A"}},0,{"$f":" IF(Foglio1!$F$15 <> \"\", (M2)^Foglio1!$F$15, NA())","v":{"$error":"#N/A"}},{"$f":" IF(Foglio1!$C$15 <> \"\", N2 / (N2+Foglio1!$C$15), NA())","v":{"$error":"#N/A"}}]
[1.0000000000000001E-15,{"$f":" IF(Foglio1!$F$11 <> \"\", A3^Foglio1!$F$11, NA())","v":{"$error":"#N/A"}},{"$f":" IF(Foglio1!$C$11 <> \"\", B3 / (B3+Foglio1!$C$11), NA())","v":{"$error":"#N/A"}},1.0000000000000001E-15,{"$f":" IF(Foglio1!$F$12 <> \"\", (D3)^Foglio1!$F$12, NA())","v":{"$error":"#N/A"}},{"$f":" IF(Foglio1!$C$12 <> \"\", E3 / (E3+Foglio1!$C$12), NA())","v":{"$error":"#N/A"}},1.0000000000000001E-15,{"$f":" IF(Foglio1!$F$13 <> \"\", (G3)^Foglio1!$F$13, NA())","v":{"$error":"#N/A"}},{"$f":" IF(Foglio1!$C$13 <> \"\", H3 / (H3+Foglio1!$C$13), NA())","v":{"$error":"#N/A"}},1.0000000000000001E-15,{"$f":" IF(Foglio1!$F$14 <> \"\", (J3)^Foglio1!$F$14, NA())","v":{"$error":"#N/A"}},{"$f":" IF(Foglio1!$C$14 <> \"\", K3 / (K3+Foglio1!$C$14), NA())","v":{"$error":"#N/A"}},1.0000000000000001E-15,{"$f":" IF(Foglio1!$F$15 <> \"\", (M3)^Foglio1!$F$15, NA())","v":{"$error":"#N/A"}},{"$f":" IF(Foglio1!$C$15 <> \"\", N3 / (N3+Foglio1!$C$15), NA())","v":{"$error":"#N/A"}}]
[2.0000000000000002E-15,{"$f":" IF(Foglio1!$F$11 <> \"\", A4^Foglio1!$F$11, NA())","v":{"$error":"#N/A"}},{"$f":" IF(Foglio1!$C$11 <> \"\", B4 / (B4+Foglio1!$C$11), NA())","v":{"$error":"#N/A"}},2.0000000000000002E-15,{"$f":" IF(Foglio1!$F$12 <> \"\", (D4)^Foglio1!$F$12, NA())","v":{"$error":"#N/A"}},{"$f":" IF(Foglio1!$C$12 <> \"\", E4 / (E4+Foglio1!$C$12), NA())","v":{"$error":"#N/A"}},2.0000000000000002E-15,{"$f":" IF(Foglio1!$F$13 <> \"\", (G4)^Foglio1!$F$13, NA())","v":{"$error":"#N/A"}},{"$f":" IF(Foglio1!$C$13 <> \"\", H4 / (H4+Foglio1!$C$13), NA())","v":{"$error":"#N/A"}},2.0000000000000002E-15,{"$f":" IF(Foglio1!$F$14 <> \"\", (J4)^Foglio1!$F$14, NA())","v":{"$error":"#N/A"}},{"$f":" IF(Foglio1!$C$14 <> \"\", K4 / (K4+Foglio1!$C$14), NA())","v":{"$error":"#N/A"}},2.0000000000000002E-15,{"$f":" IF(Foglio1!$F$15 <> \"\", (M4)^Foglio1!$F$15, NA())","v":{"$error":"#N/A"}},{"$f":" IF(Foglio1!$C$15 <> \"\", N4 / (N4+Foglio1!$C$15), NA())","v":{"$error":"#N/A"}}]
[2.9999999999999998E-15,{"$f":" IF(Foglio1!$F$11 <> \"\", A5^Foglio1!$F$11, NA())","v":{"$error":"#N/A"}},{"$f":" IF(Foglio1!$C$11 <> \"\", B5 / (B5+Foglio1!$C$11), NA())","v":{"$error":"#N/A"}},2.9999999999999998E-15,{"$f":" IF(Foglio1!$F$12 <> \"\", (D5)^Foglio1!$F$12, NA())","v":{"$error":"#N/A"}},{"$f":" IF(Foglio1!$C$12 <> \"\", E5 / (E5+Foglio1!$C$12), NA())","v":{"$error":"#N/A"}},2.9999999999999998E-15,{"$f":" IF(Foglio1!$F$13 <> \"\", (G5)^Foglio1!$F$13, NA())","v":{"$error":"#N/A"}},{"$f":" IF(Foglio1!$C$13 <> \"\", H5 / (H5+Foglio1!$C$13), NA())","v":{"$error":"#N/A"}},2.9999999999999998E-15,{"$f":" IF(Foglio1!$F$14 <> \"\", (J5)^Foglio1!$F$14, NA())","v":{"$error":"#N/A"}},{"$f":" IF(Foglio1!$C$14 <> \"\", K5 / (K5+Foglio1!$C$14), NA())","v":{"$error":"#N/A"}},2.9999999999999998E-15,{"$f":" IF(Foglio1!$F$15 <> \"\", (M5)^Foglio1!$F$15, NA())","v":{"$error":"#N/A"}},{"$f":" IF(Foglio1!$C$15 <> \"\", N5 / (N5+Foglio1!$C$15), NA())","v":{"$error":"#N/A"}}]
[4.0000000000000003E-15,{"$f":" IF(Foglio1!$F$11 <> \"\", A6^Foglio1!$F$11, NA())","v":{"$error":"#N/A"}},{"$f":" IF(Foglio1!$C$11 <> \"\", B6 / (B6+Foglio1!$C$11), NA())","v":{"$error":"#N/A"}},4.0000000000000003E-15,{"$f":" IF(Foglio1!$F$12 <> \"\", (D6)^Foglio1!$F$12, NA())","v":{"$error":"#N/A"}},{"$f":" IF(Foglio1!$C$12 <> \"\", E6 / (E6+Foglio1!$C$12), NA())","v":{"$error":"#N/A"}},4.0000000000000003E-15,{"$f":" IF(Foglio1!$F$13 <> \"\", (G6)^Foglio1!$F$13, NA())","v":{"$error":"#N/A"}},{"$f":" IF(Foglio1!$C$13 <> \"\", H6 / (H6+Foglio1!$C$13), NA())","v":{"$error":"#N/A"}},4.0000000000000003E-15,{"$f":" IF(Foglio1!$F$14 <> \"\", (J6)^Foglio1!$F$14, NA())","v":{"$error":"#N/A"}},{"$f":" IF(Foglio1!$C$14 <> \"\", K6 / (K6+Foglio1!$C$14), NA())","v":{"$error":"#N/A"}},4.0000000000000003E-15,{"$f":" IF(Foglio1!$F$15 <> \"\", (M6)^Foglio1!$F$15, NA())","v":{"$error":"#N/A"}},{"$f":" IF(Foglio1!$C$15 <> \"\", N6 / (N6+Foglio1!$C$15), NA())","v":{"$error":"#N/A"}}]
[5E-15,{"$f":" IF(Foglio1!$F$11 <> \"\", A7^Foglio1!$F$11, NA())","v":{"$error":"#N/A"}},{"$f":" IF(Foglio1!$C$11 <> \"\", B7 / (B7+Foglio1!$C$11), NA())","v":{"$error":"#N/A"}},5E-15,{"$f":" IF(Foglio1!$F$12 <> \"\", (D7)^Foglio1!$F$12, NA())","v":{"$error":"#N/A"}},{"$f":" IF(Foglio1!$C$12 <> \"\", E7 / (E7+Foglio1!$C$12), NA())","v":{"$error":"#N/A"}},5E-15,{"$f":" IF(Foglio1!$F$13 <> \"\", (G7)^Foglio1!$F$13, NA())","v":{"$error":"#N/A"}},{"$f":" IF(Foglio1!$C$13 <> \"\", H7 / (H7+Foglio1!$C$13), NA())","v":{"$error":"#N/A"}},5E-15,{"$f":" IF(Foglio1!$F$14 <> \"\", (J7)^Foglio1!$F$14, NA())","v":{"$error":"#N/A"}},{"$f":" IF(Foglio1!$C$14 <> \"\", K7 / (K7+Foglio1!$C$14), NA())","v":{"$error":"#N/A"}},5E-15,{"$f":" IF(Foglio1!$F$15 <> \"\", (M7)^Foglio1!$F$15, NA())","v":{"$error":"#N/A"}},{"$f":" IF(Foglio1!$C$15 <> \"\", N7 / (N7+Foglio1!$C$15), NA())","v":{"$error":"#N/A"}}]
[5.9999999999999997E-15,{"$f":" IF(Foglio1!$F$11 <> \"\", A8^Foglio1!$F$11, NA())","v":{"$error":"#N/A"}},{"$f":" IF(Foglio1!$C$11 <> \"\", B8 / (B8+Foglio1!$C$11), NA())","v":{"$error":"#N/A"}},5.9999999999999997E-15,{"$f":" IF(Foglio1!$F$12 <> \"\", (D8)^Foglio1!$F$12, NA())","v":{"$error":"#N/A"}},{"$f":" IF(Foglio1!$C$12 <> \"\", E8 / (E8+Foglio1!$C$12), NA())","v":{"$error":"#N/A"}},5.9999999999999997E-15,{"$f":" IF(Foglio1!$F$13 <> \"\", (G8)^Foglio1!$F$13, NA())","v":{"$error":"#N/A"}},{"$f":" IF(Foglio1!$C$13 <> \"\", H8 / (H8+Foglio1!$C$13), NA())","v":{"$error":"#N/A"}},5.9999999999999997E-15,{"$f":" IF(Foglio1!$F$14 <> \"\", (J8)^Foglio1!$F$14, NA())","v":{"$error":"#N/A"}},{"$f":" IF(Foglio1!$C$14 <> \"\", K8 / (K8+Foglio1!$C$14), NA())","v":{"$error":"#N/A"}},5.9999999999999997E-15,{"$f":" IF(Foglio1!$F$15 <> \"\", (M8)^Foglio1!$F$15, NA())","v":{"$error":"#N/A"}},{"$f":" IF(Foglio1!$C$15 <> \"\", N8 / (N8+Foglio1!$C$15), NA())","v":{"$error":"#N/A"}}]
[7.0000000000000001E-15,{"$f":" IF(Foglio1!$F$11 <> \"\", A9^Foglio1!$F$11, NA())","v":{"$error":"#N/A"}},{"$f":" IF(Foglio1!$C$11 <> \"\", B9 / (B9+Foglio1!$C$11), NA())","v":{"$error":"#N/A"}},7.0000000000000001E-15,{"$f":" IF(Foglio1!$F$12 <> \"\", (D9)^Foglio1!$F$12, NA())","v":{"$error":"#N/A"}},{"$f":" IF(Foglio1!$C$12 <> \"\", E9 / (E9+Foglio1!$C$12), NA())","v":{"$error":"#N/A"}},7.0000000000000001E-15,{"$f":" IF(Foglio1!$F$13 <> \"\", (G9)^Foglio1!$F$13, NA())","v":{"$error":"#N/A"}},{"$f":" IF(Foglio1!$C$13 <> \"\", H9 / (H9+Foglio1!$C$13), NA())","v":{"$error":"#N/A"}},7.0000000000000001E-15,{"$f":" IF(Foglio1!$F$14 <> \"\", (J9)^Foglio1!$F$14, NA())","v":{"$error":"#N/A"}},{"$f":" IF(Foglio1!$C$14 <> \"\", K9 / (K9+Foglio1!$C$14), NA())","v":{"$error":"#N/A"}},7.0000000000000001E-15,{"$f":" IF(Foglio1!$F$15 <> \"\", (M9)^Foglio1!$F$15, NA())","v":{"$error":"#N/A"}},{"$f":" IF(Foglio1!$C$15 <> \"\", N9 / (N9+Foglio1!$C$15), NA())","v":{"$error":"#N/A"}}]
[8.0000000000000006E-15,{"$f":" IF(Foglio1!$F$11 <> \"\", A10^Foglio1!$F$11, NA())","v":{"$error":"#N/A"}},{"$f":" IF(Foglio1!$C$11 <> \"\", B10 / (B10+Foglio1!$C$11), NA())","v":{"$error":"#N/A"}},8.0000000000000006E-15,{"$f":" IF(Foglio1!$F$12 <> \"\", (D10)^Foglio1!$F$12, NA())","v":{"$error":"#N/A"}},{"$f":" IF(Foglio1!$C$12 <> \"\", E10 / (E10+Foglio1!$C$12), NA())","v":{"$error":"#N/A"}},8.0000000000000006E-15,{"$f":" IF(Foglio1!$F$13 <> \"\", (G10)^Foglio1!$F$13, NA())","v":{"$error":"#N/A"}},{"$f":" IF(Foglio1!$C$13 <> \"\", H10 / (H10+Foglio1!$C$13), NA())","v":{"$error":"#N/A"}},8.0000000000000006E-15,{"$f":" IF(Foglio1!$F$14 <> \"\", (J10)^Foglio1!$F$14, NA())","v":{"$error":"#N/A"}},{"$f":" IF(Foglio1!$C$14 <> \"\", K10 / (K10+Foglio1!$C$14), NA())","v":{"$error":"#N/A"}},8.0000000000000006E-15,{"$f":" IF(Foglio1!$F$15 <> \"\", (M10)^Foglio1!$F$15, NA())","v":{"$error":"#N/A"}},{"$f":" IF(Foglio1!$C$15 <> \"\", N10 / (N10+Foglio1!$C$15), NA())","v":{"$error":"#N/A"}}]
[8.9999999999999995E-15,{"$f":" IF(Foglio1!$F$11 <> \"\", A11^Foglio1!$F$11, NA())","v":{"$error":"#N/A"}},{"$f":" IF(Foglio1!$C$11 <> \"\", B11 / (B11+Foglio1!$C$11), NA())","v":{"$error":"#N/A"}},8.9999999999999995E-15,{"$f":" IF(Foglio1!$F$12 <> \"\", (D11)^Foglio1!$F$12, NA())","v":{"$error":"#N/A"}},{"$f":" IF(Foglio1!$C$12 <> \"\", E11 / (E11+Foglio1!$C$12), NA())","v":{"$error":"#N/A"}},8.9999999999999995E-15,{"$f":" IF(Foglio1!$F$13 <> \"\", (G11)^Foglio1!$F$13, NA())","v":{"$error":"#N/A"}},{"$f":" IF(Foglio1!$C$13 <> \"\", H11 / (H11+Foglio1!$C$13), NA())","v":{"$error":"#N/A"}},8.9999999999999995E-15,{"$f":" IF(Foglio1!$F$14 <> \"\", (J11)^Foglio1!$F$14, NA())","v":{"$error":"#N/A"}},{"$f":" IF(Foglio1!$C$14 <> \"\", K11 / (K11+Foglio1!$C$14), NA())","v":{"$error":"#N/A"}},8.9999999999999995E-15,{"$f":" IF(Foglio1!$F$15 <> \"\", (M11)^Foglio1!$F$15, NA())","v":{"$error":"#N/A"}},{"$f":" IF(Foglio1!$C$15 <> \"\", N11 / (N11+Foglio1!$C$15), NA())","v":{"$error":"#N/A"}}]
[1E-14,{"$f":" IF(Foglio1!$F$11 <> \"\", A12^Foglio1!$F$11, NA())","v":{"$error":"#N/A"}},{"$f":" IF(Foglio1!$C$11 <> \"\", B12 / (B12+Foglio1!$C$11), NA())","v":{"$error":"#N/A"}},1E-14,{"$f":" IF(Foglio1!$F$12 <> \"\", (D12)^Foglio1!$F$12, NA())","v":{"$error":"#N/A"}},{"$f":" IF(Foglio1!$C$12 <> \"\", E12 / (E12+Foglio1!$C$12), NA())","v":{"$error":"#N/A"}},1E-14,{"$f":" IF(Foglio1!$F$13 <> \"\", (G12)^Foglio1!$F$13, NA())","v":{"$error":"#N/A"}},{"$f":" IF(Foglio1!$C$13 <> \"\", H12 / (H12+Foglio1!$C$13), NA())","v":{"$error":"#N/A"}},1E-14,{"$f":" IF(Foglio1!$F$14 <> \"\", (J12)^Foglio1!$F$14, NA())","v":{"$error":"#N/A"}},{"$f":" IF(Foglio1!$C$14 <> \"\", K12 / (K12+Foglio1!$C$14), NA())","v":{"$error":"#N/A"}},1E-14,{"$f":" IF(Foglio1!$F$15 <> \"\", (M12)^Foglio1!$F$15, NA())","v":{"$error":"#N/A"}},{"$f":" IF(Foglio1!$C$15 <> \"\", N12 / (N12+Foglio1!$C$15), NA())","v":{"$error":"#N/A"}}]
[2E-14,{"$f":" IF(Foglio1!$F$11 <> \"\", A13^Foglio1!$F$11, NA())","v":{"$error":"#N/A"}},{"$f":" IF(Foglio1!$C$11 <> \"\", B13 / (B13+Foglio1!$C$11), NA())","v":{"$error":"#N/A"}},2E-14,{"$f":" IF(Foglio1!$F$12 <> \"\", (D13)^Foglio1!$F$12, NA())","v":{"$error":"#N/A"}},{"$f":" IF(Foglio1!$C$12 <> \"\", E13 / (E13+Foglio1!$C$12), NA())","v":{"$error":"#N/A"}},2E-14,{"$f":" IF(Foglio1!$F$13 <> \"\", (G13)^Foglio1!$F$13, NA())","v":{"$error":"#N/A"}},{"$f":" IF(Foglio1!$C$13 <> \"\", H13 / (H13+Foglio1!$C$13), NA())","v":{"$error":"#N/A"}},2E-14,{"$f":" IF(Foglio1!$F$14 <> \"\", (J13)^Foglio1!$F$14, NA())","v":{"$error":"#N/A"}},{"$f":" IF(Foglio1!$C$14 <> \"\", K13 / (K13+Foglio1!$C$14), NA())","v":{"$error":"#N/A"}},2E-14,{"$f":" IF(Foglio1!$F$15 <> \"\", (M13)^Foglio1!$F$15, NA())","v":{"$error":"#N/A"}},{"$f":" IF(Foglio1!$C$15 <> \"\", N13 / (N13+Foglio1!$C$15), NA())","v":{"$error":"#N/A"}}]
[2.9999999999999998E-14,{"$f":" IF(Foglio1!$F$11 <> \"\", A14^Foglio1!$F$11, NA())","v":{"$error":"#N/A"}},{"$f":" IF(Foglio1!$C$11 <> \"\", B14 / (B14+Foglio1!$C$11), NA())","v":{"$error":"#N/A"}},2.9999999999999998E-14,{"$f":" IF(Foglio1!$F$12 <> \"\", (D14)^Foglio1!$F$12, NA())","v":{"$error":"#N/A"}},{"$f":" IF(Foglio1!$C$12 <> \"\", E14 / (E14+Foglio1!$C$12), NA())","v":{"$error":"#N/A"}},2.9999999999999998E-14,{"$f":" IF(Foglio1!$F$13 <> \"\", (G14)^Foglio1!$F$13, NA())","v":{"$error":"#N/A"}},{"$f":" IF(Foglio1!$C$13 <> \"\", H14 / (H14+Foglio1!$C$13), NA())","v":{"$error":"#N/A"}},2.9999999999999998E-14,{"$f":" IF(Foglio1!$F$14 <> \"\", (J14)^Foglio1!$F$14, NA())","v":{"$error":"#N/A"}},{"$f":" IF(Foglio1!$C$14 <> \"\", K14 / (K14+Foglio1!$C$14), NA())","v":{"$error":"#N/A"}},2.9999999999999998E-14,{"$f":" IF(Foglio1!$F$15 <> \"\", (M14)^Foglio1!$F$15, NA())","v":{"$error":"#N/A"}},{"$f":" IF(Foglio1!$C$15 <> \"\", N14 / (N14+Foglio1!$C$15), NA())","v":{"$error":"#N/A"}}]
[4E-14,{"$f":" IF(Foglio1!$F$11 <> \"\", A15^Foglio1!$F$11, NA())","v":{"$error":"#N/A"}},{"$f":" IF(Foglio1!$C$11 <> \"\", B15 / (B15+Foglio1!$C$11), NA())","v":{"$error":"#N/A"}},4E-14,{"$f":" IF(Foglio1!$F$12 <> \"\", (D15)^Foglio1!$F$12, NA())","v":{"$error":"#N/A"}},{"$f":" IF(Foglio1!$C$12 <> \"\", E15 / (E15+Foglio1!$C$12), NA())","v":{"$error":"#N/A"}},4E-14,{"$f":" IF(Foglio1!$F$13 <> \"\", (G15)^Foglio1!$F$13, NA())","v":{"$error":"#N/A"}},{"$f":" IF(Foglio1!$C$13 <> \"\", H15 / (H15+Foglio1!$C$13), NA())","v":{"$error":"#N/A"}},4E-14,{"$f":" IF(Foglio1!$F$14 <> \"\", (J15)^Foglio1!$F$14, NA())","v":{"$error":"#N/A"}},{"$f":" IF(Foglio1!$C$14 <> \"\", K15 / (K15+Foglio1!$C$14), NA())","v":{"$error":"#N/A"}},4E-14,{"$f":" IF(Foglio1!$F$15 <> \"\", (M15)^Foglio1!$F$15, NA())","v":{"$error":"#N/A"}},{"$f":" IF(Foglio1!$C$15 <> \"\", N15 / (N15+Foglio1!$C$15), NA())","v":{"$error":"#N/A"}}]
[5.0000000000000002E-14,{"$f":" IF(Foglio1!$F$11 <> \"\", A16^Foglio1!$F$11, NA())","v":{"$error":"#N/A"}},{"$f":" IF(Foglio1!$C$11 <> \"\", B16 / (B16+Foglio1!$C$11), NA())","v":{"$error":"#N/A"}},5.0000000000000002E-14,{"$f":" IF(Foglio1!$F$12 <> \"\", (D16)^Foglio1!$F$12, NA())","v":{"$error":"#N/A"}},{"$f":" IF(Foglio1!$C$12 <> \"\", E16 / (E16+Foglio1!$C$12), NA())","v":{"$error":"#N/A"}},5.0000000000000002E-14,{"$f":" IF(Foglio1!$F$13 <> \"\", (G16)^Foglio1!$F$13, NA())","v":{"$error":"#N/A"}},{"$f":" IF(Foglio1!$C$13 <> \"\", H16 / (H16+Foglio1!$C$13), NA())","v":{"$error":"#N/A"}},5.0000000000000002E-14,{"$f":" IF(Foglio1!$F$14 <> \"\", (J16)^Foglio1!$F$14, NA())","v":{"$error":"#N/A"}},{"$f":" IF(Foglio1!$C$14 <> \"\", K16 / (K16+Foglio1!$C$14), NA())","v":{"$error":"#N/A"}},5.0000000000000002E-14,{"$f":" IF(Foglio1!$F$15 <> \"\", (M16)^Foglio1!$F$15, NA())","v":{"$error":"#N/A"}},{"$f":" IF(Foglio1!$C$15 <> \"\", N16 / (N16+Foglio1!$C$15), NA())","v":{"$error":"#N/A"}}]
[5.9999999999999997E-14,{"$f":" IF(Foglio1!$F$11 <> \"\", A17^Foglio1!$F$11, NA())","v":{"$error":"#N/A"}},{"$f":" IF(Foglio1!$C$11 <> \"\", B17 / (B17+Foglio1!$C$11), NA())","v":{"$error":"#N/A"}},5.9999999999999997E-14,{"$f":" IF(Foglio1!$F$12 <> \"\", (D17)^Foglio1!$F$12, NA())","v":{"$error":"#N/A"}},{"$f":" IF(Foglio1!$C$12 <> \"\", E17 / (E17+Foglio1!$C$12), NA())","v":{"$error":"#N/A"}},5.9999999999999997E-14,{"$f":" IF(Foglio1!$F$13 <> \"\", (G17)^Foglio1!$F$13, NA())","v":{"$error":"#N/A"}},{"$f":" IF(Foglio1!$C$13 <> \"\", H17 / (H17+Foglio1!$C$13), NA())","v":{"$error":"#N/A"}},5.9999999999999997E-14,{"$f":" IF(Foglio1!$F$14 <> \"\", (J17)^Foglio1!$F$14, NA())","v":{"$error":"#N/A"}},{"$f":" IF(Foglio1!$C$14 <> \"\", K17 / (K17+Foglio1!$C$14), NA())","v":{"$error":"#N/A"}},5.9999999999999997E-14,{"$f":" IF(Foglio1!$F$15 <> \"\", (M17)^Foglio1!$F$15, NA())","v":{"$error":"#N/A"}},{"$f":" IF(Foglio1!$C$15 <> \"\", N17 / (N17+Foglio1!$C$15), NA())","v":{"$error":"#N/A"}}]
[7.0000000000000005E-14,{"$f":" IF(Foglio1!$F$11 <> \"\", A18^Foglio1!$F$11, NA())","v":{"$error":"#N/A"}},{"$f":" IF(Foglio1!$C$11 <> \"\", B18 / (B18+Foglio1!$C$11), NA())","v":{"$error":"#N/A"}},7.0000000000000005E-14,{"$f":" IF(Foglio1!$F$12 <> \"\", (D18)^Foglio1!$F$12, NA())","v":{"$error":"#N/A"}},{"$f":" IF(Foglio1!$C$12 <> \"\", E18 / (E18+Foglio1!$C$12), NA())","v":{"$error":"#N/A"}},7.0000000000000005E-14,{"$f":" IF(Foglio1!$F$13 <> \"\", (G18)^Foglio1!$F$13, NA())","v":{"$error":"#N/A"}},{"$f":" IF(Foglio1!$C$13 <> \"\", H18 / (H18+Foglio1!$C$13), NA())","v":{"$error":"#N/A"}},7.0000000000000005E-14,{"$f":" IF(Foglio1!$F$14 <> \"\", (J18)^Foglio1!$F$14, NA())","v":{"$error":"#N/A"}},{"$f":" IF(Foglio1!$C$14 <> \"\", K18 / (K18+Foglio1!$C$14), NA())","v":{"$error":"#N/A"}},7.0000000000000005E-14,{"$f":" IF(Foglio1!$F$15 <> \"\", (M18)^Foglio1!$F$15, NA())","v":{"$error":"#N/A"}},{"$f":" IF(Foglio1!$C$15 <> \"\", N18 / (N18+Foglio1!$C$15), NA())","v":{"$error":"#N/A"}}]
[8E-14,{"$f":" IF(Foglio1!$F$11 <> \"\", A19^Foglio1!$F$11, NA())","v":{"$error":"#N/A"}},{"$f":" IF(Foglio1!$C$11 <> \"\", B19 / (B19+Foglio1!$C$11), NA())","v":{"$error":"#N/A"}},8E-14,{"$f":" IF(Foglio1!$F$12 <> \"\", (D19)^Foglio1!$F$12, NA())","v":{"$error":"#N/A"}},{"$f":" IF(Foglio1!$C$12 <> \"\", E19 / (E19+Foglio1!$C$12), NA())","v":{"$error":"#N/A"}},8E-14,{"$f":" IF(Foglio1!$F$13 <> \"\", (G19)^Foglio1!$F$13, NA())","v":{"$error":"#N/A"}},{"$f":" IF(Foglio1!$C$13 <> \"\", H19 / (H19+Foglio1!$C$13), NA())","v":{"$error":"#N/A"}},8E-14,{"$f":" IF(Foglio1!$F$14 <> \"\", (J19)^Foglio1!$F$14, NA())","v":{"$error":"#N/A"}},{"$f":" IF(Foglio1!$C$14 <> \"\", K19 / (K19+Foglio1!$C$14), NA())","v":{"$error":"#N/A"}},8E-14,{"$f":" IF(Foglio1!$F$15 <> \"\", (M19)^Foglio1!$F$15, NA())","v":{"$error":"#N/A"}},{"$f":" IF(Foglio1!$C$15 <> \"\", N19 / (N19+Foglio1!$C$15), NA())","v":{"$error":"#N/A"}}]
[8.9999999999999995E-14,{"$f":" IF(Foglio1!$F$11 <> \"\", A20^Foglio1!$F$11, NA())","v":{"$error":"#N/A"}},{"$f":" IF(Foglio1!$C$11 <> \"\", B20 / (B20+Foglio1!$C$11), NA())","v":{"$error":"#N/A"}},8.9999999999999995E-14,{"$f":" IF(Foglio1!$F$12 <> \"\", (D20)^Foglio1!$F$12, NA())","v":{"$error":"#N/A"}},{"$f":" IF(Foglio1!$C$12 <> \"\", E20 / (E20+Foglio1!$C$12), NA())","v":{"$error":"#N/A"}},8.9999999999999995E-14,{"$f":" IF(Foglio1!$F$13 <> \"\", (G20)^Foglio1!$F$13, NA())","v":{"$error":"#N/A"}},{"$f":" IF(Foglio1!$C$13 <> \"\", H20 / (H20+Foglio1!$C$13), NA())","v":{"$error":"#N/A"}},8.9999999999999995E-14,{"$f":" IF(Foglio1!$F$14 <> \"\", (J20)^Foglio1!$F$14, NA())","v":{"$error":"#N/A"}},{"$f":" IF(Foglio1!$C$14 <> \"\", K20 / (K20+Foglio1!$C$14), NA())","v":{"$error":"#N/A"}},8.9999999999999995E-14,{"$f":" IF(Foglio1!$F$15 <> \"\", (M20)^Foglio1!$F$15, NA())","v":{"$error":"#N/A"}},{"$f":" IF(Foglio1!$C$15 <> \"\", N20 / (N20+Foglio1!$C$15), NA())","v":{"$error":"#N/A"}}]
[1E-13,{"$f":" IF(Foglio1!$F$11 <> \"\", A21^Foglio1!$F$11, NA())","v":{"$error":"#N/A"}},{"$f":" IF(Foglio1!$C$11 <> \"\", B21 / (B21+Foglio1!$C$11), NA())","v":{"$error":"#N/A"}},1E-13,{"$f":" IF(Foglio1!$F$12 <> \"\", (D21)^Foglio1!$F$12, NA())","v":{"$error":"#N/A"}},{"$f":" IF(Foglio1!$C$12 <> \"\", E21 / (E21+Foglio1!$C$12), NA())","v":{"$error":"#N/A"}},1E-13,{"$f":" IF(Foglio1!$F$13 <> \"\", (G21)^Foglio1!$F$13, NA())","v":{"$error":"#N/A"}},{"$f":" IF(Foglio1!$C$13 <> \"\", H21 / (H21+Foglio1!$C$13), NA())","v":{"$error":"#N/A"}},1E-13,{"$f":" IF(Foglio1!$F$14 <> \"\", (J21)^Foglio1!$F$14, NA())","v":{"$error":"#N/A"}},{"$f":" IF(Foglio1!$C$14 <> \"\", K21 / (K21+Foglio1!$C$14), NA())","v":{"$error":"#N/A"}},1E-13,{"$f":" IF(Foglio1!$F$15 <> \"\", (M21)^Foglio1!$F$15, NA())","v":{"$error":"#N/A"}},{"$f":" IF(Foglio1!$C$15 <> \"\", N21 / (N21+Foglio1!$C$15), NA())","v":{"$error":"#N/A"}}]
[2.0000000000000001E-13,{"$f":" IF(Foglio1!$F$11 <> \"\", A22^Foglio1!$F$11, NA())","v":{"$error":"#N/A"}},{"$f":" IF(Foglio1!$C$11 <> \"\", B22 / (B22+Foglio1!$C$11), NA())","v":{"$error":"#N/A"}},2.0000000000000001E-13,{"$f":" IF(Foglio1!$F$12 <> \"\", (D22)^Foglio1!$F$12, NA())","v":{"$error":"#N/A"}},{"$f":" IF(Foglio1!$C$12 <> \"\", E22 / (E22+Foglio1!$C$12), NA())","v":{"$error":"#N/A"}},2.0000000000000001E-13,{"$f":" IF(Foglio1!$F$13 <> \"\", (G22)^Foglio1!$F$13, NA())","v":{"$error":"#N/A"}},{"$f":" IF(Foglio1!$C$13 <> \"\", H22 / (H22+Foglio1!$C$13), NA())","v":{"$error":"#N/A"}},2.0000000000000001E-13,{"$f":" IF(Foglio1!$F$14 <> \"\", (J22)^Foglio1!$F$14, NA())","v":{"$error":"#N/A"}},{"$f":" IF(Foglio1!$C$14 <> \"\", K22 / (K22+Foglio1!$C$14), NA())","v":{"$error":"#N/A"}},2.0000000000000001E-13,{"$f":" IF(Foglio1!$F$15 <> \"\", (M22)^Foglio1!$F$15, NA())","v":{"$error":"#N/A"}},{"$f":" IF(Foglio1!$C$15 <> \"\", N22 / (N22+Foglio1!$C$15), NA())","v":{"$error":"#N/A"}}]
[2.9999999999999998E-13,{"$f":" IF(Foglio1!$F$11 <> \"\", A23^Foglio1!$F$11, NA())","v":{"$error":"#N/A"}},{"$f":" IF(Foglio1!$C$11 <> \"\", B23 / (B23+Foglio1!$C$11), NA())","v":{"$error":"#N/A"}},2.9999999999999998E-13,{"$f":" IF(Foglio1!$F$12 <> \"\", (D23)^Foglio1!$F$12, NA())","v":{"$error":"#N/A"}},{"$f":" IF(Foglio1!$C$12 <> \"\", E23 / (E23+Foglio1!$C$12), NA())","v":{"$error":"#N/A"}},2.9999999999999998E-13,{"$f":" IF(Foglio1!$F$13 <> \"\", (G23)^Foglio1!$F$13, NA())","v":{"$error":"#N/A"}},{"$f":" IF(Foglio1!$C$13 <> \"\", H23 / (H23+Foglio1!$C$13), NA())","v":{"$error":"#N/A"}},2.9999999999999998E-13,{"$f":" IF(Foglio1!$F$14 <> \"\", (J23)^Foglio1!$F$14, NA())","v":{"$error":"#N/A"}},{"$f":" IF(Foglio1!$C$14 <> \"\", K23 / (K23+Foglio1!$C$14), NA())","v":{"$error":"#N/A"}},2.9999999999999998E-13,{"$f":" IF(Foglio1!$F$15 <> \"\", (M23)^Foglio1!$F$15, NA())","v":{"$error":"#N/A"}},{"$f":" IF(Foglio1!$C$15 <> \"\", N23 / (N23+Foglio1!$C$15), NA())","v":{"$error":"#N/A"}}]
[4.0000000000000001E-13,{"$f":" IF(Foglio1!$F$11 <> \"\", A24^Foglio1!$F$11, NA())","v":{"$error":"#N/A"}},{"$f":" IF(Foglio1!$C$11 <> \"\", B24 / (B24+Foglio1!$C$11), NA())","v":{"$error":"#N/A"}},4.0000000000000001E-13,{"$f":" IF(Foglio1!$F$12 <> \"\", (D24)^Foglio1!$F$12, NA())","v":{"$error":"#N/A"}},{"$f":" IF(Foglio1!$C$12 <> \"\", E24 / (E24+Foglio1!$C$12), NA())","v":{"$error":"#N/A"}},4.0000000000000001E-13,{"$f":" IF(Foglio1!$F$13 <> \"\", (G24)^Foglio1!$F$13, NA())","v":{"$error":"#N/A"}},{"$f":" IF(Foglio1!$C$13 <> \"\", H24 / (H24+Foglio1!$C$13), NA())","v":{"$error":"#N/A"}},4.0000000000000001E-13,{"$f":" IF(Foglio1!$F$14 <> \"\", (J24)^Foglio1!$F$14, NA())","v":{"$error":"#N/A"}},{"$f":" IF(Foglio1!$C$14 <> \"\", K24 / (K24+Foglio1!$C$14), NA())","v":{"$error":"#N/A"}},4.0000000000000001E-13,{"$f":" IF(Foglio1!$F$15 <> \"\", (M24)^Foglio1!$F$15, NA())","v":{"$error":"#N/A"}},{"$f":" IF(Foglio1!$C$15 <> \"\", N24 / (N24+Foglio1!$C$15), NA())","v":{"$error":"#N/A"}}]
[4.9999999999999999E-13,{"$f":" IF(Foglio1!$F$11 <> \"\", A25^Foglio1!$F$11, NA())","v":{"$error":"#N/A"}},{"$f":" IF(Foglio1!$C$11 <> \"\", B25 / (B25+Foglio1!$C$11), NA())","v":{"$error":"#N/A"}},4.9999999999999999E-13,{"$f":" IF(Foglio1!$F$12 <> \"\", (D25)^Foglio1!$F$12, NA())","v":{"$error":"#N/A"}},{"$f":" IF(Foglio1!$C$12 <> \"\", E25 / (E25+Foglio1!$C$12), NA())","v":{"$error":"#N/A"}},4.9999999999999999E-13,{"$f":" IF(Foglio1!$F$13 <> \"\", (G25)^Foglio1!$F$13, NA())","v":{"$error":"#N/A"}},{"$f":" IF(Foglio1!$C$13 <> \"\", H25 / (H25+Foglio1!$C$13), NA())","v":{"$error":"#N/A"}},4.9999999999999999E-13,{"$f":" IF(Foglio1!$F$14 <> \"\", (J25)^Foglio1!$F$14, NA())","v":{"$error":"#N/A"}},{"$f":" IF(Foglio1!$C$14 <> \"\", K25 / (K25+Foglio1!$C$14), NA())","v":{"$error":"#N/A"}},4.9999999999999999E-13,{"$f":" IF(Foglio1!$F$15 <> \"\", (M25)^Foglio1!$F$15, NA())","v":{"$error":"#N/A"}},{"$f":" IF(Foglio1!$C$15 <> \"\", N25 / (N25+Foglio1!$C$15), NA())","v":{"$error":"#N/A"}}]
[5.9999999999999997E-13,{"$f":" IF(Foglio1!$F$11 <> \"\", A26^Foglio1!$F$11, NA())","v":{"$error":"#N/A"}},{"$f":" IF(Foglio1!$C$11 <> \"\", B26 / (B26+Foglio1!$C$11), NA())","v":{"$error":"#N/A"}},5.9999999999999997E-13,{"$f":" IF(Foglio1!$F$12 <> \"\", (D26)^Foglio1!$F$12, NA())","v":{"$error":"#N/A"}},{"$f":" IF(Foglio1!$C$12 <> \"\", E26 / (E26+Foglio1!$C$12), NA())","v":{"$error":"#N/A"}},5.9999999999999997E-13,{"$f":" IF(Foglio1!$F$13 <> \"\", (G26)^Foglio1!$F$13, NA())","v":{"$error":"#N/A"}},{"$f":" IF(Foglio1!$C$13 <> \"\", H26 / (H26+Foglio1!$C$13), NA())","v":{"$error":"#N/A"}},5.9999999999999997E-13,{"$f":" IF(Foglio1!$F$14 <> \"\", (J26)^Foglio1!$F$14, NA())","v":{"$error":"#N/A"}},{"$f":" IF(Foglio1!$C$14 <> \"\", K26 / (K26+Foglio1!$C$14), NA())","v":{"$error":"#N/A"}},5.9999999999999997E-13,{"$f":" IF(Foglio1!$F$15 <> \"\", (M26)^Foglio1!$F$15, NA())","v":{"$error":"#N/A"}},{"$f":" IF(Foglio1!$C$15 <> \"\", N26 / (N26+Foglio1!$C$15), NA())","v":{"$error":"#N/A"}}]
[7.0000000000000005E-13,{"$f":" IF(Foglio1!$F$11 <> \"\", A27^Foglio1!$F$11, NA())","v":{"$error":"#N/A"}},{"$f":" IF(Foglio1!$C$11 <> \"\", B27 / (B27+Foglio1!$C$11), NA())","v":{"$error":"#N/A"}},7.0000000000000005E-13,{"$f":" IF(Foglio1!$F$12 <> \"\", (D27)^Foglio1!$F$12, NA())","v":{"$error":"#N/A"}},{"$f":" IF(Foglio1!$C$12 <> \"\", E27 / (E27+Foglio1!$C$12), NA())","v":{"$error":"#N/A"}},7.0000000000000005E-13,{"$f":" IF(Foglio1!$F$13 <> \"\", (G27)^Foglio1!$F$13, NA())","v":{"$error":"#N/A"}},{"$f":" IF(Foglio1!$C$13 <> \"\", H27 / (H27+Foglio1!$C$13), NA())","v":{"$error":"#N/A"}},7.0000000000000005E-13,{"$f":" IF(Foglio1!$F$14 <> \"\", (J27)^Foglio1!$F$14, NA())","v":{"$error":"#N/A"}},{"$f":" IF(Foglio1!$C$14 <> \"\", K27 / (K27+Foglio1!$C$14), NA())","v":{"$error":"#N/A"}},7.0000000000000005E-13,{"$f":" IF(Foglio1!$F$15 <> \"\", (M27)^Foglio1!$F$15, NA())","v":{"$error":"#N/A"}},{"$f":" IF(Foglio1!$C$15 <> \"\", N27 / (N27+Foglio1!$C$15), NA())","v":{"$error":"#N/A"}}]
[8.0000000000000002E-13,{"$f":" IF(Foglio1!$F$11 <> \"\", A28^Foglio1!$F$11, NA())","v":{"$error":"#N/A"}},{"$f":" IF(Foglio1!$C$11 <> \"\", B28 / (B28+Foglio1!$C$11), NA())","v":{"$error":"#N/A"}},8.0000000000000002E-13,{"$f":" IF(Foglio1!$F$12 <> \"\", (D28)^Foglio1!$F$12, NA())","v":{"$error":"#N/A"}},{"$f":" IF(Foglio1!$C$12 <> \"\", E28 / (E28+Foglio1!$C$12), NA())","v":{"$error":"#N/A"}},8.0000000000000002E-13,{"$f":" IF(Foglio1!$F$13 <> \"\", (G28)^Foglio1!$F$13, NA())","v":{"$error":"#N/A"}},{"$f":" IF(Foglio1!$C$13 <> \"\", H28 / (H28+Foglio1!$C$13), NA())","v":{"$error":"#N/A"}},8.0000000000000002E-13,{"$f":" IF(Foglio1!$F$14 <> \"\", (J28)^Foglio1!$F$14, NA())","v":{"$error":"#N/A"}},{"$f":" IF(Foglio1!$C$14 <> \"\", K28 / (K28+Foglio1!$C$14), NA())","v":{"$error":"#N/A"}},8.0000000000000002E-13,{"$f":" IF(Foglio1!$F$15 <> \"\", (M28)^Foglio1!$F$15, NA())","v":{"$error":"#N/A"}},{"$f":" IF(Foglio1!$C$15 <> \"\", N28 / (N28+Foglio1!$C$15), NA())","v":{"$error":"#N/A"}}]
[9E-13,{"$f":" IF(Foglio1!$F$11 <> \"\", A29^Foglio1!$F$11, NA())","v":{"$error":"#N/A"}},{"$f":" IF(Foglio1!$C$11 <> \"\", B29 / (B29+Foglio1!$C$11), NA())","v":{"$error":"#N/A"}},9E-13,{"$f":" IF(Foglio1!$F$12 <> \"\", (D29)^Foglio1!$F$12, NA())","v":{"$error":"#N/A"}},{"$f":" IF(Foglio1!$C$12 <> \"\", E29 / (E29+Foglio1!$C$12), NA())","v":{"$error":"#N/A"}},9E-13,{"$f":" IF(Foglio1!$F$13 <> \"\", (G29)^Foglio1!$F$13, NA())","v":{"$error":"#N/A"}},{"$f":" IF(Foglio1!$C$13 <> \"\", H29 / (H29+Foglio1!$C$13), NA())","v":{"$error":"#N/A"}},9E-13,{"$f":" IF(Foglio1!$F$14 <> \"\", (J29)^Foglio1!$F$14, NA())","v":{"$error":"#N/A"}},{"$f":" IF(Foglio1!$C$14 <> \"\", K29 / (K29+Foglio1!$C$14), NA())","v":{"$error":"#N/A"}},9E-13,{"$f":" IF(Foglio1!$F$15 <> \"\", (M29)^Foglio1!$F$15, NA())","v":{"$error":"#N/A"}},{"$f":" IF(Foglio1!$C$15 <> \"\", N29 / (N29+Foglio1!$C$15), NA())","v":{"$error":"#N/A"}}]
[9.9999999999999998E-13,{"$f":" IF(Foglio1!$F$11 <> \"\", A30^Foglio1!$F$11, NA())","v":{"$error":"#N/A"}},{"$f":" IF(Foglio1!$C$11 <> \"\", B30 / (B30+Foglio1!$C$11), NA())","v":{"$error":"#N/A"}},9.9999999999999998E-13,{"$f":" IF(Foglio1!$F$12 <> \"\", (D30)^Foglio1!$F$12, NA())","v":{"$error":"#N/A"}},{"$f":" IF(Foglio1!$C$12 <> \"\", E30 / (E30+Foglio1!$C$12), NA())","v":{"$error":"#N/A"}},9.9999999999999998E-13,{"$f":" IF(Foglio1!$F$13 <> \"\", (G30)^Foglio1!$F$13, NA())","v":{"$error":"#N/A"}},{"$f":" IF(Foglio1!$C$13 <> \"\", H30 / (H30+Foglio1!$C$13), NA())","v":{"$error":"#N/A"}},9.9999999999999998E-13,{"$f":" IF(Foglio1!$F$14 <> \"\", (J30)^Foglio1!$F$14, NA())","v":{"$error":"#N/A"}},{"$f":" IF(Foglio1!$C$14 <> \"\", K30 / (K30+Foglio1!$C$14), NA())","v":{"$error":"#N/A"}},9.9999999999999998E-13,{"$f":" IF(Foglio1!$F$15 <> \"\", (M30)^Foglio1!$F$15, NA())","v":{"$error":"#N/A"}},{"$f":" IF(Foglio1!$C$15 <> \"\", N30 / (N30+Foglio1!$C$15), NA())","v":{"$error":"#N/A"}}]
[2E-12,{"$f":" IF(Foglio1!$F$11 <> \"\", A31^Foglio1!$F$11, NA())","v":{"$error":"#N/A"}},{"$f":" IF(Foglio1!$C$11 <> \"\", B31 / (B31+Foglio1!$C$11), NA())","v":{"$error":"#N/A"}},2E-12,{"$f":" IF(Foglio1!$F$12 <> \"\", (D31)^Foglio1!$F$12, NA())","v":{"$error":"#N/A"}},{"$f":" IF(Foglio1!$C$12 <> \"\", E31 / (E31+Foglio1!$C$12), NA())","v":{"$error":"#N/A"}},2E-12,{"$f":" IF(Foglio1!$F$13 <> \"\", (G31)^Foglio1!$F$13, NA())","v":{"$error":"#N/A"}},{"$f":" IF(Foglio1!$C$13 <> \"\", H31 / (H31+Foglio1!$C$13), NA())","v":{"$error":"#N/A"}},2E-12,{"$f":" IF(Foglio1!$F$14 <> \"\", (J31)^Foglio1!$F$14, NA())","v":{"$error":"#N/A"}},{"$f":" IF(Foglio1!$C$14 <> \"\", K31 / (K31+Foglio1!$C$14), NA())","v":{"$error":"#N/A"}},2E-12,{"$f":" IF(Foglio1!$F$15 <> \"\", (M31)^Foglio1!$F$15, NA())","v":{"$error":"#N/A"}},{"$f":" IF(Foglio1!$C$15 <> \"\", N31 / (N31+Foglio1!$C$15), NA())","v":{"$error":"#N/A"}}]
[3.0000000000000001E-12,{"$f":" IF(Foglio1!$F$11 <> \"\", A32^Foglio1!$F$11, NA())","v":{"$error":"#N/A"}},{"$f":" IF(Foglio1!$C$11 <> \"\", B32 / (B32+Foglio1!$C$11), NA())","v":{"$error":"#N/A"}},3.0000000000000001E-12,{"$f":" IF(Foglio1!$F$12 <> \"\", (D32)^Foglio1!$F$12, NA())","v":{"$error":"#N/A"}},{"$f":" IF(Foglio1!$C$12 <> \"\", E32 / (E32+Foglio1!$C$12), NA())","v":{"$error":"#N/A"}},3.0000000000000001E-12,{"$f":" IF(Foglio1!$F$13 <> \"\", (G32)^Foglio1!$F$13, NA())","v":{"$error":"#N/A"}},{"$f":" IF(Foglio1!$C$13 <> \"\", H32 / (H32+Foglio1!$C$13), NA())","v":{"$error":"#N/A"}},3.0000000000000001E-12,{"$f":" IF(Foglio1!$F$14 <> \"\", (J32)^Foglio1!$F$14, NA())","v":{"$error":"#N/A"}},{"$f":" IF(Foglio1!$C$14 <> \"\", K32 / (K32+Foglio1!$C$14), NA())","v":{"$error":"#N/A"}},3.0000000000000001E-12,{"$f":" IF(Foglio1!$F$15 <> \"\", (M32)^Foglio1!$F$15, NA())","v":{"$error":"#N/A"}},{"$f":" IF(Foglio1!$C$15 <> \"\", N32 / (N32+Foglio1!$C$15), NA())","v":{"$error":"#N/A"}}]
[3.9999999999999999E-12,{"$f":" IF(Foglio1!$F$11 <> \"\", A33^Foglio1!$F$11, NA())","v":{"$error":"#N/A"}},{"$f":" IF(Foglio1!$C$11 <> \"\", B33 / (B33+Foglio1!$C$11), NA())","v":{"$error":"#N/A"}},3.9999999999999999E-12,{"$f":" IF(Foglio1!$F$12 <> \"\", (D33)^Foglio1!$F$12, NA())","v":{"$error":"#N/A"}},{"$f":" IF(Foglio1!$C$12 <> \"\", E33 / (E33+Foglio1!$C$12), NA())","v":{"$error":"#N/A"}},3.9999999999999999E-12,{"$f":" IF(Foglio1!$F$13 <> \"\", (G33)^Foglio1!$F$13, NA())","v":{"$error":"#N/A"}},{"$f":" IF(Foglio1!$C$13 <> \"\", H33 / (H33+Foglio1!$C$13), NA())","v":{"$error":"#N/A"}},3.9999999999999999E-12,{"$f":" IF(Foglio1!$F$14 <> \"\", (J33)^Foglio1!$F$14, NA())","v":{"$error":"#N/A"}},{"$f":" IF(Foglio1!$C$14 <> \"\", K33 / (K33+Foglio1!$C$14), NA())","v":{"$error":"#N/A"}},3.9999999999999999E-12,{"$f":" IF(Foglio1!$F$15 <> \"\", (M33)^Foglio1!$F$15, NA())","v":{"$error":"#N/A"}},{"$f":" IF(Foglio1!$C$15 <> \"\", N33 / (N33+Foglio1!$C$15), NA())","v":{"$error":"#N/A"}}]
[4.9999999999999997E-12,{"$f":" IF(Foglio1!$F$11 <> \"\", A34^Foglio1!$F$11, NA())","v":{"$error":"#N/A"}},{"$f":" IF(Foglio1!$C$11 <> \"\", B34 / (B34+Foglio1!$C$11), NA())","v":{"$error":"#N/A"}},4.9999999999999997E-12,{"$f":" IF(Foglio1!$F$12 <> \"\", (D34)^Foglio1!$F$12, NA())","v":{"$error":"#N/A"}},{"$f":" IF(Foglio1!$C$12 <> \"\", E34 / (E34+Foglio1!$C$12), NA())","v":{"$error":"#N/A"}},4.9999999999999997E-12,{"$f":" IF(Foglio1!$F$13 <> \"\", (G34)^Foglio1!$F$13, NA())","v":{"$error":"#N/A"}},{"$f":" IF(Foglio1!$C$13 <> \"\", H34 / (H34+Foglio1!$C$13), NA())","v":{"$error":"#N/A"}},4.9999999999999997E-12,{"$f":" IF(Foglio1!$F$14 <> \"\", (J34)^Foglio1!$F$14, NA())","v":{"$error":"#N/A"}},{"$f":" IF(Foglio1!$C$14 <> \"\", K34 / (K34+Foglio1!$C$14), NA())","v":{"$error":"#N/A"}},4.9999999999999997E-12,{"$f":" IF(Foglio1!$F$15 <> \"\", (M34)^Foglio1!$F$15, NA())","v":{"$error":"#N/A"}},{"$f":" IF(Foglio1!$C$15 <> \"\", N34 / (N34+Foglio1!$C$15), NA())","v":{"$error":"#N/A"}}]
[6.0000000000000003E-12,{"$f":" IF(Foglio1!$F$11 <> \"\", A35^Foglio1!$F$11, NA())","v":{"$error":"#N/A"}},{"$f":" IF(Foglio1!$C$11 <> \"\", B35 / (B35+Foglio1!$C$11), NA())","v":{"$error":"#N/A"}},6.0000000000000003E-12,{"$f":" IF(Foglio1!$F$12 <> \"\", (D35)^Foglio1!$F$12, NA())","v":{"$error":"#N/A"}},{"$f":" IF(Foglio1!$C$12 <> \"\", E35 / (E35+Foglio1!$C$12), NA())","v":{"$error":"#N/A"}},6.0000000000000003E-12,{"$f":" IF(Foglio1!$F$13 <> \"\", (G35)^Foglio1!$F$13, NA())","v":{"$error":"#N/A"}},{"$f":" IF(Foglio1!$C$13 <> \"\", H35 / (H35+Foglio1!$C$13), NA())","v":{"$error":"#N/A"}},6.0000000000000003E-12,{"$f":" IF(Foglio1!$F$14 <> \"\", (J35)^Foglio1!$F$14, NA())","v":{"$error":"#N/A"}},{"$f":" IF(Foglio1!$C$14 <> \"\", K35 / (K35+Foglio1!$C$14), NA())","v":{"$error":"#N/A"}},6.0000000000000003E-12,{"$f":" IF(Foglio1!$F$15 <> \"\", (M35)^Foglio1!$F$15, NA())","v":{"$error":"#N/A"}},{"$f":" IF(Foglio1!$C$15 <> \"\", N35 / (N35+Foglio1!$C$15), NA())","v":{"$error":"#N/A"}}]
[7.0000000000000001E-12,{"$f":" IF(Foglio1!$F$11 <> \"\", A36^Foglio1!$F$11, NA())","v":{"$error":"#N/A"}},{"$f":" IF(Foglio1!$C$11 <> \"\", B36 / (B36+Foglio1!$C$11), NA())","v":{"$error":"#N/A"}},7.0000000000000001E-12,{"$f":" IF(Foglio1!$F$12 <> \"\", (D36)^Foglio1!$F$12, NA())","v":{"$error":"#N/A"}},{"$f":" IF(Foglio1!$C$12 <> \"\", E36 / (E36+Foglio1!$C$12), NA())","v":{"$error":"#N/A"}},7.0000000000000001E-12,{"$f":" IF(Foglio1!$F$13 <> \"\", (G36)^Foglio1!$F$13, NA())","v":{"$error":"#N/A"}},{"$f":" IF(Foglio1!$C$13 <> \"\", H36 / (H36+Foglio1!$C$13), NA())","v":{"$error":"#N/A"}},7.0000000000000001E-12,{"$f":" IF(Foglio1!$F$14 <> \"\", (J36)^Foglio1!$F$14, NA())","v":{"$error":"#N/A"}},{"$f":" IF(Foglio1!$C$14 <> \"\", K36 / (K36+Foglio1!$C$14), NA())","v":{"$error":"#N/A"}},7.0000000000000001E-12,{"$f":" IF(Foglio1!$F$15 <> \"\", (M36)^Foglio1!$F$15, NA())","v":{"$error":"#N/A"}},{"$f":" IF(Foglio1!$C$15 <> \"\", N36 / (N36+Foglio1!$C$15), NA())","v":{"$error":"#N/A"}}]
[7.9999999999999998E-12,{"$f":" IF(Foglio1!$F$11 <> \"\", A37^Foglio1!$F$11, NA())","v":{"$error":"#N/A"}},{"$f":" IF(Foglio1!$C$11 <> \"\", B37 / (B37+Foglio1!$C$11), NA())","v":{"$error":"#N/A"}},7.9999999999999998E-12,{"$f":" IF(Foglio1!$F$12 <> \"\", (D37)^Foglio1!$F$12, NA())","v":{"$error":"#N/A"}},{"$f":" IF(Foglio1!$C$12 <> \"\", E37 / (E37+Foglio1!$C$12), NA())","v":{"$error":"#N/A"}},7.9999999999999998E-12,{"$f":" IF(Foglio1!$F$13 <> \"\", (G37)^Foglio1!$F$13, NA())","v":{"$error":"#N/A"}},{"$f":" IF(Foglio1!$C$13 <> \"\", H37 / (H37+Foglio1!$C$13), NA())","v":{"$error":"#N/A"}},7.9999999999999998E-12,{"$f":" IF(Foglio1!$F$14 <> \"\", (J37)^Foglio1!$F$14, NA())","v":{"$error":"#N/A"}},{"$f":" IF(Foglio1!$C$14 <> \"\", K37 / (K37+Foglio1!$C$14), NA())","v":{"$error":"#N/A"}},7.9999999999999998E-12,{"$f":" IF(Foglio1!$F$15 <> \"\", (M37)^Foglio1!$F$15, NA())","v":{"$error":"#N/A"}},{"$f":" IF(Foglio1!$C$15 <> \"\", N37 / (N37+Foglio1!$C$15), NA())","v":{"$error":"#N/A"}}]
[8.9999999999999996E-12,{"$f":" IF(Foglio1!$F$11 <> \"\", A38^Foglio1!$F$11, NA())","v":{"$error":"#N/A"}},{"$f":" IF(Foglio1!$C$11 <> \"\", B38 / (B38+Foglio1!$C$11), NA())","v":{"$error":"#N/A"}},8.9999999999999996E-12,{"$f":" IF(Foglio1!$F$12 <> \"\", (D38)^Foglio1!$F$12, NA())","v":{"$error":"#N/A"}},{"$f":" IF(Foglio1!$C$12 <> \"\", E38 / (E38+Foglio1!$C$12), NA())","v":{"$error":"#N/A"}},8.9999999999999996E-12,{"$f":" IF(Foglio1!$F$13 <> \"\", (G38)^Foglio1!$F$13, NA())","v":{"$error":"#N/A"}},{"$f":" IF(Foglio1!$C$13 <> \"\", H38 / (H38+Foglio1!$C$13), NA())","v":{"$error":"#N/A"}},8.9999999999999996E-12,{"$f":" IF(Foglio1!$F$14 <> \"\", (J38)^Foglio1!$F$14, NA())","v":{"$error":"#N/A"}},{"$f":" IF(Foglio1!$C$14 <> \"\", K38 / (K38+Foglio1!$C$14), NA())","v":{"$error":"#N/A"}},8.9999999999999996E-12,{"$f":" IF(Foglio1!$F$15 <> \"\", (M38)^Foglio1!$F$15, NA())","v":{"$error":"#N/A"}},{"$f":" IF(Foglio1!$C$15 <> \"\", N38 / (N38+Foglio1!$C$15), NA())","v":{"$error":"#N/A"}}]
[9.9999999999999994E-12,{"$f":" IF(Foglio1!$F$11 <> \"\", A39^Foglio1!$F$11, NA())","v":{"$error":"#N/A"}},{"$f":" IF(Foglio1!$C$11 <> \"\", B39 / (B39+Foglio1!$C$11), NA())","v":{"$error":"#N/A"}},9.9999999999999994E-12,{"$f":" IF(Foglio1!$F$12 <> \"\", (D39)^Foglio1!$F$12, NA())","v":{"$error":"#N/A"}},{"$f":" IF(Foglio1!$C$12 <> \"\", E39 / (E39+Foglio1!$C$12), NA())","v":{"$error":"#N/A"}},9.9999999999999994E-12,{"$f":" IF(Foglio1!$F$13 <> \"\", (G39)^Foglio1!$F$13, NA())","v":{"$error":"#N/A"}},{"$f":" IF(Foglio1!$C$13 <> \"\", H39 / (H39+Foglio1!$C$13), NA())","v":{"$error":"#N/A"}},9.9999999999999994E-12,{"$f":" IF(Foglio1!$F$14 <> \"\", (J39)^Foglio1!$F$14, NA())","v":{"$error":"#N/A"}},{"$f":" IF(Foglio1!$C$14 <> \"\", K39 / (K39+Foglio1!$C$14), NA())","v":{"$error":"#N/A"}},9.9999999999999994E-12,{"$f":" IF(Foglio1!$F$15 <> \"\", (M39)^Foglio1!$F$15, NA())","v":{"$error":"#N/A"}},{"$f":" IF(Foglio1!$C$15 <> \"\", N39 / (N39+Foglio1!$C$15), NA())","v":{"$error":"#N/A"}}]
[1.9999999999999999E-11,{"$f":" IF(Foglio1!$F$11 <> \"\", A40^Foglio1!$F$11, NA())","v":{"$error":"#N/A"}},{"$f":" IF(Foglio1!$C$11 <> \"\", B40 / (B40+Foglio1!$C$11), NA())","v":{"$error":"#N/A"}},1.9999999999999999E-11,{"$f":" IF(Foglio1!$F$12 <> \"\", (D40)^Foglio1!$F$12, NA())","v":{"$error":"#N/A"}},{"$f":" IF(Foglio1!$C$12 <> \"\", E40 / (E40+Foglio1!$C$12), NA())","v":{"$error":"#N/A"}},1.9999999999999999E-11,{"$f":" IF(Foglio1!$F$13 <> \"\", (G40)^Foglio1!$F$13, NA())","v":{"$error":"#N/A"}},{"$f":" IF(Foglio1!$C$13 <> \"\", H40 / (H40+Foglio1!$C$13), NA())","v":{"$error":"#N/A"}},1.9999999999999999E-11,{"$f":" IF(Foglio1!$F$14 <> \"\", (J40)^Foglio1!$F$14, NA())","v":{"$error":"#N/A"}},{"$f":" IF(Foglio1!$C$14 <> \"\", K40 / (K40+Foglio1!$C$14), NA())","v":{"$error":"#N/A"}},1.9999999999999999E-11,{"$f":" IF(Foglio1!$F$15 <> \"\", (M40)^Foglio1!$F$15, NA())","v":{"$error":"#N/A"}},{"$f":" IF(Foglio1!$C$15 <> \"\", N40 / (N40+Foglio1!$C$15), NA())","v":{"$error":"#N/A"}}]
[3E-11,{"$f":" IF(Foglio1!$F$11 <> \"\", A41^Foglio1!$F$11, NA())","v":{"$error":"#N/A"}},{"$f":" IF(Foglio1!$C$11 <> \"\", B41 / (B41+Foglio1!$C$11), NA())","v":{"$error":"#N/A"}},3E-11,{"$f":" IF(Foglio1!$F$12 <> \"\", (D41)^Foglio1!$F$12, NA())","v":{"$error":"#N/A"}},{"$f":" IF(Foglio1!$C$12 <> \"\", E41 / (E41+Foglio1!$C$12), NA())","v":{"$error":"#N/A"}},3E-11,{"$f":" IF(Foglio1!$F$13 <> \"\", (G41)^Foglio1!$F$13, NA())","v":{"$error":"#N/A"}},{"$f":" IF(Foglio1!$C$13 <> \"\", H41 / (H41+Foglio1!$C$13), NA())","v":{"$error":"#N/A"}},3E-11,{"$f":" IF(Foglio1!$F$14 <> \"\", (J41)^Foglio1!$F$14, NA())","v":{"$error":"#N/A"}},{"$f":" IF(Foglio1!$C$14 <> \"\", K41 / (K41+Foglio1!$C$14), NA())","v":{"$error":"#N/A"}},3E-11,{"$f":" IF(Foglio1!$F$15 <> \"\", (M41)^Foglio1!$F$15, NA())","v":{"$error":"#N/A"}},{"$f":" IF(Foglio1!$C$15 <> \"\", N41 / (N41+Foglio1!$C$15), NA())","v":{"$error":"#N/A"}}]
[3.9999999999999998E-11,{"$f":" IF(Foglio1!$F$11 <> \"\", A42^Foglio1!$F$11, NA())","v":{"$error":"#N/A"}},{"$f":" IF(Foglio1!$C$11 <> \"\", B42 / (B42+Foglio1!$C$11), NA())","v":{"$error":"#N/A"}},3.9999999999999998E-11,{"$f":" IF(Foglio1!$F$12 <> \"\", (D42)^Foglio1!$F$12, NA())","v":{"$error":"#N/A"}},{"$f":" IF(Foglio1!$C$12 <> \"\", E42 / (E42+Foglio1!$C$12), NA())","v":{"$error":"#N/A"}},3.9999999999999998E-11,{"$f":" IF(Foglio1!$F$13 <> \"\", (G42)^Foglio1!$F$13, NA())","v":{"$error":"#N/A"}},{"$f":" IF(Foglio1!$C$13 <> \"\", H42 / (H42+Foglio1!$C$13), NA())","v":{"$error":"#N/A"}},3.9999999999999998E-11,{"$f":" IF(Foglio1!$F$14 <> \"\", (J42)^Foglio1!$F$14, NA())","v":{"$error":"#N/A"}},{"$f":" IF(Foglio1!$C$14 <> \"\", K42 / (K42+Foglio1!$C$14), NA())","v":{"$error":"#N/A"}},3.9999999999999998E-11,{"$f":" IF(Foglio1!$F$15 <> \"\", (M42)^Foglio1!$F$15, NA())","v":{"$error":"#N/A"}},{"$f":" IF(Foglio1!$C$15 <> \"\", N42 / (N42+Foglio1!$C$15), NA())","v":{"$error":"#N/A"}}]
[5.0000000000000002E-11,{"$f":" IF(Foglio1!$F$11 <> \"\", A43^Foglio1!$F$11, NA())","v":{"$error":"#N/A"}},{"$f":" IF(Foglio1!$C$11 <> \"\", B43 / (B43+Foglio1!$C$11), NA())","v":{"$error":"#N/A"}},5.0000000000000002E-11,{"$f":" IF(Foglio1!$F$12 <> \"\", (D43)^Foglio1!$F$12, NA())","v":{"$error":"#N/A"}},{"$f":" IF(Foglio1!$C$12 <> \"\", E43 / (E43+Foglio1!$C$12), NA())","v":{"$error":"#N/A"}},5.0000000000000002E-11,{"$f":" IF(Foglio1!$F$13 <> \"\", (G43)^Foglio1!$F$13, NA())","v":{"$error":"#N/A"}},{"$f":" IF(Foglio1!$C$13 <> \"\", H43 / (H43+Foglio1!$C$13), NA())","v":{"$error":"#N/A"}},5.0000000000000002E-11,{"$f":" IF(Foglio1!$F$14 <> \"\", (J43)^Foglio1!$F$14, NA())","v":{"$error":"#N/A"}},{"$f":" IF(Foglio1!$C$14 <> \"\", K43 / (K43+Foglio1!$C$14), NA())","v":{"$error":"#N/A"}},5.0000000000000002E-11,{"$f":" IF(Foglio1!$F$15 <> \"\", (M43)^Foglio1!$F$15, NA())","v":{"$error":"#N/A"}},{"$f":" IF(Foglio1!$C$15 <> \"\", N43 / (N43+Foglio1!$C$15), NA())","v":{"$error":"#N/A"}}]
[6E-11,{"$f":" IF(Foglio1!$F$11 <> \"\", A44^Foglio1!$F$11, NA())","v":{"$error":"#N/A"}},{"$f":" IF(Foglio1!$C$11 <> \"\", B44 / (B44+Foglio1!$C$11), NA())","v":{"$error":"#N/A"}},6E-11,{"$f":" IF(Foglio1!$F$12 <> \"\", (D44)^Foglio1!$F$12, NA())","v":{"$error":"#N/A"}},{"$f":" IF(Foglio1!$C$12 <> \"\", E44 / (E44+Foglio1!$C$12), NA())","v":{"$error":"#N/A"}},6E-11,{"$f":" IF(Foglio1!$F$13 <> \"\", (G44)^Foglio1!$F$13, NA())","v":{"$error":"#N/A"}},{"$f":" IF(Foglio1!$C$13 <> \"\", H44 / (H44+Foglio1!$C$13), NA())","v":{"$error":"#N/A"}},6E-11,{"$f":" IF(Foglio1!$F$14 <> \"\", (J44)^Foglio1!$F$14, NA())","v":{"$error":"#N/A"}},{"$f":" IF(Foglio1!$C$14 <> \"\", K44 / (K44+Foglio1!$C$14), NA())","v":{"$error":"#N/A"}},6E-11,{"$f":" IF(Foglio1!$F$15 <> \"\", (M44)^Foglio1!$F$15, NA())","v":{"$error":"#N/A"}},{"$f":" IF(Foglio1!$C$15 <> \"\", N44 / (N44+Foglio1!$C$15), NA())","v":{"$error":"#N/A"}}]
[7.0000000000000004E-11,{"$f":" IF(Foglio1!$F$11 <> \"\", A45^Foglio1!$F$11, NA())","v":{"$error":"#N/A"}},{"$f":" IF(Foglio1!$C$11 <> \"\", B45 / (B45+Foglio1!$C$11), NA())","v":{"$error":"#N/A"}},7.0000000000000004E-11,{"$f":" IF(Foglio1!$F$12 <> \"\", (D45)^Foglio1!$F$12, NA())","v":{"$error":"#N/A"}},{"$f":" IF(Foglio1!$C$12 <> \"\", E45 / (E45+Foglio1!$C$12), NA())","v":{"$error":"#N/A"}},7.0000000000000004E-11,{"$f":" IF(Foglio1!$F$13 <> \"\", (G45)^Foglio1!$F$13, NA())","v":{"$error":"#N/A"}},{"$f":" IF(Foglio1!$C$13 <> \"\", H45 / (H45+Foglio1!$C$13), NA())","v":{"$error":"#N/A"}},7.0000000000000004E-11,{"$f":" IF(Foglio1!$F$14 <> \"\", (J45)^Foglio1!$F$14, NA())","v":{"$error":"#N/A"}},{"$f":" IF(Foglio1!$C$14 <> \"\", K45 / (K45+Foglio1!$C$14), NA())","v":{"$error":"#N/A"}},7.0000000000000004E-11,{"$f":" IF(Foglio1!$F$15 <> \"\", (M45)^Foglio1!$F$15, NA())","v":{"$error":"#N/A"}},{"$f":" IF(Foglio1!$C$15 <> \"\", N45 / (N45+Foglio1!$C$15), NA())","v":{"$error":"#N/A"}}]
[7.9999999999999995E-11,{"$f":" IF(Foglio1!$F$11 <> \"\", A46^Foglio1!$F$11, NA())","v":{"$error":"#N/A"}},{"$f":" IF(Foglio1!$C$11 <> \"\", B46 / (B46+Foglio1!$C$11), NA())","v":{"$error":"#N/A"}},7.9999999999999995E-11,{"$f":" IF(Foglio1!$F$12 <> \"\", (D46)^Foglio1!$F$12, NA())","v":{"$error":"#N/A"}},{"$f":" IF(Foglio1!$C$12 <> \"\", E46 / (E46+Foglio1!$C$12), NA())","v":{"$error":"#N/A"}},7.9999999999999995E-11,{"$f":" IF(Foglio1!$F$13 <> \"\", (G46)^Foglio1!$F$13, NA())","v":{"$error":"#N/A"}},{"$f":" IF(Foglio1!$C$13 <> \"\", H46 / (H46+Foglio1!$C$13), NA())","v":{"$error":"#N/A"}},7.9999999999999995E-11,{"$f":" IF(Foglio1!$F$14 <> \"\", (J46)^Foglio1!$F$14, NA())","v":{"$error":"#N/A"}},{"$f":" IF(Foglio1!$C$14 <> \"\", K46 / (K46+Foglio1!$C$14), NA())","v":{"$error":"#N/A"}},7.9999999999999995E-11,{"$f":" IF(Foglio1!$F$15 <> \"\", (M46)^Foglio1!$F$15, NA())","v":{"$error":"#N/A"}},{"$f":" IF(Foglio1!$C$15 <> \"\", N46 / (N46+Foglio1!$C$15), NA())","v":{"$error":"#N/A"}}]
[8.9999999999999999E-11,{"$f":" IF(Foglio1!$F$11 <> \"\", A47^Foglio1!$F$11, NA())","v":{"$error":"#N/A"}},{"$f":" IF(Foglio1!$C$11 <> \"\", B47 / (B47+Foglio1!$C$11), NA())","v":{"$error":"#N/A"}},8.9999999999999999E-11,{"$f":" IF(Foglio1!$F$12 <> \"\", (D47)^Foglio1!$F$12, NA())","v":{"$error":"#N/A"}},{"$f":" IF(Foglio1!$C$12 <> \"\", E47 / (E47+Foglio1!$C$12), NA())","v":{"$error":"#N/A"}},8.9999999999999999E-11,{"$f":" IF(Foglio1!$F$13 <> \"\", (G47)^Foglio1!$F$13, NA())","v":{"$error":"#N/A"}},{"$f":" IF(Foglio1!$C$13 <> \"\", H47 / (H47+Foglio1!$C$13), NA())","v":{"$error":"#N/A"}},8.9999999999999999E-11,{"$f":" IF(Foglio1!$F$14 <> \"\", (J47)^Foglio1!$F$14, NA())","v":{"$error":"#N/A"}},{"$f":" IF(Foglio1!$C$14 <> \"\", K47 / (K47+Foglio1!$C$14), NA())","v":{"$error":"#N/A"}},8.9999999999999999E-11,{"$f":" IF(Foglio1!$F$15 <> \"\", (M47)^Foglio1!$F$15, NA())","v":{"$error":"#N/A"}},{"$f":" IF(Foglio1!$C$15 <> \"\", N47 / (N47+Foglio1!$C$15), NA())","v":{"$error":"#N/A"}}]
[1E-10,{"$f":" IF(Foglio1!$F$11 <> \"\", A48^Foglio1!$F$11, NA())","v":{"$error":"#N/A"}},{"$f":" IF(Foglio1!$C$11 <> \"\", B48 / (B48+Foglio1!$C$11), NA())","v":{"$error":"#N/A"}},1E-10,{"$f":" IF(Foglio1!$F$12 <> \"\", (D48)^Foglio1!$F$12, NA())","v":{"$error":"#N/A"}},{"$f":" IF(Foglio1!$C$12 <> \"\", E48 / (E48+Foglio1!$C$12), NA())","v":{"$error":"#N/A"}},1E-10,{"$f":" IF(Foglio1!$F$13 <> \"\", (G48)^Foglio1!$F$13, NA())","v":{"$error":"#N/A"}},{"$f":" IF(Foglio1!$C$13 <> \"\", H48 / (H48+Foglio1!$C$13), NA())","v":{"$error":"#N/A"}},1E-10,{"$f":" IF(Foglio1!$F$14 <> \"\", (J48)^Foglio1!$F$14, NA())","v":{"$error":"#N/A"}},{"$f":" IF(Foglio1!$C$14 <> \"\", K48 / (K48+Foglio1!$C$14), NA())","v":{"$error":"#N/A"}},1E-10,{"$f":" IF(Foglio1!$F$15 <> \"\", (M48)^Foglio1!$F$15, NA())","v":{"$error":"#N/A"}},{"$f":" IF(Foglio1!$C$15 <> \"\", N48 / (N48+Foglio1!$C$15), NA())","v":{"$error":"#N/A"}}]