{"text_format":"1","workbook":"xlsx","n_sheets":2,"sheets":["Foglio1","Foglio2"],"not_rendered":{"charts":1,"images":1,"macros":1,"external_links":0,"defined_names":0,"comments":0,"pivot_tables":0},"unopened":[],"bounds":{"document_bytes":16777216,"sheet_cells":100000,"rows_first":2000,"rows_last":500,"rows_between":2000,"halvings":0,"cell_chars":16384,"cell_head_chars":4096},"cells_cut":0,"cells_raw":0,"read":"whole","date_system":"1900"}

{"sheet":"Foglio1","index":0,"n_rows":15,"n_cols":13,"rows_kept":15,"cut":false,"hidden":false,"merged":[[3,0,3,18],[5,0,5,18]]}
[]
["L’equazione di Michaelis-Menten"]
[]
["L’equazione di Michaelis-Menten descrive in modo quantitativo la relazione tra il tasso di una reazione catalizzata da un enzima e la concentrazione di substrato presente, dati i parametri Vmax e Km per quell’enzima. \nIn questo foglio di calcolo, inserite i valori di Vmax e Km e visualizzate il grafico. Otterrete una curva iperbolica che descrive l’attività di un ipotetico enzima. Osservate come cambia la forma della curva dell’enzima quando cambiate la Km e la Vmax di un fattore 2. Variate i valori per i diversi parametri fino a quando non avete preso confidenza con l’equazione.\n"]
[]
["La Km nell’equazione di Michaelis-Menten ha, nel grafico, un ruolo simile a quello della Kd nell’equazione 5.8. Un valore inferiore di Km indica che l’enzima funziona meglio a concentrazioni di substrato inferiori. Quando V = ½ Vmax, la concentrazione di substrato è uguale alla Km. \nPotete modificare il dominio della funzione (cioè la [S]) inserendo i valori nelle caselle in alto e cliccando sul tasto Cambia l’asse X. Per visualizzare correttamente il grafico, scegliete valori compresi tra 0 e 1."]
[]
[null,null,null,null,null,null,null,null,null,"[S] =  da",0,"a",1]
[]
[]
["Vmax1","=",null,"Km1","="]
["Vmax2","=",null,"Km2","="]
["Vmax3","=",null,"Km3","="]
["Vmax4","=",null,"Km4","="]
["Vmax5","=",null,"Km5","="]

{"sheet":"Foglio2","index":1,"n_rows":102,"n_cols":10,"rows_kept":102,"cut":false,"hidden":true,"merged":[]}
["[S]","Vmax","[S]","Vmax","[S]","Vmax","[S]","Vmax","[S]","Vmax"]
[0,{"$f":"IF(Foglio1!$C$11<>\"\",IF(Foglio1!$F$11<>\"\",(A2*Foglio1!$C$11)/(A2+Foglio1!$F$11),NA()),NA())","v":{"$error":"#N/A"}},0,{"$f":"IF(Foglio1!$C$12<>\"\",IF(Foglio1!$F$12<>\"\",(C2*Foglio1!$C$12)/(C2+Foglio1!$F$12),NA()),NA())","v":{"$error":"#N/A"}},0,{"$f":"IF(Foglio1!$C$13<>\"\",IF(Foglio1!$F$13<>\"\",(E2*Foglio1!$C$13)/(E2+Foglio1!$F$13),NA()),NA())","v":{"$error":"#N/A"}},0,{"$f":"IF(Foglio1!$C$14<>\"\",IF(Foglio1!$F$14<>\"\",(G2*Foglio1!$C$14)/(G2+Foglio1!$F$14),NA()),NA())","v":{"$error":"#N/A"}},0,{"$f":"IF(Foglio1!$C$15<>\"\",IF(Foglio1!$F$15<>\"\",(I2*Foglio1!$C$15)/(I2+Foglio1!$F$15),NA()),NA())","v":{"$error":"#N/A"}}]
[0.01,{"$f":"IF(Foglio1!$C$11<>\"\",IF(Foglio1!$F$11<>\"\",(A3*Foglio1!$C$11)/(A3+Foglio1!$F$11),NA()),NA())","v":{"$error":"#N/A"}},0.01,{"$f":"IF(Foglio1!$C$12<>\"\",IF(Foglio1!$F$12<>\"\",(C3*Foglio1!$C$12)/(C3+Foglio1!$F$12),NA()),NA())","v":{"$error":"#N/A"}},0.01,{"$f":"IF(Foglio1!$C$13<>\"\",IF(Foglio1!$F$13<>\"\",(E3*Foglio1!$C$13)/(E3+Foglio1!$F$13),NA()),NA())","v":{"$error":"#N/A"}},0.01,{"$f":"IF(Foglio1!$C$14<>\"\",IF(Foglio1!$F$14<>\"\",(G3*Foglio1!$C$14)/(G3+Foglio1!$F$14),NA()),NA())","v":{"$error":"#N/A"}},0.01,{"$f":"IF(Foglio1!$C$15<>\"\",IF(Foglio1!$F$15<>\"\",(I3*Foglio1!$C$15)/(I3+Foglio1!$F$15),NA()),NA())","v":{"$error":"#N/A"}}]
[0.02,{"$f":"IF(Foglio1!$C$11<>\"\",IF(Foglio1!$F$11<>\"\",(A4*Foglio1!$C$11)/(A4+Foglio1!$F$11),NA()),NA())","v":{"$error":"#N/A"}},0.02,{"$f":"IF(Foglio1!$C$12<>\"\",IF(Foglio1!$F$12<>\"\",(C4*Foglio1!$C$12)/(C4+Foglio1!$F$12),NA()),NA())","v":{"$error":"#N/A"}},0.02,{"$f":"IF(Foglio1!$C$13<>\"\",IF(Foglio1!$F$13<>\"\",(E4*Foglio1!$C$13)/(E4+Foglio1!$F$13),NA()),NA())","v":{"$error":"#N/A"}},0.02,{"$f":"IF(Foglio1!$C$14<>\"\",IF(Foglio1!$F$14<>\"\",(G4*Foglio1!$C$14)/(G4+Foglio1!$F$14),NA()),NA())","v":{"$error":"#N/A"}},0.02,{"$f":"IF(Foglio1!$C$15<>\"\",IF(Foglio1!$F$15<>\"\",(I4*Foglio1!$C$15)/(I4+Foglio1!$F$15),NA()),NA())","v":{"$error":"#N/A"}}]
[0.03,{"$f":"IF(Foglio1!$C$11<>\"\",IF(Foglio1!$F$11<>\"\",(A5*Foglio1!$C$11)/(A5+Foglio1!$F$11),NA()),NA())","v":{"$error":"#N/A"}},0.03,{"$f":"IF(Foglio1!$C$12<>\"\",IF(Foglio1!$F$12<>\"\",(C5*Foglio1!$C$12)/(C5+Foglio1!$F$12),NA()),NA())","v":{"$error":"#N/A"}},0.03,{"$f":"IF(Foglio1!$C$13<>\"\",IF(Foglio1!$F$13<>\"\",(E5*Foglio1!$C$13)/(E5+Foglio1!$F$13),NA()),NA())","v":{"$error":"#N/A"}},0.03,{"$f":"IF(Foglio1!$C$14<>\"\",IF(Foglio1!$F$14<>\"\",(G5*Foglio1!$C$14)/(G5+Foglio1!$F$14),NA()),NA())","v":{"$error":"#N/A"}},0.03,{"$f":"IF(Foglio1!$C$15<>\"\",IF(Foglio1!$F$15<>\"\",(I5*Foglio1!$C$15)/(I5+Foglio1!$F$15),NA()),NA())","v":{"$error":"#N/A"}}]
[0.04,{"$f":"IF(Foglio1!$C$11<>\"\",IF(Foglio1!$F$11<>\"\",(A6*Foglio1!$C$11)/(A6+Foglio1!$F$11),NA()),NA())","v":{"$error":"#N/A"}},0.04,{"$f":"IF(Foglio1!$C$12<>\"\",IF(Foglio1!$F$12<>\"\",(C6*Foglio1!$C$12)/(C6+Foglio1!$F$12),NA()),NA())","v":{"$error":"#N/A"}},0.04,{"$f":"IF(Foglio1!$C$13<>\"\",IF(Foglio1!$F$13<>\"\",(E6*Foglio1!$C$13)/(E6+Foglio1!$F$13),NA()),NA())","v":{"$error":"#N/A"}},0.04,{"$f":"IF(Foglio1!$C$14<>\"\",IF(Foglio1!$F$14<>\"\",(G6*Foglio1!$C$14)/(G6+Foglio1!$F$14),NA()),NA())","v":{"$error":"#N/A"}},0.04,{"$f":"IF(Foglio1!$C$15<>\"\",IF(Foglio1!$F$15<>\"\",(I6*Foglio1!$C$15)/(I6+Foglio1!$F$15),NA()),NA())","v":{"$error":"#N/A"}}]
[0.05,{"$f":"IF(Foglio1!$C$11<>\"\",IF(Foglio1!$F$11<>\"\",(A7*Foglio1!$C$11)/(A7+Foglio1!$F$11),NA()),NA())","v":{"$error":"#N/A"}},0.05,{"$f":"IF(Foglio1!$C$12<>\"\",IF(Foglio1!$F$12<>\"\",(C7*Foglio1!$C$12)/(C7+Foglio1!$F$12),NA()),NA())","v":{"$error":"#N/A"}},0.05,{"$f":"IF(Foglio1!$C$13<>\"\",IF(Foglio1!$F$13<>\"\",(E7*Foglio1!$C$13)/(E7+Foglio1!$F$13),NA()),NA())","v":{"$error":"#N/A"}},0.05,{"$f":"IF(Foglio1!$C$14<>\"\",IF(Foglio1!$F$14<>\"\",(G7*Foglio1!$C$14)/(G7+Foglio1!$F$14),NA()),NA())","v":{"$error":"#N/A"}},0.05,{"$f":"IF(Foglio1!$C$15<>\"\",IF(Foglio1!$F$15<>\"\",(I7*Foglio1!$C$15)/(I7+Foglio1!$F$15),NA()),NA())","v":{"$error":"#N/A"}}]
[0.06,{"$f":"IF(Foglio1!$C$11<>\"\",IF(Foglio1!$F$11<>\"\",(A8*Foglio1!$C$11)/(A8+Foglio1!$F$11),NA()),NA())","v":{"$error":"#N/A"}},0.06,{"$f":"IF(Foglio1!$C$12<>\"\",IF(Foglio1!$F$12<>\"\",(C8*Foglio1!$C$12)/(C8+Foglio1!$F$12),NA()),NA())","v":{"$error":"#N/A"}},0.06,{"$f":"IF(Foglio1!$C$13<>\"\",IF(Foglio1!$F$13<>\"\",(E8*Foglio1!$C$13)/(E8+Foglio1!$F$13),NA()),NA())","v":{"$error":"#N/A"}},0.06,{"$f":"IF(Foglio1!$C$14<>\"\",IF(Foglio1!$F$14<>\"\",(G8*Foglio1!$C$14)/(G8+Foglio1!$F$14),NA()),NA())","v":{"$error":"#N/A"}},0.06,{"$f":"IF(Foglio1!$C$15<>\"\",IF(Foglio1!$F$15<>\"\",(I8*Foglio1!$C$15)/(I8+Foglio1!$F$15),NA()),NA())","v":{"$error":"#N/A"}}]
[7.0000000000000007E-2,{"$f":"IF(Foglio1!$C$11<>\"\",IF(Foglio1!$F$11<>\"\",(A9*Foglio1!$C$11)/(A9+Foglio1!$F$11),NA()),NA())","v":{"$error":"#N/A"}},7.0000000000000007E-2,{"$f":"IF(Foglio1!$C$12<>\"\",IF(Foglio1!$F$12<>\"\",(C9*Foglio1!$C$12)/(C9+Foglio1!$F$12),NA()),NA())","v":{"$error":"#N/A"}},7.0000000000000007E-2,{"$f":"IF(Foglio1!$C$13<>\"\",IF(Foglio1!$F$13<>\"\",(E9*Foglio1!$C$13)/(E9+Foglio1!$F$13),NA()),NA())","v":{"$error":"#N/A"}},7.0000000000000007E-2,{"$f":"IF(Foglio1!$C$14<>\"\",IF(Foglio1!$F$14<>\"\",(G9*Foglio1!$C$14)/(G9+Foglio1!$F$14),NA()),NA())","v":{"$error":"#N/A"}},7.0000000000000007E-2,{"$f":"IF(Foglio1!$C$15<>\"\",IF(Foglio1!$F$15<>\"\",(I9*Foglio1!$C$15)/(I9+Foglio1!$F$15),NA()),NA())","v":{"$error":"#N/A"}}]
[0.08,{"$f":"IF(Foglio1!$C$11<>\"\",IF(Foglio1!$F$11<>\"\",(A10*Foglio1!$C$11)/(A10+Foglio1!$F$11),NA()),NA())","v":{"$error":"#N/A"}},0.08,{"$f":"IF(Foglio1!$C$12<>\"\",IF(Foglio1!$F$12<>\"\",(C10*Foglio1!$C$12)/(C10+Foglio1!$F$12),NA()),NA())","v":{"$error":"#N/A"}},0.08,{"$f":"IF(Foglio1!$C$13<>\"\",IF(Foglio1!$F$13<>\"\",(E10*Foglio1!$C$13)/(E10+Foglio1!$F$13),NA()),NA())","v":{"$error":"#N/A"}},0.08,{"$f":"IF(Foglio1!$C$14<>\"\",IF(Foglio1!$F$14<>\"\",(G10*Foglio1!$C$14)/(G10+Foglio1!$F$14),NA()),NA())","v":{"$error":"#N/A"}},0.08,{"$f":"IF(Foglio1!$C$15<>\"\",IF(Foglio1!$F$15<>\"\",(I10*Foglio1!$C$15)/(I10+Foglio1!$F$15),NA()),NA())","v":{"$error":"#N/A"}}]
[0.09,{"$f":"IF(Foglio1!$C$11<>\"\",IF(Foglio1!$F$11<>\"\",(A11*Foglio1!$C$11)/(A11+Foglio1!$F$11),NA()),NA())","v":{"$error":"#N/A"}},0.09,{"$f":"IF(Foglio1!$C$12<>\"\",IF(Foglio1!$F$12<>\"\",(C11*Foglio1!$C$12)/(C11+Foglio1!$F$12),NA()),NA())","v":{"$error":"#N/A"}},0.09,{"$f":"IF(Foglio1!$C$13<>\"\",IF(Foglio1!$F$13<>\"\",(E11*Foglio1!$C$13)/(E11+Foglio1!$F$13),NA()),NA())","v":{"$error":"#N/A"}},0.09,{"$f":"IF(Foglio1!$C$14<>\"\",IF(Foglio1!$F$14<>\"\",(G11*Foglio1!$C$14)/(G11+Foglio1!$F$14),NA()),NA())","v":{"$error":"#N/A"}},0.09,{"$f":"IF(Foglio1!$C$15<>\"\",IF(Foglio1!$F$15<>\"\",(I11*Foglio1!$C$15)/(I11+Foglio1!$F$15),NA()),NA())","v":{"$error":"#N/A"}}]
[0.1,{"$f":"IF(Foglio1!$C$11<>\"\",IF(Foglio1!$F$11<>\"\",(A12*Foglio1!$C$11)/(A12+Foglio1!$F$11),NA()),NA())","v":{"$error":"#N/A"}},0.1,{"$f":"IF(Foglio1!$C$12<>\"\",IF(Foglio1!$F$12<>\"\",(C12*Foglio1!$C$12)/(C12+Foglio1!$F$12),NA()),NA())","v":{"$error":"#N/A"}},0.1,{"$f":"IF(Foglio1!$C$13<>\"\",IF(Foglio1!$F$13<>\"\",(E12*Foglio1!$C$13)/(E12+Foglio1!$F$13),NA()),NA())","v":{"$error":"#N/A"}},0.1,{"$f":"IF(Foglio1!$C$14<>\"\",IF(Foglio1!$F$14<>\"\",(G12*Foglio1!$C$14)/(G12+Foglio1!$F$14),NA()),NA())","v":{"$error":"#N/A"}},0.1,{"$f":"IF(Foglio1!$C$15<>\"\",IF(Foglio1!$F$15<>\"\",(I12*Foglio1!$C$15)/(I12+Foglio1!$F$15),NA()),NA())","v":{"$error":"#N/A"}}]
[0.11,{"$f":"IF(Foglio1!$C$11<>\"\",IF(Foglio1!$F$11<>\"\",(A13*Foglio1!$C$11)/(A13+Foglio1!$F$11),NA()),NA())","v":{"$error":"#N/A"}},0.11,{"$f":"IF(Foglio1!$C$12<>\"\",IF(Foglio1!$F$12<>\"\",(C13*Foglio1!$C$12)/(C13+Foglio1!$F$12),NA()),NA())","v":{"$error":"#N/A"}},0.11,{"$f":"IF(Foglio1!$C$13<>\"\",IF(Foglio1!$F$13<>\"\",(E13*Foglio1!$C$13)/(E13+Foglio1!$F$13),NA()),NA())","v":{"$error":"#N/A"}},0.11,{"$f":"IF(Foglio1!$C$14<>\"\",IF(Foglio1!$F$14<>\"\",(G13*Foglio1!$C$14)/(G13+Foglio1!$F$14),NA()),NA())","v":{"$error":"#N/A"}},0.11,{"$f":"IF(Foglio1!$C$15<>\"\",IF(Foglio1!$F$15<>\"\",(I13*Foglio1!$C$15)/(I13+Foglio1!$F$15),NA()),NA())","v":{"$error":"#N/A"}}]
[0.12,{"$f":"IF(Foglio1!$C$11<>\"\",IF(Foglio1!$F$11<>\"\",(A14*Foglio1!$C$11)/(A14+Foglio1!$F$11),NA()),NA())","v":{"$error":"#N/A"}},0.12,{"$f":"IF(Foglio1!$C$12<>\"\",IF(Foglio1!$F$12<>\"\",(C14*Foglio1!$C$12)/(C14+Foglio1!$F$12),NA()),NA())","v":{"$error":"#N/A"}},0.12,{"$f":"IF(Foglio1!$C$13<>\"\",IF(Foglio1!$F$13<>\"\",(E14*Foglio1!$C$13)/(E14+Foglio1!$F$13),NA()),NA())","v":{"$error":"#N/A"}},0.12,{"$f":"IF(Foglio1!$C$14<>\"\",IF(Foglio1!$F$14<>\"\",(G14*Foglio1!$C$14)/(G14+Foglio1!$F$14),NA()),NA())","v":{"$error":"#N/A"}},0.12,{"$f":"IF(Foglio1!$C$15<>\"\",IF(Foglio1!$F$15<>\"\",(I14*Foglio1!$C$15)/(I14+Foglio1!$F$15),NA()),NA())","v":{"$error":"#N/A"}}]
[0.13,{"$f":"IF(Foglio1!$C$11<>\"\",IF(Foglio1!$F$11<>\"\",(A15*Foglio1!$C$11)/(A15+Foglio1!$F$11),NA()),NA())","v":{"$error":"#N/A"}},0.13,{"$f":"IF(Foglio1!$C$12<>\"\",IF(Foglio1!$F$12<>\"\",(C15*Foglio1!$C$12)/(C15+Foglio1!$F$12),NA()),NA())","v":{"$error":"#N/A"}},0.13,{"$f":"IF(Foglio1!$C$13<>\"\",IF(Foglio1!$F$13<>\"\",(E15*Foglio1!$C$13)/(E15+Foglio1!$F$13),NA()),NA())","v":{"$error":"#N/A"}},0.13,{"$f":"IF(Foglio1!$C$14<>\"\",IF(Foglio1!$F$14<>\"\",(G15*Foglio1!$C$14)/(G15+Foglio1!$F$14),NA()),NA())","v":{"$error":"#N/A"}},0.13,{"$f":"IF(Foglio1!$C$15<>\"\",IF(Foglio1!$F$15<>\"\",(I15*Foglio1!$C$15)/(I15+Foglio1!$F$15),NA()),NA())","v":{"$error":"#N/A"}}]
[0.14000000000000001,{"$f":"IF(Foglio1!$C$11<>\"\",IF(Foglio1!$F$11<>\"\",(A16*Foglio1!$C$11)/(A16+Foglio1!$F$11),NA()),NA())","v":{"$error":"#N/A"}},0.14000000000000001,{"$f":"IF(Foglio1!$C$12<>\"\",IF(Foglio1!$F$12<>\"\",(C16*Foglio1!$C$12)/(C16+Foglio1!$F$12),NA()),NA())","v":{"$error":"#N/A"}},0.14000000000000001,{"$f":"IF(Foglio1!$C$13<>\"\",IF(Foglio1!$F$13<>\"\",(E16*Foglio1!$C$13)/(E16+Foglio1!$F$13),NA()),NA())","v":{"$error":"#N/A"}},0.14000000000000001,{"$f":"IF(Foglio1!$C$14<>\"\",IF(Foglio1!$F$14<>\"\",(G16*Foglio1!$C$14)/(G16+Foglio1!$F$14),NA()),NA())","v":{"$error":"#N/A"}},0.14000000000000001,{"$f":"IF(Foglio1!$C$15<>\"\",IF(Foglio1!$F$15<>\"\",(I16*Foglio1!$C$15)/(I16+Foglio1!$F$15),NA()),NA())","v":{"$error":"#N/A"}}]
[0.15,{"$f":"IF(Foglio1!$C$11<>\"\",IF(Foglio1!$F$11<>\"\",(A17*Foglio1!$C$11)/(A17+Foglio1!$F$11),NA()),NA())","v":{"$error":"#N/A"}},0.15,{"$f":"IF(Foglio1!$C$12<>\"\",IF(Foglio1!$F$12<>\"\",(C17*Foglio1!$C$12)/(C17+Foglio1!$F$12),NA()),NA())","v":{"$error":"#N/A"}},0.15,{"$f":"IF(Foglio1!$C$13<>\"\",IF(Foglio1!$F$13<>\"\",(E17*Foglio1!$C$13)/(E17+Foglio1!$F$13),NA()),NA())","v":{"$error":"#N/A"}},0.15,{"$f":"IF(Foglio1!$C$14<>\"\",IF(Foglio1!$F$14<>\"\",(G17*Foglio1!$C$14)/(G17+Foglio1!$F$14),NA()),NA())","v":{"$error":"#N/A"}},0.15,{"$f":"IF(Foglio1!$C$15<>\"\",IF(Foglio1!$F$15<>\"\",(I17*Foglio1!$C$15)/(I17+Foglio1!$F$15),NA()),NA())","v":{"$error":"#N/A"}}]
[0.16,{"$f":"IF(Foglio1!$C$11<>\"\",IF(Foglio1!$F$11<>\"\",(A18*Foglio1!$C$11)/(A18+Foglio1!$F$11),NA()),NA())","v":{"$error":"#N/A"}},0.16,{"$f":"IF(Foglio1!$C$12<>\"\",IF(Foglio1!$F$12<>\"\",(C18*Foglio1!$C$12)/(C18+Foglio1!$F$12),NA()),NA())","v":{"$error":"#N/A"}},0.16,{"$f":"IF(Foglio1!$C$13<>\"\",IF(Foglio1!$F$13<>\"\",(E18*Foglio1!$C$13)/(E18+Foglio1!$F$13),NA()),NA())","v":{"$error":"#N/A"}},0.16,{"$f":"IF(Foglio1!$C$14<>\"\",IF(Foglio1!$F$14<>\"\",(G18*Foglio1!$C$14)/(G18+Foglio1!$F$14),NA()),NA())","v":{"$error":"#N/A"}},0.16,{"$f":"IF(Foglio1!$C$15<>\"\",IF(Foglio1!$F$15<>\"\",(I18*Foglio1!$C$15)/(I18+Foglio1!$F$15),NA()),NA())","v":{"$error":"#N/A"}}]
[0.17,{"$f":"IF(Foglio1!$C$11<>\"\",IF(Foglio1!$F$11<>\"\",(A19*Foglio1!$C$11)/(A19+Foglio1!$F$11),NA()),NA())","v":{"$error":"#N/A"}},0.17,{"$f":"IF(Foglio1!$C$12<>\"\",IF(Foglio1!$F$12<>\"\",(C19*Foglio1!$C$12)/(C19+Foglio1!$F$12),NA()),NA())","v":{"$error":"#N/A"}},0.17,{"$f":"IF(Foglio1!$C$13<>\"\",IF(Foglio1!$F$13<>\"\",(E19*Foglio1!$C$13)/(E19+Foglio1!$F$13),NA()),NA())","v":{"$error":"#N/A"}},0.17,{"$f":"IF(Foglio1!$C$14<>\"\",IF(Foglio1!$F$14<>\"\",(G19*Foglio1!$C$14)/(G19+Foglio1!$F$14),NA()),NA())","v":{"$error":"#N/A"}},0.17,{"$f":"IF(Foglio1!$C$15<>\"\",IF(Foglio1!$F$15<>\"\",(I19*Foglio1!$C$15)/(I19+Foglio1!$F$15),NA()),NA())","v":{"$error":"#N/A"}}]
[0.18,{"$f":"IF(Foglio1!$C$11<>\"\",IF(Foglio1!$F$11<>\"\",(A20*Foglio1!$C$11)/(A20+Foglio1!$F$11),NA()),NA())","v":{"$error":"#N/A"}},0.18,{"$f":"IF(Foglio1!$C$12<>\"\",IF(Foglio1!$F$12<>\"\",(C20*Foglio1!$C$12)/(C20+Foglio1!$F$12),NA()),NA())","v":{"$error":"#N/A"}},0.18,{"$f":"IF(Foglio1!$C$13<>\"\",IF(Foglio1!$F$13<>\"\",(E20*Foglio1!$C$13)/(E20+Foglio1!$F$13),NA()),NA())","v":{"$error":"#N/A"}},0.18,{"$f":"IF(Foglio1!$C$14<>\"\",IF(Foglio1!$F$14<>\"\",(G20*Foglio1!$C$14)/(G20+Foglio1!$F$14),NA()),NA())","v":{"$error":"#N/A"}},0.18,{"$f":"IF(Foglio1!$C$15<>\"\",IF(Foglio1!$F$15<>\"\",(I20*Foglio1!$C$15)/(I20+Foglio1!$F$15),NA()),NA())","v":{"$error":"#N/A"}}]
[0.19,{"$f":"IF(Foglio1!$C$11<>\"\",IF(Foglio1!$F$11<>\"\",(A21*Foglio1!$C$11)/(A21+Foglio1!$F$11),NA()),NA())","v":{"$error":"#N/A"}},0.19,{"$f":"IF(Foglio1!$C$12<>\"\",IF(Foglio1!$F$12<>\"\",(C21*Foglio1!$C$12)/(C21+Foglio1!$F$12),NA()),NA())","v":{"$error":"#N/A"}},0.19,{"$f":"IF(Foglio1!$C$13<>\"\",IF(Foglio1!$F$13<>\"\",(E21*Foglio1!$C$13)/(E21+Foglio1!$F$13),NA()),NA())","v":{"$error":"#N/A"}},0.19,{"$f":"IF(Foglio1!$C$14<>\"\",IF(Foglio1!$F$14<>\"\",(G21*Foglio1!$C$14)/(G21+Foglio1!$F$14),NA()),NA())","v":{"$error":"#N/A"}},0.19,{"$f":"IF(Foglio1!$C$15<>\"\",IF(Foglio1!$F$15<>\"\",(I21*Foglio1!$C$15)/(I21+Foglio1!$F$15),NA()),NA())","v":{"$error":"#N/A"}}]
[0.2,{"$f":"IF(Foglio1!$C$11<>\"\",IF(Foglio1!$F$11<>\"\",(A22*Foglio1!$C$11)/(A22+Foglio1!$F$11),NA()),NA())","v":{"$error":"#N/A"}},0.2,{"$f":"IF(Foglio1!$C$12<>\"\",IF(Foglio1!$F$12<>\"\",(C22*Foglio1!$C$12)/(C22+Foglio1!$F$12),NA()),NA())","v":{"$error":"#N/A"}},0.2,{"$f":"IF(Foglio1!$C$13<>\"\",IF(Foglio1!$F$13<>\"\",(E22*Foglio1!$C$13)/(E22+Foglio1!$F$13),NA()),NA())","v":{"$error":"#N/A"}},0.2,{"$f":"IF(Foglio1!$C$14<>\"\",IF(Foglio1!$F$14<>\"\",(G22*Foglio1!$C$14)/(G22+Foglio1!$F$14),NA()),NA())","v":{"$error":"#N/A"}},0.2,{"$f":"IF(Foglio1!$C$15<>\"\",IF(Foglio1!$F$15<>\"\",(I22*Foglio1!$C$15)/(I22+Foglio1!$F$15),NA()),NA())","v":{"$error":"#N/A"}}]
[0.21,{"$f":"IF(Foglio1!$C$11<>\"\",IF(Foglio1!$F$11<>\"\",(A23*Foglio1!$C$11)/(A23+Foglio1!$F$11),NA()),NA())","v":{"$error":"#N/A"}},0.21,{"$f":"IF(Foglio1!$C$12<>\"\",IF(Foglio1!$F$12<>\"\",(C23*Foglio1!$C$12)/(C23+Foglio1!$F$12),NA()),NA())","v":{"$error":"#N/A"}},0.21,{"$f":"IF(Foglio1!$C$13<>\"\",IF(Foglio1!$F$13<>\"\",(E23*Foglio1!$C$13)/(E23+Foglio1!$F$13),NA()),NA())","v":{"$error":"#N/A"}},0.21,{"$f":"IF(Foglio1!$C$14<>\"\",IF(Foglio1!$F$14<>\"\",(G23*Foglio1!$C$14)/(G23+Foglio1!$F$14),NA()),NA())","v":{"$error":"#N/A"}},0.21,{"$f":"IF(Foglio1!$C$15<>\"\",IF(Foglio1!$F$15<>\"\",(I23*Foglio1!$C$15)/(I23+Foglio1!$F$15),NA()),NA())","v":{"$error":"#N/A"}}]
[0.22,{"$f":"IF(Foglio1!$C$11<>\"\",IF(Foglio1!$F$11<>\"\",(A24*Foglio1!$C$11)/(A24+Foglio1!$F$11),NA()),NA())","v":{"$error":"#N/A"}},0.22,{"$f":"IF(Foglio1!$C$12<>\"\",IF(Foglio1!$F$12<>\"\",(C24*Foglio1!$C$12)/(C24+Foglio1!$F$12),NA()),NA())","v":{"$error":"#N/A"}},0.22,{"$f":"IF(Foglio1!$C$13<>\"\",IF(Foglio1!$F$13<>\"\",(E24*Foglio1!$C$13)/(E24+Foglio1!$F$13),NA()),NA())","v":{"$error":"#N/A"}},0.22,{"$f":"IF(Foglio1!$C$14<>\"\",IF(Foglio1!$F$14<>\"\",(G24*Foglio1!$C$14)/(G24+Foglio1!$F$14),NA()),NA())","v":{"$error":"#N/A"}},0.22,{"$f":"IF(Foglio1!$C$15<>\"\",IF(Foglio1!$F$15<>\"\",(I24*Foglio1!$C$15)/(I24+Foglio1!$F$15),NA()),NA())","v":{"$error":"#N/A"}}]
[0.23,{"$f":"IF(Foglio1!$C$11<>\"\",IF(Foglio1!$F$11<>\"\",(A25*Foglio1!$C$11)/(A25+Foglio1!$F$11),NA()),NA())","v":{"$error":"#N/A"}},0.23,{"$f":"IF(Foglio1!$C$12<>\"\",IF(Foglio1!$F$12<>\"\",(C25*Foglio1!$C$12)/(C25+Foglio1!$F$12),NA()),NA())","v":{"$error":"#N/A"}},0.23,{"$f":"IF(Foglio1!$C$13<>\"\",IF(Foglio1!$F$13<>\"\",(E25*Foglio1!$C$13)/(E25+Foglio1!$F$13),NA()),NA())","v":{"$error":"#N/A"}},0.23,{"$f":"IF(Foglio1!$C$14<>\"\",IF(Foglio1!$F$14<>\"\",(G25*Foglio1!$C$14)/(G25+Foglio1!$F$14),NA()),NA())","v":{"$error":"#N/A"}},0.23,{"$f":"IF(Foglio1!$C$15<>\"\",IF(Foglio1!$F$15<>\"\",(I25*Foglio1!$C$15)/(I25+Foglio1!$F$15),NA()),NA())","v":{"$error":"#N/A"}}]
[0.24,{"$f":"IF(Foglio1!$C$11<>\"\",IF(Foglio1!$F$11<>\"\",(A26*Foglio1!$C$11)/(A26+Foglio1!$F$11),NA()),NA())","v":{"$error":"#N/A"}},0.24,{"$f":"IF(Foglio1!$C$12<>\"\",IF(Foglio1!$F$12<>\"\",(C26*Foglio1!$C$12)/(C26+Foglio1!$F$12),NA()),NA())","v":{"$error":"#N/A"}},0.24,{"$f":"IF(Foglio1!$C$13<>\"\",IF(Foglio1!$F$13<>\"\",(E26*Foglio1!$C$13)/(E26+Foglio1!$F$13),NA()),NA())","v":{"$error":"#N/A"}},0.24,{"$f":"IF(Foglio1!$C$14<>\"\",IF(Foglio1!$F$14<>\"\",(G26*Foglio1!$C$14)/(G26+Foglio1!$F$14),NA()),NA())","v":{"$error":"#N/A"}},0.24,{"$f":"IF(Foglio1!$C$15<>\"\",IF(Foglio1!$F$15<>\"\",(I26*Foglio1!$C$15)/(I26+Foglio1!$F$15),NA()),NA())","v":{"$error":"#N/A"}}]
[0.25,{"$f":"IF(Foglio1!$C$11<>\"\",IF(Foglio1!$F$11<>\"\",(A27*Foglio1!$C$11)/(A27+Foglio1!$F$11),NA()),NA())","v":{"$error":"#N/A"}},0.25,{"$f":"IF(Foglio1!$C$12<>\"\",IF(Foglio1!$F$12<>\"\",(C27*Foglio1!$C$12)/(C27+Foglio1!$F$12),NA()),NA())","v":{"$error":"#N/A"}},0.25,{"$f":"IF(Foglio1!$C$13<>\"\",IF(Foglio1!$F$13<>\"\",(E27*Foglio1!$C$13)/(E27+Foglio1!$F$13),NA()),NA())","v":{"$error":"#N/A"}},0.25,{"$f":"IF(Foglio1!$C$14<>\"\",IF(Foglio1!$F$14<>\"\",(G27*Foglio1!$C$14)/(G27+Foglio1!$F$14),NA()),NA())","v":{"$error":"#N/A"}},0.25,{"$f":"IF(Foglio1!$C$15<>\"\",IF(Foglio1!$F$15<>\"\",(I27*Foglio1!$C$15)/(I27+Foglio1!$F$15),NA()),NA())","v":{"$error":"#N/A"}}]
[0.26,{"$f":"IF(Foglio1!$C$11<>\"\",IF(Foglio1!$F$11<>\"\",(A28*Foglio1!$C$11)/(A28+Foglio1!$F$11),NA()),NA())","v":{"$error":"#N/A"}},0.26,{"$f":"IF(Foglio1!$C$12<>\"\",IF(Foglio1!$F$12<>\"\",(C28*Foglio1!$C$12)/(C28+Foglio1!$F$12),NA()),NA())","v":{"$error":"#N/A"}},0.26,{"$f":"IF(Foglio1!$C$13<>\"\",IF(Foglio1!$F$13<>\"\",(E28*Foglio1!$C$13)/(E28+Foglio1!$F$13),NA()),NA())","v":{"$error":"#N/A"}},0.26,{"$f":"IF(Foglio1!$C$14<>\"\",IF(Foglio1!$F$14<>\"\",(G28*Foglio1!$C$14)/(G28+Foglio1!$F$14),NA()),NA())","v":{"$error":"#N/A"}},0.26,{"$f":"IF(Foglio1!$C$15<>\"\",IF(Foglio1!$F$15<>\"\",(I28*Foglio1!$C$15)/(I28+Foglio1!$F$15),NA()),NA())","v":{"$error":"#N/A"}}]
[0.27,{"$f":"IF(Foglio1!$C$11<>\"\",IF(Foglio1!$F$11<>\"\",(A29*Foglio1!$C$11)/(A29+Foglio1!$F$11),NA()),NA())","v":{"$error":"#N/A"}},0.27,{"$f":"IF(Foglio1!$C$12<>\"\",IF(Foglio1!$F$12<>\"\",(C29*Foglio1!$C$12)/(C29+Foglio1!$F$12),NA()),NA())","v":{"$error":"#N/A"}},0.27,{"$f":"IF(Foglio1!$C$13<>\"\",IF(Foglio1!$F$13<>\"\",(E29*Foglio1!$C$13)/(E29+Foglio1!$F$13),NA()),NA())","v":{"$error":"#N/A"}},0.27,{"$f":"IF(Foglio1!$C$14<>\"\",IF(Foglio1!$F$14<>\"\",(G29*Foglio1!$C$14)/(G29+Foglio1!$F$14),NA()),NA())","v":{"$error":"#N/A"}},0.27,{"$f":"IF(Foglio1!$C$15<>\"\",IF(Foglio1!$F$15<>\"\",(I29*Foglio1!$C$15)/(I29+Foglio1!$F$15),NA()),NA())","v":{"$error":"#N/A"}}]
[0.28000000000000003,{"$f":"IF(Foglio1!$C$11<>\"\",IF(Foglio1!$F$11<>\"\",(A30*Foglio1!$C$11)/(A30+Foglio1!$F$11),NA()),NA())","v":{"$error":"#N/A"}},0.28000000000000003,{"$f":"IF(Foglio1!$C$12<>\"\",IF(Foglio1!$F$12<>\"\",(C30*Foglio1!$C$12)/(C30+Foglio1!$F$12),NA()),NA())","v":{"$error":"#N/A"}},0.28000000000000003,{"$f":"IF(Foglio1!$C$13<>\"\",IF(Foglio1!$F$13<>\"\",(E30*Foglio1!$C$13)/(E30+Foglio1!$F$13),NA()),NA())","v":{"$error":"#N/A"}},0.28000000000000003,{"$f":"IF(Foglio1!$C$14<>\"\",IF(Foglio1!$F$14<>\"\",(G30*Foglio1!$C$14)/(G30+Foglio1!$F$14),NA()),NA())","v":{"$error":"#N/A"}},0.28000000000000003,{"$f":"IF(Foglio1!$C$15<>\"\",IF(Foglio1!$F$15<>\"\",(I30*Foglio1!$C$15)/(I30+Foglio1!$F$15),NA()),NA())","v":{"$error":"#N/A"}}]
[0.28999999999999998,{"$f":"IF(Foglio1!$C$11<>\"\",IF(Foglio1!$F$11<>\"\",(A31*Foglio1!$C$11)/(A31+Foglio1!$F$11),NA()),NA())","v":{"$error":"#N/A"}},0.28999999999999998,{"$f":"IF(Foglio1!$C$12<>\"\",IF(Foglio1!$F$12<>\"\",(C31*Foglio1!$C$12)/(C31+Foglio1!$F$12),NA()),NA())","v":{"$error":"#N/A"}},0.28999999999999998,{"$f":"IF(Foglio1!$C$13<>\"\",IF(Foglio1!$F$13<>\"\",(E31*Foglio1!$C$13)/(E31+Foglio1!$F$13),NA()),NA())","v":{"$error":"#N/A"}},0.28999999999999998,{"$f":"IF(Foglio1!$C$14<>\"\",IF(Foglio1!$F$14<>\"\",(G31*Foglio1!$C$14)/(G31+Foglio1!$F$14),NA()),NA())","v":{"$error":"#N/A"}},0.28999999999999998,{"$f":"IF(Foglio1!$C$15<>\"\",IF(Foglio1!$F$15<>\"\",(I31*Foglio1!$C$15)/(I31+Foglio1!$F$15),NA()),NA())","v":{"$error":"#N/A"}}]
[0.3,{"$f":"IF(Foglio1!$C$11<>\"\",IF(Foglio1!$F$11<>\"\",(A32*Foglio1!$C$11)/(A32+Foglio1!$F$11),NA()),NA())","v":{"$error":"#N/A"}},0.3,{"$f":"IF(Foglio1!$C$12<>\"\",IF(Foglio1!$F$12<>\"\",(C32*Foglio1!$C$12)/(C32+Foglio1!$F$12),NA()),NA())","v":{"$error":"#N/A"}},0.3,{"$f":"IF(Foglio1!$C$13<>\"\",IF(Foglio1!$F$13<>\"\",(E32*Foglio1!$C$13)/(E32+Foglio1!$F$13),NA()),NA())","v":{"$error":"#N/A"}},0.3,{"$f":"IF(Foglio1!$C$14<>\"\",IF(Foglio1!$F$14<>\"\",(G32*Foglio1!$C$14)/(G32+Foglio1!$F$14),NA()),NA())","v":{"$error":"#N/A"}},0.3,{"$f":"IF(Foglio1!$C$15<>\"\",IF(Foglio1!$F$15<>\"\",(I32*Foglio1!$C$15)/(I32+Foglio1!$F$15),NA()),NA())","v":{"$error":"#N/A"}}]
[0.31,{"$f":"IF(Foglio1!$C$11<>\"\",IF(Foglio1!$F$11<>\"\",(A33*Foglio1!$C$11)/(A33+Foglio1!$F$11),NA()),NA())","v":{"$error":"#N/A"}},0.31,{"$f":"IF(Foglio1!$C$12<>\"\",IF(Foglio1!$F$12<>\"\",(C33*Foglio1!$C$12)/(C33+Foglio1!$F$12),NA()),NA())","v":{"$error":"#N/A"}},0.31,{"$f":"IF(Foglio1!$C$13<>\"\",IF(Foglio1!$F$13<>\"\",(E33*Foglio1!$C$13)/(E33+Foglio1!$F$13),NA()),NA())","v":{"$error":"#N/A"}},0.31,{"$f":"IF(Foglio1!$C$14<>\"\",IF(Foglio1!$F$14<>\"\",(G33*Foglio1!$C$14)/(G33+Foglio1!$F$14),NA()),NA())","v":{"$error":"#N/A"}},0.31,{"$f":"IF(Foglio1!$C$15<>\"\",IF(Foglio1!$F$15<>\"\",(I33*Foglio1!$C$15)/(I33+Foglio1!$F$15),NA()),NA())","v":{"$error":"#N/A"}}]
[0.32,{"$f":"IF(Foglio1!$C$11<>\"\",IF(Foglio1!$F$11<>\"\",(A34*Foglio1!$C$11)/(A34+Foglio1!$F$11),NA()),NA())","v":{"$error":"#N/A"}},0.32,{"$f":"IF(Foglio1!$C$12<>\"\",IF(Foglio1!$F$12<>\"\",(C34*Foglio1!$C$12)/(C34+Foglio1!$F$12),NA()),NA())","v":{"$error":"#N/A"}},0.32,{"$f":"IF(Foglio1!$C$13<>\"\",IF(Foglio1!$F$13<>\"\",(E34*Foglio1!$C$13)/(E34+Foglio1!$F$13),NA()),NA())","v":{"$error":"#N/A"}},0.32,{"$f":"IF(Foglio1!$C$14<>\"\",IF(Foglio1!$F$14<>\"\",(G34*Foglio1!$C$14)/(G34+Foglio1!$F$14),NA()),NA())","v":{"$error":"#N/A"}},0.32,{"$f":"IF(Foglio1!$C$15<>\"\",IF(Foglio1!$F$15<>\"\",(I34*Foglio1!$C$15)/(I34+Foglio1!$F$15),NA()),NA())","v":{"$error":"#N/A"}}]
[0.33,{"$f":"IF(Foglio1!$C$11<>\"\",IF(Foglio1!$F$11<>\"\",(A35*Foglio1!$C$11)/(A35+Foglio1!$F$11),NA()),NA())","v":{"$error":"#N/A"}},0.33,{"$f":"IF(Foglio1!$C$12<>\"\",IF(Foglio1!$F$12<>\"\",(C35*Foglio1!$C$12)/(C35+Foglio1!$F$12),NA()),NA())","v":{"$error":"#N/A"}},0.33,{"$f":"IF(Foglio1!$C$13<>\"\",IF(Foglio1!$F$13<>\"\",(E35*Foglio1!$C$13)/(E35+Foglio1!$F$13),NA()),NA())","v":{"$error":"#N/A"}},0.33,{"$f":"IF(Foglio1!$C$14<>\"\",IF(Foglio1!$F$14<>\"\",(G35*Foglio1!$C$14)/(G35+Foglio1!$F$14),NA()),NA())","v":{"$error":"#N/A"}},0.33,{"$f":"IF(Foglio1!$C$15<>\"\",IF(Foglio1!$F$15<>\"\",(I35*Foglio1!$C$15)/(I35+Foglio1!$F$15),NA()),NA())","v":{"$error":"#N/A"}}]
[0.34,{"$f":"IF(Foglio1!$C$11<>\"\",IF(Foglio1!$F$11<>\"\",(A36*Foglio1!$C$11)/(A36+Foglio1!$F$11),NA()),NA())","v":{"$error":"#N/A"}},0.34,{"$f":"IF(Foglio1!$C$12<>\"\",IF(Foglio1!$F$12<>\"\",(C36*Foglio1!$C$12)/(C36+Foglio1!$F$12),NA()),NA())","v":{"$error":"#N/A"}},0.34,{"$f":"IF(Foglio1!$C$13<>\"\",IF(Foglio1!$F$13<>\"\",(E36*Foglio1!$C$13)/(E36+Foglio1!$F$13),NA()),NA())","v":{"$error":"#N/A"}},0.34,{"$f":"IF(Foglio1!$C$14<>\"\",IF(Foglio1!$F$14<>\"\",(G36*Foglio1!$C$14)/(G36+Foglio1!$F$14),NA()),NA())","v":{"$error":"#N/A"}},0.34,{"$f":"IF(Foglio1!$C$15<>\"\",IF(Foglio1!$F$15<>\"\",(I36*Foglio1!$C$15)/(I36+Foglio1!$F$15),NA()),NA())","v":{"$error":"#N/A"}}]
[0.35,{"$f":"IF(Foglio1!$C$11<>\"\",IF(Foglio1!$F$11<>\"\",(A37*Foglio1!$C$11)/(A37+Foglio1!$F$11),NA()),NA())","v":{"$error":"#N/A"}},0.35,{"$f":"IF(Foglio1!$C$12<>\"\",IF(Foglio1!$F$12<>\"\",(C37*Foglio1!$C$12)/(C37+Foglio1!$F$12),NA()),NA())","v":{"$error":"#N/A"}},0.35,{"$f":"IF(Foglio1!$C$13<>\"\",IF(Foglio1!$F$13<>\"\",(E37*Foglio1!$C$13)/(E37+Foglio1!$F$13),NA()),NA())","v":{"$error":"#N/A"}},0.35,{"$f":"IF(Foglio1!$C$14<>\"\",IF(Foglio1!$F$14<>\"\",(G37*Foglio1!$C$14)/(G37+Foglio1!$F$14),NA()),NA())","v":{"$error":"#N/A"}},0.35,{"$f":"IF(Foglio1!$C$15<>\"\",IF(Foglio1!$F$15<>\"\",(I37*Foglio1!$C$15)/(I37+Foglio1!$F$15),NA()),NA())","v":{"$error":"#N/A"}}]
[0.36,{"$f":"IF(Foglio1!$C$11<>\"\",IF(Foglio1!$F$11<>\"\",(A38*Foglio1!$C$11)/(A38+Foglio1!$F$11),NA()),NA())","v":{"$error":"#N/A"}},0.36,{"$f":"IF(Foglio1!$C$12<>\"\",IF(Foglio1!$F$12<>\"\",(C38*Foglio1!$C$12)/(C38+Foglio1!$F$12),NA()),NA())","v":{"$error":"#N/A"}},0.36,{"$f":"IF(Foglio1!$C$13<>\"\",IF(Foglio1!$F$13<>\"\",(E38*Foglio1!$C$13)/(E38+Foglio1!$F$13),NA()),NA())","v":{"$error":"#N/A"}},0.36,{"$f":"IF(Foglio1!$C$14<>\"\",IF(Foglio1!$F$14<>\"\",(G38*Foglio1!$C$14)/(G38+Foglio1!$F$14),NA()),NA())","v":{"$error":"#N/A"}},0.36,{"$f":"IF(Foglio1!$C$15<>\"\",IF(Foglio1!$F$15<>\"\",(I38*Foglio1!$C$15)/(I38+Foglio1!$F$15),NA()),NA())","v":{"$error":"#N/A"}}]
[0.37,{"$f":"IF(Foglio1!$C$11<>\"\",IF(Foglio1!$F$11<>\"\",(A39*Foglio1!$C$11)/(A39+Foglio1!$F$11),NA()),NA())","v":{"$error":"#N/A"}},0.37,{"$f":"IF(Foglio1!$C$12<>\"\",IF(Foglio1!$F$12<>\"\",(C39*Foglio1!$C$12)/(C39+Foglio1!$F$12),NA()),NA())","v":{"$error":"#N/A"}},0.37,{"$f":"IF(Foglio1!$C$13<>\"\",IF(Foglio1!$F$13<>\"\",(E39*Foglio1!$C$13)/(E39+Foglio1!$F$13),NA()),NA())","v":{"$error":"#N/A"}},0.37,{"$f":"IF(Foglio1!$C$14<>\"\",IF(Foglio1!$F$14<>\"\",(G39*Foglio1!$C$14)/(G39+Foglio1!$F$14),NA()),NA())","v":{"$error":"#N/A"}},0.37,{"$f":"IF(Foglio1!$C$15<>\"\",IF(Foglio1!$F$15<>\"\",(I39*Foglio1!$C$15)/(I39+Foglio1!$F$15),NA()),NA())","v":{"$error":"#N/A"}}]
[0.38,{"$f":"IF(Foglio1!$C$11<>\"\",IF(Foglio1!$F$11<>\"\",(A40*Foglio1!$C$11)/(A40+Foglio1!$F$11),NA()),NA())","v":{"$error":"#N/A"}},0.38,{"$f":"IF(Foglio1!$C$12<>\"\",IF(Foglio1!$F$12<>\"\",(C40*Foglio1!$C$12)/(C40+Foglio1!$F$12),NA()),NA())","v":{"$error":"#N/A"}},0.38,{"$f":"IF(Foglio1!$C$13<>\"\",IF(Foglio1!$F$13<>\"\",(E40*Foglio1!$C$13)/(E40+Foglio1!$F$13),NA()),NA())","v":{"$error":"#N/A"}},0.38,{"$f":"IF(Foglio1!$C$14<>\"\",IF(Foglio1!$F$14<>\"\",(G40*Foglio1!$C$14)/(G40+Foglio1!$F$14),NA()),NA())","v":{"$error":"#N/A"}},0.38,{"$f":"IF(Foglio1!$C$15<>\"\",IF(Foglio1!$F$15<>\"\",(I40*Foglio1!$C$15)/(I40+Foglio1!$F$15),NA()),NA())","v":{"$error":"#N/A"}}]
[0.39,{"$f":"IF(Foglio1!$C$11<>\"\",IF(Foglio1!$F$11<>\"\",(A41*Foglio1!$C$11)/(A41+Foglio1!$F$11),NA()),NA())","v":{"$error":"#N/A"}},0.39,{"$f":"IF(Foglio1!$C$12<>\"\",IF(Foglio1!$F$12<>\"\",(C41*Foglio1!$C$12)/(C41+Foglio1!$F$12),NA()),NA())","v":{"$error":"#N/A"}},0.39,{"$f":"IF(Foglio1!$C$13<>\"\",IF(Foglio1!$F$13<>\"\",(E41*Foglio1!$C$13)/(E41+Foglio1!$F$13),NA()),NA())","v":{"$error":"#N/A"}},0.39,{"$f":"IF(Foglio1!$C$14<>\"\",IF(Foglio1!$F$14<>\"\",(G41*Foglio1!$C$14)/(G41+Foglio1!$F$14),NA()),NA())","v":{"$error":"#N/A"}},0.39,{"$f":"IF(Foglio1!$C$15<>\"\",IF(Foglio1!$F$15<>\"\",(I41*Foglio1!$C$15)/(I41+Foglio1!$F$15),NA()),NA())","v":{"$error":"#N/A"}}]
[0.4,{"$f":"IF(Foglio1!$C$11<>\"\",IF(Foglio1!$F$11<>\"\",(A42*Foglio1!$C$11)/(A42+Foglio1!$F$11),NA()),NA())","v":{"$error":"#N/A"}},0.4,{"$f":"IF(Foglio1!$C$12<>\"\",IF(Foglio1!$F$12<>\"\",(C42*Foglio1!$C$12)/(C42+Foglio1!$F$12),NA()),NA())","v":{"$error":"#N/A"}},0.4,{"$f":"IF(Foglio1!$C$13<>\"\",IF(Foglio1!$F$13<>\"\",(E42*Foglio1!$C$13)/(E42+Foglio1!$F$13),NA()),NA())","v":{"$error":"#N/A"}},0.4,{"$f":"IF(Foglio1!$C$14<>\"\",IF(Foglio1!$F$14<>\"\",(G42*Foglio1!$C$14)/(G42+Foglio1!$F$14),NA()),NA())","v":{"$error":"#N/A"}},0.4,{"$f":"IF(Foglio1!$C$15<>\"\",IF(Foglio1!$F$15<>\"\",(I42*Foglio1!$C$15)/(I42+Foglio1!$F$15),NA()),NA())","v":{"$error":"#N/A"}}]
[0.41,{"$f":"IF(Foglio1!$C$11<>\"\",IF(Foglio1!$F$11<>\"\",(A43*Foglio1!$C$11)/(A43+Foglio1!$F$11),NA()),NA())","v":{"$error":"#N/A"}},0.41,{"$f":"IF(Foglio1!$C$12<>\"\",IF(Foglio1!$F$12<>\"\",(C43*Foglio1!$C$12)/(C43+Foglio1!$F$12),NA()),NA())","v":{"$error":"#N/A"}},0.41,{"$f":"IF(Foglio1!$C$13<>\"\",IF(Foglio1!$F$13<>\"\",(E43*Foglio1!$C$13)/(E43+Foglio1!$F$13),NA()),NA())","v":{"$error":"#N/A"}},0.41,{"$f":"IF(Foglio1!$C$14<>\"\",IF(Foglio1!$F$14<>\"\",(G43*Foglio1!$C$14)/(G43+Foglio1!$F$14),NA()),NA())","v":{"$error":"#N/A"}},0.41,{"$f":"IF(Foglio1!$C$15<>\"\",IF(Foglio1!$F$15<>\"\",(I43*Foglio1!$C$15)/(I43+Foglio1!$F$15),NA()),NA())","v":{"$error":"#N/A"}}]
[0.42,{"$f":"IF(Foglio1!$C$11<>\"\",IF(Foglio1!$F$11<>\"\",(A44*Foglio1!$C$11)/(A44+Foglio1!$F$11),NA()),NA())","v":{"$error":"#N/A"}},0.42,{"$f":"IF(Foglio1!$C$12<>\"\",IF(Foglio1!$F$12<>\"\",(C44*Foglio1!$C$12)/(C44+Foglio1!$F$12),NA()),NA())","v":{"$error":"#N/A"}},0.42,{"$f":"IF(Foglio1!$C$13<>\"\",IF(Foglio1!$F$13<>\"\",(E44*Foglio1!$C$13)/(E44+Foglio1!$F$13),NA()),NA())","v":{"$error":"#N/A"}},0.42,{"$f":"IF(Foglio1!$C$14<>\"\",IF(Foglio1!$F$14<>\"\",(G44*Foglio1!$C$14)/(G44+Foglio1!$F$14),NA()),NA())","v":{"$error":"#N/A"}},0.42,{"$f":"IF(Foglio1!$C$15<>\"\",IF(Foglio1!$F$15<>\"\",(I44*Foglio1!$C$15)/(I44+Foglio1!$F$15),NA()),NA())","v":{"$error":"#N/A"}}]
[0.43,{"$f":"IF(Foglio1!$C$11<>\"\",IF(Foglio1!$F$11<>\"\",(A45*Foglio1!$C$11)/(A45+Foglio1!$F$11),NA()),NA())","v":{"$error":"#N/A"}},0.43,{"$f":"IF(Foglio1!$C$12<>\"\",IF(Foglio1!$F$12<>\"\",(C45*Foglio1!$C$12)/(C45+Foglio1!$F$12),NA()),NA())","v":{"$error":"#N/A"}},0.43,{"$f":"IF(Foglio1!$C$13<>\"\",IF(Foglio1!$F$13<>\"\",(E45*Foglio1!$C$13)/(E45+Foglio1!$F$13),NA()),NA())","v":{"$error":"#N/A"}},0.43,{"$f":"IF(Foglio1!$C$14<>\"\",IF(Foglio1!$F$14<>\"\",(G45*Foglio1!$C$14)/(G45+Foglio1!$F$14),NA()),NA())","v":{"$error":"#N/A"}},0.43,{"$f":"IF(Foglio1!$C$15<>\"\",IF(Foglio1!$F$15<>\"\",(I45*Foglio1!$C$15)/(I45+Foglio1!$F$15),NA()),NA())","v":{"$error":"#N/A"}}]
[0.44,{"$f":"IF(Foglio1!$C$11<>\"\",IF(Foglio1!$F$11<>\"\",(A46*Foglio1!$C$11)/(A46+Foglio1!$F$11),NA()),NA())","v":{"$error":"#N/A"}},0.44,{"$f":"IF(Foglio1!$C$12<>\"\",IF(Foglio1!$F$12<>\"\",(C46*Foglio1!$C$12)/(C46+Foglio1!$F$12),NA()),NA())","v":{"$error":"#N/A"}},0.44,{"$f":"IF(Foglio1!$C$13<>\"\",IF(Foglio1!$F$13<>\"\",(E46*Foglio1!$C$13)/(E46+Foglio1!$F$13),NA()),NA())","v":{"$error":"#N/A"}},0.44,{"$f":"IF(Foglio1!$C$14<>\"\",IF(Foglio1!$F$14<>\"\",(G46*Foglio1!$C$14)/(G46+Foglio1!$F$14),NA()),NA())","v":{"$error":"#N/A"}},0.44,{"$f":"IF(Foglio1!$C$15<>\"\",IF(Foglio1!$F$15<>\"\",(I46*Foglio1!$C$15)/(I46+Foglio1!$F$15),NA()),NA())","v":{"$error":"#N/A"}}]
[0.45,{"$f":"IF(Foglio1!$C$11<>\"\",IF(Foglio1!$F$11<>\"\",(A47*Foglio1!$C$11)/(A47+Foglio1!$F$11),NA()),NA())","v":{"$error":"#N/A"}},0.45,{"$f":"IF(Foglio1!$C$12<>\"\",IF(Foglio1!$F$12<>\"\",(C47*Foglio1!$C$12)/(C47+Foglio1!$F$12),NA()),NA())","v":{"$error":"#N/A"}},0.45,{"$f":"IF(Foglio1!$C$13<>\"\",IF(Foglio1!$F$13<>\"\",(E47*Foglio1!$C$13)/(E47+Foglio1!$F$13),NA()),NA())","v":{"$error":"#N/A"}},0.45,{"$f":"IF(Foglio1!$C$14<>\"\",IF(Foglio1!$F$14<>\"\",(G47*Foglio1!$C$14)/(G47+Foglio1!$F$14),NA()),NA())","v":{"$error":"#N/A"}},0.45,{"$f":"IF(Foglio1!$C$15<>\"\",IF(Foglio1!$F$15<>\"\",(I47*Foglio1!$C$15)/(I47+Foglio1!$F$15),NA()),NA())","v":{"$error":"#N/A"}}]
[0.46,{"$f":"IF(Foglio1!$C$11<>\"\",IF(Foglio1!$F$11<>\"\",(A48*Foglio1!$C$11)/(A48+Foglio1!$F$11),NA()),NA())","v":{"$error":"#N/A"}},0.46,{"$f":"IF(Foglio1!$C$12<>\"\",IF(Foglio1!$F$12<>\"\",(C48*Foglio1!$C$12)/(C48+Foglio1!$F$12),NA()),NA())","v":{"$error":"#N/A"}},0.46,{"$f":"IF(Foglio1!$C$13<>\"\",IF(Foglio1!$F$13<>\"\",(E48*Foglio1!$C$13)/(E48+Foglio1!$F$13),NA()),NA())","v":{"$error":"#N/A"}},0.46,{"$f":"IF(Foglio1!$C$14<>\"\",IF(Foglio1!$F$14<>\"\",(G48*Foglio1!$C$14)/(G48+Foglio1!$F$14),NA()),NA())","v":{"$error":"#N/A"}},0.46,{"$f":"IF(Foglio1!$C$15<>\"\",IF(Foglio1!$F$15<>\"\",(I48*Foglio1!$C$15)/(I48+Foglio1!$F$15),NA()),NA())","v":{"$error":"#N/A"}}]
[0.47,{"$f":"IF(Foglio1!$C$11<>\"\",IF(Foglio1!$F$11<>\"\",(A49*Foglio1!$C$11)/(A49+Foglio1!$F$11),NA()),NA())","v":{"$error":"#N/A"}},0.47,{"$f":"IF(Foglio1!$C$12<>\"\",IF(Foglio1!$F$12<>\"\",(C49*Foglio1!$C$12)/(C49+Foglio1!$F$12),NA()),NA())","v":{"$error":"#N/A"}},0.47,{"$f":"IF(Foglio1!$C$13<>\"\",IF(Foglio1!$F$13<>\"\",(E49*Foglio1!$C$13)/(E49+Foglio1!$F$13),NA()),NA())","v":{"$error":"#N/A"}},0.47,{"$f":"IF(Foglio1!$C$14<>\"\",IF(Foglio1!$F$14<>\"\",(G49*Foglio1!$C$14)/(G49+Foglio1!$F$14),NA()),NA())","v":{"$error":"#N/A"}},0.47,{"$f":"IF(Foglio1!$C$15<>\"\",IF(Foglio1!$F$15<>\"\",(I49*Foglio1!$C$15)/(I49+Foglio1!$F$15),NA()),NA())","v":{"$error":"#N/A"}}]
[0.48,{"$f":"IF(Foglio1!$C$11<>\"\",IF(Foglio1!$F$11<>\"\",(A50*Foglio1!$C$11)/(A50+Foglio1!$F$11),NA()),NA())","v":{"$error":"#N/A"}},0.48,{"$f":"IF(Foglio1!$C$12<>\"\",IF(Foglio1!$F$12<>\"\",(C50*Foglio1!$C$12)/(C50+Foglio1!$F$12),NA()),NA())","v":{"$error":"#N/A"}},0.48,{"$f":"IF(Foglio1!$C$13<>\"\",IF(Foglio1!$F$13<>\"\",(E50*Foglio1!$C$13)/(E50+Foglio1!$F$13),NA()),NA())","v":{"$error":"#N/A"}},0.48,{"$f":"IF(Foglio1!$C$14<>\"\",IF(Foglio1!$F$14<>\"\",(G50*Foglio1!$C$14)/(G50+Foglio1!$F$14),NA()),NA())","v":{"$error":"#N/A"}},0.48,{"$f":"IF(Foglio1!$C$15<>\"\",IF(Foglio1!$F$15<>\"\",(I50*Foglio1!$C$15)/(I50+Foglio1!$F$15),NA()),NA())","v":{"$error":"#N/A"}}]
[0.49,{"$f":"IF(Foglio1!$C$11<>\"\",IF(Foglio1!$F$11<>\"\",(A51*Foglio1!$C$11)/(A51+Foglio1!$F$11),NA()),NA())","v":{"$error":"#N/A"}},0.49,{"$f":"IF(Foglio1!$C$12<>\"\",IF(Foglio1!$F$12<>\"\",(C51*Foglio1!$C$12)/(C51+Foglio1!$F$12),NA()),NA())","v":{"$error":"#N/A"}},0.49,{"$f":"IF(Foglio1!$C$13<>\"\",IF(Foglio1!$F$13<>\"\",(E51*Foglio1!$C$13)/(E51+Foglio1!$F$13),NA()),NA())","v":{"$error":"#N/A"}},0.49,{"$f":"IF(Foglio1!$C$14<>\"\",IF(Foglio1!$F$14<>\"\",(G51*Foglio1!$C$14)/(G51+Foglio1!$F$14),NA()),NA())","v":{"$error":"#N/A"}},0.49,{"$f":"IF(Foglio1!$C$15<>\"\",IF(Foglio1!$F$15<>\"\",(I51*Foglio1!$C$15)/(I51+Foglio1!$F$15),NA()),NA())","v":{"$error":"#N/A"}}]
[0.5,{"$f":"IF(Foglio1!$C$11<>\"\",IF(Foglio1!$F$11<>\"\",(A52*Foglio1!$C$11)/(A52+Foglio1!$F$11),NA()),NA())","v":{"$error":"#N/A"}},0.5,{"$f":"IF(Foglio1!$C$12<>\"\",IF(Foglio1!$F$12<>\"\",(C52*Foglio1!$C$12)/(C52+Foglio1!$F$12),NA()),NA())","v":{"$error":"#N/A"}},0.5,{"$f":"IF(Foglio1!$C$13<>\"\",IF(Foglio1!$F$13<>\"\",(E52*Foglio1!$C$13)/(E52+Foglio1!$F$13),NA()),NA())","v":{"$error":"#N/A"}},0.5,{"$f":"IF(Foglio1!$C$14<>\"\",IF(Foglio1!$F$14<>\"\",(G52*Foglio1!$C$14)/(G52+Foglio1!$F$14),NA()),NA())","v":{"$error":"#N/A"}},0.5,{"$f":"IF(Foglio1!$C$15<>\"\",IF(Foglio1!$F$15<>\"\",(I52*Foglio1!$C$15)/(I52+Foglio1!$F$15),NA()),NA())","v":{"$error":"#N/A"}}]
[0.51,{"$f":"IF(Foglio1!$C$11<>\"\",IF(Foglio1!$F$11<>\"\",(A53*Foglio1!$C$11)/(A53+Foglio1!$F$11),NA()),NA())","v":{"$error":"#N/A"}},0.51,{"$f":"IF(Foglio1!$C$12<>\"\",IF(Foglio1!$F$12<>\"\",(C53*Foglio1!$C$12)/(C53+Foglio1!$F$12),NA()),NA())","v":{"$error":"#N/A"}},0.51,{"$f":"IF(Foglio1!$C$13<>\"\",IF(Foglio1!$F$13<>\"\",(E53*Foglio1!$C$13)/(E53+Foglio1!$F$13),NA()),NA())","v":{"$error":"#N/A"}},0.51,{"$f":"IF(Foglio1!$C$14<>\"\",IF(Foglio1!$F$14<>\"\",(G53*Foglio1!$C$14)/(G53+Foglio1!$F$14),NA()),NA())","v":{"$error":"#N/A"}},0.51,{"$f":"IF(Foglio1!$C$15<>\"\",IF(Foglio1!$F$15<>\"\",(I53*Foglio1!$C$15)/(I53+Foglio1!$F$15),NA()),NA())","v":{"$error":"#N/A"}}]
[0.52,{"$f":"IF(Foglio1!$C$11<>\"\",IF(Foglio1!$F$11<>\"\",(A54*Foglio1!$C$11)/(A54+Foglio1!$F$11),NA()),NA())","v":{"$error":"#N/A"}},0.52,{"$f":"IF(Foglio1!$C$12<>\"\",IF(Foglio1!$F$12<>\"\",(C54*Foglio1!$C$12)/(C54+Foglio1!$F$12),NA()),NA())","v":{"$error":"#N/A"}},0.52,{"$f":"IF(Foglio1!$C$13<>\"\",IF(Foglio1!$F$13<>\"\",(E54*Foglio1!$C$13)/(E54+Foglio1!$F$13),NA()),NA())","v":{"$error":"#N/A"}},0.52,{"$f":"IF(Foglio1!$C$14<>\"\",IF(Foglio1!$F$14<>\"\",(G54*Foglio1!$C$14)/(G54+Foglio1!$F$14),NA()),NA())","v":{"$error":"#N/A"}},0.52,{"$f":"IF(Foglio1!$C$15<>\"\",IF(Foglio1!$F$15<>\"\",(I54*Foglio1!$C$15)/(I54+Foglio1!$F$15),NA()),NA())","v":{"$error":"#N/A"}}]
[0.53,{"$f":"IF(Foglio1!$C$11<>\"\",IF(Foglio1!$F$11<>\"\",(A55*Foglio1!$C$11)/(A55+Foglio1!$F$11),NA()),NA())","v":{"$error":"#N/A"}},0.53,{"$f":"IF(Foglio1!$C$12<>\"\",IF(Foglio1!$F$12<>\"\",(C55*Foglio1!$C$12)/(C55+Foglio1!$F$12),NA()),NA())","v":{"$error":"#N/A"}},0.53,{"$f":"IF(Foglio1!$C$13<>\"\",IF(Foglio1!$F$13<>\"\",(E55*Foglio1!$C$13)/(E55+Foglio1!$F$13),NA()),NA())","v":{"$error":"#N/A"}},0.53,{"$f":"IF(Foglio1!$C$14<>\"\",IF(Foglio1!$F$14<>\"\",(G55*Foglio1!$C$14)/(G55+Foglio1!$F$14),NA()),NA())","v":{"$error":"#N/A"}},0.53,{"$f":"IF(Foglio1!$C$15<>\"\",IF(Foglio1!$F$15<>\"\",(I55*Foglio1!$C$15)/(I55+Foglio1!$F$15),NA()),NA())","v":{"$error":"#N/A"}}]
[0.54,{"$f":"IF(Foglio1!$C$11<>\"\",IF(Foglio1!$F$11<>\"\",(A56*Foglio1!$C$11)/(A56+Foglio1!$F$11),NA()),NA())","v":{"$error":"#N/A"}},0.54,{"$f":"IF(Foglio1!$C$12<>\"\",IF(Foglio1!$F$12<>\"\",(C56*Foglio1!$C$12)/(C56+Foglio1!$F$12),NA()),NA())","v":{"$error":"#N/A"}},0.54,{"$f":"IF(Foglio1!$C$13<>\"\",IF(Foglio1!$F$13<>\"\",(E56*Foglio1!$C$13)/(E56+Foglio1!$F$13),NA()),NA())","v":{"$error":"#N/A"}},0.54,{"$f":"IF(Foglio1!$C$14<>\"\",IF(Foglio1!$F$14<>\"\",(G56*Foglio1!$C$14)/(G56+Foglio1!$F$14),NA()),NA())","v":{"$error":"#N/A"}},0.54,{"$f":"IF(Foglio1!$C$15<>\"\",IF(Foglio1!$F$15<>\"\",(I56*Foglio1!$C$15)/(I56+Foglio1!$F$15),NA()),NA())","v":{"$error":"#N/A"}}]
[0.55000000000000004,{"$f":"IF(Foglio1!$C$11<>\"\",IF(Foglio1!$F$11<>\"\",(A57*Foglio1!$C$11)/(A57+Foglio1!$F$11),NA()),NA())","v":{"$error":"#N/A"}},0.55000000000000004,{"$f":"IF(Foglio1!$C$12<>\"\",IF(Foglio1!$F$12<>\"\",(C57*Foglio1!$C$12)/(C57+Foglio1!$F$12),NA()),NA())","v":{"$error":"#N/A"}},0.55000000000000004,{"$f":"IF(Foglio1!$C$13<>\"\",IF(Foglio1!$F$13<>\"\",(E57*Foglio1!$C$13)/(E57+Foglio1!$F$13),NA()),NA())","v":{"$error":"#N/A"}},0.55000000000000004,{"$f":"IF(Foglio1!$C$14<>\"\",IF(Foglio1!$F$14<>\"\",(G57*Foglio1!$C$14)/(G57+Foglio1!$F$14),NA()),NA())","v":{"$error":"#N/A"}},0.55000000000000004,{"$f":"IF(Foglio1!$C$15<>\"\",IF(Foglio1!$F$15<>\"\",(I57*Foglio1!$C$15)/(I57+Foglio1!$F$15),NA()),NA())","v":{"$error":"#N/A"}}]
[0.56000000000000005,{"$f":"IF(Foglio1!$C$11<>\"\",IF(Foglio1!$F$11<>\"\",(A58*Foglio1!$C$11)/(A58+Foglio1!$F$11),NA()),NA())","v":{"$error":"#N/A"}},0.56000000000000005,{"$f":"IF(Foglio1!$C$12<>\"\",IF(Foglio1!$F$12<>\"\",(C58*Foglio1!$C$12)/(C58+Foglio1!$F$12),NA()),NA())","v":{"$error":"#N/A"}},0.56000000000000005,{"$f":"IF(Foglio1!$C$13<>\"\",IF(Foglio1!$F$13<>\"\",(E58*Foglio1!$C$13)/(E58+Foglio1!$F$13),NA()),NA())","v":{"$error":"#N/A"}},0.56000000000000005,{"$f":"IF(Foglio1!$C$14<>\"\",IF(Foglio1!$F$14<>\"\",(G58*Foglio1!$C$14)/(G58+Foglio1!$F$14),NA()),NA())","v":{"$error":"#N/A"}},0.56000000000000005,{"$f":"IF(Foglio1!$C$15<>\"\",IF(Foglio1!$F$15<>\"\",(I58*Foglio1!$C$15)/(I58+Foglio1!$F$15),NA()),NA())","v":{"$error":"#N/A"}}]
[0.56999999999999995,{"$f":"IF(Foglio1!$C$11<>\"\",IF(Foglio1!$F$11<>\"\",(A59*Foglio1!$C$11)/(A59+Foglio1!$F$11),NA()),NA())","v":{"$error":"#N/A"}},0.56999999999999995,{"$f":"IF(Foglio1!$C$12<>\"\",IF(Foglio1!$F$12<>\"\",(C59*Foglio1!$C$12)/(C59+Foglio1!$F$12),NA()),NA())","v":{"$error":"#N/A"}},0.56999999999999995,{"$f":"IF(Foglio1!$C$13<>\"\",IF(Foglio1!$F$13<>\"\",(E59*Foglio1!$C$13)/(E59+Foglio1!$F$13),NA()),NA())","v":{"$error":"#N/A"}},0.56999999999999995,{"$f":"IF(Foglio1!$C$14<>\"\",IF(Foglio1!$F$14<>\"\",(G59*Foglio1!$C$14)/(G59+Foglio1!$F$14),NA()),NA())","v":{"$error":"#N/A"}},0.56999999999999995,{"$f":"IF(Foglio1!$C$15<>\"\",IF(Foglio1!$F$15<>\"\",(I59*Foglio1!$C$15)/(I59+Foglio1!$F$15),NA()),NA())","v":{"$error":"#N/A"}}]
[0.57999999999999996,{"$f":"IF(Foglio1!$C$11<>\"\",IF(Foglio1!$F$11<>\"\",(A60*Foglio1!$C$11)/(A60+Foglio1!$F$11),NA()),NA())","v":{"$error":"#N/A"}},0.57999999999999996,{"$f":"IF(Foglio1!$C$12<>\"\",IF(Foglio1!$F$12<>\"\",(C60*Foglio1!$C$12)/(C60+Foglio1!$F$12),NA()),NA())","v":{"$error":"#N/A"}},0.57999999999999996,{"$f":"IF(Foglio1!$C$13<>\"\",IF(Foglio1!$F$13<>\"\",(E60*Foglio1!$C$13)/(E60+Foglio1!$F$13),NA()),NA())","v":{"$error":"#N/A"}},0.57999999999999996,{"$f":"IF(Foglio1!$C$14<>\"\",IF(Foglio1!$F$14<>\"\",(G60*Foglio1!$C$14)/(G60+Foglio1!$F$14),NA()),NA())","v":{"$error":"#N/A"}},0.57999999999999996,{"$f":"IF(Foglio1!$C$15<>\"\",IF(Foglio1!$F$15<>\"\",(I60*Foglio1!$C$15)/(I60+Foglio1!$F$15),NA()),NA())","v":{"$error":"#N/A"}}]
[0.59,{"$f":"IF(Foglio1!$C$11<>\"\",IF(Foglio1!$F$11<>\"\",(A61*Foglio1!$C$11)/(A61+Foglio1!$F$11),NA()),NA())","v":{"$error":"#N/A"}},0.59,{"$f":"IF(Foglio1!$C$12<>\"\",IF(Foglio1!$F$12<>\"\",(C61*Foglio1!$C$12)/(C61+Foglio1!$F$12),NA()),NA())","v":{"$error":"#N/A"}},0.59,{"$f":"IF(Foglio1!$C$13<>\"\",IF(Foglio1!$F$13<>\"\",(E61*Foglio1!$C$13)/(E61+Foglio1!$F$13),NA()),NA())","v":{"$error":"#N/A"}},0.59,{"$f":"IF(Foglio1!$C$14<>\"\",IF(Foglio1!$F$14<>\"\",(G61*Foglio1!$C$14)/(G61+Foglio1!$F$14),NA()),NA())","v":{"$error":"#N/A"}},0.59,{"$f":"IF(Foglio1!$C$15<>\"\",IF(Foglio1!$F$15<>\"\",(I61*Foglio1!$C$15)/(I61+Foglio1!$F$15),NA()),NA())","v":{"$error":"#N/A"}}]
[0.6,{"$f":"IF(Foglio1!$C$11<>\"\",IF(Foglio1!$F$11<>\"\",(A62*Foglio1!$C$11)/(A62+Foglio1!$F$11),NA()),NA())","v":{"$error":"#N/A"}},0.6,{"$f":"IF(Foglio1!$C$12<>\"\",IF(Foglio1!$F$12<>\"\",(C62*Foglio1!$C$12)/(C62+Foglio1!$F$12),NA()),NA())","v":{"$error":"#N/A"}},0.6,{"$f":"IF(Foglio1!$C$13<>\"\",IF(Foglio1!$F$13<>\"\",(E62*Foglio1!$C$13)/(E62+Foglio1!$F$13),NA()),NA())","v":{"$error":"#N/A"}},0.6,{"$f":"IF(Foglio1!$C$14<>\"\",IF(Foglio1!$F$14<>\"\",(G62*Foglio1!$C$14)/(G62+Foglio1!$F$14),NA()),NA())","v":{"$error":"#N/A"}},0.6,{"$f":"IF(Foglio1!$C$15<>\"\",IF(Foglio1!$F$15<>\"\",(I62*Foglio1!$C$15)/(I62+Foglio1!$F$15),NA()),NA())","v":{"$error":"#N/A"}}]
[0.61,{"$f":"IF(Foglio1!$C$11<>\"\",IF(Foglio1!$F$11<>\"\",(A63*Foglio1!$C$11)/(A63+Foglio1!$F$11),NA()),NA())","v":{"$error":"#N/A"}},0.61,{"$f":"IF(Foglio1!$C$12<>\"\",IF(Foglio1!$F$12<>\"\",(C63*Foglio1!$C$12)/(C63+Foglio1!$F$12),NA()),NA())","v":{"$error":"#N/A"}},0.61,{"$f":"IF(Foglio1!$C$13<>\"\",IF(Foglio1!$F$13<>\"\",(E63*Foglio1!$C$13)/(E63+Foglio1!$F$13),NA()),NA())","v":{"$error":"#N/A"}},0.61,{"$f":"IF(Foglio1!$C$14<>\"\",IF(Foglio1!$F$14<>\"\",(G63*Foglio1!$C$14)/(G63+Foglio1!$F$14),NA()),NA())","v":{"$error":"#N/A"}},0.61,{"$f":"IF(Foglio1!$C$15<>\"\",IF(Foglio1!$F$15<>\"\",(I63*Foglio1!$C$15)/(I63+Foglio1!$F$15),NA()),NA())","v":{"$error":"#N/A"}}]
[0.62,{"$f":"IF(Foglio1!$C$11<>\"\",IF(Foglio1!$F$11<>\"\",(A64*Foglio1!$C$11)/(A64+Foglio1!$F$11),NA()),NA())","v":{"$error":"#N/A"}},0.62,{"$f":"IF(Foglio1!$C$12<>\"\",IF(Foglio1!$F$12<>\"\",(C64*Foglio1!$C$12)/(C64+Foglio1!$F$12),NA()),NA())","v":{"$error":"#N/A"}},0.62,{"$f":"IF(Foglio1!$C$13<>\"\",IF(Foglio1!$F$13<>\"\",(E64*Foglio1!$C$13)/(E64+Foglio1!$F$13),NA()),NA())","v":{"$error":"#N/A"}},0.62,{"$f":"IF(Foglio1!$C$14<>\"\",IF(Foglio1!$F$14<>\"\",(G64*Foglio1!$C$14)/(G64+Foglio1!$F$14),NA()),NA())","v":{"$error":"#N/A"}},0.62,{"$f":"IF(Foglio1!$C$15<>\"\",IF(Foglio1!$F$15<>\"\",(I64*Foglio1!$C$15)/(I64+Foglio1!$F$15),NA()),NA())","v":{"$error":"#N/A"}}]
[0.63,{"$f":"IF(Foglio1!$C$11<>\"\",IF(Foglio1!$F$11<>\"\",(A65*Foglio1!$C$11)/(A65+Foglio1!$F$11),NA()),NA())","v":{"$error":"#N/A"}},0.63,{"$f":"IF(Foglio1!$C$12<>\"\",IF(Foglio1!$F$12<>\"\",(C65*Foglio1!$C$12)/(C65+Foglio1!$F$12),NA()),NA())","v":{"$error":"#N/A"}},0.63,{"$f":"IF(Foglio1!$C$13<>\"\",IF(Foglio1!$F$13<>\"\",(E65*Foglio1!$C$13)/(E65+Foglio1!$F$13),NA()),NA())","v":{"$error":"#N/A"}},0.63,{"$f":"IF(Foglio1!$C$14<>\"\",IF(Foglio1!$F$14<>\"\",(G65*Foglio1!$C$14)/(G65+Foglio1!$F$14),NA()),NA())","v":{"$error":"#N/A"}},0.63,{"$f":"IF(Foglio1!$C$15<>\"\",IF(Foglio1!$F$15<>\"\",(I65*Foglio1!$C$15)/(I65+Foglio1!$F$15),NA()),NA())","v":{"$error":"#N/A"}}]
[0.64,{"$f":"IF(Foglio1!$C$11<>\"\",IF(Foglio1!$F$11<>\"\",(A66*Foglio1!$C$11)/(A66+Foglio1!$F$11),NA()),NA())","v":{"$error":"#N/A"}},0.64,{"$f":"IF(Foglio1!$C$12<>\"\",IF(Foglio1!$F$12<>\"\",(C66*Foglio1!$C$12)/(C66+Foglio1!$F$12),NA()),NA())","v":{"$error":"#N/A"}},0.64,{"$f":"IF(Foglio1!$C$13<>\"\",IF(Foglio1!$F$13<>\"\",(E66*Foglio1!$C$13)/(E66+Foglio1!$F$13),NA()),NA())","v":{"$error":"#N/A"}},0.64,{"$f":"IF(Foglio1!$C$14<>\"\",IF(Foglio1!$F$14<>\"\",(G66*Foglio1!$C$14)/(G66+Foglio1!$F$14),NA()),NA())","v":{"$error":"#N/A"}},0.64,{"$f":"IF(Foglio1!$C$15<>\"\",IF(Foglio1!$F$15<>\"\",(I66*Foglio1!$C$15)/(I66+Foglio1!$F$15),NA()),NA())","v":{"$error":"#N/A"}}]
[0.65,{"$f":"IF(Foglio1!$C$11<>\"\",IF(Foglio1!$F$11<>\"\",(A67*Foglio1!$C$11)/(A67+Foglio1!$F$11),NA()),NA())","v":{"$error":"#N/A"}},0.65,{"$f":"IF(Foglio1!$C$12<>\"\",IF(Foglio1!$F$12<>\"\",(C67*Foglio1!$C$12)/(C67+Foglio1!$F$12),NA()),NA())","v":{"$error":"#N/A"}},0.65,{"$f":"IF(Foglio1!$C$13<>\"\",IF(Foglio1!$F$13<>\"\",(E67*Foglio1!$C$13)/(E67+Foglio1!$F$13),NA()),NA())","v":{"$error":"#N/A"}},0.65,{"$f":"IF(Foglio1!$C$14<>\"\",IF(Foglio1!$F$14<>\"\",(G67*Foglio1!$C$14)/(G67+Foglio1!$F$14),NA()),NA())","v":{"$error":"#N/A"}},0.65,{"$f":"IF(Foglio1!$C$15<>\"\",IF(Foglio1!$F$15<>\"\",(I67*Foglio1!$C$15)/(I67+Foglio1!$F$15),NA()),NA())","v":{"$error":"#N/A"}}]
[0.66,{"$f":"IF(Foglio1!$C$11<>\"\",IF(Foglio1!$F$11<>\"\",(A68*Foglio1!$C$11)/(A68+Foglio1!$F$11),NA()),NA())","v":{"$error":"#N/A"}},0.66,{"$f":"IF(Foglio1!$C$12<>\"\",IF(Foglio1!$F$12<>\"\",(C68*Foglio1!$C$12)/(C68+Foglio1!$F$12),NA()),NA())","v":{"$error":"#N/A"}},0.66,{"$f":"IF(Foglio1!$C$13<>\"\",IF(Foglio1!$F$13<>\"\",(E68*Foglio1!$C$13)/(E68+Foglio1!$F$13),NA()),NA())","v":{"$error":"#N/A"}},0.66,{"$f":"IF(Foglio1!$C$14<>\"\",IF(Foglio1!$F$14<>\"\",(G68*Foglio1!$C$14)/(G68+Foglio1!$F$14),NA()),NA())","v":{"$error":"#N/A"}},0.66,{"$f":"IF(Foglio1!$C$15<>\"\",IF(Foglio1!$F$15<>\"\",(I68*Foglio1!$C$15)/(I68+Foglio1!$F$15),NA()),NA())","v":{"$error":"#N/A"}}]
[0.67,{"$f":"IF(Foglio1!$C$11<>\"\",IF(Foglio1!$F$11<>\"\",(A69*Foglio1!$C$11)/(A69+Foglio1!$F$11),NA()),NA())","v":{"$error":"#N/A"}},0.67,{"$f":"IF(Foglio1!$C$12<>\"\",IF(Foglio1!$F$12<>\"\",(C69*Foglio1!$C$12)/(C69+Foglio1!$F$12),NA()),NA())","v":{"$error":"#N/A"}},0.67,{"$f":"IF(Foglio1!$C$13<>\"\",IF(Foglio1!$F$13<>\"\",(E69*Foglio1!$C$13)/(E69+Foglio1!$F$13),NA()),NA())","v":{"$error":"#N/A"}},0.67,{"$f":"IF(Foglio1!$C$14<>\"\",IF(Foglio1!$F$14<>\"\",(G69*Foglio1!$C$14)/(G69+Foglio1!$F$14),NA()),NA())","v":{"$error":"#N/A"}},0.67,{"$f":"IF(Foglio1!$C$15<>\"\",IF(Foglio1!$F$15<>\"\",(I69*Foglio1!$C$15)/(I69+Foglio1!$F$15),NA()),NA())","v":{"$error":"#N/A"}}]
[0.68,{"$f":"IF(Foglio1!$C$11<>\"\",IF(Foglio1!$F$11<>\"\",(A70*Foglio1!$C$11)/(A70+Foglio1!$F$11),NA()),NA())","v":{"$error":"#N/A"}},0.68,{"$f":"IF(Foglio1!$C$12<>\"\",IF(Foglio1!$F$12<>\"\",(C70*Foglio1!$C$12)/(C70+Foglio1!$F$12),NA()),NA())","v":{"$error":"#N/A"}},0.68,{"$f":"IF(Foglio1!$C$13<>\"\",IF(Foglio1!$F$13<>\"\",(E70*Foglio1!$C$13)/(E70+Foglio1!$F$13),NA()),NA())","v":{"$error":"#N/A"}},0.68,{"$f":"IF(Foglio1!$C$14<>\"\",IF(Foglio1!$F$14<>\"\",(G70*Foglio1!$C$14)/(G70+Foglio1!$F$14),NA()),NA())","v":{"$error":"#N/A"}},0.68,{"$f":"IF(Foglio1!$C$15<>\"\",IF(Foglio1!$F$15<>\"\",(I70*Foglio1!$C$15)/(I70+Foglio1!$F$15),NA()),NA())","v":{"$error":"#N/A"}}]
[0.69,{"$f":"IF(Foglio1!$C$11<>\"\",IF(Foglio1!$F$11<>\"\",(A71*Foglio1!$C$11)/(A71+Foglio1!$F$11),NA()),NA())","v":{"$error":"#N/A"}},0.69,{"$f":"IF(Foglio1!$C$12<>\"\",IF(Foglio1!$F$12<>\"\",(C71*Foglio1!$C$12)/(C71+Foglio1!$F$12),NA()),NA())","v":{"$error":"#N/A"}},0.69,{"$f":"IF(Foglio1!$C$13<>\"\",IF(Foglio1!$F$13<>\"\",(E71*Foglio1!$C$13)/(E71+Foglio1!$F$13),NA()),NA())","v":{"$error":"#N/A"}},0.69,{"$f":"IF(Foglio1!$C$14<>\"\",IF(Foglio1!$F$14<>\"\",(G71*Foglio1!$C$14)/(G71+Foglio1!$F$14),NA()),NA())","v":{"$error":"#N/A"}},0.69,{"$f":"IF(Foglio1!$C$15<>\"\",IF(Foglio1!$F$15<>\"\",(I71*Foglio1!$C$15)/(I71+Foglio1!$F$15),NA()),NA())","v":{"$error":"#N/A"}}]
[0.7,{"$f":"IF(Foglio1!$C$11<>\"\",IF(Foglio1!$F$11<>\"\",(A72*Foglio1!$C$11)/(A72+Foglio1!$F$11),NA()),NA())","v":{"$error":"#N/A"}},0.7,{"$f":"IF(Foglio1!$C$12<>\"\",IF(Foglio1!$F$12<>\"\",(C72*Foglio1!$C$12)/(C72+Foglio1!$F$12),NA()),NA())","v":{"$error":"#N/A"}},0.7,{"$f":"IF(Foglio1!$C$13<>\"\",IF(Foglio1!$F$13<>\"\",(E72*Foglio1!$C$13)/(E72+Foglio1!$F$13),NA()),NA())","v":{"$error":"#N/A"}},0.7,{"$f":"IF(Foglio1!$C$14<>\"\",IF(Foglio1!$F$14<>\"\",(G72*Foglio1!$C$14)/(G72+Foglio1!$F$14),NA()),NA())","v":{"$error":"#N/A"}},0.7,{"$f":"IF(Foglio1!$C$15<>\"\",IF(Foglio1!$F$15<>\"\",(I72*Foglio1!$C$15)/(I72+Foglio1!$F$15),NA()),NA())","v":{"$error":"#N/A"}}]
[0.71,{"$f":"IF(Foglio1!$C$11<>\"\",IF(Foglio1!$F$11<>\"\",(A73*Foglio1!$C$11)/(A73+Foglio1!$F$11),NA()),NA())","v":{"$error":"#N/A"}},0.71,{"$f":"IF(Foglio1!$C$12<>\"\",IF(Foglio1!$F$12<>\"\",(C73*Foglio1!$C$12)/(C73+Foglio1!$F$12),NA()),NA())","v":{"$error":"#N/A"}},0.71,{"$f":"IF(Foglio1!$C$13<>\"\",IF(Foglio1!$F$13<>\"\",(E73*Foglio1!$C$13)/(E73+Foglio1!$F$13),NA()),NA())","v":{"$error":"#N/A"}},0.71,{"$f":"IF(Foglio1!$C$14<>\"\",IF(Foglio1!$F$14<>\"\",(G73*Foglio1!$C$14)/(G73+Foglio1!$F$14),NA()),NA())","v":{"$error":"#N/A"}},0.71,{"$f":"IF(Foglio1!$C$15<>\"\",IF(Foglio1!$F$15<>\"\",(I73*Foglio1!$C$15)/(I73+Foglio1!$F$15),NA()),NA())","v":{"$error":"#N/A"}}]
[0.72,{"$f":"IF(Foglio1!$C$11<>\"\",IF(Foglio1!$F$11<>\"\",(A74*Foglio1!$C$11)/(A74+Foglio1!$F$11),NA()),NA())","v":{"$error":"#N/A"}},0.72,{"$f":"IF(Foglio1!$C$12<>\"\",IF(Foglio1!$F$12<>\"\",(C74*Foglio1!$C$12)/(C74+Foglio1!$F$12),NA()),NA())","v":{"$error":"#N/A"}},0.72,{"$f":"IF(Foglio1!$C$13<>\"\",IF(Foglio1!$F$13<>\"\",(E74*Foglio1!$C$13)/(E74+Foglio1!$F$13),NA()),NA())","v":{"$error":"#N/A"}},0.72,{"$f":"IF(Foglio1!$C$14<>\"\",IF(Foglio1!$F$14<>\"\",(G74*Foglio1!$C$14)/(G74+Foglio1!$F$14),NA()),NA())","v":{"$error":"#N/A"}},0.72,{"$f":"IF(Foglio1!$C$15<>\"\",IF(Foglio1!$F$15<>\"\",(I74*Foglio1!$C$15)/(I74+Foglio1!$F$15),NA()),NA())","v":{"$error":"#N/A"}}]
[0.73,{"$f":"IF(Foglio1!$C$11<>\"\",IF(Foglio1!$F$11<>\"\",(A75*Foglio1!$C$11)/(A75+Foglio1!$F$11),NA()),NA())","v":{"$error":"#N/A"}},0.73,{"$f":"IF(Foglio1!$C$12<>\"\",IF(Foglio1!$F$12<>\"\",(C75*Foglio1!$C$12)/(C75+Foglio1!$F$12),NA()),NA())","v":{"$error":"#N/A"}},0.73,{"$f":"IF(Foglio1!$C$13<>\"\",IF(Foglio1!$F$13<>\"\",(E75*Foglio1!$C$13)/(E75+Foglio1!$F$13),NA()),NA())","v":{"$error":"#N/A"}},0.73,{"$f":"IF(Foglio1!$C$14<>\"\",IF(Foglio1!$F$14<>\"\",(G75*Foglio1!$C$14)/(G75+Foglio1!$F$14),NA()),NA())","v":{"$error":"#N/A"}},0.73,{"$f":"IF(Foglio1!$C$15<>\"\",IF(Foglio1!$F$15<>\"\",(I75*Foglio1!$C$15)/(I75+Foglio1!$F$15),NA()),NA())","v":{"$error":"#N/A"}}]
[0.74,{"$f":"IF(Foglio1!$C$11<>\"\",IF(Foglio1!$F$11<>\"\",(A76*Foglio1!$C$11)/(A76+Foglio1!$F$11),NA()),NA())","v":{"$error":"#N/A"}},0.74,{"$f":"IF(Foglio1!$C$12<>\"\",IF(Foglio1!$F$12<>\"\",(C76*Foglio1!$C$12)/(C76+Foglio1!$F$12),NA()),NA())","v":{"$error":"#N/A"}},0.74,{"$f":"IF(Foglio1!$C$13<>\"\",IF(Foglio1!$F$13<>\"\",(E76*Foglio1!$C$13)/(E76+Foglio1!$F$13),NA()),NA())","v":{"$error":"#N/A"}},0.74,{"$f":"IF(Foglio1!$C$14<>\"\",IF(Foglio1!$F$14<>\"\",(G76*Foglio1!$C$14)/(G76+Foglio1!$F$14),NA()),NA())","v":{"$error":"#N/A"}},0.74,{"$f":"IF(Foglio1!$C$15<>\"\",IF(Foglio1!$F$15<>\"\",(I76*Foglio1!$C$15)/(I76+Foglio1!$F$15),NA()),NA())","v":{"$error":"#N/A"}}]
[0.75,{"$f":"IF(Foglio1!$C$11<>\"\",IF(Foglio1!$F$11<>\"\",(A77*Foglio1!$C$11)/(A77+Foglio1!$F$11),NA()),NA())","v":{"$error":"#N/A"}},0.75,{"$f":"IF(Foglio1!$C$12<>\"\",IF(Foglio1!$F$12<>\"\",(C77*Foglio1!$C$12)/(C77+Foglio1!$F$12),NA()),NA())","v":{"$error":"#N/A"}},0.75,{"$f":"IF(Foglio1!$C$13<>\"\",IF(Foglio1!$F$13<>\"\",(E77*Foglio1!$C$13)/(E77+Foglio1!$F$13),NA()),NA())","v":{"$error":"#N/A"}},0.75,{"$f":"IF(Foglio1!$C$14<>\"\",IF(Foglio1!$F$14<>\"\",(G77*Foglio1!$C$14)/(G77+Foglio1!$F$14),NA()),NA())","v":{"$error":"#N/A"}},0.75,{"$f":"IF(Foglio1!$C$15<>\"\",IF(Foglio1!$F$15<>\"\",(I77*Foglio1!$C$15)/(I77+Foglio1!$F$15),NA()),NA())","v":{"$error":"#N/A"}}]
[0.76,{"$f":"IF(Foglio1!$C$11<>\"\",IF(Foglio1!$F$11<>\"\",(A78*Foglio1!$C$11)/(A78+Foglio1!$F$11),NA()),NA())","v":{"$error":"#N/A"}},0.76,{"$f":"IF(Foglio1!$C$12<>\"\",IF(Foglio1!$F$12<>\"\",(C78*Foglio1!$C$12)/(C78+Foglio1!$F$12),NA()),NA())","v":{"$error":"#N/A"}},0.76,{"$f":"IF(Foglio1!$C$13<>\"\",IF(Foglio1!$F$13<>\"\",(E78*Foglio1!$C$13)/(E78+Foglio1!$F$13),NA()),NA())","v":{"$error":"#N/A"}},0.76,{"$f":"IF(Foglio1!$C$14<>\"\",IF(Foglio1!$F$14<>\"\",(G78*Foglio1!$C$14)/(G78+Foglio1!$F$14),NA()),NA())","v":{"$error":"#N/A"}},0.76,{"$f":"IF(Foglio1!$C$15<>\"\",IF(Foglio1!$F$15<>\"\",(I78*Foglio1!$C$15)/(I78+Foglio1!$F$15),NA()),NA())","v":{"$error":"#N/A"}}]
[0.77,{"$f":"IF(Foglio1!$C$11<>\"\",IF(Foglio1!$F$11<>\"\",(A79*Foglio1!$C$11)/(A79+Foglio1!$F$11),NA()),NA())","v":{"$error":"#N/A"}},0.77,{"$f":"IF(Foglio1!$C$12<>\"\",IF(Foglio1!$F$12<>\"\",(C79*Foglio1!$C$12)/(C79+Foglio1!$F$12),NA()),NA())","v":{"$error":"#N/A"}},0.77,{"$f":"IF(Foglio1!$C$13<>\"\",IF(Foglio1!$F$13<>\"\",(E79*Foglio1!$C$13)/(E79+Foglio1!$F$13),NA()),NA())","v":{"$error":"#N/A"}},0.77,{"$f":"IF(Foglio1!$C$14<>\"\",IF(Foglio1!$F$14<>\"\",(G79*Foglio1!$C$14)/(G79+Foglio1!$F$14),NA()),NA())","v":{"$error":"#N/A"}},0.77,{"$f":"IF(Foglio1!$C$15<>\"\",IF(Foglio1!$F$15<>\"\",(I79*Foglio1!$C$15)/(I79+Foglio1!$F$15),NA()),NA())","v":{"$error":"#N/A"}}]
[0.78,{"$f":"IF(Foglio1!$C$11<>\"\",IF(Foglio1!$F$11<>\"\",(A80*Foglio1!$C$11)/(A80+Foglio1!$F$11),NA()),NA())","v":{"$error":"#N/A"}},0.78,{"$f":"IF(Foglio1!$C$12<>\"\",IF(Foglio1!$F$12<>\"\",(C80*Foglio1!$C$12)/(C80+Foglio1!$F$12),NA()),NA())","v":{"$error":"#N/A"}},0.78,{"$f":"IF(Foglio1!$C$13<>\"\",IF(Foglio1!$F$13<>\"\",(E80*Foglio1!$C$13)/(E80+Foglio1!$F$13),NA()),NA())","v":{"$error":"#N/A"}},0.78,{"$f":"IF(Foglio1!$C$14<>\"\",IF(Foglio1!$F$14<>\"\",(G80*Foglio1!$C$14)/(G80+Foglio1!$F$14),NA()),NA())","v":{"$error":"#N/A"}},0.78,{"$f":"IF(Foglio1!$C$15<>\"\",IF(Foglio1!$F$15<>\"\",(I80*Foglio1!$C$15)/(I80+Foglio1!$F$15),NA()),NA())","v":{"$error":"#N/A"}}]
[0.79,{"$f":"IF(Foglio1!$C$11<>\"\",IF(Foglio1!$F$11<>\"\",(A81*Foglio1!$C$11)/(A81+Foglio1!$F$11),NA()),NA())","v":{"$error":"#N/A"}},0.79,{"$f":"IF(Foglio1!$C$12<>\"\",IF(Foglio1!$F$12<>\"\",(C81*Foglio1!$C$12)/(C81+Foglio1!$F$12),NA()),NA())","v":{"$error":"#N/A"}},0.79,{"$f":"IF(Foglio1!$C$13<>\"\",IF(Foglio1!$F$13<>\"\",(E81*Foglio1!$C$13)/(E81+Foglio1!$F$13),NA()),NA())","v":{"$error":"#N/A"}},0.79,{"$f":"IF(Foglio1!$C$14<>\"\",IF(Foglio1!$F$14<>\"\",(G81*Foglio1!$C$14)/(G81+Foglio1!$F$14),NA()),NA())","v":{"$error":"#N/A"}},0.79,{"$f":"IF(Foglio1!$C$15<>\"\",IF(Foglio1!$F$15<>\"\",(I81*Foglio1!$C$15)/(I81+Foglio1!$F$15),NA()),NA())","v":{"$error":"#N/A"}}]
[0.8,{"$f":"IF(Foglio1!$C$11<>\"\",IF(Foglio1!$F$11<>\"\",(A82*Foglio1!$C$11)/(A82+Foglio1!$F$11),NA()),NA())","v":{"$error":"#N/A"}},0.8,{"$f":"IF(Foglio1!$C$12<>\"\",IF(Foglio1!$F$12<>\"\",(C82*Foglio1!$C$12)/(C82+Foglio1!$F$12),NA()),NA())","v":{"$error":"#N/A"}},0.8,{"$f":"IF(Foglio1!$C$13<>\"\",IF(Foglio1!$F$13<>\"\",(E82*Foglio1!$C$13)/(E82+Foglio1!$F$13),NA()),NA())","v":{"$error":"#N/A"}},0.8,{"$f":"IF(Foglio1!$C$14<>\"\",IF(Foglio1!$F$14<>\"\",(G82*Foglio1!$C$14)/(G82+Foglio1!$F$14),NA()),NA())","v":{"$error":"#N/A"}},0.8,{"$f":"IF(Foglio1!$C$15<>\"\",IF(Foglio1!$F$15<>\"\",(I82*Foglio1!$C$15)/(I82+Foglio1!$F$15),NA()),NA())","v":{"$error":"#N/A"}}]
[0.81,{"$f":"IF(Foglio1!$C$11<>\"\",IF(Foglio1!$F$11<>\"\",(A83*Foglio1!$C$11)/(A83+Foglio1!$F$11),NA()),NA())","v":{"$error":"#N/A"}},0.81,{"$f":"IF(Foglio1!$C$12<>\"\",IF(Foglio1!$F$12<>\"\",(C83*Foglio1!$C$12)/(C83+Foglio1!$F$12),NA()),NA())","v":{"$error":"#N/A"}},0.81,{"$f":"IF(Foglio1!$C$13<>\"\",IF(Foglio1!$F$13<>\"\",(E83*Foglio1!$C$13)/(E83+Foglio1!$F$13),NA()),NA())","v":{"$error":"#N/A"}},0.81,{"$f":"IF(Foglio1!$C$14<>\"\",IF(Foglio1!$F$14<>\"\",(G83*Foglio1!$C$14)/(G83+Foglio1!$F$14),NA()),NA())","v":{"$error":"#N/A"}},0.81,{"$f":"IF(Foglio1!$C$15<>\"\",IF(Foglio1!$F$15<>\"\",(I83*Foglio1!$C$15)/(I83+Foglio1!$F$15),NA()),NA())","v":{"$error":"#N/A"}}]
[0.82,{"$f":"IF(Foglio1!$C$11<>\"\",IF(Foglio1!$F$11<>\"\",(A84*Foglio1!$C$11)/(A84+Foglio1!$F$11),NA()),NA())","v":{"$error":"#N/A"}},0.82,{"$f":"IF(Foglio1!$C$12<>\"\",IF(Foglio1!$F$12<>\"\",(C84*Foglio1!$C$12)/(C84+Foglio1!$F$12),NA()),NA())","v":{"$error":"#N/A"}},0.82,{"$f":"IF(Foglio1!$C$13<>\"\",IF(Foglio1!$F$13<>\"\",(E84*Foglio1!$C$13)/(E84+Foglio1!$F$13),NA()),NA())","v":{"$error":"#N/A"}},0.82,{"$f":"IF(Foglio1!$C$14<>\"\",IF(Foglio1!$F$14<>\"\",(G84*Foglio1!$C$14)/(G84+Foglio1!$F$14),NA()),NA())","v":{"$error":"#N/A"}},0.82,{"$f":"IF(Foglio1!$C$15<>\"\",IF(Foglio1!$F$15<>\"\",(I84*Foglio1!$C$15)/(I84+Foglio1!$F$15),NA()),NA())","v":{"$error":"#N/A"}}]
[0.83,{"$f":"IF(Foglio1!$C$11<>\"\",IF(Foglio1!$F$11<>\"\",(A85*Foglio1!$C$11)/(A85+Foglio1!$F$11),NA()),NA())","v":{"$error":"#N/A"}},0.83,{"$f":"IF(Foglio1!$C$12<>\"\",IF(Foglio1!$F$12<>\"\",(C85*Foglio1!$C$12)/(C85+Foglio1!$F$12),NA()),NA())","v":{"$error":"#N/A"}},0.83,{"$f":"IF(Foglio1!$C$13<>\"\",IF(Foglio1!$F$13<>\"\",(E85*Foglio1!$C$13)/(E85+Foglio1!$F$13),NA()),NA())","v":{"$error":"#N/A"}},0.83,{"$f":"IF(Foglio1!$C$14<>\"\",IF(Foglio1!$F$14<>\"\",(G85*Foglio1!$C$14)/(G85+Foglio1!$F$14),NA()),NA())","v":{"$error":"#N/A"}},0.83,{"$f":"IF(Foglio1!$C$15<>\"\",IF(Foglio1!$F$15<>\"\",(I85*Foglio1!$C$15)/(I85+Foglio1!$F$15),NA()),NA())","v":{"$error":"#N/A"}}]
[0.84,{"$f":"IF(Foglio1!$C$11<>\"\",IF(Foglio1!$F$11<>\"\",(A86*Foglio1!$C$11)/(A86+Foglio1!$F$11),NA()),NA())","v":{"$error":"#N/A"}},0.84,{"$f":"IF(Foglio1!$C$12<>\"\",IF(Foglio1!$F$12<>\"\",(C86*Foglio1!$C$12)/(C86+Foglio1!$F$12),NA()),NA())","v":{"$error":"#N/A"}},0.84,{"$f":"IF(Foglio1!$C$13<>\"\",IF(Foglio1!$F$13<>\"\",(E86*Foglio1!$C$13)/(E86+Foglio1!$F$13),NA()),NA())","v":{"$error":"#N/A"}},0.84,{"$f":"IF(Foglio1!$C$14<>\"\",IF(Foglio1!$F$14<>\"\",(G86*Foglio1!$C$14)/(G86+Foglio1!$F$14),NA()),NA())","v":{"$error":"#N/A"}},0.84,{"$f":"IF(Foglio1!$C$15<>\"\",IF(Foglio1!$F$15<>\"\",(I86*Foglio1!$C$15)/(I86+Foglio1!$F$15),NA()),NA())","v":{"$error":"#N/A"}}]
[0.85,{"$f":"IF(Foglio1!$C$11<>\"\",IF(Foglio1!$F$11<>\"\",(A87*Foglio1!$C$11)/(A87+Foglio1!$F$11),NA()),NA())","v":{"$error":"#N/A"}},0.85,{"$f":"IF(Foglio1!$C$12<>\"\",IF(Foglio1!$F$12<>\"\",(C87*Foglio1!$C$12)/(C87+Foglio1!$F$12),NA()),NA())","v":{"$error":"#N/A"}},0.85,{"$f":"IF(Foglio1!$C$13<>\"\",IF(Foglio1!$F$13<>\"\",(E87*Foglio1!$C$13)/(E87+Foglio1!$F$13),NA()),NA())","v":{"$error":"#N/A"}},0.85,{"$f":"IF(Foglio1!$C$14<>\"\",IF(Foglio1!$F$14<>\"\",(G87*Foglio1!$C$14)/(G87+Foglio1!$F$14),NA()),NA())","v":{"$error":"#N/A"}},0.85,{"$f":"IF(Foglio1!$C$15<>\"\",IF(Foglio1!$F$15<>\"\",(I87*Foglio1!$C$15)/(I87+Foglio1!$F$15),NA()),NA())","v":{"$error":"#N/A"}}]
[0.86,{"$f":"IF(Foglio1!$C$11<>\"\",IF(Foglio1!$F$11<>\"\",(A88*Foglio1!$C$11)/(A88+Foglio1!$F$11),NA()),NA())","v":{"$error":"#N/A"}},0.86,{"$f":"IF(Foglio1!$C$12<>\"\",IF(Foglio1!$F$12<>\"\",(C88*Foglio1!$C$12)/(C88+Foglio1!$F$12),NA()),NA())","v":{"$error":"#N/A"}},0.86,{"$f":"IF(Foglio1!$C$13<>\"\",IF(Foglio1!$F$13<>\"\",(E88*Foglio1!$C$13)/(E88+Foglio1!$F$13),NA()),NA())","v":{"$error":"#N/A"}},0.86,{"$f":"IF(Foglio1!$C$14<>\"\",IF(Foglio1!$F$14<>\"\",(G88*Foglio1!$C$14)/(G88+Foglio1!$F$14),NA()),NA())","v":{"$error":"#N/A"}},0.86,{"$f":"IF(Foglio1!$C$15<>\"\",IF(Foglio1!$F$15<>\"\",(I88*Foglio1!$C$15)/(I88+Foglio1!$F$15),NA()),NA())","v":{"$error":"#N/A"}}]
[0.87,{"$f":"IF(Foglio1!$C$11<>\"\",IF(Foglio1!$F$11<>\"\",(A89*Foglio1!$C$11)/(A89+Foglio1!$F$11),NA()),NA())","v":{"$error":"#N/A"}},0.87,{"$f":"IF(Foglio1!$C$12<>\"\",IF(Foglio1!$F$12<>\"\",(C89*Foglio1!$C$12)/(C89+Foglio1!$F$12),NA()),NA())","v":{"$error":"#N/A"}},0.87,{"$f":"IF(Foglio1!$C$13<>\"\",IF(Foglio1!$F$13<>\"\",(E89*Foglio1!$C$13)/(E89+Foglio1!$F$13),NA()),NA())","v":{"$error":"#N/A"}},0.87,{"$f":"IF(Foglio1!$C$14<>\"\",IF(Foglio1!$F$14<>\"\",(G89*Foglio1!$C$14)/(G89+Foglio1!$F$14),NA()),NA())","v":{"$error":"#N/A"}},0.87,{"$f":"IF(Foglio1!$C$15<>\"\",IF(Foglio1!$F$15<>\"\",(I89*Foglio1!$C$15)/(I89+Foglio1!$F$15),NA()),NA())","v":{"$error":"#N/A"}}]
[0.88,{"$f":"IF(Foglio1!$C$11<>\"\",IF(Foglio1!$F$11<>\"\",(A90*Foglio1!$C$11)/(A90+Foglio1!$F$11),NA()),NA())","v":{"$error":"#N/A"}},0.88,{"$f":"IF(Foglio1!$C$12<>\"\",IF(Foglio1!$F$12<>\"\",(C90*Foglio1!$C$12)/(C90+Foglio1!$F$12),NA()),NA())","v":{"$error":"#N/A"}},0.88,{"$f":"IF(Foglio1!$C$13<>\"\",IF(Foglio1!$F$13<>\"\",(E90*Foglio1!$C$13)/(E90+Foglio1!$F$13),NA()),NA())","v":{"$error":"#N/A"}},0.88,{"$f":"IF(Foglio1!$C$14<>\"\",IF(Foglio1!$F$14<>\"\",(G90*Foglio1!$C$14)/(G90+Foglio1!$F$14),NA()),NA())","v":{"$error":"#N/A"}},0.88,{"$f":"IF(Foglio1!$C$15<>\"\",IF(Foglio1!$F$15<>\"\",(I90*Foglio1!$C$15)/(I90+Foglio1!$F$15),NA()),NA())","v":{"$error":"#N/A"}}]
[0.89,{"$f":"IF(Foglio1!$C$11<>\"\",IF(Foglio1!$F$11<>\"\",(A91*Foglio1!$C$11)/(A91+Foglio1!$F$11),NA()),NA())","v":{"$error":"#N/A"}},0.89,{"$f":"IF(Foglio1!$C$12<>\"\",IF(Foglio1!$F$12<>\"\",(C91*Foglio1!$C$12)/(C91+Foglio1!$F$12),NA()),NA())","v":{"$error":"#N/A"}},0.89,{"$f":"IF(Foglio1!$C$13<>\"\",IF(Foglio1!$F$13<>\"\",(E91*Foglio1!$C$13)/(E91+Foglio1!$F$13),NA()),NA())","v":{"$error":"#N/A"}},0.89,{"$f":"IF(Foglio1!$C$14<>\"\",IF(Foglio1!$F$14<>\"\",(G91*Foglio1!$C$14)/(G91+Foglio1!$F$14),NA()),NA())","v":{"$error":"#N/A"}},0.89,{"$f":"IF(Foglio1!$C$15<>\"\",IF(Foglio1!$F$15<>\"\",(I91*Foglio1!$C$15)/(I91+Foglio1!$F$15),NA()),NA())","v":{"$error":"#N/A"}}]
[0.9,{"$f":"IF(Foglio1!$C$11<>\"\",IF(Foglio1!$F$11<>\"\",(A92*Foglio1!$C$11)/(A92+Foglio1!$F$11),NA()),NA())","v":{"$error":"#N/A"}},0.9,{"$f":"IF(Foglio1!$C$12<>\"\",IF(Foglio1!$F$12<>\"\",(C92*Foglio1!$C$12)/(C92+Foglio1!$F$12),NA()),NA())","v":{"$error":"#N/A"}},0.9,{"$f":"IF(Foglio1!$C$13<>\"\",IF(Foglio1!$F$13<>\"\",(E92*Foglio1!$C$13)/(E92+Foglio1!$F$13),NA()),NA())","v":{"$error":"#N/A"}},0.9,{"$f":"IF(Foglio1!$C$14<>\"\",IF(Foglio1!$F$14<>\"\",(G92*Foglio1!$C$14)/(G92+Foglio1!$F$14),NA()),NA())","v":{"$error":"#N/A"}},0.9,{"$f":"IF(Foglio1!$C$15<>\"\",IF(Foglio1!$F$15<>\"\",(I92*Foglio1!$C$15)/(I92+Foglio1!$F$15),NA()),NA())","v":{"$error":"#N/A"}}]
[0.91,{"$f":"IF(Foglio1!$C$11<>\"\",IF(Foglio1!$F$11<>\"\",(A93*Foglio1!$C$11)/(A93+Foglio1!$F$11),NA()),NA())","v":{"$error":"#N/A"}},0.91,{"$f":"IF(Foglio1!$C$12<>\"\",IF(Foglio1!$F$12<>\"\",(C93*Foglio1!$C$12)/(C93+Foglio1!$F$12),NA()),NA())","v":{"$error":"#N/A"}},0.91,{"$f":"IF(Foglio1!$C$13<>\"\",IF(Foglio1!$F$13<>\"\",(E93*Foglio1!$C$13)/(E93+Foglio1!$F$13),NA()),NA())","v":{"$error":"#N/A"}},0.91,{"$f":"IF(Foglio1!$C$14<>\"\",IF(Foglio1!$F$14<>\"\",(G93*Foglio1!$C$14)/(G93+Foglio1!$F$14),NA()),NA())","v":{"$error":"#N/A"}},0.91,{"$f":"IF(Foglio1!$C$15<>\"\",IF(Foglio1!$F$15<>\"\",(I93*Foglio1!$C$15)/(I93+Foglio1!$F$15),NA()),NA())","v":{"$error":"#N/A"}}]
[0.92,{"$f":"IF(Foglio1!$C$11<>\"\",IF(Foglio1!$F$11<>\"\",(A94*Foglio1!$C$11)/(A94+Foglio1!$F$11),NA()),NA())","v":{"$error":"#N/A"}},0.92,{"$f":"IF(Foglio1!$C$12<>\"\",IF(Foglio1!$F$12<>\"\",(C94*Foglio1!$C$12)/(C94+Foglio1!$F$12),NA()),NA())","v":{"$error":"#N/A"}},0.92,{"$f":"IF(Foglio1!$C$13<>\"\",IF(Foglio1!$F$13<>\"\",(E94*Foglio1!$C$13)/(E94+Foglio1!$F$13),NA()),NA())","v":{"$error":"#N/A"}},0.92,{"$f":"IF(Foglio1!$C$14<>\"\",IF(Foglio1!$F$14<>\"\",(G94*Foglio1!$C$14)/(G94+Foglio1!$F$14),NA()),NA())","v":{"$error":"#N/A"}},0.92,{"$f":"IF(Foglio1!$C$15<>\"\",IF(Foglio1!$F$15<>\"\",(I94*Foglio1!$C$15)/(I94+Foglio1!$F$15),NA()),NA())","v":{"$error":"#N/A"}}]
[0.93,{"$f":"IF(Foglio1!$C$11<>\"\",IF(Foglio1!$F$11<>\"\",(A95*Foglio1!$C$11)/(A95+Foglio1!$F$11),NA()),NA())","v":{"$error":"#N/A"}},0.93,{"$f":"IF(Foglio1!$C$12<>\"\",IF(Foglio1!$F$12<>\"\",(C95*Foglio1!$C$12)/(C95+Foglio1!$F$12),NA()),NA())","v":{"$error":"#N/A"}},0.93,{"$f":"IF(Foglio1!$C$13<>\"\",IF(Foglio1!$F$13<>\"\",(E95*Foglio1!$C$13)/(E95+Foglio1!$F$13),NA()),NA())","v":{"$error":"#N/A"}},0.93,{"$f":"IF(Foglio1!$C$14<>\"\",IF(Foglio1!$F$14<>\"\",(G95*Foglio1!$C$14)/(G95+Foglio1!$F$14),NA()),NA())","v":{"$error":"#N/A"}},0.93,{"$f":"IF(Foglio1!$C$15<>\"\",IF(Foglio1!$F$15<>\"\",(I95*Foglio1!$C$15)/(I95+Foglio1!$F$15),NA()),NA())","v":{"$error":"#N/A"}}]
[0.94,{"$f":"IF(Foglio1!$C$11<>\"\",IF(Foglio1!$F$11<>\"\",(A96*Foglio1!$C$11)/(A96+Foglio1!$F$11),NA()),NA())","v":{"$error":"#N/A"}},0.94,{"$f":"IF(Foglio1!$C$12<>\"\",IF(Foglio1!$F$12<>\"\",(C96*Foglio1!$C$12)/(C96+Foglio1!$F$12),NA()),NA())","v":{"$error":"#N/A"}},0.94,{"$f":"IF(Foglio1!$C$13<>\"\",IF(Foglio1!$F$13<>\"\",(E96*Foglio1!$C$13)/(E96+Foglio1!$F$13),NA()),NA())","v":{"$error":"#N/A"}},0.94,{"$f":"IF(Foglio1!$C$14<>\"\",IF(Foglio1!$F$14<>\"\",(G96*Foglio1!$C$14)/(G96+Foglio1!$F$14),NA()),NA())","v":{"$error":"#N/A"}},0.94,{"$f":"IF(Foglio1!$C$15<>\"\",IF(Foglio1!$F$15<>\"\",(I96*Foglio1!$C$15)/(I96+Foglio1!$F$15),NA()),NA())","v":{"$error":"#N/A"}}]
[0.95,{"$f":"IF(Foglio1!$C$11<>\"\",IF(Foglio1!$F$11<>\"\",(A97*Foglio1!$C$11)/(A97+Foglio1!$F$11),NA()),NA())","v":{"$error":"#N/A"}},0.95,{"$f":"IF(Foglio1!$C$12<>\"\",IF(Foglio1!$F$12<>\"\",(C97*Foglio1!$C$12)/(C97+Foglio1!$F$12),NA()),NA())","v":{"$error":"#N/A"}},0.95,{"$f":"IF(Foglio1!$C$13<>\"\",IF(Foglio1!$F$13<>\"\",(E97*Foglio1!$C$13)/(E97+Foglio1!$F$13),NA()),NA())","v":{"$error":"#N/A"}},0.95,{"$f":"IF(Foglio1!$C$14<>\"\",IF(Foglio1!$F$14<>\"\",(G97*Foglio1!$C$14)/(G97+Foglio1!$F$14),NA()),NA())","v":{"$error":"#N/A"}},0.95,{"$f":"IF(Foglio1!$C$15<>\"\",IF(Foglio1!$F$15<>\"\",(I97*Foglio1!$C$15)/(I97+Foglio1!$F$15),NA()),NA())","v":{"$error":"#N/A"}}]
[0.96,{"$f":"IF(Foglio1!$C$11<>\"\",IF(Foglio1!$F$11<>\"\",(A98*Foglio1!$C$11)/(A98+Foglio1!$F$11),NA()),NA())","v":{"$error":"#N/A"}},0.96,{"$f":"IF(Foglio1!$C$12<>\"\",IF(Foglio1!$F$12<>\"\",(C98*Foglio1!$C$12)/(C98+Foglio1!$F$12),NA()),NA())","v":{"$error":"#N/A"}},0.96,{"$f":"IF(Foglio1!$C$13<>\"\",IF(Foglio1!$F$13<>\"\",(E98*Foglio1!$C$13)/(E98+Foglio1!$F$13),NA()),NA())","v":{"$error":"#N/A"}},0.96,{"$f":"IF(Foglio1!$C$14<>\"\",IF(Foglio1!$F$14<>\"\",(G98*Foglio1!$C$14)/(G98+Foglio1!$F$14),NA()),NA())","v":{"$error":"#N/A"}},0.96,{"$f":"IF(Foglio1!$C$15<>\"\",IF(Foglio1!$F$15<>\"\",(I98*Foglio1!$C$15)/(I98+Foglio1!$F$15),NA()),NA())","v":{"$error":"#N/A"}}]
[0.97,{"$f":"IF(Foglio1!$C$11<>\"\",IF(Foglio1!$F$11<>\"\",(A99*Foglio1!$C$11)/(A99+Foglio1!$F$11),NA()),NA())","v":{"$error":"#N/A"}},0.97,{"$f":"IF(Foglio1!$C$12<>\"\",IF(Foglio1!$F$12<>\"\",(C99*Foglio1!$C$12)/(C99+Foglio1!$F$12),NA()),NA())","v":{"$error":"#N/A"}},0.97,{"$f":"IF(Foglio1!$C$13<>\"\",IF(Foglio1!$F$13<>\"\",(E99*Foglio1!$C$13)/(E99+Foglio1!$F$13),NA()),NA())","v":{"$error":"#N/A"}},0.97,{"$f":"IF(Foglio1!$C$14<>\"\",IF(Foglio1!$F$14<>\"\",(G99*Foglio1!$C$14)/(G99+Foglio1!$F$14),NA()),NA())","v":{"$error":"#N/A"}},0.97,{"$f":"IF(Foglio1!$C$15<>\"\",IF(Foglio1!$F$15<>\"\",(I99*Foglio1!$C$15)/(I99+Foglio1!$F$15),NA()),NA())","v":{"$error":"#N/A"}}]
[0.98,{"$f":"IF(Foglio1!$C$11<>\"\",IF(Foglio1!$F$11<>\"\",(A100*Foglio1!$C$11)/(A100+Foglio1!$F$11),NA()),NA())","v":{"$error":"#N/A"}},0.98,{"$f":"IF(Foglio1!$C$12<>\"\",IF(Foglio1!$F$12<>\"\",(C100*Foglio1!$C$12)/(C100+Foglio1!$F$12),NA()),NA())","v":{"$error":"#N/A"}},0.98,{"$f":"IF(Foglio1!$C$13<>\"\",IF(Foglio1!$F$13<>\"\",(E100*Foglio1!$C$13)/(E100+Foglio1!$F$13),NA()),NA())","v":{"$error":"#N/A"}},0.98,{"$f":"IF(Foglio1!$C$14<>\"\",IF(Foglio1!$F$14<>\"\",(G100*Foglio1!$C$14)/(G100+Foglio1!$F$14),NA()),NA())","v":{"$error":"#N/A"}},0.98,{"$f":"IF(Foglio1!$C$15<>\"\",IF(Foglio1!$F$15<>\"\",(I100*Foglio1!$C$15)/(I100+Foglio1!$F$15),NA()),NA())","v":{"$error":"#N/A"}}]
[0.99,{"$f":"IF(Foglio1!$C$11<>\"\",IF(Foglio1!$F$11<>\"\",(A101*Foglio1!$C$11)/(A101+Foglio1!$F$11),NA()),NA())","v":{"$error":"#N/A"}},0.99,{"$f":"IF(Foglio1!$C$12<>\"\",IF(Foglio1!$F$12<>\"\",(C101*Foglio1!$C$12)/(C101+Foglio1!$F$12),NA()),NA())","v":{"$error":"#N/A"}},0.99,{"$f":"IF(Foglio1!$C$13<>\"\",IF(Foglio1!$F$13<>\"\",(E101*Foglio1!$C$13)/(E101+Foglio1!$F$13),NA()),NA())","v":{"$error":"#N/A"}},0.99,{"$f":"IF(Foglio1!$C$14<>\"\",IF(Foglio1!$F$14<>\"\",(G101*Foglio1!$C$14)/(G101+Foglio1!$F$14),NA()),NA())","v":{"$error":"#N/A"}},0.99,{"$f":"IF(Foglio1!$C$15<>\"\",IF(Foglio1!$F$15<>\"\",(I101*Foglio1!$C$15)/(I101+Foglio1!$F$15),NA()),NA())","v":{"$error":"#N/A"}}]
[1,{"$f":"IF(Foglio1!$C$11<>\"\",IF(Foglio1!$F$11<>\"\",(A102*Foglio1!$C$11)/(A102+Foglio1!$F$11),NA()),NA())","v":{"$error":"#N/A"}},1,{"$f":"IF(Foglio1!$C$12<>\"\",IF(Foglio1!$F$12<>\"\",(C102*Foglio1!$C$12)/(C102+Foglio1!$F$12),NA()),NA())","v":{"$error":"#N/A"}},1,{"$f":"IF(Foglio1!$C$13<>\"\",IF(Foglio1!$F$13<>\"\",(E102*Foglio1!$C$13)/(E102+Foglio1!$F$13),NA()),NA())","v":{"$error":"#N/A"}},1,{"$f":"IF(Foglio1!$C$14<>\"\",IF(Foglio1!$F$14<>\"\",(G102*Foglio1!$C$14)/(G102+Foglio1!$F$14),NA()),NA())","v":{"$error":"#N/A"}},1,{"$f":"IF(Foglio1!$C$15<>\"\",IF(Foglio1!$F$15<>\"\",(I102*Foglio1!$C$15)/(I102+Foglio1!$F$15),NA()),NA())","v":{"$error":"#N/A"}}]