{"text_format":"1","workbook":"xlsx","n_sheets":2,"sheets":["Foglio1","Foglio2"],"not_rendered":{"charts":1,"images":3,"macros":1,"external_links":0,"defined_names":0,"comments":0,"pivot_tables":0},"unopened":[],"bounds":{"document_bytes":16777216,"sheet_cells":100000,"rows_first":2000,"rows_last":500,"rows_between":2000,"halvings":0,"cell_chars":16384,"cell_head_chars":4096},"cells_cut":0,"cells_raw":0,"read":"whole","date_system":"1900"}

{"sheet":"Foglio1","index":0,"n_rows":16,"n_cols":14,"rows_kept":16,"cut":false,"hidden":false,"merged":[[3,0,3,22],[5,0,5,22],[7,0,7,22]]}
[]
["L’inibizione competitiva"]
[]
["L’equazione per l’inibizione competitiva è simile all’equazione di Michaelis-Menten, tranne che per l’introduzione del nuovo termine α, così definito:"]
[null,null,null,null,null,null,null,null,null,null,"dove"]
["Quando è presente un inibitore competitivo, il termine α è maggiore di 1. \nL’equazione di Michaelis-Menten risulta così modificata:\n"]
[]
["Il prodotto αKm, corrispondente alla Km osservata in presenza dell’inibitore, viene spesso detto «Km apparente».\nUtilizzate questo foglio di calcolo per visualizzare il grafico. Osservate come cambia quando α viene aumentato di un fattore 2 o 4. Cambiate i valori dei diversi parametri fino a quando non avete preso confidenza con l’equazione e capito come α influenza la forma del grafico.\nPotete modificare il dominio della funzione (cioè la [S]) inserendo i valori nelle caselle in alto e cliccando sul tasto Cambia l’asse X. Per visualizzare correttamente il grafico, scegliete valori compresi tra 0 e 1."]
[]
[null,null,null,null,null,null,null,null,null,null,"[S] =  da",0,"a",1]
[]
["Vmax1","=",null,"Km1","=",null,"α1","="]
["Vmax2","=",null,"Km2","=",null,"α2","="]
["Vmax3","=",null,"Km3","=",null,"α3","="]
["Vmax4","=",null,"Km4","=",null,"α4","="]
["Vmax5","=",null,"Km5","=",null,"α5","="]

{"sheet":"Foglio2","index":1,"n_rows":102,"n_cols":11,"rows_kept":102,"cut":false,"hidden":true,"merged":[]}
["[S]","αKm","Vmax","[S]","Vmax","[S]","Vmax","[S]","Vmax","[S]","Vmax"]
[0,{"$f":" IF(Foglio1!$F$12 <> \"\", IF(Foglio1!$I$12 <> \"\", Foglio1!$F$12*Foglio1!$I$12, NA()), NA())","v":{"$error":"#N/A"}},{"$f":" IF(Foglio1!$C$12 <> \"\", (A2*Foglio1!$C$12) / (A2+B2), NA())","v":{"$error":"#N/A"}},0,{"$f":" IF(Foglio1!$F$13 <> \"\", IF( Foglio1!$C$13 <> \"\", IF(Foglio1!$I$13 <>\"\", (D2*Foglio1!$C$13) / (D2+Foglio1!$F$13*Foglio1!$I$13), NA()), NA()), NA())","v":{"$error":"#N/A"}},0,{"$f":" IF(Foglio1!$F$14 <> \"\", IF( Foglio1!$C$14 <> \"\", IF(Foglio1!$I$14 <>\"\", (F2*Foglio1!$C$14) / (F2+Foglio1!$F$14*Foglio1!$I$14), NA()), NA()), NA())","v":{"$error":"#N/A"}},0,{"$f":" IF(Foglio1!$F$15 <> \"\", IF( Foglio1!$C$15 <> \"\", IF(Foglio1!$I$15 <>\"\", (H2*Foglio1!$C$15) / (H2+Foglio1!$F$15*Foglio1!$I$15), NA()), NA()), NA())","v":{"$error":"#N/A"}},0,{"$f":" IF(Foglio1!$F$16 <> \"\", IF( Foglio1!$C$16 <> \"\", IF(Foglio1!$I$16 <>\"\", (J2*Foglio1!$C$16) / (J2+Foglio1!$F$16*Foglio1!$I$16), NA()), NA()), NA())","v":{"$error":"#N/A"}}]
[0.01,{"$f":" IF(Foglio1!$F$12 <> \"\", IF(Foglio1!$I$12 <> \"\", Foglio1!$F$12*Foglio1!$I$12, NA()), NA())","v":{"$error":"#N/A"}},{"$f":" IF(Foglio1!$C$12 <> \"\", (A3*Foglio1!$C$12) / (A3+B3), NA())","v":{"$error":"#N/A"}},0.01,{"$f":" IF(Foglio1!$F$13 <> \"\", IF( Foglio1!$C$13 <> \"\", IF(Foglio1!$I$13 <>\"\", (D3*Foglio1!$C$13) / (D3+Foglio1!$F$13*Foglio1!$I$13), NA()), NA()), NA())","v":{"$error":"#N/A"}},0.01,{"$f":" IF(Foglio1!$F$14 <> \"\", IF( Foglio1!$C$14 <> \"\", IF(Foglio1!$I$14 <>\"\", (F3*Foglio1!$C$14) / (F3+Foglio1!$F$14*Foglio1!$I$14), NA()), NA()), NA())","v":{"$error":"#N/A"}},0.01,{"$f":" IF(Foglio1!$F$15 <> \"\", IF( Foglio1!$C$15 <> \"\", IF(Foglio1!$I$15 <>\"\", (H3*Foglio1!$C$15) / (H3+Foglio1!$F$15*Foglio1!$I$15), NA()), NA()), NA())","v":{"$error":"#N/A"}},0.01,{"$f":" IF(Foglio1!$F$16 <> \"\", IF( Foglio1!$C$16 <> \"\", IF(Foglio1!$I$16 <>\"\", (J3*Foglio1!$C$16) / (J3+Foglio1!$F$16*Foglio1!$I$16), NA()), NA()), NA())","v":{"$error":"#N/A"}}]
[0.02,{"$f":" IF(Foglio1!$F$12 <> \"\", IF(Foglio1!$I$12 <> \"\", Foglio1!$F$12*Foglio1!$I$12, NA()), NA())","v":{"$error":"#N/A"}},{"$f":" IF(Foglio1!$C$12 <> \"\", (A4*Foglio1!$C$12) / (A4+B4), NA())","v":{"$error":"#N/A"}},0.02,{"$f":" IF(Foglio1!$F$13 <> \"\", IF( Foglio1!$C$13 <> \"\", IF(Foglio1!$I$13 <>\"\", (D4*Foglio1!$C$13) / (D4+Foglio1!$F$13*Foglio1!$I$13), NA()), NA()), NA())","v":{"$error":"#N/A"}},0.02,{"$f":" IF(Foglio1!$F$14 <> \"\", IF( Foglio1!$C$14 <> \"\", IF(Foglio1!$I$14 <>\"\", (F4*Foglio1!$C$14) / (F4+Foglio1!$F$14*Foglio1!$I$14), NA()), NA()), NA())","v":{"$error":"#N/A"}},0.02,{"$f":" IF(Foglio1!$F$15 <> \"\", IF( Foglio1!$C$15 <> \"\", IF(Foglio1!$I$15 <>\"\", (H4*Foglio1!$C$15) / (H4+Foglio1!$F$15*Foglio1!$I$15), NA()), NA()), NA())","v":{"$error":"#N/A"}},0.02,{"$f":" IF(Foglio1!$F$16 <> \"\", IF( Foglio1!$C$16 <> \"\", IF(Foglio1!$I$16 <>\"\", (J4*Foglio1!$C$16) / (J4+Foglio1!$F$16*Foglio1!$I$16), NA()), NA()), NA())","v":{"$error":"#N/A"}}]
[0.03,{"$f":" IF(Foglio1!$F$12 <> \"\", IF(Foglio1!$I$12 <> \"\", Foglio1!$F$12*Foglio1!$I$12, NA()), NA())","v":{"$error":"#N/A"}},{"$f":" IF(Foglio1!$C$12 <> \"\", (A5*Foglio1!$C$12) / (A5+B5), NA())","v":{"$error":"#N/A"}},0.03,{"$f":" IF(Foglio1!$F$13 <> \"\", IF( Foglio1!$C$13 <> \"\", IF(Foglio1!$I$13 <>\"\", (D5*Foglio1!$C$13) / (D5+Foglio1!$F$13*Foglio1!$I$13), NA()), NA()), NA())","v":{"$error":"#N/A"}},0.03,{"$f":" IF(Foglio1!$F$14 <> \"\", IF( Foglio1!$C$14 <> \"\", IF(Foglio1!$I$14 <>\"\", (F5*Foglio1!$C$14) / (F5+Foglio1!$F$14*Foglio1!$I$14), NA()), NA()), NA())","v":{"$error":"#N/A"}},0.03,{"$f":" IF(Foglio1!$F$15 <> \"\", IF( Foglio1!$C$15 <> \"\", IF(Foglio1!$I$15 <>\"\", (H5*Foglio1!$C$15) / (H5+Foglio1!$F$15*Foglio1!$I$15), NA()), NA()), NA())","v":{"$error":"#N/A"}},0.03,{"$f":" IF(Foglio1!$F$16 <> \"\", IF( Foglio1!$C$16 <> \"\", IF(Foglio1!$I$16 <>\"\", (J5*Foglio1!$C$16) / (J5+Foglio1!$F$16*Foglio1!$I$16), NA()), NA()), NA())","v":{"$error":"#N/A"}}]
[0.04,{"$f":" IF(Foglio1!$F$12 <> \"\", IF(Foglio1!$I$12 <> \"\", Foglio1!$F$12*Foglio1!$I$12, NA()), NA())","v":{"$error":"#N/A"}},{"$f":" IF(Foglio1!$C$12 <> \"\", (A6*Foglio1!$C$12) / (A6+B6), NA())","v":{"$error":"#N/A"}},0.04,{"$f":" IF(Foglio1!$F$13 <> \"\", IF( Foglio1!$C$13 <> \"\", IF(Foglio1!$I$13 <>\"\", (D6*Foglio1!$C$13) / (D6+Foglio1!$F$13*Foglio1!$I$13), NA()), NA()), NA())","v":{"$error":"#N/A"}},0.04,{"$f":" IF(Foglio1!$F$14 <> \"\", IF( Foglio1!$C$14 <> \"\", IF(Foglio1!$I$14 <>\"\", (F6*Foglio1!$C$14) / (F6+Foglio1!$F$14*Foglio1!$I$14), NA()), NA()), NA())","v":{"$error":"#N/A"}},0.04,{"$f":" IF(Foglio1!$F$15 <> \"\", IF( Foglio1!$C$15 <> \"\", IF(Foglio1!$I$15 <>\"\", (H6*Foglio1!$C$15) / (H6+Foglio1!$F$15*Foglio1!$I$15), NA()), NA()), NA())","v":{"$error":"#N/A"}},0.04,{"$f":" IF(Foglio1!$F$16 <> \"\", IF( Foglio1!$C$16 <> \"\", IF(Foglio1!$I$16 <>\"\", (J6*Foglio1!$C$16) / (J6+Foglio1!$F$16*Foglio1!$I$16), NA()), NA()), NA())","v":{"$error":"#N/A"}}]
[0.05,{"$f":" IF(Foglio1!$F$12 <> \"\", IF(Foglio1!$I$12 <> \"\", Foglio1!$F$12*Foglio1!$I$12, NA()), NA())","v":{"$error":"#N/A"}},{"$f":" IF(Foglio1!$C$12 <> \"\", (A7*Foglio1!$C$12) / (A7+B7), NA())","v":{"$error":"#N/A"}},0.05,{"$f":" IF(Foglio1!$F$13 <> \"\", IF( Foglio1!$C$13 <> \"\", IF(Foglio1!$I$13 <>\"\", (D7*Foglio1!$C$13) / (D7+Foglio1!$F$13*Foglio1!$I$13), NA()), NA()), NA())","v":{"$error":"#N/A"}},0.05,{"$f":" IF(Foglio1!$F$14 <> \"\", IF( Foglio1!$C$14 <> \"\", IF(Foglio1!$I$14 <>\"\", (F7*Foglio1!$C$14) / (F7+Foglio1!$F$14*Foglio1!$I$14), NA()), NA()), NA())","v":{"$error":"#N/A"}},0.05,{"$f":" IF(Foglio1!$F$15 <> \"\", IF( Foglio1!$C$15 <> \"\", IF(Foglio1!$I$15 <>\"\", (H7*Foglio1!$C$15) / (H7+Foglio1!$F$15*Foglio1!$I$15), NA()), NA()), NA())","v":{"$error":"#N/A"}},0.05,{"$f":" IF(Foglio1!$F$16 <> \"\", IF( Foglio1!$C$16 <> \"\", IF(Foglio1!$I$16 <>\"\", (J7*Foglio1!$C$16) / (J7+Foglio1!$F$16*Foglio1!$I$16), NA()), NA()), NA())","v":{"$error":"#N/A"}}]
[0.06,{"$f":" IF(Foglio1!$F$12 <> \"\", IF(Foglio1!$I$12 <> \"\", Foglio1!$F$12*Foglio1!$I$12, NA()), NA())","v":{"$error":"#N/A"}},{"$f":" IF(Foglio1!$C$12 <> \"\", (A8*Foglio1!$C$12) / (A8+B8), NA())","v":{"$error":"#N/A"}},0.06,{"$f":" IF(Foglio1!$F$13 <> \"\", IF( Foglio1!$C$13 <> \"\", IF(Foglio1!$I$13 <>\"\", (D8*Foglio1!$C$13) / (D8+Foglio1!$F$13*Foglio1!$I$13), NA()), NA()), NA())","v":{"$error":"#N/A"}},0.06,{"$f":" IF(Foglio1!$F$14 <> \"\", IF( Foglio1!$C$14 <> \"\", IF(Foglio1!$I$14 <>\"\", (F8*Foglio1!$C$14) / (F8+Foglio1!$F$14*Foglio1!$I$14), NA()), NA()), NA())","v":{"$error":"#N/A"}},0.06,{"$f":" IF(Foglio1!$F$15 <> \"\", IF( Foglio1!$C$15 <> \"\", IF(Foglio1!$I$15 <>\"\", (H8*Foglio1!$C$15) / (H8+Foglio1!$F$15*Foglio1!$I$15), NA()), NA()), NA())","v":{"$error":"#N/A"}},0.06,{"$f":" IF(Foglio1!$F$16 <> \"\", IF( Foglio1!$C$16 <> \"\", IF(Foglio1!$I$16 <>\"\", (J8*Foglio1!$C$16) / (J8+Foglio1!$F$16*Foglio1!$I$16), NA()), NA()), NA())","v":{"$error":"#N/A"}}]
[7.0000000000000007E-2,{"$f":" IF(Foglio1!$F$12 <> \"\", IF(Foglio1!$I$12 <> \"\", Foglio1!$F$12*Foglio1!$I$12, NA()), NA())","v":{"$error":"#N/A"}},{"$f":" IF(Foglio1!$C$12 <> \"\", (A9*Foglio1!$C$12) / (A9+B9), NA())","v":{"$error":"#N/A"}},7.0000000000000007E-2,{"$f":" IF(Foglio1!$F$13 <> \"\", IF( Foglio1!$C$13 <> \"\", IF(Foglio1!$I$13 <>\"\", (D9*Foglio1!$C$13) / (D9+Foglio1!$F$13*Foglio1!$I$13), NA()), NA()), NA())","v":{"$error":"#N/A"}},7.0000000000000007E-2,{"$f":" IF(Foglio1!$F$14 <> \"\", IF( Foglio1!$C$14 <> \"\", IF(Foglio1!$I$14 <>\"\", (F9*Foglio1!$C$14) / (F9+Foglio1!$F$14*Foglio1!$I$14), NA()), NA()), NA())","v":{"$error":"#N/A"}},7.0000000000000007E-2,{"$f":" IF(Foglio1!$F$15 <> \"\", IF( Foglio1!$C$15 <> \"\", IF(Foglio1!$I$15 <>\"\", (H9*Foglio1!$C$15) / (H9+Foglio1!$F$15*Foglio1!$I$15), NA()), NA()), NA())","v":{"$error":"#N/A"}},7.0000000000000007E-2,{"$f":" IF(Foglio1!$F$16 <> \"\", IF( Foglio1!$C$16 <> \"\", IF(Foglio1!$I$16 <>\"\", (J9*Foglio1!$C$16) / (J9+Foglio1!$F$16*Foglio1!$I$16), NA()), NA()), NA())","v":{"$error":"#N/A"}}]
[0.08,{"$f":" IF(Foglio1!$F$12 <> \"\", IF(Foglio1!$I$12 <> \"\", Foglio1!$F$12*Foglio1!$I$12, NA()), NA())","v":{"$error":"#N/A"}},{"$f":" IF(Foglio1!$C$12 <> \"\", (A10*Foglio1!$C$12) / (A10+B10), NA())","v":{"$error":"#N/A"}},0.08,{"$f":" IF(Foglio1!$F$13 <> \"\", IF( Foglio1!$C$13 <> \"\", IF(Foglio1!$I$13 <>\"\", (D10*Foglio1!$C$13) / (D10+Foglio1!$F$13*Foglio1!$I$13), NA()), NA()), NA())","v":{"$error":"#N/A"}},0.08,{"$f":" IF(Foglio1!$F$14 <> \"\", IF( Foglio1!$C$14 <> \"\", IF(Foglio1!$I$14 <>\"\", (F10*Foglio1!$C$14) / (F10+Foglio1!$F$14*Foglio1!$I$14), NA()), NA()), NA())","v":{"$error":"#N/A"}},0.08,{"$f":" IF(Foglio1!$F$15 <> \"\", IF( Foglio1!$C$15 <> \"\", IF(Foglio1!$I$15 <>\"\", (H10*Foglio1!$C$15) / (H10+Foglio1!$F$15*Foglio1!$I$15), NA()), NA()), NA())","v":{"$error":"#N/A"}},0.08,{"$f":" IF(Foglio1!$F$16 <> \"\", IF( Foglio1!$C$16 <> \"\", IF(Foglio1!$I$16 <>\"\", (J10*Foglio1!$C$16) / (J10+Foglio1!$F$16*Foglio1!$I$16), NA()), NA()), NA())","v":{"$error":"#N/A"}}]
[0.09,{"$f":" IF(Foglio1!$F$12 <> \"\", IF(Foglio1!$I$12 <> \"\", Foglio1!$F$12*Foglio1!$I$12, NA()), NA())","v":{"$error":"#N/A"}},{"$f":" IF(Foglio1!$C$12 <> \"\", (A11*Foglio1!$C$12) / (A11+B11), NA())","v":{"$error":"#N/A"}},0.09,{"$f":" IF(Foglio1!$F$13 <> \"\", IF( Foglio1!$C$13 <> \"\", IF(Foglio1!$I$13 <>\"\", (D11*Foglio1!$C$13) / (D11+Foglio1!$F$13*Foglio1!$I$13), NA()), NA()), NA())","v":{"$error":"#N/A"}},0.09,{"$f":" IF(Foglio1!$F$14 <> \"\", IF( Foglio1!$C$14 <> \"\", IF(Foglio1!$I$14 <>\"\", (F11*Foglio1!$C$14) / (F11+Foglio1!$F$14*Foglio1!$I$14), NA()), NA()), NA())","v":{"$error":"#N/A"}},0.09,{"$f":" IF(Foglio1!$F$15 <> \"\", IF( Foglio1!$C$15 <> \"\", IF(Foglio1!$I$15 <>\"\", (H11*Foglio1!$C$15) / (H11+Foglio1!$F$15*Foglio1!$I$15), NA()), NA()), NA())","v":{"$error":"#N/A"}},0.09,{"$f":" IF(Foglio1!$F$16 <> \"\", IF( Foglio1!$C$16 <> \"\", IF(Foglio1!$I$16 <>\"\", (J11*Foglio1!$C$16) / (J11+Foglio1!$F$16*Foglio1!$I$16), NA()), NA()), NA())","v":{"$error":"#N/A"}}]
[0.1,{"$f":" IF(Foglio1!$F$12 <> \"\", IF(Foglio1!$I$12 <> \"\", Foglio1!$F$12*Foglio1!$I$12, NA()), NA())","v":{"$error":"#N/A"}},{"$f":" IF(Foglio1!$C$12 <> \"\", (A12*Foglio1!$C$12) / (A12+B12), NA())","v":{"$error":"#N/A"}},0.1,{"$f":" IF(Foglio1!$F$13 <> \"\", IF( Foglio1!$C$13 <> \"\", IF(Foglio1!$I$13 <>\"\", (D12*Foglio1!$C$13) / (D12+Foglio1!$F$13*Foglio1!$I$13), NA()), NA()), NA())","v":{"$error":"#N/A"}},0.1,{"$f":" IF(Foglio1!$F$14 <> \"\", IF( Foglio1!$C$14 <> \"\", IF(Foglio1!$I$14 <>\"\", (F12*Foglio1!$C$14) / (F12+Foglio1!$F$14*Foglio1!$I$14), NA()), NA()), NA())","v":{"$error":"#N/A"}},0.1,{"$f":" IF(Foglio1!$F$15 <> \"\", IF( Foglio1!$C$15 <> \"\", IF(Foglio1!$I$15 <>\"\", (H12*Foglio1!$C$15) / (H12+Foglio1!$F$15*Foglio1!$I$15), NA()), NA()), NA())","v":{"$error":"#N/A"}},0.1,{"$f":" IF(Foglio1!$F$16 <> \"\", IF( Foglio1!$C$16 <> \"\", IF(Foglio1!$I$16 <>\"\", (J12*Foglio1!$C$16) / (J12+Foglio1!$F$16*Foglio1!$I$16), NA()), NA()), NA())","v":{"$error":"#N/A"}}]
[0.11,{"$f":" IF(Foglio1!$F$12 <> \"\", IF(Foglio1!$I$12 <> \"\", Foglio1!$F$12*Foglio1!$I$12, NA()), NA())","v":{"$error":"#N/A"}},{"$f":" IF(Foglio1!$C$12 <> \"\", (A13*Foglio1!$C$12) / (A13+B13), NA())","v":{"$error":"#N/A"}},0.11,{"$f":" IF(Foglio1!$F$13 <> \"\", IF( Foglio1!$C$13 <> \"\", IF(Foglio1!$I$13 <>\"\", (D13*Foglio1!$C$13) / (D13+Foglio1!$F$13*Foglio1!$I$13), NA()), NA()), NA())","v":{"$error":"#N/A"}},0.11,{"$f":" IF(Foglio1!$F$14 <> \"\", IF( Foglio1!$C$14 <> \"\", IF(Foglio1!$I$14 <>\"\", (F13*Foglio1!$C$14) / (F13+Foglio1!$F$14*Foglio1!$I$14), NA()), NA()), NA())","v":{"$error":"#N/A"}},0.11,{"$f":" IF(Foglio1!$F$15 <> \"\", IF( Foglio1!$C$15 <> \"\", IF(Foglio1!$I$15 <>\"\", (H13*Foglio1!$C$15) / (H13+Foglio1!$F$15*Foglio1!$I$15), NA()), NA()), NA())","v":{"$error":"#N/A"}},0.11,{"$f":" IF(Foglio1!$F$16 <> \"\", IF( Foglio1!$C$16 <> \"\", IF(Foglio1!$I$16 <>\"\", (J13*Foglio1!$C$16) / (J13+Foglio1!$F$16*Foglio1!$I$16), NA()), NA()), NA())","v":{"$error":"#N/A"}}]
[0.12,{"$f":" IF(Foglio1!$F$12 <> \"\", IF(Foglio1!$I$12 <> \"\", Foglio1!$F$12*Foglio1!$I$12, NA()), NA())","v":{"$error":"#N/A"}},{"$f":" IF(Foglio1!$C$12 <> \"\", (A14*Foglio1!$C$12) / (A14+B14), NA())","v":{"$error":"#N/A"}},0.12,{"$f":" IF(Foglio1!$F$13 <> \"\", IF( Foglio1!$C$13 <> \"\", IF(Foglio1!$I$13 <>\"\", (D14*Foglio1!$C$13) / (D14+Foglio1!$F$13*Foglio1!$I$13), NA()), NA()), NA())","v":{"$error":"#N/A"}},0.12,{"$f":" IF(Foglio1!$F$14 <> \"\", IF( Foglio1!$C$14 <> \"\", IF(Foglio1!$I$14 <>\"\", (F14*Foglio1!$C$14) / (F14+Foglio1!$F$14*Foglio1!$I$14), NA()), NA()), NA())","v":{"$error":"#N/A"}},0.12,{"$f":" IF(Foglio1!$F$15 <> \"\", IF( Foglio1!$C$15 <> \"\", IF(Foglio1!$I$15 <>\"\", (H14*Foglio1!$C$15) / (H14+Foglio1!$F$15*Foglio1!$I$15), NA()), NA()), NA())","v":{"$error":"#N/A"}},0.12,{"$f":" IF(Foglio1!$F$16 <> \"\", IF( Foglio1!$C$16 <> \"\", IF(Foglio1!$I$16 <>\"\", (J14*Foglio1!$C$16) / (J14+Foglio1!$F$16*Foglio1!$I$16), NA()), NA()), NA())","v":{"$error":"#N/A"}}]
[0.13,{"$f":" IF(Foglio1!$F$12 <> \"\", IF(Foglio1!$I$12 <> \"\", Foglio1!$F$12*Foglio1!$I$12, NA()), NA())","v":{"$error":"#N/A"}},{"$f":" IF(Foglio1!$C$12 <> \"\", (A15*Foglio1!$C$12) / (A15+B15), NA())","v":{"$error":"#N/A"}},0.13,{"$f":" IF(Foglio1!$F$13 <> \"\", IF( Foglio1!$C$13 <> \"\", IF(Foglio1!$I$13 <>\"\", (D15*Foglio1!$C$13) / (D15+Foglio1!$F$13*Foglio1!$I$13), NA()), NA()), NA())","v":{"$error":"#N/A"}},0.13,{"$f":" IF(Foglio1!$F$14 <> \"\", IF( Foglio1!$C$14 <> \"\", IF(Foglio1!$I$14 <>\"\", (F15*Foglio1!$C$14) / (F15+Foglio1!$F$14*Foglio1!$I$14), NA()), NA()), NA())","v":{"$error":"#N/A"}},0.13,{"$f":" IF(Foglio1!$F$15 <> \"\", IF( Foglio1!$C$15 <> \"\", IF(Foglio1!$I$15 <>\"\", (H15*Foglio1!$C$15) / (H15+Foglio1!$F$15*Foglio1!$I$15), NA()), NA()), NA())","v":{"$error":"#N/A"}},0.13,{"$f":" IF(Foglio1!$F$16 <> \"\", IF( Foglio1!$C$16 <> \"\", IF(Foglio1!$I$16 <>\"\", (J15*Foglio1!$C$16) / (J15+Foglio1!$F$16*Foglio1!$I$16), NA()), NA()), NA())","v":{"$error":"#N/A"}}]
[0.14000000000000001,{"$f":" IF(Foglio1!$F$12 <> \"\", IF(Foglio1!$I$12 <> \"\", Foglio1!$F$12*Foglio1!$I$12, NA()), NA())","v":{"$error":"#N/A"}},{"$f":" IF(Foglio1!$C$12 <> \"\", (A16*Foglio1!$C$12) / (A16+B16), NA())","v":{"$error":"#N/A"}},0.14000000000000001,{"$f":" IF(Foglio1!$F$13 <> \"\", IF( Foglio1!$C$13 <> \"\", IF(Foglio1!$I$13 <>\"\", (D16*Foglio1!$C$13) / (D16+Foglio1!$F$13*Foglio1!$I$13), NA()), NA()), NA())","v":{"$error":"#N/A"}},0.14000000000000001,{"$f":" IF(Foglio1!$F$14 <> \"\", IF( Foglio1!$C$14 <> \"\", IF(Foglio1!$I$14 <>\"\", (F16*Foglio1!$C$14) / (F16+Foglio1!$F$14*Foglio1!$I$14), NA()), NA()), NA())","v":{"$error":"#N/A"}},0.14000000000000001,{"$f":" IF(Foglio1!$F$15 <> \"\", IF( Foglio1!$C$15 <> \"\", IF(Foglio1!$I$15 <>\"\", (H16*Foglio1!$C$15) / (H16+Foglio1!$F$15*Foglio1!$I$15), NA()), NA()), NA())","v":{"$error":"#N/A"}},0.14000000000000001,{"$f":" IF(Foglio1!$F$16 <> \"\", IF( Foglio1!$C$16 <> \"\", IF(Foglio1!$I$16 <>\"\", (J16*Foglio1!$C$16) / (J16+Foglio1!$F$16*Foglio1!$I$16), NA()), NA()), NA())","v":{"$error":"#N/A"}}]
[0.15,{"$f":" IF(Foglio1!$F$12 <> \"\", IF(Foglio1!$I$12 <> \"\", Foglio1!$F$12*Foglio1!$I$12, NA()), NA())","v":{"$error":"#N/A"}},{"$f":" IF(Foglio1!$C$12 <> \"\", (A17*Foglio1!$C$12) / (A17+B17), NA())","v":{"$error":"#N/A"}},0.15,{"$f":" IF(Foglio1!$F$13 <> \"\", IF( Foglio1!$C$13 <> \"\", IF(Foglio1!$I$13 <>\"\", (D17*Foglio1!$C$13) / (D17+Foglio1!$F$13*Foglio1!$I$13), NA()), NA()), NA())","v":{"$error":"#N/A"}},0.15,{"$f":" IF(Foglio1!$F$14 <> \"\", IF( Foglio1!$C$14 <> \"\", IF(Foglio1!$I$14 <>\"\", (F17*Foglio1!$C$14) / (F17+Foglio1!$F$14*Foglio1!$I$14), NA()), NA()), NA())","v":{"$error":"#N/A"}},0.15,{"$f":" IF(Foglio1!$F$15 <> \"\", IF( Foglio1!$C$15 <> \"\", IF(Foglio1!$I$15 <>\"\", (H17*Foglio1!$C$15) / (H17+Foglio1!$F$15*Foglio1!$I$15), NA()), NA()), NA())","v":{"$error":"#N/A"}},0.15,{"$f":" IF(Foglio1!$F$16 <> \"\", IF( Foglio1!$C$16 <> \"\", IF(Foglio1!$I$16 <>\"\", (J17*Foglio1!$C$16) / (J17+Foglio1!$F$16*Foglio1!$I$16), NA()), NA()), NA())","v":{"$error":"#N/A"}}]
[0.16,{"$f":" IF(Foglio1!$F$12 <> \"\", IF(Foglio1!$I$12 <> \"\", Foglio1!$F$12*Foglio1!$I$12, NA()), NA())","v":{"$error":"#N/A"}},{"$f":" IF(Foglio1!$C$12 <> \"\", (A18*Foglio1!$C$12) / (A18+B18), NA())","v":{"$error":"#N/A"}},0.16,{"$f":" IF(Foglio1!$F$13 <> \"\", IF( Foglio1!$C$13 <> \"\", IF(Foglio1!$I$13 <>\"\", (D18*Foglio1!$C$13) / (D18+Foglio1!$F$13*Foglio1!$I$13), NA()), NA()), NA())","v":{"$error":"#N/A"}},0.16,{"$f":" IF(Foglio1!$F$14 <> \"\", IF( Foglio1!$C$14 <> \"\", IF(Foglio1!$I$14 <>\"\", (F18*Foglio1!$C$14) / (F18+Foglio1!$F$14*Foglio1!$I$14), NA()), NA()), NA())","v":{"$error":"#N/A"}},0.16,{"$f":" IF(Foglio1!$F$15 <> \"\", IF( Foglio1!$C$15 <> \"\", IF(Foglio1!$I$15 <>\"\", (H18*Foglio1!$C$15) / (H18+Foglio1!$F$15*Foglio1!$I$15), NA()), NA()), NA())","v":{"$error":"#N/A"}},0.16,{"$f":" IF(Foglio1!$F$16 <> \"\", IF( Foglio1!$C$16 <> \"\", IF(Foglio1!$I$16 <>\"\", (J18*Foglio1!$C$16) / (J18+Foglio1!$F$16*Foglio1!$I$16), NA()), NA()), NA())","v":{"$error":"#N/A"}}]
[0.17,{"$f":" IF(Foglio1!$F$12 <> \"\", IF(Foglio1!$I$12 <> \"\", Foglio1!$F$12*Foglio1!$I$12, NA()), NA())","v":{"$error":"#N/A"}},{"$f":" IF(Foglio1!$C$12 <> \"\", (A19*Foglio1!$C$12) / (A19+B19), NA())","v":{"$error":"#N/A"}},0.17,{"$f":" IF(Foglio1!$F$13 <> \"\", IF( Foglio1!$C$13 <> \"\", IF(Foglio1!$I$13 <>\"\", (D19*Foglio1!$C$13) / (D19+Foglio1!$F$13*Foglio1!$I$13), NA()), NA()), NA())","v":{"$error":"#N/A"}},0.17,{"$f":" IF(Foglio1!$F$14 <> \"\", IF( Foglio1!$C$14 <> \"\", IF(Foglio1!$I$14 <>\"\", (F19*Foglio1!$C$14) / (F19+Foglio1!$F$14*Foglio1!$I$14), NA()), NA()), NA())","v":{"$error":"#N/A"}},0.17,{"$f":" IF(Foglio1!$F$15 <> \"\", IF( Foglio1!$C$15 <> \"\", IF(Foglio1!$I$15 <>\"\", (H19*Foglio1!$C$15) / (H19+Foglio1!$F$15*Foglio1!$I$15), NA()), NA()), NA())","v":{"$error":"#N/A"}},0.17,{"$f":" IF(Foglio1!$F$16 <> \"\", IF( Foglio1!$C$16 <> \"\", IF(Foglio1!$I$16 <>\"\", (J19*Foglio1!$C$16) / (J19+Foglio1!$F$16*Foglio1!$I$16), NA()), NA()), NA())","v":{"$error":"#N/A"}}]
[0.18,{"$f":" IF(Foglio1!$F$12 <> \"\", IF(Foglio1!$I$12 <> \"\", Foglio1!$F$12*Foglio1!$I$12, NA()), NA())","v":{"$error":"#N/A"}},{"$f":" IF(Foglio1!$C$12 <> \"\", (A20*Foglio1!$C$12) / (A20+B20), NA())","v":{"$error":"#N/A"}},0.18,{"$f":" IF(Foglio1!$F$13 <> \"\", IF( Foglio1!$C$13 <> \"\", IF(Foglio1!$I$13 <>\"\", (D20*Foglio1!$C$13) / (D20+Foglio1!$F$13*Foglio1!$I$13), NA()), NA()), NA())","v":{"$error":"#N/A"}},0.18,{"$f":" IF(Foglio1!$F$14 <> \"\", IF( Foglio1!$C$14 <> \"\", IF(Foglio1!$I$14 <>\"\", (F20*Foglio1!$C$14) / (F20+Foglio1!$F$14*Foglio1!$I$14), NA()), NA()), NA())","v":{"$error":"#N/A"}},0.18,{"$f":" IF(Foglio1!$F$15 <> \"\", IF( Foglio1!$C$15 <> \"\", IF(Foglio1!$I$15 <>\"\", (H20*Foglio1!$C$15) / (H20+Foglio1!$F$15*Foglio1!$I$15), NA()), NA()), NA())","v":{"$error":"#N/A"}},0.18,{"$f":" IF(Foglio1!$F$16 <> \"\", IF( Foglio1!$C$16 <> \"\", IF(Foglio1!$I$16 <>\"\", (J20*Foglio1!$C$16) / (J20+Foglio1!$F$16*Foglio1!$I$16), NA()), NA()), NA())","v":{"$error":"#N/A"}}]
[0.19,{"$f":" IF(Foglio1!$F$12 <> \"\", IF(Foglio1!$I$12 <> \"\", Foglio1!$F$12*Foglio1!$I$12, NA()), NA())","v":{"$error":"#N/A"}},{"$f":" IF(Foglio1!$C$12 <> \"\", (A21*Foglio1!$C$12) / (A21+B21), NA())","v":{"$error":"#N/A"}},0.19,{"$f":" IF(Foglio1!$F$13 <> \"\", IF( Foglio1!$C$13 <> \"\", IF(Foglio1!$I$13 <>\"\", (D21*Foglio1!$C$13) / (D21+Foglio1!$F$13*Foglio1!$I$13), NA()), NA()), NA())","v":{"$error":"#N/A"}},0.19,{"$f":" IF(Foglio1!$F$14 <> \"\", IF( Foglio1!$C$14 <> \"\", IF(Foglio1!$I$14 <>\"\", (F21*Foglio1!$C$14) / (F21+Foglio1!$F$14*Foglio1!$I$14), NA()), NA()), NA())","v":{"$error":"#N/A"}},0.19,{"$f":" IF(Foglio1!$F$15 <> \"\", IF( Foglio1!$C$15 <> \"\", IF(Foglio1!$I$15 <>\"\", (H21*Foglio1!$C$15) / (H21+Foglio1!$F$15*Foglio1!$I$15), NA()), NA()), NA())","v":{"$error":"#N/A"}},0.19,{"$f":" IF(Foglio1!$F$16 <> \"\", IF( Foglio1!$C$16 <> \"\", IF(Foglio1!$I$16 <>\"\", (J21*Foglio1!$C$16) / (J21+Foglio1!$F$16*Foglio1!$I$16), NA()), NA()), NA())","v":{"$error":"#N/A"}}]
[0.2,{"$f":" IF(Foglio1!$F$12 <> \"\", IF(Foglio1!$I$12 <> \"\", Foglio1!$F$12*Foglio1!$I$12, NA()), NA())","v":{"$error":"#N/A"}},{"$f":" IF(Foglio1!$C$12 <> \"\", (A22*Foglio1!$C$12) / (A22+B22), NA())","v":{"$error":"#N/A"}},0.2,{"$f":" IF(Foglio1!$F$13 <> \"\", IF( Foglio1!$C$13 <> \"\", IF(Foglio1!$I$13 <>\"\", (D22*Foglio1!$C$13) / (D22+Foglio1!$F$13*Foglio1!$I$13), NA()), NA()), NA())","v":{"$error":"#N/A"}},0.2,{"$f":" IF(Foglio1!$F$14 <> \"\", IF( Foglio1!$C$14 <> \"\", IF(Foglio1!$I$14 <>\"\", (F22*Foglio1!$C$14) / (F22+Foglio1!$F$14*Foglio1!$I$14), NA()), NA()), NA())","v":{"$error":"#N/A"}},0.2,{"$f":" IF(Foglio1!$F$15 <> \"\", IF( Foglio1!$C$15 <> \"\", IF(Foglio1!$I$15 <>\"\", (H22*Foglio1!$C$15) / (H22+Foglio1!$F$15*Foglio1!$I$15), NA()), NA()), NA())","v":{"$error":"#N/A"}},0.2,{"$f":" IF(Foglio1!$F$16 <> \"\", IF( Foglio1!$C$16 <> \"\", IF(Foglio1!$I$16 <>\"\", (J22*Foglio1!$C$16) / (J22+Foglio1!$F$16*Foglio1!$I$16), NA()), NA()), NA())","v":{"$error":"#N/A"}}]
[0.21,{"$f":" IF(Foglio1!$F$12 <> \"\", IF(Foglio1!$I$12 <> \"\", Foglio1!$F$12*Foglio1!$I$12, NA()), NA())","v":{"$error":"#N/A"}},{"$f":" IF(Foglio1!$C$12 <> \"\", (A23*Foglio1!$C$12) / (A23+B23), NA())","v":{"$error":"#N/A"}},0.21,{"$f":" IF(Foglio1!$F$13 <> \"\", IF( Foglio1!$C$13 <> \"\", IF(Foglio1!$I$13 <>\"\", (D23*Foglio1!$C$13) / (D23+Foglio1!$F$13*Foglio1!$I$13), NA()), NA()), NA())","v":{"$error":"#N/A"}},0.21,{"$f":" IF(Foglio1!$F$14 <> \"\", IF( Foglio1!$C$14 <> \"\", IF(Foglio1!$I$14 <>\"\", (F23*Foglio1!$C$14) / (F23+Foglio1!$F$14*Foglio1!$I$14), NA()), NA()), NA())","v":{"$error":"#N/A"}},0.21,{"$f":" IF(Foglio1!$F$15 <> \"\", IF( Foglio1!$C$15 <> \"\", IF(Foglio1!$I$15 <>\"\", (H23*Foglio1!$C$15) / (H23+Foglio1!$F$15*Foglio1!$I$15), NA()), NA()), NA())","v":{"$error":"#N/A"}},0.21,{"$f":" IF(Foglio1!$F$16 <> \"\", IF( Foglio1!$C$16 <> \"\", IF(Foglio1!$I$16 <>\"\", (J23*Foglio1!$C$16) / (J23+Foglio1!$F$16*Foglio1!$I$16), NA()), NA()), NA())","v":{"$error":"#N/A"}}]
[0.22,{"$f":" IF(Foglio1!$F$12 <> \"\", IF(Foglio1!$I$12 <> \"\", Foglio1!$F$12*Foglio1!$I$12, NA()), NA())","v":{"$error":"#N/A"}},{"$f":" IF(Foglio1!$C$12 <> \"\", (A24*Foglio1!$C$12) / (A24+B24), NA())","v":{"$error":"#N/A"}},0.22,{"$f":" IF(Foglio1!$F$13 <> \"\", IF( Foglio1!$C$13 <> \"\", IF(Foglio1!$I$13 <>\"\", (D24*Foglio1!$C$13) / (D24+Foglio1!$F$13*Foglio1!$I$13), NA()), NA()), NA())","v":{"$error":"#N/A"}},0.22,{"$f":" IF(Foglio1!$F$14 <> \"\", IF( Foglio1!$C$14 <> \"\", IF(Foglio1!$I$14 <>\"\", (F24*Foglio1!$C$14) / (F24+Foglio1!$F$14*Foglio1!$I$14), NA()), NA()), NA())","v":{"$error":"#N/A"}},0.22,{"$f":" IF(Foglio1!$F$15 <> \"\", IF( Foglio1!$C$15 <> \"\", IF(Foglio1!$I$15 <>\"\", (H24*Foglio1!$C$15) / (H24+Foglio1!$F$15*Foglio1!$I$15), NA()), NA()), NA())","v":{"$error":"#N/A"}},0.22,{"$f":" IF(Foglio1!$F$16 <> \"\", IF( Foglio1!$C$16 <> \"\", IF(Foglio1!$I$16 <>\"\", (J24*Foglio1!$C$16) / (J24+Foglio1!$F$16*Foglio1!$I$16), NA()), NA()), NA())","v":{"$error":"#N/A"}}]
[0.23,{"$f":" IF(Foglio1!$F$12 <> \"\", IF(Foglio1!$I$12 <> \"\", Foglio1!$F$12*Foglio1!$I$12, NA()), NA())","v":{"$error":"#N/A"}},{"$f":" IF(Foglio1!$C$12 <> \"\", (A25*Foglio1!$C$12) / (A25+B25), NA())","v":{"$error":"#N/A"}},0.23,{"$f":" IF(Foglio1!$F$13 <> \"\", IF( Foglio1!$C$13 <> \"\", IF(Foglio1!$I$13 <>\"\", (D25*Foglio1!$C$13) / (D25+Foglio1!$F$13*Foglio1!$I$13), NA()), NA()), NA())","v":{"$error":"#N/A"}},0.23,{"$f":" IF(Foglio1!$F$14 <> \"\", IF( Foglio1!$C$14 <> \"\", IF(Foglio1!$I$14 <>\"\", (F25*Foglio1!$C$14) / (F25+Foglio1!$F$14*Foglio1!$I$14), NA()), NA()), NA())","v":{"$error":"#N/A"}},0.23,{"$f":" IF(Foglio1!$F$15 <> \"\", IF( Foglio1!$C$15 <> \"\", IF(Foglio1!$I$15 <>\"\", (H25*Foglio1!$C$15) / (H25+Foglio1!$F$15*Foglio1!$I$15), NA()), NA()), NA())","v":{"$error":"#N/A"}},0.23,{"$f":" IF(Foglio1!$F$16 <> \"\", IF( Foglio1!$C$16 <> \"\", IF(Foglio1!$I$16 <>\"\", (J25*Foglio1!$C$16) / (J25+Foglio1!$F$16*Foglio1!$I$16), NA()), NA()), NA())","v":{"$error":"#N/A"}}]
[0.24,{"$f":" IF(Foglio1!$F$12 <> \"\", IF(Foglio1!$I$12 <> \"\", Foglio1!$F$12*Foglio1!$I$12, NA()), NA())","v":{"$error":"#N/A"}},{"$f":" IF(Foglio1!$C$12 <> \"\", (A26*Foglio1!$C$12) / (A26+B26), NA())","v":{"$error":"#N/A"}},0.24,{"$f":" IF(Foglio1!$F$13 <> \"\", IF( Foglio1!$C$13 <> \"\", IF(Foglio1!$I$13 <>\"\", (D26*Foglio1!$C$13) / (D26+Foglio1!$F$13*Foglio1!$I$13), NA()), NA()), NA())","v":{"$error":"#N/A"}},0.24,{"$f":" IF(Foglio1!$F$14 <> \"\", IF( Foglio1!$C$14 <> \"\", IF(Foglio1!$I$14 <>\"\", (F26*Foglio1!$C$14) / (F26+Foglio1!$F$14*Foglio1!$I$14), NA()), NA()), NA())","v":{"$error":"#N/A"}},0.24,{"$f":" IF(Foglio1!$F$15 <> \"\", IF( Foglio1!$C$15 <> \"\", IF(Foglio1!$I$15 <>\"\", (H26*Foglio1!$C$15) / (H26+Foglio1!$F$15*Foglio1!$I$15), NA()), NA()), NA())","v":{"$error":"#N/A"}},0.24,{"$f":" IF(Foglio1!$F$16 <> \"\", IF( Foglio1!$C$16 <> \"\", IF(Foglio1!$I$16 <>\"\", (J26*Foglio1!$C$16) / (J26+Foglio1!$F$16*Foglio1!$I$16), NA()), NA()), NA())","v":{"$error":"#N/A"}}]
[0.25,{"$f":" IF(Foglio1!$F$12 <> \"\", IF(Foglio1!$I$12 <> \"\", Foglio1!$F$12*Foglio1!$I$12, NA()), NA())","v":{"$error":"#N/A"}},{"$f":" IF(Foglio1!$C$12 <> \"\", (A27*Foglio1!$C$12) / (A27+B27), NA())","v":{"$error":"#N/A"}},0.25,{"$f":" IF(Foglio1!$F$13 <> \"\", IF( Foglio1!$C$13 <> \"\", IF(Foglio1!$I$13 <>\"\", (D27*Foglio1!$C$13) / (D27+Foglio1!$F$13*Foglio1!$I$13), NA()), NA()), NA())","v":{"$error":"#N/A"}},0.25,{"$f":" IF(Foglio1!$F$14 <> \"\", IF( Foglio1!$C$14 <> \"\", IF(Foglio1!$I$14 <>\"\", (F27*Foglio1!$C$14) / (F27+Foglio1!$F$14*Foglio1!$I$14), NA()), NA()), NA())","v":{"$error":"#N/A"}},0.25,{"$f":" IF(Foglio1!$F$15 <> \"\", IF( Foglio1!$C$15 <> \"\", IF(Foglio1!$I$15 <>\"\", (H27*Foglio1!$C$15) / (H27+Foglio1!$F$15*Foglio1!$I$15), NA()), NA()), NA())","v":{"$error":"#N/A"}},0.25,{"$f":" IF(Foglio1!$F$16 <> \"\", IF( Foglio1!$C$16 <> \"\", IF(Foglio1!$I$16 <>\"\", (J27*Foglio1!$C$16) / (J27+Foglio1!$F$16*Foglio1!$I$16), NA()), NA()), NA())","v":{"$error":"#N/A"}}]
[0.26,{"$f":" IF(Foglio1!$F$12 <> \"\", IF(Foglio1!$I$12 <> \"\", Foglio1!$F$12*Foglio1!$I$12, NA()), NA())","v":{"$error":"#N/A"}},{"$f":" IF(Foglio1!$C$12 <> \"\", (A28*Foglio1!$C$12) / (A28+B28), NA())","v":{"$error":"#N/A"}},0.26,{"$f":" IF(Foglio1!$F$13 <> \"\", IF( Foglio1!$C$13 <> \"\", IF(Foglio1!$I$13 <>\"\", (D28*Foglio1!$C$13) / (D28+Foglio1!$F$13*Foglio1!$I$13), NA()), NA()), NA())","v":{"$error":"#N/A"}},0.26,{"$f":" IF(Foglio1!$F$14 <> \"\", IF( Foglio1!$C$14 <> \"\", IF(Foglio1!$I$14 <>\"\", (F28*Foglio1!$C$14) / (F28+Foglio1!$F$14*Foglio1!$I$14), NA()), NA()), NA())","v":{"$error":"#N/A"}},0.26,{"$f":" IF(Foglio1!$F$15 <> \"\", IF( Foglio1!$C$15 <> \"\", IF(Foglio1!$I$15 <>\"\", (H28*Foglio1!$C$15) / (H28+Foglio1!$F$15*Foglio1!$I$15), NA()), NA()), NA())","v":{"$error":"#N/A"}},0.26,{"$f":" IF(Foglio1!$F$16 <> \"\", IF( Foglio1!$C$16 <> \"\", IF(Foglio1!$I$16 <>\"\", (J28*Foglio1!$C$16) / (J28+Foglio1!$F$16*Foglio1!$I$16), NA()), NA()), NA())","v":{"$error":"#N/A"}}]
[0.27,{"$f":" IF(Foglio1!$F$12 <> \"\", IF(Foglio1!$I$12 <> \"\", Foglio1!$F$12*Foglio1!$I$12, NA()), NA())","v":{"$error":"#N/A"}},{"$f":" IF(Foglio1!$C$12 <> \"\", (A29*Foglio1!$C$12) / (A29+B29), NA())","v":{"$error":"#N/A"}},0.27,{"$f":" IF(Foglio1!$F$13 <> \"\", IF( Foglio1!$C$13 <> \"\", IF(Foglio1!$I$13 <>\"\", (D29*Foglio1!$C$13) / (D29+Foglio1!$F$13*Foglio1!$I$13), NA()), NA()), NA())","v":{"$error":"#N/A"}},0.27,{"$f":" IF(Foglio1!$F$14 <> \"\", IF( Foglio1!$C$14 <> \"\", IF(Foglio1!$I$14 <>\"\", (F29*Foglio1!$C$14) / (F29+Foglio1!$F$14*Foglio1!$I$14), NA()), NA()), NA())","v":{"$error":"#N/A"}},0.27,{"$f":" IF(Foglio1!$F$15 <> \"\", IF( Foglio1!$C$15 <> \"\", IF(Foglio1!$I$15 <>\"\", (H29*Foglio1!$C$15) / (H29+Foglio1!$F$15*Foglio1!$I$15), NA()), NA()), NA())","v":{"$error":"#N/A"}},0.27,{"$f":" IF(Foglio1!$F$16 <> \"\", IF( Foglio1!$C$16 <> \"\", IF(Foglio1!$I$16 <>\"\", (J29*Foglio1!$C$16) / (J29+Foglio1!$F$16*Foglio1!$I$16), NA()), NA()), NA())","v":{"$error":"#N/A"}}]
[0.28000000000000003,{"$f":" IF(Foglio1!$F$12 <> \"\", IF(Foglio1!$I$12 <> \"\", Foglio1!$F$12*Foglio1!$I$12, NA()), NA())","v":{"$error":"#N/A"}},{"$f":" IF(Foglio1!$C$12 <> \"\", (A30*Foglio1!$C$12) / (A30+B30), NA())","v":{"$error":"#N/A"}},0.28000000000000003,{"$f":" IF(Foglio1!$F$13 <> \"\", IF( Foglio1!$C$13 <> \"\", IF(Foglio1!$I$13 <>\"\", (D30*Foglio1!$C$13) / (D30+Foglio1!$F$13*Foglio1!$I$13), NA()), NA()), NA())","v":{"$error":"#N/A"}},0.28000000000000003,{"$f":" IF(Foglio1!$F$14 <> \"\", IF( Foglio1!$C$14 <> \"\", IF(Foglio1!$I$14 <>\"\", (F30*Foglio1!$C$14) / (F30+Foglio1!$F$14*Foglio1!$I$14), NA()), NA()), NA())","v":{"$error":"#N/A"}},0.28000000000000003,{"$f":" IF(Foglio1!$F$15 <> \"\", IF( Foglio1!$C$15 <> \"\", IF(Foglio1!$I$15 <>\"\", (H30*Foglio1!$C$15) / (H30+Foglio1!$F$15*Foglio1!$I$15), NA()), NA()), NA())","v":{"$error":"#N/A"}},0.28000000000000003,{"$f":" IF(Foglio1!$F$16 <> \"\", IF( Foglio1!$C$16 <> \"\", IF(Foglio1!$I$16 <>\"\", (J30*Foglio1!$C$16) / (J30+Foglio1!$F$16*Foglio1!$I$16), NA()), NA()), NA())","v":{"$error":"#N/A"}}]
[0.28999999999999998,{"$f":" IF(Foglio1!$F$12 <> \"\", IF(Foglio1!$I$12 <> \"\", Foglio1!$F$12*Foglio1!$I$12, NA()), NA())","v":{"$error":"#N/A"}},{"$f":" IF(Foglio1!$C$12 <> \"\", (A31*Foglio1!$C$12) / (A31+B31), NA())","v":{"$error":"#N/A"}},0.28999999999999998,{"$f":" IF(Foglio1!$F$13 <> \"\", IF( Foglio1!$C$13 <> \"\", IF(Foglio1!$I$13 <>\"\", (D31*Foglio1!$C$13) / (D31+Foglio1!$F$13*Foglio1!$I$13), NA()), NA()), NA())","v":{"$error":"#N/A"}},0.28999999999999998,{"$f":" IF(Foglio1!$F$14 <> \"\", IF( Foglio1!$C$14 <> \"\", IF(Foglio1!$I$14 <>\"\", (F31*Foglio1!$C$14) / (F31+Foglio1!$F$14*Foglio1!$I$14), NA()), NA()), NA())","v":{"$error":"#N/A"}},0.28999999999999998,{"$f":" IF(Foglio1!$F$15 <> \"\", IF( Foglio1!$C$15 <> \"\", IF(Foglio1!$I$15 <>\"\", (H31*Foglio1!$C$15) / (H31+Foglio1!$F$15*Foglio1!$I$15), NA()), NA()), NA())","v":{"$error":"#N/A"}},0.28999999999999998,{"$f":" IF(Foglio1!$F$16 <> \"\", IF( Foglio1!$C$16 <> \"\", IF(Foglio1!$I$16 <>\"\", (J31*Foglio1!$C$16) / (J31+Foglio1!$F$16*Foglio1!$I$16), NA()), NA()), NA())","v":{"$error":"#N/A"}}]
[0.3,{"$f":" IF(Foglio1!$F$12 <> \"\", IF(Foglio1!$I$12 <> \"\", Foglio1!$F$12*Foglio1!$I$12, NA()), NA())","v":{"$error":"#N/A"}},{"$f":" IF(Foglio1!$C$12 <> \"\", (A32*Foglio1!$C$12) / (A32+B32), NA())","v":{"$error":"#N/A"}},0.3,{"$f":" IF(Foglio1!$F$13 <> \"\", IF( Foglio1!$C$13 <> \"\", IF(Foglio1!$I$13 <>\"\", (D32*Foglio1!$C$13) / (D32+Foglio1!$F$13*Foglio1!$I$13), NA()), NA()), NA())","v":{"$error":"#N/A"}},0.3,{"$f":" IF(Foglio1!$F$14 <> \"\", IF( Foglio1!$C$14 <> \"\", IF(Foglio1!$I$14 <>\"\", (F32*Foglio1!$C$14) / (F32+Foglio1!$F$14*Foglio1!$I$14), NA()), NA()), NA())","v":{"$error":"#N/A"}},0.3,{"$f":" IF(Foglio1!$F$15 <> \"\", IF( Foglio1!$C$15 <> \"\", IF(Foglio1!$I$15 <>\"\", (H32*Foglio1!$C$15) / (H32+Foglio1!$F$15*Foglio1!$I$15), NA()), NA()), NA())","v":{"$error":"#N/A"}},0.3,{"$f":" IF(Foglio1!$F$16 <> \"\", IF( Foglio1!$C$16 <> \"\", IF(Foglio1!$I$16 <>\"\", (J32*Foglio1!$C$16) / (J32+Foglio1!$F$16*Foglio1!$I$16), NA()), NA()), NA())","v":{"$error":"#N/A"}}]
[0.31,{"$f":" IF(Foglio1!$F$12 <> \"\", IF(Foglio1!$I$12 <> \"\", Foglio1!$F$12*Foglio1!$I$12, NA()), NA())","v":{"$error":"#N/A"}},{"$f":" IF(Foglio1!$C$12 <> \"\", (A33*Foglio1!$C$12) / (A33+B33), NA())","v":{"$error":"#N/A"}},0.31,{"$f":" IF(Foglio1!$F$13 <> \"\", IF( Foglio1!$C$13 <> \"\", IF(Foglio1!$I$13 <>\"\", (D33*Foglio1!$C$13) / (D33+Foglio1!$F$13*Foglio1!$I$13), NA()), NA()), NA())","v":{"$error":"#N/A"}},0.31,{"$f":" IF(Foglio1!$F$14 <> \"\", IF( Foglio1!$C$14 <> \"\", IF(Foglio1!$I$14 <>\"\", (F33*Foglio1!$C$14) / (F33+Foglio1!$F$14*Foglio1!$I$14), NA()), NA()), NA())","v":{"$error":"#N/A"}},0.31,{"$f":" IF(Foglio1!$F$15 <> \"\", IF( Foglio1!$C$15 <> \"\", IF(Foglio1!$I$15 <>\"\", (H33*Foglio1!$C$15) / (H33+Foglio1!$F$15*Foglio1!$I$15), NA()), NA()), NA())","v":{"$error":"#N/A"}},0.31,{"$f":" IF(Foglio1!$F$16 <> \"\", IF( Foglio1!$C$16 <> \"\", IF(Foglio1!$I$16 <>\"\", (J33*Foglio1!$C$16) / (J33+Foglio1!$F$16*Foglio1!$I$16), NA()), NA()), NA())","v":{"$error":"#N/A"}}]
[0.32,{"$f":" IF(Foglio1!$F$12 <> \"\", IF(Foglio1!$I$12 <> \"\", Foglio1!$F$12*Foglio1!$I$12, NA()), NA())","v":{"$error":"#N/A"}},{"$f":" IF(Foglio1!$C$12 <> \"\", (A34*Foglio1!$C$12) / (A34+B34), NA())","v":{"$error":"#N/A"}},0.32,{"$f":" IF(Foglio1!$F$13 <> \"\", IF( Foglio1!$C$13 <> \"\", IF(Foglio1!$I$13 <>\"\", (D34*Foglio1!$C$13) / (D34+Foglio1!$F$13*Foglio1!$I$13), NA()), NA()), NA())","v":{"$error":"#N/A"}},0.32,{"$f":" IF(Foglio1!$F$14 <> \"\", IF( Foglio1!$C$14 <> \"\", IF(Foglio1!$I$14 <>\"\", (F34*Foglio1!$C$14) / (F34+Foglio1!$F$14*Foglio1!$I$14), NA()), NA()), NA())","v":{"$error":"#N/A"}},0.32,{"$f":" IF(Foglio1!$F$15 <> \"\", IF( Foglio1!$C$15 <> \"\", IF(Foglio1!$I$15 <>\"\", (H34*Foglio1!$C$15) / (H34+Foglio1!$F$15*Foglio1!$I$15), NA()), NA()), NA())","v":{"$error":"#N/A"}},0.32,{"$f":" IF(Foglio1!$F$16 <> \"\", IF( Foglio1!$C$16 <> \"\", IF(Foglio1!$I$16 <>\"\", (J34*Foglio1!$C$16) / (J34+Foglio1!$F$16*Foglio1!$I$16), NA()), NA()), NA())","v":{"$error":"#N/A"}}]
[0.33,{"$f":" IF(Foglio1!$F$12 <> \"\", IF(Foglio1!$I$12 <> \"\", Foglio1!$F$12*Foglio1!$I$12, NA()), NA())","v":{"$error":"#N/A"}},{"$f":" IF(Foglio1!$C$12 <> \"\", (A35*Foglio1!$C$12) / (A35+B35), NA())","v":{"$error":"#N/A"}},0.33,{"$f":" IF(Foglio1!$F$13 <> \"\", IF( Foglio1!$C$13 <> \"\", IF(Foglio1!$I$13 <>\"\", (D35*Foglio1!$C$13) / (D35+Foglio1!$F$13*Foglio1!$I$13), NA()), NA()), NA())","v":{"$error":"#N/A"}},0.33,{"$f":" IF(Foglio1!$F$14 <> \"\", IF( Foglio1!$C$14 <> \"\", IF(Foglio1!$I$14 <>\"\", (F35*Foglio1!$C$14) / (F35+Foglio1!$F$14*Foglio1!$I$14), NA()), NA()), NA())","v":{"$error":"#N/A"}},0.33,{"$f":" IF(Foglio1!$F$15 <> \"\", IF( Foglio1!$C$15 <> \"\", IF(Foglio1!$I$15 <>\"\", (H35*Foglio1!$C$15) / (H35+Foglio1!$F$15*Foglio1!$I$15), NA()), NA()), NA())","v":{"$error":"#N/A"}},0.33,{"$f":" IF(Foglio1!$F$16 <> \"\", IF( Foglio1!$C$16 <> \"\", IF(Foglio1!$I$16 <>\"\", (J35*Foglio1!$C$16) / (J35+Foglio1!$F$16*Foglio1!$I$16), NA()), NA()), NA())","v":{"$error":"#N/A"}}]
[0.34,{"$f":" IF(Foglio1!$F$12 <> \"\", IF(Foglio1!$I$12 <> \"\", Foglio1!$F$12*Foglio1!$I$12, NA()), NA())","v":{"$error":"#N/A"}},{"$f":" IF(Foglio1!$C$12 <> \"\", (A36*Foglio1!$C$12) / (A36+B36), NA())","v":{"$error":"#N/A"}},0.34,{"$f":" IF(Foglio1!$F$13 <> \"\", IF( Foglio1!$C$13 <> \"\", IF(Foglio1!$I$13 <>\"\", (D36*Foglio1!$C$13) / (D36+Foglio1!$F$13*Foglio1!$I$13), NA()), NA()), NA())","v":{"$error":"#N/A"}},0.34,{"$f":" IF(Foglio1!$F$14 <> \"\", IF( Foglio1!$C$14 <> \"\", IF(Foglio1!$I$14 <>\"\", (F36*Foglio1!$C$14) / (F36+Foglio1!$F$14*Foglio1!$I$14), NA()), NA()), NA())","v":{"$error":"#N/A"}},0.34,{"$f":" IF(Foglio1!$F$15 <> \"\", IF( Foglio1!$C$15 <> \"\", IF(Foglio1!$I$15 <>\"\", (H36*Foglio1!$C$15) / (H36+Foglio1!$F$15*Foglio1!$I$15), NA()), NA()), NA())","v":{"$error":"#N/A"}},0.34,{"$f":" IF(Foglio1!$F$16 <> \"\", IF( Foglio1!$C$16 <> \"\", IF(Foglio1!$I$16 <>\"\", (J36*Foglio1!$C$16) / (J36+Foglio1!$F$16*Foglio1!$I$16), NA()), NA()), NA())","v":{"$error":"#N/A"}}]
[0.35,{"$f":" IF(Foglio1!$F$12 <> \"\", IF(Foglio1!$I$12 <> \"\", Foglio1!$F$12*Foglio1!$I$12, NA()), NA())","v":{"$error":"#N/A"}},{"$f":" IF(Foglio1!$C$12 <> \"\", (A37*Foglio1!$C$12) / (A37+B37), NA())","v":{"$error":"#N/A"}},0.35,{"$f":" IF(Foglio1!$F$13 <> \"\", IF( Foglio1!$C$13 <> \"\", IF(Foglio1!$I$13 <>\"\", (D37*Foglio1!$C$13) / (D37+Foglio1!$F$13*Foglio1!$I$13), NA()), NA()), NA())","v":{"$error":"#N/A"}},0.35,{"$f":" IF(Foglio1!$F$14 <> \"\", IF( Foglio1!$C$14 <> \"\", IF(Foglio1!$I$14 <>\"\", (F37*Foglio1!$C$14) / (F37+Foglio1!$F$14*Foglio1!$I$14), NA()), NA()), NA())","v":{"$error":"#N/A"}},0.35,{"$f":" IF(Foglio1!$F$15 <> \"\", IF( Foglio1!$C$15 <> \"\", IF(Foglio1!$I$15 <>\"\", (H37*Foglio1!$C$15) / (H37+Foglio1!$F$15*Foglio1!$I$15), NA()), NA()), NA())","v":{"$error":"#N/A"}},0.35,{"$f":" IF(Foglio1!$F$16 <> \"\", IF( Foglio1!$C$16 <> \"\", IF(Foglio1!$I$16 <>\"\", (J37*Foglio1!$C$16) / (J37+Foglio1!$F$16*Foglio1!$I$16), NA()), NA()), NA())","v":{"$error":"#N/A"}}]
[0.36,{"$f":" IF(Foglio1!$F$12 <> \"\", IF(Foglio1!$I$12 <> \"\", Foglio1!$F$12*Foglio1!$I$12, NA()), NA())","v":{"$error":"#N/A"}},{"$f":" IF(Foglio1!$C$12 <> \"\", (A38*Foglio1!$C$12) / (A38+B38), NA())","v":{"$error":"#N/A"}},0.36,{"$f":" IF(Foglio1!$F$13 <> \"\", IF( Foglio1!$C$13 <> \"\", IF(Foglio1!$I$13 <>\"\", (D38*Foglio1!$C$13) / (D38+Foglio1!$F$13*Foglio1!$I$13), NA()), NA()), NA())","v":{"$error":"#N/A"}},0.36,{"$f":" IF(Foglio1!$F$14 <> \"\", IF( Foglio1!$C$14 <> \"\", IF(Foglio1!$I$14 <>\"\", (F38*Foglio1!$C$14) / (F38+Foglio1!$F$14*Foglio1!$I$14), NA()), NA()), NA())","v":{"$error":"#N/A"}},0.36,{"$f":" IF(Foglio1!$F$15 <> \"\", IF( Foglio1!$C$15 <> \"\", IF(Foglio1!$I$15 <>\"\", (H38*Foglio1!$C$15) / (H38+Foglio1!$F$15*Foglio1!$I$15), NA()), NA()), NA())","v":{"$error":"#N/A"}},0.36,{"$f":" IF(Foglio1!$F$16 <> \"\", IF( Foglio1!$C$16 <> \"\", IF(Foglio1!$I$16 <>\"\", (J38*Foglio1!$C$16) / (J38+Foglio1!$F$16*Foglio1!$I$16), NA()), NA()), NA())","v":{"$error":"#N/A"}}]
[0.37,{"$f":" IF(Foglio1!$F$12 <> \"\", IF(Foglio1!$I$12 <> \"\", Foglio1!$F$12*Foglio1!$I$12, NA()), NA())","v":{"$error":"#N/A"}},{"$f":" IF(Foglio1!$C$12 <> \"\", (A39*Foglio1!$C$12) / (A39+B39), NA())","v":{"$error":"#N/A"}},0.37,{"$f":" IF(Foglio1!$F$13 <> \"\", IF( Foglio1!$C$13 <> \"\", IF(Foglio1!$I$13 <>\"\", (D39*Foglio1!$C$13) / (D39+Foglio1!$F$13*Foglio1!$I$13), NA()), NA()), NA())","v":{"$error":"#N/A"}},0.37,{"$f":" IF(Foglio1!$F$14 <> \"\", IF( Foglio1!$C$14 <> \"\", IF(Foglio1!$I$14 <>\"\", (F39*Foglio1!$C$14) / (F39+Foglio1!$F$14*Foglio1!$I$14), NA()), NA()), NA())","v":{"$error":"#N/A"}},0.37,{"$f":" IF(Foglio1!$F$15 <> \"\", IF( Foglio1!$C$15 <> \"\", IF(Foglio1!$I$15 <>\"\", (H39*Foglio1!$C$15) / (H39+Foglio1!$F$15*Foglio1!$I$15), NA()), NA()), NA())","v":{"$error":"#N/A"}},0.37,{"$f":" IF(Foglio1!$F$16 <> \"\", IF( Foglio1!$C$16 <> \"\", IF(Foglio1!$I$16 <>\"\", (J39*Foglio1!$C$16) / (J39+Foglio1!$F$16*Foglio1!$I$16), NA()), NA()), NA())","v":{"$error":"#N/A"}}]
[0.38,{"$f":" IF(Foglio1!$F$12 <> \"\", IF(Foglio1!$I$12 <> \"\", Foglio1!$F$12*Foglio1!$I$12, NA()), NA())","v":{"$error":"#N/A"}},{"$f":" IF(Foglio1!$C$12 <> \"\", (A40*Foglio1!$C$12) / (A40+B40), NA())","v":{"$error":"#N/A"}},0.38,{"$f":" IF(Foglio1!$F$13 <> \"\", IF( Foglio1!$C$13 <> \"\", IF(Foglio1!$I$13 <>\"\", (D40*Foglio1!$C$13) / (D40+Foglio1!$F$13*Foglio1!$I$13), NA()), NA()), NA())","v":{"$error":"#N/A"}},0.38,{"$f":" IF(Foglio1!$F$14 <> \"\", IF( Foglio1!$C$14 <> \"\", IF(Foglio1!$I$14 <>\"\", (F40*Foglio1!$C$14) / (F40+Foglio1!$F$14*Foglio1!$I$14), NA()), NA()), NA())","v":{"$error":"#N/A"}},0.38,{"$f":" IF(Foglio1!$F$15 <> \"\", IF( Foglio1!$C$15 <> \"\", IF(Foglio1!$I$15 <>\"\", (H40*Foglio1!$C$15) / (H40+Foglio1!$F$15*Foglio1!$I$15), NA()), NA()), NA())","v":{"$error":"#N/A"}},0.38,{"$f":" IF(Foglio1!$F$16 <> \"\", IF( Foglio1!$C$16 <> \"\", IF(Foglio1!$I$16 <>\"\", (J40*Foglio1!$C$16) / (J40+Foglio1!$F$16*Foglio1!$I$16), NA()), NA()), NA())","v":{"$error":"#N/A"}}]
[0.39,{"$f":" IF(Foglio1!$F$12 <> \"\", IF(Foglio1!$I$12 <> \"\", Foglio1!$F$12*Foglio1!$I$12, NA()), NA())","v":{"$error":"#N/A"}},{"$f":" IF(Foglio1!$C$12 <> \"\", (A41*Foglio1!$C$12) / (A41+B41), NA())","v":{"$error":"#N/A"}},0.39,{"$f":" IF(Foglio1!$F$13 <> \"\", IF( Foglio1!$C$13 <> \"\", IF(Foglio1!$I$13 <>\"\", (D41*Foglio1!$C$13) / (D41+Foglio1!$F$13*Foglio1!$I$13), NA()), NA()), NA())","v":{"$error":"#N/A"}},0.39,{"$f":" IF(Foglio1!$F$14 <> \"\", IF( Foglio1!$C$14 <> \"\", IF(Foglio1!$I$14 <>\"\", (F41*Foglio1!$C$14) / (F41+Foglio1!$F$14*Foglio1!$I$14), NA()), NA()), NA())","v":{"$error":"#N/A"}},0.39,{"$f":" IF(Foglio1!$F$15 <> \"\", IF( Foglio1!$C$15 <> \"\", IF(Foglio1!$I$15 <>\"\", (H41*Foglio1!$C$15) / (H41+Foglio1!$F$15*Foglio1!$I$15), NA()), NA()), NA())","v":{"$error":"#N/A"}},0.39,{"$f":" IF(Foglio1!$F$16 <> \"\", IF( Foglio1!$C$16 <> \"\", IF(Foglio1!$I$16 <>\"\", (J41*Foglio1!$C$16) / (J41+Foglio1!$F$16*Foglio1!$I$16), NA()), NA()), NA())","v":{"$error":"#N/A"}}]
[0.4,{"$f":" IF(Foglio1!$F$12 <> \"\", IF(Foglio1!$I$12 <> \"\", Foglio1!$F$12*Foglio1!$I$12, NA()), NA())","v":{"$error":"#N/A"}},{"$f":" IF(Foglio1!$C$12 <> \"\", (A42*Foglio1!$C$12) / (A42+B42), NA())","v":{"$error":"#N/A"}},0.4,{"$f":" IF(Foglio1!$F$13 <> \"\", IF( Foglio1!$C$13 <> \"\", IF(Foglio1!$I$13 <>\"\", (D42*Foglio1!$C$13) / (D42+Foglio1!$F$13*Foglio1!$I$13), NA()), NA()), NA())","v":{"$error":"#N/A"}},0.4,{"$f":" IF(Foglio1!$F$14 <> \"\", IF( Foglio1!$C$14 <> \"\", IF(Foglio1!$I$14 <>\"\", (F42*Foglio1!$C$14) / (F42+Foglio1!$F$14*Foglio1!$I$14), NA()), NA()), NA())","v":{"$error":"#N/A"}},0.4,{"$f":" IF(Foglio1!$F$15 <> \"\", IF( Foglio1!$C$15 <> \"\", IF(Foglio1!$I$15 <>\"\", (H42*Foglio1!$C$15) / (H42+Foglio1!$F$15*Foglio1!$I$15), NA()), NA()), NA())","v":{"$error":"#N/A"}},0.4,{"$f":" IF(Foglio1!$F$16 <> \"\", IF( Foglio1!$C$16 <> \"\", IF(Foglio1!$I$16 <>\"\", (J42*Foglio1!$C$16) / (J42+Foglio1!$F$16*Foglio1!$I$16), NA()), NA()), NA())","v":{"$error":"#N/A"}}]
[0.41,{"$f":" IF(Foglio1!$F$12 <> \"\", IF(Foglio1!$I$12 <> \"\", Foglio1!$F$12*Foglio1!$I$12, NA()), NA())","v":{"$error":"#N/A"}},{"$f":" IF(Foglio1!$C$12 <> \"\", (A43*Foglio1!$C$12) / (A43+B43), NA())","v":{"$error":"#N/A"}},0.41,{"$f":" IF(Foglio1!$F$13 <> \"\", IF( Foglio1!$C$13 <> \"\", IF(Foglio1!$I$13 <>\"\", (D43*Foglio1!$C$13) / (D43+Foglio1!$F$13*Foglio1!$I$13), NA()), NA()), NA())","v":{"$error":"#N/A"}},0.41,{"$f":" IF(Foglio1!$F$14 <> \"\", IF( Foglio1!$C$14 <> \"\", IF(Foglio1!$I$14 <>\"\", (F43*Foglio1!$C$14) / (F43+Foglio1!$F$14*Foglio1!$I$14), NA()), NA()), NA())","v":{"$error":"#N/A"}},0.41,{"$f":" IF(Foglio1!$F$15 <> \"\", IF( Foglio1!$C$15 <> \"\", IF(Foglio1!$I$15 <>\"\", (H43*Foglio1!$C$15) / (H43+Foglio1!$F$15*Foglio1!$I$15), NA()), NA()), NA())","v":{"$error":"#N/A"}},0.41,{"$f":" IF(Foglio1!$F$16 <> \"\", IF( Foglio1!$C$16 <> \"\", IF(Foglio1!$I$16 <>\"\", (J43*Foglio1!$C$16) / (J43+Foglio1!$F$16*Foglio1!$I$16), NA()), NA()), NA())","v":{"$error":"#N/A"}}]
[0.42,{"$f":" IF(Foglio1!$F$12 <> \"\", IF(Foglio1!$I$12 <> \"\", Foglio1!$F$12*Foglio1!$I$12, NA()), NA())","v":{"$error":"#N/A"}},{"$f":" IF(Foglio1!$C$12 <> \"\", (A44*Foglio1!$C$12) / (A44+B44), NA())","v":{"$error":"#N/A"}},0.42,{"$f":" IF(Foglio1!$F$13 <> \"\", IF( Foglio1!$C$13 <> \"\", IF(Foglio1!$I$13 <>\"\", (D44*Foglio1!$C$13) / (D44+Foglio1!$F$13*Foglio1!$I$13), NA()), NA()), NA())","v":{"$error":"#N/A"}},0.42,{"$f":" IF(Foglio1!$F$14 <> \"\", IF( Foglio1!$C$14 <> \"\", IF(Foglio1!$I$14 <>\"\", (F44*Foglio1!$C$14) / (F44+Foglio1!$F$14*Foglio1!$I$14), NA()), NA()), NA())","v":{"$error":"#N/A"}},0.42,{"$f":" IF(Foglio1!$F$15 <> \"\", IF( Foglio1!$C$15 <> \"\", IF(Foglio1!$I$15 <>\"\", (H44*Foglio1!$C$15) / (H44+Foglio1!$F$15*Foglio1!$I$15), NA()), NA()), NA())","v":{"$error":"#N/A"}},0.42,{"$f":" IF(Foglio1!$F$16 <> \"\", IF( Foglio1!$C$16 <> \"\", IF(Foglio1!$I$16 <>\"\", (J44*Foglio1!$C$16) / (J44+Foglio1!$F$16*Foglio1!$I$16), NA()), NA()), NA())","v":{"$error":"#N/A"}}]
[0.43,{"$f":" IF(Foglio1!$F$12 <> \"\", IF(Foglio1!$I$12 <> \"\", Foglio1!$F$12*Foglio1!$I$12, NA()), NA())","v":{"$error":"#N/A"}},{"$f":" IF(Foglio1!$C$12 <> \"\", (A45*Foglio1!$C$12) / (A45+B45), NA())","v":{"$error":"#N/A"}},0.43,{"$f":" IF(Foglio1!$F$13 <> \"\", IF( Foglio1!$C$13 <> \"\", IF(Foglio1!$I$13 <>\"\", (D45*Foglio1!$C$13) / (D45+Foglio1!$F$13*Foglio1!$I$13), NA()), NA()), NA())","v":{"$error":"#N/A"}},0.43,{"$f":" IF(Foglio1!$F$14 <> \"\", IF( Foglio1!$C$14 <> \"\", IF(Foglio1!$I$14 <>\"\", (F45*Foglio1!$C$14) / (F45+Foglio1!$F$14*Foglio1!$I$14), NA()), NA()), NA())","v":{"$error":"#N/A"}},0.43,{"$f":" IF(Foglio1!$F$15 <> \"\", IF( Foglio1!$C$15 <> \"\", IF(Foglio1!$I$15 <>\"\", (H45*Foglio1!$C$15) / (H45+Foglio1!$F$15*Foglio1!$I$15), NA()), NA()), NA())","v":{"$error":"#N/A"}},0.43,{"$f":" IF(Foglio1!$F$16 <> \"\", IF( Foglio1!$C$16 <> \"\", IF(Foglio1!$I$16 <>\"\", (J45*Foglio1!$C$16) / (J45+Foglio1!$F$16*Foglio1!$I$16), NA()), NA()), NA())","v":{"$error":"#N/A"}}]
[0.44,{"$f":" IF(Foglio1!$F$12 <> \"\", IF(Foglio1!$I$12 <> \"\", Foglio1!$F$12*Foglio1!$I$12, NA()), NA())","v":{"$error":"#N/A"}},{"$f":" IF(Foglio1!$C$12 <> \"\", (A46*Foglio1!$C$12) / (A46+B46), NA())","v":{"$error":"#N/A"}},0.44,{"$f":" IF(Foglio1!$F$13 <> \"\", IF( Foglio1!$C$13 <> \"\", IF(Foglio1!$I$13 <>\"\", (D46*Foglio1!$C$13) / (D46+Foglio1!$F$13*Foglio1!$I$13), NA()), NA()), NA())","v":{"$error":"#N/A"}},0.44,{"$f":" IF(Foglio1!$F$14 <> \"\", IF( Foglio1!$C$14 <> \"\", IF(Foglio1!$I$14 <>\"\", (F46*Foglio1!$C$14) / (F46+Foglio1!$F$14*Foglio1!$I$14), NA()), NA()), NA())","v":{"$error":"#N/A"}},0.44,{"$f":" IF(Foglio1!$F$15 <> \"\", IF( Foglio1!$C$15 <> \"\", IF(Foglio1!$I$15 <>\"\", (H46*Foglio1!$C$15) / (H46+Foglio1!$F$15*Foglio1!$I$15), NA()), NA()), NA())","v":{"$error":"#N/A"}},0.44,{"$f":" IF(Foglio1!$F$16 <> \"\", IF( Foglio1!$C$16 <> \"\", IF(Foglio1!$I$16 <>\"\", (J46*Foglio1!$C$16) / (J46+Foglio1!$F$16*Foglio1!$I$16), NA()), NA()), NA())","v":{"$error":"#N/A"}}]
[0.45,{"$f":" IF(Foglio1!$F$12 <> \"\", IF(Foglio1!$I$12 <> \"\", Foglio1!$F$12*Foglio1!$I$12, NA()), NA())","v":{"$error":"#N/A"}},{"$f":" IF(Foglio1!$C$12 <> \"\", (A47*Foglio1!$C$12) / (A47+B47), NA())","v":{"$error":"#N/A"}},0.45,{"$f":" IF(Foglio1!$F$13 <> \"\", IF( Foglio1!$C$13 <> \"\", IF(Foglio1!$I$13 <>\"\", (D47*Foglio1!$C$13) / (D47+Foglio1!$F$13*Foglio1!$I$13), NA()), NA()), NA())","v":{"$error":"#N/A"}},0.45,{"$f":" IF(Foglio1!$F$14 <> \"\", IF( Foglio1!$C$14 <> \"\", IF(Foglio1!$I$14 <>\"\", (F47*Foglio1!$C$14) / (F47+Foglio1!$F$14*Foglio1!$I$14), NA()), NA()), NA())","v":{"$error":"#N/A"}},0.45,{"$f":" IF(Foglio1!$F$15 <> \"\", IF( Foglio1!$C$15 <> \"\", IF(Foglio1!$I$15 <>\"\", (H47*Foglio1!$C$15) / (H47+Foglio1!$F$15*Foglio1!$I$15), NA()), NA()), NA())","v":{"$error":"#N/A"}},0.45,{"$f":" IF(Foglio1!$F$16 <> \"\", IF( Foglio1!$C$16 <> \"\", IF(Foglio1!$I$16 <>\"\", (J47*Foglio1!$C$16) / (J47+Foglio1!$F$16*Foglio1!$I$16), NA()), NA()), NA())","v":{"$error":"#N/A"}}]
[0.46,{"$f":" IF(Foglio1!$F$12 <> \"\", IF(Foglio1!$I$12 <> \"\", Foglio1!$F$12*Foglio1!$I$12, NA()), NA())","v":{"$error":"#N/A"}},{"$f":" IF(Foglio1!$C$12 <> \"\", (A48*Foglio1!$C$12) / (A48+B48), NA())","v":{"$error":"#N/A"}},0.46,{"$f":" IF(Foglio1!$F$13 <> \"\", IF( Foglio1!$C$13 <> \"\", IF(Foglio1!$I$13 <>\"\", (D48*Foglio1!$C$13) / (D48+Foglio1!$F$13*Foglio1!$I$13), NA()), NA()), NA())","v":{"$error":"#N/A"}},0.46,{"$f":" IF(Foglio1!$F$14 <> \"\", IF( Foglio1!$C$14 <> \"\", IF(Foglio1!$I$14 <>\"\", (F48*Foglio1!$C$14) / (F48+Foglio1!$F$14*Foglio1!$I$14), NA()), NA()), NA())","v":{"$error":"#N/A"}},0.46,{"$f":" IF(Foglio1!$F$15 <> \"\", IF( Foglio1!$C$15 <> \"\", IF(Foglio1!$I$15 <>\"\", (H48*Foglio1!$C$15) / (H48+Foglio1!$F$15*Foglio1!$I$15), NA()), NA()), NA())","v":{"$error":"#N/A"}},0.46,{"$f":" IF(Foglio1!$F$16 <> \"\", IF( Foglio1!$C$16 <> \"\", IF(Foglio1!$I$16 <>\"\", (J48*Foglio1!$C$16) / (J48+Foglio1!$F$16*Foglio1!$I$16), NA()), NA()), NA())","v":{"$error":"#N/A"}}]
[0.47,{"$f":" IF(Foglio1!$F$12 <> \"\", IF(Foglio1!$I$12 <> \"\", Foglio1!$F$12*Foglio1!$I$12, NA()), NA())","v":{"$error":"#N/A"}},{"$f":" IF(Foglio1!$C$12 <> \"\", (A49*Foglio1!$C$12) / (A49+B49), NA())","v":{"$error":"#N/A"}},0.47,{"$f":" IF(Foglio1!$F$13 <> \"\", IF( Foglio1!$C$13 <> \"\", IF(Foglio1!$I$13 <>\"\", (D49*Foglio1!$C$13) / (D49+Foglio1!$F$13*Foglio1!$I$13), NA()), NA()), NA())","v":{"$error":"#N/A"}},0.47,{"$f":" IF(Foglio1!$F$14 <> \"\", IF( Foglio1!$C$14 <> \"\", IF(Foglio1!$I$14 <>\"\", (F49*Foglio1!$C$14) / (F49+Foglio1!$F$14*Foglio1!$I$14), NA()), NA()), NA())","v":{"$error":"#N/A"}},0.47,{"$f":" IF(Foglio1!$F$15 <> \"\", IF( Foglio1!$C$15 <> \"\", IF(Foglio1!$I$15 <>\"\", (H49*Foglio1!$C$15) / (H49+Foglio1!$F$15*Foglio1!$I$15), NA()), NA()), NA())","v":{"$error":"#N/A"}},0.47,{"$f":" IF(Foglio1!$F$16 <> \"\", IF( Foglio1!$C$16 <> \"\", IF(Foglio1!$I$16 <>\"\", (J49*Foglio1!$C$16) / (J49+Foglio1!$F$16*Foglio1!$I$16), NA()), NA()), NA())","v":{"$error":"#N/A"}}]
[0.48,{"$f":" IF(Foglio1!$F$12 <> \"\", IF(Foglio1!$I$12 <> \"\", Foglio1!$F$12*Foglio1!$I$12, NA()), NA())","v":{"$error":"#N/A"}},{"$f":" IF(Foglio1!$C$12 <> \"\", (A50*Foglio1!$C$12) / (A50+B50), NA())","v":{"$error":"#N/A"}},0.48,{"$f":" IF(Foglio1!$F$13 <> \"\", IF( Foglio1!$C$13 <> \"\", IF(Foglio1!$I$13 <>\"\", (D50*Foglio1!$C$13) / (D50+Foglio1!$F$13*Foglio1!$I$13), NA()), NA()), NA())","v":{"$error":"#N/A"}},0.48,{"$f":" IF(Foglio1!$F$14 <> \"\", IF( Foglio1!$C$14 <> \"\", IF(Foglio1!$I$14 <>\"\", (F50*Foglio1!$C$14) / (F50+Foglio1!$F$14*Foglio1!$I$14), NA()), NA()), NA())","v":{"$error":"#N/A"}},0.48,{"$f":" IF(Foglio1!$F$15 <> \"\", IF( Foglio1!$C$15 <> \"\", IF(Foglio1!$I$15 <>\"\", (H50*Foglio1!$C$15) / (H50+Foglio1!$F$15*Foglio1!$I$15), NA()), NA()), NA())","v":{"$error":"#N/A"}},0.48,{"$f":" IF(Foglio1!$F$16 <> \"\", IF( Foglio1!$C$16 <> \"\", IF(Foglio1!$I$16 <>\"\", (J50*Foglio1!$C$16) / (J50+Foglio1!$F$16*Foglio1!$I$16), NA()), NA()), NA())","v":{"$error":"#N/A"}}]
[0.49,{"$f":" IF(Foglio1!$F$12 <> \"\", IF(Foglio1!$I$12 <> \"\", Foglio1!$F$12*Foglio1!$I$12, NA()), NA())","v":{"$error":"#N/A"}},{"$f":" IF(Foglio1!$C$12 <> \"\", (A51*Foglio1!$C$12) / (A51+B51), NA())","v":{"$error":"#N/A"}},0.49,{"$f":" IF(Foglio1!$F$13 <> \"\", IF( Foglio1!$C$13 <> \"\", IF(Foglio1!$I$13 <>\"\", (D51*Foglio1!$C$13) / (D51+Foglio1!$F$13*Foglio1!$I$13), NA()), NA()), NA())","v":{"$error":"#N/A"}},0.49,{"$f":" IF(Foglio1!$F$14 <> \"\", IF( Foglio1!$C$14 <> \"\", IF(Foglio1!$I$14 <>\"\", (F51*Foglio1!$C$14) / (F51+Foglio1!$F$14*Foglio1!$I$14), NA()), NA()), NA())","v":{"$error":"#N/A"}},0.49,{"$f":" IF(Foglio1!$F$15 <> \"\", IF( Foglio1!$C$15 <> \"\", IF(Foglio1!$I$15 <>\"\", (H51*Foglio1!$C$15) / (H51+Foglio1!$F$15*Foglio1!$I$15), NA()), NA()), NA())","v":{"$error":"#N/A"}},0.49,{"$f":" IF(Foglio1!$F$16 <> \"\", IF( Foglio1!$C$16 <> \"\", IF(Foglio1!$I$16 <>\"\", (J51*Foglio1!$C$16) / (J51+Foglio1!$F$16*Foglio1!$I$16), NA()), NA()), NA())","v":{"$error":"#N/A"}}]
[0.5,{"$f":" IF(Foglio1!$F$12 <> \"\", IF(Foglio1!$I$12 <> \"\", Foglio1!$F$12*Foglio1!$I$12, NA()), NA())","v":{"$error":"#N/A"}},{"$f":" IF(Foglio1!$C$12 <> \"\", (A52*Foglio1!$C$12) / (A52+B52), NA())","v":{"$error":"#N/A"}},0.5,{"$f":" IF(Foglio1!$F$13 <> \"\", IF( Foglio1!$C$13 <> \"\", IF(Foglio1!$I$13 <>\"\", (D52*Foglio1!$C$13) / (D52+Foglio1!$F$13*Foglio1!$I$13), NA()), NA()), NA())","v":{"$error":"#N/A"}},0.5,{"$f":" IF(Foglio1!$F$14 <> \"\", IF( Foglio1!$C$14 <> \"\", IF(Foglio1!$I$14 <>\"\", (F52*Foglio1!$C$14) / (F52+Foglio1!$F$14*Foglio1!$I$14), NA()), NA()), NA())","v":{"$error":"#N/A"}},0.5,{"$f":" IF(Foglio1!$F$15 <> \"\", IF( Foglio1!$C$15 <> \"\", IF(Foglio1!$I$15 <>\"\", (H52*Foglio1!$C$15) / (H52+Foglio1!$F$15*Foglio1!$I$15), NA()), NA()), NA())","v":{"$error":"#N/A"}},0.5,{"$f":" IF(Foglio1!$F$16 <> \"\", IF( Foglio1!$C$16 <> \"\", IF(Foglio1!$I$16 <>\"\", (J52*Foglio1!$C$16) / (J52+Foglio1!$F$16*Foglio1!$I$16), NA()), NA()), NA())","v":{"$error":"#N/A"}}]
[0.51,{"$f":" IF(Foglio1!$F$12 <> \"\", IF(Foglio1!$I$12 <> \"\", Foglio1!$F$12*Foglio1!$I$12, NA()), NA())","v":{"$error":"#N/A"}},{"$f":" IF(Foglio1!$C$12 <> \"\", (A53*Foglio1!$C$12) / (A53+B53), NA())","v":{"$error":"#N/A"}},0.51,{"$f":" IF(Foglio1!$F$13 <> \"\", IF( Foglio1!$C$13 <> \"\", IF(Foglio1!$I$13 <>\"\", (D53*Foglio1!$C$13) / (D53+Foglio1!$F$13*Foglio1!$I$13), NA()), NA()), NA())","v":{"$error":"#N/A"}},0.51,{"$f":" IF(Foglio1!$F$14 <> \"\", IF( Foglio1!$C$14 <> \"\", IF(Foglio1!$I$14 <>\"\", (F53*Foglio1!$C$14) / (F53+Foglio1!$F$14*Foglio1!$I$14), NA()), NA()), NA())","v":{"$error":"#N/A"}},0.51,{"$f":" IF(Foglio1!$F$15 <> \"\", IF( Foglio1!$C$15 <> \"\", IF(Foglio1!$I$15 <>\"\", (H53*Foglio1!$C$15) / (H53+Foglio1!$F$15*Foglio1!$I$15), NA()), NA()), NA())","v":{"$error":"#N/A"}},0.51,{"$f":" IF(Foglio1!$F$16 <> \"\", IF( Foglio1!$C$16 <> \"\", IF(Foglio1!$I$16 <>\"\", (J53*Foglio1!$C$16) / (J53+Foglio1!$F$16*Foglio1!$I$16), NA()), NA()), NA())","v":{"$error":"#N/A"}}]
[0.52,{"$f":" IF(Foglio1!$F$12 <> \"\", IF(Foglio1!$I$12 <> \"\", Foglio1!$F$12*Foglio1!$I$12, NA()), NA())","v":{"$error":"#N/A"}},{"$f":" IF(Foglio1!$C$12 <> \"\", (A54*Foglio1!$C$12) / (A54+B54), NA())","v":{"$error":"#N/A"}},0.52,{"$f":" IF(Foglio1!$F$13 <> \"\", IF( Foglio1!$C$13 <> \"\", IF(Foglio1!$I$13 <>\"\", (D54*Foglio1!$C$13) / (D54+Foglio1!$F$13*Foglio1!$I$13), NA()), NA()), NA())","v":{"$error":"#N/A"}},0.52,{"$f":" IF(Foglio1!$F$14 <> \"\", IF( Foglio1!$C$14 <> \"\", IF(Foglio1!$I$14 <>\"\", (F54*Foglio1!$C$14) / (F54+Foglio1!$F$14*Foglio1!$I$14), NA()), NA()), NA())","v":{"$error":"#N/A"}},0.52,{"$f":" IF(Foglio1!$F$15 <> \"\", IF( Foglio1!$C$15 <> \"\", IF(Foglio1!$I$15 <>\"\", (H54*Foglio1!$C$15) / (H54+Foglio1!$F$15*Foglio1!$I$15), NA()), NA()), NA())","v":{"$error":"#N/A"}},0.52,{"$f":" IF(Foglio1!$F$16 <> \"\", IF( Foglio1!$C$16 <> \"\", IF(Foglio1!$I$16 <>\"\", (J54*Foglio1!$C$16) / (J54+Foglio1!$F$16*Foglio1!$I$16), NA()), NA()), NA())","v":{"$error":"#N/A"}}]
[0.53,{"$f":" IF(Foglio1!$F$12 <> \"\", IF(Foglio1!$I$12 <> \"\", Foglio1!$F$12*Foglio1!$I$12, NA()), NA())","v":{"$error":"#N/A"}},{"$f":" IF(Foglio1!$C$12 <> \"\", (A55*Foglio1!$C$12) / (A55+B55), NA())","v":{"$error":"#N/A"}},0.53,{"$f":" IF(Foglio1!$F$13 <> \"\", IF( Foglio1!$C$13 <> \"\", IF(Foglio1!$I$13 <>\"\", (D55*Foglio1!$C$13) / (D55+Foglio1!$F$13*Foglio1!$I$13), NA()), NA()), NA())","v":{"$error":"#N/A"}},0.53,{"$f":" IF(Foglio1!$F$14 <> \"\", IF( Foglio1!$C$14 <> \"\", IF(Foglio1!$I$14 <>\"\", (F55*Foglio1!$C$14) / (F55+Foglio1!$F$14*Foglio1!$I$14), NA()), NA()), NA())","v":{"$error":"#N/A"}},0.53,{"$f":" IF(Foglio1!$F$15 <> \"\", IF( Foglio1!$C$15 <> \"\", IF(Foglio1!$I$15 <>\"\", (H55*Foglio1!$C$15) / (H55+Foglio1!$F$15*Foglio1!$I$15), NA()), NA()), NA())","v":{"$error":"#N/A"}},0.53,{"$f":" IF(Foglio1!$F$16 <> \"\", IF( Foglio1!$C$16 <> \"\", IF(Foglio1!$I$16 <>\"\", (J55*Foglio1!$C$16) / (J55+Foglio1!$F$16*Foglio1!$I$16), NA()), NA()), NA())","v":{"$error":"#N/A"}}]
[0.54,{"$f":" IF(Foglio1!$F$12 <> \"\", IF(Foglio1!$I$12 <> \"\", Foglio1!$F$12*Foglio1!$I$12, NA()), NA())","v":{"$error":"#N/A"}},{"$f":" IF(Foglio1!$C$12 <> \"\", (A56*Foglio1!$C$12) / (A56+B56), NA())","v":{"$error":"#N/A"}},0.54,{"$f":" IF(Foglio1!$F$13 <> \"\", IF( Foglio1!$C$13 <> \"\", IF(Foglio1!$I$13 <>\"\", (D56*Foglio1!$C$13) / (D56+Foglio1!$F$13*Foglio1!$I$13), NA()), NA()), NA())","v":{"$error":"#N/A"}},0.54,{"$f":" IF(Foglio1!$F$14 <> \"\", IF( Foglio1!$C$14 <> \"\", IF(Foglio1!$I$14 <>\"\", (F56*Foglio1!$C$14) / (F56+Foglio1!$F$14*Foglio1!$I$14), NA()), NA()), NA())","v":{"$error":"#N/A"}},0.54,{"$f":" IF(Foglio1!$F$15 <> \"\", IF( Foglio1!$C$15 <> \"\", IF(Foglio1!$I$15 <>\"\", (H56*Foglio1!$C$15) / (H56+Foglio1!$F$15*Foglio1!$I$15), NA()), NA()), NA())","v":{"$error":"#N/A"}},0.54,{"$f":" IF(Foglio1!$F$16 <> \"\", IF( Foglio1!$C$16 <> \"\", IF(Foglio1!$I$16 <>\"\", (J56*Foglio1!$C$16) / (J56+Foglio1!$F$16*Foglio1!$I$16), NA()), NA()), NA())","v":{"$error":"#N/A"}}]
[0.55000000000000004,{"$f":" IF(Foglio1!$F$12 <> \"\", IF(Foglio1!$I$12 <> \"\", Foglio1!$F$12*Foglio1!$I$12, NA()), NA())","v":{"$error":"#N/A"}},{"$f":" IF(Foglio1!$C$12 <> \"\", (A57*Foglio1!$C$12) / (A57+B57), NA())","v":{"$error":"#N/A"}},0.55000000000000004,{"$f":" IF(Foglio1!$F$13 <> \"\", IF( Foglio1!$C$13 <> \"\", IF(Foglio1!$I$13 <>\"\", (D57*Foglio1!$C$13) / (D57+Foglio1!$F$13*Foglio1!$I$13), NA()), NA()), NA())","v":{"$error":"#N/A"}},0.55000000000000004,{"$f":" IF(Foglio1!$F$14 <> \"\", IF( Foglio1!$C$14 <> \"\", IF(Foglio1!$I$14 <>\"\", (F57*Foglio1!$C$14) / (F57+Foglio1!$F$14*Foglio1!$I$14), NA()), NA()), NA())","v":{"$error":"#N/A"}},0.55000000000000004,{"$f":" IF(Foglio1!$F$15 <> \"\", IF( Foglio1!$C$15 <> \"\", IF(Foglio1!$I$15 <>\"\", (H57*Foglio1!$C$15) / (H57+Foglio1!$F$15*Foglio1!$I$15), NA()), NA()), NA())","v":{"$error":"#N/A"}},0.55000000000000004,{"$f":" IF(Foglio1!$F$16 <> \"\", IF( Foglio1!$C$16 <> \"\", IF(Foglio1!$I$16 <>\"\", (J57*Foglio1!$C$16) / (J57+Foglio1!$F$16*Foglio1!$I$16), NA()), NA()), NA())","v":{"$error":"#N/A"}}]
[0.56000000000000005,{"$f":" IF(Foglio1!$F$12 <> \"\", IF(Foglio1!$I$12 <> \"\", Foglio1!$F$12*Foglio1!$I$12, NA()), NA())","v":{"$error":"#N/A"}},{"$f":" IF(Foglio1!$C$12 <> \"\", (A58*Foglio1!$C$12) / (A58+B58), NA())","v":{"$error":"#N/A"}},0.56000000000000005,{"$f":" IF(Foglio1!$F$13 <> \"\", IF( Foglio1!$C$13 <> \"\", IF(Foglio1!$I$13 <>\"\", (D58*Foglio1!$C$13) / (D58+Foglio1!$F$13*Foglio1!$I$13), NA()), NA()), NA())","v":{"$error":"#N/A"}},0.56000000000000005,{"$f":" IF(Foglio1!$F$14 <> \"\", IF( Foglio1!$C$14 <> \"\", IF(Foglio1!$I$14 <>\"\", (F58*Foglio1!$C$14) / (F58+Foglio1!$F$14*Foglio1!$I$14), NA()), NA()), NA())","v":{"$error":"#N/A"}},0.56000000000000005,{"$f":" IF(Foglio1!$F$15 <> \"\", IF( Foglio1!$C$15 <> \"\", IF(Foglio1!$I$15 <>\"\", (H58*Foglio1!$C$15) / (H58+Foglio1!$F$15*Foglio1!$I$15), NA()), NA()), NA())","v":{"$error":"#N/A"}},0.56000000000000005,{"$f":" IF(Foglio1!$F$16 <> \"\", IF( Foglio1!$C$16 <> \"\", IF(Foglio1!$I$16 <>\"\", (J58*Foglio1!$C$16) / (J58+Foglio1!$F$16*Foglio1!$I$16), NA()), NA()), NA())","v":{"$error":"#N/A"}}]
[0.56999999999999995,{"$f":" IF(Foglio1!$F$12 <> \"\", IF(Foglio1!$I$12 <> \"\", Foglio1!$F$12*Foglio1!$I$12, NA()), NA())","v":{"$error":"#N/A"}},{"$f":" IF(Foglio1!$C$12 <> \"\", (A59*Foglio1!$C$12) / (A59+B59), NA())","v":{"$error":"#N/A"}},0.56999999999999995,{"$f":" IF(Foglio1!$F$13 <> \"\", IF( Foglio1!$C$13 <> \"\", IF(Foglio1!$I$13 <>\"\", (D59*Foglio1!$C$13) / (D59+Foglio1!$F$13*Foglio1!$I$13), NA()), NA()), NA())","v":{"$error":"#N/A"}},0.56999999999999995,{"$f":" IF(Foglio1!$F$14 <> \"\", IF( Foglio1!$C$14 <> \"\", IF(Foglio1!$I$14 <>\"\", (F59*Foglio1!$C$14) / (F59+Foglio1!$F$14*Foglio1!$I$14), NA()), NA()), NA())","v":{"$error":"#N/A"}},0.56999999999999995,{"$f":" IF(Foglio1!$F$15 <> \"\", IF( Foglio1!$C$15 <> \"\", IF(Foglio1!$I$15 <>\"\", (H59*Foglio1!$C$15) / (H59+Foglio1!$F$15*Foglio1!$I$15), NA()), NA()), NA())","v":{"$error":"#N/A"}},0.56999999999999995,{"$f":" IF(Foglio1!$F$16 <> \"\", IF( Foglio1!$C$16 <> \"\", IF(Foglio1!$I$16 <>\"\", (J59*Foglio1!$C$16) / (J59+Foglio1!$F$16*Foglio1!$I$16), NA()), NA()), NA())","v":{"$error":"#N/A"}}]
[0.57999999999999996,{"$f":" IF(Foglio1!$F$12 <> \"\", IF(Foglio1!$I$12 <> \"\", Foglio1!$F$12*Foglio1!$I$12, NA()), NA())","v":{"$error":"#N/A"}},{"$f":" IF(Foglio1!$C$12 <> \"\", (A60*Foglio1!$C$12) / (A60+B60), NA())","v":{"$error":"#N/A"}},0.57999999999999996,{"$f":" IF(Foglio1!$F$13 <> \"\", IF( Foglio1!$C$13 <> \"\", IF(Foglio1!$I$13 <>\"\", (D60*Foglio1!$C$13) / (D60+Foglio1!$F$13*Foglio1!$I$13), NA()), NA()), NA())","v":{"$error":"#N/A"}},0.57999999999999996,{"$f":" IF(Foglio1!$F$14 <> \"\", IF( Foglio1!$C$14 <> \"\", IF(Foglio1!$I$14 <>\"\", (F60*Foglio1!$C$14) / (F60+Foglio1!$F$14*Foglio1!$I$14), NA()), NA()), NA())","v":{"$error":"#N/A"}},0.57999999999999996,{"$f":" IF(Foglio1!$F$15 <> \"\", IF( Foglio1!$C$15 <> \"\", IF(Foglio1!$I$15 <>\"\", (H60*Foglio1!$C$15) / (H60+Foglio1!$F$15*Foglio1!$I$15), NA()), NA()), NA())","v":{"$error":"#N/A"}},0.57999999999999996,{"$f":" IF(Foglio1!$F$16 <> \"\", IF( Foglio1!$C$16 <> \"\", IF(Foglio1!$I$16 <>\"\", (J60*Foglio1!$C$16) / (J60+Foglio1!$F$16*Foglio1!$I$16), NA()), NA()), NA())","v":{"$error":"#N/A"}}]
[0.59,{"$f":" IF(Foglio1!$F$12 <> \"\", IF(Foglio1!$I$12 <> \"\", Foglio1!$F$12*Foglio1!$I$12, NA()), NA())","v":{"$error":"#N/A"}},{"$f":" IF(Foglio1!$C$12 <> \"\", (A61*Foglio1!$C$12) / (A61+B61), NA())","v":{"$error":"#N/A"}},0.59,{"$f":" IF(Foglio1!$F$13 <> \"\", IF( Foglio1!$C$13 <> \"\", IF(Foglio1!$I$13 <>\"\", (D61*Foglio1!$C$13) / (D61+Foglio1!$F$13*Foglio1!$I$13), NA()), NA()), NA())","v":{"$error":"#N/A"}},0.59,{"$f":" IF(Foglio1!$F$14 <> \"\", IF( Foglio1!$C$14 <> \"\", IF(Foglio1!$I$14 <>\"\", (F61*Foglio1!$C$14) / (F61+Foglio1!$F$14*Foglio1!$I$14), NA()), NA()), NA())","v":{"$error":"#N/A"}},0.59,{"$f":" IF(Foglio1!$F$15 <> \"\", IF( Foglio1!$C$15 <> \"\", IF(Foglio1!$I$15 <>\"\", (H61*Foglio1!$C$15) / (H61+Foglio1!$F$15*Foglio1!$I$15), NA()), NA()), NA())","v":{"$error":"#N/A"}},0.59,{"$f":" IF(Foglio1!$F$16 <> \"\", IF( Foglio1!$C$16 <> \"\", IF(Foglio1!$I$16 <>\"\", (J61*Foglio1!$C$16) / (J61+Foglio1!$F$16*Foglio1!$I$16), NA()), NA()), NA())","v":{"$error":"#N/A"}}]
[0.6,{"$f":" IF(Foglio1!$F$12 <> \"\", IF(Foglio1!$I$12 <> \"\", Foglio1!$F$12*Foglio1!$I$12, NA()), NA())","v":{"$error":"#N/A"}},{"$f":" IF(Foglio1!$C$12 <> \"\", (A62*Foglio1!$C$12) / (A62+B62), NA())","v":{"$error":"#N/A"}},0.6,{"$f":" IF(Foglio1!$F$13 <> \"\", IF( Foglio1!$C$13 <> \"\", IF(Foglio1!$I$13 <>\"\", (D62*Foglio1!$C$13) / (D62+Foglio1!$F$13*Foglio1!$I$13), NA()), NA()), NA())","v":{"$error":"#N/A"}},0.6,{"$f":" IF(Foglio1!$F$14 <> \"\", IF( Foglio1!$C$14 <> \"\", IF(Foglio1!$I$14 <>\"\", (F62*Foglio1!$C$14) / (F62+Foglio1!$F$14*Foglio1!$I$14), NA()), NA()), NA())","v":{"$error":"#N/A"}},0.6,{"$f":" IF(Foglio1!$F$15 <> \"\", IF( Foglio1!$C$15 <> \"\", IF(Foglio1!$I$15 <>\"\", (H62*Foglio1!$C$15) / (H62+Foglio1!$F$15*Foglio1!$I$15), NA()), NA()), NA())","v":{"$error":"#N/A"}},0.6,{"$f":" IF(Foglio1!$F$16 <> \"\", IF( Foglio1!$C$16 <> \"\", IF(Foglio1!$I$16 <>\"\", (J62*Foglio1!$C$16) / (J62+Foglio1!$F$16*Foglio1!$I$16), NA()), NA()), NA())","v":{"$error":"#N/A"}}]
[0.61,{"$f":" IF(Foglio1!$F$12 <> \"\", IF(Foglio1!$I$12 <> \"\", Foglio1!$F$12*Foglio1!$I$12, NA()), NA())","v":{"$error":"#N/A"}},{"$f":" IF(Foglio1!$C$12 <> \"\", (A63*Foglio1!$C$12) / (A63+B63), NA())","v":{"$error":"#N/A"}},0.61,{"$f":" IF(Foglio1!$F$13 <> \"\", IF( Foglio1!$C$13 <> \"\", IF(Foglio1!$I$13 <>\"\", (D63*Foglio1!$C$13) / (D63+Foglio1!$F$13*Foglio1!$I$13), NA()), NA()), NA())","v":{"$error":"#N/A"}},0.61,{"$f":" IF(Foglio1!$F$14 <> \"\", IF( Foglio1!$C$14 <> \"\", IF(Foglio1!$I$14 <>\"\", (F63*Foglio1!$C$14) / (F63+Foglio1!$F$14*Foglio1!$I$14), NA()), NA()), NA())","v":{"$error":"#N/A"}},0.61,{"$f":" IF(Foglio1!$F$15 <> \"\", IF( Foglio1!$C$15 <> \"\", IF(Foglio1!$I$15 <>\"\", (H63*Foglio1!$C$15) / (H63+Foglio1!$F$15*Foglio1!$I$15), NA()), NA()), NA())","v":{"$error":"#N/A"}},0.61,{"$f":" IF(Foglio1!$F$16 <> \"\", IF( Foglio1!$C$16 <> \"\", IF(Foglio1!$I$16 <>\"\", (J63*Foglio1!$C$16) / (J63+Foglio1!$F$16*Foglio1!$I$16), NA()), NA()), NA())","v":{"$error":"#N/A"}}]
[0.62,{"$f":" IF(Foglio1!$F$12 <> \"\", IF(Foglio1!$I$12 <> \"\", Foglio1!$F$12*Foglio1!$I$12, NA()), NA())","v":{"$error":"#N/A"}},{"$f":" IF(Foglio1!$C$12 <> \"\", (A64*Foglio1!$C$12) / (A64+B64), NA())","v":{"$error":"#N/A"}},0.62,{"$f":" IF(Foglio1!$F$13 <> \"\", IF( Foglio1!$C$13 <> \"\", IF(Foglio1!$I$13 <>\"\", (D64*Foglio1!$C$13) / (D64+Foglio1!$F$13*Foglio1!$I$13), NA()), NA()), NA())","v":{"$error":"#N/A"}},0.62,{"$f":" IF(Foglio1!$F$14 <> \"\", IF( Foglio1!$C$14 <> \"\", IF(Foglio1!$I$14 <>\"\", (F64*Foglio1!$C$14) / (F64+Foglio1!$F$14*Foglio1!$I$14), NA()), NA()), NA())","v":{"$error":"#N/A"}},0.62,{"$f":" IF(Foglio1!$F$15 <> \"\", IF( Foglio1!$C$15 <> \"\", IF(Foglio1!$I$15 <>\"\", (H64*Foglio1!$C$15) / (H64+Foglio1!$F$15*Foglio1!$I$15), NA()), NA()), NA())","v":{"$error":"#N/A"}},0.62,{"$f":" IF(Foglio1!$F$16 <> \"\", IF( Foglio1!$C$16 <> \"\", IF(Foglio1!$I$16 <>\"\", (J64*Foglio1!$C$16) / (J64+Foglio1!$F$16*Foglio1!$I$16), NA()), NA()), NA())","v":{"$error":"#N/A"}}]
[0.63,{"$f":" IF(Foglio1!$F$12 <> \"\", IF(Foglio1!$I$12 <> \"\", Foglio1!$F$12*Foglio1!$I$12, NA()), NA())","v":{"$error":"#N/A"}},{"$f":" IF(Foglio1!$C$12 <> \"\", (A65*Foglio1!$C$12) / (A65+B65), NA())","v":{"$error":"#N/A"}},0.63,{"$f":" IF(Foglio1!$F$13 <> \"\", IF( Foglio1!$C$13 <> \"\", IF(Foglio1!$I$13 <>\"\", (D65*Foglio1!$C$13) / (D65+Foglio1!$F$13*Foglio1!$I$13), NA()), NA()), NA())","v":{"$error":"#N/A"}},0.63,{"$f":" IF(Foglio1!$F$14 <> \"\", IF( Foglio1!$C$14 <> \"\", IF(Foglio1!$I$14 <>\"\", (F65*Foglio1!$C$14) / (F65+Foglio1!$F$14*Foglio1!$I$14), NA()), NA()), NA())","v":{"$error":"#N/A"}},0.63,{"$f":" IF(Foglio1!$F$15 <> \"\", IF( Foglio1!$C$15 <> \"\", IF(Foglio1!$I$15 <>\"\", (H65*Foglio1!$C$15) / (H65+Foglio1!$F$15*Foglio1!$I$15), NA()), NA()), NA())","v":{"$error":"#N/A"}},0.63,{"$f":" IF(Foglio1!$F$16 <> \"\", IF( Foglio1!$C$16 <> \"\", IF(Foglio1!$I$16 <>\"\", (J65*Foglio1!$C$16) / (J65+Foglio1!$F$16*Foglio1!$I$16), NA()), NA()), NA())","v":{"$error":"#N/A"}}]
[0.64,{"$f":" IF(Foglio1!$F$12 <> \"\", IF(Foglio1!$I$12 <> \"\", Foglio1!$F$12*Foglio1!$I$12, NA()), NA())","v":{"$error":"#N/A"}},{"$f":" IF(Foglio1!$C$12 <> \"\", (A66*Foglio1!$C$12) / (A66+B66), NA())","v":{"$error":"#N/A"}},0.64,{"$f":" IF(Foglio1!$F$13 <> \"\", IF( Foglio1!$C$13 <> \"\", IF(Foglio1!$I$13 <>\"\", (D66*Foglio1!$C$13) / (D66+Foglio1!$F$13*Foglio1!$I$13), NA()), NA()), NA())","v":{"$error":"#N/A"}},0.64,{"$f":" IF(Foglio1!$F$14 <> \"\", IF( Foglio1!$C$14 <> \"\", IF(Foglio1!$I$14 <>\"\", (F66*Foglio1!$C$14) / (F66+Foglio1!$F$14*Foglio1!$I$14), NA()), NA()), NA())","v":{"$error":"#N/A"}},0.64,{"$f":" IF(Foglio1!$F$15 <> \"\", IF( Foglio1!$C$15 <> \"\", IF(Foglio1!$I$15 <>\"\", (H66*Foglio1!$C$15) / (H66+Foglio1!$F$15*Foglio1!$I$15), NA()), NA()), NA())","v":{"$error":"#N/A"}},0.64,{"$f":" IF(Foglio1!$F$16 <> \"\", IF( Foglio1!$C$16 <> \"\", IF(Foglio1!$I$16 <>\"\", (J66*Foglio1!$C$16) / (J66+Foglio1!$F$16*Foglio1!$I$16), NA()), NA()), NA())","v":{"$error":"#N/A"}}]
[0.65,{"$f":" IF(Foglio1!$F$12 <> \"\", IF(Foglio1!$I$12 <> \"\", Foglio1!$F$12*Foglio1!$I$12, NA()), NA())","v":{"$error":"#N/A"}},{"$f":" IF(Foglio1!$C$12 <> \"\", (A67*Foglio1!$C$12) / (A67+B67), NA())","v":{"$error":"#N/A"}},0.65,{"$f":" IF(Foglio1!$F$13 <> \"\", IF( Foglio1!$C$13 <> \"\", IF(Foglio1!$I$13 <>\"\", (D67*Foglio1!$C$13) / (D67+Foglio1!$F$13*Foglio1!$I$13), NA()), NA()), NA())","v":{"$error":"#N/A"}},0.65,{"$f":" IF(Foglio1!$F$14 <> \"\", IF( Foglio1!$C$14 <> \"\", IF(Foglio1!$I$14 <>\"\", (F67*Foglio1!$C$14) / (F67+Foglio1!$F$14*Foglio1!$I$14), NA()), NA()), NA())","v":{"$error":"#N/A"}},0.65,{"$f":" IF(Foglio1!$F$15 <> \"\", IF( Foglio1!$C$15 <> \"\", IF(Foglio1!$I$15 <>\"\", (H67*Foglio1!$C$15) / (H67+Foglio1!$F$15*Foglio1!$I$15), NA()), NA()), NA())","v":{"$error":"#N/A"}},0.65,{"$f":" IF(Foglio1!$F$16 <> \"\", IF( Foglio1!$C$16 <> \"\", IF(Foglio1!$I$16 <>\"\", (J67*Foglio1!$C$16) / (J67+Foglio1!$F$16*Foglio1!$I$16), NA()), NA()), NA())","v":{"$error":"#N/A"}}]
[0.66,{"$f":" IF(Foglio1!$F$12 <> \"\", IF(Foglio1!$I$12 <> \"\", Foglio1!$F$12*Foglio1!$I$12, NA()), NA())","v":{"$error":"#N/A"}},{"$f":" IF(Foglio1!$C$12 <> \"\", (A68*Foglio1!$C$12) / (A68+B68), NA())","v":{"$error":"#N/A"}},0.66,{"$f":" IF(Foglio1!$F$13 <> \"\", IF( Foglio1!$C$13 <> \"\", IF(Foglio1!$I$13 <>\"\", (D68*Foglio1!$C$13) / (D68+Foglio1!$F$13*Foglio1!$I$13), NA()), NA()), NA())","v":{"$error":"#N/A"}},0.66,{"$f":" IF(Foglio1!$F$14 <> \"\", IF( Foglio1!$C$14 <> \"\", IF(Foglio1!$I$14 <>\"\", (F68*Foglio1!$C$14) / (F68+Foglio1!$F$14*Foglio1!$I$14), NA()), NA()), NA())","v":{"$error":"#N/A"}},0.66,{"$f":" IF(Foglio1!$F$15 <> \"\", IF( Foglio1!$C$15 <> \"\", IF(Foglio1!$I$15 <>\"\", (H68*Foglio1!$C$15) / (H68+Foglio1!$F$15*Foglio1!$I$15), NA()), NA()), NA())","v":{"$error":"#N/A"}},0.66,{"$f":" IF(Foglio1!$F$16 <> \"\", IF( Foglio1!$C$16 <> \"\", IF(Foglio1!$I$16 <>\"\", (J68*Foglio1!$C$16) / (J68+Foglio1!$F$16*Foglio1!$I$16), NA()), NA()), NA())","v":{"$error":"#N/A"}}]
[0.67,{"$f":" IF(Foglio1!$F$12 <> \"\", IF(Foglio1!$I$12 <> \"\", Foglio1!$F$12*Foglio1!$I$12, NA()), NA())","v":{"$error":"#N/A"}},{"$f":" IF(Foglio1!$C$12 <> \"\", (A69*Foglio1!$C$12) / (A69+B69), NA())","v":{"$error":"#N/A"}},0.67,{"$f":" IF(Foglio1!$F$13 <> \"\", IF( Foglio1!$C$13 <> \"\", IF(Foglio1!$I$13 <>\"\", (D69*Foglio1!$C$13) / (D69+Foglio1!$F$13*Foglio1!$I$13), NA()), NA()), NA())","v":{"$error":"#N/A"}},0.67,{"$f":" IF(Foglio1!$F$14 <> \"\", IF( Foglio1!$C$14 <> \"\", IF(Foglio1!$I$14 <>\"\", (F69*Foglio1!$C$14) / (F69+Foglio1!$F$14*Foglio1!$I$14), NA()), NA()), NA())","v":{"$error":"#N/A"}},0.67,{"$f":" IF(Foglio1!$F$15 <> \"\", IF( Foglio1!$C$15 <> \"\", IF(Foglio1!$I$15 <>\"\", (H69*Foglio1!$C$15) / (H69+Foglio1!$F$15*Foglio1!$I$15), NA()), NA()), NA())","v":{"$error":"#N/A"}},0.67,{"$f":" IF(Foglio1!$F$16 <> \"\", IF( Foglio1!$C$16 <> \"\", IF(Foglio1!$I$16 <>\"\", (J69*Foglio1!$C$16) / (J69+Foglio1!$F$16*Foglio1!$I$16), NA()), NA()), NA())","v":{"$error":"#N/A"}}]
[0.68,{"$f":" IF(Foglio1!$F$12 <> \"\", IF(Foglio1!$I$12 <> \"\", Foglio1!$F$12*Foglio1!$I$12, NA()), NA())","v":{"$error":"#N/A"}},{"$f":" IF(Foglio1!$C$12 <> \"\", (A70*Foglio1!$C$12) / (A70+B70), NA())","v":{"$error":"#N/A"}},0.68,{"$f":" IF(Foglio1!$F$13 <> \"\", IF( Foglio1!$C$13 <> \"\", IF(Foglio1!$I$13 <>\"\", (D70*Foglio1!$C$13) / (D70+Foglio1!$F$13*Foglio1!$I$13), NA()), NA()), NA())","v":{"$error":"#N/A"}},0.68,{"$f":" IF(Foglio1!$F$14 <> \"\", IF( Foglio1!$C$14 <> \"\", IF(Foglio1!$I$14 <>\"\", (F70*Foglio1!$C$14) / (F70+Foglio1!$F$14*Foglio1!$I$14), NA()), NA()), NA())","v":{"$error":"#N/A"}},0.68,{"$f":" IF(Foglio1!$F$15 <> \"\", IF( Foglio1!$C$15 <> \"\", IF(Foglio1!$I$15 <>\"\", (H70*Foglio1!$C$15) / (H70+Foglio1!$F$15*Foglio1!$I$15), NA()), NA()), NA())","v":{"$error":"#N/A"}},0.68,{"$f":" IF(Foglio1!$F$16 <> \"\", IF( Foglio1!$C$16 <> \"\", IF(Foglio1!$I$16 <>\"\", (J70*Foglio1!$C$16) / (J70+Foglio1!$F$16*Foglio1!$I$16), NA()), NA()), NA())","v":{"$error":"#N/A"}}]
[0.69,{"$f":" IF(Foglio1!$F$12 <> \"\", IF(Foglio1!$I$12 <> \"\", Foglio1!$F$12*Foglio1!$I$12, NA()), NA())","v":{"$error":"#N/A"}},{"$f":" IF(Foglio1!$C$12 <> \"\", (A71*Foglio1!$C$12) / (A71+B71), NA())","v":{"$error":"#N/A"}},0.69,{"$f":" IF(Foglio1!$F$13 <> \"\", IF( Foglio1!$C$13 <> \"\", IF(Foglio1!$I$13 <>\"\", (D71*Foglio1!$C$13) / (D71+Foglio1!$F$13*Foglio1!$I$13), NA()), NA()), NA())","v":{"$error":"#N/A"}},0.69,{"$f":" IF(Foglio1!$F$14 <> \"\", IF( Foglio1!$C$14 <> \"\", IF(Foglio1!$I$14 <>\"\", (F71*Foglio1!$C$14) / (F71+Foglio1!$F$14*Foglio1!$I$14), NA()), NA()), NA())","v":{"$error":"#N/A"}},0.69,{"$f":" IF(Foglio1!$F$15 <> \"\", IF( Foglio1!$C$15 <> \"\", IF(Foglio1!$I$15 <>\"\", (H71*Foglio1!$C$15) / (H71+Foglio1!$F$15*Foglio1!$I$15), NA()), NA()), NA())","v":{"$error":"#N/A"}},0.69,{"$f":" IF(Foglio1!$F$16 <> \"\", IF( Foglio1!$C$16 <> \"\", IF(Foglio1!$I$16 <>\"\", (J71*Foglio1!$C$16) / (J71+Foglio1!$F$16*Foglio1!$I$16), NA()), NA()), NA())","v":{"$error":"#N/A"}}]
[0.7,{"$f":" IF(Foglio1!$F$12 <> \"\", IF(Foglio1!$I$12 <> \"\", Foglio1!$F$12*Foglio1!$I$12, NA()), NA())","v":{"$error":"#N/A"}},{"$f":" IF(Foglio1!$C$12 <> \"\", (A72*Foglio1!$C$12) / (A72+B72), NA())","v":{"$error":"#N/A"}},0.7,{"$f":" IF(Foglio1!$F$13 <> \"\", IF( Foglio1!$C$13 <> \"\", IF(Foglio1!$I$13 <>\"\", (D72*Foglio1!$C$13) / (D72+Foglio1!$F$13*Foglio1!$I$13), NA()), NA()), NA())","v":{"$error":"#N/A"}},0.7,{"$f":" IF(Foglio1!$F$14 <> \"\", IF( Foglio1!$C$14 <> \"\", IF(Foglio1!$I$14 <>\"\", (F72*Foglio1!$C$14) / (F72+Foglio1!$F$14*Foglio1!$I$14), NA()), NA()), NA())","v":{"$error":"#N/A"}},0.7,{"$f":" IF(Foglio1!$F$15 <> \"\", IF( Foglio1!$C$15 <> \"\", IF(Foglio1!$I$15 <>\"\", (H72*Foglio1!$C$15) / (H72+Foglio1!$F$15*Foglio1!$I$15), NA()), NA()), NA())","v":{"$error":"#N/A"}},0.7,{"$f":" IF(Foglio1!$F$16 <> \"\", IF( Foglio1!$C$16 <> \"\", IF(Foglio1!$I$16 <>\"\", (J72*Foglio1!$C$16) / (J72+Foglio1!$F$16*Foglio1!$I$16), NA()), NA()), NA())","v":{"$error":"#N/A"}}]
[0.71,{"$f":" IF(Foglio1!$F$12 <> \"\", IF(Foglio1!$I$12 <> \"\", Foglio1!$F$12*Foglio1!$I$12, NA()), NA())","v":{"$error":"#N/A"}},{"$f":" IF(Foglio1!$C$12 <> \"\", (A73*Foglio1!$C$12) / (A73+B73), NA())","v":{"$error":"#N/A"}},0.71,{"$f":" IF(Foglio1!$F$13 <> \"\", IF( Foglio1!$C$13 <> \"\", IF(Foglio1!$I$13 <>\"\", (D73*Foglio1!$C$13) / (D73+Foglio1!$F$13*Foglio1!$I$13), NA()), NA()), NA())","v":{"$error":"#N/A"}},0.71,{"$f":" IF(Foglio1!$F$14 <> \"\", IF( Foglio1!$C$14 <> \"\", IF(Foglio1!$I$14 <>\"\", (F73*Foglio1!$C$14) / (F73+Foglio1!$F$14*Foglio1!$I$14), NA()), NA()), NA())","v":{"$error":"#N/A"}},0.71,{"$f":" IF(Foglio1!$F$15 <> \"\", IF( Foglio1!$C$15 <> \"\", IF(Foglio1!$I$15 <>\"\", (H73*Foglio1!$C$15) / (H73+Foglio1!$F$15*Foglio1!$I$15), NA()), NA()), NA())","v":{"$error":"#N/A"}},0.71,{"$f":" IF(Foglio1!$F$16 <> \"\", IF( Foglio1!$C$16 <> \"\", IF(Foglio1!$I$16 <>\"\", (J73*Foglio1!$C$16) / (J73+Foglio1!$F$16*Foglio1!$I$16), NA()), NA()), NA())","v":{"$error":"#N/A"}}]
[0.72,{"$f":" IF(Foglio1!$F$12 <> \"\", IF(Foglio1!$I$12 <> \"\", Foglio1!$F$12*Foglio1!$I$12, NA()), NA())","v":{"$error":"#N/A"}},{"$f":" IF(Foglio1!$C$12 <> \"\", (A74*Foglio1!$C$12) / (A74+B74), NA())","v":{"$error":"#N/A"}},0.72,{"$f":" IF(Foglio1!$F$13 <> \"\", IF( Foglio1!$C$13 <> \"\", IF(Foglio1!$I$13 <>\"\", (D74*Foglio1!$C$13) / (D74+Foglio1!$F$13*Foglio1!$I$13), NA()), NA()), NA())","v":{"$error":"#N/A"}},0.72,{"$f":" IF(Foglio1!$F$14 <> \"\", IF( Foglio1!$C$14 <> \"\", IF(Foglio1!$I$14 <>\"\", (F74*Foglio1!$C$14) / (F74+Foglio1!$F$14*Foglio1!$I$14), NA()), NA()), NA())","v":{"$error":"#N/A"}},0.72,{"$f":" IF(Foglio1!$F$15 <> \"\", IF( Foglio1!$C$15 <> \"\", IF(Foglio1!$I$15 <>\"\", (H74*Foglio1!$C$15) / (H74+Foglio1!$F$15*Foglio1!$I$15), NA()), NA()), NA())","v":{"$error":"#N/A"}},0.72,{"$f":" IF(Foglio1!$F$16 <> \"\", IF( Foglio1!$C$16 <> \"\", IF(Foglio1!$I$16 <>\"\", (J74*Foglio1!$C$16) / (J74+Foglio1!$F$16*Foglio1!$I$16), NA()), NA()), NA())","v":{"$error":"#N/A"}}]
[0.73,{"$f":" IF(Foglio1!$F$12 <> \"\", IF(Foglio1!$I$12 <> \"\", Foglio1!$F$12*Foglio1!$I$12, NA()), NA())","v":{"$error":"#N/A"}},{"$f":" IF(Foglio1!$C$12 <> \"\", (A75*Foglio1!$C$12) / (A75+B75), NA())","v":{"$error":"#N/A"}},0.73,{"$f":" IF(Foglio1!$F$13 <> \"\", IF( Foglio1!$C$13 <> \"\", IF(Foglio1!$I$13 <>\"\", (D75*Foglio1!$C$13) / (D75+Foglio1!$F$13*Foglio1!$I$13), NA()), NA()), NA())","v":{"$error":"#N/A"}},0.73,{"$f":" IF(Foglio1!$F$14 <> \"\", IF( Foglio1!$C$14 <> \"\", IF(Foglio1!$I$14 <>\"\", (F75*Foglio1!$C$14) / (F75+Foglio1!$F$14*Foglio1!$I$14), NA()), NA()), NA())","v":{"$error":"#N/A"}},0.73,{"$f":" IF(Foglio1!$F$15 <> \"\", IF( Foglio1!$C$15 <> \"\", IF(Foglio1!$I$15 <>\"\", (H75*Foglio1!$C$15) / (H75+Foglio1!$F$15*Foglio1!$I$15), NA()), NA()), NA())","v":{"$error":"#N/A"}},0.73,{"$f":" IF(Foglio1!$F$16 <> \"\", IF( Foglio1!$C$16 <> \"\", IF(Foglio1!$I$16 <>\"\", (J75*Foglio1!$C$16) / (J75+Foglio1!$F$16*Foglio1!$I$16), NA()), NA()), NA())","v":{"$error":"#N/A"}}]
[0.74,{"$f":" IF(Foglio1!$F$12 <> \"\", IF(Foglio1!$I$12 <> \"\", Foglio1!$F$12*Foglio1!$I$12, NA()), NA())","v":{"$error":"#N/A"}},{"$f":" IF(Foglio1!$C$12 <> \"\", (A76*Foglio1!$C$12) / (A76+B76), NA())","v":{"$error":"#N/A"}},0.74,{"$f":" IF(Foglio1!$F$13 <> \"\", IF( Foglio1!$C$13 <> \"\", IF(Foglio1!$I$13 <>\"\", (D76*Foglio1!$C$13) / (D76+Foglio1!$F$13*Foglio1!$I$13), NA()), NA()), NA())","v":{"$error":"#N/A"}},0.74,{"$f":" IF(Foglio1!$F$14 <> \"\", IF( Foglio1!$C$14 <> \"\", IF(Foglio1!$I$14 <>\"\", (F76*Foglio1!$C$14) / (F76+Foglio1!$F$14*Foglio1!$I$14), NA()), NA()), NA())","v":{"$error":"#N/A"}},0.74,{"$f":" IF(Foglio1!$F$15 <> \"\", IF( Foglio1!$C$15 <> \"\", IF(Foglio1!$I$15 <>\"\", (H76*Foglio1!$C$15) / (H76+Foglio1!$F$15*Foglio1!$I$15), NA()), NA()), NA())","v":{"$error":"#N/A"}},0.74,{"$f":" IF(Foglio1!$F$16 <> \"\", IF( Foglio1!$C$16 <> \"\", IF(Foglio1!$I$16 <>\"\", (J76*Foglio1!$C$16) / (J76+Foglio1!$F$16*Foglio1!$I$16), NA()), NA()), NA())","v":{"$error":"#N/A"}}]
[0.75,{"$f":" IF(Foglio1!$F$12 <> \"\", IF(Foglio1!$I$12 <> \"\", Foglio1!$F$12*Foglio1!$I$12, NA()), NA())","v":{"$error":"#N/A"}},{"$f":" IF(Foglio1!$C$12 <> \"\", (A77*Foglio1!$C$12) / (A77+B77), NA())","v":{"$error":"#N/A"}},0.75,{"$f":" IF(Foglio1!$F$13 <> \"\", IF( Foglio1!$C$13 <> \"\", IF(Foglio1!$I$13 <>\"\", (D77*Foglio1!$C$13) / (D77+Foglio1!$F$13*Foglio1!$I$13), NA()), NA()), NA())","v":{"$error":"#N/A"}},0.75,{"$f":" IF(Foglio1!$F$14 <> \"\", IF( Foglio1!$C$14 <> \"\", IF(Foglio1!$I$14 <>\"\", (F77*Foglio1!$C$14) / (F77+Foglio1!$F$14*Foglio1!$I$14), NA()), NA()), NA())","v":{"$error":"#N/A"}},0.75,{"$f":" IF(Foglio1!$F$15 <> \"\", IF( Foglio1!$C$15 <> \"\", IF(Foglio1!$I$15 <>\"\", (H77*Foglio1!$C$15) / (H77+Foglio1!$F$15*Foglio1!$I$15), NA()), NA()), NA())","v":{"$error":"#N/A"}},0.75,{"$f":" IF(Foglio1!$F$16 <> \"\", IF( Foglio1!$C$16 <> \"\", IF(Foglio1!$I$16 <>\"\", (J77*Foglio1!$C$16) / (J77+Foglio1!$F$16*Foglio1!$I$16), NA()), NA()), NA())","v":{"$error":"#N/A"}}]
[0.76,{"$f":" IF(Foglio1!$F$12 <> \"\", IF(Foglio1!$I$12 <> \"\", Foglio1!$F$12*Foglio1!$I$12, NA()), NA())","v":{"$error":"#N/A"}},{"$f":" IF(Foglio1!$C$12 <> \"\", (A78*Foglio1!$C$12) / (A78+B78), NA())","v":{"$error":"#N/A"}},0.76,{"$f":" IF(Foglio1!$F$13 <> \"\", IF( Foglio1!$C$13 <> \"\", IF(Foglio1!$I$13 <>\"\", (D78*Foglio1!$C$13) / (D78+Foglio1!$F$13*Foglio1!$I$13), NA()), NA()), NA())","v":{"$error":"#N/A"}},0.76,{"$f":" IF(Foglio1!$F$14 <> \"\", IF( Foglio1!$C$14 <> \"\", IF(Foglio1!$I$14 <>\"\", (F78*Foglio1!$C$14) / (F78+Foglio1!$F$14*Foglio1!$I$14), NA()), NA()), NA())","v":{"$error":"#N/A"}},0.76,{"$f":" IF(Foglio1!$F$15 <> \"\", IF( Foglio1!$C$15 <> \"\", IF(Foglio1!$I$15 <>\"\", (H78*Foglio1!$C$15) / (H78+Foglio1!$F$15*Foglio1!$I$15), NA()), NA()), NA())","v":{"$error":"#N/A"}},0.76,{"$f":" IF(Foglio1!$F$16 <> \"\", IF( Foglio1!$C$16 <> \"\", IF(Foglio1!$I$16 <>\"\", (J78*Foglio1!$C$16) / (J78+Foglio1!$F$16*Foglio1!$I$16), NA()), NA()), NA())","v":{"$error":"#N/A"}}]
[0.77,{"$f":" IF(Foglio1!$F$12 <> \"\", IF(Foglio1!$I$12 <> \"\", Foglio1!$F$12*Foglio1!$I$12, NA()), NA())","v":{"$error":"#N/A"}},{"$f":" IF(Foglio1!$C$12 <> \"\", (A79*Foglio1!$C$12) / (A79+B79), NA())","v":{"$error":"#N/A"}},0.77,{"$f":" IF(Foglio1!$F$13 <> \"\", IF( Foglio1!$C$13 <> \"\", IF(Foglio1!$I$13 <>\"\", (D79*Foglio1!$C$13) / (D79+Foglio1!$F$13*Foglio1!$I$13), NA()), NA()), NA())","v":{"$error":"#N/A"}},0.77,{"$f":" IF(Foglio1!$F$14 <> \"\", IF( Foglio1!$C$14 <> \"\", IF(Foglio1!$I$14 <>\"\", (F79*Foglio1!$C$14) / (F79+Foglio1!$F$14*Foglio1!$I$14), NA()), NA()), NA())","v":{"$error":"#N/A"}},0.77,{"$f":" IF(Foglio1!$F$15 <> \"\", IF( Foglio1!$C$15 <> \"\", IF(Foglio1!$I$15 <>\"\", (H79*Foglio1!$C$15) / (H79+Foglio1!$F$15*Foglio1!$I$15), NA()), NA()), NA())","v":{"$error":"#N/A"}},0.77,{"$f":" IF(Foglio1!$F$16 <> \"\", IF( Foglio1!$C$16 <> \"\", IF(Foglio1!$I$16 <>\"\", (J79*Foglio1!$C$16) / (J79+Foglio1!$F$16*Foglio1!$I$16), NA()), NA()), NA())","v":{"$error":"#N/A"}}]
[0.78,{"$f":" IF(Foglio1!$F$12 <> \"\", IF(Foglio1!$I$12 <> \"\", Foglio1!$F$12*Foglio1!$I$12, NA()), NA())","v":{"$error":"#N/A"}},{"$f":" IF(Foglio1!$C$12 <> \"\", (A80*Foglio1!$C$12) / (A80+B80), NA())","v":{"$error":"#N/A"}},0.78,{"$f":" IF(Foglio1!$F$13 <> \"\", IF( Foglio1!$C$13 <> \"\", IF(Foglio1!$I$13 <>\"\", (D80*Foglio1!$C$13) / (D80+Foglio1!$F$13*Foglio1!$I$13), NA()), NA()), NA())","v":{"$error":"#N/A"}},0.78,{"$f":" IF(Foglio1!$F$14 <> \"\", IF( Foglio1!$C$14 <> \"\", IF(Foglio1!$I$14 <>\"\", (F80*Foglio1!$C$14) / (F80+Foglio1!$F$14*Foglio1!$I$14), NA()), NA()), NA())","v":{"$error":"#N/A"}},0.78,{"$f":" IF(Foglio1!$F$15 <> \"\", IF( Foglio1!$C$15 <> \"\", IF(Foglio1!$I$15 <>\"\", (H80*Foglio1!$C$15) / (H80+Foglio1!$F$15*Foglio1!$I$15), NA()), NA()), NA())","v":{"$error":"#N/A"}},0.78,{"$f":" IF(Foglio1!$F$16 <> \"\", IF( Foglio1!$C$16 <> \"\", IF(Foglio1!$I$16 <>\"\", (J80*Foglio1!$C$16) / (J80+Foglio1!$F$16*Foglio1!$I$16), NA()), NA()), NA())","v":{"$error":"#N/A"}}]
[0.79,{"$f":" IF(Foglio1!$F$12 <> \"\", IF(Foglio1!$I$12 <> \"\", Foglio1!$F$12*Foglio1!$I$12, NA()), NA())","v":{"$error":"#N/A"}},{"$f":" IF(Foglio1!$C$12 <> \"\", (A81*Foglio1!$C$12) / (A81+B81), NA())","v":{"$error":"#N/A"}},0.79,{"$f":" IF(Foglio1!$F$13 <> \"\", IF( Foglio1!$C$13 <> \"\", IF(Foglio1!$I$13 <>\"\", (D81*Foglio1!$C$13) / (D81+Foglio1!$F$13*Foglio1!$I$13), NA()), NA()), NA())","v":{"$error":"#N/A"}},0.79,{"$f":" IF(Foglio1!$F$14 <> \"\", IF( Foglio1!$C$14 <> \"\", IF(Foglio1!$I$14 <>\"\", (F81*Foglio1!$C$14) / (F81+Foglio1!$F$14*Foglio1!$I$14), NA()), NA()), NA())","v":{"$error":"#N/A"}},0.79,{"$f":" IF(Foglio1!$F$15 <> \"\", IF( Foglio1!$C$15 <> \"\", IF(Foglio1!$I$15 <>\"\", (H81*Foglio1!$C$15) / (H81+Foglio1!$F$15*Foglio1!$I$15), NA()), NA()), NA())","v":{"$error":"#N/A"}},0.79,{"$f":" IF(Foglio1!$F$16 <> \"\", IF( Foglio1!$C$16 <> \"\", IF(Foglio1!$I$16 <>\"\", (J81*Foglio1!$C$16) / (J81+Foglio1!$F$16*Foglio1!$I$16), NA()), NA()), NA())","v":{"$error":"#N/A"}}]
[0.8,{"$f":" IF(Foglio1!$F$12 <> \"\", IF(Foglio1!$I$12 <> \"\", Foglio1!$F$12*Foglio1!$I$12, NA()), NA())","v":{"$error":"#N/A"}},{"$f":" IF(Foglio1!$C$12 <> \"\", (A82*Foglio1!$C$12) / (A82+B82), NA())","v":{"$error":"#N/A"}},0.8,{"$f":" IF(Foglio1!$F$13 <> \"\", IF( Foglio1!$C$13 <> \"\", IF(Foglio1!$I$13 <>\"\", (D82*Foglio1!$C$13) / (D82+Foglio1!$F$13*Foglio1!$I$13), NA()), NA()), NA())","v":{"$error":"#N/A"}},0.8,{"$f":" IF(Foglio1!$F$14 <> \"\", IF( Foglio1!$C$14 <> \"\", IF(Foglio1!$I$14 <>\"\", (F82*Foglio1!$C$14) / (F82+Foglio1!$F$14*Foglio1!$I$14), NA()), NA()), NA())","v":{"$error":"#N/A"}},0.8,{"$f":" IF(Foglio1!$F$15 <> \"\", IF( Foglio1!$C$15 <> \"\", IF(Foglio1!$I$15 <>\"\", (H82*Foglio1!$C$15) / (H82+Foglio1!$F$15*Foglio1!$I$15), NA()), NA()), NA())","v":{"$error":"#N/A"}},0.8,{"$f":" IF(Foglio1!$F$16 <> \"\", IF( Foglio1!$C$16 <> \"\", IF(Foglio1!$I$16 <>\"\", (J82*Foglio1!$C$16) / (J82+Foglio1!$F$16*Foglio1!$I$16), NA()), NA()), NA())","v":{"$error":"#N/A"}}]
[0.81,{"$f":" IF(Foglio1!$F$12 <> \"\", IF(Foglio1!$I$12 <> \"\", Foglio1!$F$12*Foglio1!$I$12, NA()), NA())","v":{"$error":"#N/A"}},{"$f":" IF(Foglio1!$C$12 <> \"\", (A83*Foglio1!$C$12) / (A83+B83), NA())","v":{"$error":"#N/A"}},0.81,{"$f":" IF(Foglio1!$F$13 <> \"\", IF( Foglio1!$C$13 <> \"\", IF(Foglio1!$I$13 <>\"\", (D83*Foglio1!$C$13) / (D83+Foglio1!$F$13*Foglio1!$I$13), NA()), NA()), NA())","v":{"$error":"#N/A"}},0.81,{"$f":" IF(Foglio1!$F$14 <> \"\", IF( Foglio1!$C$14 <> \"\", IF(Foglio1!$I$14 <>\"\", (F83*Foglio1!$C$14) / (F83+Foglio1!$F$14*Foglio1!$I$14), NA()), NA()), NA())","v":{"$error":"#N/A"}},0.81,{"$f":" IF(Foglio1!$F$15 <> \"\", IF( Foglio1!$C$15 <> \"\", IF(Foglio1!$I$15 <>\"\", (H83*Foglio1!$C$15) / (H83+Foglio1!$F$15*Foglio1!$I$15), NA()), NA()), NA())","v":{"$error":"#N/A"}},0.81,{"$f":" IF(Foglio1!$F$16 <> \"\", IF( Foglio1!$C$16 <> \"\", IF(Foglio1!$I$16 <>\"\", (J83*Foglio1!$C$16) / (J83+Foglio1!$F$16*Foglio1!$I$16), NA()), NA()), NA())","v":{"$error":"#N/A"}}]
[0.82,{"$f":" IF(Foglio1!$F$12 <> \"\", IF(Foglio1!$I$12 <> \"\", Foglio1!$F$12*Foglio1!$I$12, NA()), NA())","v":{"$error":"#N/A"}},{"$f":" IF(Foglio1!$C$12 <> \"\", (A84*Foglio1!$C$12) / (A84+B84), NA())","v":{"$error":"#N/A"}},0.82,{"$f":" IF(Foglio1!$F$13 <> \"\", IF( Foglio1!$C$13 <> \"\", IF(Foglio1!$I$13 <>\"\", (D84*Foglio1!$C$13) / (D84+Foglio1!$F$13*Foglio1!$I$13), NA()), NA()), NA())","v":{"$error":"#N/A"}},0.82,{"$f":" IF(Foglio1!$F$14 <> \"\", IF( Foglio1!$C$14 <> \"\", IF(Foglio1!$I$14 <>\"\", (F84*Foglio1!$C$14) / (F84+Foglio1!$F$14*Foglio1!$I$14), NA()), NA()), NA())","v":{"$error":"#N/A"}},0.82,{"$f":" IF(Foglio1!$F$15 <> \"\", IF( Foglio1!$C$15 <> \"\", IF(Foglio1!$I$15 <>\"\", (H84*Foglio1!$C$15) / (H84+Foglio1!$F$15*Foglio1!$I$15), NA()), NA()), NA())","v":{"$error":"#N/A"}},0.82,{"$f":" IF(Foglio1!$F$16 <> \"\", IF( Foglio1!$C$16 <> \"\", IF(Foglio1!$I$16 <>\"\", (J84*Foglio1!$C$16) / (J84+Foglio1!$F$16*Foglio1!$I$16), NA()), NA()), NA())","v":{"$error":"#N/A"}}]
[0.83,{"$f":" IF(Foglio1!$F$12 <> \"\", IF(Foglio1!$I$12 <> \"\", Foglio1!$F$12*Foglio1!$I$12, NA()), NA())","v":{"$error":"#N/A"}},{"$f":" IF(Foglio1!$C$12 <> \"\", (A85*Foglio1!$C$12) / (A85+B85), NA())","v":{"$error":"#N/A"}},0.83,{"$f":" IF(Foglio1!$F$13 <> \"\", IF( Foglio1!$C$13 <> \"\", IF(Foglio1!$I$13 <>\"\", (D85*Foglio1!$C$13) / (D85+Foglio1!$F$13*Foglio1!$I$13), NA()), NA()), NA())","v":{"$error":"#N/A"}},0.83,{"$f":" IF(Foglio1!$F$14 <> \"\", IF( Foglio1!$C$14 <> \"\", IF(Foglio1!$I$14 <>\"\", (F85*Foglio1!$C$14) / (F85+Foglio1!$F$14*Foglio1!$I$14), NA()), NA()), NA())","v":{"$error":"#N/A"}},0.83,{"$f":" IF(Foglio1!$F$15 <> \"\", IF( Foglio1!$C$15 <> \"\", IF(Foglio1!$I$15 <>\"\", (H85*Foglio1!$C$15) / (H85+Foglio1!$F$15*Foglio1!$I$15), NA()), NA()), NA())","v":{"$error":"#N/A"}},0.83,{"$f":" IF(Foglio1!$F$16 <> \"\", IF( Foglio1!$C$16 <> \"\", IF(Foglio1!$I$16 <>\"\", (J85*Foglio1!$C$16) / (J85+Foglio1!$F$16*Foglio1!$I$16), NA()), NA()), NA())","v":{"$error":"#N/A"}}]
[0.84,{"$f":" IF(Foglio1!$F$12 <> \"\", IF(Foglio1!$I$12 <> \"\", Foglio1!$F$12*Foglio1!$I$12, NA()), NA())","v":{"$error":"#N/A"}},{"$f":" IF(Foglio1!$C$12 <> \"\", (A86*Foglio1!$C$12) / (A86+B86), NA())","v":{"$error":"#N/A"}},0.84,{"$f":" IF(Foglio1!$F$13 <> \"\", IF( Foglio1!$C$13 <> \"\", IF(Foglio1!$I$13 <>\"\", (D86*Foglio1!$C$13) / (D86+Foglio1!$F$13*Foglio1!$I$13), NA()), NA()), NA())","v":{"$error":"#N/A"}},0.84,{"$f":" IF(Foglio1!$F$14 <> \"\", IF( Foglio1!$C$14 <> \"\", IF(Foglio1!$I$14 <>\"\", (F86*Foglio1!$C$14) / (F86+Foglio1!$F$14*Foglio1!$I$14), NA()), NA()), NA())","v":{"$error":"#N/A"}},0.84,{"$f":" IF(Foglio1!$F$15 <> \"\", IF( Foglio1!$C$15 <> \"\", IF(Foglio1!$I$15 <>\"\", (H86*Foglio1!$C$15) / (H86+Foglio1!$F$15*Foglio1!$I$15), NA()), NA()), NA())","v":{"$error":"#N/A"}},0.84,{"$f":" IF(Foglio1!$F$16 <> \"\", IF( Foglio1!$C$16 <> \"\", IF(Foglio1!$I$16 <>\"\", (J86*Foglio1!$C$16) / (J86+Foglio1!$F$16*Foglio1!$I$16), NA()), NA()), NA())","v":{"$error":"#N/A"}}]
[0.85,{"$f":" IF(Foglio1!$F$12 <> \"\", IF(Foglio1!$I$12 <> \"\", Foglio1!$F$12*Foglio1!$I$12, NA()), NA())","v":{"$error":"#N/A"}},{"$f":" IF(Foglio1!$C$12 <> \"\", (A87*Foglio1!$C$12) / (A87+B87), NA())","v":{"$error":"#N/A"}},0.85,{"$f":" IF(Foglio1!$F$13 <> \"\", IF( Foglio1!$C$13 <> \"\", IF(Foglio1!$I$13 <>\"\", (D87*Foglio1!$C$13) / (D87+Foglio1!$F$13*Foglio1!$I$13), NA()), NA()), NA())","v":{"$error":"#N/A"}},0.85,{"$f":" IF(Foglio1!$F$14 <> \"\", IF( Foglio1!$C$14 <> \"\", IF(Foglio1!$I$14 <>\"\", (F87*Foglio1!$C$14) / (F87+Foglio1!$F$14*Foglio1!$I$14), NA()), NA()), NA())","v":{"$error":"#N/A"}},0.85,{"$f":" IF(Foglio1!$F$15 <> \"\", IF( Foglio1!$C$15 <> \"\", IF(Foglio1!$I$15 <>\"\", (H87*Foglio1!$C$15) / (H87+Foglio1!$F$15*Foglio1!$I$15), NA()), NA()), NA())","v":{"$error":"#N/A"}},0.85,{"$f":" IF(Foglio1!$F$16 <> \"\", IF( Foglio1!$C$16 <> \"\", IF(Foglio1!$I$16 <>\"\", (J87*Foglio1!$C$16) / (J87+Foglio1!$F$16*Foglio1!$I$16), NA()), NA()), NA())","v":{"$error":"#N/A"}}]
[0.86,{"$f":" IF(Foglio1!$F$12 <> \"\", IF(Foglio1!$I$12 <> \"\", Foglio1!$F$12*Foglio1!$I$12, NA()), NA())","v":{"$error":"#N/A"}},{"$f":" IF(Foglio1!$C$12 <> \"\", (A88*Foglio1!$C$12) / (A88+B88), NA())","v":{"$error":"#N/A"}},0.86,{"$f":" IF(Foglio1!$F$13 <> \"\", IF( Foglio1!$C$13 <> \"\", IF(Foglio1!$I$13 <>\"\", (D88*Foglio1!$C$13) / (D88+Foglio1!$F$13*Foglio1!$I$13), NA()), NA()), NA())","v":{"$error":"#N/A"}},0.86,{"$f":" IF(Foglio1!$F$14 <> \"\", IF( Foglio1!$C$14 <> \"\", IF(Foglio1!$I$14 <>\"\", (F88*Foglio1!$C$14) / (F88+Foglio1!$F$14*Foglio1!$I$14), NA()), NA()), NA())","v":{"$error":"#N/A"}},0.86,{"$f":" IF(Foglio1!$F$15 <> \"\", IF( Foglio1!$C$15 <> \"\", IF(Foglio1!$I$15 <>\"\", (H88*Foglio1!$C$15) / (H88+Foglio1!$F$15*Foglio1!$I$15), NA()), NA()), NA())","v":{"$error":"#N/A"}},0.86,{"$f":" IF(Foglio1!$F$16 <> \"\", IF( Foglio1!$C$16 <> \"\", IF(Foglio1!$I$16 <>\"\", (J88*Foglio1!$C$16) / (J88+Foglio1!$F$16*Foglio1!$I$16), NA()), NA()), NA())","v":{"$error":"#N/A"}}]
[0.87,{"$f":" IF(Foglio1!$F$12 <> \"\", IF(Foglio1!$I$12 <> \"\", Foglio1!$F$12*Foglio1!$I$12, NA()), NA())","v":{"$error":"#N/A"}},{"$f":" IF(Foglio1!$C$12 <> \"\", (A89*Foglio1!$C$12) / (A89+B89), NA())","v":{"$error":"#N/A"}},0.87,{"$f":" IF(Foglio1!$F$13 <> \"\", IF( Foglio1!$C$13 <> \"\", IF(Foglio1!$I$13 <>\"\", (D89*Foglio1!$C$13) / (D89+Foglio1!$F$13*Foglio1!$I$13), NA()), NA()), NA())","v":{"$error":"#N/A"}},0.87,{"$f":" IF(Foglio1!$F$14 <> \"\", IF( Foglio1!$C$14 <> \"\", IF(Foglio1!$I$14 <>\"\", (F89*Foglio1!$C$14) / (F89+Foglio1!$F$14*Foglio1!$I$14), NA()), NA()), NA())","v":{"$error":"#N/A"}},0.87,{"$f":" IF(Foglio1!$F$15 <> \"\", IF( Foglio1!$C$15 <> \"\", IF(Foglio1!$I$15 <>\"\", (H89*Foglio1!$C$15) / (H89+Foglio1!$F$15*Foglio1!$I$15), NA()), NA()), NA())","v":{"$error":"#N/A"}},0.87,{"$f":" IF(Foglio1!$F$16 <> \"\", IF( Foglio1!$C$16 <> \"\", IF(Foglio1!$I$16 <>\"\", (J89*Foglio1!$C$16) / (J89+Foglio1!$F$16*Foglio1!$I$16), NA()), NA()), NA())","v":{"$error":"#N/A"}}]
[0.88,{"$f":" IF(Foglio1!$F$12 <> \"\", IF(Foglio1!$I$12 <> \"\", Foglio1!$F$12*Foglio1!$I$12, NA()), NA())","v":{"$error":"#N/A"}},{"$f":" IF(Foglio1!$C$12 <> \"\", (A90*Foglio1!$C$12) / (A90+B90), NA())","v":{"$error":"#N/A"}},0.88,{"$f":" IF(Foglio1!$F$13 <> \"\", IF( Foglio1!$C$13 <> \"\", IF(Foglio1!$I$13 <>\"\", (D90*Foglio1!$C$13) / (D90+Foglio1!$F$13*Foglio1!$I$13), NA()), NA()), NA())","v":{"$error":"#N/A"}},0.88,{"$f":" IF(Foglio1!$F$14 <> \"\", IF( Foglio1!$C$14 <> \"\", IF(Foglio1!$I$14 <>\"\", (F90*Foglio1!$C$14) / (F90+Foglio1!$F$14*Foglio1!$I$14), NA()), NA()), NA())","v":{"$error":"#N/A"}},0.88,{"$f":" IF(Foglio1!$F$15 <> \"\", IF( Foglio1!$C$15 <> \"\", IF(Foglio1!$I$15 <>\"\", (H90*Foglio1!$C$15) / (H90+Foglio1!$F$15*Foglio1!$I$15), NA()), NA()), NA())","v":{"$error":"#N/A"}},0.88,{"$f":" IF(Foglio1!$F$16 <> \"\", IF( Foglio1!$C$16 <> \"\", IF(Foglio1!$I$16 <>\"\", (J90*Foglio1!$C$16) / (J90+Foglio1!$F$16*Foglio1!$I$16), NA()), NA()), NA())","v":{"$error":"#N/A"}}]
[0.89,{"$f":" IF(Foglio1!$F$12 <> \"\", IF(Foglio1!$I$12 <> \"\", Foglio1!$F$12*Foglio1!$I$12, NA()), NA())","v":{"$error":"#N/A"}},{"$f":" IF(Foglio1!$C$12 <> \"\", (A91*Foglio1!$C$12) / (A91+B91), NA())","v":{"$error":"#N/A"}},0.89,{"$f":" IF(Foglio1!$F$13 <> \"\", IF( Foglio1!$C$13 <> \"\", IF(Foglio1!$I$13 <>\"\", (D91*Foglio1!$C$13) / (D91+Foglio1!$F$13*Foglio1!$I$13), NA()), NA()), NA())","v":{"$error":"#N/A"}},0.89,{"$f":" IF(Foglio1!$F$14 <> \"\", IF( Foglio1!$C$14 <> \"\", IF(Foglio1!$I$14 <>\"\", (F91*Foglio1!$C$14) / (F91+Foglio1!$F$14*Foglio1!$I$14), NA()), NA()), NA())","v":{"$error":"#N/A"}},0.89,{"$f":" IF(Foglio1!$F$15 <> \"\", IF( Foglio1!$C$15 <> \"\", IF(Foglio1!$I$15 <>\"\", (H91*Foglio1!$C$15) / (H91+Foglio1!$F$15*Foglio1!$I$15), NA()), NA()), NA())","v":{"$error":"#N/A"}},0.89,{"$f":" IF(Foglio1!$F$16 <> \"\", IF( Foglio1!$C$16 <> \"\", IF(Foglio1!$I$16 <>\"\", (J91*Foglio1!$C$16) / (J91+Foglio1!$F$16*Foglio1!$I$16), NA()), NA()), NA())","v":{"$error":"#N/A"}}]
[0.9,{"$f":" IF(Foglio1!$F$12 <> \"\", IF(Foglio1!$I$12 <> \"\", Foglio1!$F$12*Foglio1!$I$12, NA()), NA())","v":{"$error":"#N/A"}},{"$f":" IF(Foglio1!$C$12 <> \"\", (A92*Foglio1!$C$12) / (A92+B92), NA())","v":{"$error":"#N/A"}},0.9,{"$f":" IF(Foglio1!$F$13 <> \"\", IF( Foglio1!$C$13 <> \"\", IF(Foglio1!$I$13 <>\"\", (D92*Foglio1!$C$13) / (D92+Foglio1!$F$13*Foglio1!$I$13), NA()), NA()), NA())","v":{"$error":"#N/A"}},0.9,{"$f":" IF(Foglio1!$F$14 <> \"\", IF( Foglio1!$C$14 <> \"\", IF(Foglio1!$I$14 <>\"\", (F92*Foglio1!$C$14) / (F92+Foglio1!$F$14*Foglio1!$I$14), NA()), NA()), NA())","v":{"$error":"#N/A"}},0.9,{"$f":" IF(Foglio1!$F$15 <> \"\", IF( Foglio1!$C$15 <> \"\", IF(Foglio1!$I$15 <>\"\", (H92*Foglio1!$C$15) / (H92+Foglio1!$F$15*Foglio1!$I$15), NA()), NA()), NA())","v":{"$error":"#N/A"}},0.9,{"$f":" IF(Foglio1!$F$16 <> \"\", IF( Foglio1!$C$16 <> \"\", IF(Foglio1!$I$16 <>\"\", (J92*Foglio1!$C$16) / (J92+Foglio1!$F$16*Foglio1!$I$16), NA()), NA()), NA())","v":{"$error":"#N/A"}}]
[0.91,{"$f":" IF(Foglio1!$F$12 <> \"\", IF(Foglio1!$I$12 <> \"\", Foglio1!$F$12*Foglio1!$I$12, NA()), NA())","v":{"$error":"#N/A"}},{"$f":" IF(Foglio1!$C$12 <> \"\", (A93*Foglio1!$C$12) / (A93+B93), NA())","v":{"$error":"#N/A"}},0.91,{"$f":" IF(Foglio1!$F$13 <> \"\", IF( Foglio1!$C$13 <> \"\", IF(Foglio1!$I$13 <>\"\", (D93*Foglio1!$C$13) / (D93+Foglio1!$F$13*Foglio1!$I$13), NA()), NA()), NA())","v":{"$error":"#N/A"}},0.91,{"$f":" IF(Foglio1!$F$14 <> \"\", IF( Foglio1!$C$14 <> \"\", IF(Foglio1!$I$14 <>\"\", (F93*Foglio1!$C$14) / (F93+Foglio1!$F$14*Foglio1!$I$14), NA()), NA()), NA())","v":{"$error":"#N/A"}},0.91,{"$f":" IF(Foglio1!$F$15 <> \"\", IF( Foglio1!$C$15 <> \"\", IF(Foglio1!$I$15 <>\"\", (H93*Foglio1!$C$15) / (H93+Foglio1!$F$15*Foglio1!$I$15), NA()), NA()), NA())","v":{"$error":"#N/A"}},0.91,{"$f":" IF(Foglio1!$F$16 <> \"\", IF( Foglio1!$C$16 <> \"\", IF(Foglio1!$I$16 <>\"\", (J93*Foglio1!$C$16) / (J93+Foglio1!$F$16*Foglio1!$I$16), NA()), NA()), NA())","v":{"$error":"#N/A"}}]
[0.92,{"$f":" IF(Foglio1!$F$12 <> \"\", IF(Foglio1!$I$12 <> \"\", Foglio1!$F$12*Foglio1!$I$12, NA()), NA())","v":{"$error":"#N/A"}},{"$f":" IF(Foglio1!$C$12 <> \"\", (A94*Foglio1!$C$12) / (A94+B94), NA())","v":{"$error":"#N/A"}},0.92,{"$f":" IF(Foglio1!$F$13 <> \"\", IF( Foglio1!$C$13 <> \"\", IF(Foglio1!$I$13 <>\"\", (D94*Foglio1!$C$13) / (D94+Foglio1!$F$13*Foglio1!$I$13), NA()), NA()), NA())","v":{"$error":"#N/A"}},0.92,{"$f":" IF(Foglio1!$F$14 <> \"\", IF( Foglio1!$C$14 <> \"\", IF(Foglio1!$I$14 <>\"\", (F94*Foglio1!$C$14) / (F94+Foglio1!$F$14*Foglio1!$I$14), NA()), NA()), NA())","v":{"$error":"#N/A"}},0.92,{"$f":" IF(Foglio1!$F$15 <> \"\", IF( Foglio1!$C$15 <> \"\", IF(Foglio1!$I$15 <>\"\", (H94*Foglio1!$C$15) / (H94+Foglio1!$F$15*Foglio1!$I$15), NA()), NA()), NA())","v":{"$error":"#N/A"}},0.92,{"$f":" IF(Foglio1!$F$16 <> \"\", IF( Foglio1!$C$16 <> \"\", IF(Foglio1!$I$16 <>\"\", (J94*Foglio1!$C$16) / (J94+Foglio1!$F$16*Foglio1!$I$16), NA()), NA()), NA())","v":{"$error":"#N/A"}}]
[0.93,{"$f":" IF(Foglio1!$F$12 <> \"\", IF(Foglio1!$I$12 <> \"\", Foglio1!$F$12*Foglio1!$I$12, NA()), NA())","v":{"$error":"#N/A"}},{"$f":" IF(Foglio1!$C$12 <> \"\", (A95*Foglio1!$C$12) / (A95+B95), NA())","v":{"$error":"#N/A"}},0.93,{"$f":" IF(Foglio1!$F$13 <> \"\", IF( Foglio1!$C$13 <> \"\", IF(Foglio1!$I$13 <>\"\", (D95*Foglio1!$C$13) / (D95+Foglio1!$F$13*Foglio1!$I$13), NA()), NA()), NA())","v":{"$error":"#N/A"}},0.93,{"$f":" IF(Foglio1!$F$14 <> \"\", IF( Foglio1!$C$14 <> \"\", IF(Foglio1!$I$14 <>\"\", (F95*Foglio1!$C$14) / (F95+Foglio1!$F$14*Foglio1!$I$14), NA()), NA()), NA())","v":{"$error":"#N/A"}},0.93,{"$f":" IF(Foglio1!$F$15 <> \"\", IF( Foglio1!$C$15 <> \"\", IF(Foglio1!$I$15 <>\"\", (H95*Foglio1!$C$15) / (H95+Foglio1!$F$15*Foglio1!$I$15), NA()), NA()), NA())","v":{"$error":"#N/A"}},0.93,{"$f":" IF(Foglio1!$F$16 <> \"\", IF( Foglio1!$C$16 <> \"\", IF(Foglio1!$I$16 <>\"\", (J95*Foglio1!$C$16) / (J95+Foglio1!$F$16*Foglio1!$I$16), NA()), NA()), NA())","v":{"$error":"#N/A"}}]
[0.94,{"$f":" IF(Foglio1!$F$12 <> \"\", IF(Foglio1!$I$12 <> \"\", Foglio1!$F$12*Foglio1!$I$12, NA()), NA())","v":{"$error":"#N/A"}},{"$f":" IF(Foglio1!$C$12 <> \"\", (A96*Foglio1!$C$12) / (A96+B96), NA())","v":{"$error":"#N/A"}},0.94,{"$f":" IF(Foglio1!$F$13 <> \"\", IF( Foglio1!$C$13 <> \"\", IF(Foglio1!$I$13 <>\"\", (D96*Foglio1!$C$13) / (D96+Foglio1!$F$13*Foglio1!$I$13), NA()), NA()), NA())","v":{"$error":"#N/A"}},0.94,{"$f":" IF(Foglio1!$F$14 <> \"\", IF( Foglio1!$C$14 <> \"\", IF(Foglio1!$I$14 <>\"\", (F96*Foglio1!$C$14) / (F96+Foglio1!$F$14*Foglio1!$I$14), NA()), NA()), NA())","v":{"$error":"#N/A"}},0.94,{"$f":" IF(Foglio1!$F$15 <> \"\", IF( Foglio1!$C$15 <> \"\", IF(Foglio1!$I$15 <>\"\", (H96*Foglio1!$C$15) / (H96+Foglio1!$F$15*Foglio1!$I$15), NA()), NA()), NA())","v":{"$error":"#N/A"}},0.94,{"$f":" IF(Foglio1!$F$16 <> \"\", IF( Foglio1!$C$16 <> \"\", IF(Foglio1!$I$16 <>\"\", (J96*Foglio1!$C$16) / (J96+Foglio1!$F$16*Foglio1!$I$16), NA()), NA()), NA())","v":{"$error":"#N/A"}}]
[0.95,{"$f":" IF(Foglio1!$F$12 <> \"\", IF(Foglio1!$I$12 <> \"\", Foglio1!$F$12*Foglio1!$I$12, NA()), NA())","v":{"$error":"#N/A"}},{"$f":" IF(Foglio1!$C$12 <> \"\", (A97*Foglio1!$C$12) / (A97+B97), NA())","v":{"$error":"#N/A"}},0.95,{"$f":" IF(Foglio1!$F$13 <> \"\", IF( Foglio1!$C$13 <> \"\", IF(Foglio1!$I$13 <>\"\", (D97*Foglio1!$C$13) / (D97+Foglio1!$F$13*Foglio1!$I$13), NA()), NA()), NA())","v":{"$error":"#N/A"}},0.95,{"$f":" IF(Foglio1!$F$14 <> \"\", IF( Foglio1!$C$14 <> \"\", IF(Foglio1!$I$14 <>\"\", (F97*Foglio1!$C$14) / (F97+Foglio1!$F$14*Foglio1!$I$14), NA()), NA()), NA())","v":{"$error":"#N/A"}},0.95,{"$f":" IF(Foglio1!$F$15 <> \"\", IF( Foglio1!$C$15 <> \"\", IF(Foglio1!$I$15 <>\"\", (H97*Foglio1!$C$15) / (H97+Foglio1!$F$15*Foglio1!$I$15), NA()), NA()), NA())","v":{"$error":"#N/A"}},0.95,{"$f":" IF(Foglio1!$F$16 <> \"\", IF( Foglio1!$C$16 <> \"\", IF(Foglio1!$I$16 <>\"\", (J97*Foglio1!$C$16) / (J97+Foglio1!$F$16*Foglio1!$I$16), NA()), NA()), NA())","v":{"$error":"#N/A"}}]
[0.96,{"$f":" IF(Foglio1!$F$12 <> \"\", IF(Foglio1!$I$12 <> \"\", Foglio1!$F$12*Foglio1!$I$12, NA()), NA())","v":{"$error":"#N/A"}},{"$f":" IF(Foglio1!$C$12 <> \"\", (A98*Foglio1!$C$12) / (A98+B98), NA())","v":{"$error":"#N/A"}},0.96,{"$f":" IF(Foglio1!$F$13 <> \"\", IF( Foglio1!$C$13 <> \"\", IF(Foglio1!$I$13 <>\"\", (D98*Foglio1!$C$13) / (D98+Foglio1!$F$13*Foglio1!$I$13), NA()), NA()), NA())","v":{"$error":"#N/A"}},0.96,{"$f":" IF(Foglio1!$F$14 <> \"\", IF( Foglio1!$C$14 <> \"\", IF(Foglio1!$I$14 <>\"\", (F98*Foglio1!$C$14) / (F98+Foglio1!$F$14*Foglio1!$I$14), NA()), NA()), NA())","v":{"$error":"#N/A"}},0.96,{"$f":" IF(Foglio1!$F$15 <> \"\", IF( Foglio1!$C$15 <> \"\", IF(Foglio1!$I$15 <>\"\", (H98*Foglio1!$C$15) / (H98+Foglio1!$F$15*Foglio1!$I$15), NA()), NA()), NA())","v":{"$error":"#N/A"}},0.96,{"$f":" IF(Foglio1!$F$16 <> \"\", IF( Foglio1!$C$16 <> \"\", IF(Foglio1!$I$16 <>\"\", (J98*Foglio1!$C$16) / (J98+Foglio1!$F$16*Foglio1!$I$16), NA()), NA()), NA())","v":{"$error":"#N/A"}}]
[0.97,{"$f":" IF(Foglio1!$F$12 <> \"\", IF(Foglio1!$I$12 <> \"\", Foglio1!$F$12*Foglio1!$I$12, NA()), NA())","v":{"$error":"#N/A"}},{"$f":" IF(Foglio1!$C$12 <> \"\", (A99*Foglio1!$C$12) / (A99+B99), NA())","v":{"$error":"#N/A"}},0.97,{"$f":" IF(Foglio1!$F$13 <> \"\", IF( Foglio1!$C$13 <> \"\", IF(Foglio1!$I$13 <>\"\", (D99*Foglio1!$C$13) / (D99+Foglio1!$F$13*Foglio1!$I$13), NA()), NA()), NA())","v":{"$error":"#N/A"}},0.97,{"$f":" IF(Foglio1!$F$14 <> \"\", IF( Foglio1!$C$14 <> \"\", IF(Foglio1!$I$14 <>\"\", (F99*Foglio1!$C$14) / (F99+Foglio1!$F$14*Foglio1!$I$14), NA()), NA()), NA())","v":{"$error":"#N/A"}},0.97,{"$f":" IF(Foglio1!$F$15 <> \"\", IF( Foglio1!$C$15 <> \"\", IF(Foglio1!$I$15 <>\"\", (H99*Foglio1!$C$15) / (H99+Foglio1!$F$15*Foglio1!$I$15), NA()), NA()), NA())","v":{"$error":"#N/A"}},0.97,{"$f":" IF(Foglio1!$F$16 <> \"\", IF( Foglio1!$C$16 <> \"\", IF(Foglio1!$I$16 <>\"\", (J99*Foglio1!$C$16) / (J99+Foglio1!$F$16*Foglio1!$I$16), NA()), NA()), NA())","v":{"$error":"#N/A"}}]
[0.98,{"$f":" IF(Foglio1!$F$12 <> \"\", IF(Foglio1!$I$12 <> \"\", Foglio1!$F$12*Foglio1!$I$12, NA()), NA())","v":{"$error":"#N/A"}},{"$f":" IF(Foglio1!$C$12 <> \"\", (A100*Foglio1!$C$12) / (A100+B100), NA())","v":{"$error":"#N/A"}},0.98,{"$f":" IF(Foglio1!$F$13 <> \"\", IF( Foglio1!$C$13 <> \"\", IF(Foglio1!$I$13 <>\"\", (D100*Foglio1!$C$13) / (D100+Foglio1!$F$13*Foglio1!$I$13), NA()), NA()), NA())","v":{"$error":"#N/A"}},0.98,{"$f":" IF(Foglio1!$F$14 <> \"\", IF( Foglio1!$C$14 <> \"\", IF(Foglio1!$I$14 <>\"\", (F100*Foglio1!$C$14) / (F100+Foglio1!$F$14*Foglio1!$I$14), NA()), NA()), NA())","v":{"$error":"#N/A"}},0.98,{"$f":" IF(Foglio1!$F$15 <> \"\", IF( Foglio1!$C$15 <> \"\", IF(Foglio1!$I$15 <>\"\", (H100*Foglio1!$C$15) / (H100+Foglio1!$F$15*Foglio1!$I$15), NA()), NA()), NA())","v":{"$error":"#N/A"}},0.98,{"$f":" IF(Foglio1!$F$16 <> \"\", IF( Foglio1!$C$16 <> \"\", IF(Foglio1!$I$16 <>\"\", (J100*Foglio1!$C$16) / (J100+Foglio1!$F$16*Foglio1!$I$16), NA()), NA()), NA())","v":{"$error":"#N/A"}}]
[0.99,{"$f":" IF(Foglio1!$F$12 <> \"\", IF(Foglio1!$I$12 <> \"\", Foglio1!$F$12*Foglio1!$I$12, NA()), NA())","v":{"$error":"#N/A"}},{"$f":" IF(Foglio1!$C$12 <> \"\", (A101*Foglio1!$C$12) / (A101+B101), NA())","v":{"$error":"#N/A"}},0.99,{"$f":" IF(Foglio1!$F$13 <> \"\", IF( Foglio1!$C$13 <> \"\", IF(Foglio1!$I$13 <>\"\", (D101*Foglio1!$C$13) / (D101+Foglio1!$F$13*Foglio1!$I$13), NA()), NA()), NA())","v":{"$error":"#N/A"}},0.99,{"$f":" IF(Foglio1!$F$14 <> \"\", IF( Foglio1!$C$14 <> \"\", IF(Foglio1!$I$14 <>\"\", (F101*Foglio1!$C$14) / (F101+Foglio1!$F$14*Foglio1!$I$14), NA()), NA()), NA())","v":{"$error":"#N/A"}},0.99,{"$f":" IF(Foglio1!$F$15 <> \"\", IF( Foglio1!$C$15 <> \"\", IF(Foglio1!$I$15 <>\"\", (H101*Foglio1!$C$15) / (H101+Foglio1!$F$15*Foglio1!$I$15), NA()), NA()), NA())","v":{"$error":"#N/A"}},0.99,{"$f":" IF(Foglio1!$F$16 <> \"\", IF( Foglio1!$C$16 <> \"\", IF(Foglio1!$I$16 <>\"\", (J101*Foglio1!$C$16) / (J101+Foglio1!$F$16*Foglio1!$I$16), NA()), NA()), NA())","v":{"$error":"#N/A"}}]
[1,{"$f":" IF(Foglio1!$F$12 <> \"\", IF(Foglio1!$I$12 <> \"\", Foglio1!$F$12*Foglio1!$I$12, NA()), NA())","v":{"$error":"#N/A"}},{"$f":" IF(Foglio1!$C$12 <> \"\", (A102*Foglio1!$C$12) / (A102+B102), NA())","v":{"$error":"#N/A"}},1,{"$f":" IF(Foglio1!$F$13 <> \"\", IF( Foglio1!$C$13 <> \"\", IF(Foglio1!$I$13 <>\"\", (D102*Foglio1!$C$13) / (D102+Foglio1!$F$13*Foglio1!$I$13), NA()), NA()), NA())","v":{"$error":"#N/A"}},1,{"$f":" IF(Foglio1!$F$14 <> \"\", IF( Foglio1!$C$14 <> \"\", IF(Foglio1!$I$14 <>\"\", (F102*Foglio1!$C$14) / (F102+Foglio1!$F$14*Foglio1!$I$14), NA()), NA()), NA())","v":{"$error":"#N/A"}},1,{"$f":" IF(Foglio1!$F$15 <> \"\", IF( Foglio1!$C$15 <> \"\", IF(Foglio1!$I$15 <>\"\", (H102*Foglio1!$C$15) / (H102+Foglio1!$F$15*Foglio1!$I$15), NA()), NA()), NA())","v":{"$error":"#N/A"}},1,{"$f":" IF(Foglio1!$F$16 <> \"\", IF( Foglio1!$C$16 <> \"\", IF(Foglio1!$I$16 <>\"\", (J102*Foglio1!$C$16) / (J102+Foglio1!$F$16*Foglio1!$I$16), NA()), NA()), NA())","v":{"$error":"#N/A"}}]